{"text_format":"1","workbook":"xlsx","n_sheets":7,"sheets":["README","Tables","Activity by Month","Activity by Age","Activity by Income","Combined Site List","Study Area Site Variable"],"not_rendered":{"charts":18,"images":0,"macros":0,"external_links":0,"defined_names":0,"comments":1,"pivot_tables":2},"unopened":[{"sheet":"Activity by Month","index":2,"reason":"not_a_worksheet"},{"sheet":"Activity by Age","index":3,"reason":"not_a_worksheet"},{"sheet":"Activity by Income","index":4,"reason":"not_a_worksheet"}],"bounds":{"document_bytes":16777216,"sheet_cells":100000,"rows_first":2000,"rows_last":500,"rows_between":2000,"halvings":0,"cell_chars":16384,"cell_head_chars":4096},"cells_cut":0,"cells_raw":0,"read":"whole","date_system":"1900"}

{"sheet":"README","index":0,"n_rows":12,"n_cols":3,"rows_kept":12,"cut":false,"hidden":false,"merged":[[0,0,0,5],[2,0,2,5]]}
["Susitna Watana 2013 Recreational Mail Survey- Combined Pivots (Round 2)"]
["File Overview"]
["   This file-overview worksheet describes each of the subsequent worksheets continued in this Excel spreadsheet.  Table 1 lists each of the worksheets in this spreadsheet and provides a brief description."]
[]
[null,"Table 1: Worksheet Descriptions"]
[null,"Worksheet Name","Worksheet Description"]
[null,"Tables","Tables created for final report"]
[null,"Activity by Month","Figure showing survey activity by month"]
[null,"Activity by Age","Figure showing survey activity by age"]
[null,"Activity by Income","Figure showing survey activity by income"]
[null,"Combined Site List","Figure showing survey activity by income"]
[null,"Study Area Site Variable","Figure showing survey activity by income"]

{"sheet":"Tables","index":1,"n_rows":302,"n_cols":39,"rows_kept":302,"cut":false,"hidden":false,"merged":[[189,8,189,12],[196,8,196,12],[205,2,205,6],[205,8,205,12],[212,2,212,6],[212,8,212,12],[196,2,196,6],[189,2,189,6],[176,11,176,14],[108,11,108,14],[122,11,122,14],[136,11,136,14],[152,11,152,14],[164,11,164,14],[12,1,12,2],[26,8,26,11],[52,2,52,11],[53,4,53,7],[53,8,53,11],[71,2,71,11],[72,4,72,7],[72,8,72,11],[89,2,89,11],[90,4,90,7],[90,8,90,11],[136,7,136,10],[108,3,108,6],[108,2,109,2],[108,7,108,10],[107,2,107,10],[121,2,121,10],[175,2,175,10],[176,3,176,6],[176,7,176,10],[26,1,26,5],[113,18,113,20],[151,2,151,10],[152,3,152,6],[152,7,152,10],[163,2,163,10],[164,3,164,6],[164,7,164,10],[122,2,123,2],[122,3,122,6],[122,7,122,10],[135,2,135,10],[136,3,136,6],[113,23,113,25],[113,28,113,30],[113,33,113,35],[156,18,156,20],[156,23,156,25],[156,28,156,30],[156,33,156,35]]}
[]
[]
[null,"Recreation Activity","Location Type"]
[null,"Boating","Activity Location"]
[null,"Fishing","ADF&G SWHS Location"]
[null,"Hunting","GMU"]
[null,"Snow Machining","Activity Location"]
[]
[]
[]
[]
[]
[null,"Recreational Activities"]
[null,"Riding the Alaska Railroad","Hunting"]
[null,"Bird watching","Hiking/backpacking"]
[null,"Bicycling","Motorized boating"]
[null,"Camping-remote tent/cabin","Rafting/canoeing/kayaking/pack raft (non-motorized)"]
[null,"Camping- RV/campground/roadside","Riding ATVs"]
[null,"Collecting berries/mushrooms","Skiing"]
[null,"Dog sledding","Snow Machining"]
[null,"Fishing for salmon","Snowshoeing"]
[null,"Fishing for other species","Walking/running"]
[null,"Flightseeing","Wildlife viewing"]
[]
[]
[]
[null,"SUMMARY TABLE",null,null,null,null,null,null,"% Respondents"]
[null,null,"Snow Machining","Fishing","Hunting","Boating",null,"Survey Total ","SM","F","H","B",null,"Age","Number of Respondents","Completed Surveys","Activity Days","Activity Days","weight","weighted activity days"]
[null,"Number of Respondents that Participated",{"$f":"SUM(C30:C31)","v":448},{"$f":"SUM(D30:D31)","v":1766},829,1253,null,{"$f":"SUM(H30:H31)","v":3986},{"$f":"C29/$H$29","v":0.11239337681886603},{"$f":"D29/$H$29","v":0.44305067737079779},0.20797792272955343,0.31435022579026595,null,"19 & Under",10,{"$f":"(O29/$O$39)*100","v":0.58548009367681508},{"$f":"SUM(D139:G139)","v":34},{"$f":"(Q29/SUM($Q$29:$Q$37))*100","v":9.7774199114280785E-2},{"$f":"(O29/$O$39)/(Q29/$Q$39)","v":5.9880837580934019},{"$f":"Q29*S29","v":203.59484777517565},{"$f":"T29/SUM($T$29:$T$37)","v":6.2460961898813247E-3}]
[null,"Round 1",{"$f":"10+8+216","v":234},{"$f":"13+14+709","v":736},{"$f":"5+6+289","v":300},{"$f":"8+8+456","v":472},null,1708,{"$f":"C30/$H$30","v":0.13700234192037472},{"$f":"D30/$H$30","v":0.43091334894613581},0.1756440281030445,0.27634660421545665,null,"20-29 years",147,{"$f":"(O30/$O$39)*100","v":8.6065573770491799},2155,{"$f":"(Q30/SUM($Q$29:$Q$37))*100","v":6.197158796802209},{"$f":"(O30/$O$39)/(Q30/$Q$39)","v":1.3887908409721956},{"$f":"Q30*S30","v":2992.8442622950815},{"$f":"T30/SUM($T$29:$T$37)","v":9.1817613991255459E-2}]
[null,"Round 2",214,1030,529,781,null,2278,{"$f":"C31/$H$31","v":9.3942054433713784E-2},{"$f":"D31/$H$31","v":0.45215100965759436},0.23222124670763827,0.3428446005267779,null,"30-39 years",248,14.519906323185012,5281,15.186633691838731,0.95609775133958641,5049.1522248243555,0.15490318550905682]
[null,"Participated and live in study area",{"$f":"SUM(C33:C34)","v":31},{"$f":"SUM(D33:D34)","v":62},{"$f":"SUM(E33:E34)","v":44},{"$f":"SUM(F33:F34)","v":44},{"$f":"C32/C29","v":6.9196428571428575E-2},null,null,null,null,null,null,"40-49 years",242,14.168618266978921,7164,20.601598895726692,0.68774362313780713,4926.9953161592503,0.15115552779512803]
[null,"Round 1",4,7,4,4,null,null,null,null,null,null,null,"50-59 years",379,22.189695550351288,8755,25.176856271927299,0.88135291041452402,7716.2447306791573,0.23672704559650221]
[null,"Round 2",27,55,40,40,null,null,null,null,null,null,null,"60-69 years",370,21.662763466042154,8230,23.667107609133261,0.91531098027721725,7533.0093676814977,0.23110555902560898]
[null,"Activity Days- All Respondents",{"$f":"SUM(C36:C37)","v":3797},{"$f":"SUM(D36:D37)","v":17763},{"$f":"SUM(E36:E37)","v":7250},{"$f":"SUM(F36:F37)","v":9621},null,null,null,null,null,null,null,"70-79 years",152,8.8992974238875888,2732,7.856444470006327,1.132738538134213,3094.6416861826697,9.4940662086196129E-2]
[null,"Round 1",2190,7029,2303,3541,null,null,null,null,null,null,null,"80-89 years",43,2.5175644028103044,253,0.72755506987979524,3.4603076894595071,875.45784543325533,2.6858213616489698E-2]
[null,"Round 2",1607,10734,4947,6080,null,null,null,null,null,null,null,"90+ years",10,0.58548009367681508,170,0.4888709955714039,1.1976167516186804,203.59484777517568,6.2460961898813255E-3]
[null,"Activity Days- Lives in Study Area Only",{"$f":"SUM(C39:C40)","v":397},{"$f":"SUM(D39:D40)","v":943},{"$f":"SUM(E39:E40)","v":621},{"$f":"SUM(F39:F40)","v":773},{"$f":"C38/C35","v":0.10455622860152752}]
[null,"Round 1",59,58,45,34,null,null,null,null,null,null,null,"Grand Total",1708,null,{"$f":"SUM(Q29:Q37)","v":34774}]
[null,"Round 2",338,885,576,739]
[null,"Activity Days in Study Area",{"$f":"SUM(C42:C43)","v":36},{"$f":"SUM(D42:D43)","v":617},{"$f":"SUM(E42:E43)","v":1698},{"$f":"SUM(F42:F43)","v":160},{"$f":"C41/C35","v":9.4811693442191196E-3},{"$f":"C41/SUM(C41:F41)","v":1.4336917562724014E-2}]
[null,"Round 1",36,104,717,74]
[null,"Round 2",0,513,981,86]
[null,"Unique Recreation Sites",117,383,285,458]
[null,"Recreation Sites within Study Area",1,7,44,9]
[]
[]
[]
[]
[]
[null,"Source: ","P:\\266 DOWL Engineers\\11326601.00 Susitna-Watana Hydro FY2013\\11326601.03 Recreation Utility Model\\McDowell Mail Survey\\McDowell 0514 Raw Survey Data_MH Pivot.xlsm"]
[]
[null,null,"Round 2: 5/14"]
[null,null,null,null,"Activity Days",null,null,null,"% of Total Days"]
[null,null,"Month","#","SM","SF","RB","HT","SM","SF","RB","HT"]
[null,null,"January",1,0,0,0,0,0,0,0,0]
[null,null,"February",2,0,0,0,0,0,0,0,0]
[null,null,"March",3,0,0,0,0,0,0,0,0]
[null,null,"April",4,0,0,0,0,0,0,0,0]
[null,null,"May",5,231,572,301,208,0.87832699619771859,7.2040302267002518E-2,7.4192753265960074E-2,5.7890342332312827E-2]
[null,null,"June",6,2,1654,959,162,7.6045627376425855E-3,0.20831234256926953,0.23638156273108207,4.5087670470359033E-2]
[null,null,"July",7,0,2955,1266,134,0,0.37216624685138538,0.31205324131131379,3.7294739771778461E-2]
[null,null,"August",8,5,1799,853,760,1.9011406844106463E-2,0.22657430730478589,0.21025388217894997,0.21152240467575842]
[null,null,"September",9,6,752,570,1949,2.2813688212927757E-2,9.4710327455919396E-2,0.14049790485580479,0.54244364041191206]
[null,null,"October",10,19,208,108,380,7.2243346007604556E-2,2.6196473551637279E-2,2.6620655656889328E-2,0.10576120233787921]
[null,null,"November",11,0,0,0,0,0,0,0,0]
[null,null,"December",12,0,0,0,0,0,0,0,0]
[null,null,"Blank",0,0,0,0,0,0,0,0,0]
[]
[null,"Source: ","P:\\266 DOWL Engineers\\11326601.00 Susitna-Watana Hydro FY2013\\11326601.03 Recreation Utility Model\\McDowell Mail Survey\\McDowell 0813 Raw Survey Data_MH Pivot.xlsm"]
[]
[null,null,"Round 1: 8/13"]
[null,null,null,null,"Activity Days",null,null,null,"% of Total Days"]
[null,null,"Month","#","SM","SF","RB","HT","SM","SF","RB","HT"]
[null,null,"January",1,408,0,0,0,0.263395739186572,0,0,0]
[null,null,"February",2,337,0,0,0,0.21755971594577148,0,0,0]
[null,null,"March",3,484,0,0,0,0.31245965138799225,0,0,0]
[null,null,"April",4,320,0,0,0,0.2065848934796643,0,0,0]
[null,null,"May",5,0,381,252,0,0,6.895927601809955E-2,9.224011713030747E-2,0]
[null,null,"June",6,0,1372,683,37,0,0.24832579185520362,0.25,1.9871106337271752E-2]
[null,null,"July",7,0,2043,931,22,0,0.36977375565610859,0.34077598828696926,1.1815252416756176E-2]
[null,null,"August",8,0,1244,570,417,0,0.22515837104072398,0.20863836017569545,0.22395273899033297]
[null,null,"September",9,0,370,254,1110,0,6.6968325791855202E-2,9.2972181551976577E-2,0.59613319011815258]
[null,null,"October",10,0,85,33,170,0,1.5384615384615385E-2,1.2079062957540264E-2,9.1299677765843176E-2]
[null,null,"November",11,0,0,0,106,0,0,0,5.6928034371643392E-2]
[null,null,"December",12,0,0,0,0,0,0,0,0]
[null,null,"Blank",0,0,30,9,0,0,5.4298642533936649E-3,3.2942898975109811E-3,0]
[]
[]
[null,null,"Combined"]
[null,null,null,null,"Activity Days",null,null,null,"% of Total Days"]
[null,null,"Month","#","Snowmachining","Fishing","Boating","Hunting","SM","SF","RB","HT"]
[null,null,"January",1,{"$f":"E56+E75","v":408},{"$f":"F56+F75","v":0},0,0,{"$f":"E93/SUM(E$93:E$105)","v":0.2251655629139073},{"$f":"F93/SUM(F$93:F$105)","v":0},0,0]
[null,null,"February",2,{"$f":"E57+E76","v":337},0,0,0,{"$f":"E94/SUM(E$93:E$105)","v":0.1859823399558499},0,0,0]
[null,null,"March",3,484,0,0,0,0.2671081677704194,0,0,0]
[null,null,"April",4,320,0,0,0,0.17660044150110377,0,0,0]
[null,null,"May",5,231,953,553,208,0.12748344370860928,7.0776086149275899E-2,8.1455295330681979E-2,3.8130155820348302E-2]
[null,null,"June",6,2,3026,1642,199,1.1037527593818985E-3,0.22473078351281098,0.24186183532184416,3.6480293308890924E-2]
[null,null,"July",7,0,4998,2197,156,0,0.37118455254363164,0.32361172484902045,2.8597616865261227E-2]
[null,null,"August",8,5,3043,1423,1177,2.7593818984547464E-3,0.22599331600445599,0.20960377080571513,0.2157653528872594]
[null,null,"September",9,6,1122,824,3059,3.3112582781456954E-3,8.3327144448570367E-2,0.12137280895566357,0.56076993583868007]
[null,null,"October",10,19,293,141,550,1.0485651214128035E-2,2.176011882658745E-2,2.0768890852850198E-2,0.10082493125572869]
[null,null,"November",11,0,0,0,106,0,0,0,1.9431714023831346E-2]
[null,null,"December",12,0,0,0,0,0,0,0,0]
[null,null,"Blank",0,0,30,9,0,0,2.2279985146676567E-3,1.3256738842244808E-3,0]
[]
[]
[null,null,"ROUND #1: 8/13"]
[null,null,"Age","Activity Days- All Respondents",null,null,null,"Activity Days- Lives in Study Area",null,null,null,"Activity Days in Study Area (Policy Site)"]
[null,null,null,"Snowmachining","Fishing","Boating","Hunting","Snowmachining","Fishing","Boating","Hunting","Snowmachining","Fishing","Boating","Hunting"]
[null,null,"19 & under",8,17,2,1,null,null,null,null,null,1]
[null,null,"20-29 years",125,495,265,62,null,null,null,null,4,13,4,74]
[null,null,"30-39 years",392,1037,468,426,29,18,20,6,16,23,3,88]
[null,null,"40-49 years",670,1278,474,409,30,29,11,39,null,70,4,263,null,null,null,"Snowmachining Activity Days",null,null,null,null,"Fishing Activity Days",null,null,null,null,"Boating Activity Days",null,null,null,null,"Hunting Activity Days"]
[null,null,"50-59 years",414,1587,759,567,null,null,null,null,15,32,39,138,null,null,"Age","Total Responses","Lives in Study Area","Activity at a Policy Site","Activity Outside Study Area","Age","Total Responses","Lives in Study Area","Activity at a Policy Site","Activity Outside Study Area","Age","Total Responses","Lives in Study Area","Activity at a Policy Site","Activity Outside Study Area","Age","Total Responses","Lives in Study Area","Activity at a Policy Site","Activity Outside Study Area"]
[null,null,"60-69 years",257,1171,808,379,null,6,3,null,1,63,23,88,null,null,"19 & under",{"$f":"D139","v":8},{"$f":"H139","v":0},{"$f":"L139","v":0},{"$f":"S116-U116","v":8},"19 & under",{"$f":"E139","v":23},{"$f":"I139","v":0},{"$f":"M139","v":1},{"$f":"X116-Z116","v":22},"19 & under",{"$f":"F139","v":2},{"$f":"J139","v":0},{"$f":"N139","v":0},{"$f":"AC116-AE116","v":2},"19 & under",{"$f":"G139","v":1},{"$f":"K139","v":0},{"$f":"O139","v":0},{"$f":"AH116-AJ116","v":1},null,{"$f":"AJ116/AH116","v":0}]
[null,null,"70-79 years",180,535,232,204,null,null,null,null,null,9,1,74,null,null,"20-29 years",148,15,{"$f":"L140","v":4},{"$f":"S117-U117","v":144},"20-29 years",1092,148,{"$f":"M140","v":96},{"$f":"X117-Z117","v":996},"20-29 years",593,0,{"$f":"N140","v":9},{"$f":"AC117-AE117","v":584},"20-29 years",322,21,{"$f":"O140","v":115},{"$f":"AH117-AJ117","v":207},null,{"$f":"AJ117/AH117","v":0.35714285714285715}]
[null,null,"80-89 years",20,36,5,20,null,null,null,null,null,23,null,null,null,{"$f":"U118/SUM($U$116:$U$124)","v":0.44444444444444442},"30-39 years",535,32,16,519,"30-39 years",2518,144,148,2370,"30-39 years",1217,49,25,1192,"30-39 years",1011,18,202,809,null,0.19980217606330367]
[null,null,"90+ years",null,3,120,null,null,null,null,null,null,null,null,null,null,null,"40-49 years",958,105,0,958,"40-49 years",3199,129,126,3073,"40-49 years",1604,181,5,1599,"40-49 years",1403,261,380,1023,null,0.27084818246614395]
[null,null,null,null,null,null,null,null,null,null,null,null,null,null,null,null,{"$f":"U120/SUM(U116:U124)","v":0.41666666666666669},"50-59 years",738,62,15,723,"50-59 years",4014,112,117,3897,"50-59 years",2199,43,68,2131,"50-59 years",1804,42,392,1412,null,0.21729490022172948]
[null,null,null,null,null,null,null,null,null,null,null,null,null,null,null,null,null,"60-69 years",839,62,1,838,"60-69 years",3544,199,128,3416,"60-69 years",2285,239,40,2245,"60-69 years",1562,118,419,1143,null,0.26824583866837387]
[null,null,"ROUND #2: 5/14",null,null,null,null,null,null,null,null,null,null,null,null,null,null,"70-79 years",212,0,0,212,"70-79 years",1383,122,71,1312,"70-79 years",588,75,1,587,"70-79 years",549,68,170,379,null,0.30965391621129323]
[null,null,"Age","Activity Days- All Respondents",null,null,null,"Activity Days- Lives in Study Area",null,null,null,"Activity Days in Study Area (Policy Site)",null,null,null,null,null,"80-89 years",33,7,0,33,"80-89 years",123,21,23,100,"80-89 years",43,5,0,43,"80-89 years",54,21,10,44,null,0.18518518518518517]
[null,null,null,"Snowmachining","Fishing","Boating","Hunting","Snowmachining","Fishing","Boating","Hunting","Snowmachining","Fishing","Boating","Hunting",null,null,"90+ years",10,0,0,10,"90+ years",20,0,0,20,"90+ years",130,0,0,130,"90+ years",10,0,10,0,null,1]
[null,null,"19 & under",null,6]
[null,null,"20-29 years",23,597,328,260,15,148,null,21,null,83,5,41]
[null,null,"30-39 years",143,1481,749,585,3,126,29,12,null,125,22,114,null,null,"Age","Total Responses","Lives in Study Area","Activity in Study Area",null,"Age","Total Responses","Lives in Study Area","Activity in Study Area",null,"Age","Total Responses","Lives in Study Area","Activity at a Policy Site",null,"Age","Total Responses","Lives in Study Area","Activity in Study Area"]
[null,null,"40-49 years",288,1921,1130,994,75,100,170,222,null,56,1,117,null,null,"19 & under",{"$f":"S116/SUM(S$116:S$124)*100","v":0.2298190175237001},{"$f":"T116/SUM(T$116:T$124)*100","v":0},0,null,"19 & under",{"$f":"X116/SUM(X$116:X$124)*100","v":0.1445086705202312},{"$f":"Y116/SUM(Y$116:Y$124)*100","v":0},0.14084507042253522,null,"19 & under",{"$f":"AC116/SUM(AC$116:AC$124)*100","v":2.3092021706500404E-2},{"$f":"AD116/SUM(AD$116:AD$124)*100","v":0},0,null,"19 & under",{"$f":"AH116/SUM(AH$116:AH$124)*100","v":1.488981536628946E-2},{"$f":"AI116/SUM(AI$116:AI$124)*100","v":0},0]
[null,null,"50-59 years",324,2427,1440,1237,62,112,43,42,null,85,29,254,null,null,"20-29 years",{"$f":"S117/SUM(S$116:S$124)*100","v":4.2516518241884516},5.3003533568904597,11.111111111111111,null,"20-29 years",{"$f":"X117/SUM(X$116:X$124)*100","v":6.8610203568735857},16.914285714285715,13.521126760563378,null,"20-29 years",{"$f":"AC117/SUM(AC$116:AC$124)*100","v":6.8467844359773693},0,6.0810810810810816,null,"20-29 years",{"$f":"AH117/SUM(AH$116:AH$124)*100","v":4.7945205479452051},3.8251366120218582,6.7726737338044751]
[null,null,"60-69 years",582,2373,1477,1183,62,193,236,118,null,65,17,331,null,null,"30-39 years",15.369146796897443,11.307420494699647,44.444444444444443,null,"30-39 years",15.82055792912792,16.457142857142856,20.845070422535212,null,"30-39 years",14.051495208405495,8.2770270270270263,16.891891891891891,null,"30-39 years",15.053603335318641,3.278688524590164,11.896348645465253]
[null,null,"70-79 years",32,848,356,345,null,122,75,68,null,62,null,96,null,null,"40-49 years",27.520827348463083,37.102473498233216,0,null,"40-49 years",20.099271173661723,14.742857142857144,17.74647887323944,null,"40-49 years",18.519801408613322,30.574324324324326,3.3783783783783785,null,"40-49 years",20.890410958904109,47.540983606557376,22.37926972909305]
[null,null,"80-89 years",13,87,38,34,7,21,5,21,null,null,null,10,null,null,"50-59 years",21.200804366561332,21.908127208480565,41.666666666666671,null,"50-59 years",25.219904498617744,12.8,16.47887323943662,null,"50-59 years",25.389677866297195,7.2635135135135132,45.945945945945951,null,"50-59 years",26.86122692078618,7.6502732240437163,23.085983510011779]
[null,null,"90+ years",10,17,10,10,null,null,null,null,null,null,null,10,null,null,"60-69 years",24.102269462798045,21.908127208480565,2.7777777777777777,null,"60-69 years",22.266901231465191,22.742857142857144,18.028169014084508,null,"60-69 years",26.382634799676712,40.371621621621621,27.027027027027028,null,"60-69 years",23.257891602144134,21.493624772313296,24.676089517078918]
[null,null,null,null,null,null,null,null,null,null,null,null,null,null,null,null,null,"70-79 years",6.0902039643780519,0,0,null,"70-79 years",8.6893691882382509,13.942857142857143,10,null,"70-79 years",6.789054381711118,12.668918918918919,0.67567567567567566,null,"70-79 years",8.1745086360929129,12.386156648451731,10.011778563015312]
[null,null,null,null,null,null,null,null,null,null,null,null,null,null,null,null,null,"80-89 years",0.94800344728526287,2.4734982332155475,0,null,"80-89 years",0.77280723799949735,2.4,3.2394366197183095,null,"80-89 years",0.49647846668975865,0.84459459459459463,0,null,"80-89 years",0.80405002977963069,3.8251366120218582,0.58892815076560656]
[null,null,"COMBINED",null,null,null,null,null,null,null,null,null,null,null,null,null,null,"90+ years",0.28727377190462511,0,0,null,"90+ years",0.12565971349585323,0,0,null,"90+ years",1.5009814109225261,0,0,null,"90+ years",0.14889815366289458,0,0.58892815076560656]
[null,null,null,"Activity Days- All Respondents",null,null,null,"Activity Days- Lives in Study Area",null,null,null,"Activity Days in Study Area (Policy Site)"]
[null,null,"Age","Snowmachining","Fishing","Boating","Hunting","Snowmachining","Fishing","Boating","Hunting","Snowmachining","Fishing","Boating","Hunting"]
[null,null,"19 & under",{"$f":"D111+D125","v":8},{"$f":"E111+E125","v":23},2,1,{"$f":"H125+H111","v":0},{"$f":"I125+I111","v":0},0,0,{"$f":"L111+L125","v":0},{"$f":"M111+M125","v":1},0,0]
[null,null,"20-29 years",{"$f":"D112+D126","v":148},1092,593,322,{"$f":"H126+H112","v":15},148,0,21,{"$f":"L112+L126","v":4},96,9,115]
[null,null,"30-39 years",{"$f":"D113+D127","v":535},2518,1217,1011,32,144,49,18,{"$f":"L113+L127","v":16},148,25,202]
[null,null,"40-49 years",{"$f":"D114+D128","v":958},3199,1604,1403,105,129,181,261,{"$f":"L114+L128","v":0},126,5,380]
[null,null,"50-59 years",{"$f":"D115+D129","v":738},4014,2199,1804,62,112,43,42,{"$f":"L115+L129","v":15},117,68,392]
[null,null,"60-69 years",{"$f":"D116+D130","v":839},3544,2285,1562,62,199,239,118,{"$f":"L116+L130","v":1},128,40,419]
[null,null,"70-79 years",{"$f":"D117+D131","v":212},1383,588,549,0,122,75,68,{"$f":"L117+L131","v":0},71,1,170]
[null,null,"80-89 years",{"$f":"D118+D132","v":33},123,43,54,7,21,5,21,{"$f":"L118+L132","v":0},23,0,10]
[null,null,"90+ years",{"$f":"D119+D133","v":10},20,130,10,0,0,0,0,{"$f":"L119+L133","v":0},0,0,10]
[]
[]
[]
[]
[null,null,"ROUND #1: 8/13"]
[null,null,null,"Activity Days- All Respondents",null,null,null,"Activity Days- Lives in Study Area",null,null,null,"Activity Days in Study Area (Policy Site)"]
[null,null,"Income","Snowmachining","Fishing","Boating","Hunting","Snowmachining","Fishing","Boating","Hunting","Snowmachining","Fishing","Boating","Hunting"]
[null,null,"Less than $20,000",25,371,64,56,null,2,null,null,null,20,2,18]
[null,null,"$20,001-$35,000",152,628,333,124,8,17,6,22,4,29,null,69]
[null,null,"$35,001-$50,000",213,495,396,168,16,9,null,6,null,17,6,29,null,null,null,"Snowmachining Activity Days",null,null,null,null,"Fishing Activity Days",null,null,null,null,"Boating Activity Days",null,null,null,null,"Hunting Activity Days"]
[null,null,"$50,001-$75,000",371,844,538,341,13,9,20,null,null,33,9,122,null,null,"Income","Total Responses","Lives in Study Area","Activity at a Policy Site","Activity Outside Study Area","Income","Total Responses","Lives in Study Area","Activity at a Policy Site","Activity Outside Study Area","Income","Total Responses","Lives in Study Area","Activity at a Policy Site","Activity Outside Study Area","Income","Total Responses","Lives in Study Area","Activity at a Policy Site","Activity Outside Study Area"]
[null,null,"$75,001-$99,999",396,1127,564,400,22,16,8,17,6,72,6,151,null,null,"Less than $20,000",{"$f":"D179","v":63},{"$f":"H179","v":3},{"$f":"L179","v":0},{"$f":"S159-U159","v":63},"Less than $20,000",{"$f":"E179","v":1112},{"$f":"I179","v":6},{"$f":"M179","v":171},{"$f":"X159-Z159","v":941},"Less than $20,000",{"$f":"F179","v":510},{"$f":"J179","v":2},{"$f":"N179","v":2},{"$f":"AC159-AE159","v":508},"Less than $20,000",{"$f":"G179","v":790},{"$f":"K179","v":3},{"$f":"O179","v":110},{"$f":"AH159-AJ159","v":680}]
[null,null,"$100,000-$149,999",608,1411,476,586,null,null,null,null,10,40,2,184,null,null,"$20,001-$35,000",522,9,{"$f":"L180","v":4},{"$f":"S160-U160","v":518},"$20,001-$35,000",1630,27,{"$f":"M180","v":84},{"$f":"X160-Z160","v":1546},"$20,001-$35,000",856,11,{"$f":"N180","v":3},{"$f":"AC160-AE160","v":853},"$20,001-$35,000",436,25,{"$f":"O180","v":165},{"$f":"AH160-AJ160","v":271}]
[null,null,"$150,000 +",259,995,597,241,null,null,null,null,16,12,26,57,null,null,"$35,001-$50,000",376,18,0,376,"$35,001-$50,000",1313,15,70,1243,"$35,001-$50,000",857,6,6,851,"$35,001-$50,000",862,12,137,725]
[null,null,null,null,null,null,null,null,null,null,null,null,null,null,null,null,null,"$50,001-$75,000",684,15,0,684,"$50,001-$75,000",2285,21,84,2201,"$50,001-$75,000",1220,27,40,1180,"$50,001-$75,000",966,5,296,670]
[null,null,null,null,null,null,null,null,null,null,null,null,null,null,null,null,null,"$75,001-$99,999",653,28,6,647,"$75,001-$99,999",3057,21,107,2950,"$75,001-$99,999",1518,12,11,1507,"$75,001-$99,999",1252,22,338,914]
[null,null,"ROUND #2: 5/14",null,null,null,null,null,null,null,null,null,null,null,null,null,null,"$100,000-$149,999",823,1,10,813,"$100,000-$149,999",3855,4,106,3749,"$100,000-$149,999",1771,1,2,1769,"$100,000-$149,999",1594,2,372,1222]
[null,null,null,"Activity Days- All Respondents",null,null,null,"Activity Days- Lives in Study Area",null,null,null,"Activity Days in Study Area (Policy Site)",null,null,null,null,null,"$150,000 +",428,2,16,412,"$150,000 +",2024,2,58,1966,"$150,000 +",1893,1,57,1836,"$150,000 +",641,0,121,520]
[null,null,"Income","Snowmachining","Fishing","Boating","Hunting","Snowmachining","Fishing","Boating","Hunting","Snowmachining","Fishing","Boating","Hunting"]
[null,null,"Less than $20,000",38,741,446,734,3,4,2,3,null,151,null,92,null,null,"Income","Total Responses","Lives in Study Area","Activity in Study Area",null,"Income","Total Responses","Lives in Study Area","Activity in Study Area",null,"Income","Total Responses","Lives in Study Area","Activity in Study Area",null,"Income","Total Responses","Lives in Study Area","Activity in Study Area"]
[null,null,"$20,001-$35,000",370,1002,523,312,1,10,5,3,null,55,3,96,null,null,"Less than $20,000",{"$f":"S159/SUM(S$159:S$165)*100","v":1.7751479289940828},{"$f":"T159/SUM(T$159:T$165)*100","v":3.9473684210526314},0,null,"Less than $20,000",{"$f":"X159/SUM(X$159:X$165)*100","v":7.2793925111285667},{"$f":"Y159/SUM(Y$159:Y$165)*100","v":6.25},25.147058823529413,null,"Less than $20,000",{"$f":"AC159/SUM(AC$159:AC$165)*100","v":5.9130434782608692},{"$f":"AD159/SUM(AD$159:AD$165)*100","v":3.3333333333333335},1.6528925619834711,null,"Less than $20,000",{"$f":"AH159/SUM(AH$159:AH$165)*100","v":12.077663965754471},{"$f":"AI159/SUM(AI$159:AI$165)*100","v":4.3478260869565215},7.1474983755685511]
[null,null,"$35,001-$50,000",163,818,461,694,2,6,6,6,null,53,null,108,null,null,"$20,001-$35,000",{"$f":"S160/SUM(S$159:S$165)*100","v":14.7083685545224},11.842105263157894,11.111111111111111,null,"$20,001-$35,000",{"$f":"X160/SUM(X$159:X$165)*100","v":10.670332547787378},28.125,12.352941176470589,null,"$20,001-$35,000",{"$f":"AC160/SUM(AC$159:AC$165)*100","v":9.924637681159421},18.333333333333332,2.4793388429752068,null,"$20,001-$35,000",{"$f":"AH160/SUM(AH$159:AH$165)*100","v":6.6656474545176581},36.231884057971016,10.721247563352826]
[null,null,"$50,001-$75,000",313,1441,682,625,2,12,7,5,null,51,31,174,null,null,"$35,001-$50,000",10.594533671456748,23.684210526315788,0,null,"$35,001-$50,000",8.5951819848127791,15.625,10.294117647058822,null,"$35,001-$50,000",9.9362318840579711,10,4.9586776859504136,null,"$35,001-$50,000",13.178413086683992,17.391304347826086,8.9018843404808319]
[null,null,"$75,001-$99,999",257,1930,954,852,6,5,4,5,null,35,5,187,null,null,"$50,001-$75,000",19.273034657650044,19.736842105263158,0,null,"$50,001-$75,000",14.958104215763287,21.875,12.352941176470589,null,"$50,001-$75,000",14.144927536231883,45,33.057851239669425,null,"$50,001-$75,000",14.768384039137747,7.2463768115942031,19.233268356075371]
[null,null,"$100,000-$149,999",215,2444,1295,1008,1,4,1,2,null,66,null,188,null,null,"$75,001-$99,999",18.399549168779938,36.84210526315789,16.666666666666664,null,"$75,001-$99,999",20.011783189316574,21.875,15.735294117647058,null,"$75,001-$99,999",17.599999999999998,20,9.0909090909090917,null,"$75,001-$99,999",19.140804158385567,31.884057971014489,21.962313190383366]
[null,null,"$150,000 +",169,1029,1296,400,2,2,1,null,null,46,31,64,null,null,"$100,000-$149,999",23.189630881938577,1.3157894736842104,27.777777777777779,null,"$100,000-$149,999",25.235663786331504,4.1666666666666661,15.588235294117647,null,"$100,000-$149,999",20.533333333333335,1.6666666666666667,1.6528925619834711,null,"$100,000-$149,999",24.369362482800796,2.8985507246376812,24.171539961013643]
[null,null,null,null,null,null,null,null,null,null,null,null,null,null,null,null,null,"$150,000 +",12.059735136658214,2.6315789473684208,44.444444444444443,null,"$150,000 +",13.249541764859913,2.083333333333333,8.5294117647058822,null,"$150,000 +",21.947826086956521,1.6666666666666667,47.107438016528924,null,"$150,000 +",9.7997248127197683,0,7.8622482131254054]
[]
[null,null,"COMBINED"]
[null,null,null,"Activity Days- All Respondents",null,null,null,"Activity Days- Lives in Study Area",null,null,null,"Activity Days in Study Area (Policy Site)"]
[null,null,"Income","Snowmachining","Fishing","Boating","Hunting","Snowmachining","Fishing","Boating","Hunting","Snowmachining","Fishing","Boating","Hunting"]
[null,null,"Less than $20,000",{"$f":"D167+D155","v":63},{"$f":"E167+E155","v":1112},510,790,{"$f":"H167+H155","v":3},{"$f":"I167+I155","v":6},2,3,{"$f":"L155+L167","v":0},{"$f":"M155+M167","v":171},2,110]
[null,null,"$20,001-$35,000",{"$f":"D168+D156","v":522},1630,856,436,{"$f":"H168+H156","v":9},27,11,25,{"$f":"L156+L168","v":4},84,3,165]
[null,null,"$35,001-$50,000",{"$f":"D169+D157","v":376},1313,857,862,{"$f":"H169+H157","v":18},15,6,12,{"$f":"L157+L169","v":0},70,6,137]
[null,null,"$50,001-$75,000",{"$f":"D170+D158","v":684},2285,1220,966,{"$f":"H170+H158","v":15},21,27,5,{"$f":"L158+L170","v":0},84,40,296]
[null,null,"$75,001-$99,999",{"$f":"D171+D159","v":653},3057,1518,1252,{"$f":"H171+H159","v":28},21,12,22,{"$f":"L159+L171","v":6},107,11,338]
[null,null,"$100,000-$149,999",{"$f":"D172+D160","v":823},3855,1771,1594,{"$f":"H172+H160","v":1},4,1,2,{"$f":"L160+L172","v":10},106,2,372]
[null,null,"$150,000 +",{"$f":"D173+D161","v":428},2024,1893,641,{"$f":"H173+H161","v":2},2,1,0,{"$f":"L161+L173","v":16},58,57,121]
[]
[null,null,null,{"$f":"STDEV(D179:D185)","v":249.42066206845547},{"$f":"STDEV(E179:E185)","v":983.60658027582599},518.43785502585501,386.76429391506537]
[]
[]
[null,null,"All Boating Sites",null,null,null,null,null,"All Fishing Sites"]
[null,null,"Rank","Location","Access","Activity Days","% Total",null,"Rank","Location","Access","Activity Days","% Total"]
[null,null,1,"Biglake","Big Lake",566,5.8829643488202889E-2,null,1,"Kenai River","Cook Inlet to Soldotna Bridge",2287,0.12875077408095478]
[null,null,2,"Prince William Sound","Whittier",539,5.6023282403076601E-2,null,2,"Resurrection Bay","Seward",639,3.5973653099138657E-2]
[null,null,3,"Kachemak Bay","Homer",385,4.0016630287911858E-2,null,3,"Kachemak Bay","N/A",567,3.1920283735855433E-2]
[null,null,4,"Nancy Lakes","N/A",357,3.7106329903336455E-2,null,4,"Prince William Sound","Whittier",565,3.1807690142430893E-2]
[null,null,5,"Chena River","Fairbanks",346,3.5962997609396113E-2,null,5,"Russian River","N/A",486,2.7360243202161797E-2]
[null,null,"Study Area Only",null,null,null,null,null,"Study Area Only",null,null,null,null,null,"Question For Michelle-"]
[null,null,"Rank","Location","Access","Activity Days","% Total",null,"Rank","Location","Access","Activity Days","% Total",null,"Some Policy area/ study ara sites seem far out of study area"]
[null,null,1,"Susitna River","Deshka Landing",42,4.3654505768631119E-3,null,1,"Talkeetna River","N/A",159,8.9511906772504653E-3,null,"Some policy area designations for one type of rec are not lables as policy sites for the same location for different rec type "]
[null,null,2,"Yentna River","Deshka Landing",30,3.1181789834736516E-3,null,2,"Montana Creek","N/A",143,8.0504419298541921E-3]
[null,null,3,"Deshka River","Deshka Landing",28,2.9103003845754078E-3,null,3,"Willow Creek","N/A",126,7.0933963857456508E-3]
[null,null,4,"Willow Creek","Willow",27,2.8063610851262861E-3,null,4,"Deshka River","N/A",100,5.6296796712267073E-3]
[null,null,5,"Chulitna River","Parks Highway",14,1.4551501922877039E-3,null,5,"Clear Creek","N/A",38,2.1392782750661488E-3]
[]
[]
[null,null,"All Hunting Sites",null,null,null,null,null,"All Snowmachine Sites"]
[null,null,"Rank","Location","Access","Activity Days","% Total",null,"Rank","Location","Access","Activity Days","% Total"]
[null,null,1,"Alone Creek",null,387,5.3379310344827589E-2,null,1,"Petersville","West Susitna Side",343,{"$f":"L208/$N$221","v":9.0334474585198846E-2}]
[null,null,2,"Denali Hwy","Paxson",372,5.1310344827586209E-2,null,2,"Chitina",null,272,{"$f":"L209/$N$221","v":7.1635501711877797E-2}]
[null,null,3,"Brooks Range","Fairbanks",294,4.0551724137931032E-2,null,3,"Fort Yukon",null,200,5.2673163023439558E-2]
[null,null,4,"Cantwell",null,255,3.5172413793103451E-2,null,4,"Talkeetna Area","Talkeetna",168,4.4245456939689232E-2]
[null,null,5,"Glenn Hwy","Copper Center",252,3.475862068965517E-2,null,5,"Lake Louise",null,157,4.1348432973400052E-2]
[null,null,"Study Area Only",null,null,null,null,null,"Study Area Only"]
[null,null,"Rank","Location","Access","Activity Days","% Total",null,"Rank","Location","Access","Activity Days","% Total"]
[null,null,1,"Denali Hwy","Paxson",372,5.1310344827586209E-2,null,1,"Susitna River","Deshka Landing",36,{"$f":"L215/N221","v":9.4811693442191196E-3}]
[null,null,2,"Cantwell",null,255,3.5172413793103451E-2,null,2]
[null,null,3,"Lake Louise",null,171,2.3586206896551724E-2,null,3]
[null,null,4,"Denali Highway","Cantwell Side",152,2.0965517241379312E-2,null,4]
[null,null,5,"Denali Highway","Maclaren River",96,1.3241379310344827E-2,null,5]
[]
[null,null,null,null,null,null,null,null,null,null,null,null,null,3797]
[]
[]
[]
[null,null,"Row Labels","Count of Unique Respondent ID","Average of Total Days Snowmachinging (NEI)","Average of Total Days Fishing 2012 (NEI)","Average of Total Days Boating (NEI)","Average of Total Days Hunting (NEI)"]
[null,null,"19 & Under",10,0.8,1.7,0.2,0.1]
[null,null,"20-29 years",147,0.85034013605442171,3.564625850340136,1.8979591836734695,0.47619047619047616]
[null,null,"30-39 years",248,1.7016129032258065,4.887096774193548,2.254032258064516,1.903225806451613]
[null,null,"40-49 years",242,2.8719008264462809,5.7107438016528924,1.9049586776859504,1.7520661157024793]
[null,null,"50-59 years",379,1.0026385224274406,4.3905013192612135,2.2559366754617414,1.5197889182058046]
[null,null,"60-69 years",370,0.69459459459459461,3.4405405405405407,2.4162162162162164,1.1621621621621621]
[null,null,"70-79 years",152,1.236842105263158,3.8815789473684212,1.6973684210526316,1.6842105263157894]
[null,null,"80-89 years",43,0.46511627906976744,0.83720930232558144,0.11627906976744186,0.46511627906976744]
[null,null,"90+ years",10,0,0.3,12,0]
[null,null,"(blank)",107,0.88785046728971961,3.0654205607476634,1.0093457943925233,0.50467289719626163]
[]
[null,null,"Row Labels","Count of Unique ID (NEI)","Average of Total Days Snowmachinging (NEI)","Average of Total Days Fishing (NEI)","Average of Total Days Boating (NEI)","Average of Total Days Hunting (NEI)"]
[null,null,"19 and under",4,0,1.5,0,0]
[null,null,"20-29 years",155,0.3032258064516129,4.193548387096774,2.2774193548387096,1.8709677419354838]
[null,null,"30-39 years",338,0.64792899408284022,4.5,2.3698224852071004,1.8668639053254439]
[null,null,"40-49 years",378,0.71957671957671954,5.2592592592592595,3.074074074074074,2.7301587301587302]
[null,null,"50-59 years",566,0.85335689045936391,4.6095406360424027,2.6908127208480566,2.3003533568904593]
[null,null,"60-69 years",487,1.1006160164271048,5.268993839835729,3.4640657084188913,2.537987679671458]
[null,null,"70-79 years",196,6.1224489795918366E-2,4.25,1.8163265306122449,1.760204081632653]
[null,null,"80-89 years",58,0.22413793103448276,1.5,0.65517241379310343,0.67241379310344829]
[null,null,"90 + years",9,1.1111111111111112,2.2222222222222223,2,1.1111111111111112]
[null,null,"(blank)",85,0.17647058823529413,5.3176470588235292,1.6705882352941177,0.72941176470588232]
[]
[]
[]
[null,null,"Row Labels","Number of Respondents","Snowmachining","Fishing","Boating","Hunting"]
[null,null,"19 and under",{"$f":"D226+D238","v":14},{"$f":"((E226*$D226)+(E238*$D238))/$D252","v":0.5714285714285714},1.6428571428571428,0.14285714285714285,7.1428571428571425E-2]
[null,null,"20-29 years",{"$f":"D227+D239","v":302},0.56953642384105962,3.8874172185430464,2.0927152317880795,1.1920529801324504]
[null,null,"30-39 years",586,1.0938566552901023,4.6638225255972694,2.3208191126279862,1.8822525597269624]
[null,null,"40-49 years",620,1.5596774193548386,5.435483870967742,2.6177419354838709,2.3483870967741933]
[null,null,"50-59 years",945,0.91322751322751328,4.5216931216931213,2.5164021164021162,1.9873015873015873]
[null,null,"60-69 years",857,0.92532088681446911,4.479579929988331,3.0116686114352391,1.9439906651108518]
[null,null,"70-79 years",348,0.57471264367816088,4.0890804597701154,1.764367816091954,1.7270114942528736]
[null,null,"80-89 years",101,0.32673267326732675,1.2178217821782178,0.42574257425742573,0.58415841584158412]
[null,null,"90 + years",19,0.52631578947368418,1.2105263157894737,7.2631578947368425,0.52631578947368418]
[null,null,"(blank)",192,{"$f":"((E235*$D235)+(E247*$D247))/$D261","v":0.57291666666666663},4.0625,1.3020833333333333,0.60416666666666663]
[null,null,null,{"$f":"SUM(D252:D261)","v":3984},{"$f":"AVERAGE(E252:E261)","v":0.7633725243042393},{"$f":"AVERAGE(F252:F261)","v":3.5210782367384454},2.3457555769013991,1.2867065826709425]
[null,null,null,{"$f":"STDEV(D252:D260)","v":350.11426706148382}]
[]
[]
[null,null,"Row Labels","Count of Unique Respondent ID","Average of Total Days Snowmachinging (NEI)","Average of Total Days Fishing 2012 (NEI)","Average of Total Days Boating (NEI)","Average of Total Days Hunting (NEI)"]
[null,null,"Less than $20,000",111,0.22522522522522523,3.4774774774774775,0.61261261261261257,0.54054054054054057]
[null,null,"$20,001-$35,000",162,1.0864197530864197,3.9382716049382718,2.425925925925926,0.76543209876543206]
[null,null,"$35,001-$50,000",168,1.2797619047619047,3.2321428571428572,2.3452380952380953,1.3035714285714286]
[null,null,"$50,001-$75,000",287,1.2334494773519165,3.4285714285714284,2.024390243902439,1.1742160278745644]
[null,null,"$75,001-$99,999",276,1.4384057971014492,4.5978260869565215,2.2898550724637681,1.7065217391304348]
[null,null,"$100,000-$149,999",329,1.8905775075987843,4.4924012158054714,1.7234042553191489,1.8571428571428572]
[null,null,"$150,000 +",183,1.4426229508196722,6.0218579234972678,3.442622950819672,1.5027322404371584]
[null,null,"(blank)",192,0.71354166666666663,3.2760416666666665,1.4375,1.0729166666666667]
[null,null,"Grand Total",1708,1.2822014051522248,4.115339578454333,2.0731850117096018,1.348360655737705]
[]
[null,null,"Row Labels","Count of Unique ID (NEI)","Average of Total Days Snowmachinging (NEI)","Average of Total Days Fishing (NEI)","Average of Total Days Boating (NEI)","Average of Total Days Hunting (NEI)"]
[null,null,"Less than $20,000",166,0.2289156626506024,4.4638554216867474,2.6867469879518073,4.4216867469879517]
[null,null,"$20,001-$35,000",208,1.7788461538461537,4.8173076923076925,2.5144230769230771,1.5]
[null,null,"$35,001-$50,000",215,0.75813953488372088,3.8046511627906976,2.1441860465116278,3.2279069767441859]
[null,null,"$50,001-$75,000",386,0.81088082901554404,3.733160621761658,1.766839378238342,1.6191709844559585]
[null,null,"$75,001-$99,999",379,0.67810026385224276,5.0923482849604218,2.5171503957783643,2.2480211081794197]
[null,null,"$100,000-$149,999",447,0.48098434004474272,5.4675615212527964,2.8970917225950781,2.2550335570469797]
[null,null,"$150,000 or more",267,0.63295880149812733,4.9775280898876408,4.8539325842696632,1.4981273408239701]
[null,null,"(blank)",210,0.39047619047619048,4.9000000000000004,2.0142857142857142,1.5333333333333334]
[null,null,"Grand Total",2278,0.70544337137840207,4.7120280948200177,2.6690079016681301,2.1716417910447761]
[]
[]
[]
[null,null,"Row Labels","Number of respondents","Snowmachining","Fishing","Boating","Hunting"]
[null,null,"Less than $20,000",{"$f":"D267+D278","v":277},{"$f":"((E278*$D278)+(E267*$D267))/$D291","v":0.22743682310469315},{"$f":"((F278*$D278)+(F267*$D267))/$D291","v":4.0685920577617329},1.855595667870036,2.8664259927797833]
[null,null,"$20,001-$35,000",{"$f":"D268+D279","v":370},{"$f":"((E279*$D279)+(E268*$D268))/$D292","v":1.4756756756756757},4.4324324324324325,2.4756756756756757,1.1783783783783783]
[null,null,"$35,001-$50,000",383,{"$f":"((E280*$D280)+(E269*$D269))/$D293","v":0.98694516971279378},3.5535248041775458,2.2323759791122715,2.3838120104438643]
[null,null,"$50,001-$75,000",673,{"$f":"((E281*$D281)+(E270*$D270))/$D294","v":0.99108469539375932},3.6032689450222883,1.8766716196136701,1.4294205052005944]
[null,null,"$75,001-$99,999",655,{"$f":"((E282*$D282)+(E271*$D271))/$D295","v":0.99847328244274813},4.883969465648855,2.4213740458015267,2.0198473282442748]
[null,null,"$100,000-$149,999",776,{"$f":"((E283*$D283)+(E272*$D272))/$D296","v":1.0786082474226804},5.054123711340206,2.3994845360824741,2.0863402061855671]
[null,null,"$150,000 +",450,{"$f":"((E284*$D284)+(E273*$D273))/$D297","v":0.9622222222222222},5.402222222222222,4.28,1.5]
[null,null,"(blank)",402,{"$f":"((E285*$D285)+(E274*$D274))/$D298","v":0.54477611940298509},4.1243781094527368,1.7388059701492538,1.3134328358208955]
[null,null,null,{"$f":"SUM(D291:D298)","v":3986},{"$f":"AVERAGE(E291:E298)","v":0.90815277942219474},{"$f":"AVERAGE(F291:F298)","v":4.3903139685072521},2.4099979367881135,1.8472071571316697]
[]
[null,null,null,{"$f":"SUM(D294:D296)/D299","v":0.52784746613146016}]
[null,null,null,{"$f":"STDEV(D291:D297)","v":187.94502742380106}]

{"sheet":"Combined Site List","index":5,"n_rows":2000,"n_cols":14,"rows_kept":2000,"cut":false,"hidden":false,"merged":[]}
["Source: \"Activity Days\" sheets in each survey analysis workbook"]
[]
["Survey Date","Activity","Site Name","Site Code","GMU","Activity Days","AnalysisSite","PolicySite","Lives in SA",null,"PolicySite","(All)"]
["2013-08-01","Snow Machining","7 Mile Lake Trails-Skilak","Snow 1",null,11,{"$f":"IFERROR(VLOOKUP(D4,'Study Area Site Variable'!$B$4:$J$1240,6,FALSE),0)","v":0},{"$f":"IFERROR(VLOOKUP(D4,'Study Area Site Variable'!$B$4:$H$1240,7,FALSE),0)","v":0},0,null,"Survey Date","(All)"]
["2013-08-01","Snow Machining","Badger Road-North Pole","Snow 2",null,5,{"$f":"IFERROR(VLOOKUP(D5,'Study Area Site Variable'!$B$4:$J$1240,6,FALSE),0)","v":0},{"$f":"IFERROR(VLOOKUP(D5,'Study Area Site Variable'!$B$4:$H$1240,7,FALSE),0)","v":0},0]
["2013-08-01","Snow Machining","Bethel","Snow 3",null,30,{"$f":"IFERROR(VLOOKUP(D6,'Study Area Site Variable'!$B$4:$J$1240,6,FALSE),0)","v":0},{"$f":"IFERROR(VLOOKUP(D6,'Study Area Site Variable'!$B$4:$H$1240,7,FALSE),0)","v":0},0,null,"Row Labels","Sum of Activity Days","Sum of Lives in SA","Sum of PolicySite"]
["2013-08-01","Snow Machining","Bettles","Snow 4",null,30,{"$f":"IFERROR(VLOOKUP(D7,'Study Area Site Variable'!$B$4:$J$1240,6,FALSE),0)","v":0},{"$f":"IFERROR(VLOOKUP(D7,'Study Area Site Variable'!$B$4:$H$1240,7,FALSE),0)","v":0},0,null,"Boating",9621,773,18]
["2013-08-01","Snow Machining","Big Lake","Snow 5",null,66,{"$f":"IFERROR(VLOOKUP(D8,'Study Area Site Variable'!$B$4:$J$1240,6,FALSE),0)","v":1},{"$f":"IFERROR(VLOOKUP(D8,'Study Area Site Variable'!$B$4:$H$1240,7,FALSE),0)","v":0},0,null,"20 Mile River-Boat Launch",14,0,0]
["2013-08-01","Snow Machining","Birch Creek-Steese Highway","Snow 6",null,6,{"$f":"IFERROR(VLOOKUP(D9,'Study Area Site Variable'!$B$4:$J$1240,6,FALSE),0)","v":0},{"$f":"IFERROR(VLOOKUP(D9,'Study Area Site Variable'!$B$4:$H$1240,7,FALSE),0)","v":0},0,null,"3 Rivers (Talkeetna/Susitna/Chultina Rivers)-Talkeetna",2,0,0]
["2013-08-01","Snow Machining","Birch Lake-Delta Junction","Snow 7",null,19,{"$f":"IFERROR(VLOOKUP(D10,'Study Area Site Variable'!$B$4:$J$1240,6,FALSE),0)","v":0},{"$f":"IFERROR(VLOOKUP(D10,'Study Area Site Variable'!$B$4:$H$1240,7,FALSE),0)","v":0},0,null,"40 mile River-40 mile crossing",4,0,0]
["2013-08-01","Snow Machining","Cache Creek/Ester-Cache Creek","Snow 8",null,3,{"$f":"IFERROR(VLOOKUP(D11,'Study Area Site Variable'!$B$4:$J$1240,6,FALSE),0)","v":0},{"$f":"IFERROR(VLOOKUP(D11,'Study Area Site Variable'!$B$4:$H$1240,7,FALSE),0)","v":0},0,null,"6 mile lake-JBER",1,0,0]
["2013-08-01","Snow Machining","Cantwell","Snow 9",null,74,{"$f":"IFERROR(VLOOKUP(D12,'Study Area Site Variable'!$B$4:$J$1240,6,FALSE),0)","v":1},{"$f":"IFERROR(VLOOKUP(D12,'Study Area Site Variable'!$B$4:$H$1240,7,FALSE),0)","v":0},22,null,"Alaqanek Sloosh-Boat Launch",1,0,0]
["2013-08-01","Snow Machining","Canwell Glacier-Miller Creek","Snow 10",null,3,{"$f":"IFERROR(VLOOKUP(D13,'Study Area Site Variable'!$B$4:$J$1240,6,FALSE),0)","v":0},{"$f":"IFERROR(VLOOKUP(D13,'Study Area Site Variable'!$B$4:$H$1240,7,FALSE),0)","v":0},0,null,"Alexander Creek-Anchorage",5,0,0]
["2013-08-01","Snow Machining","Chatanika-Elliot Highway","Snow 11",null,31,{"$f":"IFERROR(VLOOKUP(D14,'Study Area Site Variable'!$B$4:$J$1240,6,FALSE),0)","v":1},{"$f":"IFERROR(VLOOKUP(D14,'Study Area Site Variable'!$B$4:$H$1240,7,FALSE),0)","v":0},0,null,"Amber Lake-Amber Lake Boat Launch",47,0,0]
["2013-08-01","Snow Machining","Chena Flood Control-North Pole","Snow 12",null,64,{"$f":"IFERROR(VLOOKUP(D15,'Study Area Site Variable'!$B$4:$J$1240,6,FALSE),0)","v":1},{"$f":"IFERROR(VLOOKUP(D15,'Study Area Site Variable'!$B$4:$H$1240,7,FALSE),0)","v":0},0,null,"Anchaiatie",1,0,0]
["2013-08-01","Snow Machining","Chena Hot Springs","Snow 13",null,39,{"$f":"IFERROR(VLOOKUP(D16,'Study Area Site Variable'!$B$4:$J$1240,6,FALSE),0)","v":1},{"$f":"IFERROR(VLOOKUP(D16,'Study Area Site Variable'!$B$4:$H$1240,7,FALSE),0)","v":0},0,null,"Anchorage Lakes",20,0,0]
["2013-08-01","Snow Machining","Chena Lakes-North Pole","Snow 14",null,23,{"$f":"IFERROR(VLOOKUP(D17,'Study Area Site Variable'!$B$4:$J$1240,6,FALSE),0)","v":1},{"$f":"IFERROR(VLOOKUP(D17,'Study Area Site Variable'!$B$4:$H$1240,7,FALSE),0)","v":0},0,null,"Andreafsky River-St Marys",3,0,0]
["2013-08-01","Snow Machining","Chena River State Recreation Area-North Pole","Snow 15",null,111,{"$f":"IFERROR(VLOOKUP(D18,'Study Area Site Variable'!$B$4:$J$1240,6,FALSE),0)","v":1},{"$f":"IFERROR(VLOOKUP(D18,'Study Area Site Variable'!$B$4:$H$1240,7,FALSE),0)","v":0},0,null,"aniak river-aniak,ak",2,0,0]
["2013-08-01","Snow Machining","Chickaloon","Snow 16",null,7,{"$f":"IFERROR(VLOOKUP(D19,'Study Area Site Variable'!$B$4:$J$1240,6,FALSE),0)","v":0},{"$f":"IFERROR(VLOOKUP(D19,'Study Area Site Variable'!$B$4:$H$1240,7,FALSE),0)","v":0},0,null,"Annette Bay-Metlakatla",1,0,0]
["2013-08-01","Snow Machining","Copper River Valley-Glennallen","Snow 17",null,13,{"$f":"IFERROR(VLOOKUP(D20,'Study Area Site Variable'!$B$4:$J$1240,6,FALSE),0)","v":1},{"$f":"IFERROR(VLOOKUP(D20,'Study Area Site Variable'!$B$4:$H$1240,7,FALSE),0)","v":0},0,null,"Anvik River-Anvik",18,0,0]
["2013-08-01","Snow Machining","Denali Highway-Cantwell","Snow 18",null,16,{"$f":"IFERROR(VLOOKUP(D21,'Study Area Site Variable'!$B$4:$J$1240,6,FALSE),0)","v":0},{"$f":"IFERROR(VLOOKUP(D21,'Study Area Site Variable'!$B$4:$H$1240,7,FALSE),0)","v":0},0,null,"Auk Bay-Juneau Boat Launch",13,0,0]
["2013-08-01","Snow Machining","Denali Highway-Central","Snow 19",null,9,{"$f":"IFERROR(VLOOKUP(D22,'Study Area Site Variable'!$B$4:$J$1240,6,FALSE),0)","v":0},{"$f":"IFERROR(VLOOKUP(D22,'Study Area Site Variable'!$B$4:$H$1240,7,FALSE),0)","v":0},0,null,"Badger Slough-North Pole",11,0,0]
["2013-08-01","Snow Machining","Denali Highway-Paxson","Snow 20",null,10,{"$f":"IFERROR(VLOOKUP(D23,'Study Area Site Variable'!$B$4:$J$1240,6,FALSE),0)","v":1},{"$f":"IFERROR(VLOOKUP(D23,'Study Area Site Variable'!$B$4:$H$1240,7,FALSE),0)","v":0},0,null,"Bathing Beauty-Richardson  Hwy",5,0,0]
["2013-08-01","Snow Machining","Denali National Park-Cantwell","Snow 21",null,2,{"$f":"IFERROR(VLOOKUP(D24,'Study Area Site Variable'!$B$4:$J$1240,6,FALSE),0)","v":0},{"$f":"IFERROR(VLOOKUP(D24,'Study Area Site Variable'!$B$4:$H$1240,7,FALSE),0)","v":0},0,null,"Beach Lake-Birchwood",24,0,0]
["2013-08-01","Snow Machining","Drill Lake-Chickaloon","Snow 22",null,35,{"$f":"IFERROR(VLOOKUP(D25,'Study Area Site Variable'!$B$4:$J$1240,6,FALSE),0)","v":1},{"$f":"IFERROR(VLOOKUP(D25,'Study Area Site Variable'!$B$4:$H$1240,7,FALSE),0)","v":0},0,null,"Bear Lake-private property",1,0,0]
["2013-08-01","Snow Machining","Dry Creek SRA- Gulkana","Snow 23",null,1,{"$f":"IFERROR(VLOOKUP(D26,'Study Area Site Variable'!$B$4:$J$1240,6,FALSE),0)","v":0},{"$f":"IFERROR(VLOOKUP(D26,'Study Area Site Variable'!$B$4:$H$1240,7,FALSE),0)","v":0},0,null,"Bear Lake-Seward",8,0,0]
["2013-08-01","Snow Machining","Eagle River Valley","Snow 24",null,6,{"$f":"IFERROR(VLOOKUP(D27,'Study Area Site Variable'!$B$4:$J$1240,6,FALSE),0)","v":0},{"$f":"IFERROR(VLOOKUP(D27,'Study Area Site Variable'!$B$4:$H$1240,7,FALSE),0)","v":0},0,null,"Bear Paw Lake-Houston",6,0,0]
["2013-08-01","Snow Machining","Eureka","Snow 25",null,66,{"$f":"IFERROR(VLOOKUP(D28,'Study Area Site Variable'!$B$4:$J$1240,6,FALSE),0)","v":1},{"$f":"IFERROR(VLOOKUP(D28,'Study Area Site Variable'!$B$4:$H$1240,7,FALSE),0)","v":0},0,null,"Beaver Creek-Nome Creek, off US Creek Rd, White Mtns Rec Area",2,0,0]
["2013-08-01","Snow Machining","Eyak Mountain-Cordova","Snow 26",null,4,{"$f":"IFERROR(VLOOKUP(D29,'Study Area Site Variable'!$B$4:$J$1240,6,FALSE),0)","v":0},{"$f":"IFERROR(VLOOKUP(D29,'Study Area Site Variable'!$B$4:$H$1240,7,FALSE),0)","v":0},0,null,"Beaver Creek-Ophir",9,0,0]
["2013-08-01","Snow Machining","Fairbanks","Snow 27",null,79,{"$f":"IFERROR(VLOOKUP(D30,'Study Area Site Variable'!$B$4:$J$1240,6,FALSE),0)","v":1},{"$f":"IFERROR(VLOOKUP(D30,'Study Area Site Variable'!$B$4:$H$1240,7,FALSE),0)","v":0},0,null,"Beaver Pond-Richardson Hwy",2,0,0]
["2013-08-01","Snow Machining","Forgotten Lake--Lake Louise","Snow 28",null,3,{"$f":"IFERROR(VLOOKUP(D31,'Study Area Site Variable'!$B$4:$J$1240,6,FALSE),0)","v":0},{"$f":"IFERROR(VLOOKUP(D31,'Study Area Site Variable'!$B$4:$H$1240,7,FALSE),0)","v":0},0,null,"Behm Canal-Ketchikan",29,0,0]
["2013-08-01","Snow Machining","Funny River Road-Kenai","Snow 29",null,3,{"$f":"IFERROR(VLOOKUP(D32,'Study Area Site Variable'!$B$4:$J$1240,6,FALSE),0)","v":0},{"$f":"IFERROR(VLOOKUP(D32,'Study Area Site Variable'!$B$4:$H$1240,7,FALSE),0)","v":0},0,null,"Bell Lake-Parks Hwy mile 127",4,0,0]
["2013-08-01","Snow Machining","Gakona","Snow 30",null,3,{"$f":"IFERROR(VLOOKUP(D33,'Study Area Site Variable'!$B$4:$J$1240,6,FALSE),0)","v":0},{"$f":"IFERROR(VLOOKUP(D33,'Study Area Site Variable'!$B$4:$H$1240,7,FALSE),0)","v":0},0,null,"Benka Lake-Talkeetna",35,8,0]
["2013-08-01","Snow Machining","Girdwood","Snow 31",null,6,{"$f":"IFERROR(VLOOKUP(D34,'Study Area Site Variable'!$B$4:$J$1240,6,FALSE),0)","v":0},{"$f":"IFERROR(VLOOKUP(D34,'Study Area Site Variable'!$B$4:$H$1240,7,FALSE),0)","v":0},0,null,"Bering Sea-Akutan",1,0,0]
["2013-08-01","Snow Machining","Gunsight Mountain","Snow 32",null,3,{"$f":"IFERROR(VLOOKUP(D35,'Study Area Site Variable'!$B$4:$J$1240,6,FALSE),0)","v":0},{"$f":"IFERROR(VLOOKUP(D35,'Study Area Site Variable'!$B$4:$H$1240,7,FALSE),0)","v":0},0,null,"Big Beaver-Big Lake",8,0,0]
["2013-08-01","Snow Machining","Harding Lake Trails--Salcha Drive","Snow 33",null,3,{"$f":"IFERROR(VLOOKUP(D36,'Study Area Site Variable'!$B$4:$J$1240,6,FALSE),0)","v":0},{"$f":"IFERROR(VLOOKUP(D36,'Study Area Site Variable'!$B$4:$H$1240,7,FALSE),0)","v":0},0,null,"Big Lake-Big Lake",566,0,0]
["2013-08-01","Snow Machining","Hatcher Pass-Palmer Side","Snow 34",null,67,{"$f":"IFERROR(VLOOKUP(D37,'Study Area Site Variable'!$B$4:$J$1240,6,FALSE),0)","v":1},{"$f":"IFERROR(VLOOKUP(D37,'Study Area Site Variable'!$B$4:$H$1240,7,FALSE),0)","v":0},13,null,"Birch Creek-Circle",7,0,0]
["2013-08-01","Snow Machining","Hatcher Pass-Unspecified","Snow 35",null,20,{"$f":"IFERROR(VLOOKUP(D38,'Study Area Site Variable'!$B$4:$J$1240,6,FALSE),0)","v":0},{"$f":"IFERROR(VLOOKUP(D38,'Study Area Site Variable'!$B$4:$H$1240,7,FALSE),0)","v":0},0,null,"Birch Creek-Talkeetna spur road to Susitna river",2,2,0]
["2013-08-01","Snow Machining","Hatcher Pass-Willow Side","Snow 36",null,19,{"$f":"IFERROR(VLOOKUP(D39,'Study Area Site Variable'!$B$4:$J$1240,6,FALSE),0)","v":1},{"$f":"IFERROR(VLOOKUP(D39,'Study Area Site Variable'!$B$4:$H$1240,7,FALSE),0)","v":0},0,null,"Birch Lake-Birch Lake",39,0,0]
["2013-08-01","Snow Machining","Healy Lake--Cummings Rd","Snow 37",null,4,{"$f":"IFERROR(VLOOKUP(D40,'Study Area Site Variable'!$B$4:$J$1240,6,FALSE),0)","v":0},{"$f":"IFERROR(VLOOKUP(D40,'Study Area Site Variable'!$B$4:$H$1240,7,FALSE),0)","v":0},0,null,"Bird Creek-Bird Creek",2,0,0]
["2013-08-01","Snow Machining","Hoodoo Mountains-Paxson","Snow 38",null,107,{"$f":"IFERROR(VLOOKUP(D41,'Study Area Site Variable'!$B$4:$J$1240,6,FALSE),0)","v":1},{"$f":"IFERROR(VLOOKUP(D41,'Study Area Site Variable'!$B$4:$H$1240,7,FALSE),0)","v":0},0,null,"Black River-Fort Yukon",3,0,0]
["2013-08-01","Snow Machining","Houston","Snow 39",null,1,{"$f":"IFERROR(VLOOKUP(D42,'Study Area Site Variable'!$B$4:$J$1240,6,FALSE),0)","v":0},{"$f":"IFERROR(VLOOKUP(D42,'Study Area Site Variable'!$B$4:$H$1240,7,FALSE),0)","v":0},0,null,"blair lake",1,0,0]
["2013-08-01","Snow Machining","Johnson Pass-Kenai Peninsula","Snow 40",null,1,{"$f":"IFERROR(VLOOKUP(D43,'Study Area Site Variable'!$B$4:$J$1240,6,FALSE),0)","v":0},{"$f":"IFERROR(VLOOKUP(D43,'Study Area Site Variable'!$B$4:$H$1240,7,FALSE),0)","v":0},0,null,"Bolio Lake-Ft. Greely",2,0,0]
["2013-08-01","Snow Machining","Kashwitna River-Eagles Nest","Snow 41",null,10,{"$f":"IFERROR(VLOOKUP(D44,'Study Area Site Variable'!$B$4:$J$1240,6,FALSE),0)","v":0},{"$f":"IFERROR(VLOOKUP(D44,'Study Area Site Variable'!$B$4:$H$1240,7,FALSE),0)","v":0},0,null,"Bonnie Lake-Launch",15,0,0]
["2013-08-01","Snow Machining","Kenai-Unspecified","Snow 42",null,3,{"$f":"IFERROR(VLOOKUP(D45,'Study Area Site Variable'!$B$4:$J$1240,6,FALSE),0)","v":0},{"$f":"IFERROR(VLOOKUP(D45,'Study Area Site Variable'!$B$4:$H$1240,7,FALSE),0)","v":0},0,null,"Bontenintata-Campground",5,0,0]
["2013-08-01","Snow Machining","King River","Snow 43",null,18,{"$f":"IFERROR(VLOOKUP(D46,'Study Area Site Variable'!$B$4:$J$1240,6,FALSE),0)","v":1},{"$f":"IFERROR(VLOOKUP(D46,'Study Area Site Variable'!$B$4:$H$1240,7,FALSE),0)","v":0},0,null,"Butterfly Lake-Willow",5,0,0]
["2013-08-01","Snow Machining","Klutina Lake","Snow 44",null,4,{"$f":"IFERROR(VLOOKUP(D47,'Study Area Site Variable'!$B$4:$J$1240,6,FALSE),0)","v":0},{"$f":"IFERROR(VLOOKUP(D47,'Study Area Site Variable'!$B$4:$H$1240,7,FALSE),0)","v":0},0,null,"Byers Lake/Susitna River-Talkeetna",1,0,0]
["2013-08-01","Snow Machining","Knik Goose Bay Road","Snow 45",null,6,{"$f":"IFERROR(VLOOKUP(D48,'Study Area Site Variable'!$B$4:$J$1240,6,FALSE),0)","v":0},{"$f":"IFERROR(VLOOKUP(D48,'Study Area Site Variable'!$B$4:$H$1240,7,FALSE),0)","v":0},0,null,"Byers Lake-Boat Launch Campground",42,5,0]
["2013-08-01","Snow Machining","Knik River","Snow 46",null,3,{"$f":"IFERROR(VLOOKUP(D49,'Study Area Site Variable'!$B$4:$J$1240,6,FALSE),0)","v":0},{"$f":"IFERROR(VLOOKUP(D49,'Study Area Site Variable'!$B$4:$H$1240,7,FALSE),0)","v":0},0,null,"Campbell Creek-Anchorage",19,0,0]
["2013-08-01","Snow Machining","Lake Louise","Snow 47",null,57,{"$f":"IFERROR(VLOOKUP(D50,'Study Area Site Variable'!$B$4:$J$1240,6,FALSE),0)","v":1},{"$f":"IFERROR(VLOOKUP(D50,'Study Area Site Variable'!$B$4:$H$1240,7,FALSE),0)","v":0},0,null,"Campbell Lake-Anchorage",44,0,0]
["2013-08-01","Snow Machining","Long Lake--Willow","Snow 48",null,2,{"$f":"IFERROR(VLOOKUP(D51,'Study Area Site Variable'!$B$4:$J$1240,6,FALSE),0)","v":0},{"$f":"IFERROR(VLOOKUP(D51,'Study Area Site Variable'!$B$4:$H$1240,7,FALSE),0)","v":0},0,null,"Campbell Lake-Private Property",3,0,0]
["2013-08-01","Snow Machining","Loss Lake--Cooper Landing","Snow 49",null,1,{"$f":"IFERROR(VLOOKUP(D52,'Study Area Site Variable'!$B$4:$J$1240,6,FALSE),0)","v":0},{"$f":"IFERROR(VLOOKUP(D52,'Study Area Site Variable'!$B$4:$H$1240,7,FALSE),0)","v":0},0,null,"Canning River-Headwaters airstrip",2,0,0]
["2013-08-01","Snow Machining","Lost Lake Trail-Seward","Snow 50",null,4,{"$f":"IFERROR(VLOOKUP(D53,'Study Area Site Variable'!$B$4:$J$1240,6,FALSE),0)","v":1},{"$f":"IFERROR(VLOOKUP(D53,'Study Area Site Variable'!$B$4:$H$1240,7,FALSE),0)","v":0},0,null,"Canoe Trails-Tanana Lake Trailhead",1,0,0]
["2013-08-01","Snow Machining","Manley Hot Springs","Snow 51",null,23,{"$f":"IFERROR(VLOOKUP(D54,'Study Area Site Variable'!$B$4:$J$1240,6,FALSE),0)","v":1},{"$f":"IFERROR(VLOOKUP(D54,'Study Area Site Variable'!$B$4:$H$1240,7,FALSE),0)","v":0},0,null,"Canyon Creek-Seward Hwy",4,0,0]
["2013-08-01","Snow Machining","Matanuska River","Snow 52",null,3,{"$f":"IFERROR(VLOOKUP(D55,'Study Area Site Variable'!$B$4:$J$1240,6,FALSE),0)","v":0},{"$f":"IFERROR(VLOOKUP(D55,'Study Area Site Variable'!$B$4:$H$1240,7,FALSE),0)","v":0},0,null,"Captain Cook Recreation Site",3,0,0]
["2013-08-01","Snow Machining","McCarthy","Snow 53",null,2,{"$f":"IFERROR(VLOOKUP(D56,'Study Area Site Variable'!$B$4:$J$1240,6,FALSE),0)","v":0},{"$f":"IFERROR(VLOOKUP(D56,'Study Area Site Variable'!$B$4:$H$1240,7,FALSE),0)","v":0},0,null,"Carpenters Lake-Burma Road",5,0,0]
["2013-08-01","Snow Machining","Meadow Lakes-Wasilla","Snow 54",null,3,{"$f":"IFERROR(VLOOKUP(D57,'Study Area Site Variable'!$B$4:$J$1240,6,FALSE),0)","v":0},{"$f":"IFERROR(VLOOKUP(D57,'Study Area Site Variable'!$B$4:$H$1240,7,FALSE),0)","v":0},0,null,"Chandalar Lake-North Fork Chandalar River",9,0,0]
["2013-08-01","Snow Machining","Mt. Baldy-Shrock Road","Snow 55",null,10,{"$f":"IFERROR(VLOOKUP(D58,'Study Area Site Variable'!$B$4:$J$1240,6,FALSE),0)","v":0},{"$f":"IFERROR(VLOOKUP(D58,'Study Area Site Variable'!$B$4:$H$1240,7,FALSE),0)","v":0},0,null,"Chatanika River-Chatanika",82,0,0]
["2013-08-01","Snow Machining","Murphy Dome-Murphy Dome Road","Snow 56",null,14,{"$f":"IFERROR(VLOOKUP(D59,'Study Area Site Variable'!$B$4:$J$1240,6,FALSE),0)","v":0},{"$f":"IFERROR(VLOOKUP(D59,'Study Area Site Variable'!$B$4:$H$1240,7,FALSE),0)","v":0},0,null,"Chatanika River-Whitefish Campground",18,0,0]
["2013-08-01","Snow Machining","Nabesna Area","Snow 57",null,3,{"$f":"IFERROR(VLOOKUP(D60,'Study Area Site Variable'!$B$4:$J$1240,6,FALSE),0)","v":0},{"$f":"IFERROR(VLOOKUP(D60,'Study Area Site Variable'!$B$4:$H$1240,7,FALSE),0)","v":0},0,null,"Chelatna Lake-Float Plane",5,0,0]
["2013-08-01","Snow Machining","Nancy Lakes","Snow 58",null,63,{"$f":"IFERROR(VLOOKUP(D61,'Study Area Site Variable'!$B$4:$J$1240,6,FALSE),0)","v":1},{"$f":"IFERROR(VLOOKUP(D61,'Study Area Site Variable'!$B$4:$H$1240,7,FALSE),0)","v":0},0,null,"Chena Lakes Rec Area-North Pole",92,0,0]
["2013-08-01","Snow Machining","Nenana","Snow 59",null,10,{"$f":"IFERROR(VLOOKUP(D62,'Study Area Site Variable'!$B$4:$J$1240,6,FALSE),0)","v":0},{"$f":"IFERROR(VLOOKUP(D62,'Study Area Site Variable'!$B$4:$H$1240,7,FALSE),0)","v":0},0,null,"Chena River-31.4 Mile",3,0,0]
["2013-08-01","Snow Machining","Palmer","Snow 60",null,12,{"$f":"IFERROR(VLOOKUP(D63,'Study Area Site Variable'!$B$4:$J$1240,6,FALSE),0)","v":1},{"$f":"IFERROR(VLOOKUP(D63,'Study Area Site Variable'!$B$4:$H$1240,7,FALSE),0)","v":0},0,null,"Chena River-Chena",37,5,0]
["2013-08-01","Snow Machining","Paxson Lake--Pipeline Access Road","Snow 61",null,4,{"$f":"IFERROR(VLOOKUP(D64,'Study Area Site Variable'!$B$4:$J$1240,6,FALSE),0)","v":0},{"$f":"IFERROR(VLOOKUP(D64,'Study Area Site Variable'!$B$4:$H$1240,7,FALSE),0)","v":0},0,null,"Chena River-Chena Wayside",4,0,0]
["2013-08-01","Snow Machining","Petersville-East Susitna Side","Snow 62",null,4,{"$f":"IFERROR(VLOOKUP(D65,'Study Area Site Variable'!$B$4:$J$1240,6,FALSE),0)","v":0},{"$f":"IFERROR(VLOOKUP(D65,'Study Area Site Variable'!$B$4:$H$1240,7,FALSE),0)","v":0},0,null,"Chena River-Fairbanks",346,0,0]
["2013-08-01","Snow Machining","Petersville-Talkeetna","Snow 63",null,9,{"$f":"IFERROR(VLOOKUP(D66,'Study Area Site Variable'!$B$4:$J$1240,6,FALSE),0)","v":0},{"$f":"IFERROR(VLOOKUP(D66,'Study Area Site Variable'!$B$4:$H$1240,7,FALSE),0)","v":0},0,null,"Chena River-Flat Creek launch",1,0,0]
["2013-08-01","Snow Machining","Petersville-West Susitna Side","Snow 64",null,140,{"$f":"IFERROR(VLOOKUP(D67,'Study Area Site Variable'!$B$4:$J$1240,6,FALSE),0)","v":1},{"$f":"IFERROR(VLOOKUP(D67,'Study Area Site Variable'!$B$4:$H$1240,7,FALSE),0)","v":0},6,null,"Chena River-Ft. Wainwright",8,0,0]
["2013-08-01","Snow Machining","Portage/Placer Rivers","Snow 65",null,21,{"$f":"IFERROR(VLOOKUP(D68,'Study Area Site Variable'!$B$4:$J$1240,6,FALSE),0)","v":1},{"$f":"IFERROR(VLOOKUP(D68,'Study Area Site Variable'!$B$4:$H$1240,7,FALSE),0)","v":0},0,null,"Chena River-Graehl Landing Fairbanks",35,0,0]
["2013-08-01","Snow Machining","Powerline Pass- Glen Alps Anchorage","Snow 66",null,5,{"$f":"IFERROR(VLOOKUP(D69,'Study Area Site Variable'!$B$4:$J$1240,6,FALSE),0)","v":0},{"$f":"IFERROR(VLOOKUP(D69,'Study Area Site Variable'!$B$4:$H$1240,7,FALSE),0)","v":0},0,null,"chena river-mile 28 Chena Hot Springs Road",3,0,0]
["2013-08-01","Snow Machining","Quartz Lake Winter Trail- Valdez","Snow 67",null,4,{"$f":"IFERROR(VLOOKUP(D70,'Study Area Site Variable'!$B$4:$J$1240,6,FALSE),0)","v":0},{"$f":"IFERROR(VLOOKUP(D70,'Study Area Site Variable'!$B$4:$H$1240,7,FALSE),0)","v":0},0,null,"Chena River-Near Hot Springs Drift (Moose Hunt)",5,0,0]
["2013-08-01","Snow Machining","Resurrection Pass Trail-Cooper Landing","Snow 68",null,3,{"$f":"IFERROR(VLOOKUP(D71,'Study Area Site Variable'!$B$4:$J$1240,6,FALSE),0)","v":1},{"$f":"IFERROR(VLOOKUP(D71,'Study Area Site Variable'!$B$4:$H$1240,7,FALSE),0)","v":0},0,null,"Chena River-Nordale",47,0,0]
["2013-08-01","Snow Machining","Rex Trail- Nenana","Snow 69",null,35,{"$f":"IFERROR(VLOOKUP(D72,'Study Area Site Variable'!$B$4:$J$1240,6,FALSE),0)","v":1},{"$f":"IFERROR(VLOOKUP(D72,'Study Area Site Variable'!$B$4:$H$1240,7,FALSE),0)","v":0},0,null,"Chena River-North Pole",13,0,0]
["2013-08-01","Snow Machining","Salcha Winter Trail- Salcha","Snow 70",null,39,{"$f":"IFERROR(VLOOKUP(D73,'Study Area Site Variable'!$B$4:$J$1240,6,FALSE),0)","v":1},{"$f":"IFERROR(VLOOKUP(D73,'Study Area Site Variable'!$B$4:$H$1240,7,FALSE),0)","v":0},0,null,"Chena River-Peger Road",4,0,0]
["2013-08-01","Snow Machining","Sheep Creek-Sheep Creek Lodge","Snow 71",null,10,{"$f":"IFERROR(VLOOKUP(D74,'Study Area Site Variable'!$B$4:$J$1240,6,FALSE),0)","v":0},{"$f":"IFERROR(VLOOKUP(D74,'Study Area Site Variable'!$B$4:$H$1240,7,FALSE),0)","v":0},0,null,"Chena River-Pikes Landing, Fairbanks",41,0,0]
["2013-08-01","Snow Machining","Shishmaref","Snow 72",null,2,{"$f":"IFERROR(VLOOKUP(D75,'Study Area Site Variable'!$B$4:$J$1240,6,FALSE),0)","v":0},{"$f":"IFERROR(VLOOKUP(D75,'Study Area Site Variable'!$B$4:$H$1240,7,FALSE),0)","v":0},0,null,"Chena River-Pioneer Park Boat Launch",4,0,0]
["2013-08-01","Snow Machining","Skwentna","Snow 73",null,1,{"$f":"IFERROR(VLOOKUP(D76,'Study Area Site Variable'!$B$4:$J$1240,6,FALSE),0)","v":0},{"$f":"IFERROR(VLOOKUP(D76,'Study Area Site Variable'!$B$4:$H$1240,7,FALSE),0)","v":0},0,null,"Chena River-Pump House put in",5,0,0]
["2013-08-01","Snow Machining","Skwentna River--Deshka Landing","Snow 74",null,61,{"$f":"IFERROR(VLOOKUP(D77,'Study Area Site Variable'!$B$4:$J$1240,6,FALSE),0)","v":1},{"$f":"IFERROR(VLOOKUP(D77,'Study Area Site Variable'!$B$4:$H$1240,7,FALSE),0)","v":0},0,null,"Chena River-Small Tracts Launch",2,0,0]
["2013-08-01","Snow Machining","Susitna North-Denali","Snow 75",null,3,{"$f":"IFERROR(VLOOKUP(D78,'Study Area Site Variable'!$B$4:$J$1240,6,FALSE),0)","v":0},{"$f":"IFERROR(VLOOKUP(D78,'Study Area Site Variable'!$B$4:$H$1240,7,FALSE),0)","v":0},0,null,"Chena River-Unspecified",17,0,0]
["2013-08-01","Snow Machining","Susitna River (Lower)- West Side Residence","Snow 76",null,2,{"$f":"IFERROR(VLOOKUP(D79,'Study Area Site Variable'!$B$4:$J$1240,6,FALSE),0)","v":0},{"$f":"IFERROR(VLOOKUP(D79,'Study Area Site Variable'!$B$4:$H$1240,7,FALSE),0)","v":0},0,null,"Chena River-Upper",15,0,0]
["2013-08-01","Snow Machining","Susitna River-Deshka Landing","Snow 77",null,36,{"$f":"IFERROR(VLOOKUP(D80,'Study Area Site Variable'!$B$4:$J$1240,6,FALSE),0)","v":1},{"$f":"IFERROR(VLOOKUP(D80,'Study Area Site Variable'!$B$4:$H$1240,7,FALSE),0)","v":1},0,null,"chena river-wendell st bridge",1,0,0]
["2013-08-01","Snow Machining","Susitna River-Susitna Landing","Snow 78",null,4,{"$f":"IFERROR(VLOOKUP(D81,'Study Area Site Variable'!$B$4:$J$1240,6,FALSE),0)","v":1},{"$f":"IFERROR(VLOOKUP(D81,'Study Area Site Variable'!$B$4:$H$1240,7,FALSE),0)","v":0},0,null,"Chena Slough-Mission Road Crossing",2,0,0]
["2013-08-01","Snow Machining","Susitna River-The Preserve","Snow 79",null,8,{"$f":"IFERROR(VLOOKUP(D82,'Study Area Site Variable'!$B$4:$J$1240,6,FALSE),0)","v":0},{"$f":"IFERROR(VLOOKUP(D82,'Study Area Site Variable'!$B$4:$H$1240,7,FALSE),0)","v":0},0,null,"Cheney Lake-Anchorage",24,0,0]
["2013-08-01","Snow Machining","Sutton","Snow 80",null,7,{"$f":"IFERROR(VLOOKUP(D83,'Study Area Site Variable'!$B$4:$J$1240,6,FALSE),0)","v":0},{"$f":"IFERROR(VLOOKUP(D83,'Study Area Site Variable'!$B$4:$H$1240,7,FALSE),0)","v":0},0,null,"Cheri Lake-Houston",10,0,0]
["2013-08-01","Snow Machining","Talkeetna Area-Talkeetna","Snow 81",null,86,{"$f":"IFERROR(VLOOKUP(D84,'Study Area Site Variable'!$B$4:$J$1240,6,FALSE),0)","v":1},{"$f":"IFERROR(VLOOKUP(D84,'Study Area Site Variable'!$B$4:$H$1240,7,FALSE),0)","v":0},18,null,"Chilkat River-Haines/Klukwan",20,0,0]
["2013-08-01","Snow Machining","Tanana Flats-Chena Pump","Snow 82",null,12,{"$f":"IFERROR(VLOOKUP(D85,'Study Area Site Variable'!$B$4:$J$1240,6,FALSE),0)","v":0},{"$f":"IFERROR(VLOOKUP(D85,'Study Area Site Variable'!$B$4:$H$1240,7,FALSE),0)","v":0},0,null,"Chiniak Bay-Kodiak",1,0,0]
["2013-08-01","Snow Machining","Taylor Mountain-Taylor Highway","Snow 83",null,7,{"$f":"IFERROR(VLOOKUP(D86,'Study Area Site Variable'!$B$4:$J$1240,6,FALSE),0)","v":0},{"$f":"IFERROR(VLOOKUP(D86,'Study Area Site Variable'!$B$4:$H$1240,7,FALSE),0)","v":0},0,null,"Christensen Lake-Talkeetna",13,13,0]
["2013-08-01","Snow Machining","Tetlin Refuge","Snow 84",null,6,{"$f":"IFERROR(VLOOKUP(D87,'Study Area Site Variable'!$B$4:$J$1240,6,FALSE),0)","v":0},{"$f":"IFERROR(VLOOKUP(D87,'Study Area Site Variable'!$B$4:$H$1240,7,FALSE),0)","v":0},0,null,"Chukchi Sea-Kotzebue",15,0,0]
["2013-08-01","Snow Machining","Thompson Pass","Snow 85",null,10,{"$f":"IFERROR(VLOOKUP(D88,'Study Area Site Variable'!$B$4:$J$1240,6,FALSE),0)","v":1},{"$f":"IFERROR(VLOOKUP(D88,'Study Area Site Variable'!$B$4:$H$1240,7,FALSE),0)","v":0},0,null,"Chulitna River,East Fork-Parks Hwy Bridge",1,1,0]
["2013-08-01","Snow Machining","Tok Area","Snow 86",null,38,{"$f":"IFERROR(VLOOKUP(D89,'Study Area Site Variable'!$B$4:$J$1240,6,FALSE),0)","v":1},{"$f":"IFERROR(VLOOKUP(D89,'Study Area Site Variable'!$B$4:$H$1240,7,FALSE),0)","v":0},0,null,"Chulitna River-Denali",1,0,0]
["2013-08-01","Snow Machining","Tolovana Hotsprings-Elliot Hwy","Snow 87",null,2,{"$f":"IFERROR(VLOOKUP(D90,'Study Area Site Variable'!$B$4:$J$1240,6,FALSE),0)","v":0},{"$f":"IFERROR(VLOOKUP(D90,'Study Area Site Variable'!$B$4:$H$1240,7,FALSE),0)","v":0},0,null,"Chulitna River-Float Plane out of Talkeetna",3,0,0]
["2013-08-01","Snow Machining","Trading Bay-West Cook Inlet","Snow 88",null,14,{"$f":"IFERROR(VLOOKUP(D91,'Study Area Site Variable'!$B$4:$J$1240,6,FALSE),0)","v":0},{"$f":"IFERROR(VLOOKUP(D91,'Study Area Site Variable'!$B$4:$H$1240,7,FALSE),0)","v":0},0,null,"Chulitna RIver-Parks Highway",14,3,2]
["2013-08-01","Snow Machining","Trapper Creek","Snow 89",null,28,{"$f":"IFERROR(VLOOKUP(D92,'Study Area Site Variable'!$B$4:$J$1240,6,FALSE),0)","v":1},{"$f":"IFERROR(VLOOKUP(D92,'Study Area Site Variable'!$B$4:$H$1240,7,FALSE),0)","v":0},0,null,"Chulitna River-Troublesome Crek",4,0,2]
["2013-08-01","Snow Machining","Turnagain Pass","Snow 90",null,90,{"$f":"IFERROR(VLOOKUP(D93,'Study Area Site Variable'!$B$4:$J$1240,6,FALSE),0)","v":1},{"$f":"IFERROR(VLOOKUP(D93,'Study Area Site Variable'!$B$4:$H$1240,7,FALSE),0)","v":0},0,null,"Clear Creek-Talkeetna",2,0,0]
["2013-08-01","Snow Machining","Uncodeable","Snow 91",null,64,{"$f":"IFERROR(VLOOKUP(D94,'Study Area Site Variable'!$B$4:$J$1240,6,FALSE),0)","v":0},{"$f":"IFERROR(VLOOKUP(D94,'Study Area Site Variable'!$B$4:$H$1240,7,FALSE),0)","v":0},0,null,"Clearwater Lake-Delta Junction",15,0,0]
["2013-08-01","Snow Machining","Wales","Snow 92",null,2,{"$f":"IFERROR(VLOOKUP(D95,'Study Area Site Variable'!$B$4:$J$1240,6,FALSE),0)","v":0},{"$f":"IFERROR(VLOOKUP(D95,'Study Area Site Variable'!$B$4:$H$1240,7,FALSE),0)","v":0},0,null,"Clearwater River-Clearwater Campground",14,0,0]
["2013-08-01","Snow Machining","Wasilla","Snow 93",null,25,{"$f":"IFERROR(VLOOKUP(D96,'Study Area Site Variable'!$B$4:$J$1240,6,FALSE),0)","v":1},{"$f":"IFERROR(VLOOKUP(D96,'Study Area Site Variable'!$B$4:$H$1240,7,FALSE),0)","v":0},0,null,"Clooney Lake-Anchorage",1,0,0]
["2013-08-01","Snow Machining","White Mountain-McKay Creek Area","Snow 94",null,6,{"$f":"IFERROR(VLOOKUP(D97,'Study Area Site Variable'!$B$4:$J$1240,6,FALSE),0)","v":0},{"$f":"IFERROR(VLOOKUP(D97,'Study Area Site Variable'!$B$4:$H$1240,7,FALSE),0)","v":0},0,null,"Colorado Lake-Broad pass",7,7,0]
["2013-08-01","Snow Machining","White Mountains-Wickersham","Snow 95",null,28,{"$f":"IFERROR(VLOOKUP(D98,'Study Area Site Variable'!$B$4:$J$1240,6,FALSE),0)","v":1},{"$f":"IFERROR(VLOOKUP(D98,'Study Area Site Variable'!$B$4:$H$1240,7,FALSE),0)","v":0},0,null,"Cook Inlet-Anchorage",5,0,0]
["2013-08-01","Snow Machining","Whittier","Snow 96",null,11,{"$f":"IFERROR(VLOOKUP(D99,'Study Area Site Variable'!$B$4:$J$1240,6,FALSE),0)","v":1},{"$f":"IFERROR(VLOOKUP(D99,'Study Area Site Variable'!$B$4:$H$1240,7,FALSE),0)","v":0},0,null,"Cook Inlet-Deep Crek",5,0,0]
["2013-08-01","Snow Machining","Willow Area Trails-Willow","Snow 97",null,92,{"$f":"IFERROR(VLOOKUP(D100,'Study Area Site Variable'!$B$4:$J$1240,6,FALSE),0)","v":1},{"$f":"IFERROR(VLOOKUP(D100,'Study Area Site Variable'!$B$4:$H$1240,7,FALSE),0)","v":0},0,null,"Cook Inlet-Homer",4,0,0]
["2013-08-01","Snow Machining","Willow Lakes","Snow 98",null,7,{"$f":"IFERROR(VLOOKUP(D101,'Study Area Site Variable'!$B$4:$J$1240,6,FALSE),0)","v":0},{"$f":"IFERROR(VLOOKUP(D101,'Study Area Site Variable'!$B$4:$H$1240,7,FALSE),0)","v":0},0,null,"Cook Inlet-Nikiski",1,0,0]
["2013-08-01","Snow Machining","Winter Trail-Quartz Lake Access","Snow 99",null,3,{"$f":"IFERROR(VLOOKUP(D102,'Study Area Site Variable'!$B$4:$J$1240,6,FALSE),0)","v":0},{"$f":"IFERROR(VLOOKUP(D102,'Study Area Site Variable'!$B$4:$H$1240,7,FALSE),0)","v":0},0,null,"Cook Inlet-Seldovia",12,0,0]
["2013-08-01","Snow Machining","Yentna to Skwentna-Yentna","Snow 100",null,7,{"$f":"IFERROR(VLOOKUP(D103,'Study Area Site Variable'!$B$4:$J$1240,6,FALSE),0)","v":1},{"$f":"IFERROR(VLOOKUP(D103,'Study Area Site Variable'!$B$4:$H$1240,7,FALSE),0)","v":0},0,null,"Cook Inlet-Tyonek",10,0,0]
["2014-05-01","Snow Machining","7 Mile Lake Trails-Skilak","Snow 1",null,0,{"$f":"IFERROR(VLOOKUP(D104,'Study Area Site Variable'!$B$4:$J$1240,6,FALSE),0)","v":0},{"$f":"IFERROR(VLOOKUP(D104,'Study Area Site Variable'!$B$4:$H$1240,7,FALSE),0)","v":0},0,null,"Cook Inlet-Unspecified",0,0,0]
["2014-05-01","Snow Machining","Badger Road-North Pole","Snow 2",null,0,{"$f":"IFERROR(VLOOKUP(D105,'Study Area Site Variable'!$B$4:$J$1240,6,FALSE),0)","v":0},{"$f":"IFERROR(VLOOKUP(D105,'Study Area Site Variable'!$B$4:$H$1240,7,FALSE),0)","v":0},0,null,"Copper lake-Slana",3,0,0]
["2014-05-01","Snow Machining","Bethel","Snow 3",null,0,{"$f":"IFERROR(VLOOKUP(D106,'Study Area Site Variable'!$B$4:$J$1240,6,FALSE),0)","v":0},{"$f":"IFERROR(VLOOKUP(D106,'Study Area Site Variable'!$B$4:$H$1240,7,FALSE),0)","v":0},0,null,"Copper River-Below Gulkana River bridge",1,0,0]
["2014-05-01","Snow Machining","Bettles","Snow 4",null,0,{"$f":"IFERROR(VLOOKUP(D107,'Study Area Site Variable'!$B$4:$J$1240,6,FALSE),0)","v":0},{"$f":"IFERROR(VLOOKUP(D107,'Study Area Site Variable'!$B$4:$H$1240,7,FALSE),0)","v":0},0,null,"Copper River-Chitina",17,0,0]
["2014-05-01","Snow Machining","Big Lake","Snow 5",null,20,{"$f":"IFERROR(VLOOKUP(D108,'Study Area Site Variable'!$B$4:$J$1240,6,FALSE),0)","v":1},{"$f":"IFERROR(VLOOKUP(D108,'Study Area Site Variable'!$B$4:$H$1240,7,FALSE),0)","v":0},0,null,"Copper River-Copper Center",11,0,0]
["2014-05-01","Snow Machining","Birch Creek-Steese Highway","Snow 6",null,0,{"$f":"IFERROR(VLOOKUP(D109,'Study Area Site Variable'!$B$4:$J$1240,6,FALSE),0)","v":0},{"$f":"IFERROR(VLOOKUP(D109,'Study Area Site Variable'!$B$4:$H$1240,7,FALSE),0)","v":0},0,null,"Copper River-New Richardson Bridge",1,0,0]
["2014-05-01","Snow Machining","Birch Lake-Delta Junction","Snow 7",null,0,{"$f":"IFERROR(VLOOKUP(D110,'Study Area Site Variable'!$B$4:$J$1240,6,FALSE),0)","v":0},{"$f":"IFERROR(VLOOKUP(D110,'Study Area Site Variable'!$B$4:$H$1240,7,FALSE),0)","v":0},0,null,"Copper River-Slana, AK",9,0,0]
["2014-05-01","Snow Machining","Cache Creek/Ester-Cache Creek","Snow 8",null,0,{"$f":"IFERROR(VLOOKUP(D111,'Study Area Site Variable'!$B$4:$J$1240,6,FALSE),0)","v":0},{"$f":"IFERROR(VLOOKUP(D111,'Study Area Site Variable'!$B$4:$H$1240,7,FALSE),0)","v":0},0,null,"Copper River-Unspecified",3,0,0]
["2014-05-01","Snow Machining","Cantwell","Snow 9",null,52,{"$f":"IFERROR(VLOOKUP(D112,'Study Area Site Variable'!$B$4:$J$1240,6,FALSE),0)","v":1},{"$f":"IFERROR(VLOOKUP(D112,'Study Area Site Variable'!$B$4:$H$1240,7,FALSE),0)","v":0},43,null,"Cornieleius Lake-Palmer",6,0,0]
["2014-05-01","Snow Machining","Canwell Glacier-Miller Creek","Snow 10",null,0,{"$f":"IFERROR(VLOOKUP(D113,'Study Area Site Variable'!$B$4:$J$1240,6,FALSE),0)","v":0},{"$f":"IFERROR(VLOOKUP(D113,'Study Area Site Variable'!$B$4:$H$1240,7,FALSE),0)","v":0},0,null,"Cottonwood Lake-Private Property",2,0,0]
["2014-05-01","Snow Machining","Chatanika-Elliot Highway","Snow 11",null,0,{"$f":"IFERROR(VLOOKUP(D114,'Study Area Site Variable'!$B$4:$J$1240,6,FALSE),0)","v":1},{"$f":"IFERROR(VLOOKUP(D114,'Study Area Site Variable'!$B$4:$H$1240,7,FALSE),0)","v":0},0,null,"Cottonwood Lake-Wasilla",63,0,0]
["2014-05-01","Snow Machining","Chena Flood Control-North Pole","Snow 12",null,0,{"$f":"IFERROR(VLOOKUP(D115,'Study Area Site Variable'!$B$4:$J$1240,6,FALSE),0)","v":1},{"$f":"IFERROR(VLOOKUP(D115,'Study Area Site Variable'!$B$4:$H$1240,7,FALSE),0)","v":0},0,null,"cranberry lake near big lake-public launch",8,0,0]
["2014-05-01","Snow Machining","Chena Hot Springs","Snow 13",null,12,{"$f":"IFERROR(VLOOKUP(D116,'Study Area Site Variable'!$B$4:$J$1240,6,FALSE),0)","v":1},{"$f":"IFERROR(VLOOKUP(D116,'Study Area Site Variable'!$B$4:$H$1240,7,FALSE),0)","v":0},0,null,"Crator Lake-Tazlina",5,0,0]
["2014-05-01","Snow Machining","Chena Lakes-North Pole","Snow 14",null,0,{"$f":"IFERROR(VLOOKUP(D117,'Study Area Site Variable'!$B$4:$J$1240,6,FALSE),0)","v":1},{"$f":"IFERROR(VLOOKUP(D117,'Study Area Site Variable'!$B$4:$H$1240,7,FALSE),0)","v":0},0,null,"Crooked Lake-Wasilla",50,0,0]
["2014-05-01","Snow Machining","Chena River State Recreation Area-North Pole","Snow 15",null,5,{"$f":"IFERROR(VLOOKUP(D118,'Study Area Site Variable'!$B$4:$J$1240,6,FALSE),0)","v":1},{"$f":"IFERROR(VLOOKUP(D118,'Study Area Site Variable'!$B$4:$H$1240,7,FALSE),0)","v":0},0,null,"Crosswind Lake-Private property",6,0,0]
["2014-05-01","Snow Machining","Chickaloon","Snow 16",null,0,{"$f":"IFERROR(VLOOKUP(D119,'Study Area Site Variable'!$B$4:$J$1240,6,FALSE),0)","v":0},{"$f":"IFERROR(VLOOKUP(D119,'Study Area Site Variable'!$B$4:$H$1240,7,FALSE),0)","v":0},0,null,"Crosswind Lake-Tulsona Glennallen Area",4,0,0]
["2014-05-01","Snow Machining","Copper River Valley-Glennallen","Snow 17",null,33,{"$f":"IFERROR(VLOOKUP(D120,'Study Area Site Variable'!$B$4:$J$1240,6,FALSE),0)","v":1},{"$f":"IFERROR(VLOOKUP(D120,'Study Area Site Variable'!$B$4:$H$1240,7,FALSE),0)","v":0},0,null,"Crystal Lake-private property",2,0,0]
["2014-05-01","Snow Machining","Denali Highway-Cantwell","Snow 18",null,7,{"$f":"IFERROR(VLOOKUP(D121,'Study Area Site Variable'!$B$4:$J$1240,6,FALSE),0)","v":0},{"$f":"IFERROR(VLOOKUP(D121,'Study Area Site Variable'!$B$4:$H$1240,7,FALSE),0)","v":0},0,null,"Crystal Lake-Willow",33,0,0]
["2014-05-01","Snow Machining","Denali Highway-Central","Snow 19",null,5,{"$f":"IFERROR(VLOOKUP(D122,'Study Area Site Variable'!$B$4:$J$1240,6,FALSE),0)","v":0},{"$f":"IFERROR(VLOOKUP(D122,'Study Area Site Variable'!$B$4:$H$1240,7,FALSE),0)","v":0},0,null,"Deep Creek-Mouth",4,0,0]
["2014-05-01","Snow Machining","Denali Highway-Paxson","Snow 20",null,35,{"$f":"IFERROR(VLOOKUP(D123,'Study Area Site Variable'!$B$4:$J$1240,6,FALSE),0)","v":1},{"$f":"IFERROR(VLOOKUP(D123,'Study Area Site Variable'!$B$4:$H$1240,7,FALSE),0)","v":0},0,null,"DeLong Lake-Anchorage",4,0,0]
["2014-05-01","Snow Machining","Denali National Park-Cantwell","Snow 21",null,0,{"$f":"IFERROR(VLOOKUP(D124,'Study Area Site Variable'!$B$4:$J$1240,6,FALSE),0)","v":0},{"$f":"IFERROR(VLOOKUP(D124,'Study Area Site Variable'!$B$4:$H$1240,7,FALSE),0)","v":0},0,null,"Delta Clearwater-Clearwater Lake",9,0,0]
["2014-05-01","Snow Machining","Drill Lake-Chickaloon","Snow 22",null,0,{"$f":"IFERROR(VLOOKUP(D125,'Study Area Site Variable'!$B$4:$J$1240,6,FALSE),0)","v":1},{"$f":"IFERROR(VLOOKUP(D125,'Study Area Site Variable'!$B$4:$H$1240,7,FALSE),0)","v":0},0,null,"Delta Clearwater-Clearwater River",42,0,0]
["2014-05-01","Snow Machining","Dry Creek SRA- Gulkana","Snow 23",null,0,{"$f":"IFERROR(VLOOKUP(D126,'Study Area Site Variable'!$B$4:$J$1240,6,FALSE),0)","v":0},{"$f":"IFERROR(VLOOKUP(D126,'Study Area Site Variable'!$B$4:$H$1240,7,FALSE),0)","v":0},0,null,"Delta River-Richardson Highway",1,0,0]
["2014-05-01","Snow Machining","Eagle River Valley","Snow 24",null,0,{"$f":"IFERROR(VLOOKUP(D127,'Study Area Site Variable'!$B$4:$J$1240,6,FALSE),0)","v":0},{"$f":"IFERROR(VLOOKUP(D127,'Study Area Site Variable'!$B$4:$H$1240,7,FALSE),0)","v":0},0,null,"Delta River-Tangle Lake Campground",11,0,0]
["2014-05-01","Snow Machining","Eureka","Snow 25",null,25,{"$f":"IFERROR(VLOOKUP(D128,'Study Area Site Variable'!$B$4:$J$1240,6,FALSE),0)","v":1},{"$f":"IFERROR(VLOOKUP(D128,'Study Area Site Variable'!$B$4:$H$1240,7,FALSE),0)","v":0},0,null,"Deshka River-Deshka Landing",28,0,2]
["2014-05-01","Snow Machining","Eyak Mountain-Cordova","Snow 26",null,0,{"$f":"IFERROR(VLOOKUP(D129,'Study Area Site Variable'!$B$4:$J$1240,6,FALSE),0)","v":0},{"$f":"IFERROR(VLOOKUP(D129,'Study Area Site Variable'!$B$4:$H$1240,7,FALSE),0)","v":0},0,null,"Doly Varden Lake-Kenai",1,0,0]
["2014-05-01","Snow Machining","Fairbanks","Snow 27",null,33,{"$f":"IFERROR(VLOOKUP(D130,'Study Area Site Variable'!$B$4:$J$1240,6,FALSE),0)","v":1},{"$f":"IFERROR(VLOOKUP(D130,'Study Area Site Variable'!$B$4:$H$1240,7,FALSE),0)","v":0},0,null,"Drashner Lake-Cantwell",2,0,0]
["2014-05-01","Snow Machining","Forgotten Lake--Lake Louise","Snow 28",null,0,{"$f":"IFERROR(VLOOKUP(D131,'Study Area Site Variable'!$B$4:$J$1240,6,FALSE),0)","v":0},{"$f":"IFERROR(VLOOKUP(D131,'Study Area Site Variable'!$B$4:$H$1240,7,FALSE),0)","v":0},0,null,"Drill Lake-Chickaloon",17,0,0]
["2014-05-01","Snow Machining","Funny River Road-Kenai","Snow 29",null,0,{"$f":"IFERROR(VLOOKUP(D132,'Study Area Site Variable'!$B$4:$J$1240,6,FALSE),0)","v":0},{"$f":"IFERROR(VLOOKUP(D132,'Study Area Site Variable'!$B$4:$H$1240,7,FALSE),0)","v":0},0,null,"Dutch Harbor-Dutch Harbor",6,0,0]
["2014-05-01","Snow Machining","Gakona","Snow 30",null,3,{"$f":"IFERROR(VLOOKUP(D133,'Study Area Site Variable'!$B$4:$J$1240,6,FALSE),0)","v":0},{"$f":"IFERROR(VLOOKUP(D133,'Study Area Site Variable'!$B$4:$H$1240,7,FALSE),0)","v":0},0,null,"Eagle RIver-Eagle River",31,0,0]
["2014-05-01","Snow Machining","Girdwood","Snow 31",null,0,{"$f":"IFERROR(VLOOKUP(D134,'Study Area Site Variable'!$B$4:$J$1240,6,FALSE),0)","v":0},{"$f":"IFERROR(VLOOKUP(D134,'Study Area Site Variable'!$B$4:$H$1240,7,FALSE),0)","v":0},0,null,"East Fork Susitna River-Valdez Creek",2,0,0]
["2014-05-01","Snow Machining","Gunsight Mountain","Snow 32",null,0,{"$f":"IFERROR(VLOOKUP(D135,'Study Area Site Variable'!$B$4:$J$1240,6,FALSE),0)","v":0},{"$f":"IFERROR(VLOOKUP(D135,'Study Area Site Variable'!$B$4:$H$1240,7,FALSE),0)","v":0},0,null,"Echo Lake-Anchorage",13,0,0]
["2014-05-01","Snow Machining","Harding Lake Trails--Salcha Drive","Snow 33",null,0,{"$f":"IFERROR(VLOOKUP(D136,'Study Area Site Variable'!$B$4:$J$1240,6,FALSE),0)","v":0},{"$f":"IFERROR(VLOOKUP(D136,'Study Area Site Variable'!$B$4:$H$1240,7,FALSE),0)","v":0},0,null,"Eight Mile Lake-Denali Highway",1,1,0]
["2014-05-01","Snow Machining","Hatcher Pass-Palmer Side","Snow 34",null,9,{"$f":"IFERROR(VLOOKUP(D137,'Study Area Site Variable'!$B$4:$J$1240,6,FALSE),0)","v":1},{"$f":"IFERROR(VLOOKUP(D137,'Study Area Site Variable'!$B$4:$H$1240,7,FALSE),0)","v":0},0,null,"Eklutna Lake-Eklutna Campground",32,0,0]
["2014-05-01","Snow Machining","Hatcher Pass-Unspecified","Snow 35",null,1,{"$f":"IFERROR(VLOOKUP(D138,'Study Area Site Variable'!$B$4:$J$1240,6,FALSE),0)","v":0},{"$f":"IFERROR(VLOOKUP(D138,'Study Area Site Variable'!$B$4:$H$1240,7,FALSE),0)","v":0},0,null,"Eyak River-Boat Launch",1,0,0]
["2014-05-01","Snow Machining","Hatcher Pass-Willow Side","Snow 36",null,2,{"$f":"IFERROR(VLOOKUP(D139,'Study Area Site Variable'!$B$4:$J$1240,6,FALSE),0)","v":1},{"$f":"IFERROR(VLOOKUP(D139,'Study Area Site Variable'!$B$4:$H$1240,7,FALSE),0)","v":0},0,null,"Fielding Lake- Fielding Lake State Recreation Area",3,0,0]
["2014-05-01","Snow Machining","Healy Lake--Cummings Rd","Snow 37",null,0,{"$f":"IFERROR(VLOOKUP(D140,'Study Area Site Variable'!$B$4:$J$1240,6,FALSE),0)","v":0},{"$f":"IFERROR(VLOOKUP(D140,'Study Area Site Variable'!$B$4:$H$1240,7,FALSE),0)","v":0},0,null,"Finger Lake- Finger Lake SRS",119,7,0]
["2014-05-01","Snow Machining","Hoodoo Mountains-Paxson","Snow 38",null,28,{"$f":"IFERROR(VLOOKUP(D141,'Study Area Site Variable'!$B$4:$J$1240,6,FALSE),0)","v":1},{"$f":"IFERROR(VLOOKUP(D141,'Study Area Site Variable'!$B$4:$H$1240,7,FALSE),0)","v":0},0,null,"Finger Lake- Private Property",10,0,0]
["2014-05-01","Snow Machining","Houston","Snow 39",null,0,{"$f":"IFERROR(VLOOKUP(D142,'Study Area Site Variable'!$B$4:$J$1240,6,FALSE),0)","v":0},{"$f":"IFERROR(VLOOKUP(D142,'Study Area Site Variable'!$B$4:$H$1240,7,FALSE),0)","v":0},0,null,"Fire Lake- Eagle River",24,0,0]
["2014-05-01","Snow Machining","Johnson Pass-Kenai Peninsula","Snow 40",null,0,{"$f":"IFERROR(VLOOKUP(D143,'Study Area Site Variable'!$B$4:$J$1240,6,FALSE),0)","v":0},{"$f":"IFERROR(VLOOKUP(D143,'Study Area Site Variable'!$B$4:$H$1240,7,FALSE),0)","v":0},0,null,"Fire Lake- Eagle River Private Residence",6,0,0]
["2014-05-01","Snow Machining","Kashwitna River-Eagles Nest","Snow 41",null,0,{"$f":"IFERROR(VLOOKUP(D144,'Study Area Site Variable'!$B$4:$J$1240,6,FALSE),0)","v":0},{"$f":"IFERROR(VLOOKUP(D144,'Study Area Site Variable'!$B$4:$H$1240,7,FALSE),0)","v":0},0,null,"Flat Lake-Big Lake",23,0,0]
["2014-05-01","Snow Machining","Kenai-Unspecified","Snow 42",null,0,{"$f":"IFERROR(VLOOKUP(D145,'Study Area Site Variable'!$B$4:$J$1240,6,FALSE),0)","v":0},{"$f":"IFERROR(VLOOKUP(D145,'Study Area Site Variable'!$B$4:$H$1240,7,FALSE),0)","v":0},0,null,"Florence Lake-Willow",10,0,0]
["2014-05-01","Snow Machining","King River","Snow 43",null,0,{"$f":"IFERROR(VLOOKUP(D146,'Study Area Site Variable'!$B$4:$J$1240,6,FALSE),0)","v":1},{"$f":"IFERROR(VLOOKUP(D146,'Study Area Site Variable'!$B$4:$H$1240,7,FALSE),0)","v":0},0,null,"Fortymile River South Fork -S Fork boat launch off Taylor Hwy",6,0,0]
["2014-05-01","Snow Machining","Klutina Lake","Snow 44",null,0,{"$f":"IFERROR(VLOOKUP(D147,'Study Area Site Variable'!$B$4:$J$1240,6,FALSE),0)","v":0},{"$f":"IFERROR(VLOOKUP(D147,'Study Area Site Variable'!$B$4:$H$1240,7,FALSE),0)","v":0},0,null,"Gakona River-Richardson Hwy, mile 154",2,0,0]
["2014-05-01","Snow Machining","Knik Goose Bay Road","Snow 45",null,5,{"$f":"IFERROR(VLOOKUP(D148,'Study Area Site Variable'!$B$4:$J$1240,6,FALSE),0)","v":0},{"$f":"IFERROR(VLOOKUP(D148,'Study Area Site Variable'!$B$4:$H$1240,7,FALSE),0)","v":0},0,null,"Gastineau Channel-Juneau",2,0,0]
["2014-05-01","Snow Machining","Knik River","Snow 46",null,3,{"$f":"IFERROR(VLOOKUP(D149,'Study Area Site Variable'!$B$4:$J$1240,6,FALSE),0)","v":0},{"$f":"IFERROR(VLOOKUP(D149,'Study Area Site Variable'!$B$4:$H$1240,7,FALSE),0)","v":0},0,null,"George Lake-AK Highway Landing East of Tanana River Bridge",6,0,0]
["2014-05-01","Snow Machining","Lake Louise","Snow 47",null,100,{"$f":"IFERROR(VLOOKUP(D150,'Study Area Site Variable'!$B$4:$J$1240,6,FALSE),0)","v":1},{"$f":"IFERROR(VLOOKUP(D150,'Study Area Site Variable'!$B$4:$H$1240,7,FALSE),0)","v":0},65,null,"Glacier Creek-Girdwood",3,0,0]
["2014-05-01","Snow Machining","Long Lake--Willow","Snow 48",null,1,{"$f":"IFERROR(VLOOKUP(D151,'Study Area Site Variable'!$B$4:$J$1240,6,FALSE),0)","v":0},{"$f":"IFERROR(VLOOKUP(D151,'Study Area Site Variable'!$B$4:$H$1240,7,FALSE),0)","v":0},0,null,"Good Paster River-Tanana River Boat Launch",8,0,0]
["2014-05-01","Snow Machining","Loss Lake--Cooper Landing","Snow 49",null,0,{"$f":"IFERROR(VLOOKUP(D152,'Study Area Site Variable'!$B$4:$J$1240,6,FALSE),0)","v":0},{"$f":"IFERROR(VLOOKUP(D152,'Study Area Site Variable'!$B$4:$H$1240,7,FALSE),0)","v":0},0,null,"Good Pasture-Delta Bridge",7,0,0]
["2014-05-01","Snow Machining","Lost Lake Trail-Seward","Snow 50",null,2,{"$f":"IFERROR(VLOOKUP(D153,'Study Area Site Variable'!$B$4:$J$1240,6,FALSE),0)","v":1},{"$f":"IFERROR(VLOOKUP(D153,'Study Area Site Variable'!$B$4:$H$1240,7,FALSE),0)","v":0},0,null,"Goodnews Lake-Dillingham",14,0,0]
["2014-05-01","Snow Machining","Manley Hot Springs","Snow 51",null,0,{"$f":"IFERROR(VLOOKUP(D154,'Study Area Site Variable'!$B$4:$J$1240,6,FALSE),0)","v":1},{"$f":"IFERROR(VLOOKUP(D154,'Study Area Site Variable'!$B$4:$H$1240,7,FALSE),0)","v":0},0,null,"Goodpaster River-Big Delta boat launch",10,0,0]
["2014-05-01","Snow Machining","Matanuska River","Snow 52",null,0,{"$f":"IFERROR(VLOOKUP(D155,'Study Area Site Variable'!$B$4:$J$1240,6,FALSE),0)","v":0},{"$f":"IFERROR(VLOOKUP(D155,'Study Area Site Variable'!$B$4:$H$1240,7,FALSE),0)","v":0},0,null,"Goose Lake-Anchorage",2,0,0]
["2014-05-01","Snow Machining","McCarthy","Snow 53",null,0,{"$f":"IFERROR(VLOOKUP(D156,'Study Area Site Variable'!$B$4:$J$1240,6,FALSE),0)","v":0},{"$f":"IFERROR(VLOOKUP(D156,'Study Area Site Variable'!$B$4:$H$1240,7,FALSE),0)","v":0},0,null,"Granite Creek-Kenai",1,0,0]
["2014-05-01","Snow Machining","Meadow Lakes-Wasilla","Snow 54",null,0,{"$f":"IFERROR(VLOOKUP(D157,'Study Area Site Variable'!$B$4:$J$1240,6,FALSE),0)","v":0},{"$f":"IFERROR(VLOOKUP(D157,'Study Area Site Variable'!$B$4:$H$1240,7,FALSE),0)","v":0},0,null,"Gravel Lake-Salcha",2,0,0]
["2014-05-01","Snow Machining","Mt. Baldy-Shrock Road","Snow 55",null,0,{"$f":"IFERROR(VLOOKUP(D158,'Study Area Site Variable'!$B$4:$J$1240,6,FALSE),0)","v":0},{"$f":"IFERROR(VLOOKUP(D158,'Study Area Site Variable'!$B$4:$H$1240,7,FALSE),0)","v":0},0,null,"Gulf of Alaska ",64,0,0]
["2014-05-01","Snow Machining","Murphy Dome-Murphy Dome Road","Snow 56",null,0,{"$f":"IFERROR(VLOOKUP(D159,'Study Area Site Variable'!$B$4:$J$1240,6,FALSE),0)","v":0},{"$f":"IFERROR(VLOOKUP(D159,'Study Area Site Variable'!$B$4:$H$1240,7,FALSE),0)","v":0},0,null,"Gulf of Alaska-Juneau",4,0,0]
["2014-05-01","Snow Machining","Nabesna Area","Snow 57",null,0,{"$f":"IFERROR(VLOOKUP(D160,'Study Area Site Variable'!$B$4:$J$1240,6,FALSE),0)","v":0},{"$f":"IFERROR(VLOOKUP(D160,'Study Area Site Variable'!$B$4:$H$1240,7,FALSE),0)","v":0},0,null,"Gulf of Alaska-Sand Point",5,0,0]
["2014-05-01","Snow Machining","Nancy Lakes","Snow 58",null,1,{"$f":"IFERROR(VLOOKUP(D161,'Study Area Site Variable'!$B$4:$J$1240,6,FALSE),0)","v":1},{"$f":"IFERROR(VLOOKUP(D161,'Study Area Site Variable'!$B$4:$H$1240,7,FALSE),0)","v":0},0,null,"Gulf of Alaska-Whittier",1,0,0]
["2014-05-01","Snow Machining","Nenana","Snow 59",null,3,{"$f":"IFERROR(VLOOKUP(D162,'Study Area Site Variable'!$B$4:$J$1240,6,FALSE),0)","v":0},{"$f":"IFERROR(VLOOKUP(D162,'Study Area Site Variable'!$B$4:$H$1240,7,FALSE),0)","v":0},0,null,"Gulkana River-Gakona",3,0,0]
["2014-05-01","Snow Machining","Palmer","Snow 60",null,48,{"$f":"IFERROR(VLOOKUP(D163,'Study Area Site Variable'!$B$4:$J$1240,6,FALSE),0)","v":1},{"$f":"IFERROR(VLOOKUP(D163,'Study Area Site Variable'!$B$4:$H$1240,7,FALSE),0)","v":0},0,null,"Gulkana River-Glenallen",5,0,0]
["2014-05-01","Snow Machining","Paxson Lake--Pipeline Access Road","Snow 61",null,0,{"$f":"IFERROR(VLOOKUP(D164,'Study Area Site Variable'!$B$4:$J$1240,6,FALSE),0)","v":0},{"$f":"IFERROR(VLOOKUP(D164,'Study Area Site Variable'!$B$4:$H$1240,7,FALSE),0)","v":0},0,null,"Gulkana River-Gulkana",7,0,0]
["2014-05-01","Snow Machining","Petersville-East Susitna Side","Snow 62",null,0,{"$f":"IFERROR(VLOOKUP(D165,'Study Area Site Variable'!$B$4:$J$1240,6,FALSE),0)","v":0},{"$f":"IFERROR(VLOOKUP(D165,'Study Area Site Variable'!$B$4:$H$1240,7,FALSE),0)","v":0},0,null,"gulkana river-paxson",6,0,0]
["2014-05-01","Snow Machining","Petersville-Talkeetna","Snow 63",null,2,{"$f":"IFERROR(VLOOKUP(D166,'Study Area Site Variable'!$B$4:$J$1240,6,FALSE),0)","v":0},{"$f":"IFERROR(VLOOKUP(D166,'Study Area Site Variable'!$B$4:$H$1240,7,FALSE),0)","v":0},0,null,"Gulkana River-Paxson Lake",46,0,0]
["2014-05-01","Snow Machining","Petersville-West Susitna Side","Snow 64",null,203,{"$f":"IFERROR(VLOOKUP(D167,'Study Area Site Variable'!$B$4:$J$1240,6,FALSE),0)","v":1},{"$f":"IFERROR(VLOOKUP(D167,'Study Area Site Variable'!$B$4:$H$1240,7,FALSE),0)","v":0},59,null,"Gulkana River-Poplar grove, Richardson Hwy",1,0,0]
["2014-05-01","Snow Machining","Portage/Placer Rivers","Snow 65",null,4,{"$f":"IFERROR(VLOOKUP(D168,'Study Area Site Variable'!$B$4:$J$1240,6,FALSE),0)","v":1},{"$f":"IFERROR(VLOOKUP(D168,'Study Area Site Variable'!$B$4:$H$1240,7,FALSE),0)","v":0},0,null,"Gulkana River-Sailor's Pit",9,0,0]
["2014-05-01","Snow Machining","Powerline Pass- Glen Alps Anchorage","Snow 66",null,0,{"$f":"IFERROR(VLOOKUP(D169,'Study Area Site Variable'!$B$4:$J$1240,6,FALSE),0)","v":0},{"$f":"IFERROR(VLOOKUP(D169,'Study Area Site Variable'!$B$4:$H$1240,7,FALSE),0)","v":0},0,null,"Gulkana River-Sourdough BLM",30,0,0]
["2014-05-01","Snow Machining","Quartz Lake Winter Trail- Valdez","Snow 67",null,0,{"$f":"IFERROR(VLOOKUP(D170,'Study Area Site Variable'!$B$4:$J$1240,6,FALSE),0)","v":0},{"$f":"IFERROR(VLOOKUP(D170,'Study Area Site Variable'!$B$4:$H$1240,7,FALSE),0)","v":0},0,null,"gulkana river-summit lake",9,0,0]
["2014-05-01","Snow Machining","Resurrection Pass Trail-Cooper Landing","Snow 68",null,0,{"$f":"IFERROR(VLOOKUP(D171,'Study Area Site Variable'!$B$4:$J$1240,6,FALSE),0)","v":1},{"$f":"IFERROR(VLOOKUP(D171,'Study Area Site Variable'!$B$4:$H$1240,7,FALSE),0)","v":0},0,null,"Halibut Cove-Halibut Cove",2,0,0]
["2014-05-01","Snow Machining","Rex Trail- Nenana","Snow 69",null,0,{"$f":"IFERROR(VLOOKUP(D172,'Study Area Site Variable'!$B$4:$J$1240,6,FALSE),0)","v":1},{"$f":"IFERROR(VLOOKUP(D172,'Study Area Site Variable'!$B$4:$H$1240,7,FALSE),0)","v":0},0,null,"Happy River-Fly-in",8,0,0]
["2014-05-01","Snow Machining","Salcha Winter Trail- Salcha","Snow 70",null,0,{"$f":"IFERROR(VLOOKUP(D173,'Study Area Site Variable'!$B$4:$J$1240,6,FALSE),0)","v":1},{"$f":"IFERROR(VLOOKUP(D173,'Study Area Site Variable'!$B$4:$H$1240,7,FALSE),0)","v":0},0,null,"Harding Lake-Fairbanks",185,0,0]
["2014-05-01","Snow Machining","Sheep Creek-Sheep Creek Lodge","Snow 71",null,0,{"$f":"IFERROR(VLOOKUP(D174,'Study Area Site Variable'!$B$4:$J$1240,6,FALSE),0)","v":0},{"$f":"IFERROR(VLOOKUP(D174,'Study Area Site Variable'!$B$4:$H$1240,7,FALSE),0)","v":0},0,null,"Healy Lake-Cummings Rd",4,0,0]
["2014-05-01","Snow Machining","Shishmaref","Snow 72",null,0,{"$f":"IFERROR(VLOOKUP(D175,'Study Area Site Variable'!$B$4:$J$1240,6,FALSE),0)","v":0},{"$f":"IFERROR(VLOOKUP(D175,'Study Area Site Variable'!$B$4:$H$1240,7,FALSE),0)","v":0},0,null,"Healy Lake-Unspecified",0,0,0]
["2014-05-01","Snow Machining","Skwentna","Snow 73",null,0,{"$f":"IFERROR(VLOOKUP(D176,'Study Area Site Variable'!$B$4:$J$1240,6,FALSE),0)","v":0},{"$f":"IFERROR(VLOOKUP(D176,'Study Area Site Variable'!$B$4:$H$1240,7,FALSE),0)","v":0},0,null,"Hidden Lake-Cooper Landing",3,0,0]
["2014-05-01","Snow Machining","Skwentna River--Deshka Landing","Snow 74",null,5,{"$f":"IFERROR(VLOOKUP(D177,'Study Area Site Variable'!$B$4:$J$1240,6,FALSE),0)","v":1},{"$f":"IFERROR(VLOOKUP(D177,'Study Area Site Variable'!$B$4:$H$1240,7,FALSE),0)","v":0},0,null,"Hidden Lake-Kenai",4,0,0]
["2014-05-01","Snow Machining","Susitna North-Denali","Snow 75",null,0,{"$f":"IFERROR(VLOOKUP(D178,'Study Area Site Variable'!$B$4:$J$1240,6,FALSE),0)","v":0},{"$f":"IFERROR(VLOOKUP(D178,'Study Area Site Variable'!$B$4:$H$1240,7,FALSE),0)","v":0},0,null,"High Lake-Personal dock",2,2,0]
["2014-05-01","Snow Machining","Susitna River (Lower)- West Side Residence","Snow 76",null,0,{"$f":"IFERROR(VLOOKUP(D179,'Study Area Site Variable'!$B$4:$J$1240,6,FALSE),0)","v":0},{"$f":"IFERROR(VLOOKUP(D179,'Study Area Site Variable'!$B$4:$H$1240,7,FALSE),0)","v":0},0,null,"Honeybee Lake-Willow",20,0,0]
["2014-05-01","Snow Machining","Susitna River-Deshka Landing","Snow 77",null,0,{"$f":"IFERROR(VLOOKUP(D180,'Study Area Site Variable'!$B$4:$J$1240,6,FALSE),0)","v":1},{"$f":"IFERROR(VLOOKUP(D180,'Study Area Site Variable'!$B$4:$H$1240,7,FALSE),0)","v":1},0,null,"Horseshoe Lake-Houston",8,0,0]
["2014-05-01","Snow Machining","Susitna River-Susitna Landing","Snow 78",null,0,{"$f":"IFERROR(VLOOKUP(D181,'Study Area Site Variable'!$B$4:$J$1240,6,FALSE),0)","v":1},{"$f":"IFERROR(VLOOKUP(D181,'Study Area Site Variable'!$B$4:$H$1240,7,FALSE),0)","v":0},0,null,"Hulahula River-Walked from Sadlerochit River",1,0,0]
["2014-05-01","Snow Machining","Susitna River-The Preserve","Snow 79",null,0,{"$f":"IFERROR(VLOOKUP(D182,'Study Area Site Variable'!$B$4:$J$1240,6,FALSE),0)","v":0},{"$f":"IFERROR(VLOOKUP(D182,'Study Area Site Variable'!$B$4:$H$1240,7,FALSE),0)","v":0},0,null,"Icy Straits-Hoonah",3,0,0]
["2014-05-01","Snow Machining","Sutton","Snow 80",null,0,{"$f":"IFERROR(VLOOKUP(D183,'Study Area Site Variable'!$B$4:$J$1240,6,FALSE),0)","v":0},{"$f":"IFERROR(VLOOKUP(D183,'Study Area Site Variable'!$B$4:$H$1240,7,FALSE),0)","v":0},0,null,"Ingram Creek-Seward Hwy",1,0,0]
["2014-05-01","Snow Machining","Talkeetna Area-Talkeetna","Snow 81",null,82,{"$f":"IFERROR(VLOOKUP(D184,'Study Area Site Variable'!$B$4:$J$1240,6,FALSE),0)","v":1},{"$f":"IFERROR(VLOOKUP(D184,'Study Area Site Variable'!$B$4:$H$1240,7,FALSE),0)","v":0},75,null,"Innoko River-Shageluk",10,0,0]
["2014-05-01","Snow Machining","Tanana Flats-Chena Pump","Snow 82",null,0,{"$f":"IFERROR(VLOOKUP(D185,'Study Area Site Variable'!$B$4:$J$1240,6,FALSE),0)","v":0},{"$f":"IFERROR(VLOOKUP(D185,'Study Area Site Variable'!$B$4:$H$1240,7,FALSE),0)","v":0},0,null,"Inside Passage-Cruise Ship Vancouver",8,0,0]
["2014-05-01","Snow Machining","Taylor Mountain-Taylor Highway","Snow 83",null,0,{"$f":"IFERROR(VLOOKUP(D186,'Study Area Site Variable'!$B$4:$J$1240,6,FALSE),0)","v":0},{"$f":"IFERROR(VLOOKUP(D186,'Study Area Site Variable'!$B$4:$H$1240,7,FALSE),0)","v":0},0,null,"J.H. Lake-Kantishna River",6,0,0]
["2014-05-01","Snow Machining","Tetlin Refuge","Snow 84",null,0,{"$f":"IFERROR(VLOOKUP(D187,'Study Area Site Variable'!$B$4:$J$1240,6,FALSE),0)","v":0},{"$f":"IFERROR(VLOOKUP(D187,'Study Area Site Variable'!$B$4:$H$1240,7,FALSE),0)","v":0},0,null,"Jack River-Cantwell",7,1,0]
["2014-05-01","Snow Machining","Thompson Pass","Snow 85",null,6,{"$f":"IFERROR(VLOOKUP(D188,'Study Area Site Variable'!$B$4:$J$1240,6,FALSE),0)","v":1},{"$f":"IFERROR(VLOOKUP(D188,'Study Area Site Variable'!$B$4:$H$1240,7,FALSE),0)","v":0},0,null,"Jewel Lake-Anchorage",13,0,0]
["2014-05-01","Snow Machining","Tok Area","Snow 86",null,17,{"$f":"IFERROR(VLOOKUP(D189,'Study Area Site Variable'!$B$4:$J$1240,6,FALSE),0)","v":1},{"$f":"IFERROR(VLOOKUP(D189,'Study Area Site Variable'!$B$4:$H$1240,7,FALSE),0)","v":0},0,null,"Jim Creek-Mat Su",7,0,0]
["2014-05-01","Snow Machining","Tolovana Hotsprings-Elliot Hwy","Snow 87",null,0,{"$f":"IFERROR(VLOOKUP(D190,'Study Area Site Variable'!$B$4:$J$1240,6,FALSE),0)","v":0},{"$f":"IFERROR(VLOOKUP(D190,'Study Area Site Variable'!$B$4:$H$1240,7,FALSE),0)","v":0},0,null,"Kachemak Bay- Homer",385,0,0]
["2014-05-01","Snow Machining","Trading Bay-West Cook Inlet","Snow 88",null,0,{"$f":"IFERROR(VLOOKUP(D191,'Study Area Site Variable'!$B$4:$J$1240,6,FALSE),0)","v":0},{"$f":"IFERROR(VLOOKUP(D191,'Study Area Site Variable'!$B$4:$H$1240,7,FALSE),0)","v":0},0,null,"Kachemak Bay-Seldovia",19,0,0]
["2014-05-01","Snow Machining","Trapper Creek","Snow 89",null,70,{"$f":"IFERROR(VLOOKUP(D192,'Study Area Site Variable'!$B$4:$J$1240,6,FALSE),0)","v":1},{"$f":"IFERROR(VLOOKUP(D192,'Study Area Site Variable'!$B$4:$H$1240,7,FALSE),0)","v":0},20,null,"Kake-SE Alaska",3,0,0]
["2014-05-01","Snow Machining","Turnagain Pass","Snow 90",null,20,{"$f":"IFERROR(VLOOKUP(D193,'Study Area Site Variable'!$B$4:$J$1240,6,FALSE),0)","v":1},{"$f":"IFERROR(VLOOKUP(D193,'Study Area Site Variable'!$B$4:$H$1240,7,FALSE),0)","v":0},3,null,"Kaktovik Lagoon-crossed to Barter Island, narrowest point",1,0,0]
["2014-05-01","Snow Machining","Uncodeable","Snow 91",null,5,{"$f":"IFERROR(VLOOKUP(D194,'Study Area Site Variable'!$B$4:$J$1240,6,FALSE),0)","v":0},{"$f":"IFERROR(VLOOKUP(D194,'Study Area Site Variable'!$B$4:$H$1240,7,FALSE),0)","v":0},3,null,"Kalmbach Lake-Wasilla",2,0,0]
["2014-05-01","Snow Machining","Wales","Snow 92",null,0,{"$f":"IFERROR(VLOOKUP(D195,'Study Area Site Variable'!$B$4:$J$1240,6,FALSE),0)","v":0},{"$f":"IFERROR(VLOOKUP(D195,'Study Area Site Variable'!$B$4:$H$1240,7,FALSE),0)","v":0},0,null,"Kasilof River-Sterling Highway",1,0,0]
["2014-05-01","Snow Machining","Wasilla","Snow 93",null,1,{"$f":"IFERROR(VLOOKUP(D196,'Study Area Site Variable'!$B$4:$J$1240,6,FALSE),0)","v":1},{"$f":"IFERROR(VLOOKUP(D196,'Study Area Site Variable'!$B$4:$H$1240,7,FALSE),0)","v":0},0,null,"Katie Lake-Talkeetna",32,0,0]
["2014-05-01","Snow Machining","White Mountain-McKay Creek Area","Snow 94",null,0,{"$f":"IFERROR(VLOOKUP(D197,'Study Area Site Variable'!$B$4:$J$1240,6,FALSE),0)","v":0},{"$f":"IFERROR(VLOOKUP(D197,'Study Area Site Variable'!$B$4:$H$1240,7,FALSE),0)","v":0},0,null,"Katmai-Saboniski Loop",8,0,0]
["2014-05-01","Snow Machining","White Mountains-Wickersham","Snow 95",null,0,{"$f":"IFERROR(VLOOKUP(D198,'Study Area Site Variable'!$B$4:$J$1240,6,FALSE),0)","v":1},{"$f":"IFERROR(VLOOKUP(D198,'Study Area Site Variable'!$B$4:$H$1240,7,FALSE),0)","v":0},0,null,"Kelly Lake-Kenai",3,0,0]
["2014-05-01","Snow Machining","Whittier","Snow 96",null,5,{"$f":"IFERROR(VLOOKUP(D199,'Study Area Site Variable'!$B$4:$J$1240,6,FALSE),0)","v":1},{"$f":"IFERROR(VLOOKUP(D199,'Study Area Site Variable'!$B$4:$H$1240,7,FALSE),0)","v":0},0,null,"Kenai Canoe Trails-Swanson River",3,0,0]
["2014-05-01","Snow Machining","Willow Area Trails-Willow","Snow 97",null,48,{"$f":"IFERROR(VLOOKUP(D200,'Study Area Site Variable'!$B$4:$J$1240,6,FALSE),0)","v":1},{"$f":"IFERROR(VLOOKUP(D200,'Study Area Site Variable'!$B$4:$H$1240,7,FALSE),0)","v":0},0,null,"Kenai Lake-Cooper Landing",63,0,0]
["2014-05-01","Snow Machining","Willow Lakes","Snow 98",null,0,{"$f":"IFERROR(VLOOKUP(D201,'Study Area Site Variable'!$B$4:$J$1240,6,FALSE),0)","v":0},{"$f":"IFERROR(VLOOKUP(D201,'Study Area Site Variable'!$B$4:$H$1240,7,FALSE),0)","v":0},0,null,"Kenai Lake-Quartz Creek",1,0,0]
["2014-05-01","Snow Machining","Winter Trail-Quartz Lake Access","Snow 99",null,0,{"$f":"IFERROR(VLOOKUP(D202,'Study Area Site Variable'!$B$4:$J$1240,6,FALSE),0)","v":0},{"$f":"IFERROR(VLOOKUP(D202,'Study Area Site Variable'!$B$4:$H$1240,7,FALSE),0)","v":0},0,null,"Kenai Lakes-Unspecified",29,0,0]
["2014-05-01","Snow Machining","Yentna to Skwentna-Yentna","Snow 100",null,9,{"$f":"IFERROR(VLOOKUP(D203,'Study Area Site Variable'!$B$4:$J$1240,6,FALSE),0)","v":1},{"$f":"IFERROR(VLOOKUP(D203,'Study Area Site Variable'!$B$4:$H$1240,7,FALSE),0)","v":0},0,null,"Kenai Lake-Trail River",1,0,0]
["2014-05-01","Snow Machining","Anchorage","Snow 101",null,11,{"$f":"IFERROR(VLOOKUP(D204,'Study Area Site Variable'!$B$4:$J$1240,6,FALSE),0)","v":0},{"$f":"IFERROR(VLOOKUP(D204,'Study Area Site Variable'!$B$4:$H$1240,7,FALSE),0)","v":0},0,null,"Kenai River- Kenai",10,0,0]
["2014-05-01","Snow Machining","Delta Junction","Snow 102",null,1,{"$f":"IFERROR(VLOOKUP(D205,'Study Area Site Variable'!$B$4:$J$1240,6,FALSE),0)","v":0},{"$f":"IFERROR(VLOOKUP(D205,'Study Area Site Variable'!$B$4:$H$1240,7,FALSE),0)","v":0},0,null,"Kenai River-Bings Landing",17,0,0]
["2014-05-01","Snow Machining","Parks Highway--Byers Lake","Snow 103",null,30,{"$f":"IFERROR(VLOOKUP(D206,'Study Area Site Variable'!$B$4:$J$1240,6,FALSE),0)","v":1},{"$f":"IFERROR(VLOOKUP(D206,'Study Area Site Variable'!$B$4:$H$1240,7,FALSE),0)","v":0},30,null,"Kenai River-Cooper Landing Boat Launch",50,0,0]
["2014-05-01","Snow Machining","Point Mackenzie","Snow 104",null,6,{"$f":"IFERROR(VLOOKUP(D207,'Study Area Site Variable'!$B$4:$J$1240,6,FALSE),0)","v":0},{"$f":"IFERROR(VLOOKUP(D207,'Study Area Site Variable'!$B$4:$H$1240,7,FALSE),0)","v":0},0,null,"Kenai River-Funny River",1,0,0]
["2014-05-01","Snow Machining","Kodiak","Snow 105",null,1,{"$f":"IFERROR(VLOOKUP(D208,'Study Area Site Variable'!$B$4:$J$1240,6,FALSE),0)","v":0},{"$f":"IFERROR(VLOOKUP(D208,'Study Area Site Variable'!$B$4:$H$1240,7,FALSE),0)","v":0},0,null,"Kenai River-Grown Point",2,0,0]
["2014-05-01","Snow Machining","Norton Sound--Shaktoolik","Snow 106",null,42,{"$f":"IFERROR(VLOOKUP(D209,'Study Area Site Variable'!$B$4:$J$1240,6,FALSE),0)","v":0},{"$f":"IFERROR(VLOOKUP(D209,'Study Area Site Variable'!$B$4:$H$1240,7,FALSE),0)","v":0},0,null,"Kenai River-Izaak Walton",2,0,0]
["2014-05-01","Snow Machining","Tonsina","Snow 107",null,16,{"$f":"IFERROR(VLOOKUP(D210,'Study Area Site Variable'!$B$4:$J$1240,6,FALSE),0)","v":1},{"$f":"IFERROR(VLOOKUP(D210,'Study Area Site Variable'!$B$4:$H$1240,7,FALSE),0)","v":0},0,null,"Kenai River-Jims Landing",3,0,0]
["2014-05-01","Snow Machining","Fairbanks-Wickersham Trailhead","Snow 108",null,3,{"$f":"IFERROR(VLOOKUP(D211,'Study Area Site Variable'!$B$4:$J$1240,6,FALSE),0)","v":0},{"$f":"IFERROR(VLOOKUP(D211,'Study Area Site Variable'!$B$4:$H$1240,7,FALSE),0)","v":0},0,null,"Kenai River-Lower",45,0,0]
["2014-05-01","Snow Machining","Fairbanks-Fox","Snow 109",null,5,{"$f":"IFERROR(VLOOKUP(D212,'Study Area Site Variable'!$B$4:$J$1240,6,FALSE),0)","v":0},{"$f":"IFERROR(VLOOKUP(D212,'Study Area Site Variable'!$B$4:$H$1240,7,FALSE),0)","v":0},0,null,"Kenai River-Lower Skilak",2,0,0]
["2014-05-01","Snow Machining","Fairbanks-Fort Greely","Snow 110",null,2,{"$f":"IFERROR(VLOOKUP(D213,'Study Area Site Variable'!$B$4:$J$1240,6,FALSE),0)","v":0},{"$f":"IFERROR(VLOOKUP(D213,'Study Area Site Variable'!$B$4:$H$1240,7,FALSE),0)","v":0},0,null,"Kenai River-Middle",13,0,0]
["2014-05-01","Snow Machining","Chistochina","Snow 111",null,30,{"$f":"IFERROR(VLOOKUP(D214,'Study Area Site Variable'!$B$4:$J$1240,6,FALSE),0)","v":1},{"$f":"IFERROR(VLOOKUP(D214,'Study Area Site Variable'!$B$4:$H$1240,7,FALSE),0)","v":0},0,null,"Kenai River-Mile 32 of the River",1,0,0]
["2014-05-01","Snow Machining","Chitina","Snow 112",null,272,{"$f":"IFERROR(VLOOKUP(D215,'Study Area Site Variable'!$B$4:$J$1240,6,FALSE),0)","v":1},{"$f":"IFERROR(VLOOKUP(D215,'Study Area Site Variable'!$B$4:$H$1240,7,FALSE),0)","v":0},0,null,"Kenai River-Primrose Campground",2,0,0]
["2014-05-01","Snow Machining","Fort Yukon","Snow 113",null,200,{"$f":"IFERROR(VLOOKUP(D216,'Study Area Site Variable'!$B$4:$J$1240,6,FALSE),0)","v":1},{"$f":"IFERROR(VLOOKUP(D216,'Study Area Site Variable'!$B$4:$H$1240,7,FALSE),0)","v":0},0,null,"Kenai River-Private Property",3,3,0]
["2014-05-01","Snow Machining","Petersville-Unspecified","Snow 114",null,44,{"$f":"IFERROR(VLOOKUP(D217,'Study Area Site Variable'!$B$4:$J$1240,6,FALSE),0)","v":1},{"$f":"IFERROR(VLOOKUP(D217,'Study Area Site Variable'!$B$4:$H$1240,7,FALSE),0)","v":0},40,null,"Kenai River-Skilak Lake",2,0,0]
["2014-05-01","Snow Machining","Seward","Snow 115",null,3,{"$f":"IFERROR(VLOOKUP(D218,'Study Area Site Variable'!$B$4:$J$1240,6,FALSE),0)","v":0},{"$f":"IFERROR(VLOOKUP(D218,'Study Area Site Variable'!$B$4:$H$1240,7,FALSE),0)","v":0},0,null,"Kenai River-Soldotna City dock",10,0,0]
["2014-05-01","Snow Machining","Kenai-National Wildlife Refuge","Snow 116",null,1,{"$f":"IFERROR(VLOOKUP(D219,'Study Area Site Variable'!$B$4:$J$1240,6,FALSE),0)","v":0},{"$f":"IFERROR(VLOOKUP(D219,'Study Area Site Variable'!$B$4:$H$1240,7,FALSE),0)","v":0},0,null,"Kenai River-Sportsmens Landing",10,0,0]
["2014-05-01","Snow Machining","Valdez","Snow 117",null,30,{"$f":"IFERROR(VLOOKUP(D220,'Study Area Site Variable'!$B$4:$J$1240,6,FALSE),0)","v":1},{"$f":"IFERROR(VLOOKUP(D220,'Study Area Site Variable'!$B$4:$H$1240,7,FALSE),0)","v":0},0,null,"Kenai River-Unspecified",12,0,0]
["2013-08-01","Hunting","20 Mile River-Portage","HTNG1","14C",4,{"$f":"IFERROR(VLOOKUP(D221,'Study Area Site Variable'!$B$4:$J$1240,6,FALSE),0)","v":1},{"$f":"IFERROR(VLOOKUP(D221,'Study Area Site Variable'!$B$4:$H$1240,7,FALSE),0)","v":0},0,null,"Kenai River-Upper",67,0,0]
["2013-08-01","Hunting","Adak Island","HTNG2",10,7,{"$f":"IFERROR(VLOOKUP(D222,'Study Area Site Variable'!$B$4:$J$1240,6,FALSE),0)","v":0},{"$f":"IFERROR(VLOOKUP(D222,'Study Area Site Variable'!$B$4:$H$1240,7,FALSE),0)","v":0},0,null,"Kepler Bradley Lakes-Palmer",28,5,0]
["2013-08-01","Hunting","Admiralty Island-Angoon","HTNG3",4,6,{"$f":"IFERROR(VLOOKUP(D223,'Study Area Site Variable'!$B$4:$J$1240,6,FALSE),0)","v":0},{"$f":"IFERROR(VLOOKUP(D223,'Study Area Site Variable'!$B$4:$H$1240,7,FALSE),0)","v":0},0,null,"Ketchikan Saltwater",10,0,0]
["2013-08-01","Hunting","Alaska Range-Healy","HTNG4","20A",6,{"$f":"IFERROR(VLOOKUP(D224,'Study Area Site Variable'!$B$4:$J$1240,6,FALSE),0)","v":1},{"$f":"IFERROR(VLOOKUP(D224,'Study Area Site Variable'!$B$4:$H$1240,7,FALSE),0)","v":0},0,null,"King Creek-Nenana",3,0,0]
["2013-08-01","Hunting","Alone Creek","Uncodeable",0,18,{"$f":"IFERROR(VLOOKUP(D225,'Study Area Site Variable'!$B$4:$J$1240,6,FALSE),0)","v":0},{"$f":"IFERROR(VLOOKUP(D225,'Study Area Site Variable'!$B$4:$H$1240,7,FALSE),0)","v":0},0,null,"Klattina River-Klatina",3,0,0]
["2013-08-01","Hunting","Anchorage Coastal Wildlife Refuge-Rabbit Creek","HTNG5","14C",5,{"$f":"IFERROR(VLOOKUP(D226,'Study Area Site Variable'!$B$4:$J$1240,6,FALSE),0)","v":1},{"$f":"IFERROR(VLOOKUP(D226,'Study Area Site Variable'!$B$4:$H$1240,7,FALSE),0)","v":0},0,null,"Klutina Lake-Klutina Lake rd",2,0,0]
["2013-08-01","Hunting","Applegate Cove-Cold Bay","HTNG6","9D",4,{"$f":"IFERROR(VLOOKUP(D227,'Study Area Site Variable'!$B$4:$J$1240,6,FALSE),0)","v":0},{"$f":"IFERROR(VLOOKUP(D227,'Study Area Site Variable'!$B$4:$H$1240,7,FALSE),0)","v":0},0,null,"Klutina Lake-Klutina River",4,0,0]
["2013-08-01","Hunting","Arctic Valley","HTNG7","14C",3,{"$f":"IFERROR(VLOOKUP(D228,'Study Area Site Variable'!$B$4:$J$1240,6,FALSE),0)","v":1},{"$f":"IFERROR(VLOOKUP(D228,'Study Area Site Variable'!$B$4:$H$1240,7,FALSE),0)","v":0},0,null,"Klutina River-Copper Center",1,0,0]
["2013-08-01","Hunting","Big Lake-Fish Creek","HTNG8","14A",2,{"$f":"IFERROR(VLOOKUP(D229,'Study Area Site Variable'!$B$4:$J$1240,6,FALSE),0)","v":1},{"$f":"IFERROR(VLOOKUP(D229,'Study Area Site Variable'!$B$4:$H$1240,7,FALSE),0)","v":0},0,null,"Klutina River-New Richardson Bridge",2,0,0]
["2013-08-01","Hunting","Billy Creek-Glenn Hwy MP 88","HTNG9","13A",5,{"$f":"IFERROR(VLOOKUP(D230,'Study Area Site Variable'!$B$4:$J$1240,6,FALSE),0)","v":1},{"$f":"IFERROR(VLOOKUP(D230,'Study Area Site Variable'!$B$4:$H$1240,7,FALSE),0)","v":1},5,null,"Knik Lake",4,0,0]
["2013-08-01","Hunting","Birch Creek-147 Steese Hwy","HTNG10","20B",5,{"$f":"IFERROR(VLOOKUP(D231,'Study Area Site Variable'!$B$4:$J$1240,6,FALSE),0)","v":1},{"$f":"IFERROR(VLOOKUP(D231,'Study Area Site Variable'!$B$4:$H$1240,7,FALSE),0)","v":0},0,null,"Knik River to Glacier-Knik River Access",20,0,0]
["2013-08-01","Hunting","Bird Creek-Seward Highway","HTNG11","14C",2,{"$f":"IFERROR(VLOOKUP(D232,'Study Area Site Variable'!$B$4:$J$1240,6,FALSE),0)","v":1},{"$f":"IFERROR(VLOOKUP(D232,'Study Area Site Variable'!$B$4:$H$1240,7,FALSE),0)","v":0},0,null,"Knik River-Knik Bridge Sand bar",1,0,0]
["2013-08-01","Hunting","Bonanza Creek-Ester","HTNG12","20B",6,{"$f":"IFERROR(VLOOKUP(D233,'Study Area Site Variable'!$B$4:$J$1240,6,FALSE),0)","v":1},{"$f":"IFERROR(VLOOKUP(D233,'Study Area Site Variable'!$B$4:$H$1240,7,FALSE),0)","v":0},0,null,"Knik River-Knik River Rd",3,0,0]
["2013-08-01","Hunting","Boulder Creek","HTNG13","14A",2,{"$f":"IFERROR(VLOOKUP(D234,'Study Area Site Variable'!$B$4:$J$1240,6,FALSE),0)","v":1},{"$f":"IFERROR(VLOOKUP(D234,'Study Area Site Variable'!$B$4:$H$1240,7,FALSE),0)","v":0},0,null,"Knik River-Old Glenn Bridge",11,0,0]
["2013-08-01","Hunting","Brooks Range-Bettles","HTNG14","24B",6,{"$f":"IFERROR(VLOOKUP(D235,'Study Area Site Variable'!$B$4:$J$1240,6,FALSE),0)","v":0},{"$f":"IFERROR(VLOOKUP(D235,'Study Area Site Variable'!$B$4:$H$1240,7,FALSE),0)","v":0},0,null,"Knik River-Palmer",5,0,0]
["2013-08-01","Hunting","Brooks Range-Coldfoot","HTNG15","24A",16,{"$f":"IFERROR(VLOOKUP(D236,'Study Area Site Variable'!$B$4:$J$1240,6,FALSE),0)","v":0},{"$f":"IFERROR(VLOOKUP(D236,'Study Area Site Variable'!$B$4:$H$1240,7,FALSE),0)","v":0},0,null,"Kobuk River-Walker Lake",9,0,0]
["2013-08-01","Hunting","Brooks Range-Fairbanks","HTNG16","20A",30,{"$f":"IFERROR(VLOOKUP(D237,'Study Area Site Variable'!$B$4:$J$1240,6,FALSE),0)","v":1},{"$f":"IFERROR(VLOOKUP(D237,'Study Area Site Variable'!$B$4:$H$1240,7,FALSE),0)","v":0},0,null,"Kodiak",8,0,0]
["2013-08-01","Hunting","Brooks Range-Galberth Lake","HTNG17","26B",6,{"$f":"IFERROR(VLOOKUP(D238,'Study Area Site Variable'!$B$4:$J$1240,6,FALSE),0)","v":0},{"$f":"IFERROR(VLOOKUP(D238,'Study Area Site Variable'!$B$4:$H$1240,7,FALSE),0)","v":0},0,null,"Kongakut River-Fairbanks by Air",17,0,0]
["2013-08-01","Hunting","Brooks Range-Happy Valley","HTNG18","26B",8,{"$f":"IFERROR(VLOOKUP(D239,'Study Area Site Variable'!$B$4:$J$1240,6,FALSE),0)","v":0},{"$f":"IFERROR(VLOOKUP(D239,'Study Area Site Variable'!$B$4:$H$1240,7,FALSE),0)","v":0},0,null,"Koyukuk River-Bettles",5,0,0]
["2013-08-01","Hunting","Brooks Range-Marsh Fork","HTNG19","26C",8,{"$f":"IFERROR(VLOOKUP(D240,'Study Area Site Variable'!$B$4:$J$1240,6,FALSE),0)","v":0},{"$f":"IFERROR(VLOOKUP(D240,'Study Area Site Variable'!$B$4:$H$1240,7,FALSE),0)","v":0},0,null,"Koyukuk River-Unspecified",15,15,0]
["2013-08-01","Hunting","Cantwell","HTNG20","13E",13,{"$f":"IFERROR(VLOOKUP(D241,'Study Area Site Variable'!$B$4:$J$1240,6,FALSE),0)","v":1},{"$f":"IFERROR(VLOOKUP(D241,'Study Area Site Variable'!$B$4:$H$1240,7,FALSE),0)","v":1},0,null,"Kroto Creek-Petersville",1,0,0]
["2013-08-01","Hunting","Chatanika River-Elliot Bridge","HTNG21","20B",3,{"$f":"IFERROR(VLOOKUP(D242,'Study Area Site Variable'!$B$4:$J$1240,6,FALSE),0)","v":1},{"$f":"IFERROR(VLOOKUP(D242,'Study Area Site Variable'!$B$4:$H$1240,7,FALSE),0)","v":0},0,null,"Kuskokwim River-Bethel",12,0,0]
["2013-08-01","Hunting","Chena Hot Springs Rd-Chena Hot Springs Rd","HTNG22","20B",31,{"$f":"IFERROR(VLOOKUP(D243,'Study Area Site Variable'!$B$4:$J$1240,6,FALSE),0)","v":1},{"$f":"IFERROR(VLOOKUP(D243,'Study Area Site Variable'!$B$4:$H$1240,7,FALSE),0)","v":0},0,null,"Kuskokwim River-McGrath",19,0,0]
["2013-08-01","Hunting","Chickaloon-Glenn Highway","HTNG23","14A",5,{"$f":"IFERROR(VLOOKUP(D244,'Study Area Site Variable'!$B$4:$J$1240,6,FALSE),0)","v":1},{"$f":"IFERROR(VLOOKUP(D244,'Study Area Site Variable'!$B$4:$H$1240,7,FALSE),0)","v":0},0,null,"Kutchak  River-Iguigig",5,0,0]
["2013-08-01","Hunting","Chicken","HTNG24","20E",7,{"$f":"IFERROR(VLOOKUP(D245,'Study Area Site Variable'!$B$4:$J$1240,6,FALSE),0)","v":1},{"$f":"IFERROR(VLOOKUP(D245,'Study Area Site Variable'!$B$4:$H$1240,7,FALSE),0)","v":0},0,null,"kuyokuk river-haul road",15,0,0]
["2013-08-01","Hunting","Chicken Ridge-Chicken","HTNG25","20E",5,{"$f":"IFERROR(VLOOKUP(D246,'Study Area Site Variable'!$B$4:$J$1240,6,FALSE),0)","v":1},{"$f":"IFERROR(VLOOKUP(D246,'Study Area Site Variable'!$B$4:$H$1240,7,FALSE),0)","v":0},0,null,"Kwethluk River-Kengaqak",3,0,0]
["2013-08-01","Hunting","Chicken-Taylor Hwy","HTNG26","20E",8,{"$f":"IFERROR(VLOOKUP(D247,'Study Area Site Variable'!$B$4:$J$1240,6,FALSE),0)","v":1},{"$f":"IFERROR(VLOOKUP(D247,'Study Area Site Variable'!$B$4:$H$1240,7,FALSE),0)","v":0},0,null,"Lake Barbara-Dillingham",2,0,0]
["2013-08-01","Hunting","Chistochina-Glennallen","HTNG27","13C",2,{"$f":"IFERROR(VLOOKUP(D248,'Study Area Site Variable'!$B$4:$J$1240,6,FALSE),0)","v":1},{"$f":"IFERROR(VLOOKUP(D248,'Study Area Site Variable'!$B$4:$H$1240,7,FALSE),0)","v":0},0,null,"Lake Chitina-Chitina",6,0,0]
["2013-08-01","Hunting","Chugach Mountains","HTNG28","6, 11, 13",6,{"$f":"IFERROR(VLOOKUP(D249,'Study Area Site Variable'!$B$4:$J$1240,6,FALSE),0)","v":1},{"$f":"IFERROR(VLOOKUP(D249,'Study Area Site Variable'!$B$4:$H$1240,7,FALSE),0)","v":0},0,null,"Lake Clark-Keyes Point",50,35,0]
["2013-08-01","Hunting","Chugach Mountains-Cordova","HTNG29","6C",8,{"$f":"IFERROR(VLOOKUP(D250,'Study Area Site Variable'!$B$4:$J$1240,6,FALSE),0)","v":1},{"$f":"IFERROR(VLOOKUP(D250,'Study Area Site Variable'!$B$4:$H$1240,7,FALSE),0)","v":0},0,null,"Lake Creek-Deshka Landing",2,0,0]
["2013-08-01","Hunting","Chugiak","HTNG30","14C",6,{"$f":"IFERROR(VLOOKUP(D251,'Study Area Site Variable'!$B$4:$J$1240,6,FALSE),0)","v":1},{"$f":"IFERROR(VLOOKUP(D251,'Study Area Site Variable'!$B$4:$H$1240,7,FALSE),0)","v":0},0,null,"Lake Louise",93,4,0]
["2013-08-01","Hunting","Chulitna RIver-Parks Highway","HTNG31","16A",7,{"$f":"IFERROR(VLOOKUP(D252,'Study Area Site Variable'!$B$4:$J$1240,6,FALSE),0)","v":1},{"$f":"IFERROR(VLOOKUP(D252,'Study Area Site Variable'!$B$4:$H$1240,7,FALSE),0)","v":0},7,null,"Lake Louise-Evergreen Lodge",40,40,0]
["2013-08-01","Hunting","Clark Wolverine-Palmer","HTNG32","14A",1,{"$f":"IFERROR(VLOOKUP(D253,'Study Area Site Variable'!$B$4:$J$1240,6,FALSE),0)","v":1},{"$f":"IFERROR(VLOOKUP(D253,'Study Area Site Variable'!$B$4:$H$1240,7,FALSE),0)","v":0},0,null,"Lake Louise-Glenallen",6,0,0]
["2013-08-01","Hunting","Clear Creek-Chena Pump Rd","HTNG33","20B",10,{"$f":"IFERROR(VLOOKUP(D254,'Study Area Site Variable'!$B$4:$J$1240,6,FALSE),0)","v":1},{"$f":"IFERROR(VLOOKUP(D254,'Study Area Site Variable'!$B$4:$H$1240,7,FALSE),0)","v":0},0,null,"Lake Louise-Public Launch Lake Louise",57,56,0]
["2013-08-01","Hunting","Clear Creek-Tanana River","HTNG34","20A",5,{"$f":"IFERROR(VLOOKUP(D255,'Study Area Site Variable'!$B$4:$J$1240,6,FALSE),0)","v":1},{"$f":"IFERROR(VLOOKUP(D255,'Study Area Site Variable'!$B$4:$H$1240,7,FALSE),0)","v":0},0,null,"Lake Louise-Unspecified",3,0,0]
["2013-08-01","Hunting","Coal Creek-Healy","HTNG35","20A",4,{"$f":"IFERROR(VLOOKUP(D256,'Study Area Site Variable'!$B$4:$J$1240,6,FALSE),0)","v":1},{"$f":"IFERROR(VLOOKUP(D256,'Study Area Site Variable'!$B$4:$H$1240,7,FALSE),0)","v":0},0,null,"Lake Louise-Wasilla",10,0,0]
["2013-08-01","Hunting","Cold Bay","HTNG36","9D",9,{"$f":"IFERROR(VLOOKUP(D257,'Study Area Site Variable'!$B$4:$J$1240,6,FALSE),0)","v":0},{"$f":"IFERROR(VLOOKUP(D257,'Study Area Site Variable'!$B$4:$H$1240,7,FALSE),0)","v":0},0,null,"Lake Louise-Wolverine Lodge",160,120,0]
["2013-08-01","Hunting","Cordova","HTNG37","6C",3,{"$f":"IFERROR(VLOOKUP(D258,'Study Area Site Variable'!$B$4:$J$1240,6,FALSE),0)","v":1},{"$f":"IFERROR(VLOOKUP(D258,'Study Area Site Variable'!$B$4:$H$1240,7,FALSE),0)","v":0},0,null,"lake 'o' the hills-anchorage",4,0,0]
["2013-08-01","Hunting","Cosna River-Manley","HTNG38","20C",9,{"$f":"IFERROR(VLOOKUP(D259,'Study Area Site Variable'!$B$4:$J$1240,6,FALSE),0)","v":1},{"$f":"IFERROR(VLOOKUP(D259,'Study Area Site Variable'!$B$4:$H$1240,7,FALSE),0)","v":0},0,null,"Lake September-Trapper Creek",3,3,0]
["2013-08-01","Hunting","Creamers Field-Fairbanks","HTNG39","20B",10,{"$f":"IFERROR(VLOOKUP(D260,'Study Area Site Variable'!$B$4:$J$1240,6,FALSE),0)","v":1},{"$f":"IFERROR(VLOOKUP(D260,'Study Area Site Variable'!$B$4:$H$1240,7,FALSE),0)","v":0},0,null,"Lake Susitna-Evergreen Lodge",40,40,0]
["2013-08-01","Hunting","Crescent Lake-Crescent Lake Trailhead","HTNG40",7,4,{"$f":"IFERROR(VLOOKUP(D261,'Study Area Site Variable'!$B$4:$J$1240,6,FALSE),0)","v":1},{"$f":"IFERROR(VLOOKUP(D261,'Study Area Site Variable'!$B$4:$H$1240,7,FALSE),0)","v":0},0,null,"Larsen Bay-Kodiak Gulf",3,0,0]
["2013-08-01","Hunting","Dalton Highway","HTNG41","20F",20,{"$f":"IFERROR(VLOOKUP(D262,'Study Area Site Variable'!$B$4:$J$1240,6,FALSE),0)","v":0},{"$f":"IFERROR(VLOOKUP(D262,'Study Area Site Variable'!$B$4:$H$1240,7,FALSE),0)","v":0},0,null,"Little Bill Lake-mp 100 Parks Hwy-, Sunshine",5,5,0]
["2013-08-01","Hunting","Delta Clearwater","HTNG42","20D",3,{"$f":"IFERROR(VLOOKUP(D263,'Study Area Site Variable'!$B$4:$J$1240,6,FALSE),0)","v":1},{"$f":"IFERROR(VLOOKUP(D263,'Study Area Site Variable'!$B$4:$H$1240,7,FALSE),0)","v":0},0,null,"Little Campbell Lake-Kincaid Park",14,0,0]
["2013-08-01","Hunting","Delta Creek-Richardson","HTNG43","20D",2,{"$f":"IFERROR(VLOOKUP(D264,'Study Area Site Variable'!$B$4:$J$1240,6,FALSE),0)","v":1},{"$f":"IFERROR(VLOOKUP(D264,'Study Area Site Variable'!$B$4:$H$1240,7,FALSE),0)","v":0},0,null,"Little Lonely Lake-Willow",12,0,0]
["2013-08-01","Hunting","Delta Highway Mile 83-Happy Valley","HTNG44","13B",9,{"$f":"IFERROR(VLOOKUP(D265,'Study Area Site Variable'!$B$4:$J$1240,6,FALSE),0)","v":1},{"$f":"IFERROR(VLOOKUP(D265,'Study Area Site Variable'!$B$4:$H$1240,7,FALSE),0)","v":1},0,null,"Little Nelchina River-Nelchina Campground",4,0,0]
["2013-08-01","Hunting","Delta Junction-Delta junction","HTNG45","20D",32,{"$f":"IFERROR(VLOOKUP(D266,'Study Area Site Variable'!$B$4:$J$1240,6,FALSE),0)","v":1},{"$f":"IFERROR(VLOOKUP(D266,'Study Area Site Variable'!$B$4:$H$1240,7,FALSE),0)","v":0},0,null,"Little Su-Houston",8,0,0]
["2013-08-01","Hunting","Denali Highway-Cantwell Side","HTNG46","13E",134,{"$f":"IFERROR(VLOOKUP(D267,'Study Area Site Variable'!$B$4:$J$1240,6,FALSE),0)","v":1},{"$f":"IFERROR(VLOOKUP(D267,'Study Area Site Variable'!$B$4:$H$1240,7,FALSE),0)","v":1},10,null,"Little Su-LSPUF",11,0,0]
["2013-08-01","Hunting","Denali Highway-Maclaren River","HTNG47","13B",77,{"$f":"IFERROR(VLOOKUP(D268,'Study Area Site Variable'!$B$4:$J$1240,6,FALSE),0)","v":1},{"$f":"IFERROR(VLOOKUP(D268,'Study Area Site Variable'!$B$4:$H$1240,7,FALSE),0)","v":1},0,null,"Little Susitna-Hatchers Pass",2,0,0]
["2013-08-01","Hunting","Denali Highway-Susitna River Bridge","HTNG48","13B",15,{"$f":"IFERROR(VLOOKUP(D269,'Study Area Site Variable'!$B$4:$J$1240,6,FALSE),0)","v":1},{"$f":"IFERROR(VLOOKUP(D269,'Study Area Site Variable'!$B$4:$H$1240,7,FALSE),0)","v":1},0,null,"Little Susitna-Palmer",3,0,0]
["2013-08-01","Hunting","Denali Highway-Tangle Lakes","HTNG49","13B",2,{"$f":"IFERROR(VLOOKUP(D270,'Study Area Site Variable'!$B$4:$J$1240,6,FALSE),0)","v":1},{"$f":"IFERROR(VLOOKUP(D270,'Study Area Site Variable'!$B$4:$H$1240,7,FALSE),0)","v":1},0,null,"Little Susitna-Unspecified",1,0,0]
["2013-08-01","Hunting","Denali Highway-Unspecified","HTNG50","13B, 13E",31,{"$f":"IFERROR(VLOOKUP(D271,'Study Area Site Variable'!$B$4:$J$1240,6,FALSE),0)","v":1},{"$f":"IFERROR(VLOOKUP(D271,'Study Area Site Variable'!$B$4:$H$1240,7,FALSE),0)","v":1},0,null,"Little Susitna-Wasilla",1,0,0]
["2013-08-01","Hunting","Denali Hwy-Paxson","HTNG51","13B",122,{"$f":"IFERROR(VLOOKUP(D272,'Study Area Site Variable'!$B$4:$J$1240,6,FALSE),0)","v":1},{"$f":"IFERROR(VLOOKUP(D272,'Study Area Site Variable'!$B$4:$H$1240,7,FALSE),0)","v":1},0,null,"Little Susitna-Willow",3,0,0]
["2013-08-01","Hunting","Denali Hwy-Tangle Lakes","HTNG52","13B",22,{"$f":"IFERROR(VLOOKUP(D273,'Study Area Site Variable'!$B$4:$J$1240,6,FALSE),0)","v":1},{"$f":"IFERROR(VLOOKUP(D273,'Study Area Site Variable'!$B$4:$H$1240,7,FALSE),0)","v":1},0,null,"Little Willow Creek-Willow",2,0,0]
["2013-08-01","Hunting","Denali State Park","HTNG53","13E",1,{"$f":"IFERROR(VLOOKUP(D274,'Study Area Site Variable'!$B$4:$J$1240,6,FALSE),0)","v":1},{"$f":"IFERROR(VLOOKUP(D274,'Study Area Site Variable'!$B$4:$H$1240,7,FALSE),0)","v":1},0,null,"Local Lakes-Mile 111-122 Glenn Hwy",5,0,0]
["2013-08-01","Hunting","Deshka River-Deshka Landing","HTNG54","16A",5,{"$f":"IFERROR(VLOOKUP(D275,'Study Area Site Variable'!$B$4:$J$1240,6,FALSE),0)","v":1},{"$f":"IFERROR(VLOOKUP(D275,'Study Area Site Variable'!$B$4:$H$1240,7,FALSE),0)","v":0},0,null,"Long Lake-Glenn Highway",5,0,0]
["2013-08-01","Hunting","Eillot Highway","HTNG55","20B",16,{"$f":"IFERROR(VLOOKUP(D276,'Study Area Site Variable'!$B$4:$J$1240,6,FALSE),0)","v":1},{"$f":"IFERROR(VLOOKUP(D276,'Study Area Site Variable'!$B$4:$H$1240,7,FALSE),0)","v":0},0,null,"Long Lake-Private Property]",1,0,0]
["2013-08-01","Hunting","Ester","HTNG56","20B",9,{"$f":"IFERROR(VLOOKUP(D277,'Study Area Site Variable'!$B$4:$J$1240,6,FALSE),0)","v":1},{"$f":"IFERROR(VLOOKUP(D277,'Study Area Site Variable'!$B$4:$H$1240,7,FALSE),0)","v":0},0,null,"Long Lake-Willow",41,0,0]
["2013-08-01","Hunting","Eureka-Glenn Highway","HTNG57","13A",63,{"$f":"IFERROR(VLOOKUP(D278,'Study Area Site Variable'!$B$4:$J$1240,6,FALSE),0)","v":1},{"$f":"IFERROR(VLOOKUP(D278,'Study Area Site Variable'!$B$4:$H$1240,7,FALSE),0)","v":1},0,null,"Loon Lake-Public Boat Launch",3,0,0]
["2013-08-01","Hunting","Fairbanks Area","HTNG58","20B",39,{"$f":"IFERROR(VLOOKUP(D279,'Study Area Site Variable'!$B$4:$J$1240,6,FALSE),0)","v":1},{"$f":"IFERROR(VLOOKUP(D279,'Study Area Site Variable'!$B$4:$H$1240,7,FALSE),0)","v":0},0,null,"Lucile Lake-Wasilla",26,0,0]
["2013-08-01","Hunting","Fort Yukon","HTNG59","25D",7,{"$f":"IFERROR(VLOOKUP(D280,'Study Area Site Variable'!$B$4:$J$1240,6,FALSE),0)","v":1},{"$f":"IFERROR(VLOOKUP(D280,'Study Area Site Variable'!$B$4:$H$1240,7,FALSE),0)","v":0},0,null,"Lynn Canal-Juneau",3,0,0]
["2013-08-01","Hunting","Ft. Wainwright","HTNG60","20B",4,{"$f":"IFERROR(VLOOKUP(D281,'Study Area Site Variable'!$B$4:$J$1240,6,FALSE),0)","v":1},{"$f":"IFERROR(VLOOKUP(D281,'Study Area Site Variable'!$B$4:$H$1240,7,FALSE),0)","v":0},0,null,"Lynn Lake-Willow",3,0,0]
["2013-08-01","Hunting","Gakona River-Denali Highway","HTNG61","13C",6,{"$f":"IFERROR(VLOOKUP(D282,'Study Area Site Variable'!$B$4:$J$1240,6,FALSE),0)","v":1},{"$f":"IFERROR(VLOOKUP(D282,'Study Area Site Variable'!$B$4:$H$1240,7,FALSE),0)","v":0},0,null,"Lynx Lake-Midnight Sun Bible Camp",16,0,0]
["2013-08-01","Hunting","George Lake Area","HTNG62","25D",12,{"$f":"IFERROR(VLOOKUP(D283,'Study Area Site Variable'!$B$4:$J$1240,6,FALSE),0)","v":1},{"$f":"IFERROR(VLOOKUP(D283,'Study Area Site Variable'!$B$4:$H$1240,7,FALSE),0)","v":0},0,null,"Lynx lake-Public Launch",7,0,0]
["2013-08-01","Hunting","Gerstle River-Delta Junction","HTNG63","20B",18,{"$f":"IFERROR(VLOOKUP(D284,'Study Area Site Variable'!$B$4:$J$1240,6,FALSE),0)","v":1},{"$f":"IFERROR(VLOOKUP(D284,'Study Area Site Variable'!$B$4:$H$1240,7,FALSE),0)","v":0},0,null,"Marion Lake-Unspecified",2,0,0]
["2013-08-01","Hunting","Girdwood","HTNG64","14C",4,{"$f":"IFERROR(VLOOKUP(D285,'Study Area Site Variable'!$B$4:$J$1240,6,FALSE),0)","v":1},{"$f":"IFERROR(VLOOKUP(D285,'Study Area Site Variable'!$B$4:$H$1240,7,FALSE),0)","v":0},0,null,"Matanuska Lake-Matanuska Lake State Rec. Area",7,0,0]
["2013-08-01","Hunting","Goodpaster River-Delta Junction","HTNG65","20A",7,{"$f":"IFERROR(VLOOKUP(D286,'Study Area Site Variable'!$B$4:$J$1240,6,FALSE),0)","v":1},{"$f":"IFERROR(VLOOKUP(D286,'Study Area Site Variable'!$B$4:$H$1240,7,FALSE),0)","v":0},0,null,"Matanuska Lake-Palmer",2,0,0]
["2013-08-01","Hunting","Goodpaster River-Tok","HTNG66",12,6,{"$f":"IFERROR(VLOOKUP(D287,'Study Area Site Variable'!$B$4:$J$1240,6,FALSE),0)","v":1},{"$f":"IFERROR(VLOOKUP(D287,'Study Area Site Variable'!$B$4:$H$1240,7,FALSE),0)","v":0},0,null,"Matanuska River-Chickaloon",13,0,0]
["2013-08-01","Hunting","Goose Bay-Knik Goose Bay Road","HTNG67","16B",3,{"$f":"IFERROR(VLOOKUP(D288,'Study Area Site Variable'!$B$4:$J$1240,6,FALSE),0)","v":1},{"$f":"IFERROR(VLOOKUP(D288,'Study Area Site Variable'!$B$4:$H$1240,7,FALSE),0)","v":0},0,null,"Matanuska River-Palmer",4,0,0]
["2013-08-01","Hunting","Grays Creek-Parks Highway","HTNG68",0,4,{"$f":"IFERROR(VLOOKUP(D289,'Study Area Site Variable'!$B$4:$J$1240,6,FALSE),0)","v":1},{"$f":"IFERROR(VLOOKUP(D289,'Study Area Site Variable'!$B$4:$H$1240,7,FALSE),0)","v":0},0,null,"Matanuska River-Sutton",3,0,0]
["2013-08-01","Hunting","Hatcher Pass- Palmer Side","HTNG69","14A",15,{"$f":"IFERROR(VLOOKUP(D290,'Study Area Site Variable'!$B$4:$J$1240,6,FALSE),0)","v":1},{"$f":"IFERROR(VLOOKUP(D290,'Study Area Site Variable'!$B$4:$H$1240,7,FALSE),0)","v":0},0,null,"McClaren River-Denali Hwy, McClaren Lodge",2,0,0]
["2013-08-01","Hunting","Hatcher Pass- Willow Side","HTNG70","14A",8,{"$f":"IFERROR(VLOOKUP(D291,'Study Area Site Variable'!$B$4:$J$1240,6,FALSE),0)","v":1},{"$f":"IFERROR(VLOOKUP(D291,'Study Area Site Variable'!$B$4:$H$1240,7,FALSE),0)","v":0},0,null,"Meadow Lakes-Wasilla",5,0,0]
["2013-08-01","Hunting","Hatchers Pass","HTNG71","14A",2,{"$f":"IFERROR(VLOOKUP(D292,'Study Area Site Variable'!$B$4:$J$1240,6,FALSE),0)","v":1},{"$f":"IFERROR(VLOOKUP(D292,'Study Area Site Variable'!$B$4:$H$1240,7,FALSE),0)","v":0},0,null,"Memory Lake-Wasilla",13,0,0]
["2013-08-01","Hunting","Healy Area-Healy","HTNG72","20A",14,{"$f":"IFERROR(VLOOKUP(D293,'Study Area Site Variable'!$B$4:$J$1240,6,FALSE),0)","v":1},{"$f":"IFERROR(VLOOKUP(D293,'Study Area Site Variable'!$B$4:$H$1240,7,FALSE),0)","v":0},0,null,"Middle Fork Koyukuk-Coldfoot",15,0,0]
["2013-08-01","Hunting","Hinchinbrook Island-Cordova","HTNG73","6D",4,{"$f":"IFERROR(VLOOKUP(D294,'Study Area Site Variable'!$B$4:$J$1240,6,FALSE),0)","v":1},{"$f":"IFERROR(VLOOKUP(D294,'Study Area Site Variable'!$B$4:$H$1240,7,FALSE),0)","v":0},0,null,"Mineral Lake-Mile 88 Tok cutoff",1,0,0]
["2013-08-01","Hunting","Hinchinbrook Island-Valdez","HTNG74","6D",4,{"$f":"IFERROR(VLOOKUP(D295,'Study Area Site Variable'!$B$4:$J$1240,6,FALSE),0)","v":1},{"$f":"IFERROR(VLOOKUP(D295,'Study Area Site Variable'!$B$4:$H$1240,7,FALSE),0)","v":0},0,null,"Minto Flats-Minto",8,0,0]
["2013-08-01","Hunting","Hope-Hope Highway","HTNG75",7,4,{"$f":"IFERROR(VLOOKUP(D296,'Study Area Site Variable'!$B$4:$J$1240,6,FALSE),0)","v":1},{"$f":"IFERROR(VLOOKUP(D296,'Study Area Site Variable'!$B$4:$H$1240,7,FALSE),0)","v":0},0,null,"Mirror Lake-Chugiak",55,0,0]
["2013-08-01","Hunting","Houston Area","HTNG76","14A",3,{"$f":"IFERROR(VLOOKUP(D297,'Study Area Site Variable'!$B$4:$J$1240,6,FALSE),0)","v":1},{"$f":"IFERROR(VLOOKUP(D297,'Study Area Site Variable'!$B$4:$H$1240,7,FALSE),0)","v":0},0,null,"Montana Creek-Talkeetna",2,0,0]
["2013-08-01","Hunting","Hunter Creek-Palmer","HTNG77","14A",2,{"$f":"IFERROR(VLOOKUP(D298,'Study Area Site Variable'!$B$4:$J$1240,6,FALSE),0)","v":1},{"$f":"IFERROR(VLOOKUP(D298,'Study Area Site Variable'!$B$4:$H$1240,7,FALSE),0)","v":0},0,null,"Montana Creek-Yoder Rd",1,0,2]
["2013-08-01","Hunting","Jarvis Creek-Alaska Highway","HTNG78","20D",8,{"$f":"IFERROR(VLOOKUP(D299,'Study Area Site Variable'!$B$4:$J$1240,6,FALSE),0)","v":1},{"$f":"IFERROR(VLOOKUP(D299,'Study Area Site Variable'!$B$4:$H$1240,7,FALSE),0)","v":0},0,null,"Moon lakeTok",3,0,0]
["2013-08-01","Hunting","Jay Canyon-Denali Highway","HTNG79","13E",16,{"$f":"IFERROR(VLOOKUP(D300,'Study Area Site Variable'!$B$4:$J$1240,6,FALSE),0)","v":1},{"$f":"IFERROR(VLOOKUP(D300,'Study Area Site Variable'!$B$4:$H$1240,7,FALSE),0)","v":1},0,null,"Moose Creek-Oil Well Rd. Petersville",7,0,0]
["2013-08-01","Hunting","JBER","HTNG80","14C",17,{"$f":"IFERROR(VLOOKUP(D301,'Study Area Site Variable'!$B$4:$J$1240,6,FALSE),0)","v":1},{"$f":"IFERROR(VLOOKUP(D301,'Study Area Site Variable'!$B$4:$H$1240,7,FALSE),0)","v":0},0,null,"Moose Creek-Palmer",1,0,0]
["2013-08-01","Hunting","Jim Creek-Palmer","HTNG81","14A",6,{"$f":"IFERROR(VLOOKUP(D302,'Study Area Site Variable'!$B$4:$J$1240,6,FALSE),0)","v":1},{"$f":"IFERROR(VLOOKUP(D302,'Study Area Site Variable'!$B$4:$H$1240,7,FALSE),0)","v":0},0,null,"moose creek-trapper creek",1,1,0]
["2013-08-01","Hunting","Johnson Pass-Seward Highway","HTNG82",7,1,{"$f":"IFERROR(VLOOKUP(D303,'Study Area Site Variable'!$B$4:$J$1240,6,FALSE),0)","v":1},{"$f":"IFERROR(VLOOKUP(D303,'Study Area Site Variable'!$B$4:$H$1240,7,FALSE),0)","v":0},0,null,"Moose River-Sterling Launch",2,0,0]
["2013-08-01","Hunting","Kasilof-Crooked Creek","HTNG83","15B",5,{"$f":"IFERROR(VLOOKUP(D304,'Study Area Site Variable'!$B$4:$J$1240,6,FALSE),0)","v":0},{"$f":"IFERROR(VLOOKUP(D304,'Study Area Site Variable'!$B$4:$H$1240,7,FALSE),0)","v":0},0,null,"Mud Lake-Palmer",10,0,0]
["2013-08-01","Hunting","Kenny Lake","HTNG84","13D",3,{"$f":"IFERROR(VLOOKUP(D305,'Study Area Site Variable'!$B$4:$J$1240,6,FALSE),0)","v":1},{"$f":"IFERROR(VLOOKUP(D305,'Study Area Site Variable'!$B$4:$H$1240,7,FALSE),0)","v":0},0,null,"Nancy Lake-Friend's dock",1,0,0]
["2013-08-01","Hunting","Kings River-Glenn Highway","HTNG85","13A",14,{"$f":"IFERROR(VLOOKUP(D306,'Study Area Site Variable'!$B$4:$J$1240,6,FALSE),0)","v":1},{"$f":"IFERROR(VLOOKUP(D306,'Study Area Site Variable'!$B$4:$H$1240,7,FALSE),0)","v":1},0,null,"Nancy Lakes",357,5,0]
["2013-08-01","Hunting","Knik Goose Bay Road","HTNG86","14A",6,{"$f":"IFERROR(VLOOKUP(D307,'Study Area Site Variable'!$B$4:$J$1240,6,FALSE),0)","v":1},{"$f":"IFERROR(VLOOKUP(D307,'Study Area Site Variable'!$B$4:$H$1240,7,FALSE),0)","v":0},0,null,"Nelchina River-Nelchina",3,0,0]
["2013-08-01","Hunting","Knik River","HTNG87","14A",1,{"$f":"IFERROR(VLOOKUP(D308,'Study Area Site Variable'!$B$4:$J$1240,6,FALSE),0)","v":1},{"$f":"IFERROR(VLOOKUP(D308,'Study Area Site Variable'!$B$4:$H$1240,7,FALSE),0)","v":0},0,null,"Nenana River-Cantwell",20,20,0]
["2013-08-01","Hunting","Kodiak Island","HTNG88",8,76,{"$f":"IFERROR(VLOOKUP(D309,'Study Area Site Variable'!$B$4:$J$1240,6,FALSE),0)","v":1},{"$f":"IFERROR(VLOOKUP(D309,'Study Area Site Variable'!$B$4:$H$1240,7,FALSE),0)","v":0},0,null,"Nenana River-Denali Area",51,12,0]
["2013-08-01","Hunting","Kotzebue-Anchorage","HTNG89",23,17,{"$f":"IFERROR(VLOOKUP(D310,'Study Area Site Variable'!$B$4:$J$1240,6,FALSE),0)","v":0},{"$f":"IFERROR(VLOOKUP(D310,'Study Area Site Variable'!$B$4:$H$1240,7,FALSE),0)","v":0},0,null,"Nenana River-McKinley Village",1,1,0]
["2013-08-01","Hunting","Koyukuk River-Galena","HTNG90","21D",10,{"$f":"IFERROR(VLOOKUP(D311,'Study Area Site Variable'!$B$4:$J$1240,6,FALSE),0)","v":0},{"$f":"IFERROR(VLOOKUP(D311,'Study Area Site Variable'!$B$4:$H$1240,7,FALSE),0)","v":0},0,null,"Nenana River-Nenana",2,0,0]
["2013-08-01","Hunting","Lake Alms","HTNG91","20C",6,{"$f":"IFERROR(VLOOKUP(D312,'Study Area Site Variable'!$B$4:$J$1240,6,FALSE),0)","v":1},{"$f":"IFERROR(VLOOKUP(D312,'Study Area Site Variable'!$B$4:$H$1240,7,FALSE),0)","v":0},0,null,"Nenana River-Panoram Pizza, South of Denali Park",1,0,0]
["2013-08-01","Hunting","Lake Creek-Deshka Landing","HTNG92","14A",4,{"$f":"IFERROR(VLOOKUP(D313,'Study Area Site Variable'!$B$4:$J$1240,6,FALSE),0)","v":1},{"$f":"IFERROR(VLOOKUP(D313,'Study Area Site Variable'!$B$4:$H$1240,7,FALSE),0)","v":0},0,null,"Nenana River-Windy Pass",1,1,0]
["2013-08-01","Hunting","Lake Louise","HTNG93","13A",26,{"$f":"IFERROR(VLOOKUP(D314,'Study Area Site Variable'!$B$4:$J$1240,6,FALSE),0)","v":1},{"$f":"IFERROR(VLOOKUP(D314,'Study Area Site Variable'!$B$4:$H$1240,7,FALSE),0)","v":1},0,null,"Nixon Fork-McGrath",4,0,0]
["2013-08-01","Hunting","Little Delta River","HTNG94","20A",14,{"$f":"IFERROR(VLOOKUP(D315,'Study Area Site Variable'!$B$4:$J$1240,6,FALSE),0)","v":1},{"$f":"IFERROR(VLOOKUP(D315,'Study Area Site Variable'!$B$4:$H$1240,7,FALSE),0)","v":0},0,null,"Noatak River-Gates of the Arctic",13,0,0]
["2013-08-01","Hunting","Little Salcha Valley-Salcha","HTNG95","20B",7,{"$f":"IFERROR(VLOOKUP(D316,'Study Area Site Variable'!$B$4:$J$1240,6,FALSE),0)","v":1},{"$f":"IFERROR(VLOOKUP(D316,'Study Area Site Variable'!$B$4:$H$1240,7,FALSE),0)","v":0},0,null,"Nome River-Nome Alaska",1,0,0]
["2013-08-01","Hunting","Little Susitna River","HTNG96","14A",3,{"$f":"IFERROR(VLOOKUP(D317,'Study Area Site Variable'!$B$4:$J$1240,6,FALSE),0)","v":1},{"$f":"IFERROR(VLOOKUP(D317,'Study Area Site Variable'!$B$4:$H$1240,7,FALSE),0)","v":0},0,null,"North Pole Lakes-Unspecified",8,0,0]
["2013-08-01","Hunting","Lower Susitna-Deshka River","HTNG97","16A",21,{"$f":"IFERROR(VLOOKUP(D318,'Study Area Site Variable'!$B$4:$J$1240,6,FALSE),0)","v":1},{"$f":"IFERROR(VLOOKUP(D318,'Study Area Site Variable'!$B$4:$H$1240,7,FALSE),0)","v":0},0,null,"North Sound-Norton Sound",5,0,0]
["2013-08-01","Hunting","Lower Susitna-Port of Anchorage","HTNG98","14A",5,{"$f":"IFERROR(VLOOKUP(D319,'Study Area Site Variable'!$B$4:$J$1240,6,FALSE),0)","v":1},{"$f":"IFERROR(VLOOKUP(D319,'Study Area Site Variable'!$B$4:$H$1240,7,FALSE),0)","v":0},0,null,"Nushagak River-Ekwok",2,2,0]
["2013-08-01","Hunting","Manley Hot Springs-Manley","HTNG99","20B",13,{"$f":"IFERROR(VLOOKUP(D320,'Study Area Site Variable'!$B$4:$J$1240,6,FALSE),0)","v":1},{"$f":"IFERROR(VLOOKUP(D320,'Study Area Site Variable'!$B$4:$H$1240,7,FALSE),0)","v":0},0,null,"olnes pond-rec area",2,0,0]
["2013-08-01","Hunting","Mat-Su Glacier-Glenn Highway","HTNG100","13D",2,{"$f":"IFERROR(VLOOKUP(D321,'Study Area Site Variable'!$B$4:$J$1240,6,FALSE),0)","v":1},{"$f":"IFERROR(VLOOKUP(D321,'Study Area Site Variable'!$B$4:$H$1240,7,FALSE),0)","v":0},0,null,"Otter Lake-Flew from Anchorage to Otter Lake",0,0,0]
["2013-08-01","Hunting","Maud Lake","HTNG101","1A",8,{"$f":"IFERROR(VLOOKUP(D322,'Study Area Site Variable'!$B$4:$J$1240,6,FALSE),0)","v":0},{"$f":"IFERROR(VLOOKUP(D322,'Study Area Site Variable'!$B$4:$H$1240,7,FALSE),0)","v":0},0,null,"Otter Lake-JBER",26,2,0]
["2013-08-01","Hunting","McCarthy","HTNG102",11,4,{"$f":"IFERROR(VLOOKUP(D323,'Study Area Site Variable'!$B$4:$J$1240,6,FALSE),0)","v":1},{"$f":"IFERROR(VLOOKUP(D323,'Study Area Site Variable'!$B$4:$H$1240,7,FALSE),0)","v":0},0,null,"Otto Lake-Healy",1,0,0]
["2013-08-01","Hunting","Meirs Lake","HTNG103","13B",2,{"$f":"IFERROR(VLOOKUP(D324,'Study Area Site Variable'!$B$4:$J$1240,6,FALSE),0)","v":1},{"$f":"IFERROR(VLOOKUP(D324,'Study Area Site Variable'!$B$4:$H$1240,7,FALSE),0)","v":1},0,null,"Partor Lake-Houston",25,0,0]
["2013-08-01","Hunting","Mentasta","HTNG104","13C",10,{"$f":"IFERROR(VLOOKUP(D325,'Study Area Site Variable'!$B$4:$J$1240,6,FALSE),0)","v":1},{"$f":"IFERROR(VLOOKUP(D325,'Study Area Site Variable'!$B$4:$H$1240,7,FALSE),0)","v":0},0,null,"Paxon Lake-Glennallen",17,0,0]
["2013-08-01","Hunting","Miller Creek-Richardson Highway","HTNG105","13B",5,{"$f":"IFERROR(VLOOKUP(D326,'Study Area Site Variable'!$B$4:$J$1240,6,FALSE),0)","v":1},{"$f":"IFERROR(VLOOKUP(D326,'Study Area Site Variable'!$B$4:$H$1240,7,FALSE),0)","v":1},0,null,"piledriver slough-Eielson Air Force Base",4,0,0]
["2013-08-01","Hunting","Minto Flats","HTNG106","14B",24,{"$f":"IFERROR(VLOOKUP(D327,'Study Area Site Variable'!$B$4:$J$1240,6,FALSE),0)","v":1},{"$f":"IFERROR(VLOOKUP(D327,'Study Area Site Variable'!$B$4:$H$1240,7,FALSE),0)","v":1},0,null,"Pippen Lake-Edgerton Hwy",3,0,0]
["2013-08-01","Hunting","Montana Creek-Parks Highway","HTNG107","14B",3,{"$f":"IFERROR(VLOOKUP(D328,'Study Area Site Variable'!$B$4:$J$1240,6,FALSE),0)","v":1},{"$f":"IFERROR(VLOOKUP(D328,'Study Area Site Variable'!$B$4:$H$1240,7,FALSE),0)","v":1},0,null,"Pippin Lake-Edgerton Highway",4,0,0]
["2013-08-01","Hunting","Moose Range-Palmer","HTNG108","14A",2,{"$f":"IFERROR(VLOOKUP(D329,'Study Area Site Variable'!$B$4:$J$1240,6,FALSE),0)","v":1},{"$f":"IFERROR(VLOOKUP(D329,'Study Area Site Variable'!$B$4:$H$1240,7,FALSE),0)","v":0},0,null,"Placer River-AK RR",1,0,0]
["2013-08-01","Hunting","Murphy Dome","HTNG109","20B",16,{"$f":"IFERROR(VLOOKUP(D330,'Study Area Site Variable'!$B$4:$J$1240,6,FALSE),0)","v":1},{"$f":"IFERROR(VLOOKUP(D330,'Study Area Site Variable'!$B$4:$H$1240,7,FALSE),0)","v":0},0,null,"placer river-parking lot boat launch",2,0,0]
["2013-08-01","Hunting","Nabesna Road","HTNG110",11,39,{"$f":"IFERROR(VLOOKUP(D331,'Study Area Site Variable'!$B$4:$J$1240,6,FALSE),0)","v":1},{"$f":"IFERROR(VLOOKUP(D331,'Study Area Site Variable'!$B$4:$H$1240,7,FALSE),0)","v":0},0,null,"Pond 1 & 2 in Portage Valley-Alder Pond exit",7,0,0]
["2013-08-01","Hunting","Nelchina-Glenn Highway","HTNG111","13D",16,{"$f":"IFERROR(VLOOKUP(D332,'Study Area Site Variable'!$B$4:$J$1240,6,FALSE),0)","v":1},{"$f":"IFERROR(VLOOKUP(D332,'Study Area Site Variable'!$B$4:$H$1240,7,FALSE),0)","v":0},0,null,"Porcupine River-Fort Yukon",15,0,0]
["2013-08-01","Hunting","Noetah-Kotzebue","HTNG112",23,7,{"$f":"IFERROR(VLOOKUP(D333,'Study Area Site Variable'!$B$4:$J$1240,6,FALSE),0)","v":0},{"$f":"IFERROR(VLOOKUP(D333,'Study Area Site Variable'!$B$4:$H$1240,7,FALSE),0)","v":0},0,null,"Portage Creek-Begich Boggs Visitor center",4,0,0]
["2013-08-01","Hunting","North Slope-Dalton Highway","HTNG113","26B",7,{"$f":"IFERROR(VLOOKUP(D334,'Study Area Site Variable'!$B$4:$J$1240,6,FALSE),0)","v":0},{"$f":"IFERROR(VLOOKUP(D334,'Study Area Site Variable'!$B$4:$H$1240,7,FALSE),0)","v":0},0,null,"Portage Creek-Portage Valley",21,0,0]
["2013-08-01","Hunting","Nowitna river-Yukon River bridge","HTNG114","21B",13,{"$f":"IFERROR(VLOOKUP(D335,'Study Area Site Variable'!$B$4:$J$1240,6,FALSE),0)","v":0},{"$f":"IFERROR(VLOOKUP(D335,'Study Area Site Variable'!$B$4:$H$1240,7,FALSE),0)","v":0},0,null,"Portage Lake-Boat Launch",4,0,0]
["2013-08-01","Hunting","Palmer Area","HTNG115","14A",5,{"$f":"IFERROR(VLOOKUP(D336,'Study Area Site Variable'!$B$4:$J$1240,6,FALSE),0)","v":1},{"$f":"IFERROR(VLOOKUP(D336,'Study Area Site Variable'!$B$4:$H$1240,7,FALSE),0)","v":0},0,null,"Portage Lake-Portage",2,0,0]
["2013-08-01","Hunting","Palmer Hay Flats","HTNG116","14A",42,{"$f":"IFERROR(VLOOKUP(D337,'Study Area Site Variable'!$B$4:$J$1240,6,FALSE),0)","v":1},{"$f":"IFERROR(VLOOKUP(D337,'Study Area Site Variable'!$B$4:$H$1240,7,FALSE),0)","v":0},1,null,"Portage Lake-Portage River",0,0,0]
["2013-08-01","Hunting","Paxton","HTNG117","13B",5,{"$f":"IFERROR(VLOOKUP(D338,'Study Area Site Variable'!$B$4:$J$1240,6,FALSE),0)","v":1},{"$f":"IFERROR(VLOOKUP(D338,'Study Area Site Variable'!$B$4:$H$1240,7,FALSE),0)","v":1},0,null,"Portage Lake-Sterling, AK",1,0,0]
["2013-08-01","Hunting","Peters Creek","HTNG118","16A",5,{"$f":"IFERROR(VLOOKUP(D339,'Study Area Site Variable'!$B$4:$J$1240,6,FALSE),0)","v":1},{"$f":"IFERROR(VLOOKUP(D339,'Study Area Site Variable'!$B$4:$H$1240,7,FALSE),0)","v":0},0,null,"Prince William Sound-Cordova",27,0,0]
["2013-08-01","Hunting","Petersville-Talkeetna","HTNG119","16A",2,{"$f":"IFERROR(VLOOKUP(D340,'Study Area Site Variable'!$B$4:$J$1240,6,FALSE),0)","v":1},{"$f":"IFERROR(VLOOKUP(D340,'Study Area Site Variable'!$B$4:$H$1240,7,FALSE),0)","v":0},0,null,"Prince William Sound-Hinchinbrok Island",3,0,0]
["2013-08-01","Hunting","Petersville-Trapper Creek","HTNG120","16A",13,{"$f":"IFERROR(VLOOKUP(D341,'Study Area Site Variable'!$B$4:$J$1240,6,FALSE),0)","v":1},{"$f":"IFERROR(VLOOKUP(D341,'Study Area Site Variable'!$B$4:$H$1240,7,FALSE),0)","v":0},0,null,"Prince William Sound-Hydaburg",2,0,0]
["2013-08-01","Hunting","Point Mackenzie","HTNG121","14A",23,{"$f":"IFERROR(VLOOKUP(D342,'Study Area Site Variable'!$B$4:$J$1240,6,FALSE),0)","v":1},{"$f":"IFERROR(VLOOKUP(D342,'Study Area Site Variable'!$B$4:$H$1240,7,FALSE),0)","v":0},0,null,"Prince William Sound-Seward",210,0,0]
["2013-08-01","Hunting","Poker Creek-Boundery, AK","HTNG122","20E",61,{"$f":"IFERROR(VLOOKUP(D343,'Study Area Site Variable'!$B$4:$J$1240,6,FALSE),0)","v":1},{"$f":"IFERROR(VLOOKUP(D343,'Study Area Site Variable'!$B$4:$H$1240,7,FALSE),0)","v":0},0,null,"Prince William Sound-Valdez",192,0,0]
["2013-08-01","Hunting","Portage Area","HTNG123","14C",30,{"$f":"IFERROR(VLOOKUP(D344,'Study Area Site Variable'!$B$4:$J$1240,6,FALSE),0)","v":1},{"$f":"IFERROR(VLOOKUP(D344,'Study Area Site Variable'!$B$4:$H$1240,7,FALSE),0)","v":0},0,null,"Prince William Sound-Whittier",539,7,0]
["2013-08-01","Hunting","Prince of Wales Island ","HTNG124",2,17,{"$f":"IFERROR(VLOOKUP(D345,'Study Area Site Variable'!$B$4:$J$1240,6,FALSE),0)","v":0},{"$f":"IFERROR(VLOOKUP(D345,'Study Area Site Variable'!$B$4:$H$1240,7,FALSE),0)","v":0},0,null,"Puntilla Lake-Rainy Pass Lodge",1,0,0]
["2013-08-01","Hunting","Prince William Sound-Whittier","HTNG125","6D",27,{"$f":"IFERROR(VLOOKUP(D346,'Study Area Site Variable'!$B$4:$J$1240,6,FALSE),0)","v":1},{"$f":"IFERROR(VLOOKUP(D346,'Study Area Site Variable'!$B$4:$H$1240,7,FALSE),0)","v":0},0,null,"Pup Lake-Big Lake",2,0,0]
["2013-08-01","Hunting","Quartz Lake-Big Delta","HTNG126","20D",10,{"$f":"IFERROR(VLOOKUP(D347,'Study Area Site Variable'!$B$4:$J$1240,6,FALSE),0)","v":1},{"$f":"IFERROR(VLOOKUP(D347,'Study Area Site Variable'!$B$4:$H$1240,7,FALSE),0)","v":0},0,null,"Quartz Lake-Quartz Lake Boat Launch",26,0,0]
["2013-08-01","Hunting","Rabbit Slough-Wasilla","HTNG127","14A",6,{"$f":"IFERROR(VLOOKUP(D348,'Study Area Site Variable'!$B$4:$J$1240,6,FALSE),0)","v":1},{"$f":"IFERROR(VLOOKUP(D348,'Study Area Site Variable'!$B$4:$H$1240,7,FALSE),0)","v":0},0,null,"Quartz Lake-Richardson Highway",56,0,0]
["2013-08-01","Hunting","Redoubt Mountain","HTNG128","16B",7,{"$f":"IFERROR(VLOOKUP(D349,'Study Area Site Variable'!$B$4:$J$1240,6,FALSE),0)","v":1},{"$f":"IFERROR(VLOOKUP(D349,'Study Area Site Variable'!$B$4:$H$1240,7,FALSE),0)","v":0},0,null,"Rabbit Lake-Rabbit Lake",1,0,0]
["2013-08-01","Hunting","Resurrection Pass","HTNG129",7,3,{"$f":"IFERROR(VLOOKUP(D350,'Study Area Site Variable'!$B$4:$J$1240,6,FALSE),0)","v":1},{"$f":"IFERROR(VLOOKUP(D350,'Study Area Site Variable'!$B$4:$H$1240,7,FALSE),0)","v":0},0,null,"Rabbit slough-Palmer",11,0,0]
["2013-08-01","Hunting","Resurrection Pass-Hope","HTNG130",7,5,{"$f":"IFERROR(VLOOKUP(D351,'Study Area Site Variable'!$B$4:$J$1240,6,FALSE),0)","v":1},{"$f":"IFERROR(VLOOKUP(D351,'Study Area Site Variable'!$B$4:$H$1240,7,FALSE),0)","v":0},0,null,"Rainbow Lake-Sterling, AK",1,0,0]
["2013-08-01","Hunting","Revillageogideo-Ketchikan","HTNG131","1A",8,{"$f":"IFERROR(VLOOKUP(D352,'Study Area Site Variable'!$B$4:$J$1240,6,FALSE),0)","v":0},{"$f":"IFERROR(VLOOKUP(D352,'Study Area Site Variable'!$B$4:$H$1240,7,FALSE),0)","v":0},0,null,"Rainbow Lake-Wasilla",27,0,0]
["2013-08-01","Hunting","Rex TraIl-Parks Highway","HTNG132","20A",12,{"$f":"IFERROR(VLOOKUP(D353,'Study Area Site Variable'!$B$4:$J$1240,6,FALSE),0)","v":1},{"$f":"IFERROR(VLOOKUP(D353,'Study Area Site Variable'!$B$4:$H$1240,7,FALSE),0)","v":0},0,null,"Red Shirt Lake-HIke",33,0,0]
["2013-08-01","Hunting","Richardson Hwy-Black Rapids","HTNG133","20B",18,{"$f":"IFERROR(VLOOKUP(D354,'Study Area Site Variable'!$B$4:$J$1240,6,FALSE),0)","v":1},{"$f":"IFERROR(VLOOKUP(D354,'Study Area Site Variable'!$B$4:$H$1240,7,FALSE),0)","v":0},0,null,"Reid Lake-Wasilla",6,0,0]
["2013-08-01","Hunting","Richardson Hwy-Paxton","HTNG134","13B",9,{"$f":"IFERROR(VLOOKUP(D355,'Study Area Site Variable'!$B$4:$J$1240,6,FALSE),0)","v":1},{"$f":"IFERROR(VLOOKUP(D355,'Study Area Site Variable'!$B$4:$H$1240,7,FALSE),0)","v":1},0,null,"Resurrection Bay-Seward",276,1,0]
["2013-08-01","Hunting","Salcha River","HTNG135","20B",31,{"$f":"IFERROR(VLOOKUP(D356,'Study Area Site Variable'!$B$4:$J$1240,6,FALSE),0)","v":1},{"$f":"IFERROR(VLOOKUP(D356,'Study Area Site Variable'!$B$4:$H$1240,7,FALSE),0)","v":0},0,null,"Riley Creek-Hike in",2,0,0]
["2013-08-01","Hunting","Seldovia","HTNG136","15C",5,{"$f":"IFERROR(VLOOKUP(D357,'Study Area Site Variable'!$B$4:$J$1240,6,FALSE),0)","v":0},{"$f":"IFERROR(VLOOKUP(D357,'Study Area Site Variable'!$B$4:$H$1240,7,FALSE),0)","v":0},0,null,"Rocky Lake-Big Lake",18,0,0]
["2013-08-01","Hunting","Seward Highway MP52","HTNG137",7,3,{"$f":"IFERROR(VLOOKUP(D358,'Study Area Site Variable'!$B$4:$J$1240,6,FALSE),0)","v":1},{"$f":"IFERROR(VLOOKUP(D358,'Study Area Site Variable'!$B$4:$H$1240,7,FALSE),0)","v":0},0,null,"Ryan Lake-Mile 149 Glenn Hwy",6,0,0]
["2013-08-01","Hunting","Sheep Mountain-Glenn Highway","HTNG138","13A",12,{"$f":"IFERROR(VLOOKUP(D359,'Study Area Site Variable'!$B$4:$J$1240,6,FALSE),0)","v":1},{"$f":"IFERROR(VLOOKUP(D359,'Study Area Site Variable'!$B$4:$H$1240,7,FALSE),0)","v":1},0,null,"Sadlerochit River-Walked to headwaters from Marsh Fork",2,0,0]
["2013-08-01","Hunting","Sitka-Indian River Road","HTNG139",4,3,{"$f":"IFERROR(VLOOKUP(D360,'Study Area Site Variable'!$B$4:$J$1240,6,FALSE),0)","v":0},{"$f":"IFERROR(VLOOKUP(D360,'Study Area Site Variable'!$B$4:$H$1240,7,FALSE),0)","v":0},0,null,"Salcha River-Salcha Rec Area",61,0,0]
["2013-08-01","Hunting","Skilak Lake-Sterling Highway","HTNG140","15B",1,{"$f":"IFERROR(VLOOKUP(D361,'Study Area Site Variable'!$B$4:$J$1240,6,FALSE),0)","v":0},{"$f":"IFERROR(VLOOKUP(D361,'Study Area Site Variable'!$B$4:$H$1240,7,FALSE),0)","v":0},0,null,"Salmon Lake-Nome Alaska",1,0,0]
["2013-08-01","Hunting","Skwenta River-Deshka Landing","HTNG141","16A",16,{"$f":"IFERROR(VLOOKUP(D362,'Study Area Site Variable'!$B$4:$J$1240,6,FALSE),0)","v":1},{"$f":"IFERROR(VLOOKUP(D362,'Study Area Site Variable'!$B$4:$H$1240,7,FALSE),0)","v":0},0,null,"salmon river-aniak,ak",2,0,0]
["2013-08-01","Hunting","Steese Highway","HTNG142","20B, 25C",17,{"$f":"IFERROR(VLOOKUP(D363,'Study Area Site Variable'!$B$4:$J$1240,6,FALSE),0)","v":1},{"$f":"IFERROR(VLOOKUP(D363,'Study Area Site Variable'!$B$4:$H$1240,7,FALSE),0)","v":0},0,null,"Sand Lake-Anchorage",306,0,0]
["2013-08-01","Hunting","Sterling Highway-Sterling","HTNG143","15A",2,{"$f":"IFERROR(VLOOKUP(D364,'Study Area Site Variable'!$B$4:$J$1240,6,FALSE),0)","v":0},{"$f":"IFERROR(VLOOKUP(D364,'Study Area Site Variable'!$B$4:$H$1240,7,FALSE),0)","v":0},0,null,"Scotty Lake-Petersville Rd.",1,0,0]
["2013-08-01","Hunting","Sutton-Glenn Highway","HTNG144","14A",13,{"$f":"IFERROR(VLOOKUP(D365,'Study Area Site Variable'!$B$4:$J$1240,6,FALSE),0)","v":1},{"$f":"IFERROR(VLOOKUP(D365,'Study Area Site Variable'!$B$4:$H$1240,7,FALSE),0)","v":0},0,null,"Sedovia Slough-Seldovia",1,0,0]
["2013-08-01","Hunting","Talkeetna Mounta","HTNG145","13A",30,{"$f":"IFERROR(VLOOKUP(D366,'Study Area Site Variable'!$B$4:$J$1240,6,FALSE),0)","v":1},{"$f":"IFERROR(VLOOKUP(D366,'Study Area Site Variable'!$B$4:$H$1240,7,FALSE),0)","v":1},0,null,"Seven Lake Canoe Trail System-Palmer",2,0,0]
["2013-08-01","Hunting","Talkeetna Mountains-Palmer","HTNG146","14A",4,{"$f":"IFERROR(VLOOKUP(D367,'Study Area Site Variable'!$B$4:$J$1240,6,FALSE),0)","v":1},{"$f":"IFERROR(VLOOKUP(D367,'Study Area Site Variable'!$B$4:$H$1240,7,FALSE),0)","v":0},0,null,"seymour lake-public access",10,0,0]
["2013-08-01","Hunting","Talkeetna Mountains-Sheep Mountain","HTNG147","13A",20,{"$f":"IFERROR(VLOOKUP(D368,'Study Area Site Variable'!$B$4:$J$1240,6,FALSE),0)","v":1},{"$f":"IFERROR(VLOOKUP(D368,'Study Area Site Variable'!$B$4:$H$1240,7,FALSE),0)","v":1},0,null,"Ship Creek-Anchorage",1,0,0]
["2013-08-01","Hunting","Talkeetna Spur Road","HTNG148","14B",22,{"$f":"IFERROR(VLOOKUP(D369,'Study Area Site Variable'!$B$4:$J$1240,6,FALSE),0)","v":1},{"$f":"IFERROR(VLOOKUP(D369,'Study Area Site Variable'!$B$4:$H$1240,7,FALSE),0)","v":1},22,null,"Silver Lake-Chitna",2,0,0]
["2013-08-01","Hunting","Talkeetna-Survey Grid 52","HTNG149","14B",2,{"$f":"IFERROR(VLOOKUP(D370,'Study Area Site Variable'!$B$4:$J$1240,6,FALSE),0)","v":1},{"$f":"IFERROR(VLOOKUP(D370,'Study Area Site Variable'!$B$4:$H$1240,7,FALSE),0)","v":1},0,null,"Sitka",4,0,0]
["2013-08-01","Hunting","Talkeetna-Unspecified","HTNG150","14B",8,{"$f":"IFERROR(VLOOKUP(D371,'Study Area Site Variable'!$B$4:$J$1240,6,FALSE),0)","v":1},{"$f":"IFERROR(VLOOKUP(D371,'Study Area Site Variable'!$B$4:$H$1240,7,FALSE),0)","v":1},0,null,"Sitka Sound-Sitka",7,0,0]
["2013-08-01","Hunting","Tanana River-Fairbanks","HTNG151","20B",17,{"$f":"IFERROR(VLOOKUP(D372,'Study Area Site Variable'!$B$4:$J$1240,6,FALSE),0)","v":1},{"$f":"IFERROR(VLOOKUP(D372,'Study Area Site Variable'!$B$4:$H$1240,7,FALSE),0)","v":0},0,null,"Six Mile Creek-Hope Turnout",19,0,0]
["2013-08-01","Hunting","Tanana River-Nenana","HTNG152","20A",10,{"$f":"IFERROR(VLOOKUP(D373,'Study Area Site Variable'!$B$4:$J$1240,6,FALSE),0)","v":1},{"$f":"IFERROR(VLOOKUP(D373,'Study Area Site Variable'!$B$4:$H$1240,7,FALSE),0)","v":0},0,null,"Skilak Lake",60,0,0]
["2013-08-01","Hunting","Tatlanika River-mile 290 parks hwy","HTNG153","13E",6,{"$f":"IFERROR(VLOOKUP(D374,'Study Area Site Variable'!$B$4:$J$1240,6,FALSE),0)","v":1},{"$f":"IFERROR(VLOOKUP(D374,'Study Area Site Variable'!$B$4:$H$1240,7,FALSE),0)","v":1},0,null,"Skilak Lake-Skilak Lake",7,0,0]
["2013-08-01","Hunting","Taylor Highway-Chicken","HTNG154","20E",24,{"$f":"IFERROR(VLOOKUP(D375,'Study Area Site Variable'!$B$4:$J$1240,6,FALSE),0)","v":1},{"$f":"IFERROR(VLOOKUP(D375,'Study Area Site Variable'!$B$4:$H$1240,7,FALSE),0)","v":0},0,null,"skilak lake-upper landing",59,0,0]
["2013-08-01","Hunting","Tetlin Wildlife Refuge-Tetlin","HTNG155",12,10,{"$f":"IFERROR(VLOOKUP(D376,'Study Area Site Variable'!$B$4:$J$1240,6,FALSE),0)","v":1},{"$f":"IFERROR(VLOOKUP(D376,'Study Area Site Variable'!$B$4:$H$1240,7,FALSE),0)","v":0},0,null,"Skwentna River-Deshka Landing",76,0,0]
["2013-08-01","Hunting","Tok Area","HTNG156",12,26,{"$f":"IFERROR(VLOOKUP(D377,'Study Area Site Variable'!$B$4:$J$1240,6,FALSE),0)","v":1},{"$f":"IFERROR(VLOOKUP(D377,'Study Area Site Variable'!$B$4:$H$1240,7,FALSE),0)","v":0},0,null,"Slana River-Mile 64",4,0,0]
["2013-08-01","Hunting","Tok Cut Off-Delta Junction","HTNG157","12, 20D, 20A",5,{"$f":"IFERROR(VLOOKUP(D378,'Study Area Site Variable'!$B$4:$J$1240,6,FALSE),0)","v":1},{"$f":"IFERROR(VLOOKUP(D378,'Study Area Site Variable'!$B$4:$H$1240,7,FALSE),0)","v":0},0,null,"Slana River-Slana",1,0,0]
["2013-08-01","Hunting","Tonsina Lake-Richardson Hwy","HTNG158","13D",10,{"$f":"IFERROR(VLOOKUP(D379,'Study Area Site Variable'!$B$4:$J$1240,6,FALSE),0)","v":1},{"$f":"IFERROR(VLOOKUP(D379,'Study Area Site Variable'!$B$4:$H$1240,7,FALSE),0)","v":0},0,null,"Slaw Creek-Private",1,0,0]
["2013-08-01","Hunting","Torpedo Lake-Kenai Keys","HTNG159","15B",2,{"$f":"IFERROR(VLOOKUP(D380,'Study Area Site Variable'!$B$4:$J$1240,6,FALSE),0)","v":0},{"$f":"IFERROR(VLOOKUP(D380,'Study Area Site Variable'!$B$4:$H$1240,7,FALSE),0)","v":0},0,null,"Slipper Lake-Sutton",5,0,0]
["2013-08-01","Hunting","Totat River-Healy","HTNG160","20A",14,{"$f":"IFERROR(VLOOKUP(D381,'Study Area Site Variable'!$B$4:$J$1240,6,FALSE),0)","v":1},{"$f":"IFERROR(VLOOKUP(D381,'Study Area Site Variable'!$B$4:$H$1240,7,FALSE),0)","v":0},0,null,"Snow River-Kenai Peninsula",1,0,0]
["2013-08-01","Hunting","Trading Bay-Anchorage","HTNG161","16B, 14A, 14C",3,{"$f":"IFERROR(VLOOKUP(D382,'Study Area Site Variable'!$B$4:$J$1240,6,FALSE),0)","v":1},{"$f":"IFERROR(VLOOKUP(D382,'Study Area Site Variable'!$B$4:$H$1240,7,FALSE),0)","v":0},0,null,"South Rolly Lake-South Rolly Lake Campground",4,0,0]
["2013-08-01","Hunting","Trapper Creek","HTNG162","16A",10,{"$f":"IFERROR(VLOOKUP(D383,'Study Area Site Variable'!$B$4:$J$1240,6,FALSE),0)","v":1},{"$f":"IFERROR(VLOOKUP(D383,'Study Area Site Variable'!$B$4:$H$1240,7,FALSE),0)","v":0},0,null,"Spencer Lake-AK RR",2,0,0]
["2013-08-01","Hunting","Turnagain Pass","HTNG163",7,1,{"$f":"IFERROR(VLOOKUP(D384,'Study Area Site Variable'!$B$4:$J$1240,6,FALSE),0)","v":1},{"$f":"IFERROR(VLOOKUP(D384,'Study Area Site Variable'!$B$4:$H$1240,7,FALSE),0)","v":0},0,null,"Stephan Lake-Stephan Lake",73,73,0]
["2013-08-01","Hunting","Two Rivers-Two Rivers Rd","HTNG164","20B",5,{"$f":"IFERROR(VLOOKUP(D385,'Study Area Site Variable'!$B$4:$J$1240,6,FALSE),0)","v":1},{"$f":"IFERROR(VLOOKUP(D385,'Study Area Site Variable'!$B$4:$H$1240,7,FALSE),0)","v":0},0,null,"Stuyahok River-Iliamna",6,0,0]
["2013-08-01","Hunting","Uncodeable","HTNG165",0,73,{"$f":"IFERROR(VLOOKUP(D386,'Study Area Site Variable'!$B$4:$J$1240,6,FALSE),0)","v":0},{"$f":"IFERROR(VLOOKUP(D386,'Study Area Site Variable'!$B$4:$H$1240,7,FALSE),0)","v":0},0,null,"Summit Lake-Tender Foot Camp",1,0,0]
["2013-08-01","Hunting","Unit 13-Glenn Highway","HTNG166","13A",4,{"$f":"IFERROR(VLOOKUP(D387,'Study Area Site Variable'!$B$4:$J$1240,6,FALSE),0)","v":1},{"$f":"IFERROR(VLOOKUP(D387,'Study Area Site Variable'!$B$4:$H$1240,7,FALSE),0)","v":1},0,null,"Summitt Lake-Kenai Peninsula",7,0,0]
["2013-08-01","Hunting","Upper Susitna- Denali","HTNG167","13E, 16A",15,{"$f":"IFERROR(VLOOKUP(D388,'Study Area Site Variable'!$B$4:$J$1240,6,FALSE),0)","v":1},{"$f":"IFERROR(VLOOKUP(D388,'Study Area Site Variable'!$B$4:$H$1240,7,FALSE),0)","v":1},0,null,"Susitna Lake-Lake Louise",27,20,0]
["2013-08-01","Hunting","Valdez Area","HTNG168","6D",14,{"$f":"IFERROR(VLOOKUP(D389,'Study Area Site Variable'!$B$4:$J$1240,6,FALSE),0)","v":1},{"$f":"IFERROR(VLOOKUP(D389,'Study Area Site Variable'!$B$4:$H$1240,7,FALSE),0)","v":0},0,null,"Susitna River-Deshka Landing",42,0,2]
["2013-08-01","Hunting","White Mountain-Fairbanks","HTNG169","20B",3,{"$f":"IFERROR(VLOOKUP(D390,'Study Area Site Variable'!$B$4:$J$1240,6,FALSE),0)","v":1},{"$f":"IFERROR(VLOOKUP(D390,'Study Area Site Variable'!$B$4:$H$1240,7,FALSE),0)","v":0},0,null,"Susitna River-Gold Creek",2,0,0]
["2013-08-01","Hunting","Whittier","HTNG170","6D",3,{"$f":"IFERROR(VLOOKUP(D391,'Study Area Site Variable'!$B$4:$J$1240,6,FALSE),0)","v":0},{"$f":"IFERROR(VLOOKUP(D391,'Study Area Site Variable'!$B$4:$H$1240,7,FALSE),0)","v":0},0,null,"Susitna River-Portage Creek",3,0,0]
["2013-08-01","Hunting","Williow Area","HTNG171","14A",39,{"$f":"IFERROR(VLOOKUP(D392,'Study Area Site Variable'!$B$4:$J$1240,6,FALSE),0)","v":1},{"$f":"IFERROR(VLOOKUP(D392,'Study Area Site Variable'!$B$4:$H$1240,7,FALSE),0)","v":0},0,null,"Susitna River-Susitna Landing",12,0,2]
["2013-08-01","Hunting","Yentna River-Deshka Landing","HTNG172","16A",5,{"$f":"IFERROR(VLOOKUP(D393,'Study Area Site Variable'!$B$4:$J$1240,6,FALSE),0)","v":1},{"$f":"IFERROR(VLOOKUP(D393,'Study Area Site Variable'!$B$4:$H$1240,7,FALSE),0)","v":0},0,null,"Susitna River-Talkeetna",51,8,0]
["2013-08-01","Hunting","Yentna River-Susitna Landing","HTNG173","16A, 16B",9,{"$f":"IFERROR(VLOOKUP(D394,'Study Area Site Variable'!$B$4:$J$1240,6,FALSE),0)","v":1},{"$f":"IFERROR(VLOOKUP(D394,'Study Area Site Variable'!$B$4:$H$1240,7,FALSE),0)","v":0},0,null,"Susitna River-Willow",11,0,0]
["2013-08-01","Hunting","Yukon River-Circle","HTNG174","25D",16,{"$f":"IFERROR(VLOOKUP(D395,'Study Area Site Variable'!$B$4:$J$1240,6,FALSE),0)","v":1},{"$f":"IFERROR(VLOOKUP(D395,'Study Area Site Variable'!$B$4:$H$1240,7,FALSE),0)","v":0},0,null,"Sutton Lake-Sutton",5,0,0]
["2013-08-01","Hunting","Zero Lake-Zero Lake Road","HTNG175","14A",11,{"$f":"IFERROR(VLOOKUP(D396,'Study Area Site Variable'!$B$4:$J$1240,6,FALSE),0)","v":1},{"$f":"IFERROR(VLOOKUP(D396,'Study Area Site Variable'!$B$4:$H$1240,7,FALSE),0)","v":0},0,null,"Swan Lake System-Sterling",4,0,0]
["2014-05-01","Hunting","20 Mile River-Portage","HTNG1","14C",10,{"$f":"IFERROR(VLOOKUP(D397,'Study Area Site Variable'!$B$4:$J$1240,6,FALSE),0)","v":1},{"$f":"IFERROR(VLOOKUP(D397,'Study Area Site Variable'!$B$4:$H$1240,7,FALSE),0)","v":0},0,null,"Swan Lake-Flew in from Talkeetna",12,12,0]
["2014-05-01","Hunting","Adak Island","HTNG2",10,0,{"$f":"IFERROR(VLOOKUP(D398,'Study Area Site Variable'!$B$4:$J$1240,6,FALSE),0)","v":0},{"$f":"IFERROR(VLOOKUP(D398,'Study Area Site Variable'!$B$4:$H$1240,7,FALSE),0)","v":0},0,null,"Swanson River Canoeing Trail-Kenai ",11,0,0]
["2014-05-01","Hunting","Admiralty Island-Angoon","HTNG3",4,0,{"$f":"IFERROR(VLOOKUP(D399,'Study Area Site Variable'!$B$4:$J$1240,6,FALSE),0)","v":0},{"$f":"IFERROR(VLOOKUP(D399,'Study Area Site Variable'!$B$4:$H$1240,7,FALSE),0)","v":0},0,null,"Takotna River-McGrath",4,0,0]
["2014-05-01","Hunting","Alaska Range-Healy","HTNG4","20A",44,{"$f":"IFERROR(VLOOKUP(D400,'Study Area Site Variable'!$B$4:$J$1240,6,FALSE),0)","v":1},{"$f":"IFERROR(VLOOKUP(D400,'Study Area Site Variable'!$B$4:$H$1240,7,FALSE),0)","v":0},0,null,"Taku Lake-Anchorage",2,0,0]
["2014-05-01","Hunting","Alone Creek","Uncodeable",0,369,{"$f":"IFERROR(VLOOKUP(D401,'Study Area Site Variable'!$B$4:$J$1240,6,FALSE),0)","v":0},{"$f":"IFERROR(VLOOKUP(D401,'Study Area Site Variable'!$B$4:$H$1240,7,FALSE),0)","v":0},17,null,"Talachulitna-Judd Lake",8,0,0]
["2014-05-01","Hunting","Anchorage Coastal Wildlife Refuge-Rabbit Creek","HTNG5","14C",0,{"$f":"IFERROR(VLOOKUP(D402,'Study Area Site Variable'!$B$4:$J$1240,6,FALSE),0)","v":1},{"$f":"IFERROR(VLOOKUP(D402,'Study Area Site Variable'!$B$4:$H$1240,7,FALSE),0)","v":0},0,null,"Talkeetna Area Lakes",3,3,0]
["2014-05-01","Hunting","Applegate Cove-Cold Bay","HTNG6","9D",0,{"$f":"IFERROR(VLOOKUP(D403,'Study Area Site Variable'!$B$4:$J$1240,6,FALSE),0)","v":0},{"$f":"IFERROR(VLOOKUP(D403,'Study Area Site Variable'!$B$4:$H$1240,7,FALSE),0)","v":0},0,null,"Talkeetna River-Fly-in",3,0,0]
["2014-05-01","Hunting","Arctic Valley","HTNG7","14C",0,{"$f":"IFERROR(VLOOKUP(D404,'Study Area Site Variable'!$B$4:$J$1240,6,FALSE),0)","v":1},{"$f":"IFERROR(VLOOKUP(D404,'Study Area Site Variable'!$B$4:$H$1240,7,FALSE),0)","v":0},0,null,"Talkeetna River-Talkeetna",12,2,0]
["2014-05-01","Hunting","Big Lake-Fish Creek","HTNG8","14A",0,{"$f":"IFERROR(VLOOKUP(D405,'Study Area Site Variable'!$B$4:$J$1240,6,FALSE),0)","v":1},{"$f":"IFERROR(VLOOKUP(D405,'Study Area Site Variable'!$B$4:$H$1240,7,FALSE),0)","v":0},0,null,"Talkeetna River-Talkeetna River",2,0,2]
["2014-05-01","Hunting","Billy Creek-Glenn Hwy MP 88","HTNG9","13A",0,{"$f":"IFERROR(VLOOKUP(D406,'Study Area Site Variable'!$B$4:$J$1240,6,FALSE),0)","v":1},{"$f":"IFERROR(VLOOKUP(D406,'Study Area Site Variable'!$B$4:$H$1240,7,FALSE),0)","v":1},0,null,"Tanaina Lake-Nancy Lake State Recreation Area",1,0,0]
["2014-05-01","Hunting","Birch Creek-147 Steese Hwy","HTNG10","20B",0,{"$f":"IFERROR(VLOOKUP(D407,'Study Area Site Variable'!$B$4:$J$1240,6,FALSE),0)","v":1},{"$f":"IFERROR(VLOOKUP(D407,'Study Area Site Variable'!$B$4:$H$1240,7,FALSE),0)","v":0},0,null,"Tanana Lake",1,0,0]
["2014-05-01","Hunting","Bird Creek-Seward Highway","HTNG11","14C",0,{"$f":"IFERROR(VLOOKUP(D408,'Study Area Site Variable'!$B$4:$J$1240,6,FALSE),0)","v":1},{"$f":"IFERROR(VLOOKUP(D408,'Study Area Site Variable'!$B$4:$H$1240,7,FALSE),0)","v":0},0,null,"Tanana River-Chena",30,0,0]
["2014-05-01","Hunting","Bonanza Creek-Ester","HTNG12","20B",0,{"$f":"IFERROR(VLOOKUP(D409,'Study Area Site Variable'!$B$4:$J$1240,6,FALSE),0)","v":1},{"$f":"IFERROR(VLOOKUP(D409,'Study Area Site Variable'!$B$4:$H$1240,7,FALSE),0)","v":0},0,null,"Tanana River-Delta",12,0,0]
["2014-05-01","Hunting","Boulder Creek","HTNG13","14A",0,{"$f":"IFERROR(VLOOKUP(D410,'Study Area Site Variable'!$B$4:$J$1240,6,FALSE),0)","v":1},{"$f":"IFERROR(VLOOKUP(D410,'Study Area Site Variable'!$B$4:$H$1240,7,FALSE),0)","v":0},0,null,"Tanana River-Fairbanks",14,0,0]
["2014-05-01","Hunting","Brooks Range-Bettles","HTNG14","24B",7,{"$f":"IFERROR(VLOOKUP(D411,'Study Area Site Variable'!$B$4:$J$1240,6,FALSE),0)","v":0},{"$f":"IFERROR(VLOOKUP(D411,'Study Area Site Variable'!$B$4:$H$1240,7,FALSE),0)","v":0},7,null,"Tanana River-Manley",2,0,0]
["2014-05-01","Hunting","Brooks Range-Coldfoot","HTNG15","24A",53,{"$f":"IFERROR(VLOOKUP(D412,'Study Area Site Variable'!$B$4:$J$1240,6,FALSE),0)","v":0},{"$f":"IFERROR(VLOOKUP(D412,'Study Area Site Variable'!$B$4:$H$1240,7,FALSE),0)","v":0},0,null,"Tanana River-Nenana",10,0,0]
["2014-05-01","Hunting","Brooks Range-Fairbanks","HTNG16","20A",264,{"$f":"IFERROR(VLOOKUP(D413,'Study Area Site Variable'!$B$4:$J$1240,6,FALSE),0)","v":1},{"$f":"IFERROR(VLOOKUP(D413,'Study Area Site Variable'!$B$4:$H$1240,7,FALSE),0)","v":0},0,null,"tanana river-rosie creek/chena pump rd",2,0,0]
["2014-05-01","Hunting","Brooks Range-Galberth Lake","HTNG17","26B",10,{"$f":"IFERROR(VLOOKUP(D414,'Study Area Site Variable'!$B$4:$J$1240,6,FALSE),0)","v":0},{"$f":"IFERROR(VLOOKUP(D414,'Study Area Site Variable'!$B$4:$H$1240,7,FALSE),0)","v":0},0,null,"Tanana River-Tanacross",14,0,0]
["2014-05-01","Hunting","Brooks Range-Happy Valley","HTNG18","26B",0,{"$f":"IFERROR(VLOOKUP(D415,'Study Area Site Variable'!$B$4:$J$1240,6,FALSE),0)","v":0},{"$f":"IFERROR(VLOOKUP(D415,'Study Area Site Variable'!$B$4:$H$1240,7,FALSE),0)","v":0},0,null,"Tanana River-Tanana River Boat Landing",31,0,0]
["2014-05-01","Hunting","Brooks Range-Marsh Fork","HTNG19","26C",0,{"$f":"IFERROR(VLOOKUP(D416,'Study Area Site Variable'!$B$4:$J$1240,6,FALSE),0)","v":0},{"$f":"IFERROR(VLOOKUP(D416,'Study Area Site Variable'!$B$4:$H$1240,7,FALSE),0)","v":0},0,null,"Tanana River-Tok",3,0,0]
["2014-05-01","Hunting","Cantwell","HTNG20","13E",242,{"$f":"IFERROR(VLOOKUP(D417,'Study Area Site Variable'!$B$4:$J$1240,6,FALSE),0)","v":1},{"$f":"IFERROR(VLOOKUP(D417,'Study Area Site Variable'!$B$4:$H$1240,7,FALSE),0)","v":1},89,null,"Tangle Lakes- Denali Highway",56,0,0]
["2014-05-01","Hunting","Chatanika River-Elliot Bridge","HTNG21","20B",0,{"$f":"IFERROR(VLOOKUP(D418,'Study Area Site Variable'!$B$4:$J$1240,6,FALSE),0)","v":1},{"$f":"IFERROR(VLOOKUP(D418,'Study Area Site Variable'!$B$4:$H$1240,7,FALSE),0)","v":0},0,null,"Tangle Lakes/Delta River-Maclaren River Lodge",3,0,0]
["2014-05-01","Hunting","Chena Hot Springs Rd-Chena Hot Springs Rd","HTNG22","20B",99,{"$f":"IFERROR(VLOOKUP(D419,'Study Area Site Variable'!$B$4:$J$1240,6,FALSE),0)","v":1},{"$f":"IFERROR(VLOOKUP(D419,'Study Area Site Variable'!$B$4:$H$1240,7,FALSE),0)","v":0},0,null,"Tangle Lakes-BLM Boat Launch",16,0,0]
["2014-05-01","Hunting","Chickaloon-Glenn Highway","HTNG23","14A",0,{"$f":"IFERROR(VLOOKUP(D420,'Study Area Site Variable'!$B$4:$J$1240,6,FALSE),0)","v":1},{"$f":"IFERROR(VLOOKUP(D420,'Study Area Site Variable'!$B$4:$H$1240,7,FALSE),0)","v":0},0,null,"Tazlina River-Richardson Hwy",1,0,0]
["2014-05-01","Hunting","Chicken","HTNG24","20E",0,{"$f":"IFERROR(VLOOKUP(D421,'Study Area Site Variable'!$B$4:$J$1240,6,FALSE),0)","v":1},{"$f":"IFERROR(VLOOKUP(D421,'Study Area Site Variable'!$B$4:$H$1240,7,FALSE),0)","v":0},0,null,"Tazlina River-Tazlina Lake",7,0,0]
["2014-05-01","Hunting","Chicken Ridge-Chicken","HTNG25","20E",11,{"$f":"IFERROR(VLOOKUP(D422,'Study Area Site Variable'!$B$4:$J$1240,6,FALSE),0)","v":1},{"$f":"IFERROR(VLOOKUP(D422,'Study Area Site Variable'!$B$4:$H$1240,7,FALSE),0)","v":0},0,null,"Teklanika River-Nenana",29,0,0]
["2014-05-01","Hunting","Chicken-Taylor Hwy","HTNG26","20E",0,{"$f":"IFERROR(VLOOKUP(D423,'Study Area Site Variable'!$B$4:$J$1240,6,FALSE),0)","v":1},{"$f":"IFERROR(VLOOKUP(D423,'Study Area Site Variable'!$B$4:$H$1240,7,FALSE),0)","v":0},0,null,"Teklanika River-Tanana Boat Launch",10,0,0]
["2014-05-01","Hunting","Chistochina-Glennallen","HTNG27","13C",25,{"$f":"IFERROR(VLOOKUP(D424,'Study Area Site Variable'!$B$4:$J$1240,6,FALSE),0)","v":1},{"$f":"IFERROR(VLOOKUP(D424,'Study Area Site Variable'!$B$4:$H$1240,7,FALSE),0)","v":0},0,null,"Tex Smith Lake-Boat launch",1,0,0]
["2014-05-01","Hunting","Chugach Mountains","HTNG28","6, 11, 13",0,{"$f":"IFERROR(VLOOKUP(D425,'Study Area Site Variable'!$B$4:$J$1240,6,FALSE),0)","v":1},{"$f":"IFERROR(VLOOKUP(D425,'Study Area Site Variable'!$B$4:$H$1240,7,FALSE),0)","v":0},0,null,"Tikchik River-Nishlikik",8,0,0]
["2014-05-01","Hunting","Chugach Mountains-Cordova","HTNG29","6C",11,{"$f":"IFERROR(VLOOKUP(D426,'Study Area Site Variable'!$B$4:$J$1240,6,FALSE),0)","v":1},{"$f":"IFERROR(VLOOKUP(D426,'Study Area Site Variable'!$B$4:$H$1240,7,FALSE),0)","v":0},0,null,"Tokositna River-Swan Lake",1,1,0]
["2014-05-01","Hunting","Chugiak","HTNG30","14C",2,{"$f":"IFERROR(VLOOKUP(D427,'Study Area Site Variable'!$B$4:$J$1240,6,FALSE),0)","v":1},{"$f":"IFERROR(VLOOKUP(D427,'Study Area Site Variable'!$B$4:$H$1240,7,FALSE),0)","v":0},0,null,"Tolsona Lake-Tolsona Lake road",10,0,0]
["2014-05-01","Hunting","Chulitna RIver-Parks Highway","HTNG31","16A",0,{"$f":"IFERROR(VLOOKUP(D428,'Study Area Site Variable'!$B$4:$J$1240,6,FALSE),0)","v":1},{"$f":"IFERROR(VLOOKUP(D428,'Study Area Site Variable'!$B$4:$H$1240,7,FALSE),0)","v":0},0,null,"Tonsina River-Highway Boat Launch",1,0,0]
["2014-05-01","Hunting","Clark Wolverine-Palmer","HTNG32","14A",32,{"$f":"IFERROR(VLOOKUP(D429,'Study Area Site Variable'!$B$4:$J$1240,6,FALSE),0)","v":1},{"$f":"IFERROR(VLOOKUP(D429,'Study Area Site Variable'!$B$4:$H$1240,7,FALSE),0)","v":0},0,null,"Tonsina River-Mile 74 Richardson Hwy",3,0,0]
["2014-05-01","Hunting","Clear Creek-Chena Pump Rd","HTNG33","20B",0,{"$f":"IFERROR(VLOOKUP(D430,'Study Area Site Variable'!$B$4:$J$1240,6,FALSE),0)","v":1},{"$f":"IFERROR(VLOOKUP(D430,'Study Area Site Variable'!$B$4:$H$1240,7,FALSE),0)","v":0},0,null,"Tonsina River-Squirrel Creek CG",9,0,0]
["2014-05-01","Hunting","Clear Creek-Tanana River","HTNG34","20A",0,{"$f":"IFERROR(VLOOKUP(D431,'Study Area Site Variable'!$B$4:$J$1240,6,FALSE),0)","v":1},{"$f":"IFERROR(VLOOKUP(D431,'Study Area Site Variable'!$B$4:$H$1240,7,FALSE),0)","v":0},0,null,"Trail Lakes-Moose Pass",12,0,0]
["2014-05-01","Hunting","Coal Creek-Healy","HTNG35","20A",0,{"$f":"IFERROR(VLOOKUP(D432,'Study Area Site Variable'!$B$4:$J$1240,6,FALSE),0)","v":1},{"$f":"IFERROR(VLOOKUP(D432,'Study Area Site Variable'!$B$4:$H$1240,7,FALSE),0)","v":0},0,null,"Trapper Lake-Flying from Anchorage",4,0,0]
["2014-05-01","Hunting","Cold Bay","HTNG36","9D",0,{"$f":"IFERROR(VLOOKUP(D433,'Study Area Site Variable'!$B$4:$J$1240,6,FALSE),0)","v":0},{"$f":"IFERROR(VLOOKUP(D433,'Study Area Site Variable'!$B$4:$H$1240,7,FALSE),0)","v":0},0,null,"Trapper Lake-Trapper lake",26,5,0]
["2014-05-01","Hunting","Cordova","HTNG37","6C",0,{"$f":"IFERROR(VLOOKUP(D434,'Study Area Site Variable'!$B$4:$J$1240,6,FALSE),0)","v":1},{"$f":"IFERROR(VLOOKUP(D434,'Study Area Site Variable'!$B$4:$H$1240,7,FALSE),0)","v":0},0,null,"Turnagin Arm-Seward Hwy",35,0,0]
["2014-05-01","Hunting","Cosna River-Manley","HTNG38","20C",0,{"$f":"IFERROR(VLOOKUP(D435,'Study Area Site Variable'!$B$4:$J$1240,6,FALSE),0)","v":1},{"$f":"IFERROR(VLOOKUP(D435,'Study Area Site Variable'!$B$4:$H$1240,7,FALSE),0)","v":0},0,null,"Tustemina Lake-Soldotna",1,0,0]
["2014-05-01","Hunting","Creamers Field-Fairbanks","HTNG39","20B",0,{"$f":"IFERROR(VLOOKUP(D436,'Study Area Site Variable'!$B$4:$J$1240,6,FALSE),0)","v":1},{"$f":"IFERROR(VLOOKUP(D436,'Study Area Site Variable'!$B$4:$H$1240,7,FALSE),0)","v":0},0,null,"Tyone Lake-Evergreen Lodge",40,40,0]
["2014-05-01","Hunting","Crescent Lake-Crescent Lake Trailhead","HTNG40",7,0,{"$f":"IFERROR(VLOOKUP(D437,'Study Area Site Variable'!$B$4:$J$1240,6,FALSE),0)","v":1},{"$f":"IFERROR(VLOOKUP(D437,'Study Area Site Variable'!$B$4:$H$1240,7,FALSE),0)","v":0},0,null,"Tyone River-Evergreen Lodge",40,40,0]
["2014-05-01","Hunting","Dalton Highway","HTNG41","20F",0,{"$f":"IFERROR(VLOOKUP(D438,'Study Area Site Variable'!$B$4:$J$1240,6,FALSE),0)","v":0},{"$f":"IFERROR(VLOOKUP(D438,'Study Area Site Variable'!$B$4:$H$1240,7,FALSE),0)","v":0},0,null,"Unalakleet River-Unalakleet",5,0,0]
["2014-05-01","Hunting","Delta Clearwater","HTNG42","20D",0,{"$f":"IFERROR(VLOOKUP(D439,'Study Area Site Variable'!$B$4:$J$1240,6,FALSE),0)","v":1},{"$f":"IFERROR(VLOOKUP(D439,'Study Area Site Variable'!$B$4:$H$1240,7,FALSE),0)","v":0},0,null,"Uncodeable",542,135,0]
["2014-05-01","Hunting","Delta Creek-Richardson","HTNG43","20D",3,{"$f":"IFERROR(VLOOKUP(D440,'Study Area Site Variable'!$B$4:$J$1240,6,FALSE),0)","v":1},{"$f":"IFERROR(VLOOKUP(D440,'Study Area Site Variable'!$B$4:$H$1240,7,FALSE),0)","v":0},0,null,"University Lake-Anchorage",3,0,0]
["2014-05-01","Hunting","Delta Highway Mile 83-Happy Valley","HTNG44","13B",0,{"$f":"IFERROR(VLOOKUP(D441,'Study Area Site Variable'!$B$4:$J$1240,6,FALSE),0)","v":1},{"$f":"IFERROR(VLOOKUP(D441,'Study Area Site Variable'!$B$4:$H$1240,7,FALSE),0)","v":1},0,null,"Valdez Arm and Harbor-Valdez",189,1,0]
["2014-05-01","Hunting","Delta Junction-Delta junction","HTNG45","20D",159,{"$f":"IFERROR(VLOOKUP(D442,'Study Area Site Variable'!$B$4:$J$1240,6,FALSE),0)","v":1},{"$f":"IFERROR(VLOOKUP(D442,'Study Area Site Variable'!$B$4:$H$1240,7,FALSE),0)","v":0},0,null,"Walby Lake-Palmer",18,0,0]
["2014-05-01","Hunting","Denali Highway-Cantwell Side","HTNG46","13E",18,{"$f":"IFERROR(VLOOKUP(D443,'Study Area Site Variable'!$B$4:$J$1240,6,FALSE),0)","v":1},{"$f":"IFERROR(VLOOKUP(D443,'Study Area Site Variable'!$B$4:$H$1240,7,FALSE),0)","v":1},16,null,"Wasilla Lake-Wasilla",171,0,0]
["2014-05-01","Hunting","Denali Highway-Maclaren River","HTNG47","13B",19,{"$f":"IFERROR(VLOOKUP(D444,'Study Area Site Variable'!$B$4:$J$1240,6,FALSE),0)","v":1},{"$f":"IFERROR(VLOOKUP(D444,'Study Area Site Variable'!$B$4:$H$1240,7,FALSE),0)","v":1},0,null,"Watana Lake-Willow Floatplane",10,0,0]
["2014-05-01","Hunting","Denali Highway-Susitna River Bridge","HTNG48","13B",0,{"$f":"IFERROR(VLOOKUP(D445,'Study Area Site Variable'!$B$4:$J$1240,6,FALSE),0)","v":1},{"$f":"IFERROR(VLOOKUP(D445,'Study Area Site Variable'!$B$4:$H$1240,7,FALSE),0)","v":1},0,null,"west beaver lake[-our cabin",4,0,0]
["2014-05-01","Hunting","Denali Highway-Tangle Lakes","HTNG49","13B",58,{"$f":"IFERROR(VLOOKUP(D446,'Study Area Site Variable'!$B$4:$J$1240,6,FALSE),0)","v":1},{"$f":"IFERROR(VLOOKUP(D446,'Study Area Site Variable'!$B$4:$H$1240,7,FALSE),0)","v":1},0,null,"Westchester-Anchorage",20,0,0]
["2014-05-01","Hunting","Denali Highway-Unspecified","HTNG50","13B, 13E",41,{"$f":"IFERROR(VLOOKUP(D447,'Study Area Site Variable'!$B$4:$J$1240,6,FALSE),0)","v":1},{"$f":"IFERROR(VLOOKUP(D447,'Study Area Site Variable'!$B$4:$H$1240,7,FALSE),0)","v":1},0,null,"Wild lake-bettles",0,0,0]
["2014-05-01","Hunting","Denali Hwy-Paxson","HTNG51","13B",250,{"$f":"IFERROR(VLOOKUP(D448,'Study Area Site Variable'!$B$4:$J$1240,6,FALSE),0)","v":1},{"$f":"IFERROR(VLOOKUP(D448,'Study Area Site Variable'!$B$4:$H$1240,7,FALSE),0)","v":1},0,null,"Willow Creek-Willow",27,0,2]
["2014-05-01","Hunting","Denali Hwy-Tangle Lakes","HTNG52","13B",0,{"$f":"IFERROR(VLOOKUP(D449,'Study Area Site Variable'!$B$4:$J$1240,6,FALSE),0)","v":1},{"$f":"IFERROR(VLOOKUP(D449,'Study Area Site Variable'!$B$4:$H$1240,7,FALSE),0)","v":1},0,null,"Willow Lake-Private",15,0,0]
["2014-05-01","Hunting","Denali State Park","HTNG53","13E",11,{"$f":"IFERROR(VLOOKUP(D450,'Study Area Site Variable'!$B$4:$J$1240,6,FALSE),0)","v":1},{"$f":"IFERROR(VLOOKUP(D450,'Study Area Site Variable'!$B$4:$H$1240,7,FALSE),0)","v":1},10,null,"Willow Lake-Willow",32,0,0]
["2014-05-01","Hunting","Deshka River-Deshka Landing","HTNG54","16A",0,{"$f":"IFERROR(VLOOKUP(D451,'Study Area Site Variable'!$B$4:$J$1240,6,FALSE),0)","v":1},{"$f":"IFERROR(VLOOKUP(D451,'Study Area Site Variable'!$B$4:$H$1240,7,FALSE),0)","v":0},0,null,"Willow River-Willow AK",2,0,0]
["2014-05-01","Hunting","Eillot Highway","HTNG55","20B",0,{"$f":"IFERROR(VLOOKUP(D452,'Study Area Site Variable'!$B$4:$J$1240,6,FALSE),0)","v":1},{"$f":"IFERROR(VLOOKUP(D452,'Study Area Site Variable'!$B$4:$H$1240,7,FALSE),0)","v":0},0,null,"Windy Creek-Cantwell",1,0,0]
["2014-05-01","Hunting","Ester","HTNG56","20B",0,{"$f":"IFERROR(VLOOKUP(D453,'Study Area Site Variable'!$B$4:$J$1240,6,FALSE),0)","v":1},{"$f":"IFERROR(VLOOKUP(D453,'Study Area Site Variable'!$B$4:$H$1240,7,FALSE),0)","v":0},0,null,"Wolf Lake-Palmer",14,0,0]
["2014-05-01","Hunting","Eureka-Glenn Highway","HTNG57","13A",0,{"$f":"IFERROR(VLOOKUP(D454,'Study Area Site Variable'!$B$4:$J$1240,6,FALSE),0)","v":1},{"$f":"IFERROR(VLOOKUP(D454,'Study Area Site Variable'!$B$4:$H$1240,7,FALSE),0)","v":1},0,null,"Wolverine Lake-Chickaloon",1,0,0]
["2014-05-01","Hunting","Fairbanks Area","HTNG58","20B",7,{"$f":"IFERROR(VLOOKUP(D455,'Study Area Site Variable'!$B$4:$J$1240,6,FALSE),0)","v":1},{"$f":"IFERROR(VLOOKUP(D455,'Study Area Site Variable'!$B$4:$H$1240,7,FALSE),0)","v":0},0,null,"Yentna River-Deshka Landing",30,0,2]
["2014-05-01","Hunting","Fort Yukon","HTNG59","25D",7,{"$f":"IFERROR(VLOOKUP(D456,'Study Area Site Variable'!$B$4:$J$1240,6,FALSE),0)","v":1},{"$f":"IFERROR(VLOOKUP(D456,'Study Area Site Variable'!$B$4:$H$1240,7,FALSE),0)","v":0},0,null,"Yukon River-Dalton",60,0,0]
["2014-05-01","Hunting","Ft. Wainwright","HTNG60","20B",1,{"$f":"IFERROR(VLOOKUP(D457,'Study Area Site Variable'!$B$4:$J$1240,6,FALSE),0)","v":1},{"$f":"IFERROR(VLOOKUP(D457,'Study Area Site Variable'!$B$4:$H$1240,7,FALSE),0)","v":0},0,null,"Yukon River-Dawson",15,0,0]
["2014-05-01","Hunting","Gakona River-Denali Highway","HTNG61","13C",0,{"$f":"IFERROR(VLOOKUP(D458,'Study Area Site Variable'!$B$4:$J$1240,6,FALSE),0)","v":1},{"$f":"IFERROR(VLOOKUP(D458,'Study Area Site Variable'!$B$4:$H$1240,7,FALSE),0)","v":0},0,null,"Yukon River-Fort Yukon",12,0,0]
["2014-05-01","Hunting","George Lake Area","HTNG62","25D",2,{"$f":"IFERROR(VLOOKUP(D459,'Study Area Site Variable'!$B$4:$J$1240,6,FALSE),0)","v":1},{"$f":"IFERROR(VLOOKUP(D459,'Study Area Site Variable'!$B$4:$H$1240,7,FALSE),0)","v":0},0,null,"Yukon River-Galena",1,0,0]
["2014-05-01","Hunting","Gerstle River-Delta Junction","HTNG63","20B",0,{"$f":"IFERROR(VLOOKUP(D460,'Study Area Site Variable'!$B$4:$J$1240,6,FALSE),0)","v":1},{"$f":"IFERROR(VLOOKUP(D460,'Study Area Site Variable'!$B$4:$H$1240,7,FALSE),0)","v":0},0,null,"Yukon River-Rampart Access",4,0,0]
["2014-05-01","Hunting","Girdwood","HTNG64","14C",0,{"$f":"IFERROR(VLOOKUP(D461,'Study Area Site Variable'!$B$4:$J$1240,6,FALSE),0)","v":1},{"$f":"IFERROR(VLOOKUP(D461,'Study Area Site Variable'!$B$4:$H$1240,7,FALSE),0)","v":0},0,null,"Yukon River-Unspecified",5,0,0]
["2014-05-01","Hunting","Goodpaster River-Delta Junction","HTNG65","20A",0,{"$f":"IFERROR(VLOOKUP(D462,'Study Area Site Variable'!$B$4:$J$1240,6,FALSE),0)","v":1},{"$f":"IFERROR(VLOOKUP(D462,'Study Area Site Variable'!$B$4:$H$1240,7,FALSE),0)","v":0},0,null,"Fishing",17763,943,14]
["2014-05-01","Hunting","Goodpaster River-Tok","HTNG66",12,93,{"$f":"IFERROR(VLOOKUP(D463,'Study Area Site Variable'!$B$4:$J$1240,6,FALSE),0)","v":1},{"$f":"IFERROR(VLOOKUP(D463,'Study Area Site Variable'!$B$4:$H$1240,7,FALSE),0)","v":0},0,null,"Aleknagik Lake",4,0,0]
["2014-05-01","Hunting","Goose Bay-Knik Goose Bay Road","HTNG67","16B",0,{"$f":"IFERROR(VLOOKUP(D464,'Study Area Site Variable'!$B$4:$J$1240,6,FALSE),0)","v":1},{"$f":"IFERROR(VLOOKUP(D464,'Study Area Site Variable'!$B$4:$H$1240,7,FALSE),0)","v":0},0,null,"Alexander Creek",72,0,0]
["2014-05-01","Hunting","Grays Creek-Parks Highway","HTNG68",0,0,{"$f":"IFERROR(VLOOKUP(D465,'Study Area Site Variable'!$B$4:$J$1240,6,FALSE),0)","v":1},{"$f":"IFERROR(VLOOKUP(D465,'Study Area Site Variable'!$B$4:$H$1240,7,FALSE),0)","v":0},0,null,"Alexander Lake",7,0,0]
["2014-05-01","Hunting","Hatcher Pass- Palmer Side","HTNG69","14A",0,{"$f":"IFERROR(VLOOKUP(D466,'Study Area Site Variable'!$B$4:$J$1240,6,FALSE),0)","v":1},{"$f":"IFERROR(VLOOKUP(D466,'Study Area Site Variable'!$B$4:$H$1240,7,FALSE),0)","v":0},0,null,"Allison Point (Boat)",0,0,0]
["2014-05-01","Hunting","Hatcher Pass- Willow Side","HTNG70","14A",0,{"$f":"IFERROR(VLOOKUP(D467,'Study Area Site Variable'!$B$4:$J$1240,6,FALSE),0)","v":1},{"$f":"IFERROR(VLOOKUP(D467,'Study Area Site Variable'!$B$4:$H$1240,7,FALSE),0)","v":0},0,null,"Allison Point (Shore)",21,0,0]
["2014-05-01","Hunting","Hatchers Pass","HTNG71","14A",13,{"$f":"IFERROR(VLOOKUP(D468,'Study Area Site Variable'!$B$4:$J$1240,6,FALSE),0)","v":1},{"$f":"IFERROR(VLOOKUP(D468,'Study Area Site Variable'!$B$4:$H$1240,7,FALSE),0)","v":0},0,null,"Amber Lake",12,6,0]
["2014-05-01","Hunting","Healy Area-Healy","HTNG72","20A",62,{"$f":"IFERROR(VLOOKUP(D469,'Study Area Site Variable'!$B$4:$J$1240,6,FALSE),0)","v":1},{"$f":"IFERROR(VLOOKUP(D469,'Study Area Site Variable'!$B$4:$H$1240,7,FALSE),0)","v":0},0,null,"American River",6,0,0]
["2014-05-01","Hunting","Hinchinbrook Island-Cordova","HTNG73","6D",0,{"$f":"IFERROR(VLOOKUP(D470,'Study Area Site Variable'!$B$4:$J$1240,6,FALSE),0)","v":1},{"$f":"IFERROR(VLOOKUP(D470,'Study Area Site Variable'!$B$4:$H$1240,7,FALSE),0)","v":0},0,null,"Anchor River",42,1,0]
["2014-05-01","Hunting","Hinchinbrook Island-Valdez","HTNG74","6D",12,{"$f":"IFERROR(VLOOKUP(D471,'Study Area Site Variable'!$B$4:$J$1240,6,FALSE),0)","v":1},{"$f":"IFERROR(VLOOKUP(D471,'Study Area Site Variable'!$B$4:$H$1240,7,FALSE),0)","v":0},0,null,"Anchorage bowl lakes",7,0,0]
["2014-05-01","Hunting","Hope-Hope Highway","HTNG75",7,2,{"$f":"IFERROR(VLOOKUP(D472,'Study Area Site Variable'!$B$4:$J$1240,6,FALSE),0)","v":1},{"$f":"IFERROR(VLOOKUP(D472,'Study Area Site Variable'!$B$4:$H$1240,7,FALSE),0)","v":0},0,null,"Anderson Bay (Boat)",3,0,0]
["2014-05-01","Hunting","Houston Area","HTNG76","14A",24,{"$f":"IFERROR(VLOOKUP(D473,'Study Area Site Variable'!$B$4:$J$1240,6,FALSE),0)","v":1},{"$f":"IFERROR(VLOOKUP(D473,'Study Area Site Variable'!$B$4:$H$1240,7,FALSE),0)","v":0},0,null,"Andreafsky River",3,0,0]
["2014-05-01","Hunting","Hunter Creek-Palmer","HTNG77","14A",0,{"$f":"IFERROR(VLOOKUP(D474,'Study Area Site Variable'!$B$4:$J$1240,6,FALSE),0)","v":1},{"$f":"IFERROR(VLOOKUP(D474,'Study Area Site Variable'!$B$4:$H$1240,7,FALSE),0)","v":0},0,null,"Anvik River",5,0,0]
["2014-05-01","Hunting","Jarvis Creek-Alaska Highway","HTNG78","20D",0,{"$f":"IFERROR(VLOOKUP(D475,'Study Area Site Variable'!$B$4:$J$1240,6,FALSE),0)","v":1},{"$f":"IFERROR(VLOOKUP(D475,'Study Area Site Variable'!$B$4:$H$1240,7,FALSE),0)","v":0},0,null,"Area A-H",251,9,0]
["2014-05-01","Hunting","Jay Canyon-Denali Highway","HTNG79","13E",0,{"$f":"IFERROR(VLOOKUP(D476,'Study Area Site Variable'!$B$4:$J$1240,6,FALSE),0)","v":1},{"$f":"IFERROR(VLOOKUP(D476,'Study Area Site Variable'!$B$4:$H$1240,7,FALSE),0)","v":1},0,null,"Arizona Lake",1,0,0]
["2014-05-01","Hunting","JBER","HTNG80","14C",0,{"$f":"IFERROR(VLOOKUP(D477,'Study Area Site Variable'!$B$4:$J$1240,6,FALSE),0)","v":1},{"$f":"IFERROR(VLOOKUP(D477,'Study Area Site Variable'!$B$4:$H$1240,7,FALSE),0)","v":0},0,null,"Backdown Lake (Coal Mine Road)",1,0,0]
["2014-05-01","Hunting","Jim Creek-Palmer","HTNG81","14A",0,{"$f":"IFERROR(VLOOKUP(D478,'Study Area Site Variable'!$B$4:$J$1240,6,FALSE),0)","v":1},{"$f":"IFERROR(VLOOKUP(D478,'Study Area Site Variable'!$B$4:$H$1240,7,FALSE),0)","v":0},0,null,"Ballaine Lake (Fairbanks)",7,0,0]
["2014-05-01","Hunting","Johnson Pass-Seward Highway","HTNG82",7,0,{"$f":"IFERROR(VLOOKUP(D479,'Study Area Site Variable'!$B$4:$J$1240,6,FALSE),0)","v":1},{"$f":"IFERROR(VLOOKUP(D479,'Study Area Site Variable'!$B$4:$H$1240,7,FALSE),0)","v":0},0,null,"Bathing Beauty Pond",17,0,0]
["2014-05-01","Hunting","Kasilof-Crooked Creek","HTNG83","15B",0,{"$f":"IFERROR(VLOOKUP(D480,'Study Area Site Variable'!$B$4:$J$1240,6,FALSE),0)","v":0},{"$f":"IFERROR(VLOOKUP(D480,'Study Area Site Variable'!$B$4:$H$1240,7,FALSE),0)","v":0},0,null,"Baxter Lake (Cheney Lake)",29,0,0]
["2014-05-01","Hunting","Kenny Lake","HTNG84","13D",223,{"$f":"IFERROR(VLOOKUP(D481,'Study Area Site Variable'!$B$4:$J$1240,6,FALSE),0)","v":1},{"$f":"IFERROR(VLOOKUP(D481,'Study Area Site Variable'!$B$4:$H$1240,7,FALSE),0)","v":0},0,null,"Beach Lake",17,0,0]
["2014-05-01","Hunting","Kings River-Glenn Highway","HTNG85","13A",0,{"$f":"IFERROR(VLOOKUP(D482,'Study Area Site Variable'!$B$4:$J$1240,6,FALSE),0)","v":1},{"$f":"IFERROR(VLOOKUP(D482,'Study Area Site Variable'!$B$4:$H$1240,7,FALSE),0)","v":1},0,null,"Bear Lake (Eielson AFB)",2,0,0]
["2014-05-01","Hunting","Knik Goose Bay Road","HTNG86","14A",0,{"$f":"IFERROR(VLOOKUP(D483,'Study Area Site Variable'!$B$4:$J$1240,6,FALSE),0)","v":1},{"$f":"IFERROR(VLOOKUP(D483,'Study Area Site Variable'!$B$4:$H$1240,7,FALSE),0)","v":0},0,null,"Beluga Lake",4,0,0]
["2014-05-01","Hunting","Knik","HTNG87","14A",8,{"$f":"IFERROR(VLOOKUP(D484,'Study Area Site Variable'!$B$4:$J$1240,6,FALSE),0)","v":1},{"$f":"IFERROR(VLOOKUP(D484,'Study Area Site Variable'!$B$4:$H$1240,7,FALSE),0)","v":0},0,null,"Benka Lake",7,7,0]
["2014-05-01","Hunting","Kodiak Island","HTNG88",8,55,{"$f":"IFERROR(VLOOKUP(D485,'Study Area Site Variable'!$B$4:$J$1240,6,FALSE),0)","v":1},{"$f":"IFERROR(VLOOKUP(D485,'Study Area Site Variable'!$B$4:$H$1240,7,FALSE),0)","v":0},0,null,"Bernard Creek",2,0,0]
["2014-05-01","Hunting","Kotzebue-Anchorage","HTNG89",23,40,{"$f":"IFERROR(VLOOKUP(D486,'Study Area Site Variable'!$B$4:$J$1240,6,FALSE),0)","v":0},{"$f":"IFERROR(VLOOKUP(D486,'Study Area Site Variable'!$B$4:$H$1240,7,FALSE),0)","v":0},9,null,"Big Beaver Lake",25,0,0]
["2014-05-01","Hunting","Koyukuk River-Galena","HTNG90","21D",20,{"$f":"IFERROR(VLOOKUP(D487,'Study Area Site Variable'!$B$4:$J$1240,6,FALSE),0)","v":0},{"$f":"IFERROR(VLOOKUP(D487,'Study Area Site Variable'!$B$4:$H$1240,7,FALSE),0)","v":0},0,null,"Big Lake",48,0,0]
["2014-05-01","Hunting","Lake Alms","HTNG91","20C",0,{"$f":"IFERROR(VLOOKUP(D488,'Study Area Site Variable'!$B$4:$J$1240,6,FALSE),0)","v":1},{"$f":"IFERROR(VLOOKUP(D488,'Study Area Site Variable'!$B$4:$H$1240,7,FALSE),0)","v":0},0,null,"Birch Creek",33,22,0]
["2014-05-01","Hunting","Lake Creek-Deshka Landing","HTNG92","14A",0,{"$f":"IFERROR(VLOOKUP(D489,'Study Area Site Variable'!$B$4:$J$1240,6,FALSE),0)","v":1},{"$f":"IFERROR(VLOOKUP(D489,'Study Area Site Variable'!$B$4:$H$1240,7,FALSE),0)","v":0},0,null,"Birch Lake",0,0,0]
["2014-05-01","Hunting","Lake Louise","HTNG93","13A",145,{"$f":"IFERROR(VLOOKUP(D490,'Study Area Site Variable'!$B$4:$J$1240,6,FALSE),0)","v":1},{"$f":"IFERROR(VLOOKUP(D490,'Study Area Site Variable'!$B$4:$H$1240,7,FALSE),0)","v":1},87,null,"Birch Lake (South Anchorage)",52,0,0]
["2014-05-01","Hunting","Little Delta River","HTNG94","20A",0,{"$f":"IFERROR(VLOOKUP(D491,'Study Area Site Variable'!$B$4:$J$1240,6,FALSE),0)","v":1},{"$f":"IFERROR(VLOOKUP(D491,'Study Area Site Variable'!$B$4:$H$1240,7,FALSE),0)","v":0},0,null,"Bird Creek",82,0,0]
["2014-05-01","Hunting","Little Salcha Valley-Salcha","HTNG95","20B",29,{"$f":"IFERROR(VLOOKUP(D492,'Study Area Site Variable'!$B$4:$J$1240,6,FALSE),0)","v":1},{"$f":"IFERROR(VLOOKUP(D492,'Study Area Site Variable'!$B$4:$H$1240,7,FALSE),0)","v":0},0,null,"Bird Creek Mouth (Boat)",10,0,0]
["2014-05-01","Hunting","Little Susitna River","HTNG96","14A",2,{"$f":"IFERROR(VLOOKUP(D493,'Study Area Site Variable'!$B$4:$J$1240,6,FALSE),0)","v":1},{"$f":"IFERROR(VLOOKUP(D493,'Study Area Site Variable'!$B$4:$H$1240,7,FALSE),0)","v":0},0,null,"Black River (into Porcupine River)",3,0,0]
["2014-05-01","Hunting","Lower Susitna-Deshka River","HTNG97","16A",0,{"$f":"IFERROR(VLOOKUP(D494,'Study Area Site Variable'!$B$4:$J$1240,6,FALSE),0)","v":1},{"$f":"IFERROR(VLOOKUP(D494,'Study Area Site Variable'!$B$4:$H$1240,7,FALSE),0)","v":0},0,null,"Blackstone Bay (Boat)",15,0,0]
["2014-05-01","Hunting","Lower Susitna-Port of Anchorage","HTNG98","14A",0,{"$f":"IFERROR(VLOOKUP(D495,'Study Area Site Variable'!$B$4:$J$1240,6,FALSE),0)","v":1},{"$f":"IFERROR(VLOOKUP(D495,'Study Area Site Variable'!$B$4:$H$1240,7,FALSE),0)","v":0},0,null,"Blair lakes",2,0,0]
["2014-05-01","Hunting","Manley Hot Springs-Manley","HTNG99","20B",5,{"$f":"IFERROR(VLOOKUP(D496,'Study Area Site Variable'!$B$4:$J$1240,6,FALSE),0)","v":1},{"$f":"IFERROR(VLOOKUP(D496,'Study Area Site Variable'!$B$4:$H$1240,7,FALSE),0)","v":0},0,null,"Blueberry Lake",3,0,0]
["2014-05-01","Hunting","Mat-Su Glacier-Glenn Highway","HTNG100","13D",0,{"$f":"IFERROR(VLOOKUP(D497,'Study Area Site Variable'!$B$4:$J$1240,6,FALSE),0)","v":1},{"$f":"IFERROR(VLOOKUP(D497,'Study Area Site Variable'!$B$4:$H$1240,7,FALSE),0)","v":0},0,null,"Bolio Lake (Meadows Road)",6,0,0]
["2014-05-01","Hunting","Maud Lake","HTNG101","1A",0,{"$f":"IFERROR(VLOOKUP(D498,'Study Area Site Variable'!$B$4:$J$1240,6,FALSE),0)","v":0},{"$f":"IFERROR(VLOOKUP(D498,'Study Area Site Variable'!$B$4:$H$1240,7,FALSE),0)","v":0},0,null,"Bonnie Lake (30 miles NE Palmer) (Lower Bonnie)",6,0,0]
["2014-05-01","Hunting","McCarthy","HTNG102",11,19,{"$f":"IFERROR(VLOOKUP(D499,'Study Area Site Variable'!$B$4:$J$1240,6,FALSE),0)","v":1},{"$f":"IFERROR(VLOOKUP(D499,'Study Area Site Variable'!$B$4:$H$1240,7,FALSE),0)","v":0},0,null,"Bonnie Lake (U)",10,0,0]
["2014-05-01","Hunting","Meirs Lake","HTNG103","13B",0,{"$f":"IFERROR(VLOOKUP(D500,'Study Area Site Variable'!$B$4:$J$1240,6,FALSE),0)","v":1},{"$f":"IFERROR(VLOOKUP(D500,'Study Area Site Variable'!$B$4:$H$1240,7,FALSE),0)","v":1},0,null,"Boulder Creek (Denali Highway)",2,0,0]
["2014-05-01","Hunting","Mentasta","HTNG104","13C",15,{"$f":"IFERROR(VLOOKUP(D501,'Study Area Site Variable'!$B$4:$J$1240,6,FALSE),0)","v":1},{"$f":"IFERROR(VLOOKUP(D501,'Study Area Site Variable'!$B$4:$H$1240,7,FALSE),0)","v":0},0,null,"Bradley Lake (Kepler Lake Complex)",10,0,0]
["2014-05-01","Hunting","Miller Creek-Richardson Highway","HTNG105","13B",0,{"$f":"IFERROR(VLOOKUP(D502,'Study Area Site Variable'!$B$4:$J$1240,6,FALSE),0)","v":1},{"$f":"IFERROR(VLOOKUP(D502,'Study Area Site Variable'!$B$4:$H$1240,7,FALSE),0)","v":1},0,null,"Brushkana Creek",11,2,0]
["2014-05-01","Hunting","Minto Flats","HTNG106","14B",0,{"$f":"IFERROR(VLOOKUP(D503,'Study Area Site Variable'!$B$4:$J$1240,6,FALSE),0)","v":1},{"$f":"IFERROR(VLOOKUP(D503,'Study Area Site Variable'!$B$4:$H$1240,7,FALSE),0)","v":1},0,null,"Buskin River",20,0,0]
["2014-05-01","Hunting","Montana Creek-Parks Highway","HTNG107","14B",0,{"$f":"IFERROR(VLOOKUP(D504,'Study Area Site Variable'!$B$4:$J$1240,6,FALSE),0)","v":1},{"$f":"IFERROR(VLOOKUP(D504,'Study Area Site Variable'!$B$4:$H$1240,7,FALSE),0)","v":1},0,null,"Butte Creek",2,0,0]
["2014-05-01","Hunting","Moose Range-Palmer","HTNG108","14A",0,{"$f":"IFERROR(VLOOKUP(D505,'Study Area Site Variable'!$B$4:$J$1240,6,FALSE),0)","v":1},{"$f":"IFERROR(VLOOKUP(D505,'Study Area Site Variable'!$B$4:$H$1240,7,FALSE),0)","v":0},0,null,"Butte Lake",7,4,0]
["2014-05-01","Hunting","Murphy Dome","HTNG109","20B",2,{"$f":"IFERROR(VLOOKUP(D506,'Study Area Site Variable'!$B$4:$J$1240,6,FALSE),0)","v":1},{"$f":"IFERROR(VLOOKUP(D506,'Study Area Site Variable'!$B$4:$H$1240,7,FALSE),0)","v":0},0,null,"Byers Creek",20,2,0]
["2014-05-01","Hunting","Nabesna Road","HTNG110",11,10,{"$f":"IFERROR(VLOOKUP(D507,'Study Area Site Variable'!$B$4:$J$1240,6,FALSE),0)","v":1},{"$f":"IFERROR(VLOOKUP(D507,'Study Area Site Variable'!$B$4:$H$1240,7,FALSE),0)","v":0},0,null,"Byers Lake",16,0,0]
["2014-05-01","Hunting","Nelchina-Glenn Highway","HTNG111","13D",0,{"$f":"IFERROR(VLOOKUP(D508,'Study Area Site Variable'!$B$4:$J$1240,6,FALSE),0)","v":1},{"$f":"IFERROR(VLOOKUP(D508,'Study Area Site Variable'!$B$4:$H$1240,7,FALSE),0)","v":0},0,null,"C Street Lake (Taku Lake, Taku Campbell Lake)",16,0,0]
["2014-05-01","Hunting","Noetah-Kotzebue","HTNG112",23,7,{"$f":"IFERROR(VLOOKUP(D509,'Study Area Site Variable'!$B$4:$J$1240,6,FALSE),0)","v":0},{"$f":"IFERROR(VLOOKUP(D509,'Study Area Site Variable'!$B$4:$H$1240,7,FALSE),0)","v":0},0,null,"Campbell Creek",75,0,0]
["2014-05-01","Hunting","North Slope-Dalton Highway","HTNG113","26B",0,{"$f":"IFERROR(VLOOKUP(D510,'Study Area Site Variable'!$B$4:$J$1240,6,FALSE),0)","v":0},{"$f":"IFERROR(VLOOKUP(D510,'Study Area Site Variable'!$B$4:$H$1240,7,FALSE),0)","v":0},0,null,"Campbell Lake",5,0,0]
["2014-05-01","Hunting","Nowitna river-Yukon River bridge","HTNG114","21B",0,{"$f":"IFERROR(VLOOKUP(D511,'Study Area Site Variable'!$B$4:$J$1240,6,FALSE),0)","v":0},{"$f":"IFERROR(VLOOKUP(D511,'Study Area Site Variable'!$B$4:$H$1240,7,FALSE),0)","v":0},0,null,"Campbell Point Lake (Beercan Lake)",11,0,0]
["2014-05-01","Hunting","Palmer Area","HTNG115","14A",0,{"$f":"IFERROR(VLOOKUP(D512,'Study Area Site Variable'!$B$4:$J$1240,6,FALSE),0)","v":1},{"$f":"IFERROR(VLOOKUP(D512,'Study Area Site Variable'!$B$4:$H$1240,7,FALSE),0)","v":0},0,null,"Canoe Lake (Kepler Lake Complex)",2,0,0]
["2014-05-01","Hunting","Palmer Hay Flats","HTNG116","14A",7,{"$f":"IFERROR(VLOOKUP(D513,'Study Area Site Variable'!$B$4:$J$1240,6,FALSE),0)","v":1},{"$f":"IFERROR(VLOOKUP(D513,'Study Area Site Variable'!$B$4:$H$1240,7,FALSE),0)","v":0},4,null,"Caribou Lake",13,0,0]
["2014-05-01","Hunting","Paxton","HTNG117","13B",0,{"$f":"IFERROR(VLOOKUP(D514,'Study Area Site Variable'!$B$4:$J$1240,6,FALSE),0)","v":1},{"$f":"IFERROR(VLOOKUP(D514,'Study Area Site Variable'!$B$4:$H$1240,7,FALSE),0)","v":1},0,null,"Carter Lake",4,0,0]
["2014-05-01","Hunting","Peters Creek","HTNG118","16A",0,{"$f":"IFERROR(VLOOKUP(D515,'Study Area Site Variable'!$B$4:$J$1240,6,FALSE),0)","v":1},{"$f":"IFERROR(VLOOKUP(D515,'Study Area Site Variable'!$B$4:$H$1240,7,FALSE),0)","v":0},0,null,"Caswell Creek",13,0,0]
["2014-05-01","Hunting","Petersville-Talkeetna","HTNG119","16A",127,{"$f":"IFERROR(VLOOKUP(D516,'Study Area Site Variable'!$B$4:$J$1240,6,FALSE),0)","v":1},{"$f":"IFERROR(VLOOKUP(D516,'Study Area Site Variable'!$B$4:$H$1240,7,FALSE),0)","v":0},38,null,"Caswell Lake",4,0,0]
["2014-05-01","Hunting","Petersville-Trapper Creek","HTNG120","16A",174,{"$f":"IFERROR(VLOOKUP(D517,'Study Area Site Variable'!$B$4:$J$1240,6,FALSE),0)","v":1},{"$f":"IFERROR(VLOOKUP(D517,'Study Area Site Variable'!$B$4:$H$1240,7,FALSE),0)","v":0},92,null,"Chandalar River - North Fork",11,0,0]
["2014-05-01","Hunting","Point Mackenzie","HTNG121","14A",38,{"$f":"IFERROR(VLOOKUP(D518,'Study Area Site Variable'!$B$4:$J$1240,6,FALSE),0)","v":1},{"$f":"IFERROR(VLOOKUP(D518,'Study Area Site Variable'!$B$4:$H$1240,7,FALSE),0)","v":0},0,null,"Chatanika River - Lower (below Elliot Highway, incl. tribs)",34,0,0]
["2014-05-01","Hunting","Poker Creek-Boundery, AK","HTNG122","20E",0,{"$f":"IFERROR(VLOOKUP(D519,'Study Area Site Variable'!$B$4:$J$1240,6,FALSE),0)","v":1},{"$f":"IFERROR(VLOOKUP(D519,'Study Area Site Variable'!$B$4:$H$1240,7,FALSE),0)","v":0},0,null,"Chatanika River (reach unspecified)",30,0,0]
["2014-05-01","Hunting","Portage Area","HTNG123","14C",0,{"$f":"IFERROR(VLOOKUP(D520,'Study Area Site Variable'!$B$4:$J$1240,6,FALSE),0)","v":1},{"$f":"IFERROR(VLOOKUP(D520,'Study Area Site Variable'!$B$4:$H$1240,7,FALSE),0)","v":0},0,null,"Chena Hot Springs Road Pond 45.5 Mile",0,0,0]
["2014-05-01","Hunting","Prince of Wales Island ","HTNG124",2,0,{"$f":"IFERROR(VLOOKUP(D521,'Study Area Site Variable'!$B$4:$J$1240,6,FALSE),0)","v":0},{"$f":"IFERROR(VLOOKUP(D521,'Study Area Site Variable'!$B$4:$H$1240,7,FALSE),0)","v":0},0,null,"Chena Hot Springs Road ponds",14,0,0]
["2014-05-01","Hunting","Prince William Sound-Whittier","HTNG125","6D",33,{"$f":"IFERROR(VLOOKUP(D522,'Study Area Site Variable'!$B$4:$J$1240,6,FALSE),0)","v":1},{"$f":"IFERROR(VLOOKUP(D522,'Study Area Site Variable'!$B$4:$H$1240,7,FALSE),0)","v":0},0,null,"Chena lakes (Rec Area)",339,0,0]
["2014-05-01","Hunting","Quartz Lake-Big Delta","HTNG126","20D",3,{"$f":"IFERROR(VLOOKUP(D523,'Study Area Site Variable'!$B$4:$J$1240,6,FALSE),0)","v":1},{"$f":"IFERROR(VLOOKUP(D523,'Study Area Site Variable'!$B$4:$H$1240,7,FALSE),0)","v":0},0,null,"Chena River - below dam",9,0,0]
["2014-05-01","Hunting","Rabbit Slough-Wasilla","HTNG127","14A",63,{"$f":"IFERROR(VLOOKUP(D524,'Study Area Site Variable'!$B$4:$J$1240,6,FALSE),0)","v":1},{"$f":"IFERROR(VLOOKUP(D524,'Study Area Site Variable'!$B$4:$H$1240,7,FALSE),0)","v":0},0,null,"Chena River - Lower (including Badger Slough)",120,0,0]
["2014-05-01","Hunting","Redoubt Mountain","HTNG128","16B",0,{"$f":"IFERROR(VLOOKUP(D525,'Study Area Site Variable'!$B$4:$J$1240,6,FALSE),0)","v":1},{"$f":"IFERROR(VLOOKUP(D525,'Study Area Site Variable'!$B$4:$H$1240,7,FALSE),0)","v":0},0,null,"Chena River - North Fork",20,0,0]
["2014-05-01","Hunting","Resurrection Pass","HTNG129",7,0,{"$f":"IFERROR(VLOOKUP(D526,'Study Area Site Variable'!$B$4:$J$1240,6,FALSE),0)","v":1},{"$f":"IFERROR(VLOOKUP(D526,'Study Area Site Variable'!$B$4:$H$1240,7,FALSE),0)","v":0},0,null,"Chena River - Upper (including South Fork)",16,0,0]
["2014-05-01","Hunting","Resurrection Pass-Hope","HTNG130",7,4,{"$f":"IFERROR(VLOOKUP(D527,'Study Area Site Variable'!$B$4:$J$1240,6,FALSE),0)","v":1},{"$f":"IFERROR(VLOOKUP(D527,'Study Area Site Variable'!$B$4:$H$1240,7,FALSE),0)","v":0},0,null,"Chena River (reach unspecified)",76,0,0]
["2014-05-01","Hunting","Revillageogideo-Ketchikan","HTNG131","1A",0,{"$f":"IFERROR(VLOOKUP(D528,'Study Area Site Variable'!$B$4:$J$1240,6,FALSE),0)","v":0},{"$f":"IFERROR(VLOOKUP(D528,'Study Area Site Variable'!$B$4:$H$1240,7,FALSE),0)","v":0},0,null,"Chickaloon River",8,0,0]
["2014-05-01","Hunting","Rex TraIl-Parks Highway","HTNG132","20A",0,{"$f":"IFERROR(VLOOKUP(D529,'Study Area Site Variable'!$B$4:$J$1240,6,FALSE),0)","v":1},{"$f":"IFERROR(VLOOKUP(D529,'Study Area Site Variable'!$B$4:$H$1240,7,FALSE),0)","v":0},0,null,"China Poot Bay - Boat (non-charter)",1,0,0]
["2014-05-01","Hunting","Richardson Hwy-Black Rapids","HTNG133","20B",11,{"$f":"IFERROR(VLOOKUP(D530,'Study Area Site Variable'!$B$4:$J$1240,6,FALSE),0)","v":1},{"$f":"IFERROR(VLOOKUP(D530,'Study Area Site Variable'!$B$4:$H$1240,7,FALSE),0)","v":0},0,null,"China Poot Creek",2,0,0]
["2014-05-01","Hunting","Richardson Hwy-Paxton","HTNG134","13B",0,{"$f":"IFERROR(VLOOKUP(D531,'Study Area Site Variable'!$B$4:$J$1240,6,FALSE),0)","v":1},{"$f":"IFERROR(VLOOKUP(D531,'Study Area Site Variable'!$B$4:$H$1240,7,FALSE),0)","v":1},0,null,"Chitina lakes",23,0,0]
["2014-05-01","Hunting","Salcha River","HTNG135","20B",0,{"$f":"IFERROR(VLOOKUP(D532,'Study Area Site Variable'!$B$4:$J$1240,6,FALSE),0)","v":1},{"$f":"IFERROR(VLOOKUP(D532,'Study Area Site Variable'!$B$4:$H$1240,7,FALSE),0)","v":0},0,null,"Chitina River",40,0,0]
["2014-05-01","Hunting","Seldovia","HTNG136","15C",0,{"$f":"IFERROR(VLOOKUP(D533,'Study Area Site Variable'!$B$4:$J$1240,6,FALSE),0)","v":0},{"$f":"IFERROR(VLOOKUP(D533,'Study Area Site Variable'!$B$4:$H$1240,7,FALSE),0)","v":0},0,null,"Christiansen Lake",9,5,0]
["2014-05-01","Hunting","Seward Highway MP52","HTNG137",7,0,{"$f":"IFERROR(VLOOKUP(D534,'Study Area Site Variable'!$B$4:$J$1240,6,FALSE),0)","v":1},{"$f":"IFERROR(VLOOKUP(D534,'Study Area Site Variable'!$B$4:$H$1240,7,FALSE),0)","v":0},0,null,"Chulitna River",2,0,0]
["2014-05-01","Hunting","Sheep Mountain-Glenn Highway","HTNG138","13A",0,{"$f":"IFERROR(VLOOKUP(D535,'Study Area Site Variable'!$B$4:$J$1240,6,FALSE),0)","v":1},{"$f":"IFERROR(VLOOKUP(D535,'Study Area Site Variable'!$B$4:$H$1240,7,FALSE),0)","v":1},0,null,"Chulitna River East Fork",0,0,0]
["2014-05-01","Hunting","Sitka-Indian River Road","HTNG139",4,0,{"$f":"IFERROR(VLOOKUP(D536,'Study Area Site Variable'!$B$4:$J$1240,6,FALSE),0)","v":0},{"$f":"IFERROR(VLOOKUP(D536,'Study Area Site Variable'!$B$4:$H$1240,7,FALSE),0)","v":0},0,null,"Chulitna River Middle Fork",25,2,0]
["2014-05-01","Hunting","Skilak Lake-Sterling Highway","HTNG140","15B",0,{"$f":"IFERROR(VLOOKUP(D537,'Study Area Site Variable'!$B$4:$J$1240,6,FALSE),0)","v":0},{"$f":"IFERROR(VLOOKUP(D537,'Study Area Site Variable'!$B$4:$H$1240,7,FALSE),0)","v":0},0,null,"Clam Gluch- Shoreline/ Boat & Charter/Non-charter Unspecified",20,0,0]
["2014-05-01","Hunting","Skwentna River-Deshka Landing","HTNG141","16A",0,{"$f":"IFERROR(VLOOKUP(D538,'Study Area Site Variable'!$B$4:$J$1240,6,FALSE),0)","v":1},{"$f":"IFERROR(VLOOKUP(D538,'Study Area Site Variable'!$B$4:$H$1240,7,FALSE),0)","v":0},0,null,"Clarence Lake",29,0,0]
["2014-05-01","Hunting","Steese Highway","HTNG142","20B, 25C",3,{"$f":"IFERROR(VLOOKUP(D539,'Study Area Site Variable'!$B$4:$J$1240,6,FALSE),0)","v":1},{"$f":"IFERROR(VLOOKUP(D539,'Study Area Site Variable'!$B$4:$H$1240,7,FALSE),0)","v":0},0,null,"Clear Creek",38,11,2]
["2014-05-01","Hunting","Sterling Highway-Sterling","HTNG143","15A",0,{"$f":"IFERROR(VLOOKUP(D540,'Study Area Site Variable'!$B$4:$J$1240,6,FALSE),0)","v":0},{"$f":"IFERROR(VLOOKUP(D540,'Study Area Site Variable'!$B$4:$H$1240,7,FALSE),0)","v":0},0,null,"Clearwater Creek",3,0,0]
["2014-05-01","Hunting","Sutton-Glenn Highway","HTNG144","14A",0,{"$f":"IFERROR(VLOOKUP(D541,'Study Area Site Variable'!$B$4:$J$1240,6,FALSE),0)","v":1},{"$f":"IFERROR(VLOOKUP(D541,'Study Area Site Variable'!$B$4:$H$1240,7,FALSE),0)","v":0},0,null,"Clearwater Creek (Denali Highway)",54,11,0]
["2014-05-01","Hunting","Talkeetna Mounta","HTNG145","13A",0,{"$f":"IFERROR(VLOOKUP(D542,'Study Area Site Variable'!$B$4:$J$1240,6,FALSE),0)","v":1},{"$f":"IFERROR(VLOOKUP(D542,'Study Area Site Variable'!$B$4:$H$1240,7,FALSE),0)","v":1},0,null,"Clearwater Creek (U)",14,0,0]
["2014-05-01","Hunting","Talkeetna Mountains-Palmer","HTNG146","14A",0,{"$f":"IFERROR(VLOOKUP(D543,'Study Area Site Variable'!$B$4:$J$1240,6,FALSE),0)","v":1},{"$f":"IFERROR(VLOOKUP(D543,'Study Area Site Variable'!$B$4:$H$1240,7,FALSE),0)","v":0},0,null,"Clearwater Lake (Delta Junction)",14,0,0]
["2014-05-01","Hunting","Talkeetna Mountains-Sheep Mountain","HTNG147","13A",0,{"$f":"IFERROR(VLOOKUP(D544,'Study Area Site Variable'!$B$4:$J$1240,6,FALSE),0)","v":1},{"$f":"IFERROR(VLOOKUP(D544,'Study Area Site Variable'!$B$4:$H$1240,7,FALSE),0)","v":1},0,null,"Clunie Lake (Fort Richardson)",10,0,0]
["2014-05-01","Hunting","Talkeetna Spur Road","HTNG148","14B",0,{"$f":"IFERROR(VLOOKUP(D545,'Study Area Site Variable'!$B$4:$J$1240,6,FALSE),0)","v":1},{"$f":"IFERROR(VLOOKUP(D545,'Study Area Site Variable'!$B$4:$H$1240,7,FALSE),0)","v":1},0,null,"Coal Creek (into Beluga Lake)",0,0,0]
["2014-05-01","Hunting","Talkeetna-Survey Grid 52","HTNG149","14B",0,{"$f":"IFERROR(VLOOKUP(D546,'Study Area Site Variable'!$B$4:$J$1240,6,FALSE),0)","v":1},{"$f":"IFERROR(VLOOKUP(D546,'Study Area Site Variable'!$B$4:$H$1240,7,FALSE),0)","v":1},0,null,"Coal Mine Lake (Coal Mine Road)",17,0,0]
["2014-05-01","Hunting","Talkeetna-Unspecified","HTNG150","14B",0,{"$f":"IFERROR(VLOOKUP(D547,'Study Area Site Variable'!$B$4:$J$1240,6,FALSE),0)","v":1},{"$f":"IFERROR(VLOOKUP(D547,'Study Area Site Variable'!$B$4:$H$1240,7,FALSE),0)","v":1},0,null,"Cochrane Bay (Boat)",4,0,0]
["2014-05-01","Hunting","Tanana River-Fairbanks","HTNG151","20B",0,{"$f":"IFERROR(VLOOKUP(D548,'Study Area Site Variable'!$B$4:$J$1240,6,FALSE),0)","v":1},{"$f":"IFERROR(VLOOKUP(D548,'Study Area Site Variable'!$B$4:$H$1240,7,FALSE),0)","v":0},0,null,"Cold Bay Area (Boat)",3,0,0]
["2014-05-01","Hunting","Tanana River-Nenana","HTNG152","20A",0,{"$f":"IFERROR(VLOOKUP(D549,'Study Area Site Variable'!$B$4:$J$1240,6,FALSE),0)","v":1},{"$f":"IFERROR(VLOOKUP(D549,'Study Area Site Variable'!$B$4:$H$1240,7,FALSE),0)","v":0},0,null,"Cook Inlet- Anchor Point",57,0,0]
["2014-05-01","Hunting","Tatlanika River-mile 290 parks hwy","HTNG153","13E",0,{"$f":"IFERROR(VLOOKUP(D550,'Study Area Site Variable'!$B$4:$J$1240,6,FALSE),0)","v":1},{"$f":"IFERROR(VLOOKUP(D550,'Study Area Site Variable'!$B$4:$H$1240,7,FALSE),0)","v":1},0,null,"Cook Inlet- Deep Creek",61,4,0]
["2014-05-01","Hunting","Taylor Highway-Chicken","HTNG154","20E",0,{"$f":"IFERROR(VLOOKUP(D551,'Study Area Site Variable'!$B$4:$J$1240,6,FALSE),0)","v":1},{"$f":"IFERROR(VLOOKUP(D551,'Study Area Site Variable'!$B$4:$H$1240,7,FALSE),0)","v":0},0,null,"Cook Inlet- Homer",92,0,0]
["2014-05-01","Hunting","Tetlin Wildlife Refuge-Tetlin","HTNG155",12,0,{"$f":"IFERROR(VLOOKUP(D552,'Study Area Site Variable'!$B$4:$J$1240,6,FALSE),0)","v":1},{"$f":"IFERROR(VLOOKUP(D552,'Study Area Site Variable'!$B$4:$H$1240,7,FALSE),0)","v":0},0,null,"Cook Inlet- Kenai",107,0,0]
["2014-05-01","Hunting","Tok Area","HTNG156",12,9,{"$f":"IFERROR(VLOOKUP(D553,'Study Area Site Variable'!$B$4:$J$1240,6,FALSE),0)","v":1},{"$f":"IFERROR(VLOOKUP(D553,'Study Area Site Variable'!$B$4:$H$1240,7,FALSE),0)","v":0},0,null,"Cook Inlet- Ninlichik",77,4,0]
["2014-05-01","Hunting","Tok Cut Off-Delta Junction","HTNG157","12, 20D, 20A",0,{"$f":"IFERROR(VLOOKUP(D554,'Study Area Site Variable'!$B$4:$J$1240,6,FALSE),0)","v":1},{"$f":"IFERROR(VLOOKUP(D554,'Study Area Site Variable'!$B$4:$H$1240,7,FALSE),0)","v":0},0,null,"Cook Inlet- Seldovia",48,0,0]
["2014-05-01","Hunting","Tonsina Lake-Richardson Hwy","HTNG158","13D",0,{"$f":"IFERROR(VLOOKUP(D555,'Study Area Site Variable'!$B$4:$J$1240,6,FALSE),0)","v":1},{"$f":"IFERROR(VLOOKUP(D555,'Study Area Site Variable'!$B$4:$H$1240,7,FALSE),0)","v":0},0,null,"Cook Inlet- Unspecified",1,0,0]
["2014-05-01","Hunting","Torpedo Lake-Kenai Keys","HTNG159","15B",0,{"$f":"IFERROR(VLOOKUP(D556,'Study Area Site Variable'!$B$4:$J$1240,6,FALSE),0)","v":0},{"$f":"IFERROR(VLOOKUP(D556,'Study Area Site Variable'!$B$4:$H$1240,7,FALSE),0)","v":0},0,null,"Cook Inlet- Valdez",36,0,0]
["2014-05-01","Hunting","Totat River-Healy","HTNG160","20A",0,{"$f":"IFERROR(VLOOKUP(D557,'Study Area Site Variable'!$B$4:$J$1240,6,FALSE),0)","v":1},{"$f":"IFERROR(VLOOKUP(D557,'Study Area Site Variable'!$B$4:$H$1240,7,FALSE),0)","v":0},0,null,"Cooper Lake",16,0,0]
["2014-05-01","Hunting","Trading Bay-Anchorage","HTNG161","16B, 14A, 14C",0,{"$f":"IFERROR(VLOOKUP(D558,'Study Area Site Variable'!$B$4:$J$1240,6,FALSE),0)","v":1},{"$f":"IFERROR(VLOOKUP(D558,'Study Area Site Variable'!$B$4:$H$1240,7,FALSE),0)","v":0},0,null,"Copper Lake",7,0,0]
["2014-05-01","Hunting","Trapper Creek","HTNG162","16A",0,{"$f":"IFERROR(VLOOKUP(D559,'Study Area Site Variable'!$B$4:$J$1240,6,FALSE),0)","v":1},{"$f":"IFERROR(VLOOKUP(D559,'Study Area Site Variable'!$B$4:$H$1240,7,FALSE),0)","v":0},0,null,"Copper River",437,2,0]
["2014-05-01","Hunting","Turnagain Pass","HTNG163",7,2,{"$f":"IFERROR(VLOOKUP(D560,'Study Area Site Variable'!$B$4:$J$1240,6,FALSE),0)","v":1},{"$f":"IFERROR(VLOOKUP(D560,'Study Area Site Variable'!$B$4:$H$1240,7,FALSE),0)","v":0},0,null,"Cornelius Lake",6,0,0]
["2014-05-01","Hunting","Two Rivers-Two Rivers Rd","HTNG164","20B",0,{"$f":"IFERROR(VLOOKUP(D561,'Study Area Site Variable'!$B$4:$J$1240,6,FALSE),0)","v":1},{"$f":"IFERROR(VLOOKUP(D561,'Study Area Site Variable'!$B$4:$H$1240,7,FALSE),0)","v":0},0,null,"Cottonwood Creek",13,4,0]
["2014-05-01","Hunting","Uncodeable","HTNG165",0,0,{"$f":"IFERROR(VLOOKUP(D562,'Study Area Site Variable'!$B$4:$J$1240,6,FALSE),0)","v":0},{"$f":"IFERROR(VLOOKUP(D562,'Study Area Site Variable'!$B$4:$H$1240,7,FALSE),0)","v":0},0,null,"Cottonwood Lake",51,0,0]
["2014-05-01","Hunting","Unit 13-Glenn Highway","HTNG166","13A",0,{"$f":"IFERROR(VLOOKUP(D563,'Study Area Site Variable'!$B$4:$J$1240,6,FALSE),0)","v":1},{"$f":"IFERROR(VLOOKUP(D563,'Study Area Site Variable'!$B$4:$H$1240,7,FALSE),0)","v":1},0,null,"Crater Lake",4,0,0]
["2014-05-01","Hunting","Upper Susitna- Denali","HTNG167","13E, 16A",0,{"$f":"IFERROR(VLOOKUP(D564,'Study Area Site Variable'!$B$4:$J$1240,6,FALSE),0)","v":1},{"$f":"IFERROR(VLOOKUP(D564,'Study Area Site Variable'!$B$4:$H$1240,7,FALSE),0)","v":1},0,null,"Crescent Lake",20,0,0]
["2014-05-01","Hunting","Valdez Area","HTNG168","6D",0,{"$f":"IFERROR(VLOOKUP(D565,'Study Area Site Variable'!$B$4:$J$1240,6,FALSE),0)","v":1},{"$f":"IFERROR(VLOOKUP(D565,'Study Area Site Variable'!$B$4:$H$1240,7,FALSE),0)","v":0},0,null,"Crooked Lake",5,0,0]
["2014-05-01","Hunting","White Mountain-Fairbanks","HTNG169","20B",0,{"$f":"IFERROR(VLOOKUP(D566,'Study Area Site Variable'!$B$4:$J$1240,6,FALSE),0)","v":1},{"$f":"IFERROR(VLOOKUP(D566,'Study Area Site Variable'!$B$4:$H$1240,7,FALSE),0)","v":0},0,null,"Crosswind Lake",19,0,0]
["2014-05-01","Hunting","Whittier","HTNG170","6D",0,{"$f":"IFERROR(VLOOKUP(D567,'Study Area Site Variable'!$B$4:$J$1240,6,FALSE),0)","v":0},{"$f":"IFERROR(VLOOKUP(D567,'Study Area Site Variable'!$B$4:$H$1240,7,FALSE),0)","v":0},0,null,"Crystal Lake (near Willow)",1,0,0]
["2014-05-01","Hunting","Williow Area","HTNG171","14A",0,{"$f":"IFERROR(VLOOKUP(D568,'Study Area Site Variable'!$B$4:$J$1240,6,FALSE),0)","v":1},{"$f":"IFERROR(VLOOKUP(D568,'Study Area Site Variable'!$B$4:$H$1240,7,FALSE),0)","v":0},0,null,"Dall River (Dahl River)",2,0,0]
["2014-05-01","Hunting","Yentna River-Deshka Landing","HTNG172","16A",0,{"$f":"IFERROR(VLOOKUP(D569,'Study Area Site Variable'!$B$4:$J$1240,6,FALSE),0)","v":1},{"$f":"IFERROR(VLOOKUP(D569,'Study Area Site Variable'!$B$4:$H$1240,7,FALSE),0)","v":0},0,null,"Day Harbor - Boat (non-charter)",15,0,0]
["2014-05-01","Hunting","Yentna River-Susitna Landing","HTNG173","16A, 16B",0,{"$f":"IFERROR(VLOOKUP(D570,'Study Area Site Variable'!$B$4:$J$1240,6,FALSE),0)","v":1},{"$f":"IFERROR(VLOOKUP(D570,'Study Area Site Variable'!$B$4:$H$1240,7,FALSE),0)","v":0},0,null,"Deep Creek",16,4,0]
["2014-05-01","Hunting","Yukon River-Circle","HTNG174","25D",5,{"$f":"IFERROR(VLOOKUP(D571,'Study Area Site Variable'!$B$4:$J$1240,6,FALSE),0)","v":1},{"$f":"IFERROR(VLOOKUP(D571,'Study Area Site Variable'!$B$4:$H$1240,7,FALSE),0)","v":0},0,null,"Deep Creek Area - Shoreline (charter)",1,0,0]
["2014-05-01","Hunting","Zero Lake-Zero Lake Road","HTNG175","14A",14,{"$f":"IFERROR(VLOOKUP(D572,'Study Area Site Variable'!$B$4:$J$1240,6,FALSE),0)","v":1},{"$f":"IFERROR(VLOOKUP(D572,'Study Area Site Variable'!$B$4:$H$1240,7,FALSE),0)","v":0},0,null,"Delong Lake",59,0,0]
["2014-05-01","Hunting","Eklutna","HTNG176","14C",6,{"$f":"IFERROR(VLOOKUP(D573,'Study Area Site Variable'!$B$4:$J$1240,6,FALSE),0)","v":1},{"$f":"IFERROR(VLOOKUP(D573,'Study Area Site Variable'!$B$4:$H$1240,7,FALSE),0)","v":0},0,null,"Delta Clearwater",35,0,0]
["2014-05-01","Hunting","Kroto-Oil Well Rd","HTNG177","16A",51,{"$f":"IFERROR(VLOOKUP(D574,'Study Area Site Variable'!$B$4:$J$1240,6,FALSE),0)","v":1},{"$f":"IFERROR(VLOOKUP(D574,'Study Area Site Variable'!$B$4:$H$1240,7,FALSE),0)","v":0},0,null,"Delta River (below Tangle lakes)",24,0,0]
["2014-05-01","Hunting","20B?-Elliot Highway","HTNG178","20B",2,{"$f":"IFERROR(VLOOKUP(D575,'Study Area Site Variable'!$B$4:$J$1240,6,FALSE),0)","v":1},{"$f":"IFERROR(VLOOKUP(D575,'Study Area Site Variable'!$B$4:$H$1240,7,FALSE),0)","v":0},0,null,"Denali Highway streams and lakes",12,4,0]
["2014-05-01","Hunting","33 Mile Loop-Fort Greely","HTNG179","20A",26,{"$f":"IFERROR(VLOOKUP(D576,'Study Area Site Variable'!$B$4:$J$1240,6,FALSE),0)","v":1},{"$f":"IFERROR(VLOOKUP(D576,'Study Area Site Variable'!$B$4:$H$1240,7,FALSE),0)","v":0},0,null,"Deshka River (Kroto Creek)",100,6,2]
["2014-05-01","Hunting","7 miles past radio towers in RC860 area past Circle Hot Springs-Circle Hot Springs","HTNG180",{"$error":"#N/A"},0,{"$f":"IFERROR(VLOOKUP(D577,'Study Area Site Variable'!$B$4:$J$1240,6,FALSE),0)","v":0},{"$f":"IFERROR(VLOOKUP(D577,'Study Area Site Variable'!$B$4:$H$1240,7,FALSE),0)","v":0},0,null,"Dog Creek",2,2,0]
["2014-05-01","Hunting","Alaska Penn-Cender River","HTNG181","9E",10,{"$f":"IFERROR(VLOOKUP(D578,'Study Area Site Variable'!$B$4:$J$1240,6,FALSE),0)","v":0},{"$f":"IFERROR(VLOOKUP(D578,'Study Area Site Variable'!$B$4:$H$1240,7,FALSE),0)","v":0},0,null,"Donkey Creek, Donkey Creek Slough",15,0,0]
["2014-05-01","Hunting","Alaska Penn-King Salmon","HTNG182","9C",35,{"$f":"IFERROR(VLOOKUP(D579,'Study Area Site Variable'!$B$4:$J$1240,6,FALSE),0)","v":0},{"$f":"IFERROR(VLOOKUP(D579,'Study Area Site Variable'!$B$4:$H$1240,7,FALSE),0)","v":0},0,null,"Donna Lake",2,0,0]
["2014-05-01","Hunting","Ambler River-Ambler","HTNG183",23,9,{"$f":"IFERROR(VLOOKUP(D580,'Study Area Site Variable'!$B$4:$J$1240,6,FALSE),0)","v":0},{"$f":"IFERROR(VLOOKUP(D580,'Study Area Site Variable'!$B$4:$H$1240,7,FALSE),0)","v":0},0,null,"Dune Lake",10,0,0]
["2014-05-01","Hunting","Anaktuvuk Pass-Float Plane","HTNG184","26A",4,{"$f":"IFERROR(VLOOKUP(D581,'Study Area Site Variable'!$B$4:$J$1240,6,FALSE),0)","v":0},{"$f":"IFERROR(VLOOKUP(D581,'Study Area Site Variable'!$B$4:$H$1240,7,FALSE),0)","v":0},0,null,"Dutch Harbor streams",7,0,0]
["2014-05-01","Hunting","Anchorage-Ft. Richardson","HTNG185","14C",7,{"$f":"IFERROR(VLOOKUP(D582,'Study Area Site Variable'!$B$4:$J$1240,6,FALSE),0)","v":1},{"$f":"IFERROR(VLOOKUP(D582,'Study Area Site Variable'!$B$4:$H$1240,7,FALSE),0)","v":0},0,null,"Eagle River",14,1,0]
["2014-05-01","Hunting","Anvik River-Anvik","HTNG186","21E",7,{"$f":"IFERROR(VLOOKUP(D583,'Study Area Site Variable'!$B$4:$J$1240,6,FALSE),0)","v":0},{"$f":"IFERROR(VLOOKUP(D583,'Study Area Site Variable'!$B$4:$H$1240,7,FALSE),0)","v":0},0,null,"Eastern PWS (Boat) - Trip to Whittier, Chenega or West PWS",35,0,0]
["2014-05-01","Hunting","Area 7-Seward","HTNG187",7,14,{"$f":"IFERROR(VLOOKUP(D584,'Study Area Site Variable'!$B$4:$J$1240,6,FALSE),0)","v":1},{"$f":"IFERROR(VLOOKUP(D584,'Study Area Site Variable'!$B$4:$H$1240,7,FALSE),0)","v":0},0,null,"Echo Lake",6,0,0]
["2014-05-01","Hunting","Army trail-Willow","HTNG188","14A",60,{"$f":"IFERROR(VLOOKUP(D585,'Study Area Site Variable'!$B$4:$J$1240,6,FALSE),0)","v":1},{"$f":"IFERROR(VLOOKUP(D585,'Study Area Site Variable'!$B$4:$H$1240,7,FALSE),0)","v":0},2,null,"Eielson Air Force Base lakes",14,0,0]
["2014-05-01","Hunting","Beluga-Movie Lake","HTNG189","16B",2,{"$f":"IFERROR(VLOOKUP(D586,'Study Area Site Variable'!$B$4:$J$1240,6,FALSE),0)","v":1},{"$f":"IFERROR(VLOOKUP(D586,'Study Area Site Variable'!$B$4:$H$1240,7,FALSE),0)","v":0},0,null,"Eklutna Lake",16,0,0]
["2014-05-01","Hunting","Beluga Mudflats-Beluga Airstrip","HTNG190","16B",3,{"$f":"IFERROR(VLOOKUP(D587,'Study Area Site Variable'!$B$4:$J$1240,6,FALSE),0)","v":1},{"$f":"IFERROR(VLOOKUP(D587,'Study Area Site Variable'!$B$4:$H$1240,7,FALSE),0)","v":0},0,null,"Eklutna Power Plant Raceway",76,0,0]
["2014-05-01","Hunting","Big Lake Area-Big Lake","HTNG191","14A",118,{"$f":"IFERROR(VLOOKUP(D588,'Study Area Site Variable'!$B$4:$J$1240,6,FALSE),0)","v":1},{"$f":"IFERROR(VLOOKUP(D588,'Study Area Site Variable'!$B$4:$H$1240,7,FALSE),0)","v":0},73,null,"Eklutna River",0,0,0]
["2014-05-01","Hunting","Big River Lakes-Nikiski","HTNG192","16B",10,{"$f":"IFERROR(VLOOKUP(D589,'Study Area Site Variable'!$B$4:$J$1240,6,FALSE),0)","v":1},{"$f":"IFERROR(VLOOKUP(D589,'Study Area Site Variable'!$B$4:$H$1240,7,FALSE),0)","v":0},0,null,"Eshamy Lagoon (Boat)",2,0,0]
["2014-05-01","Hunting","Denali Highway-Ferry","HTNG193","13E",8,{"$f":"IFERROR(VLOOKUP(D590,'Study Area Site Variable'!$B$4:$J$1240,6,FALSE),0)","v":1},{"$f":"IFERROR(VLOOKUP(D590,'Study Area Site Variable'!$B$4:$H$1240,7,FALSE),0)","v":1},0,null,"Eshamy Lake",4,0,0]
["2014-05-01","Hunting","Bluga Drainage-Tyonek","HTNG194","16B",20,{"$f":"IFERROR(VLOOKUP(D591,'Study Area Site Variable'!$B$4:$J$1240,6,FALSE),0)","v":1},{"$f":"IFERROR(VLOOKUP(D591,'Study Area Site Variable'!$B$4:$H$1240,7,FALSE),0)","v":0},0,null,"Eyak Lake",6,0,0]
["2014-05-01","Hunting","Boulder creek-Chistochina","HTNG195",11,37,{"$f":"IFERROR(VLOOKUP(D592,'Study Area Site Variable'!$B$4:$J$1240,6,FALSE),0)","v":1},{"$f":"IFERROR(VLOOKUP(D592,'Study Area Site Variable'!$B$4:$H$1240,7,FALSE),0)","v":0},0,null,"Fielding Lake",40,0,0]
["2014-05-01","Hunting","Boundary area-Boundary","HTNG196","20E",4,{"$f":"IFERROR(VLOOKUP(D593,'Study Area Site Variable'!$B$4:$J$1240,6,FALSE),0)","v":1},{"$f":"IFERROR(VLOOKUP(D593,'Study Area Site Variable'!$B$4:$H$1240,7,FALSE),0)","v":0},0,null,"Figure Eight Lake",9,0,0]
["2014-05-01","Hunting","Cache Creek-Petersville Rd","HTNG197","16A",78,{"$f":"IFERROR(VLOOKUP(D594,'Study Area Site Variable'!$B$4:$J$1240,6,FALSE),0)","v":1},{"$f":"IFERROR(VLOOKUP(D594,'Study Area Site Variable'!$B$4:$H$1240,7,FALSE),0)","v":0},13,null,"Finger Lake",55,0,0]
["2014-05-01","Hunting","Castle Mountain-Chickaloon","HTNG198","14A",111,{"$f":"IFERROR(VLOOKUP(D595,'Study Area Site Variable'!$B$4:$J$1240,6,FALSE),0)","v":1},{"$f":"IFERROR(VLOOKUP(D595,'Study Area Site Variable'!$B$4:$H$1240,7,FALSE),0)","v":0},111,null,"Finger lakes",0,0,0]
["2014-05-01","Hunting","chandaler river-arctic village","HTNG199","25A",5,{"$f":"IFERROR(VLOOKUP(D596,'Study Area Site Variable'!$B$4:$J$1240,6,FALSE),0)","v":0},{"$f":"IFERROR(VLOOKUP(D596,'Study Area Site Variable'!$B$4:$H$1240,7,FALSE),0)","v":0},0,null,"Fire Lake (Upper and Lower)",19,0,0]
["2014-05-01","Hunting","Chena River-North Pole","HTNG200","20B",77,{"$f":"IFERROR(VLOOKUP(D597,'Study Area Site Variable'!$B$4:$J$1240,6,FALSE),0)","v":1},{"$f":"IFERROR(VLOOKUP(D597,'Study Area Site Variable'!$B$4:$H$1240,7,FALSE),0)","v":0},0,null,"Fish Creek",5,0,0]
["2014-05-01","Hunting","Chugach State Park-Bird Creek","HTNG201","14C",2,{"$f":"IFERROR(VLOOKUP(D598,'Study Area Site Variable'!$B$4:$J$1240,6,FALSE),0)","v":1},{"$f":"IFERROR(VLOOKUP(D598,'Study Area Site Variable'!$B$4:$H$1240,7,FALSE),0)","v":0},0,null,"Fish Creek (Big Lake drainage)",10,0,0]
["2014-05-01","Hunting","Circle Hot Springs-Circle Hot Springs","HTNG202","25C",18,{"$f":"IFERROR(VLOOKUP(D599,'Study Area Site Variable'!$B$4:$J$1240,6,FALSE),0)","v":1},{"$f":"IFERROR(VLOOKUP(D599,'Study Area Site Variable'!$B$4:$H$1240,7,FALSE),0)","v":0},0,null,"Fish Creek (Denali Highway near Cantwell)",94,65,0]
["2014-05-01","Hunting","cold bay-izenbeck","HTNG203","9D",18,{"$f":"IFERROR(VLOOKUP(D600,'Study Area Site Variable'!$B$4:$J$1240,6,FALSE),0)","v":0},{"$f":"IFERROR(VLOOKUP(D600,'Study Area Site Variable'!$B$4:$H$1240,7,FALSE),0)","v":0},0,null,"Fish Creek (into Kroto Slough)",1,0,0]
["2014-05-01","Hunting","Copper River-Tiekel","HTNG204","13D",30,{"$f":"IFERROR(VLOOKUP(D601,'Study Area Site Variable'!$B$4:$J$1240,6,FALSE),0)","v":1},{"$f":"IFERROR(VLOOKUP(D601,'Study Area Site Variable'!$B$4:$H$1240,7,FALSE),0)","v":0},0,null,"Fish Creek (into Mentasta Lake)",6,0,0]
["2014-05-01","Hunting","Copper River-Gakona","HTNG205",11,16,{"$f":"IFERROR(VLOOKUP(D602,'Study Area Site Variable'!$B$4:$J$1240,6,FALSE),0)","v":1},{"$f":"IFERROR(VLOOKUP(D602,'Study Area Site Variable'!$B$4:$H$1240,7,FALSE),0)","v":0},0,null,"Fish Creek (Mile 297 Parks Highway near Nenana)",1,0,0]
["2014-05-01","Hunting","Crow Pass-Eagle River","HTNG206","14C",6,{"$f":"IFERROR(VLOOKUP(D603,'Study Area Site Variable'!$B$4:$J$1240,6,FALSE),0)","v":1},{"$f":"IFERROR(VLOOKUP(D603,'Study Area Site Variable'!$B$4:$H$1240,7,FALSE),0)","v":0},0,null,"Fish Lake",0,0,0]
["2014-05-01","Hunting","Crown Point-Crown Point","HTNG207",7,5,{"$f":"IFERROR(VLOOKUP(D604,'Study Area Site Variable'!$B$4:$J$1240,6,FALSE),0)","v":1},{"$f":"IFERROR(VLOOKUP(D604,'Study Area Site Variable'!$B$4:$H$1240,7,FALSE),0)","v":0},0,null,"Fish River",0,0,0]
["2014-05-01","Hunting","Dalton Elliot Hwy Junction-Livengood","HTNG208","20B",98,{"$f":"IFERROR(VLOOKUP(D605,'Study Area Site Variable'!$B$4:$J$1240,6,FALSE),0)","v":1},{"$f":"IFERROR(VLOOKUP(D605,'Study Area Site Variable'!$B$4:$H$1240,7,FALSE),0)","v":0},0,null,"Fivemile Clearwater",8,0,0]
["2014-05-01","Hunting","Dalton highway-Pump station 2","HTNG209","26B",3,{"$f":"IFERROR(VLOOKUP(D606,'Study Area Site Variable'!$B$4:$J$1240,6,FALSE),0)","v":0},{"$f":"IFERROR(VLOOKUP(D606,'Study Area Site Variable'!$B$4:$H$1240,7,FALSE),0)","v":0},0,null,"Flat Creek",0,0,0]
["2014-05-01","Hunting","Dalton Hwy, Atigun Pass","HTNG210","26B",7,{"$f":"IFERROR(VLOOKUP(D607,'Study Area Site Variable'!$B$4:$J$1240,6,FALSE),0)","v":0},{"$f":"IFERROR(VLOOKUP(D607,'Study Area Site Variable'!$B$4:$H$1240,7,FALSE),0)","v":0},0,null,"Forest Lake",3,0,0]
["2014-05-01","Hunting","Dalton Hwy-Kavik River","HTNG211","26B",5,{"$f":"IFERROR(VLOOKUP(D608,'Study Area Site Variable'!$B$4:$J$1240,6,FALSE),0)","v":0},{"$f":"IFERROR(VLOOKUP(D608,'Study Area Site Variable'!$B$4:$H$1240,7,FALSE),0)","v":0},0,null,"Fortymile River",4,0,0]
["2014-05-01","Hunting","Dalton Hwy-S. Fork Koyukuk","HTNG212","24A",2,{"$f":"IFERROR(VLOOKUP(D609,'Study Area Site Variable'!$B$4:$J$1240,6,FALSE),0)","v":0},{"$f":"IFERROR(VLOOKUP(D609,'Study Area Site Variable'!$B$4:$H$1240,7,FALSE),0)","v":0},0,null,"Fourmile Lake (Taylor Highway)",1,0,0]
["2014-05-01","Hunting","Delta Junction-Tanana","HTNG213","20D",4,{"$f":"IFERROR(VLOOKUP(D610,'Study Area Site Variable'!$B$4:$J$1240,6,FALSE),0)","v":1},{"$f":"IFERROR(VLOOKUP(D610,'Study Area Site Variable'!$B$4:$H$1240,7,FALSE),0)","v":0},0,null,"Fourth of July Creek",11,0,0]
["2014-05-01","Hunting","Denali Hwy-Clearwater","HTNG214","13B",43,{"$f":"IFERROR(VLOOKUP(D611,'Study Area Site Variable'!$B$4:$J$1240,6,FALSE),0)","v":1},{"$f":"IFERROR(VLOOKUP(D611,'Study Area Site Variable'!$B$4:$H$1240,7,FALSE),0)","v":1},0,null,"Fox Island (Boat)",1,0,0]
["2014-05-01","Hunting","Denali Hwy-Brushkana","HTNG215","13E",9,{"$f":"IFERROR(VLOOKUP(D612,'Study Area Site Variable'!$B$4:$J$1240,6,FALSE),0)","v":1},{"$f":"IFERROR(VLOOKUP(D612,'Study Area Site Variable'!$B$4:$H$1240,7,FALSE),0)","v":1},0,null,"Frog Lake",6,0,0]
["2014-05-01","Hunting","Denali Lake Trail-Mile Post 127 Parks Hwy","HTNG216","16A",2,{"$f":"IFERROR(VLOOKUP(D613,'Study Area Site Variable'!$B$4:$J$1240,6,FALSE),0)","v":1},{"$f":"IFERROR(VLOOKUP(D613,'Study Area Site Variable'!$B$4:$H$1240,7,FALSE),0)","v":0},0,null,"Frosty Creek (Cold Bay)",3,0,0]
["2014-05-01","Hunting","Dennsion River-Dome Creek Shelter Cabin","HTNG217","20E",10,{"$f":"IFERROR(VLOOKUP(D614,'Study Area Site Variable'!$B$4:$J$1240,6,FALSE),0)","v":1},{"$f":"IFERROR(VLOOKUP(D614,'Study Area Site Variable'!$B$4:$H$1240,7,FALSE),0)","v":0},0,null,"Funny River",4,0,0]
["2014-05-01","Hunting","Eagle Summit-Eagle, AK","HTNG218","20E",9,{"$f":"IFERROR(VLOOKUP(D615,'Study Area Site Variable'!$B$4:$J$1240,6,FALSE),0)","v":1},{"$f":"IFERROR(VLOOKUP(D615,'Study Area Site Variable'!$B$4:$H$1240,7,FALSE),0)","v":0},0,null,"Galena Bay (Boat)",4,0,0]
["2014-05-01","Hunting","Edgerton Hwy-Chitina","HTNG219","13D",25,{"$f":"IFERROR(VLOOKUP(D616,'Study Area Site Variable'!$B$4:$J$1240,6,FALSE),0)","v":1},{"$f":"IFERROR(VLOOKUP(D616,'Study Area Site Variable'!$B$4:$H$1240,7,FALSE),0)","v":0},0,null,"George Lake",90,0,0]
["2014-05-01","Hunting","Elliott Hwy-Cushman Creek","HTNG220","20B",2,{"$f":"IFERROR(VLOOKUP(D617,'Study Area Site Variable'!$B$4:$J$1240,6,FALSE),0)","v":1},{"$f":"IFERROR(VLOOKUP(D617,'Study Area Site Variable'!$B$4:$H$1240,7,FALSE),0)","v":0},0,null,"Glacier Creek (Girdwood)",5,0,0]
["2014-05-01","Hunting","Eureka Area-Eureka","HTNG221","20B",34,{"$f":"IFERROR(VLOOKUP(D618,'Study Area Site Variable'!$B$4:$J$1240,6,FALSE),0)","v":1},{"$f":"IFERROR(VLOOKUP(D618,'Study Area Site Variable'!$B$4:$H$1240,7,FALSE),0)","v":0},0,null,"Goodnews Lake",54,0,0]
["2014-05-01","Hunting","Eureka-Minto","HTNG222","20B",26,{"$f":"IFERROR(VLOOKUP(D619,'Study Area Site Variable'!$B$4:$J$1240,6,FALSE),0)","v":1},{"$f":"IFERROR(VLOOKUP(D619,'Study Area Site Variable'!$B$4:$H$1240,7,FALSE),0)","v":0},0,null,"Goodpaster River",15,0,0]
["2014-05-01","Hunting","Farewell, AK-Farewell, AK","HTNG223","19C",23,{"$f":"IFERROR(VLOOKUP(D620,'Study Area Site Variable'!$B$4:$J$1240,6,FALSE),0)","v":0},{"$f":"IFERROR(VLOOKUP(D620,'Study Area Site Variable'!$B$4:$H$1240,7,FALSE),0)","v":0},0,null,"Goose Creek",6,0,0]
["2014-05-01","Hunting","Fielding Lake-Fielding Lake State Recreation Site","HTNG224","13B",7,{"$f":"IFERROR(VLOOKUP(D621,'Study Area Site Variable'!$B$4:$J$1240,6,FALSE),0)","v":1},{"$f":"IFERROR(VLOOKUP(D621,'Study Area Site Variable'!$B$4:$H$1240,7,FALSE),0)","v":1},0,null,"Grayling Lake (Eielson AFB)",10,0,0]
["2014-05-01","Hunting","friday creek-butte","HTNG225","14A",27,{"$f":"IFERROR(VLOOKUP(D622,'Study Area Site Variable'!$B$4:$J$1240,6,FALSE),0)","v":1},{"$f":"IFERROR(VLOOKUP(D622,'Study Area Site Variable'!$B$4:$H$1240,7,FALSE),0)","v":0},0,null,"Green Lake (Elmendorf)",1,0,0]
["2014-05-01","Hunting","Funny River Road-Daredevil Circle","HTNG226","15B",3,{"$f":"IFERROR(VLOOKUP(D623,'Study Area Site Variable'!$B$4:$J$1240,6,FALSE),0)","v":0},{"$f":"IFERROR(VLOOKUP(D623,'Study Area Site Variable'!$B$4:$H$1240,7,FALSE),0)","v":0},0,null,"Grizzly Lake",6,0,0]
["2014-05-01","Hunting","Galkana River-Richardson Hwy Sourdough Campground","HTNG227","13A",66,{"$f":"IFERROR(VLOOKUP(D624,'Study Area Site Variable'!$B$4:$J$1240,6,FALSE),0)","v":1},{"$f":"IFERROR(VLOOKUP(D624,'Study Area Site Variable'!$B$4:$H$1240,7,FALSE),0)","v":1},0,null,"Gulf of Alaska- Homer",5,0,0]
["2014-05-01","Hunting","Gameunit 14B N.Fork Montana Crk-Montana Creek Campground","HTNG228","14B",6,{"$f":"IFERROR(VLOOKUP(D625,'Study Area Site Variable'!$B$4:$J$1240,6,FALSE),0)","v":1},{"$f":"IFERROR(VLOOKUP(D625,'Study Area Site Variable'!$B$4:$H$1240,7,FALSE),0)","v":1},0,null,"Gulf of Alaska- Seward",82,0,0]
["2014-05-01","Hunting","Gillespie Lake-Gillespie Creek","HTNG229","13B",16,{"$f":"IFERROR(VLOOKUP(D626,'Study Area Site Variable'!$B$4:$J$1240,6,FALSE),0)","v":1},{"$f":"IFERROR(VLOOKUP(D626,'Study Area Site Variable'!$B$4:$H$1240,7,FALSE),0)","v":1},0,null,"Gulf of Alaska- Valdez",22,0,0]
["2014-05-01","Hunting","Glen Highway West of Caribou Creek-Meekins Roadhouse","HTNG230","13A",2,{"$f":"IFERROR(VLOOKUP(D627,'Study Area Site Variable'!$B$4:$J$1240,6,FALSE),0)","v":1},{"$f":"IFERROR(VLOOKUP(D627,'Study Area Site Variable'!$B$4:$H$1240,7,FALSE),0)","v":1},0,null,"Gulkana River (above Paxson)",52,0,0]
["2014-05-01","Hunting","Glenn Highway-Unspecified","HTNG231","13A",3,{"$f":"IFERROR(VLOOKUP(D628,'Study Area Site Variable'!$B$4:$J$1240,6,FALSE),0)","v":1},{"$f":"IFERROR(VLOOKUP(D628,'Study Area Site Variable'!$B$4:$H$1240,7,FALSE),0)","v":1},0,null,"Gulkana River (Paxson to Sourdough)",7,0,0]
["2014-05-01","Hunting","Glenn Highway-Gunsight","HTNG232","13A",4,{"$f":"IFERROR(VLOOKUP(D629,'Study Area Site Variable'!$B$4:$J$1240,6,FALSE),0)","v":1},{"$f":"IFERROR(VLOOKUP(D629,'Study Area Site Variable'!$B$4:$H$1240,7,FALSE),0)","v":1},0,null,"Gulkana River (Paxson to West Fork)",5,0,0]
["2014-05-01","Hunting","Glenn Hwy-Copper Center","HTNG233","13D, 11",252,{"$f":"IFERROR(VLOOKUP(D630,'Study Area Site Variable'!$B$4:$J$1240,6,FALSE),0)","v":1},{"$f":"IFERROR(VLOOKUP(D630,'Study Area Site Variable'!$B$4:$H$1240,7,FALSE),0)","v":0},0,null,"Gulkana River (Sourdough to Highway)",146,0,0]
["2014-05-01","Hunting","Glenn Hwy-Sutton","HTNG234","14A",3,{"$f":"IFERROR(VLOOKUP(D631,'Study Area Site Variable'!$B$4:$J$1240,6,FALSE),0)","v":1},{"$f":"IFERROR(VLOOKUP(D631,'Study Area Site Variable'!$B$4:$H$1240,7,FALSE),0)","v":0},0,null,"Gulkana River mainstem (reach unspecified)",96,0,0]
["2014-05-01","Hunting","GMU 13D, Long Lake Area-Adjacent Long Lake","HTNG235","13D",1,{"$f":"IFERROR(VLOOKUP(D632,'Study Area Site Variable'!$B$4:$J$1240,6,FALSE),0)","v":1},{"$f":"IFERROR(VLOOKUP(D632,'Study Area Site Variable'!$B$4:$H$1240,7,FALSE),0)","v":0},0,null,"Halibut Cove (Kachemak Bay-Homer) - Boat (non-charter)",4,0,0]
["2014-05-01","Hunting","GMU 20A Rex Dome-Rex","HTNG236","20A",24,{"$f":"IFERROR(VLOOKUP(D633,'Study Area Site Variable'!$B$4:$J$1240,6,FALSE),0)","v":1},{"$f":"IFERROR(VLOOKUP(D633,'Study Area Site Variable'!$B$4:$H$1240,7,FALSE),0)","v":0},0,null,"Happy River",2,0,0]
["2014-05-01","Hunting","GMU 20B Chatanika-Chatanika","HTNG237","20B",3,{"$f":"IFERROR(VLOOKUP(D634,'Study Area Site Variable'!$B$4:$J$1240,6,FALSE),0)","v":1},{"$f":"IFERROR(VLOOKUP(D634,'Study Area Site Variable'!$B$4:$H$1240,7,FALSE),0)","v":0},0,null,"Harding Lake",43,0,0]
["2014-05-01","Hunting","GMU 22D-Kougarok","HTNG238","22D",5,{"$f":"IFERROR(VLOOKUP(D635,'Study Area Site Variable'!$B$4:$J$1240,6,FALSE),0)","v":0},{"$f":"IFERROR(VLOOKUP(D635,'Study Area Site Variable'!$B$4:$H$1240,7,FALSE),0)","v":0},0,null,"Harris Bay - Boat (non-charter)",34,0,0]
["2014-05-01","Hunting","Granite Mountains-Coal Mine Road","HTNG239","20D",2,{"$f":"IFERROR(VLOOKUP(D636,'Study Area Site Variable'!$B$4:$J$1240,6,FALSE),0)","v":1},{"$f":"IFERROR(VLOOKUP(D636,'Study Area Site Variable'!$B$4:$H$1240,7,FALSE),0)","v":0},0,null,"Hess Creek (near Dalton Highway)",2,0,0]
["2014-05-01","Hunting","Gulkana River-Paxson Lake","HTNG240","13B",6,{"$f":"IFERROR(VLOOKUP(D637,'Study Area Site Variable'!$B$4:$J$1240,6,FALSE),0)","v":1},{"$f":"IFERROR(VLOOKUP(D637,'Study Area Site Variable'!$B$4:$H$1240,7,FALSE),0)","v":1},0,null,"Hidden Lake",3,0,0]
["2014-05-01","Hunting","Honolulu Creek-Honolulu Parks Hwy","HTNG241","13E",3,{"$f":"IFERROR(VLOOKUP(D638,'Study Area Site Variable'!$B$4:$J$1240,6,FALSE),0)","v":1},{"$f":"IFERROR(VLOOKUP(D638,'Study Area Site Variable'!$B$4:$H$1240,7,FALSE),0)","v":1},0,null,"Hidden Lake (Eielson AFB)",5,0,0]
["2014-05-01","Hunting","Indian Valley-Indian","HTNG242","14C",10,{"$f":"IFERROR(VLOOKUP(D639,'Study Area Site Variable'!$B$4:$J$1240,6,FALSE),0)","v":1},{"$f":"IFERROR(VLOOKUP(D639,'Study Area Site Variable'!$B$4:$H$1240,7,FALSE),0)","v":0},0,null,"High Lake",3,3,0]
["2014-05-01","Hunting","Innokko River-Innokko River","HTNG243","21A",2,{"$f":"IFERROR(VLOOKUP(D640,'Study Area Site Variable'!$B$4:$J$1240,6,FALSE),0)","v":0},{"$f":"IFERROR(VLOOKUP(D640,'Study Area Site Variable'!$B$4:$H$1240,7,FALSE),0)","v":0},0,null,"Hillberg Lake (Elmendorf)",45,0,0]
["2014-05-01","Hunting","Innoko River-Shageluk","HTNG244","21E",2,{"$f":"IFERROR(VLOOKUP(D641,'Study Area Site Variable'!$B$4:$J$1240,6,FALSE),0)","v":0},{"$f":"IFERROR(VLOOKUP(D641,'Study Area Site Variable'!$B$4:$H$1240,7,FALSE),0)","v":0},0,null,"Holitna River",2,0,0]
["2014-05-01","Hunting","Ivashack River-Sagwon","HTNG245","26B",6,{"$f":"IFERROR(VLOOKUP(D642,'Study Area Site Variable'!$B$4:$J$1240,6,FALSE),0)","v":0},{"$f":"IFERROR(VLOOKUP(D642,'Study Area Site Variable'!$B$4:$H$1240,7,FALSE),0)","v":0},0,null,"Homer Spit (fishing near the Spit) - Boat/ Shore & Charter/Non-charter Unspecified",229,3,0]
["2014-05-01","Hunting","Kaglin Island-Kenai","HTNG246","16B",21,{"$f":"IFERROR(VLOOKUP(D643,'Study Area Site Variable'!$B$4:$J$1240,6,FALSE),0)","v":1},{"$f":"IFERROR(VLOOKUP(D643,'Study Area Site Variable'!$B$4:$H$1240,7,FALSE),0)","v":0},0,null,"Homer Spit, Nick Dudiak Fishing Lagoon (non-charter)",6,0,0]
["2014-05-01","Hunting","Kaltag-Kaltag","HTNG247","21D",12,{"$f":"IFERROR(VLOOKUP(D644,'Study Area Site Variable'!$B$4:$J$1240,6,FALSE),0)","v":0},{"$f":"IFERROR(VLOOKUP(D644,'Study Area Site Variable'!$B$4:$H$1240,7,FALSE),0)","v":0},0,null,"Homer Water Reservoir (Bridge Creek Reservoir)",1,0,0]
["2014-05-01","Hunting","Kantishna-Kantishna","HTNG248","20C",2,{"$f":"IFERROR(VLOOKUP(D645,'Study Area Site Variable'!$B$4:$J$1240,6,FALSE),0)","v":1},{"$f":"IFERROR(VLOOKUP(D645,'Study Area Site Variable'!$B$4:$H$1240,7,FALSE),0)","v":0},0,null,"Honeybee Lake",4,0,0]
["2014-05-01","Hunting","Kenai Peninsula-Ninilchik","HTNG249","15C",4,{"$f":"IFERROR(VLOOKUP(D646,'Study Area Site Variable'!$B$4:$J$1240,6,FALSE),0)","v":0},{"$f":"IFERROR(VLOOKUP(D646,'Study Area Site Variable'!$B$4:$H$1240,7,FALSE),0)","v":0},0,null,"Honolulu Creek",7,0,0]
["2014-05-01","Hunting","Kenai Peninsula-Summit Lake","HTNG250",7,15,{"$f":"IFERROR(VLOOKUP(D647,'Study Area Site Variable'!$B$4:$J$1240,6,FALSE),0)","v":1},{"$f":"IFERROR(VLOOKUP(D647,'Study Area Site Variable'!$B$4:$H$1240,7,FALSE),0)","v":0},0,null,"Horseshoe Lake (North of Big Lake)",1,0,0]
["2014-05-01","Hunting","Koyokuk River-Koyokuk","HTNG251","21D",8,{"$f":"IFERROR(VLOOKUP(D648,'Study Area Site Variable'!$B$4:$J$1240,6,FALSE),0)","v":0},{"$f":"IFERROR(VLOOKUP(D648,'Study Area Site Variable'!$B$4:$H$1240,7,FALSE),0)","v":0},0,null,"Hudson Lake",5,0,0]
["2014-05-01","Hunting","Lake Clark area-Port Alsworth","HTNG252","9B",11,{"$f":"IFERROR(VLOOKUP(D649,'Study Area Site Variable'!$B$4:$J$1240,6,FALSE),0)","v":0},{"$f":"IFERROR(VLOOKUP(D649,'Study Area Site Variable'!$B$4:$H$1240,7,FALSE),0)","v":0},8,null,"Ibeck Creek (Mile 7 Copper River Highway)",13,0,0]
["2014-05-01","Hunting","Lake Creek-Skwentna","HTNG253","16B",8,{"$f":"IFERROR(VLOOKUP(D650,'Study Area Site Variable'!$B$4:$J$1240,6,FALSE),0)","v":1},{"$f":"IFERROR(VLOOKUP(D650,'Study Area Site Variable'!$B$4:$H$1240,7,FALSE),0)","v":0},0,null,"Iliamna Bay (Boat)",6,0,0]
["2014-05-01","Hunting","lake george (east of palmer)-Birchwood","HTNG254","14C",3,{"$f":"IFERROR(VLOOKUP(D651,'Study Area Site Variable'!$B$4:$J$1240,6,FALSE),0)","v":1},{"$f":"IFERROR(VLOOKUP(D651,'Study Area Site Variable'!$B$4:$H$1240,7,FALSE),0)","v":0},0,null,"Indian River (into Susitna)",47,0,0]
["2014-05-01","Hunting","Little Detta River Drainage-Summit Lake","HTNG255","20C",9,{"$f":"IFERROR(VLOOKUP(D652,'Study Area Site Variable'!$B$4:$J$1240,6,FALSE),0)","v":1},{"$f":"IFERROR(VLOOKUP(D652,'Study Area Site Variable'!$B$4:$H$1240,7,FALSE),0)","v":0},0,null,"Ingram Creek",19,0,0]
["2014-05-01","Hunting","Matanuska Valley-Glacier View","HTNG256","14A",10,{"$f":"IFERROR(VLOOKUP(D653,'Study Area Site Variable'!$B$4:$J$1240,6,FALSE),0)","v":1},{"$f":"IFERROR(VLOOKUP(D653,'Study Area Site Variable'!$B$4:$H$1240,7,FALSE),0)","v":0},0,null,"Ivishak River (Dalton Highway)",13,0,0]
["2014-05-01","Hunting","Moose Pass/Trail Lake-Moose Pass","HTNG257",7,3,{"$f":"IFERROR(VLOOKUP(D654,'Study Area Site Variable'!$B$4:$J$1240,6,FALSE),0)","v":1},{"$f":"IFERROR(VLOOKUP(D654,'Study Area Site Variable'!$B$4:$H$1240,7,FALSE),0)","v":0},0,null,"Jack Bay (Boat)",11,0,0]
["2014-05-01","Hunting","Murphy Dome-Fox","HTNG258","20B",1,{"$f":"IFERROR(VLOOKUP(D655,'Study Area Site Variable'!$B$4:$J$1240,6,FALSE),0)","v":1},{"$f":"IFERROR(VLOOKUP(D655,'Study Area Site Variable'!$B$4:$H$1240,7,FALSE),0)","v":0},0,null,"Jack Creek (into Nabesna River)",2,0,0]
["2014-05-01","Hunting","Near Fairbanks-Ski Loop Trail/Summit Trail","HTNG259","20B",5,{"$f":"IFERROR(VLOOKUP(D656,'Study Area Site Variable'!$B$4:$J$1240,6,FALSE),0)","v":1},{"$f":"IFERROR(VLOOKUP(D656,'Study Area Site Variable'!$B$4:$H$1240,7,FALSE),0)","v":0},0,null,"Jack Lake",5,0,0]
["2014-05-01","Hunting","Nebesna Road-Slana","HTNG260",11,51,{"$f":"IFERROR(VLOOKUP(D657,'Study Area Site Variable'!$B$4:$J$1240,6,FALSE),0)","v":1},{"$f":"IFERROR(VLOOKUP(D657,'Study Area Site Variable'!$B$4:$H$1240,7,FALSE),0)","v":0},0,null,"Jack River (into Nenana)",56,47,0]
["2014-05-01","Hunting","Nixson Fork-Upper Kuskokwim","HTNG261","19D",2,{"$f":"IFERROR(VLOOKUP(D658,'Study Area Site Variable'!$B$4:$J$1240,6,FALSE),0)","v":0},{"$f":"IFERROR(VLOOKUP(D658,'Study Area Site Variable'!$B$4:$H$1240,7,FALSE),0)","v":0},0,null,"Jan Lake",2,2,0]
["2014-05-01","Hunting","Nome Creek-Davidson Ditch","HTNG262","20B",3,{"$f":"IFERROR(VLOOKUP(D659,'Study Area Site Variable'!$B$4:$J$1240,6,FALSE),0)","v":1},{"$f":"IFERROR(VLOOKUP(D659,'Study Area Site Variable'!$B$4:$H$1240,7,FALSE),0)","v":0},0,null,"Jewel Lake",23,0,0]
["2014-05-01","Hunting","North Fork Chandalar River-20 miles north of Chandalar lake","HTNG263","25A",12,{"$f":"IFERROR(VLOOKUP(D660,'Study Area Site Variable'!$B$4:$J$1240,6,FALSE),0)","v":0},{"$f":"IFERROR(VLOOKUP(D660,'Study Area Site Variable'!$B$4:$H$1240,7,FALSE),0)","v":0},0,null,"Jim Creek (into Knik River)",96,0,0]
["2014-05-01","Hunting","North Slope-Oksrukuyik","HTNG264","26B",21,{"$f":"IFERROR(VLOOKUP(D661,'Study Area Site Variable'!$B$4:$J$1240,6,FALSE),0)","v":0},{"$f":"IFERROR(VLOOKUP(D661,'Study Area Site Variable'!$B$4:$H$1240,7,FALSE),0)","v":0},0,null,"Jim River (Dalton Highway)",18,0,0]
["2014-05-01","Hunting","Olnes Ponds-Olnes","HTNG265","20B",6,{"$f":"IFERROR(VLOOKUP(D662,'Study Area Site Variable'!$B$4:$J$1240,6,FALSE),0)","v":1},{"$f":"IFERROR(VLOOKUP(D662,'Study Area Site Variable'!$B$4:$H$1240,7,FALSE),0)","v":0},0,null,"Johnson Lake",35,0,0]
["2014-05-01","Hunting","Port Lions-Port Lions","HTNG266",8,3,{"$f":"IFERROR(VLOOKUP(D663,'Study Area Site Variable'!$B$4:$J$1240,6,FALSE),0)","v":1},{"$f":"IFERROR(VLOOKUP(D663,'Study Area Site Variable'!$B$4:$H$1240,7,FALSE),0)","v":0},0,null,"Johnstone Bay - Boat (non-charter)",5,0,0]
["2014-05-01","Hunting","Resurrection Trail-Cooper Landing","HTNG267","15B, 7",3,{"$f":"IFERROR(VLOOKUP(D664,'Study Area Site Variable'!$B$4:$J$1240,6,FALSE),0)","v":1},{"$f":"IFERROR(VLOOKUP(D664,'Study Area Site Variable'!$B$4:$H$1240,7,FALSE),0)","v":0},0,null,"Julius Creek",3,0,0]
["2014-05-01","Hunting","Richardson Hwy-Thompson Pass","HTNG268","13D",4,{"$f":"IFERROR(VLOOKUP(D665,'Study Area Site Variable'!$B$4:$J$1240,6,FALSE),0)","v":1},{"$f":"IFERROR(VLOOKUP(D665,'Study Area Site Variable'!$B$4:$H$1240,7,FALSE),0)","v":0},0,null,"Kachemak Bay",567,3,0]
["2014-05-01","Hunting","Richardson Hwy-Donnelly Dome","HTNG269","20B",9,{"$f":"IFERROR(VLOOKUP(D666,'Study Area Site Variable'!$B$4:$J$1240,6,FALSE),0)","v":1},{"$f":"IFERROR(VLOOKUP(D666,'Study Area Site Variable'!$B$4:$H$1240,7,FALSE),0)","v":0},0,null,"Kachemak Bay (Boat/Shore & Charter/Non Charter Unspecified",2,0,0]
["2014-05-01","Hunting","Richardson Hwy-Tonsina","HTNG270","13D",34,{"$f":"IFERROR(VLOOKUP(D667,'Study Area Site Variable'!$B$4:$J$1240,6,FALSE),0)","v":1},{"$f":"IFERROR(VLOOKUP(D667,'Study Area Site Variable'!$B$4:$H$1240,7,FALSE),0)","v":0},0,null,"Kalsin Bay (Boat)",7,0,0]
["2014-05-01","Hunting","Russian lake trial-Russian Lake","HTNG271",7,0,{"$f":"IFERROR(VLOOKUP(D668,'Study Area Site Variable'!$B$4:$J$1240,6,FALSE),0)","v":0},{"$f":"IFERROR(VLOOKUP(D668,'Study Area Site Variable'!$B$4:$H$1240,7,FALSE),0)","v":0},0,null,"Kanektok River (Quinhagak, Chosen)",8,0,0]
["2014-05-01","Hunting","Sadie cove-Homer","HTNG272","15C",3,{"$f":"IFERROR(VLOOKUP(D669,'Study Area Site Variable'!$B$4:$J$1240,6,FALSE),0)","v":0},{"$f":"IFERROR(VLOOKUP(D669,'Study Area Site Variable'!$B$4:$H$1240,7,FALSE),0)","v":0},0,null,"Kanuti River (accessed from Dalton Highway)",1,0,0]
["2014-05-01","Hunting","Shaktoolik River-Shaktoolik","HTNG273","22A",12,{"$f":"IFERROR(VLOOKUP(D670,'Study Area Site Variable'!$B$4:$J$1240,6,FALSE),0)","v":0},{"$f":"IFERROR(VLOOKUP(D670,'Study Area Site Variable'!$B$4:$H$1240,7,FALSE),0)","v":0},0,null,"Kashwitna River",18,0,2]
["2014-05-01","Hunting","Sheep Mtn-Sheep Mtn","HTNG274","13A",18,{"$f":"IFERROR(VLOOKUP(D671,'Study Area Site Variable'!$B$4:$J$1240,6,FALSE),0)","v":1},{"$f":"IFERROR(VLOOKUP(D671,'Study Area Site Variable'!$B$4:$H$1240,7,FALSE),0)","v":1},0,null,"Kasilof River (guided, private, boat, bank not specified)",218,6,0]
["2014-05-01","Hunting","Skilak Lake Rd-Jim's Landing (North end of Road)","HTNG275","15A",4,{"$f":"IFERROR(VLOOKUP(D672,'Study Area Site Variable'!$B$4:$J$1240,6,FALSE),0)","v":0},{"$f":"IFERROR(VLOOKUP(D672,'Study Area Site Variable'!$B$4:$H$1240,7,FALSE),0)","v":0},0,null,"Kasilof River Mouth - Boat (non-charter)",12,2,0]
["2014-05-01","Hunting","Tayler Hwy-Tetlin Junction","HTNG276",12,24,{"$f":"IFERROR(VLOOKUP(D673,'Study Area Site Variable'!$B$4:$J$1240,6,FALSE),0)","v":1},{"$f":"IFERROR(VLOOKUP(D673,'Study Area Site Variable'!$B$4:$H$1240,7,FALSE),0)","v":0},0,null,"Katmai Bay (Boat)",11,0,0]
["2014-05-01","Hunting","Tolsona creek-Tolsona Creek State Recreation Site","HTNG277","13A",6,{"$f":"IFERROR(VLOOKUP(D674,'Study Area Site Variable'!$B$4:$J$1240,6,FALSE),0)","v":1},{"$f":"IFERROR(VLOOKUP(D674,'Study Area Site Variable'!$B$4:$H$1240,7,FALSE),0)","v":1},0,null,"Kazakof Bay (Boat) - Afognak Island",7,0,0]
["2014-05-01","Hunting","Unit 26B Kavik River near Prudhoe Bay-Prudhoe Bay","HTNG278","26B",6,{"$f":"IFERROR(VLOOKUP(D675,'Study Area Site Variable'!$B$4:$J$1240,6,FALSE),0)","v":0},{"$f":"IFERROR(VLOOKUP(D675,'Study Area Site Variable'!$B$4:$H$1240,7,FALSE),0)","v":0},0,null,"Kenai Lake",1,0,0]
["2014-05-01","Hunting","Dillingham","HTNG279","17C",12,{"$f":"IFERROR(VLOOKUP(D676,'Study Area Site Variable'!$B$4:$J$1240,6,FALSE),0)","v":0},{"$f":"IFERROR(VLOOKUP(D676,'Study Area Site Variable'!$B$4:$H$1240,7,FALSE),0)","v":0},0,null,"Kenai River - (Cook Inlet to Soldotna Bridge)",2287,14,0]
["2014-05-01","Hunting","Central","HTNG280","20B",1,{"$f":"IFERROR(VLOOKUP(D677,'Study Area Site Variable'!$B$4:$J$1240,6,FALSE),0)","v":1},{"$f":"IFERROR(VLOOKUP(D677,'Study Area Site Variable'!$B$4:$H$1240,7,FALSE),0)","v":0},0,null,"Kenai River - (Moose R to Skilak Outlet)",270,0,0]
["2014-05-01","Hunting","Sterling","HTNG281","15A, 15B",3,{"$f":"IFERROR(VLOOKUP(D678,'Study Area Site Variable'!$B$4:$J$1240,6,FALSE),0)","v":0},{"$f":"IFERROR(VLOOKUP(D678,'Study Area Site Variable'!$B$4:$H$1240,7,FALSE),0)","v":0},0,null,"Kenai River - (Skilak Inlet to Kenai Lake)",374,0,0]
["2014-05-01","Hunting","McGrath","HTNG282","19D",4,{"$f":"IFERROR(VLOOKUP(D679,'Study Area Site Variable'!$B$4:$J$1240,6,FALSE),0)","v":0},{"$f":"IFERROR(VLOOKUP(D679,'Study Area Site Variable'!$B$4:$H$1240,7,FALSE),0)","v":0},0,null,"Kenai River - (Soldotna Bridge to Moose R)",395,0,0]
["2014-05-01","Hunting","Wrangell-Wrangell","HTNG283",3,6,{"$f":"IFERROR(VLOOKUP(D680,'Study Area Site Variable'!$B$4:$J$1240,6,FALSE),0)","v":0},{"$f":"IFERROR(VLOOKUP(D680,'Study Area Site Variable'!$B$4:$H$1240,7,FALSE),0)","v":0},0,null,"Kenai River (reach and guided/non-guided not specified)",176,8,0]
["2013-08-01","Fishing","Kenai River - (Cook Inlet to Soldotna Bridge)","NEI P60001",null,1372,{"$f":"IFERROR(VLOOKUP(D681,'Study Area Site Variable'!$B$4:$J$1240,6,FALSE),0)","v":1},{"$f":"IFERROR(VLOOKUP(D681,'Study Area Site Variable'!$B$4:$H$1240,7,FALSE),0)","v":0},0,null,"Kepler Lake (Kepler Lake Complex)",27,0,0]
["2013-08-01","Fishing","Resurrection Bay (Seward) -Boat/Shore & Charter/Non Charter unspecified","NEI P10791",null,193,{"$f":"IFERROR(VLOOKUP(D682,'Study Area Site Variable'!$B$4:$J$1240,6,FALSE),0)","v":1},{"$f":"IFERROR(VLOOKUP(D682,'Study Area Site Variable'!$B$4:$H$1240,7,FALSE),0)","v":0},0,null,"Kepler Lake Complex",0,2,0]
["2013-08-01","Fishing","Homer Spit (fishing near the Spit) - Boat/ Shore & Charter/Non-charter Unspecified","NEI P10822",null,66,{"$f":"IFERROR(VLOOKUP(D683,'Study Area Site Variable'!$B$4:$J$1240,6,FALSE),0)","v":0},{"$f":"IFERROR(VLOOKUP(D683,'Study Area Site Variable'!$B$4:$H$1240,7,FALSE),0)","v":0},0,null,"King Salmon Creek (by King Salmon, Naknek drainage)",1,0,0]
["2013-08-01","Fishing","Russian River","P00009",null,250,{"$f":"IFERROR(VLOOKUP(D684,'Study Area Site Variable'!$B$4:$J$1240,6,FALSE),0)","v":0},{"$f":"IFERROR(VLOOKUP(D684,'Study Area Site Variable'!$B$4:$H$1240,7,FALSE),0)","v":0},0,null,"Klutina Lake",5,0,0]
["2013-08-01","Fishing","Chena River - Lower (including Badger Slough)","U 0002",null,96,{"$f":"IFERROR(VLOOKUP(D685,'Study Area Site Variable'!$B$4:$J$1240,6,FALSE),0)","v":1},{"$f":"IFERROR(VLOOKUP(D685,'Study Area Site Variable'!$B$4:$H$1240,7,FALSE),0)","v":0},0,null,"Klutina River",438,0,0]
["2013-08-01","Fishing","Ship Creek","L 0014",null,174,{"$f":"IFERROR(VLOOKUP(D686,'Study Area Site Variable'!$B$4:$J$1240,6,FALSE),0)","v":1},{"$f":"IFERROR(VLOOKUP(D686,'Study Area Site Variable'!$B$4:$H$1240,7,FALSE),0)","v":0},0,null,"Knight Island (Boat)",2,0,0]
["2013-08-01","Fishing","Kasilof River (guided, private, boat, bank not specified)","P00010",null,100,{"$f":"IFERROR(VLOOKUP(D687,'Study Area Site Variable'!$B$4:$J$1240,6,FALSE),0)","v":1},{"$f":"IFERROR(VLOOKUP(D687,'Study Area Site Variable'!$B$4:$H$1240,7,FALSE),0)","v":0},0,null,"Knik Arm (Shore)",4,0,0]
["2013-08-01","Fishing","Prince William Sound- Cordova","NEI J 07414",null,280,{"$f":"IFERROR(VLOOKUP(D688,'Study Area Site Variable'!$B$4:$J$1240,6,FALSE),0)","v":1},{"$f":"IFERROR(VLOOKUP(D688,'Study Area Site Variable'!$B$4:$H$1240,7,FALSE),0)","v":0},0,null,"Knik Lake",7,0,0]
["2013-08-01","Fishing","Area A-H","Area A-H",null,91,{"$f":"IFERROR(VLOOKUP(D689,'Study Area Site Variable'!$B$4:$J$1240,6,FALSE),0)","v":0},{"$f":"IFERROR(VLOOKUP(D689,'Study Area Site Variable'!$B$4:$H$1240,7,FALSE),0)","v":0},3,null,"Knik River",60,0,0]
["2013-08-01","Fishing","Valdez Bay (also Port Valdez) (Boat)","J 0001",null,109,{"$f":"IFERROR(VLOOKUP(D690,'Study Area Site Variable'!$B$4:$J$1240,6,FALSE),0)","v":0},{"$f":"IFERROR(VLOOKUP(D690,'Study Area Site Variable'!$B$4:$H$1240,7,FALSE),0)","v":0},0,null,"Knik River and Tributaries including Jim Creek",12,0,0]
["2013-08-01","Fishing","Bird Creek","L 0015",null,33,{"$f":"IFERROR(VLOOKUP(D691,'Study Area Site Variable'!$B$4:$J$1240,6,FALSE),0)","v":1},{"$f":"IFERROR(VLOOKUP(D691,'Study Area Site Variable'!$B$4:$H$1240,7,FALSE),0)","v":0},0,null,"Knob Lake (Glenn Highway mile 119)",16,0,0]
["2013-08-01","Fishing","Little Susitna River- Houston","K 00041",null,61,{"$f":"IFERROR(VLOOKUP(D692,'Study Area Site Variable'!$B$4:$J$1240,6,FALSE),0)","v":0},{"$f":"IFERROR(VLOOKUP(D692,'Study Area Site Variable'!$B$4:$H$1240,7,FALSE),0)","v":0},0,null,"Kobuk Lake",1,0,0]
["2013-08-01","Fishing","Prince William Sound- Whittier","NEI J 07413",null,84,{"$f":"IFERROR(VLOOKUP(D693,'Study Area Site Variable'!$B$4:$J$1240,6,FALSE),0)","v":1},{"$f":"IFERROR(VLOOKUP(D693,'Study Area Site Variable'!$B$4:$H$1240,7,FALSE),0)","v":0},0,null,"Kobuk River",21,0,0]
["2013-08-01","Fishing","Uncoded",0,null,45,{"$f":"IFERROR(VLOOKUP(D694,'Study Area Site Variable'!$B$4:$J$1240,6,FALSE),0)","v":0},{"$f":"IFERROR(VLOOKUP(D694,'Study Area Site Variable'!$B$4:$H$1240,7,FALSE),0)","v":0},0,null,"Kogoluktuk River (into Kobuk River)",0,0,0]
["2013-08-01","Fishing","Red Shirt Lake (Nancy Lakes Rec System)","K 0456",null,36,{"$f":"IFERROR(VLOOKUP(D695,'Study Area Site Variable'!$B$4:$J$1240,6,FALSE),0)","v":0},{"$f":"IFERROR(VLOOKUP(D695,'Study Area Site Variable'!$B$4:$H$1240,7,FALSE),0)","v":0},0,null,"Koyukuk R. - Middle Fork (accessed from Dalton Highway)",15,0,0]
["2013-08-01","Fishing","Gulkana River (Sourdough to Highway)","I 0015",null,39,{"$f":"IFERROR(VLOOKUP(D696,'Study Area Site Variable'!$B$4:$J$1240,6,FALSE),0)","v":1},{"$f":"IFERROR(VLOOKUP(D696,'Study Area Site Variable'!$B$4:$H$1240,7,FALSE),0)","v":0},0,null,"Koyukuk R. - South Fork (accessed from Dalton Highway)",5,0,0]
["2013-08-01","Fishing","Cook Inlet- Kenai","NEI 991",null,103,{"$f":"IFERROR(VLOOKUP(D697,'Study Area Site Variable'!$B$4:$J$1240,6,FALSE),0)","v":1},{"$f":"IFERROR(VLOOKUP(D697,'Study Area Site Variable'!$B$4:$H$1240,7,FALSE),0)","v":0},0,null,"Koyukuk River - Middle Fork (Dalton Highway)",7,0,0]
["2013-08-01","Fishing","Ninilchik River","P00006",null,21,{"$f":"IFERROR(VLOOKUP(D698,'Study Area Site Variable'!$B$4:$J$1240,6,FALSE),0)","v":0},{"$f":"IFERROR(VLOOKUP(D698,'Study Area Site Variable'!$B$4:$H$1240,7,FALSE),0)","v":0},0,null,"Kukaklek River (Big Ku) (into Alagnak)",2,0,0]
["2013-08-01","Fishing","Gulf of Alaska- Seward","J 10781",null,76,{"$f":"IFERROR(VLOOKUP(D699,'Study Area Site Variable'!$B$4:$J$1240,6,FALSE),0)","v":0},{"$f":"IFERROR(VLOOKUP(D699,'Study Area Site Variable'!$B$4:$H$1240,7,FALSE),0)","v":0},0,null,"Kuparuk River (Dalton Highway)",0,0,0]
["2013-08-01","Fishing","Summit Lake","P00235",null,84,{"$f":"IFERROR(VLOOKUP(D700,'Study Area Site Variable'!$B$4:$J$1240,6,FALSE),0)","v":0},{"$f":"IFERROR(VLOOKUP(D700,'Study Area Site Variable'!$B$4:$H$1240,7,FALSE),0)","v":0},0,null,"Kuskokwim River - reach not specified",34,0,0]
["2013-08-01","Fishing","Lake Louise","Q 0232",null,36,{"$f":"IFERROR(VLOOKUP(D701,'Study Area Site Variable'!$B$4:$J$1240,6,FALSE),0)","v":1},{"$f":"IFERROR(VLOOKUP(D701,'Study Area Site Variable'!$B$4:$H$1240,7,FALSE),0)","v":0},0,null,"Kuskokwim River drainages below and including Aniak River",4,0,0]
["2013-08-01","Fishing","Kachemak Bay","P61003",null,327,{"$f":"IFERROR(VLOOKUP(D702,'Study Area Site Variable'!$B$4:$J$1240,6,FALSE),0)","v":1},{"$f":"IFERROR(VLOOKUP(D702,'Study Area Site Variable'!$B$4:$H$1240,7,FALSE),0)","v":0},0,null,"Kustatan River",1,0,0]
["2013-08-01","Fishing","Copper River","J 0140",null,136,{"$f":"IFERROR(VLOOKUP(D703,'Study Area Site Variable'!$B$4:$J$1240,6,FALSE),0)","v":0},{"$f":"IFERROR(VLOOKUP(D703,'Study Area Site Variable'!$B$4:$H$1240,7,FALSE),0)","v":0},0,null,"Kvichak River",3,0,0]
["2013-08-01","Fishing","Kepler Lake (Kepler Lake Complex)","K 0281",null,17,{"$f":"IFERROR(VLOOKUP(D704,'Study Area Site Variable'!$B$4:$J$1240,6,FALSE),0)","v":1},{"$f":"IFERROR(VLOOKUP(D704,'Study Area Site Variable'!$B$4:$H$1240,7,FALSE),0)","v":0},0,null,"Lake Clark",35,35,0]
["2013-08-01","Fishing","Deshka River (Kroto Creek)","M 1003",null,20,{"$f":"IFERROR(VLOOKUP(D705,'Study Area Site Variable'!$B$4:$J$1240,6,FALSE),0)","v":1},{"$f":"IFERROR(VLOOKUP(D705,'Study Area Site Variable'!$B$4:$H$1240,7,FALSE),0)","v":1},0,null,"Lake Creek",77,0,0]
["2013-08-01","Fishing","Snake River","W 0012",null,22,{"$f":"IFERROR(VLOOKUP(D706,'Study Area Site Variable'!$B$4:$J$1240,6,FALSE),0)","v":0},{"$f":"IFERROR(VLOOKUP(D706,'Study Area Site Variable'!$B$4:$H$1240,7,FALSE),0)","v":0},0,null,"Lake Louise",119,14,0]
["2013-08-01","Fishing","Campbell Creek","L 0016",null,36,{"$f":"IFERROR(VLOOKUP(D707,'Study Area Site Variable'!$B$4:$J$1240,6,FALSE),0)","v":0},{"$f":"IFERROR(VLOOKUP(D707,'Study Area Site Variable'!$B$4:$H$1240,7,FALSE),0)","v":0},0,null,"Lake Louise (McCarthy)",29,0,0]
["2013-08-01","Fishing","Knik River","K 0469",null,22,{"$f":"IFERROR(VLOOKUP(D708,'Study Area Site Variable'!$B$4:$J$1240,6,FALSE),0)","v":1},{"$f":"IFERROR(VLOOKUP(D708,'Study Area Site Variable'!$B$4:$H$1240,7,FALSE),0)","v":0},0,null,"Lake Louise (off Glenn Highway)",1,0,0]
["2013-08-01","Fishing","Lake Creek","M 1004",null,18,{"$f":"IFERROR(VLOOKUP(D709,'Study Area Site Variable'!$B$4:$J$1240,6,FALSE),0)","v":1},{"$f":"IFERROR(VLOOKUP(D709,'Study Area Site Variable'!$B$4:$H$1240,7,FALSE),0)","v":0},0,null,"Lake Otis",1,0,0]
["2013-08-01","Fishing","Fish Creek (Denali Highway near Cantwell)","U 1025",null,18,{"$f":"IFERROR(VLOOKUP(D710,'Study Area Site Variable'!$B$4:$J$1240,6,FALSE),0)","v":0},{"$f":"IFERROR(VLOOKUP(D710,'Study Area Site Variable'!$B$4:$H$1240,7,FALSE),0)","v":0},0,null,"Lalen Lake",29,0,0]
["2013-08-01","Fishing","Birch Lake (South Anchorage)","L 0214",null,28,{"$f":"IFERROR(VLOOKUP(D711,'Study Area Site Variable'!$B$4:$J$1240,6,FALSE),0)","v":1},{"$f":"IFERROR(VLOOKUP(D711,'Study Area Site Variable'!$B$4:$H$1240,7,FALSE),0)","v":0},0,null,"Larson Creek",27,6,0]
["2013-08-01","Fishing","Passage Canal (Whittier) (Boat)","J 0002",null,43,{"$f":"IFERROR(VLOOKUP(D712,'Study Area Site Variable'!$B$4:$J$1240,6,FALSE),0)","v":0},{"$f":"IFERROR(VLOOKUP(D712,'Study Area Site Variable'!$B$4:$H$1240,7,FALSE),0)","v":0},0,null,"Little Campbell Creek",5,0,0]
["2013-08-01","Fishing","Delta River (below Tangle lakes)","U 0017",null,18,{"$f":"IFERROR(VLOOKUP(D713,'Study Area Site Variable'!$B$4:$J$1240,6,FALSE),0)","v":0},{"$f":"IFERROR(VLOOKUP(D713,'Study Area Site Variable'!$B$4:$H$1240,7,FALSE),0)","v":0},0,null,"Little Chena River",4,0,0]
["2013-08-01","Fishing","Cook Inlet- Anchor Point","NEI 993",null,12,{"$f":"IFERROR(VLOOKUP(D714,'Study Area Site Variable'!$B$4:$J$1240,6,FALSE),0)","v":1},{"$f":"IFERROR(VLOOKUP(D714,'Study Area Site Variable'!$B$4:$H$1240,7,FALSE),0)","v":0},0,null,"Little Harding Lake",2,0,0]
["2013-08-01","Fishing","Susitna River","M 1251",null,12,{"$f":"IFERROR(VLOOKUP(D715,'Study Area Site Variable'!$B$4:$J$1240,6,FALSE),0)","v":0},{"$f":"IFERROR(VLOOKUP(D715,'Study Area Site Variable'!$B$4:$H$1240,7,FALSE),0)","v":0},0,null,"Little Lost Lake (near Quartz Lake)",3,0,0]
["2013-08-01","Fishing","Nushagak River system (incl. Harris Creek, King Salmon R.)","T 0003",null,29,{"$f":"IFERROR(VLOOKUP(D716,'Study Area Site Variable'!$B$4:$J$1240,6,FALSE),0)","v":1},{"$f":"IFERROR(VLOOKUP(D716,'Study Area Site Variable'!$B$4:$H$1240,7,FALSE),0)","v":0},0,null,"Little Oshetna River",28,0,0]
["2013-08-01","Fishing","Mirror Lake","L 0007",null,17,{"$f":"IFERROR(VLOOKUP(D717,'Study Area Site Variable'!$B$4:$J$1240,6,FALSE),0)","v":0},{"$f":"IFERROR(VLOOKUP(D717,'Study Area Site Variable'!$B$4:$H$1240,7,FALSE),0)","v":0},0,null,"Little Susitna River",39,0,0]
["2013-08-01","Fishing","Resurrection Creek (near Hope)","P00261",null,16,{"$f":"IFERROR(VLOOKUP(D718,'Study Area Site Variable'!$B$4:$J$1240,6,FALSE),0)","v":0},{"$f":"IFERROR(VLOOKUP(D718,'Study Area Site Variable'!$B$4:$H$1240,7,FALSE),0)","v":0},0,null,"Little Susitna River- Houston",67,0,0]
["2013-08-01","Fishing","Chatanika River - Lower (below Elliot Highway, incl. tribs)","U 0613",null,11,{"$f":"IFERROR(VLOOKUP(D719,'Study Area Site Variable'!$B$4:$J$1240,6,FALSE),0)","v":0},{"$f":"IFERROR(VLOOKUP(D719,'Study Area Site Variable'!$B$4:$H$1240,7,FALSE),0)","v":0},0,null,"Little Susitna River- Little Susitna Public Use Facility",88,0,0]
["2013-08-01","Fishing","Harding Lake","U 0189",null,40,{"$f":"IFERROR(VLOOKUP(D720,'Study Area Site Variable'!$B$4:$J$1240,6,FALSE),0)","v":0},{"$f":"IFERROR(VLOOKUP(D720,'Study Area Site Variable'!$B$4:$H$1240,7,FALSE),0)","v":0},0,null,"Little Tok River",5,0,0]
["2013-08-01","Fishing","Eklutna Power Plant Raceway","K 0014",null,22,{"$f":"IFERROR(VLOOKUP(D721,'Study Area Site Variable'!$B$4:$J$1240,6,FALSE),0)","v":0},{"$f":"IFERROR(VLOOKUP(D721,'Study Area Site Variable'!$B$4:$H$1240,7,FALSE),0)","v":0},0,null,"Little Tonsina River",3,0,0]
["2013-08-01","Fishing","Byers Creek","M 0179",null,15,{"$f":"IFERROR(VLOOKUP(D722,'Study Area Site Variable'!$B$4:$J$1240,6,FALSE),0)","v":0},{"$f":"IFERROR(VLOOKUP(D722,'Study Area Site Variable'!$B$4:$H$1240,7,FALSE),0)","v":0},0,null,"Little Willow Creek",19,0,0]
["2013-08-01","Fishing","Chena River - Upper (including South Fork)","U 0001",null,10,{"$f":"IFERROR(VLOOKUP(D723,'Study Area Site Variable'!$B$4:$J$1240,6,FALSE),0)","v":0},{"$f":"IFERROR(VLOOKUP(D723,'Study Area Site Variable'!$B$4:$H$1240,7,FALSE),0)","v":0},0,null,"Long Lake",0,0,0]
["2013-08-01","Fishing","Clam Gluch- Shoreline/ Boat & Charter/Non-charter Unspecified","P10776",null,15,{"$f":"IFERROR(VLOOKUP(D724,'Study Area Site Variable'!$B$4:$J$1240,6,FALSE),0)","v":1},{"$f":"IFERROR(VLOOKUP(D724,'Study Area Site Variable'!$B$4:$H$1240,7,FALSE),0)","v":0},0,null,"Long Lake (Kepler Lake Complex)",7,0,0]
["2013-08-01","Fishing","Clearwater Creek (U)","U 0146",null,14,{"$f":"IFERROR(VLOOKUP(D725,'Study Area Site Variable'!$B$4:$J$1240,6,FALSE),0)","v":0},{"$f":"IFERROR(VLOOKUP(D725,'Study Area Site Variable'!$B$4:$H$1240,7,FALSE),0)","v":0},0,null,"Long Lake (Mile 85 Glenn Highway)",1,0,0]
["2013-08-01","Fishing","Eagle River","L 0018",null,14,{"$f":"IFERROR(VLOOKUP(D726,'Study Area Site Variable'!$B$4:$J$1240,6,FALSE),0)","v":0},{"$f":"IFERROR(VLOOKUP(D726,'Study Area Site Variable'!$B$4:$H$1240,7,FALSE),0)","v":0},1,null,"Long Lake (near Willow, Nancy Lakes Rec System)",6,0,0]
["2013-08-01","Fishing","Eielson Air Force Base lakes","U 0166",null,14,{"$f":"IFERROR(VLOOKUP(D727,'Study Area Site Variable'!$B$4:$J$1240,6,FALSE),0)","v":0},{"$f":"IFERROR(VLOOKUP(D727,'Study Area Site Variable'!$B$4:$H$1240,7,FALSE),0)","v":0},0,null,"Loon Lake",4,0,0]
["2013-08-01","Fishing","Montana Creek","M 0006",null,20,{"$f":"IFERROR(VLOOKUP(D728,'Study Area Site Variable'!$B$4:$J$1240,6,FALSE),0)","v":1},{"$f":"IFERROR(VLOOKUP(D728,'Study Area Site Variable'!$B$4:$H$1240,7,FALSE),0)","v":1},6,null,"Loon Lake (Swan Lake Canoe System)",0,0,0]
["2013-08-01","Fishing","Sheep Creek","J 0271",null,13,{"$f":"IFERROR(VLOOKUP(D729,'Study Area Site Variable'!$B$4:$J$1240,6,FALSE),0)","v":1},{"$f":"IFERROR(VLOOKUP(D729,'Study Area Site Variable'!$B$4:$H$1240,7,FALSE),0)","v":0},0,null,"Lorraine Lake",0,0,0]
["2013-08-01","Fishing","Kashwitna River","M 0143",null,9,{"$f":"IFERROR(VLOOKUP(D730,'Study Area Site Variable'!$B$4:$J$1240,6,FALSE),0)","v":1},{"$f":"IFERROR(VLOOKUP(D730,'Study Area Site Variable'!$B$4:$H$1240,7,FALSE),0)","v":1},0,null,"Lost Lake",13,0,0]
["2013-08-01","Fishing","Chitina River","I 0136",null,11,{"$f":"IFERROR(VLOOKUP(D731,'Study Area Site Variable'!$B$4:$J$1240,6,FALSE),0)","v":0},{"$f":"IFERROR(VLOOKUP(D731,'Study Area Site Variable'!$B$4:$H$1240,7,FALSE),0)","v":0},0,null,"Lost Lake (Swanson River Canoe Route Lake)",3,0,0]
["2013-08-01","Fishing","Tanana River (reach unspecified)","U 0275",null,8,{"$f":"IFERROR(VLOOKUP(D732,'Study Area Site Variable'!$B$4:$J$1240,6,FALSE),0)","v":0},{"$f":"IFERROR(VLOOKUP(D732,'Study Area Site Variable'!$B$4:$H$1240,7,FALSE),0)","v":0},0,null,"Lowe River",1,0,0]
["2013-08-01","Fishing","Birch Creek","M 0117",null,11,{"$f":"IFERROR(VLOOKUP(D733,'Study Area Site Variable'!$B$4:$J$1240,6,FALSE),0)","v":0},{"$f":"IFERROR(VLOOKUP(D733,'Study Area Site Variable'!$B$4:$H$1240,7,FALSE),0)","v":0},0,null,"Lower Fire Lake",7,0,0]
["2013-08-01","Fishing","Klutina River","I 0416",null,57,{"$f":"IFERROR(VLOOKUP(D734,'Study Area Site Variable'!$B$4:$J$1240,6,FALSE),0)","v":1},{"$f":"IFERROR(VLOOKUP(D734,'Study Area Site Variable'!$B$4:$H$1240,7,FALSE),0)","v":0},0,null,"Lucile Lake",28,0,0]
["2013-08-01","Fishing","Little Susitna River- Little Susitna Public Use Facility","K 00042",null,10,{"$f":"IFERROR(VLOOKUP(D735,'Study Area Site Variable'!$B$4:$J$1240,6,FALSE),0)","v":1},{"$f":"IFERROR(VLOOKUP(D735,'Study Area Site Variable'!$B$4:$H$1240,7,FALSE),0)","v":0},0,null,"Main Bay (Boat)",6,0,0]
["2013-08-01","Fishing","Jewel Lake","L 0003",null,12,{"$f":"IFERROR(VLOOKUP(D736,'Study Area Site Variable'!$B$4:$J$1240,6,FALSE),0)","v":0},{"$f":"IFERROR(VLOOKUP(D736,'Study Area Site Variable'!$B$4:$H$1240,7,FALSE),0)","v":0},0,null,"Manley Hot Springs (streams)",4,0,0]
["2013-08-01","Fishing","Finger Lake","K 0009",null,29,{"$f":"IFERROR(VLOOKUP(D737,'Study Area Site Variable'!$B$4:$J$1240,6,FALSE),0)","v":1},{"$f":"IFERROR(VLOOKUP(D737,'Study Area Site Variable'!$B$4:$H$1240,7,FALSE),0)","v":0},0,null,"Mansfield Creek",5,0,0]
["2013-08-01","Fishing","Bathing Beauty Pond","U 0186",null,8,{"$f":"IFERROR(VLOOKUP(D738,'Study Area Site Variable'!$B$4:$J$1240,6,FALSE),0)","v":0},{"$f":"IFERROR(VLOOKUP(D738,'Study Area Site Variable'!$B$4:$H$1240,7,FALSE),0)","v":0},0,null,"Mark Lake (Meadows Road)",10,0,0]
["2013-08-01","Fishing","Twentymile River","L 0017",null,6,{"$f":"IFERROR(VLOOKUP(D739,'Study Area Site Variable'!$B$4:$J$1240,6,FALSE),0)","v":0},{"$f":"IFERROR(VLOOKUP(D739,'Study Area Site Variable'!$B$4:$H$1240,7,FALSE),0)","v":0},0,null,"Matanuska Lake (Kepler Lake Complex)",19,0,0]
["2013-08-01","Fishing","Eastern PWS (Boat) - Trip to Whittier, Chenega or West PWS","J 1202",null,29,{"$f":"IFERROR(VLOOKUP(D740,'Study Area Site Variable'!$B$4:$J$1240,6,FALSE),0)","v":0},{"$f":"IFERROR(VLOOKUP(D740,'Study Area Site Variable'!$B$4:$H$1240,7,FALSE),0)","v":0},0,null,"Matanuska River",1,0,0]
["2013-08-01","Fishing","Olga Bay (Boat)","Q 0822",null,8,{"$f":"IFERROR(VLOOKUP(D741,'Study Area Site Variable'!$B$4:$J$1240,6,FALSE),0)","v":0},{"$f":"IFERROR(VLOOKUP(D741,'Study Area Site Variable'!$B$4:$H$1240,7,FALSE),0)","v":0},0,null,"McArthur River",7,0,0]
["2013-08-01","Fishing","Memory Lake","K 0162",null,8,{"$f":"IFERROR(VLOOKUP(D742,'Study Area Site Variable'!$B$4:$J$1240,6,FALSE),0)","v":0},{"$f":"IFERROR(VLOOKUP(D742,'Study Area Site Variable'!$B$4:$H$1240,7,FALSE),0)","v":0},0,null,"Meiers Lake",23,0,0]
["2013-08-01","Fishing","Kenai River (reach and guided/non-guided not specified)","P00184",null,46,{"$f":"IFERROR(VLOOKUP(D743,'Study Area Site Variable'!$B$4:$J$1240,6,FALSE),0)","v":1},{"$f":"IFERROR(VLOOKUP(D743,'Study Area Site Variable'!$B$4:$H$1240,7,FALSE),0)","v":0},0,null,"Meirs Lake (in Palmer)",3,8,0]
["2013-08-01","Fishing","Salcha River","U 0005",null,5,{"$f":"IFERROR(VLOOKUP(D744,'Study Area Site Variable'!$B$4:$J$1240,6,FALSE),0)","v":1},{"$f":"IFERROR(VLOOKUP(D744,'Study Area Site Variable'!$B$4:$H$1240,7,FALSE),0)","v":0},0,null,"Memory Lake",8,0,0]
["2013-08-01","Fishing","Cook Inlet- Ninlichik","NEI 994",null,21,{"$f":"IFERROR(VLOOKUP(D745,'Study Area Site Variable'!$B$4:$J$1240,6,FALSE),0)","v":1},{"$f":"IFERROR(VLOOKUP(D745,'Study Area Site Variable'!$B$4:$H$1240,7,FALSE),0)","v":0},0,null,"Mentasta Lake",1,0,0]
["2013-08-01","Fishing","Kenai River - (Skilak Inlet to Kenai Lake)","NEI P60004",null,19,{"$f":"IFERROR(VLOOKUP(D746,'Study Area Site Variable'!$B$4:$J$1240,6,FALSE),0)","v":1},{"$f":"IFERROR(VLOOKUP(D746,'Study Area Site Variable'!$B$4:$H$1240,7,FALSE),0)","v":0},0,null,"Mineral Lake (into Station Creek)",2,0,0]
["2013-08-01","Fishing","Jim River (Dalton Highway)","Y 0015",null,6,{"$f":"IFERROR(VLOOKUP(D747,'Study Area Site Variable'!$B$4:$J$1240,6,FALSE),0)","v":1},{"$f":"IFERROR(VLOOKUP(D747,'Study Area Site Variable'!$B$4:$H$1240,7,FALSE),0)","v":0},0,null,"Minto Flats (all lakes and rivers of Minto Flats)",5,0,0]
["2013-08-01","Fishing","Tatlanika River","U 0279",null,6,{"$f":"IFERROR(VLOOKUP(D748,'Study Area Site Variable'!$B$4:$J$1240,6,FALSE),0)","v":0},{"$f":"IFERROR(VLOOKUP(D748,'Study Area Site Variable'!$B$4:$H$1240,7,FALSE),0)","v":0},0,null,"Mirror Lake",76,0,0]
["2013-08-01","Fishing","Robe Lake","J 0221",null,11,{"$f":"IFERROR(VLOOKUP(D749,'Study Area Site Variable'!$B$4:$J$1240,6,FALSE),0)","v":0},{"$f":"IFERROR(VLOOKUP(D749,'Study Area Site Variable'!$B$4:$H$1240,7,FALSE),0)","v":0},0,null,"Montague Island (Boat)",18,0,0]
["2013-08-01","Fishing","Eyak Lake","J 0249",null,6,{"$f":"IFERROR(VLOOKUP(D750,'Study Area Site Variable'!$B$4:$J$1240,6,FALSE),0)","v":0},{"$f":"IFERROR(VLOOKUP(D750,'Study Area Site Variable'!$B$4:$H$1240,7,FALSE),0)","v":0},0,null,"Montana Creek",143,46,2]
["2013-08-01","Fishing","Wasilla Creek (Rabbit Slough)","K 0006",null,5,{"$f":"IFERROR(VLOOKUP(D751,'Study Area Site Variable'!$B$4:$J$1240,6,FALSE),0)","v":0},{"$f":"IFERROR(VLOOKUP(D751,'Study Area Site Variable'!$B$4:$H$1240,7,FALSE),0)","v":0},10,null,"Moose Creek (Deshka-Oilwell Rd)",6,0,0]
["2013-08-01","Fishing","Johnstone Bay - Boat (non-charter)","P10756",null,5,{"$f":"IFERROR(VLOOKUP(D752,'Study Area Site Variable'!$B$4:$J$1240,6,FALSE),0)","v":0},{"$f":"IFERROR(VLOOKUP(D752,'Study Area Site Variable'!$B$4:$H$1240,7,FALSE),0)","v":0},0,null,"Moose Creek (into Nenana)",10,0,0]
["2013-08-01","Fishing","Willow Creek","M 0004",null,43,{"$f":"IFERROR(VLOOKUP(D753,'Study Area Site Variable'!$B$4:$J$1240,6,FALSE),0)","v":1},{"$f":"IFERROR(VLOOKUP(D753,'Study Area Site Variable'!$B$4:$H$1240,7,FALSE),0)","v":1},0,null,"Moose Creek (U)",15,14,0]
["2013-08-01","Fishing","Quartz Lake","U 0010",null,22,{"$f":"IFERROR(VLOOKUP(D754,'Study Area Site Variable'!$B$4:$J$1240,6,FALSE),0)","v":1},{"$f":"IFERROR(VLOOKUP(D754,'Study Area Site Variable'!$B$4:$H$1240,7,FALSE),0)","v":0},0,null,"Moose Lake (Eielson AFB)",0,0,0]
["2013-08-01","Fishing","Anchor River","P00005",null,6,{"$f":"IFERROR(VLOOKUP(D755,'Study Area Site Variable'!$B$4:$J$1240,6,FALSE),0)","v":0},{"$f":"IFERROR(VLOOKUP(D755,'Study Area Site Variable'!$B$4:$H$1240,7,FALSE),0)","v":0},0,null,"Moose River",39,0,0]
["2013-08-01","Fishing","Clearwater Creek (Denali Highway)","M 3138",null,25,{"$f":"IFERROR(VLOOKUP(D756,'Study Area Site Variable'!$B$4:$J$1240,6,FALSE),0)","v":1},{"$f":"IFERROR(VLOOKUP(D756,'Study Area Site Variable'!$B$4:$H$1240,7,FALSE),0)","v":0},11,null,"Mulchatna River",3,3,0]
["2013-08-01","Fishing","Baxter Lake (Cheney Lake)","L 0023",null,4,{"$f":"IFERROR(VLOOKUP(D757,'Study Area Site Variable'!$B$4:$J$1240,6,FALSE),0)","v":0},{"$f":"IFERROR(VLOOKUP(D757,'Study Area Site Variable'!$B$4:$H$1240,7,FALSE),0)","v":0},0,null,"Mullins Pit (Eielson AFB)",2,2,0]
["2013-08-01","Fishing","Walby Lake","K 0183",null,15,{"$f":"IFERROR(VLOOKUP(D758,'Study Area Site Variable'!$B$4:$J$1240,6,FALSE),0)","v":0},{"$f":"IFERROR(VLOOKUP(D758,'Study Area Site Variable'!$B$4:$H$1240,7,FALSE),0)","v":0},0,null,"Naknek Lake",1,0,0]
["2013-08-01","Fishing","Cochrane Bay (Boat)","J 0812",null,4,{"$f":"IFERROR(VLOOKUP(D759,'Study Area Site Variable'!$B$4:$J$1240,6,FALSE),0)","v":0},{"$f":"IFERROR(VLOOKUP(D759,'Study Area Site Variable'!$B$4:$H$1240,7,FALSE),0)","v":0},0,null,"Naknek River (dwnstream frm Rapids Camp incl trib)",22,0,0]
["2013-08-01","Fishing","Eshamy Lake","J 0011",null,4,{"$f":"IFERROR(VLOOKUP(D760,'Study Area Site Variable'!$B$4:$J$1240,6,FALSE),0)","v":0},{"$f":"IFERROR(VLOOKUP(D760,'Study Area Site Variable'!$B$4:$H$1240,7,FALSE),0)","v":0},0,null,"Naknek River (Rapids Camp upstream to Naknek Lk,incl trib)",4,0,0]
["2013-08-01","Fishing","Old Harbor (Boat)","Q 0722",null,8,{"$f":"IFERROR(VLOOKUP(D761,'Study Area Site Variable'!$B$4:$J$1240,6,FALSE),0)","v":1},{"$f":"IFERROR(VLOOKUP(D761,'Study Area Site Variable'!$B$4:$H$1240,7,FALSE),0)","v":0},0,null,"Naknek River and Tributaries",2,0,0]
["2013-08-01","Fishing","Crater Lake","J 0145",null,4,{"$f":"IFERROR(VLOOKUP(D762,'Study Area Site Variable'!$B$4:$J$1240,6,FALSE),0)","v":0},{"$f":"IFERROR(VLOOKUP(D762,'Study Area Site Variable'!$B$4:$H$1240,7,FALSE),0)","v":0},0,null,"Nancy Lake",19,0,0]
["2013-08-01","Fishing","Alexander Creek","M 1117",null,4,{"$f":"IFERROR(VLOOKUP(D763,'Study Area Site Variable'!$B$4:$J$1240,6,FALSE),0)","v":0},{"$f":"IFERROR(VLOOKUP(D763,'Study Area Site Variable'!$B$4:$H$1240,7,FALSE),0)","v":0},0,null,"Nancy Lake Rec System",2,0,0]
["2013-08-01","Fishing","Ohmer Lake (Upper and Lower)","P00207",null,4,{"$f":"IFERROR(VLOOKUP(D764,'Study Area Site Variable'!$B$4:$J$1240,6,FALSE),0)","v":0},{"$f":"IFERROR(VLOOKUP(D764,'Study Area Site Variable'!$B$4:$H$1240,7,FALSE),0)","v":0},0,null,"Nelchina River",3,0,0]
["2013-08-01","Fishing","Tangle lakes and Tangle River","U 0015",null,9,{"$f":"IFERROR(VLOOKUP(D765,'Study Area Site Variable'!$B$4:$J$1240,6,FALSE),0)","v":1},{"$f":"IFERROR(VLOOKUP(D765,'Study Area Site Variable'!$B$4:$H$1240,7,FALSE),0)","v":0},0,null,"Newhalen River",2,0,0]
["2013-08-01","Fishing","Placer River","L 0219",null,33,{"$f":"IFERROR(VLOOKUP(D766,'Study Area Site Variable'!$B$4:$J$1240,6,FALSE),0)","v":0},{"$f":"IFERROR(VLOOKUP(D766,'Study Area Site Variable'!$B$4:$H$1240,7,FALSE),0)","v":0},0,null,"Ninilchik River",33,0,0]
["2013-08-01","Fishing","Nancy Lake","K 0013",null,10,{"$f":"IFERROR(VLOOKUP(D767,'Study Area Site Variable'!$B$4:$J$1240,6,FALSE),0)","v":0},{"$f":"IFERROR(VLOOKUP(D767,'Study Area Site Variable'!$B$4:$H$1240,7,FALSE),0)","v":0},0,null,"Ninilchik River (Mouth) - Boat (non-charter)",2,0,0]
["2013-08-01","Fishing","Little Willow Creek","M 0010",null,9,{"$f":"IFERROR(VLOOKUP(D768,'Study Area Site Variable'!$B$4:$J$1240,6,FALSE),0)","v":0},{"$f":"IFERROR(VLOOKUP(D768,'Study Area Site Variable'!$B$4:$H$1240,7,FALSE),0)","v":0},0,null,"Niukluk River (reach unspecified)",1,0,0]
["2013-08-01","Fishing","Big Lake","K 0012",null,5,{"$f":"IFERROR(VLOOKUP(D769,'Study Area Site Variable'!$B$4:$J$1240,6,FALSE),0)","v":0},{"$f":"IFERROR(VLOOKUP(D769,'Study Area Site Variable'!$B$4:$H$1240,7,FALSE),0)","v":0},0,null,"Noatak River",6,0,0]
["2013-08-01","Fishing","Yentna River","M 1277",null,23,{"$f":"IFERROR(VLOOKUP(D770,'Study Area Site Variable'!$B$4:$J$1240,6,FALSE),0)","v":0},{"$f":"IFERROR(VLOOKUP(D770,'Study Area Site Variable'!$B$4:$H$1240,7,FALSE),0)","v":0},0,null,"Nome Area (Boat)",1,0,0]
["2013-08-01","Fishing","Matanuska Lake (Kepler Lake Complex)","K 0295",null,9,{"$f":"IFERROR(VLOOKUP(D771,'Study Area Site Variable'!$B$4:$J$1240,6,FALSE),0)","v":0},{"$f":"IFERROR(VLOOKUP(D771,'Study Area Site Variable'!$B$4:$H$1240,7,FALSE),0)","v":0},0,null,"Nome Creek (Steese Highway)",7,0,0]
["2013-08-01","Fishing","Weiner Lake","K 0215",null,8,{"$f":"IFERROR(VLOOKUP(D772,'Study Area Site Variable'!$B$4:$J$1240,6,FALSE),0)","v":0},{"$f":"IFERROR(VLOOKUP(D772,'Study Area Site Variable'!$B$4:$H$1240,7,FALSE),0)","v":0},0,null,"Nome River",44,0,0]
["2013-08-01","Fishing","Nome Creek (Steese Highway)","Y 0328",null,6,{"$f":"IFERROR(VLOOKUP(D773,'Study Area Site Variable'!$B$4:$J$1240,6,FALSE),0)","v":0},{"$f":"IFERROR(VLOOKUP(D773,'Study Area Site Variable'!$B$4:$H$1240,7,FALSE),0)","v":0},0,null,"North Knob Lake (Glenn Highway mile 119)",3,0,0]
["2013-08-01","Fishing","Nelchina River","I 0229",null,3,{"$f":"IFERROR(VLOOKUP(D774,'Study Area Site Variable'!$B$4:$J$1240,6,FALSE),0)","v":0},{"$f":"IFERROR(VLOOKUP(D774,'Study Area Site Variable'!$B$4:$H$1240,7,FALSE),0)","v":0},0,null,"North Pole Pond (Beaver Lake)",4,0,0]
["2013-08-01","Fishing","Katmai Bay (Boat)","R 0872",null,11,{"$f":"IFERROR(VLOOKUP(D775,'Study Area Site Variable'!$B$4:$J$1240,6,FALSE),0)","v":0},{"$f":"IFERROR(VLOOKUP(D775,'Study Area Site Variable'!$B$4:$H$1240,7,FALSE),0)","v":0},0,null,"North River (into Unalakleet River)",2,0,0]
["2013-08-01","Fishing","Caribou Lake","P00275",null,13,{"$f":"IFERROR(VLOOKUP(D776,'Study Area Site Variable'!$B$4:$J$1240,6,FALSE),0)","v":0},{"$f":"IFERROR(VLOOKUP(D776,'Study Area Site Variable'!$B$4:$H$1240,7,FALSE),0)","v":0},0,null,"Nushagak River system (incl. Harris Creek, King Salmon R.)",48,4,0]
["2013-08-01","Fishing","Jack Bay (Boat)","J 0774",null,11,{"$f":"IFERROR(VLOOKUP(D777,'Study Area Site Variable'!$B$4:$J$1240,6,FALSE),0)","v":0},{"$f":"IFERROR(VLOOKUP(D777,'Study Area Site Variable'!$B$4:$H$1240,7,FALSE),0)","v":0},0,null,"Octopus Lake",2,0,0]
["2013-08-01","Fishing","Western Cook Inlet Other Saltwater Areas (Boat)","N 0001",null,2,{"$f":"IFERROR(VLOOKUP(D778,'Study Area Site Variable'!$B$4:$J$1240,6,FALSE),0)","v":0},{"$f":"IFERROR(VLOOKUP(D778,'Study Area Site Variable'!$B$4:$H$1240,7,FALSE),0)","v":0},0,null,"Ohmer Lake (Upper and Lower)",4,0,0]
["2013-08-01","Fishing","Fielding Lake","U 0013",null,37,{"$f":"IFERROR(VLOOKUP(D779,'Study Area Site Variable'!$B$4:$J$1240,6,FALSE),0)","v":0},{"$f":"IFERROR(VLOOKUP(D779,'Study Area Site Variable'!$B$4:$H$1240,7,FALSE),0)","v":0},0,null,"Old Harbor (Boat)",12,0,0]
["2013-08-01","Fishing","Chena River (reach unspecified)","U 0588",null,13,{"$f":"IFERROR(VLOOKUP(D780,'Study Area Site Variable'!$B$4:$J$1240,6,FALSE),0)","v":0},{"$f":"IFERROR(VLOOKUP(D780,'Study Area Site Variable'!$B$4:$H$1240,7,FALSE),0)","v":0},0,null,"Olds River",3,0,0]
["2013-08-01","Fishing","Nancy Lake Rec System","K 0244",null,2,{"$f":"IFERROR(VLOOKUP(D781,'Study Area Site Variable'!$B$4:$J$1240,6,FALSE),0)","v":0},{"$f":"IFERROR(VLOOKUP(D781,'Study Area Site Variable'!$B$4:$H$1240,7,FALSE),0)","v":0},0,null,"Olga Bay (Boat)",8,0,0]
["2013-08-01","Fishing","Tazlina Lake","I 0272",null,7,{"$f":"IFERROR(VLOOKUP(D782,'Study Area Site Variable'!$B$4:$J$1240,6,FALSE),0)","v":0},{"$f":"IFERROR(VLOOKUP(D782,'Study Area Site Variable'!$B$4:$H$1240,7,FALSE),0)","v":0},0,null,"Olnes Pond",2,0,0]
["2013-08-01","Fishing","Red Lake","M 1936",null,6,{"$f":"IFERROR(VLOOKUP(D783,'Study Area Site Variable'!$B$4:$J$1240,6,FALSE),0)","v":0},{"$f":"IFERROR(VLOOKUP(D783,'Study Area Site Variable'!$B$4:$H$1240,7,FALSE),0)","v":0},0,null,"Orca Bay (Boat)",0,0,0]
["2013-08-01","Fishing","Sand Lake","L 0005",null,6,{"$f":"IFERROR(VLOOKUP(D784,'Study Area Site Variable'!$B$4:$J$1240,6,FALSE),0)","v":0},{"$f":"IFERROR(VLOOKUP(D784,'Study Area Site Variable'!$B$4:$H$1240,7,FALSE),0)","v":0},3,null,"Otter Lake",0,0,0]
["2013-08-01","Fishing","Tyone River","M 3296",null,2,{"$f":"IFERROR(VLOOKUP(D785,'Study Area Site Variable'!$B$4:$J$1240,6,FALSE),0)","v":0},{"$f":"IFERROR(VLOOKUP(D785,'Study Area Site Variable'!$B$4:$H$1240,7,FALSE),0)","v":0},0,null,"Pass Creek (near Cantwell)",2,0,0]
["2013-08-01","Fishing","Seattle Creek (Denali Highway)","U 0267",null,4,{"$f":"IFERROR(VLOOKUP(D786,'Study Area Site Variable'!$B$4:$J$1240,6,FALSE),0)","v":0},{"$f":"IFERROR(VLOOKUP(D786,'Study Area Site Variable'!$B$4:$H$1240,7,FALSE),0)","v":0},0,null,"Passage Canal (Whittier) (Boat)",43,0,0]
["2013-08-01","Fishing","Caswell Lake","M 0119",null,4,{"$f":"IFERROR(VLOOKUP(D787,'Study Area Site Variable'!$B$4:$J$1240,6,FALSE),0)","v":0},{"$f":"IFERROR(VLOOKUP(D787,'Study Area Site Variable'!$B$4:$H$1240,7,FALSE),0)","v":0},0,null,"Paxson Lake",63,4,0]
["2013-08-01","Fishing","Prince William Sound (Boat/Shore Unspecified)","NEI J 0741",null,45,{"$f":"IFERROR(VLOOKUP(D788,'Study Area Site Variable'!$B$4:$J$1240,6,FALSE),0)","v":0},{"$f":"IFERROR(VLOOKUP(D788,'Study Area Site Variable'!$B$4:$H$1240,7,FALSE),0)","v":0},0,null,"Peters Creek",5,0,0]
["2013-08-01","Fishing","Talkeetna River","M 0170",null,8,{"$f":"IFERROR(VLOOKUP(D789,'Study Area Site Variable'!$B$4:$J$1240,6,FALSE),0)","v":1},{"$f":"IFERROR(VLOOKUP(D789,'Study Area Site Variable'!$B$4:$H$1240,7,FALSE),0)","v":1},0,null,"Peters Creek (Peters Creek Road)",103,4,0]
["2013-08-01","Fishing","Crystal Lake (near Willow)","K 0195",null,1,{"$f":"IFERROR(VLOOKUP(D790,'Study Area Site Variable'!$B$4:$J$1240,6,FALSE),0)","v":0},{"$f":"IFERROR(VLOOKUP(D790,'Study Area Site Variable'!$B$4:$H$1240,7,FALSE),0)","v":0},0,null,"Piledriver Slough (including Moose Creek)",11,0,0]
["2013-08-01","Fishing","American River","Q 0114",null,5,{"$f":"IFERROR(VLOOKUP(D791,'Study Area Site Variable'!$B$4:$J$1240,6,FALSE),0)","v":0},{"$f":"IFERROR(VLOOKUP(D791,'Study Area Site Variable'!$B$4:$H$1240,7,FALSE),0)","v":0},0,null,"Pippin Lake",15,0,0]
["2013-08-01","Fishing","Talkeetna lakes","M 0168",null,8,{"$f":"IFERROR(VLOOKUP(D792,'Study Area Site Variable'!$B$4:$J$1240,6,FALSE),0)","v":0},{"$f":"IFERROR(VLOOKUP(D792,'Study Area Site Variable'!$B$4:$H$1240,7,FALSE),0)","v":0},0,null,"Placer River",47,0,0]
["2013-08-01","Fishing","Long Lake (near Willow, Nancy Lakes Rec System)","K 0316",null,1,{"$f":"IFERROR(VLOOKUP(D793,'Study Area Site Variable'!$B$4:$J$1240,6,FALSE),0)","v":0},{"$f":"IFERROR(VLOOKUP(D793,'Study Area Site Variable'!$B$4:$H$1240,7,FALSE),0)","v":0},0,null,"Polly Creek",1,0,0]
["2013-08-01","Fishing","Turnagain Arm (Shore)","L 0725",null,118,{"$f":"IFERROR(VLOOKUP(D794,'Study Area Site Variable'!$B$4:$J$1240,6,FALSE),0)","v":0},{"$f":"IFERROR(VLOOKUP(D794,'Study Area Site Variable'!$B$4:$H$1240,7,FALSE),0)","v":0},0,null,"Pony Cove - Boat (non-charter)",1,0,0]
["2013-08-01","Fishing","Wolverine Lake","K 0203",null,20,{"$f":"IFERROR(VLOOKUP(D795,'Study Area Site Variable'!$B$4:$J$1240,6,FALSE),0)","v":0},{"$f":"IFERROR(VLOOKUP(D795,'Study Area Site Variable'!$B$4:$H$1240,7,FALSE),0)","v":0},0,null,"Porcupine River drainage",50,0,0]
["2013-08-01","Fishing","Cook Inlet- Homer","NEI 995",null,43,{"$f":"IFERROR(VLOOKUP(D796,'Study Area Site Variable'!$B$4:$J$1240,6,FALSE),0)","v":0},{"$f":"IFERROR(VLOOKUP(D796,'Study Area Site Variable'!$B$4:$H$1240,7,FALSE),0)","v":0},0,null,"Port Graham - Boat (non-charter)",9,0,0]
["2013-08-01","Fishing","Yukon River (reach unspecified)","Y 0103",null,3,{"$f":"IFERROR(VLOOKUP(D797,'Study Area Site Variable'!$B$4:$J$1240,6,FALSE),0)","v":0},{"$f":"IFERROR(VLOOKUP(D797,'Study Area Site Variable'!$B$4:$H$1240,7,FALSE),0)","v":0},0,null,"Portage Creek",29,0,0]
["2013-08-01","Fishing","Meirs Lake (in Palmer)","K 0166",null,3,{"$f":"IFERROR(VLOOKUP(D798,'Study Area Site Variable'!$B$4:$J$1240,6,FALSE),0)","v":0},{"$f":"IFERROR(VLOOKUP(D798,'Study Area Site Variable'!$B$4:$H$1240,7,FALSE),0)","v":0},8,null,"Portage Lake",5,0,0]
["2013-08-01","Fishing","Twelvemile Lake","M 0185",null,3,{"$f":"IFERROR(VLOOKUP(D799,'Study Area Site Variable'!$B$4:$J$1240,6,FALSE),0)","v":0},{"$f":"IFERROR(VLOOKUP(D799,'Study Area Site Variable'!$B$4:$H$1240,7,FALSE),0)","v":0},0,null,"Portage Valley streams",4,0,0]
["2013-08-01","Fishing","Forest Lake","P00160",null,3,{"$f":"IFERROR(VLOOKUP(D800,'Study Area Site Variable'!$B$4:$J$1240,6,FALSE),0)","v":0},{"$f":"IFERROR(VLOOKUP(D800,'Study Area Site Variable'!$B$4:$H$1240,7,FALSE),0)","v":0},0,null,"Prince of Wales Passage (Boat)",17,0,0]
["2013-08-01","Fishing","Julius Creek","U 0199",null,3,{"$f":"IFERROR(VLOOKUP(D801,'Study Area Site Variable'!$B$4:$J$1240,6,FALSE),0)","v":0},{"$f":"IFERROR(VLOOKUP(D801,'Study Area Site Variable'!$B$4:$H$1240,7,FALSE),0)","v":0},0,null,"Prince William Sound (Boat/Shore Unspecified)",72,0,0]
["2013-08-01","Fishing","Black River (into Porcupine River)","Y 0042",null,3,{"$f":"IFERROR(VLOOKUP(D802,'Study Area Site Variable'!$B$4:$J$1240,6,FALSE),0)","v":0},{"$f":"IFERROR(VLOOKUP(D802,'Study Area Site Variable'!$B$4:$H$1240,7,FALSE),0)","v":0},0,null,"Prince William Sound- Cordova",294,0,0]
["2013-08-01","Fishing","Cold Bay Area (Boat)","R 0001",null,2,{"$f":"IFERROR(VLOOKUP(D803,'Study Area Site Variable'!$B$4:$J$1240,6,FALSE),0)","v":0},{"$f":"IFERROR(VLOOKUP(D803,'Study Area Site Variable'!$B$4:$H$1240,7,FALSE),0)","v":0},0,null,"Prince William Sound- Seward",61,0,0]
["2013-08-01","Fishing","Goodpaster River","U 0008",null,2,{"$f":"IFERROR(VLOOKUP(D804,'Study Area Site Variable'!$B$4:$J$1240,6,FALSE),0)","v":0},{"$f":"IFERROR(VLOOKUP(D804,'Study Area Site Variable'!$B$4:$H$1240,7,FALSE),0)","v":0},0,null,"Prince William Sound- Valdez",280,0,0]
["2013-08-01","Fishing","Chena lakes (Rec Area)","U 0018",null,158,{"$f":"IFERROR(VLOOKUP(D805,'Study Area Site Variable'!$B$4:$J$1240,6,FALSE),0)","v":1},{"$f":"IFERROR(VLOOKUP(D805,'Study Area Site Variable'!$B$4:$H$1240,7,FALSE),0)","v":0},0,null,"Prince William Sound- Whittier",565,8,0]
["2013-08-01","Fishing","Skwentna River","M 1239",null,48,{"$f":"IFERROR(VLOOKUP(D806,'Study Area Site Variable'!$B$4:$J$1240,6,FALSE),0)","v":0},{"$f":"IFERROR(VLOOKUP(D806,'Study Area Site Variable'!$B$4:$H$1240,7,FALSE),0)","v":0},0,null,"Puget Bay - Boat (charter)",1,0,0]
["2013-08-01","Fishing","Kvichak River","S 0003",null,0,{"$f":"IFERROR(VLOOKUP(D807,'Study Area Site Variable'!$B$4:$J$1240,6,FALSE),0)","v":1},{"$f":"IFERROR(VLOOKUP(D807,'Study Area Site Variable'!$B$4:$H$1240,7,FALSE),0)","v":0},0,null,"Pungokepuk Creek",8,0,0]
["2013-08-01","Fishing","Big Beaver Lake","K 0311",null,20,{"$f":"IFERROR(VLOOKUP(D808,'Study Area Site Variable'!$B$4:$J$1240,6,FALSE),0)","v":0},{"$f":"IFERROR(VLOOKUP(D808,'Study Area Site Variable'!$B$4:$H$1240,7,FALSE),0)","v":0},0,null,"Quartz Creek",34,0,0]
["2013-08-01","Fishing","Peters Creek (Peters Creek Road)","M 1220",null,95,{"$f":"IFERROR(VLOOKUP(D809,'Study Area Site Variable'!$B$4:$J$1240,6,FALSE),0)","v":1},{"$f":"IFERROR(VLOOKUP(D809,'Study Area Site Variable'!$B$4:$H$1240,7,FALSE),0)","v":0},0,null,"Quartz Lake",46,0,0]
["2013-08-01","Fishing","Nome River","W 0004",null,43,{"$f":"IFERROR(VLOOKUP(D810,'Study Area Site Variable'!$B$4:$J$1240,6,FALSE),0)","v":0},{"$f":"IFERROR(VLOOKUP(D810,'Study Area Site Variable'!$B$4:$H$1240,7,FALSE),0)","v":0},0,null,"Rabbit Lake",1,0,0]
["2013-08-01","Fishing","Jim Creek (into Knik River)","K 0468",null,9,{"$f":"IFERROR(VLOOKUP(D811,'Study Area Site Variable'!$B$4:$J$1240,6,FALSE),0)","v":1},{"$f":"IFERROR(VLOOKUP(D811,'Study Area Site Variable'!$B$4:$H$1240,7,FALSE),0)","v":0},0,null,"Rabideux Creek",5,3,0]
["2013-08-01","Fishing","Knik River and Tributaries including Jim Creek","K 0005",null,1,{"$f":"IFERROR(VLOOKUP(D812,'Study Area Site Variable'!$B$4:$J$1240,6,FALSE),0)","v":0},{"$f":"IFERROR(VLOOKUP(D812,'Study Area Site Variable'!$B$4:$H$1240,7,FALSE),0)","v":0},0,null,"Ranger Lake",3,0,0]
["2013-08-01","Fishing","Cottonwood Lake","K 0131",null,7,{"$f":"IFERROR(VLOOKUP(D813,'Study Area Site Variable'!$B$4:$J$1240,6,FALSE),0)","v":0},{"$f":"IFERROR(VLOOKUP(D813,'Study Area Site Variable'!$B$4:$H$1240,7,FALSE),0)","v":0},0,null,"Raspberry Strait (Boat) - Afognak Island",10,0,0]
["2013-08-01","Fishing","Tutka Bay - Boat/Shore & Charter/Non-charter Unspecified","NEI P10737",null,5,{"$f":"IFERROR(VLOOKUP(D814,'Study Area Site Variable'!$B$4:$J$1240,6,FALSE),0)","v":0},{"$f":"IFERROR(VLOOKUP(D814,'Study Area Site Variable'!$B$4:$H$1240,7,FALSE),0)","v":0},0,null,"Ravine Lake",7,0,0]
["2013-08-01","Fishing","Kuparuk River (Dalton Highway)","Z 0066",null,0,{"$f":"IFERROR(VLOOKUP(D815,'Study Area Site Variable'!$B$4:$J$1240,6,FALSE),0)","v":0},{"$f":"IFERROR(VLOOKUP(D815,'Study Area Site Variable'!$B$4:$H$1240,7,FALSE),0)","v":0},0,null,"Red Creek (into Johnson River)",7,0,0]
["2013-08-01","Fishing","Cook Inlet- Deep Creek","NEI 992",null,20,{"$f":"IFERROR(VLOOKUP(D816,'Study Area Site Variable'!$B$4:$J$1240,6,FALSE),0)","v":0},{"$f":"IFERROR(VLOOKUP(D816,'Study Area Site Variable'!$B$4:$H$1240,7,FALSE),0)","v":0},0,null,"Red Lake",6,0,0]
["2013-08-01","Fishing","Prince William Sound- Valdez","NEI J 07412",null,51,{"$f":"IFERROR(VLOOKUP(D817,'Study Area Site Variable'!$B$4:$J$1240,6,FALSE),0)","v":0},{"$f":"IFERROR(VLOOKUP(D817,'Study Area Site Variable'!$B$4:$H$1240,7,FALSE),0)","v":0},0,null,"Red Shirt Lake (Nancy Lakes Rec System)",39,0,0]
["2013-08-01","Fishing","Little Susitna River","K 0004",null,9,{"$f":"IFERROR(VLOOKUP(D818,'Study Area Site Variable'!$B$4:$J$1240,6,FALSE),0)","v":0},{"$f":"IFERROR(VLOOKUP(D818,'Study Area Site Variable'!$B$4:$H$1240,7,FALSE),0)","v":0},0,null,"Resurrection Bay (Seward) -Boat/Shore & Charter/Non Charter unspecified",639,0,0]
["2013-08-01","Fishing","Goodnews Lake","V 0092",null,54,{"$f":"IFERROR(VLOOKUP(D819,'Study Area Site Variable'!$B$4:$J$1240,6,FALSE),0)","v":0},{"$f":"IFERROR(VLOOKUP(D819,'Study Area Site Variable'!$B$4:$H$1240,7,FALSE),0)","v":0},0,null,"Resurrection Creek (near Hope)",18,0,0]
["2013-08-01","Fishing","Donkey Creek, Donkey Creek Slough","M 1159",null,15,{"$f":"IFERROR(VLOOKUP(D820,'Study Area Site Variable'!$B$4:$J$1240,6,FALSE),0)","v":0},{"$f":"IFERROR(VLOOKUP(D820,'Study Area Site Variable'!$B$4:$H$1240,7,FALSE),0)","v":0},0,null,"Resurrection River (Russian to Resurrection Bay)",10,0,0]
["2013-08-01","Fishing","Finger lakes","P00365",null,0,{"$f":"IFERROR(VLOOKUP(D821,'Study Area Site Variable'!$B$4:$J$1240,6,FALSE),0)","v":0},{"$f":"IFERROR(VLOOKUP(D821,'Study Area Site Variable'!$B$4:$H$1240,7,FALSE),0)","v":0},0,null,"Robe Lake",11,0,0]
["2013-08-01","Fishing","Echo Lake","P00304",null,6,{"$f":"IFERROR(VLOOKUP(D822,'Study Area Site Variable'!$B$4:$J$1240,6,FALSE),0)","v":0},{"$f":"IFERROR(VLOOKUP(D822,'Study Area Site Variable'!$B$4:$H$1240,7,FALSE),0)","v":0},0,null,"Robe River drainage",1,0,0]
["2013-08-01","Fishing","Chena Hot Springs Road ponds","U 0347",null,9,{"$f":"IFERROR(VLOOKUP(D823,'Study Area Site Variable'!$B$4:$J$1240,6,FALSE),0)","v":0},{"$f":"IFERROR(VLOOKUP(D823,'Study Area Site Variable'!$B$4:$H$1240,7,FALSE),0)","v":0},0,null,"Rocky Lake",0,0,0]
["2013-08-01","Fishing","Beach Lake","L 0021",null,0,{"$f":"IFERROR(VLOOKUP(D824,'Study Area Site Variable'!$B$4:$J$1240,6,FALSE),0)","v":0},{"$f":"IFERROR(VLOOKUP(D824,'Study Area Site Variable'!$B$4:$H$1240,7,FALSE),0)","v":0},0,null,"Roslyn Creek",16,0,0]
["2013-08-01","Fishing","Kuskokwim River - reach not specified","V 0017",null,34,{"$f":"IFERROR(VLOOKUP(D825,'Study Area Site Variable'!$B$4:$J$1240,6,FALSE),0)","v":0},{"$f":"IFERROR(VLOOKUP(D825,'Study Area Site Variable'!$B$4:$H$1240,7,FALSE),0)","v":0},0,null,"Russian Lake - Lower",2,0,0]
["2013-08-01","Fishing","Knob Lake (Glenn Highway mile 119)","K 0318",null,15,{"$f":"IFERROR(VLOOKUP(D826,'Study Area Site Variable'!$B$4:$J$1240,6,FALSE),0)","v":0},{"$f":"IFERROR(VLOOKUP(D826,'Study Area Site Variable'!$B$4:$H$1240,7,FALSE),0)","v":0},0,null,"Russian River",486,0,0]
["2013-08-01","Fishing","Grayling Lake (Eielson AFB)","U 0188",null,0,{"$f":"IFERROR(VLOOKUP(D827,'Study Area Site Variable'!$B$4:$J$1240,6,FALSE),0)","v":0},{"$f":"IFERROR(VLOOKUP(D827,'Study Area Site Variable'!$B$4:$H$1240,7,FALSE),0)","v":0},0,null,"Sagavanirktok River (Dalton Highway)",4,0,0]
["2013-08-01","Fishing","Cook Inlet- Valdez","NEI 996",null,35,{"$f":"IFERROR(VLOOKUP(D828,'Study Area Site Variable'!$B$4:$J$1240,6,FALSE),0)","v":0},{"$f":"IFERROR(VLOOKUP(D828,'Study Area Site Variable'!$B$4:$H$1240,7,FALSE),0)","v":0},0,null,"Salcha River",58,0,0]
["2013-08-01","Fishing","Prince of Wales Passage (Boat)","J 1088",null,17,{"$f":"IFERROR(VLOOKUP(D829,'Study Area Site Variable'!$B$4:$J$1240,6,FALSE),0)","v":0},{"$f":"IFERROR(VLOOKUP(D829,'Study Area Site Variable'!$B$4:$H$1240,7,FALSE),0)","v":0},0,null,"Salmon River (Aniak drainage)",2,0,0]
["2013-08-01","Fishing","Eklutna Lake","L 0139",null,14,{"$f":"IFERROR(VLOOKUP(D830,'Study Area Site Variable'!$B$4:$J$1240,6,FALSE),0)","v":0},{"$f":"IFERROR(VLOOKUP(D830,'Study Area Site Variable'!$B$4:$H$1240,7,FALSE),0)","v":0},0,null,"Sand Lake",89,3,0]
["2013-08-01","Fishing","C Street Lake (Taku Lake, Taku Campbell Lake)","L 0020",null,4,{"$f":"IFERROR(VLOOKUP(D831,'Study Area Site Variable'!$B$4:$J$1240,6,FALSE),0)","v":0},{"$f":"IFERROR(VLOOKUP(D831,'Study Area Site Variable'!$B$4:$H$1240,7,FALSE),0)","v":0},0,null,"Sand Point (Shore)",10,0,0]
["2013-08-01","Fishing","Quartz Creek","P00218",null,3,{"$f":"IFERROR(VLOOKUP(D832,'Study Area Site Variable'!$B$4:$J$1240,6,FALSE),0)","v":0},{"$f":"IFERROR(VLOOKUP(D832,'Study Area Site Variable'!$B$4:$H$1240,7,FALSE),0)","v":0},0,null,"Sawmill Bay (Boat)",6,0,0]
["2013-08-01","Fishing","Sixmile Lake (Elmendorf)","L 0011",null,7,{"$f":"IFERROR(VLOOKUP(D833,'Study Area Site Variable'!$B$4:$J$1240,6,FALSE),0)","v":0},{"$f":"IFERROR(VLOOKUP(D833,'Study Area Site Variable'!$B$4:$H$1240,7,FALSE),0)","v":0},0,null,"Scottie Lake",4,0,0]
["2013-08-01","Fishing","Anchorage bowl lakes","L 0300",null,7,{"$f":"IFERROR(VLOOKUP(D834,'Study Area Site Variable'!$B$4:$J$1240,6,FALSE),0)","v":0},{"$f":"IFERROR(VLOOKUP(D834,'Study Area Site Variable'!$B$4:$H$1240,7,FALSE),0)","v":0},0,null,"Seattle Creek",0,0,0]
["2013-08-01","Fishing","Paxson Lake","I 0013",null,36,{"$f":"IFERROR(VLOOKUP(D835,'Study Area Site Variable'!$B$4:$J$1240,6,FALSE),0)","v":0},{"$f":"IFERROR(VLOOKUP(D835,'Study Area Site Variable'!$B$4:$H$1240,7,FALSE),0)","v":0},4,null,"Seattle Creek (Denali Highway)",4,0,0]
["2013-08-01","Fishing","Lucile Lake","K 0011",null,21,{"$f":"IFERROR(VLOOKUP(D836,'Study Area Site Variable'!$B$4:$J$1240,6,FALSE),0)","v":0},{"$f":"IFERROR(VLOOKUP(D836,'Study Area Site Variable'!$B$4:$H$1240,7,FALSE),0)","v":0},0,null,"Seldovia Bay - Boat (non-charter)",13,0,0]
["2013-08-01","Fishing","Chickaloon River","P00138",null,8,{"$f":"IFERROR(VLOOKUP(D837,'Study Area Site Variable'!$B$4:$J$1240,6,FALSE),0)","v":0},{"$f":"IFERROR(VLOOKUP(D837,'Study Area Site Variable'!$B$4:$H$1240,7,FALSE),0)","v":0},0,null,"Seldovia River",4,0,0]
["2013-08-01","Fishing","Johnson Lake","P00178",null,35,{"$f":"IFERROR(VLOOKUP(D838,'Study Area Site Variable'!$B$4:$J$1240,6,FALSE),0)","v":0},{"$f":"IFERROR(VLOOKUP(D838,'Study Area Site Variable'!$B$4:$H$1240,7,FALSE),0)","v":0},0,null,"Shaktoolik River",9,0,0]
["2013-08-01","Fishing","Olds River","Q 0163",null,3,{"$f":"IFERROR(VLOOKUP(D839,'Study Area Site Variable'!$B$4:$J$1240,6,FALSE),0)","v":0},{"$f":"IFERROR(VLOOKUP(D839,'Study Area Site Variable'!$B$4:$H$1240,7,FALSE),0)","v":0},0,null,"Sheep Creek",146,10,0]
["2013-08-01","Fishing","Sixmile Lake","S 0152",null,1,{"$f":"IFERROR(VLOOKUP(D840,'Study Area Site Variable'!$B$4:$J$1240,6,FALSE),0)","v":0},{"$f":"IFERROR(VLOOKUP(D840,'Study Area Site Variable'!$B$4:$H$1240,7,FALSE),0)","v":0},0,null,"Sheep Creek Slough",2,0,0]
["2013-08-01","Fishing","Allison Point (Shore)","J 0831",null,0,{"$f":"IFERROR(VLOOKUP(D841,'Study Area Site Variable'!$B$4:$J$1240,6,FALSE),0)","v":0},{"$f":"IFERROR(VLOOKUP(D841,'Study Area Site Variable'!$B$4:$H$1240,7,FALSE),0)","v":0},0,null,"Shell Lake",6,0,0]
["2013-08-01","Fishing","Fourmile Lake (Taylor Highway)","U 0177",null,1,{"$f":"IFERROR(VLOOKUP(D842,'Study Area Site Variable'!$B$4:$J$1240,6,FALSE),0)","v":0},{"$f":"IFERROR(VLOOKUP(D842,'Study Area Site Variable'!$B$4:$H$1240,7,FALSE),0)","v":0},0,null,"Ship Creek",329,0,0]
["2013-08-01","Fishing","Fish River","W 0112",null,0,{"$f":"IFERROR(VLOOKUP(D843,'Study Area Site Variable'!$B$4:$J$1240,6,FALSE),0)","v":0},{"$f":"IFERROR(VLOOKUP(D843,'Study Area Site Variable'!$B$4:$H$1240,7,FALSE),0)","v":0},0,null,"Silver Lake (Kepler Lake Complex)",4,0,0]
["2013-08-01","Fishing","Wolf Lake","K 0232",null,0,{"$f":"IFERROR(VLOOKUP(D844,'Study Area Site Variable'!$B$4:$J$1240,6,FALSE),0)","v":0},{"$f":"IFERROR(VLOOKUP(D844,'Study Area Site Variable'!$B$4:$H$1240,7,FALSE),0)","v":0},0,null,"Silver Lake (next to Van Lake)",13,0,0]
["2013-08-01","Fishing","Delta Clearwater","U 0006",null,17,{"$f":"IFERROR(VLOOKUP(D845,'Study Area Site Variable'!$B$4:$J$1240,6,FALSE),0)","v":0},{"$f":"IFERROR(VLOOKUP(D845,'Study Area Site Variable'!$B$4:$H$1240,7,FALSE),0)","v":0},0,null,"Silver Salmon Creek",6,0,0]
["2013-08-01","Fishing","Kenai Lake","P00183",null,0,{"$f":"IFERROR(VLOOKUP(D846,'Study Area Site Variable'!$B$4:$J$1240,6,FALSE),0)","v":0},{"$f":"IFERROR(VLOOKUP(D846,'Study Area Site Variable'!$B$4:$H$1240,7,FALSE),0)","v":0},0,null,"Sinuk River",9,0,0]
["2013-08-01","Fishing","Clear Creek","P00311",null,0,{"$f":"IFERROR(VLOOKUP(D847,'Study Area Site Variable'!$B$4:$J$1240,6,FALSE),0)","v":1},{"$f":"IFERROR(VLOOKUP(D847,'Study Area Site Variable'!$B$4:$H$1240,7,FALSE),0)","v":1},0,null,"Sixmile Creek",21,0,0]
["2013-08-01","Fishing","Butte Lake","M 3128",null,3,{"$f":"IFERROR(VLOOKUP(D848,'Study Area Site Variable'!$B$4:$J$1240,6,FALSE),0)","v":0},{"$f":"IFERROR(VLOOKUP(D848,'Study Area Site Variable'!$B$4:$H$1240,7,FALSE),0)","v":0},0,null,"Sixmile Lake",1,0,0]
["2013-08-01","Fishing","Lost Lake","K 0157",null,0,{"$f":"IFERROR(VLOOKUP(D849,'Study Area Site Variable'!$B$4:$J$1240,6,FALSE),0)","v":0},{"$f":"IFERROR(VLOOKUP(D849,'Study Area Site Variable'!$B$4:$H$1240,7,FALSE),0)","v":0},0,null,"Sixmile Lake (Elmendorf)",19,0,0]
["2013-08-01","Fishing","Swanson Lake (Swanson River Canoe Route Lake)","P00435",null,0,{"$f":"IFERROR(VLOOKUP(D850,'Study Area Site Variable'!$B$4:$J$1240,6,FALSE),0)","v":0},{"$f":"IFERROR(VLOOKUP(D850,'Study Area Site Variable'!$B$4:$H$1240,7,FALSE),0)","v":0},0,null,"Skilak Lake",21,0,0]
["2013-08-01","Fishing","Byers Lake","M 0177",null,6,{"$f":"IFERROR(VLOOKUP(D851,'Study Area Site Variable'!$B$4:$J$1240,6,FALSE),0)","v":0},{"$f":"IFERROR(VLOOKUP(D851,'Study Area Site Variable'!$B$4:$H$1240,7,FALSE),0)","v":0},0,null,"Skwentna River",48,0,0]
["2013-08-01","Fishing","Lake Clark","S 0009",null,0,{"$f":"IFERROR(VLOOKUP(D852,'Study Area Site Variable'!$B$4:$J$1240,6,FALSE),0)","v":0},{"$f":"IFERROR(VLOOKUP(D852,'Study Area Site Variable'!$B$4:$H$1240,7,FALSE),0)","v":0},0,null,"Slana River",2,0,0]
["2013-08-01","Fishing","Chulitna River East Fork","M 0242",null,0,{"$f":"IFERROR(VLOOKUP(D853,'Study Area Site Variable'!$B$4:$J$1240,6,FALSE),0)","v":0},{"$f":"IFERROR(VLOOKUP(D853,'Study Area Site Variable'!$B$4:$H$1240,7,FALSE),0)","v":0},0,null,"Slate Creek (Dalton Highway)",1,0,0]
["2013-08-01","Fishing","Crescent Lake","P00147",null,14,{"$f":"IFERROR(VLOOKUP(D854,'Study Area Site Variable'!$B$4:$J$1240,6,FALSE),0)","v":0},{"$f":"IFERROR(VLOOKUP(D854,'Study Area Site Variable'!$B$4:$H$1240,7,FALSE),0)","v":0},0,null,"Snake Lake (Nunavaugaluk Lake)",2,0,0]
["2013-08-01","Fishing","Willow Lake","M 0210",null,7,{"$f":"IFERROR(VLOOKUP(D855,'Study Area Site Variable'!$B$4:$J$1240,6,FALSE),0)","v":0},{"$f":"IFERROR(VLOOKUP(D855,'Study Area Site Variable'!$B$4:$H$1240,7,FALSE),0)","v":0},0,null,"Snake River",22,0,0]
["2013-08-01","Fishing","Ivishak River (Dalton Highway)","Z 0022",null,7,{"$f":"IFERROR(VLOOKUP(D856,'Study Area Site Variable'!$B$4:$J$1240,6,FALSE),0)","v":0},{"$f":"IFERROR(VLOOKUP(D856,'Study Area Site Variable'!$B$4:$H$1240,7,FALSE),0)","v":0},0,null,"Snodgrass Lake",2,0,0]
["2013-08-01","Fishing","Susitna River - Upper","I 0267",null,4,{"$f":"IFERROR(VLOOKUP(D857,'Study Area Site Variable'!$B$4:$J$1240,6,FALSE),0)","v":0},{"$f":"IFERROR(VLOOKUP(D857,'Study Area Site Variable'!$B$4:$H$1240,7,FALSE),0)","v":0},0,null,"Soule Lake",70,10,0]
["2013-08-01","Fishing","Andreafsky River","Y 0147",null,3,{"$f":"IFERROR(VLOOKUP(D858,'Study Area Site Variable'!$B$4:$J$1240,6,FALSE),0)","v":0},{"$f":"IFERROR(VLOOKUP(D858,'Study Area Site Variable'!$B$4:$H$1240,7,FALSE),0)","v":0},0,null,"Sourdough Creek",9,0,0]
["2013-08-01","Fishing","Knik Lake","K 0151",null,3,{"$f":"IFERROR(VLOOKUP(D859,'Study Area Site Variable'!$B$4:$J$1240,6,FALSE),0)","v":0},{"$f":"IFERROR(VLOOKUP(D859,'Study Area Site Variable'!$B$4:$H$1240,7,FALSE),0)","v":0},0,null,"Squirrel Creek",9,0,0]
["2013-08-01","Fishing","Skilak Lake","P00228",null,2,{"$f":"IFERROR(VLOOKUP(D860,'Study Area Site Variable'!$B$4:$J$1240,6,FALSE),0)","v":0},{"$f":"IFERROR(VLOOKUP(D860,'Study Area Site Variable'!$B$4:$H$1240,7,FALSE),0)","v":0},0,null,"Squirrel Creek Gravel Pit (Gravel Pit Lake)",9,0,0]
["2013-08-01","Fishing","Delong Lake","L 0138",null,0,{"$f":"IFERROR(VLOOKUP(D861,'Study Area Site Variable'!$B$4:$J$1240,6,FALSE),0)","v":0},{"$f":"IFERROR(VLOOKUP(D861,'Study Area Site Variable'!$B$4:$H$1240,7,FALSE),0)","v":0},0,null,"Steese Highway Mile 36.6 Pit",3,0,0]
["2013-08-01","Fishing","Symphony Lake","L 0228",null,12,{"$f":"IFERROR(VLOOKUP(D862,'Study Area Site Variable'!$B$4:$J$1240,6,FALSE),0)","v":0},{"$f":"IFERROR(VLOOKUP(D862,'Study Area Site Variable'!$B$4:$H$1240,7,FALSE),0)","v":0},0,null,"Stony River",1,0,0]
["2013-08-01","Fishing","Alexander Lake","M 1118",null,7,{"$f":"IFERROR(VLOOKUP(D863,'Study Area Site Variable'!$B$4:$J$1240,6,FALSE),0)","v":0},{"$f":"IFERROR(VLOOKUP(D863,'Study Area Site Variable'!$B$4:$H$1240,7,FALSE),0)","v":0},0,null,"Stuyahok River",5,0,0]
["2013-08-01","Fishing","Orca Bay (Boat)","J 0722",null,0,{"$f":"IFERROR(VLOOKUP(D864,'Study Area Site Variable'!$B$4:$J$1240,6,FALSE),0)","v":0},{"$f":"IFERROR(VLOOKUP(D864,'Study Area Site Variable'!$B$4:$H$1240,7,FALSE),0)","v":0},0,null,"Summit Lake",97,0,0]
["2013-08-01","Fishing","Sixmile Creek","L 0211",null,0,{"$f":"IFERROR(VLOOKUP(D865,'Study Area Site Variable'!$B$4:$J$1240,6,FALSE),0)","v":0},{"$f":"IFERROR(VLOOKUP(D865,'Study Area Site Variable'!$B$4:$H$1240,7,FALSE),0)","v":0},0,null,"Summit Lake (Richardson Highway near Paxson)",1,0,0]
["2013-08-01","Fishing","George Lake","U 0011",null,82,{"$f":"IFERROR(VLOOKUP(D866,'Study Area Site Variable'!$B$4:$J$1240,6,FALSE),0)","v":0},{"$f":"IFERROR(VLOOKUP(D866,'Study Area Site Variable'!$B$4:$H$1240,7,FALSE),0)","v":0},0,null,"Sunshine Creek",37,27,2]
["2013-08-01","Fishing","Soule Lake","U 1054",null,60,{"$f":"IFERROR(VLOOKUP(D867,'Study Area Site Variable'!$B$4:$J$1240,6,FALSE),0)","v":0},{"$f":"IFERROR(VLOOKUP(D867,'Study Area Site Variable'!$B$4:$H$1240,7,FALSE),0)","v":0},0,null,"Susitna Lake",43,35,0]
["2013-08-01","Fishing","Hillberg Lake (Elmendorf)","L 0013",null,45,{"$f":"IFERROR(VLOOKUP(D868,'Study Area Site Variable'!$B$4:$J$1240,6,FALSE),0)","v":0},{"$f":"IFERROR(VLOOKUP(D868,'Study Area Site Variable'!$B$4:$H$1240,7,FALSE),0)","v":0},0,null,"Susitna River",130,78,0]
["2013-08-01","Fishing","Harris Bay - Boat (non-charter)","P10842",null,34,{"$f":"IFERROR(VLOOKUP(D869,'Study Area Site Variable'!$B$4:$J$1240,6,FALSE),0)","v":0},{"$f":"IFERROR(VLOOKUP(D869,'Study Area Site Variable'!$B$4:$H$1240,7,FALSE),0)","v":0},0,null,"Susitna River - Upper",27,23,0]
["2013-08-01","Fishing","Moose River","P00204",null,34,{"$f":"IFERROR(VLOOKUP(D870,'Study Area Site Variable'!$B$4:$J$1240,6,FALSE),0)","v":0},{"$f":"IFERROR(VLOOKUP(D870,'Study Area Site Variable'!$B$4:$H$1240,7,FALSE),0)","v":0},0,null,"Swan Lake Canoe System",0,0,0]
["2013-08-01","Fishing","Lalen Lake","K 0222",null,29,{"$f":"IFERROR(VLOOKUP(D871,'Study Area Site Variable'!$B$4:$J$1240,6,FALSE),0)","v":0},{"$f":"IFERROR(VLOOKUP(D871,'Study Area Site Variable'!$B$4:$H$1240,7,FALSE),0)","v":0},0,null,"Swanson Lake (Swanson River Canoe Route Lake)",4,0,0]
["2013-08-01","Fishing","Little Oshetna River","M 0224",null,26,{"$f":"IFERROR(VLOOKUP(D872,'Study Area Site Variable'!$B$4:$J$1240,6,FALSE),0)","v":0},{"$f":"IFERROR(VLOOKUP(D872,'Study Area Site Variable'!$B$4:$H$1240,7,FALSE),0)","v":0},0,null,"Swanson River",5,0,0]
["2013-08-01","Fishing","Unalakleet River","W 0003",null,23,{"$f":"IFERROR(VLOOKUP(D873,'Study Area Site Variable'!$B$4:$J$1240,6,FALSE),0)","v":0},{"$f":"IFERROR(VLOOKUP(D873,'Study Area Site Variable'!$B$4:$H$1240,7,FALSE),0)","v":0},0,null,"Swede Lake (Big Swede Lake)",3,0,0]
["2013-08-01","Fishing","Montague Island (Boat)","J 0720",null,18,{"$f":"IFERROR(VLOOKUP(D874,'Study Area Site Variable'!$B$4:$J$1240,6,FALSE),0)","v":0},{"$f":"IFERROR(VLOOKUP(D874,'Study Area Site Variable'!$B$4:$H$1240,7,FALSE),0)","v":0},0,null,"Symphony Lake",17,0,0]
["2013-08-01","Fishing","Gulf of Alaska- Valdez","J 10783",null,16,{"$f":"IFERROR(VLOOKUP(D875,'Study Area Site Variable'!$B$4:$J$1240,6,FALSE),0)","v":0},{"$f":"IFERROR(VLOOKUP(D875,'Study Area Site Variable'!$B$4:$H$1240,7,FALSE),0)","v":0},0,null,"Takotna River",4,0,0]
["2013-08-01","Fishing","Indian River (into Susitna)","M 0141",null,14,{"$f":"IFERROR(VLOOKUP(D876,'Study Area Site Variable'!$B$4:$J$1240,6,FALSE),0)","v":0},{"$f":"IFERROR(VLOOKUP(D876,'Study Area Site Variable'!$B$4:$H$1240,7,FALSE),0)","v":0},0,null,"Talachulitna River",10,0,0]
["2013-08-01","Fishing","Blackstone Bay (Boat)","J 0800",null,13,{"$f":"IFERROR(VLOOKUP(D877,'Study Area Site Variable'!$B$4:$J$1240,6,FALSE),0)","v":0},{"$f":"IFERROR(VLOOKUP(D877,'Study Area Site Variable'!$B$4:$H$1240,7,FALSE),0)","v":0},0,null,"Talkeetna lakes",8,0,0]
["2013-08-01","Fishing","Larson Creek","M 0186",null,12,{"$f":"IFERROR(VLOOKUP(D878,'Study Area Site Variable'!$B$4:$J$1240,6,FALSE),0)","v":0},{"$f":"IFERROR(VLOOKUP(D878,'Study Area Site Variable'!$B$4:$H$1240,7,FALSE),0)","v":0},2,null,"Talkeetna River",159,142,2]
["2013-08-01","Fishing","Buskin River","Q 0003",null,11,{"$f":"IFERROR(VLOOKUP(D879,'Study Area Site Variable'!$B$4:$J$1240,6,FALSE),0)","v":0},{"$f":"IFERROR(VLOOKUP(D879,'Study Area Site Variable'!$B$4:$H$1240,7,FALSE),0)","v":0},0,null,"Tanada Lake",5,0,0]
["2013-08-01","Fishing","Kenai River - (Soldotna Bridge to Moose R)","NEI P60002",null,135,{"$f":"IFERROR(VLOOKUP(D880,'Study Area Site Variable'!$B$4:$J$1240,6,FALSE),0)","v":0},{"$f":"IFERROR(VLOOKUP(D880,'Study Area Site Variable'!$B$4:$H$1240,7,FALSE),0)","v":0},0,null,"Tanaina Lake (Nancy Lakes Rec System)",1,0,0]
["2013-08-01","Fishing","Kenai River - (Moose R to Skilak Outlet)","NEI P60003",null,15,{"$f":"IFERROR(VLOOKUP(D881,'Study Area Site Variable'!$B$4:$J$1240,6,FALSE),0)","v":0},{"$f":"IFERROR(VLOOKUP(D881,'Study Area Site Variable'!$B$4:$H$1240,7,FALSE),0)","v":0},0,null,"Tanana River (reach unspecified)",78,0,0]
["2013-08-01","Fishing","Copper River","I 0141",null,8,{"$f":"IFERROR(VLOOKUP(D882,'Study Area Site Variable'!$B$4:$J$1240,6,FALSE),0)","v":0},{"$f":"IFERROR(VLOOKUP(D882,'Study Area Site Variable'!$B$4:$H$1240,7,FALSE),0)","v":0},0,null,"Tangle lakes and Tangle River",51,0,0]
["2013-08-01","Fishing","Prince William Sound- Seward","NEI J 07415",null,9,{"$f":"IFERROR(VLOOKUP(D883,'Study Area Site Variable'!$B$4:$J$1240,6,FALSE),0)","v":0},{"$f":"IFERROR(VLOOKUP(D883,'Study Area Site Variable'!$B$4:$H$1240,7,FALSE),0)","v":0},0,null,"Tangle River",0,0,0]
["2013-08-01","Fishing","Gulkana River mainstem (reach unspecified)","I 0432",null,12,{"$f":"IFERROR(VLOOKUP(D884,'Study Area Site Variable'!$B$4:$J$1240,6,FALSE),0)","v":0},{"$f":"IFERROR(VLOOKUP(D884,'Study Area Site Variable'!$B$4:$H$1240,7,FALSE),0)","v":0},0,null,"Tatalina River",1,0,0]
["2013-08-01","Fishing","Chatanika River (reach unspecified)","U 0004",null,6,{"$f":"IFERROR(VLOOKUP(D885,'Study Area Site Variable'!$B$4:$J$1240,6,FALSE),0)","v":0},{"$f":"IFERROR(VLOOKUP(D885,'Study Area Site Variable'!$B$4:$H$1240,7,FALSE),0)","v":0},0,null,"Tatlanika River",6,0,0]
["2013-08-01","Fishing","Bonnie Lake (U)","K 0235",null,8,{"$f":"IFERROR(VLOOKUP(D886,'Study Area Site Variable'!$B$4:$J$1240,6,FALSE),0)","v":0},{"$f":"IFERROR(VLOOKUP(D886,'Study Area Site Variable'!$B$4:$H$1240,7,FALSE),0)","v":0},0,null,"Tazlina Lake",7,0,0]
["2013-08-01","Fishing","Gulkana River (Paxson to Sourdough)","I 0001",null,7,{"$f":"IFERROR(VLOOKUP(D887,'Study Area Site Variable'!$B$4:$J$1240,6,FALSE),0)","v":0},{"$f":"IFERROR(VLOOKUP(D887,'Study Area Site Variable'!$B$4:$H$1240,7,FALSE),0)","v":0},0,null,"Tazlina River",10,0,0]
["2013-08-01","Fishing","Galena Bay (Boat)","J 0740",null,4,{"$f":"IFERROR(VLOOKUP(D888,'Study Area Site Variable'!$B$4:$J$1240,6,FALSE),0)","v":0},{"$f":"IFERROR(VLOOKUP(D888,'Study Area Site Variable'!$B$4:$H$1240,7,FALSE),0)","v":0},0,null,"Tebay lakes",5,0,0]
["2013-08-01","Fishing","Knik Arm (Shore)","K 0723",null,4,{"$f":"IFERROR(VLOOKUP(D889,'Study Area Site Variable'!$B$4:$J$1240,6,FALSE),0)","v":0},{"$f":"IFERROR(VLOOKUP(D889,'Study Area Site Variable'!$B$4:$H$1240,7,FALSE),0)","v":0},0,null,"Tebay River",2,0,0]
["2013-08-01","Fishing","McArthur River","N 0201",null,4,{"$f":"IFERROR(VLOOKUP(D890,'Study Area Site Variable'!$B$4:$J$1240,6,FALSE),0)","v":0},{"$f":"IFERROR(VLOOKUP(D890,'Study Area Site Variable'!$B$4:$H$1240,7,FALSE),0)","v":0},0,null,"Thirtymile Slough",6,0,0]
["2013-08-01","Fishing","Portage Creek","L 0231",null,13,{"$f":"IFERROR(VLOOKUP(D891,'Study Area Site Variable'!$B$4:$J$1240,6,FALSE),0)","v":0},{"$f":"IFERROR(VLOOKUP(D891,'Study Area Site Variable'!$B$4:$H$1240,7,FALSE),0)","v":0},0,null,"Threemile Lake (Third Lake, 3 Mile Lake)",25,0,0]
["2013-08-01","Fishing","Ravine Lake","K 0171",null,4,{"$f":"IFERROR(VLOOKUP(D892,'Study Area Site Variable'!$B$4:$J$1240,6,FALSE),0)","v":0},{"$f":"IFERROR(VLOOKUP(D892,'Study Area Site Variable'!$B$4:$H$1240,7,FALSE),0)","v":0},0,null,"Tiekel River (Uranatina River, incl. Tsina River)",1,0,0]
["2013-08-01","Fishing","Trail River","P00264",null,4,{"$f":"IFERROR(VLOOKUP(D893,'Study Area Site Variable'!$B$4:$J$1240,6,FALSE),0)","v":0},{"$f":"IFERROR(VLOOKUP(D893,'Study Area Site Variable'!$B$4:$H$1240,7,FALSE),0)","v":0},0,null,"Tigger Lake (Talkeetna lakes)",17,17,0]
["2013-08-01","Fishing","Klutina Lake","I 0191",null,3,{"$f":"IFERROR(VLOOKUP(D894,'Study Area Site Variable'!$B$4:$J$1240,6,FALSE),0)","v":0},{"$f":"IFERROR(VLOOKUP(D894,'Study Area Site Variable'!$B$4:$H$1240,7,FALSE),0)","v":0},0,null,"Tikchik River (Tikchik-Nuyakuk Lake system)",7,0,0]
["2013-08-01","Fishing","Anderson Bay (Boat)","J 1018",null,3,{"$f":"IFERROR(VLOOKUP(D895,'Study Area Site Variable'!$B$4:$J$1240,6,FALSE),0)","v":0},{"$f":"IFERROR(VLOOKUP(D895,'Study Area Site Variable'!$B$4:$H$1240,7,FALSE),0)","v":0},0,null,"Tolsona Creek",4,0,0]
["2013-08-01","Fishing","Hidden Lake","M 3175",null,3,{"$f":"IFERROR(VLOOKUP(D896,'Study Area Site Variable'!$B$4:$J$1240,6,FALSE),0)","v":0},{"$f":"IFERROR(VLOOKUP(D896,'Study Area Site Variable'!$B$4:$H$1240,7,FALSE),0)","v":0},0,null,"Tolsona Lake",11,0,0]
["2013-08-01","Fishing","Honeybee Lake","K 0196",null,4,{"$f":"IFERROR(VLOOKUP(D897,'Study Area Site Variable'!$B$4:$J$1240,6,FALSE),0)","v":0},{"$f":"IFERROR(VLOOKUP(D897,'Study Area Site Variable'!$B$4:$H$1240,7,FALSE),0)","v":0},0,null,"Tonsina Lake",13,0,0]
["2013-08-01","Fishing","Sheep Creek","M 0009",null,18,{"$f":"IFERROR(VLOOKUP(D898,'Study Area Site Variable'!$B$4:$J$1240,6,FALSE),0)","v":0},{"$f":"IFERROR(VLOOKUP(D898,'Study Area Site Variable'!$B$4:$H$1240,7,FALSE),0)","v":0},0,null,"Tonsina River (Lower Tonsina River)",27,0,0]
["2013-08-01","Fishing","Kachemak Bay (Boat/Shore & Charter/Non Charter Unspecified","NEI P10003",null,2,{"$f":"IFERROR(VLOOKUP(D899,'Study Area Site Variable'!$B$4:$J$1240,6,FALSE),0)","v":0},{"$f":"IFERROR(VLOOKUP(D899,'Study Area Site Variable'!$B$4:$H$1240,7,FALSE),0)","v":0},0,null,"Trail Lake",2,0,0]
["2013-08-01","Fishing","Little Lost Lake (near Quartz Lake)","U 0218",null,3,{"$f":"IFERROR(VLOOKUP(D900,'Study Area Site Variable'!$B$4:$J$1240,6,FALSE),0)","v":0},{"$f":"IFERROR(VLOOKUP(D900,'Study Area Site Variable'!$B$4:$H$1240,7,FALSE),0)","v":0},0,null,"Trail River",4,0,0]
["2013-08-01","Fishing","Clearwater Lake (Delta Junction)","U 1026",null,14,{"$f":"IFERROR(VLOOKUP(D901,'Study Area Site Variable'!$B$4:$J$1240,6,FALSE),0)","v":0},{"$f":"IFERROR(VLOOKUP(D901,'Study Area Site Variable'!$B$4:$H$1240,7,FALSE),0)","v":0},0,null,"Trapper Creek (into Kroto Creek)",10,10,0]
["2013-08-01","Fishing","Gulf of Alaska- Homer","J 10782",null,3,{"$f":"IFERROR(VLOOKUP(D902,'Study Area Site Variable'!$B$4:$J$1240,6,FALSE),0)","v":0},{"$f":"IFERROR(VLOOKUP(D902,'Study Area Site Variable'!$B$4:$H$1240,7,FALSE),0)","v":0},0,null,"Trapper Creek (U)",3,0,0]
["2013-08-01","Fishing","North River (into Unalakleet River)","W 0094",null,2,{"$f":"IFERROR(VLOOKUP(D903,'Study Area Site Variable'!$B$4:$J$1240,6,FALSE),0)","v":0},{"$f":"IFERROR(VLOOKUP(D903,'Study Area Site Variable'!$B$4:$H$1240,7,FALSE),0)","v":0},0,null,"Troublesome Creek",41,27,0]
["2013-08-01","Fishing","Kasilof River Mouth - Boat (non-charter)","P10896",null,12,{"$f":"IFERROR(VLOOKUP(D904,'Study Area Site Variable'!$B$4:$J$1240,6,FALSE),0)","v":0},{"$f":"IFERROR(VLOOKUP(D904,'Study Area Site Variable'!$B$4:$H$1240,7,FALSE),0)","v":0},2,null,"Turnagain Arm (Boat)",2,0,0]
["2013-08-01","Fishing","Niukluk River (reach unspecified)","W 0113",null,1,{"$f":"IFERROR(VLOOKUP(D905,'Study Area Site Variable'!$B$4:$J$1240,6,FALSE),0)","v":0},{"$f":"IFERROR(VLOOKUP(D905,'Study Area Site Variable'!$B$4:$H$1240,7,FALSE),0)","v":0},0,null,"Turnagain Arm (Shore)",122,0,0]
["2013-08-01","Fishing","Campbell Point Lake (Beercan Lake)","L 0004",null,11,{"$f":"IFERROR(VLOOKUP(D906,'Study Area Site Variable'!$B$4:$J$1240,6,FALSE),0)","v":0},{"$f":"IFERROR(VLOOKUP(D906,'Study Area Site Variable'!$B$4:$H$1240,7,FALSE),0)","v":0},0,null,"Tustumena Lake",4,0,0]
["2013-08-01","Fishing","Mullins Pit (Eielson AFB)","U 0628",null,2,{"$f":"IFERROR(VLOOKUP(D907,'Study Area Site Variable'!$B$4:$J$1240,6,FALSE),0)","v":0},{"$f":"IFERROR(VLOOKUP(D907,'Study Area Site Variable'!$B$4:$H$1240,7,FALSE),0)","v":0},2,null,"Tutka Bay - Boat/Shore & Charter/Non-charter Unspecified",15,0,0]
["2013-08-01","Fishing","Cook Inlet- Unspecified","NEI 990",null,1,{"$f":"IFERROR(VLOOKUP(D908,'Study Area Site Variable'!$B$4:$J$1240,6,FALSE),0)","v":0},{"$f":"IFERROR(VLOOKUP(D908,'Study Area Site Variable'!$B$4:$H$1240,7,FALSE),0)","v":0},0,null,"Twelvemile Lake",3,0,0]
["2013-08-01","Fishing","Moose Lake (Eielson AFB)","U 0456",null,0,{"$f":"IFERROR(VLOOKUP(D909,'Study Area Site Variable'!$B$4:$J$1240,6,FALSE),0)","v":0},{"$f":"IFERROR(VLOOKUP(D909,'Study Area Site Variable'!$B$4:$H$1240,7,FALSE),0)","v":0},0,null,"Twentymile River",45,0,0]
["2013-08-01","Fishing","Bear Lake (Eielson AFB)","U 1008",null,2,{"$f":"IFERROR(VLOOKUP(D910,'Study Area Site Variable'!$B$4:$J$1240,6,FALSE),0)","v":0},{"$f":"IFERROR(VLOOKUP(D910,'Study Area Site Variable'!$B$4:$H$1240,7,FALSE),0)","v":0},0,null,"Twin Lakes (Nabesna Road))",2,0,0]
["2013-08-01","Fishing","Donna Lake","U 0159",null,2,{"$f":"IFERROR(VLOOKUP(D911,'Study Area Site Variable'!$B$4:$J$1240,6,FALSE),0)","v":0},{"$f":"IFERROR(VLOOKUP(D911,'Study Area Site Variable'!$B$4:$H$1240,7,FALSE),0)","v":0},0,null,"Twomile Lake (Second Lake)",5,0,0]
["2013-08-01","Fishing","Talachulitna River","M 1007",null,0,{"$f":"IFERROR(VLOOKUP(D912,'Study Area Site Variable'!$B$4:$J$1240,6,FALSE),0)","v":1},{"$f":"IFERROR(VLOOKUP(D912,'Study Area Site Variable'!$B$4:$H$1240,7,FALSE),0)","v":0},0,null,"Tyone Lake",20,20,0]
["2013-08-01","Fishing","Thirtymile Slough","U 0283",null,2,{"$f":"IFERROR(VLOOKUP(D913,'Study Area Site Variable'!$B$4:$J$1240,6,FALSE),0)","v":0},{"$f":"IFERROR(VLOOKUP(D913,'Study Area Site Variable'!$B$4:$H$1240,7,FALSE),0)","v":0},0,null,"Tyone River",22,20,0]
["2013-08-01","Fishing","Eshamy Lagoon (Boat)","J 0902",null,2,{"$f":"IFERROR(VLOOKUP(D914,'Study Area Site Variable'!$B$4:$J$1240,6,FALSE),0)","v":0},{"$f":"IFERROR(VLOOKUP(D914,'Study Area Site Variable'!$B$4:$H$1240,7,FALSE),0)","v":0},0,null,"Uganik River",3,0,0]
["2013-08-01","Fishing","Cook Inlet- Seldovia","NEI 997",null,0,{"$f":"IFERROR(VLOOKUP(D915,'Study Area Site Variable'!$B$4:$J$1240,6,FALSE),0)","v":0},{"$f":"IFERROR(VLOOKUP(D915,'Study Area Site Variable'!$B$4:$H$1240,7,FALSE),0)","v":0},0,null,"Ugashik Bay (Boat)",7,0,0]
["2013-08-01","Fishing","Kepler Lake Complex","K 0010",null,0,{"$f":"IFERROR(VLOOKUP(D916,'Study Area Site Variable'!$B$4:$J$1240,6,FALSE),0)","v":0},{"$f":"IFERROR(VLOOKUP(D916,'Study Area Site Variable'!$B$4:$H$1240,7,FALSE),0)","v":0},2,null,"Ugashik Lake Narrows",4,2,0]
["2013-08-01","Fishing","Otter Lake","I 0391",null,0,{"$f":"IFERROR(VLOOKUP(D917,'Study Area Site Variable'!$B$4:$J$1240,6,FALSE),0)","v":0},{"$f":"IFERROR(VLOOKUP(D917,'Study Area Site Variable'!$B$4:$H$1240,7,FALSE),0)","v":0},0,null,"Ugashik River",6,0,0]
["2013-08-01","Fishing","Fish Lake","P00159",null,0,{"$f":"IFERROR(VLOOKUP(D918,'Study Area Site Variable'!$B$4:$J$1240,6,FALSE),0)","v":0},{"$f":"IFERROR(VLOOKUP(D918,'Study Area Site Variable'!$B$4:$H$1240,7,FALSE),0)","v":0},0,null,"Unalakleet River",24,0,0]
["2013-08-01","Fishing","Main Bay (Boat)","J 0778",null,1,{"$f":"IFERROR(VLOOKUP(D919,'Study Area Site Variable'!$B$4:$J$1240,6,FALSE),0)","v":0},{"$f":"IFERROR(VLOOKUP(D919,'Study Area Site Variable'!$B$4:$H$1240,7,FALSE),0)","v":0},0,null,"Uncoded",365,56,0]
["2013-08-01","Fishing","Long Lake","P00377",null,0,{"$f":"IFERROR(VLOOKUP(D920,'Study Area Site Variable'!$B$4:$J$1240,6,FALSE),0)","v":0},{"$f":"IFERROR(VLOOKUP(D920,'Study Area Site Variable'!$B$4:$H$1240,7,FALSE),0)","v":0},0,null,"Valdez Arm - Trip to Valdez (Boat)",2,0,0]
["2013-08-01","Fishing","Moose Creek (U)","I 0408",null,1,{"$f":"IFERROR(VLOOKUP(D921,'Study Area Site Variable'!$B$4:$J$1240,6,FALSE),0)","v":0},{"$f":"IFERROR(VLOOKUP(D921,'Study Area Site Variable'!$B$4:$H$1240,7,FALSE),0)","v":0},0,null,"Valdez Bay (also Port Valdez) (Boat)",283,0,0]
["2013-08-01","Fishing","Clearwater Creek","Y 0168",null,0,{"$f":"IFERROR(VLOOKUP(D922,'Study Area Site Variable'!$B$4:$J$1240,6,FALSE),0)","v":0},{"$f":"IFERROR(VLOOKUP(D922,'Study Area Site Variable'!$B$4:$H$1240,7,FALSE),0)","v":0},0,null,"Valdez Creek",1,0,0]
["2013-08-01","Fishing","Chena Hot Springs Road Pond 45.5 Mile","U 0442",null,0,{"$f":"IFERROR(VLOOKUP(D923,'Study Area Site Variable'!$B$4:$J$1240,6,FALSE),0)","v":0},{"$f":"IFERROR(VLOOKUP(D923,'Study Area Site Variable'!$B$4:$H$1240,7,FALSE),0)","v":0},0,null,"Visnaw Lake",1,0,0]
["2013-08-01","Fishing","Crosswind Lake","I 0008",null,10,{"$f":"IFERROR(VLOOKUP(D924,'Study Area Site Variable'!$B$4:$J$1240,6,FALSE),0)","v":0},{"$f":"IFERROR(VLOOKUP(D924,'Study Area Site Variable'!$B$4:$H$1240,7,FALSE),0)","v":0},0,null,"Walby Lake",15,0,0]
["2013-08-01","Fishing","Ibeck Creek (Mile 7 Copper River Highway)","J 0171",null,10,{"$f":"IFERROR(VLOOKUP(D925,'Study Area Site Variable'!$B$4:$J$1240,6,FALSE),0)","v":0},{"$f":"IFERROR(VLOOKUP(D925,'Study Area Site Variable'!$B$4:$H$1240,7,FALSE),0)","v":0},0,null,"Washington Creek",1,0,0]
["2013-08-01","Fishing","Sunshine Creek","M 0007",null,4,{"$f":"IFERROR(VLOOKUP(D926,'Study Area Site Variable'!$B$4:$J$1240,6,FALSE),0)","v":1},{"$f":"IFERROR(VLOOKUP(D926,'Study Area Site Variable'!$B$4:$H$1240,7,FALSE),0)","v":1},0,null,"Wasilla Creek (Rabbit Slough)",5,10,0]
["2013-08-01","Fishing","Troublesome Creek","M 0181",null,8,{"$f":"IFERROR(VLOOKUP(D927,'Study Area Site Variable'!$B$4:$J$1240,6,FALSE),0)","v":0},{"$f":"IFERROR(VLOOKUP(D927,'Study Area Site Variable'!$B$4:$H$1240,7,FALSE),0)","v":0},0,null,"Wasilla Lake",6,0,0]
["2013-08-01","Fishing","Kogoluktuk River (into Kobuk River)","X 0070",null,0,{"$f":"IFERROR(VLOOKUP(D928,'Study Area Site Variable'!$B$4:$J$1240,6,FALSE),0)","v":0},{"$f":"IFERROR(VLOOKUP(D928,'Study Area Site Variable'!$B$4:$H$1240,7,FALSE),0)","v":0},0,null,"Watana Lake",20,0,0]
["2013-08-01","Fishing","Eklutna River","L 0140",null,0,{"$f":"IFERROR(VLOOKUP(D929,'Study Area Site Variable'!$B$4:$J$1240,6,FALSE),0)","v":0},{"$f":"IFERROR(VLOOKUP(D929,'Study Area Site Variable'!$B$4:$H$1240,7,FALSE),0)","v":0},0,null,"Weiner Lake",8,0,0]
["2013-08-01","Fishing","Gulkana River (above Paxson)","I 0650",null,6,{"$f":"IFERROR(VLOOKUP(D930,'Study Area Site Variable'!$B$4:$J$1240,6,FALSE),0)","v":0},{"$f":"IFERROR(VLOOKUP(D930,'Study Area Site Variable'!$B$4:$H$1240,7,FALSE),0)","v":0},0,null,"West Beaver Lake",10,0,0]
["2013-08-01","Fishing","Homer Spit, Nick Dudiak Fishing Lagoon (non-charter)","P11030",null,6,{"$f":"IFERROR(VLOOKUP(D931,'Study Area Site Variable'!$B$4:$J$1240,6,FALSE),0)","v":0},{"$f":"IFERROR(VLOOKUP(D931,'Study Area Site Variable'!$B$4:$H$1240,7,FALSE),0)","v":0},0,null,"West Twin Lake (West of Kantishna River)",2,0,0]
["2013-08-01","Fishing","Rocky Lake","P00551",null,0,{"$f":"IFERROR(VLOOKUP(D932,'Study Area Site Variable'!$B$4:$J$1240,6,FALSE),0)","v":0},{"$f":"IFERROR(VLOOKUP(D932,'Study Area Site Variable'!$B$4:$H$1240,7,FALSE),0)","v":0},0,null,"Westchester Lagoon",3,0,0]
["2013-08-01","Fishing","Fish Creek","K 0201",null,5,{"$f":"IFERROR(VLOOKUP(D933,'Study Area Site Variable'!$B$4:$J$1240,6,FALSE),0)","v":0},{"$f":"IFERROR(VLOOKUP(D933,'Study Area Site Variable'!$B$4:$H$1240,7,FALSE),0)","v":0},0,null,"Western Cook Inlet Other Saltwater Areas (Boat)",2,0,0]
["2013-08-01","Fishing","Goose Creek","K 0142",null,5,{"$f":"IFERROR(VLOOKUP(D934,'Study Area Site Variable'!$B$4:$J$1240,6,FALSE),0)","v":0},{"$f":"IFERROR(VLOOKUP(D934,'Study Area Site Variable'!$B$4:$H$1240,7,FALSE),0)","v":0},0,null,"Whiskey Gulch Area - Boat (non-charter)",25,0,0]
["2013-08-01","Fishing","Clunie Lake (Fort Richardson)","L 0009",null,5,{"$f":"IFERROR(VLOOKUP(D935,'Study Area Site Variable'!$B$4:$J$1240,6,FALSE),0)","v":0},{"$f":"IFERROR(VLOOKUP(D935,'Study Area Site Variable'!$B$4:$H$1240,7,FALSE),0)","v":0},0,null,"Wild Lake",0,0,0]
["2013-08-01","Fishing","Figure Eight Lake","K 0264",null,5,{"$f":"IFERROR(VLOOKUP(D936,'Study Area Site Variable'!$B$4:$J$1240,6,FALSE),0)","v":0},{"$f":"IFERROR(VLOOKUP(D936,'Study Area Site Variable'!$B$4:$H$1240,7,FALSE),0)","v":0},0,null,"Willow Creek",126,0,2]
["2013-08-01","Fishing","Carter Lake","P00136",null,4,{"$f":"IFERROR(VLOOKUP(D937,'Study Area Site Variable'!$B$4:$J$1240,6,FALSE),0)","v":0},{"$f":"IFERROR(VLOOKUP(D937,'Study Area Site Variable'!$B$4:$H$1240,7,FALSE),0)","v":0},0,null,"Willow Lake",7,0,0]
["2013-08-01","Fishing","Sinuk River","W 0022",null,0,{"$f":"IFERROR(VLOOKUP(D938,'Study Area Site Variable'!$B$4:$J$1240,6,FALSE),0)","v":0},{"$f":"IFERROR(VLOOKUP(D938,'Study Area Site Variable'!$B$4:$H$1240,7,FALSE),0)","v":0},0,null,"Wind River",3,0,0]
["2013-08-01","Fishing","Jack River (into Nenana)","U 0195",null,0,{"$f":"IFERROR(VLOOKUP(D939,'Study Area Site Variable'!$B$4:$J$1240,6,FALSE),0)","v":0},{"$f":"IFERROR(VLOOKUP(D939,'Study Area Site Variable'!$B$4:$H$1240,7,FALSE),0)","v":0},0,null,"Windy Creek",7,0,0]
["2013-08-01","Fishing","Little Chena River","U 0213",null,4,{"$f":"IFERROR(VLOOKUP(D940,'Study Area Site Variable'!$B$4:$J$1240,6,FALSE),0)","v":0},{"$f":"IFERROR(VLOOKUP(D940,'Study Area Site Variable'!$B$4:$H$1240,7,FALSE),0)","v":0},0,null,"Wolf Lake",4,0,0]
["2013-08-01","Fishing","Beluga Lake","N 0122",null,0,{"$f":"IFERROR(VLOOKUP(D941,'Study Area Site Variable'!$B$4:$J$1240,6,FALSE),0)","v":0},{"$f":"IFERROR(VLOOKUP(D941,'Study Area Site Variable'!$B$4:$H$1240,7,FALSE),0)","v":0},0,null,"Wolverine Lake",20,0,0]
["2013-08-01","Fishing","Seattle Creek","P00351",null,0,{"$f":"IFERROR(VLOOKUP(D942,'Study Area Site Variable'!$B$4:$J$1240,6,FALSE),0)","v":0},{"$f":"IFERROR(VLOOKUP(D942,'Study Area Site Variable'!$B$4:$H$1240,7,FALSE),0)","v":0},0,null,"Wood River",1,0,0]
["2013-08-01","Fishing","Windy Creek","M 3307",null,3,{"$f":"IFERROR(VLOOKUP(D943,'Study Area Site Variable'!$B$4:$J$1240,6,FALSE),0)","v":0},{"$f":"IFERROR(VLOOKUP(D943,'Study Area Site Variable'!$B$4:$H$1240,7,FALSE),0)","v":0},0,null,"Wood River lakes system",3,0,0]
["2013-08-01","Fishing","Westchester Lagoon","L 0213",null,3,{"$f":"IFERROR(VLOOKUP(D944,'Study Area Site Variable'!$B$4:$J$1240,6,FALSE),0)","v":0},{"$f":"IFERROR(VLOOKUP(D944,'Study Area Site Variable'!$B$4:$H$1240,7,FALSE),0)","v":0},0,null,"X and Y lakes (Talkeetna Lakes)",34,34,0]
["2013-08-01","Fishing","Coal Creek (into Beluga Lake)","N 0150",null,0,{"$f":"IFERROR(VLOOKUP(D945,'Study Area Site Variable'!$B$4:$J$1240,6,FALSE),0)","v":0},{"$f":"IFERROR(VLOOKUP(D945,'Study Area Site Variable'!$B$4:$H$1240,7,FALSE),0)","v":0},0,null,"Yentna River",36,0,0]
["2013-08-01","Fishing","Tangle River","U 0318",null,0,{"$f":"IFERROR(VLOOKUP(D946,'Study Area Site Variable'!$B$4:$J$1240,6,FALSE),0)","v":0},{"$f":"IFERROR(VLOOKUP(D946,'Study Area Site Variable'!$B$4:$H$1240,7,FALSE),0)","v":0},0,null,"Yukon River - Fort Yukon to Koyukuk River",91,0,0]
["2013-08-01","Fishing","Cooper Lake","P00145",null,0,{"$f":"IFERROR(VLOOKUP(D947,'Study Area Site Variable'!$B$4:$J$1240,6,FALSE),0)","v":0},{"$f":"IFERROR(VLOOKUP(D947,'Study Area Site Variable'!$B$4:$H$1240,7,FALSE),0)","v":0},0,null,"Yukon River (reach unspecified)",13,0,0]
["2013-08-01","Fishing","Frosty Creek (Cold Bay)","R 0333",null,3,{"$f":"IFERROR(VLOOKUP(D948,'Study Area Site Variable'!$B$4:$J$1240,6,FALSE),0)","v":0},{"$f":"IFERROR(VLOOKUP(D948,'Study Area Site Variable'!$B$4:$H$1240,7,FALSE),0)","v":0},0,null,"Yukon River drainages below Koyukuk River",1,0,0]
["2013-08-01","Fishing","Loon Lake (Swan Lake Canoe System)","P00465",null,0,{"$f":"IFERROR(VLOOKUP(D949,'Study Area Site Variable'!$B$4:$J$1240,6,FALSE),0)","v":0},{"$f":"IFERROR(VLOOKUP(D949,'Study Area Site Variable'!$B$4:$H$1240,7,FALSE),0)","v":0},0,null,"Hunting",7250,621,74]
["2013-08-01","Fishing","Butte Creek","M 3426",null,2,{"$f":"IFERROR(VLOOKUP(D950,'Study Area Site Variable'!$B$4:$J$1240,6,FALSE),0)","v":0},{"$f":"IFERROR(VLOOKUP(D950,'Study Area Site Variable'!$B$4:$H$1240,7,FALSE),0)","v":0},0,null,"20 Mile River-Portage",14,0,0]
["2013-08-01","Fishing","Denali Highway streams and lakes","M 3487",null,2,{"$f":"IFERROR(VLOOKUP(D951,'Study Area Site Variable'!$B$4:$J$1240,6,FALSE),0)","v":0},{"$f":"IFERROR(VLOOKUP(D951,'Study Area Site Variable'!$B$4:$H$1240,7,FALSE),0)","v":0},0,null,"20B?-Elliot Highway",2,0,0]
["2013-08-01","Fishing","Brushkana Creek","U 0137",null,0,{"$f":"IFERROR(VLOOKUP(D952,'Study Area Site Variable'!$B$4:$J$1240,6,FALSE),0)","v":0},{"$f":"IFERROR(VLOOKUP(D952,'Study Area Site Variable'!$B$4:$H$1240,7,FALSE),0)","v":0},0,null,"33 Mile Loop-Fort Greely",26,0,0]
["2013-08-01","Fishing","Valdez Arm - Trip to Valdez (Boat)","J 1305",null,2,{"$f":"IFERROR(VLOOKUP(D953,'Study Area Site Variable'!$B$4:$J$1240,6,FALSE),0)","v":0},{"$f":"IFERROR(VLOOKUP(D953,'Study Area Site Variable'!$B$4:$H$1240,7,FALSE),0)","v":0},0,null,"7 miles past radio towers in RC860 area past Circle Hot Springs-Circle Hot Springs",0,0,0]
["2013-08-01","Fishing","Kukaklek River (Big Ku) (into Alagnak)","S 0183",null,2,{"$f":"IFERROR(VLOOKUP(D954,'Study Area Site Variable'!$B$4:$J$1240,6,FALSE),0)","v":0},{"$f":"IFERROR(VLOOKUP(D954,'Study Area Site Variable'!$B$4:$H$1240,7,FALSE),0)","v":0},0,null,"Adak Island",7,0,0]
["2013-08-01","Fishing","Halibut Cove (Kachemak Bay-Homer) - Boat (non-charter)","P10734",null,2,{"$f":"IFERROR(VLOOKUP(D955,'Study Area Site Variable'!$B$4:$J$1240,6,FALSE),0)","v":0},{"$f":"IFERROR(VLOOKUP(D955,'Study Area Site Variable'!$B$4:$H$1240,7,FALSE),0)","v":0},0,null,"Admiralty Island-Angoon",6,0,0]
["2013-08-01","Fishing","Whiskey Gulch Area - Boat (non-charter)","P10730",null,2,{"$f":"IFERROR(VLOOKUP(D956,'Study Area Site Variable'!$B$4:$J$1240,6,FALSE),0)","v":0},{"$f":"IFERROR(VLOOKUP(D956,'Study Area Site Variable'!$B$4:$H$1240,7,FALSE),0)","v":0},0,null,"Alaska Penn-Cender River",10,0,0]
["2013-08-01","Fishing","Bradley Lake (Kepler Lake Complex)","K 0277",null,2,{"$f":"IFERROR(VLOOKUP(D957,'Study Area Site Variable'!$B$4:$J$1240,6,FALSE),0)","v":0},{"$f":"IFERROR(VLOOKUP(D957,'Study Area Site Variable'!$B$4:$H$1240,7,FALSE),0)","v":0},0,null,"Alaska Penn-King Salmon",35,0,0]
["2013-08-01","Fishing","Turnagain Arm (Boat)","L 0724",null,2,{"$f":"IFERROR(VLOOKUP(D958,'Study Area Site Variable'!$B$4:$J$1240,6,FALSE),0)","v":0},{"$f":"IFERROR(VLOOKUP(D958,'Study Area Site Variable'!$B$4:$H$1240,7,FALSE),0)","v":0},0,null,"Alaska Range-Healy",50,0,0]
["2013-08-01","Fishing","Kobuk River","X 0004",null,0,{"$f":"IFERROR(VLOOKUP(D959,'Study Area Site Variable'!$B$4:$J$1240,6,FALSE),0)","v":0},{"$f":"IFERROR(VLOOKUP(D959,'Study Area Site Variable'!$B$4:$H$1240,7,FALSE),0)","v":0},0,null,"Alone Creek",387,17,0]
["2013-08-01","Fishing","Lorraine Lake","K 0248",null,0,{"$f":"IFERROR(VLOOKUP(D960,'Study Area Site Variable'!$B$4:$J$1240,6,FALSE),0)","v":0},{"$f":"IFERROR(VLOOKUP(D960,'Study Area Site Variable'!$B$4:$H$1240,7,FALSE),0)","v":0},0,null,"Ambler River-Ambler",9,0,0]
["2013-08-01","Fishing","Backdown Lake (Coal Mine Road)","U 0542",null,1,{"$f":"IFERROR(VLOOKUP(D961,'Study Area Site Variable'!$B$4:$J$1240,6,FALSE),0)","v":0},{"$f":"IFERROR(VLOOKUP(D961,'Study Area Site Variable'!$B$4:$H$1240,7,FALSE),0)","v":0},0,null,"Anaktuvuk Pass-Float Plane",4,0,0]
["2013-08-01","Fishing","Wasilla Lake","K 0008",null,1,{"$f":"IFERROR(VLOOKUP(D962,'Study Area Site Variable'!$B$4:$J$1240,6,FALSE),0)","v":0},{"$f":"IFERROR(VLOOKUP(D962,'Study Area Site Variable'!$B$4:$H$1240,7,FALSE),0)","v":0},0,null,"Anchorage Coastal Wildlife Refuge-Rabbit Creek",5,0,0]
["2013-08-01","Fishing","American River","W 0077",null,1,{"$f":"IFERROR(VLOOKUP(D963,'Study Area Site Variable'!$B$4:$J$1240,6,FALSE),0)","v":0},{"$f":"IFERROR(VLOOKUP(D963,'Study Area Site Variable'!$B$4:$H$1240,7,FALSE),0)","v":0},0,null,"Anchorage-Ft. Richardson",7,0,0]
["2013-08-01","Fishing","Birch Lake","U 0009",null,0,{"$f":"IFERROR(VLOOKUP(D964,'Study Area Site Variable'!$B$4:$J$1240,6,FALSE),0)","v":0},{"$f":"IFERROR(VLOOKUP(D964,'Study Area Site Variable'!$B$4:$H$1240,7,FALSE),0)","v":0},0,null,"Anvik River-Anvik",7,0,0]
["2013-08-01","Fishing","Allison Point (Boat)","J 0830",null,0,{"$f":"IFERROR(VLOOKUP(D965,'Study Area Site Variable'!$B$4:$J$1240,6,FALSE),0)","v":0},{"$f":"IFERROR(VLOOKUP(D965,'Study Area Site Variable'!$B$4:$H$1240,7,FALSE),0)","v":0},0,null,"Applegate Cove-Cold Bay",4,0,0]
["2013-08-01","Fishing","Blueberry Lake","J 0122",null,0,{"$f":"IFERROR(VLOOKUP(D966,'Study Area Site Variable'!$B$4:$J$1240,6,FALSE),0)","v":0},{"$f":"IFERROR(VLOOKUP(D966,'Study Area Site Variable'!$B$4:$H$1240,7,FALSE),0)","v":0},0,null,"Arctic Valley",3,0,0]
["2013-08-01","Fishing","Swan Lake Canoe System","P00015",null,0,{"$f":"IFERROR(VLOOKUP(D967,'Study Area Site Variable'!$B$4:$J$1240,6,FALSE),0)","v":0},{"$f":"IFERROR(VLOOKUP(D967,'Study Area Site Variable'!$B$4:$H$1240,7,FALSE),0)","v":0},0,null,"Area 7-Seward",14,0,0]
["2013-08-01","Fishing","Cottonwood Creek","K 0007",null,0,{"$f":"IFERROR(VLOOKUP(D968,'Study Area Site Variable'!$B$4:$J$1240,6,FALSE),0)","v":0},{"$f":"IFERROR(VLOOKUP(D968,'Study Area Site Variable'!$B$4:$H$1240,7,FALSE),0)","v":0},4,null,"Army trail-Willow",60,2,0]
["2014-05-01","Fishing","Kenai River - (Cook Inlet to Soldotna Bridge)","NEI P60001",null,915,{"$f":"IFERROR(VLOOKUP(D969,'Study Area Site Variable'!$B$4:$J$1240,6,FALSE),0)","v":1},{"$f":"IFERROR(VLOOKUP(D969,'Study Area Site Variable'!$B$4:$H$1240,7,FALSE),0)","v":0},14,null,"Beluga Mudflats-Beluga Airstrip",3,0,0]
["2014-05-01","Fishing","Prince William Sound- Whittier","NEI J 07413",null,481,{"$f":"IFERROR(VLOOKUP(D970,'Study Area Site Variable'!$B$4:$J$1240,6,FALSE),0)","v":1},{"$f":"IFERROR(VLOOKUP(D970,'Study Area Site Variable'!$B$4:$H$1240,7,FALSE),0)","v":0},8,null,"Beluga-Movie Lake",2,0,0]
["2014-05-01","Fishing","Resurrection Bay (Seward) -Boat/Shore & Charter/Non Charter unspecified","NEI P10791",null,446,{"$f":"IFERROR(VLOOKUP(D971,'Study Area Site Variable'!$B$4:$J$1240,6,FALSE),0)","v":1},{"$f":"IFERROR(VLOOKUP(D971,'Study Area Site Variable'!$B$4:$H$1240,7,FALSE),0)","v":0},0,null,"Big Lake Area-Big Lake",118,73,0]
["2014-05-01","Fishing","Klutina River","I 0416",null,381,{"$f":"IFERROR(VLOOKUP(D972,'Study Area Site Variable'!$B$4:$J$1240,6,FALSE),0)","v":1},{"$f":"IFERROR(VLOOKUP(D972,'Study Area Site Variable'!$B$4:$H$1240,7,FALSE),0)","v":0},0,null,"Big Lake-Fish Creek",2,0,0]
["2014-05-01","Fishing","Kenai River - (Skilak Inlet to Kenai Lake)","NEI P60004",null,355,{"$f":"IFERROR(VLOOKUP(D973,'Study Area Site Variable'!$B$4:$J$1240,6,FALSE),0)","v":1},{"$f":"IFERROR(VLOOKUP(D973,'Study Area Site Variable'!$B$4:$H$1240,7,FALSE),0)","v":0},0,null,"Big River Lakes-Nikiski",10,0,0]
["2014-05-01","Fishing","Uncoded",0,null,320,{"$f":"IFERROR(VLOOKUP(D974,'Study Area Site Variable'!$B$4:$J$1240,6,FALSE),0)","v":0},{"$f":"IFERROR(VLOOKUP(D974,'Study Area Site Variable'!$B$4:$H$1240,7,FALSE),0)","v":0},56,null,"Billy Creek-Glenn Hwy MP 88",5,5,2]
["2014-05-01","Fishing","Copper River","J 0140",null,281,{"$f":"IFERROR(VLOOKUP(D975,'Study Area Site Variable'!$B$4:$J$1240,6,FALSE),0)","v":0},{"$f":"IFERROR(VLOOKUP(D975,'Study Area Site Variable'!$B$4:$H$1240,7,FALSE),0)","v":0},2,null,"Birch Creek-147 Steese Hwy",5,0,0]
["2014-05-01","Fishing","Kenai River - (Soldotna Bridge to Moose R)","NEI P60002",null,260,{"$f":"IFERROR(VLOOKUP(D976,'Study Area Site Variable'!$B$4:$J$1240,6,FALSE),0)","v":0},{"$f":"IFERROR(VLOOKUP(D976,'Study Area Site Variable'!$B$4:$H$1240,7,FALSE),0)","v":0},0,null,"Bird Creek-Seward Highway",2,0,0]
["2014-05-01","Fishing","Kenai River - (Moose R to Skilak Outlet)","NEI P60003",null,255,{"$f":"IFERROR(VLOOKUP(D977,'Study Area Site Variable'!$B$4:$J$1240,6,FALSE),0)","v":0},{"$f":"IFERROR(VLOOKUP(D977,'Study Area Site Variable'!$B$4:$H$1240,7,FALSE),0)","v":0},0,null,"Bluga Drainage-Tyonek",20,0,0]
["2014-05-01","Fishing","Kachemak Bay","P61003",null,240,{"$f":"IFERROR(VLOOKUP(D978,'Study Area Site Variable'!$B$4:$J$1240,6,FALSE),0)","v":1},{"$f":"IFERROR(VLOOKUP(D978,'Study Area Site Variable'!$B$4:$H$1240,7,FALSE),0)","v":0},3,null,"Bonanza Creek-Ester",6,0,0]
["2014-05-01","Fishing","Russian River","P00009",null,236,{"$f":"IFERROR(VLOOKUP(D979,'Study Area Site Variable'!$B$4:$J$1240,6,FALSE),0)","v":0},{"$f":"IFERROR(VLOOKUP(D979,'Study Area Site Variable'!$B$4:$H$1240,7,FALSE),0)","v":0},0,null,"Boulder Creek",2,0,0]
["2014-05-01","Fishing","Prince William Sound- Valdez","NEI J 07412",null,229,{"$f":"IFERROR(VLOOKUP(D980,'Study Area Site Variable'!$B$4:$J$1240,6,FALSE),0)","v":0},{"$f":"IFERROR(VLOOKUP(D980,'Study Area Site Variable'!$B$4:$H$1240,7,FALSE),0)","v":0},0,null,"Boulder creek-Chistochina",37,0,0]
["2014-05-01","Fishing","Chena lakes (Rec Area)","U 0018",null,181,{"$f":"IFERROR(VLOOKUP(D981,'Study Area Site Variable'!$B$4:$J$1240,6,FALSE),0)","v":1},{"$f":"IFERROR(VLOOKUP(D981,'Study Area Site Variable'!$B$4:$H$1240,7,FALSE),0)","v":0},0,null,"Boundary area-Boundary",4,0,0]
["2014-05-01","Fishing","Valdez Bay (also Port Valdez) (Boat)","J 0001",null,174,{"$f":"IFERROR(VLOOKUP(D982,'Study Area Site Variable'!$B$4:$J$1240,6,FALSE),0)","v":0},{"$f":"IFERROR(VLOOKUP(D982,'Study Area Site Variable'!$B$4:$H$1240,7,FALSE),0)","v":0},0,null,"Brooks Range-Bettles",13,7,0]
["2014-05-01","Fishing","Homer Spit (fishing near the Spit) - Boat/ Shore & Charter/Non-charter Unspecified","NEI P10822",null,163,{"$f":"IFERROR(VLOOKUP(D983,'Study Area Site Variable'!$B$4:$J$1240,6,FALSE),0)","v":0},{"$f":"IFERROR(VLOOKUP(D983,'Study Area Site Variable'!$B$4:$H$1240,7,FALSE),0)","v":0},3,null,"Brooks Range-Coldfoot",69,0,0]
["2014-05-01","Fishing","Area A-H","Area A-H",null,160,{"$f":"IFERROR(VLOOKUP(D984,'Study Area Site Variable'!$B$4:$J$1240,6,FALSE),0)","v":0},{"$f":"IFERROR(VLOOKUP(D984,'Study Area Site Variable'!$B$4:$H$1240,7,FALSE),0)","v":0},6,null,"Brooks Range-Fairbanks",294,0,0]
["2014-05-01","Fishing","Ship Creek","L 0014",null,155,{"$f":"IFERROR(VLOOKUP(D985,'Study Area Site Variable'!$B$4:$J$1240,6,FALSE),0)","v":1},{"$f":"IFERROR(VLOOKUP(D985,'Study Area Site Variable'!$B$4:$H$1240,7,FALSE),0)","v":0},0,null,"Brooks Range-Galberth Lake",16,0,0]
["2014-05-01","Fishing","Talkeetna River","M 0170",null,151,{"$f":"IFERROR(VLOOKUP(D986,'Study Area Site Variable'!$B$4:$J$1240,6,FALSE),0)","v":1},{"$f":"IFERROR(VLOOKUP(D986,'Study Area Site Variable'!$B$4:$H$1240,7,FALSE),0)","v":1},142,null,"Brooks Range-Happy Valley",8,0,0]
["2014-05-01","Fishing","Kenai River (reach and guided/non-guided not specified)","P00184",null,130,{"$f":"IFERROR(VLOOKUP(D987,'Study Area Site Variable'!$B$4:$J$1240,6,FALSE),0)","v":1},{"$f":"IFERROR(VLOOKUP(D987,'Study Area Site Variable'!$B$4:$H$1240,7,FALSE),0)","v":0},8,null,"Brooks Range-Marsh Fork",8,0,0]
["2014-05-01","Fishing","Montana Creek","M 0006",null,123,{"$f":"IFERROR(VLOOKUP(D988,'Study Area Site Variable'!$B$4:$J$1240,6,FALSE),0)","v":1},{"$f":"IFERROR(VLOOKUP(D988,'Study Area Site Variable'!$B$4:$H$1240,7,FALSE),0)","v":1},40,null,"Cache Creek-Petersville Rd",78,13,0]
["2014-05-01","Fishing","Kasilof River (guided, private, boat, bank not specified)","P00010",null,118,{"$f":"IFERROR(VLOOKUP(D989,'Study Area Site Variable'!$B$4:$J$1240,6,FALSE),0)","v":1},{"$f":"IFERROR(VLOOKUP(D989,'Study Area Site Variable'!$B$4:$H$1240,7,FALSE),0)","v":0},6,null,"Cantwell",255,89,2]
["2014-05-01","Fishing","Susitna River","M 1251",null,118,{"$f":"IFERROR(VLOOKUP(D990,'Study Area Site Variable'!$B$4:$J$1240,6,FALSE),0)","v":0},{"$f":"IFERROR(VLOOKUP(D990,'Study Area Site Variable'!$B$4:$H$1240,7,FALSE),0)","v":0},78,null,"Castle Mountain-Chickaloon",111,111,0]
["2014-05-01","Fishing","Gulkana River (Sourdough to Highway)","I 0015",null,107,{"$f":"IFERROR(VLOOKUP(D991,'Study Area Site Variable'!$B$4:$J$1240,6,FALSE),0)","v":1},{"$f":"IFERROR(VLOOKUP(D991,'Study Area Site Variable'!$B$4:$H$1240,7,FALSE),0)","v":0},0,null,"Central",1,0,0]
["2014-05-01","Fishing","Yukon River - Fort Yukon to Koyukuk River","Y 0248",null,91,{"$f":"IFERROR(VLOOKUP(D992,'Study Area Site Variable'!$B$4:$J$1240,6,FALSE),0)","v":0},{"$f":"IFERROR(VLOOKUP(D992,'Study Area Site Variable'!$B$4:$H$1240,7,FALSE),0)","v":0},0,null,"chandaler river-arctic village",5,0,0]
["2014-05-01","Fishing","Jim Creek (into Knik River)","K 0468",null,87,{"$f":"IFERROR(VLOOKUP(D993,'Study Area Site Variable'!$B$4:$J$1240,6,FALSE),0)","v":1},{"$f":"IFERROR(VLOOKUP(D993,'Study Area Site Variable'!$B$4:$H$1240,7,FALSE),0)","v":0},0,null,"Chatanika River-Elliot Bridge",3,0,0]
["2014-05-01","Fishing","Gulkana River mainstem (reach unspecified)","I 0432",null,84,{"$f":"IFERROR(VLOOKUP(D994,'Study Area Site Variable'!$B$4:$J$1240,6,FALSE),0)","v":0},{"$f":"IFERROR(VLOOKUP(D994,'Study Area Site Variable'!$B$4:$H$1240,7,FALSE),0)","v":0},0,null,"Chena Hot Springs Rd-Chena Hot Springs Rd",130,0,0]
["2014-05-01","Fishing","Lake Louise","Q 0232",null,83,{"$f":"IFERROR(VLOOKUP(D995,'Study Area Site Variable'!$B$4:$J$1240,6,FALSE),0)","v":1},{"$f":"IFERROR(VLOOKUP(D995,'Study Area Site Variable'!$B$4:$H$1240,7,FALSE),0)","v":0},14,null,"Chena River-North Pole",77,0,0]
["2014-05-01","Fishing","Sand Lake","L 0005",null,83,{"$f":"IFERROR(VLOOKUP(D996,'Study Area Site Variable'!$B$4:$J$1240,6,FALSE),0)","v":0},{"$f":"IFERROR(VLOOKUP(D996,'Study Area Site Variable'!$B$4:$H$1240,7,FALSE),0)","v":0},0,null,"Chickaloon-Glenn Highway",5,0,0]
["2014-05-01","Fishing","Willow Creek","M 0004",null,83,{"$f":"IFERROR(VLOOKUP(D997,'Study Area Site Variable'!$B$4:$J$1240,6,FALSE),0)","v":1},{"$f":"IFERROR(VLOOKUP(D997,'Study Area Site Variable'!$B$4:$H$1240,7,FALSE),0)","v":1},0,null,"Chicken",7,0,0]
["2014-05-01","Fishing","Deshka River (Kroto Creek)","M 1003",null,80,{"$f":"IFERROR(VLOOKUP(D998,'Study Area Site Variable'!$B$4:$J$1240,6,FALSE),0)","v":1},{"$f":"IFERROR(VLOOKUP(D998,'Study Area Site Variable'!$B$4:$H$1240,7,FALSE),0)","v":1},6,null,"Chicken Ridge-Chicken",16,0,0]
["2014-05-01","Fishing","Sheep Creek","J 0271",null,79,{"$f":"IFERROR(VLOOKUP(D999,'Study Area Site Variable'!$B$4:$J$1240,6,FALSE),0)","v":1},{"$f":"IFERROR(VLOOKUP(D999,'Study Area Site Variable'!$B$4:$H$1240,7,FALSE),0)","v":0},0,null,"Chicken-Taylor Hwy",8,0,0]
["2014-05-01","Fishing","Little Susitna River- Little Susitna Public Use Facility","K 00042",null,78,{"$f":"IFERROR(VLOOKUP(D1000,'Study Area Site Variable'!$B$4:$J$1240,6,FALSE),0)","v":1},{"$f":"IFERROR(VLOOKUP(D1000,'Study Area Site Variable'!$B$4:$H$1240,7,FALSE),0)","v":0},0,null,"Chistochina-Glennallen",27,0,0]
["2014-05-01","Fishing","Fish Creek (Denali Highway near Cantwell)","U 1025",null,76,{"$f":"IFERROR(VLOOKUP(D1001,'Study Area Site Variable'!$B$4:$J$1240,6,FALSE),0)","v":0},{"$f":"IFERROR(VLOOKUP(D1001,'Study Area Site Variable'!$B$4:$H$1240,7,FALSE),0)","v":0},65,null,"Chugach Mountains",6,0,0]
["2014-05-01","Fishing","Tanana River (reach unspecified)","U 0275",null,70,{"$f":"IFERROR(VLOOKUP(D1002,'Study Area Site Variable'!$B$4:$J$1240,6,FALSE),0)","v":0},{"$f":"IFERROR(VLOOKUP(D1002,'Study Area Site Variable'!$B$4:$H$1240,7,FALSE),0)","v":0},0,null,"Chugach Mountains-Cordova",19,0,0]
["2014-05-01","Fishing","Alexander Creek","M 1117",null,68,{"$f":"IFERROR(VLOOKUP(D1003,'Study Area Site Variable'!$B$4:$J$1240,6,FALSE),0)","v":0},{"$f":"IFERROR(VLOOKUP(D1003,'Study Area Site Variable'!$B$4:$H$1240,7,FALSE),0)","v":0},0,null,"Chugach State Park-Bird Creek",2,0,0]
["2014-05-01","Fishing","Chena River (reach unspecified)","U 0588",null,63,{"$f":"IFERROR(VLOOKUP(D1004,'Study Area Site Variable'!$B$4:$J$1240,6,FALSE),0)","v":0},{"$f":"IFERROR(VLOOKUP(D1004,'Study Area Site Variable'!$B$4:$H$1240,7,FALSE),0)","v":0},0,null,"Chugiak",8,0,0]
["2014-05-01","Fishing","Mirror Lake","L 0007",null,59,{"$f":"IFERROR(VLOOKUP(D1005,'Study Area Site Variable'!$B$4:$J$1240,6,FALSE),0)","v":0},{"$f":"IFERROR(VLOOKUP(D1005,'Study Area Site Variable'!$B$4:$H$1240,7,FALSE),0)","v":0},0,null,"Chulitna RIver-Parks Highway",7,7,0]
["2014-05-01","Fishing","Delong Lake","L 0138",null,59,{"$f":"IFERROR(VLOOKUP(D1006,'Study Area Site Variable'!$B$4:$J$1240,6,FALSE),0)","v":0},{"$f":"IFERROR(VLOOKUP(D1006,'Study Area Site Variable'!$B$4:$H$1240,7,FALSE),0)","v":0},0,null,"Circle Hot Springs-Circle Hot Springs",18,0,0]
["2014-05-01","Fishing","Lake Creek","M 1004",null,59,{"$f":"IFERROR(VLOOKUP(D1007,'Study Area Site Variable'!$B$4:$J$1240,6,FALSE),0)","v":1},{"$f":"IFERROR(VLOOKUP(D1007,'Study Area Site Variable'!$B$4:$H$1240,7,FALSE),0)","v":0},0,null,"Clark Wolverine-Palmer",33,0,0]
["2014-05-01","Fishing","Cook Inlet- Ninlichik","NEI 994",null,56,{"$f":"IFERROR(VLOOKUP(D1008,'Study Area Site Variable'!$B$4:$J$1240,6,FALSE),0)","v":1},{"$f":"IFERROR(VLOOKUP(D1008,'Study Area Site Variable'!$B$4:$H$1240,7,FALSE),0)","v":0},4,null,"Clear Creek-Chena Pump Rd",10,0,0]
["2014-05-01","Fishing","Jack River (into Nenana)","U 0195",null,56,{"$f":"IFERROR(VLOOKUP(D1009,'Study Area Site Variable'!$B$4:$J$1240,6,FALSE),0)","v":0},{"$f":"IFERROR(VLOOKUP(D1009,'Study Area Site Variable'!$B$4:$H$1240,7,FALSE),0)","v":0},47,null,"Clear Creek-Tanana River",5,0,0]
["2014-05-01","Fishing","Eklutna Power Plant Raceway","K 0014",null,54,{"$f":"IFERROR(VLOOKUP(D1010,'Study Area Site Variable'!$B$4:$J$1240,6,FALSE),0)","v":0},{"$f":"IFERROR(VLOOKUP(D1010,'Study Area Site Variable'!$B$4:$H$1240,7,FALSE),0)","v":0},0,null,"Coal Creek-Healy",4,0,0]
["2014-05-01","Fishing","Salcha River","U 0005",null,53,{"$f":"IFERROR(VLOOKUP(D1011,'Study Area Site Variable'!$B$4:$J$1240,6,FALSE),0)","v":1},{"$f":"IFERROR(VLOOKUP(D1011,'Study Area Site Variable'!$B$4:$H$1240,7,FALSE),0)","v":0},0,null,"Cold Bay",9,0,0]
["2014-05-01","Fishing","Prince William Sound- Seward","NEI J 07415",null,52,{"$f":"IFERROR(VLOOKUP(D1012,'Study Area Site Variable'!$B$4:$J$1240,6,FALSE),0)","v":0},{"$f":"IFERROR(VLOOKUP(D1012,'Study Area Site Variable'!$B$4:$H$1240,7,FALSE),0)","v":0},0,null,"cold bay-izenbeck",18,0,0]
["2014-05-01","Fishing","Porcupine River drainage","Y 0024",null,50,{"$f":"IFERROR(VLOOKUP(D1013,'Study Area Site Variable'!$B$4:$J$1240,6,FALSE),0)","v":0},{"$f":"IFERROR(VLOOKUP(D1013,'Study Area Site Variable'!$B$4:$H$1240,7,FALSE),0)","v":0},0,null,"Copper River-Gakona",16,0,0]
["2014-05-01","Fishing","Cook Inlet- Homer","NEI 995",null,49,{"$f":"IFERROR(VLOOKUP(D1014,'Study Area Site Variable'!$B$4:$J$1240,6,FALSE),0)","v":0},{"$f":"IFERROR(VLOOKUP(D1014,'Study Area Site Variable'!$B$4:$H$1240,7,FALSE),0)","v":0},0,null,"Copper River-Tiekel",30,0,0]
["2014-05-01","Fishing","Bird Creek","L 0015",null,49,{"$f":"IFERROR(VLOOKUP(D1015,'Study Area Site Variable'!$B$4:$J$1240,6,FALSE),0)","v":1},{"$f":"IFERROR(VLOOKUP(D1015,'Study Area Site Variable'!$B$4:$H$1240,7,FALSE),0)","v":0},0,null,"Cordova",3,0,0]
["2014-05-01","Fishing","Cook Inlet- Seldovia","NEI 997",null,48,{"$f":"IFERROR(VLOOKUP(D1016,'Study Area Site Variable'!$B$4:$J$1240,6,FALSE),0)","v":0},{"$f":"IFERROR(VLOOKUP(D1016,'Study Area Site Variable'!$B$4:$H$1240,7,FALSE),0)","v":0},0,null,"Cosna River-Manley",9,0,0]
["2014-05-01","Fishing","Gulkana River (above Paxson)","I 0650",null,46,{"$f":"IFERROR(VLOOKUP(D1017,'Study Area Site Variable'!$B$4:$J$1240,6,FALSE),0)","v":0},{"$f":"IFERROR(VLOOKUP(D1017,'Study Area Site Variable'!$B$4:$H$1240,7,FALSE),0)","v":0},0,null,"Creamers Field-Fairbanks",10,0,0]
["2014-05-01","Fishing","Cook Inlet- Anchor Point","NEI 993",null,45,{"$f":"IFERROR(VLOOKUP(D1018,'Study Area Site Variable'!$B$4:$J$1240,6,FALSE),0)","v":1},{"$f":"IFERROR(VLOOKUP(D1018,'Study Area Site Variable'!$B$4:$H$1240,7,FALSE),0)","v":0},0,null,"Crescent Lake-Crescent Lake Trailhead",4,0,0]
["2014-05-01","Fishing","Cottonwood Lake","K 0131",null,44,{"$f":"IFERROR(VLOOKUP(D1019,'Study Area Site Variable'!$B$4:$J$1240,6,FALSE),0)","v":0},{"$f":"IFERROR(VLOOKUP(D1019,'Study Area Site Variable'!$B$4:$H$1240,7,FALSE),0)","v":0},0,null,"Crow Pass-Eagle River",6,0,0]
["2014-05-01","Fishing","Big Lake","K 0012",null,43,{"$f":"IFERROR(VLOOKUP(D1020,'Study Area Site Variable'!$B$4:$J$1240,6,FALSE),0)","v":0},{"$f":"IFERROR(VLOOKUP(D1020,'Study Area Site Variable'!$B$4:$H$1240,7,FALSE),0)","v":0},0,null,"Crown Point-Crown Point",5,0,0]
["2014-05-01","Fishing","Susitna Lake","M 3011",null,43,{"$f":"IFERROR(VLOOKUP(D1021,'Study Area Site Variable'!$B$4:$J$1240,6,FALSE),0)","v":0},{"$f":"IFERROR(VLOOKUP(D1021,'Study Area Site Variable'!$B$4:$H$1240,7,FALSE),0)","v":0},35,null,"Dalton Elliot Hwy Junction-Livengood",98,0,0]
["2014-05-01","Fishing","Tangle lakes and Tangle River","U 0015",null,42,{"$f":"IFERROR(VLOOKUP(D1022,'Study Area Site Variable'!$B$4:$J$1240,6,FALSE),0)","v":1},{"$f":"IFERROR(VLOOKUP(D1022,'Study Area Site Variable'!$B$4:$H$1240,7,FALSE),0)","v":0},0,null,"Dalton Highway",20,0,0]
["2014-05-01","Fishing","Cook Inlet- Deep Creek","NEI 992",null,41,{"$f":"IFERROR(VLOOKUP(D1023,'Study Area Site Variable'!$B$4:$J$1240,6,FALSE),0)","v":0},{"$f":"IFERROR(VLOOKUP(D1023,'Study Area Site Variable'!$B$4:$H$1240,7,FALSE),0)","v":0},4,null,"Dalton highway-Pump station 2",3,0,0]
["2014-05-01","Fishing","Campbell Creek","L 0016",null,39,{"$f":"IFERROR(VLOOKUP(D1024,'Study Area Site Variable'!$B$4:$J$1240,6,FALSE),0)","v":0},{"$f":"IFERROR(VLOOKUP(D1024,'Study Area Site Variable'!$B$4:$H$1240,7,FALSE),0)","v":0},0,null,"Dalton Hwy, Atigun Pass",7,0,0]
["2014-05-01","Fishing","Twentymile River","L 0017",null,39,{"$f":"IFERROR(VLOOKUP(D1025,'Study Area Site Variable'!$B$4:$J$1240,6,FALSE),0)","v":0},{"$f":"IFERROR(VLOOKUP(D1025,'Study Area Site Variable'!$B$4:$H$1240,7,FALSE),0)","v":0},0,null,"Dalton Hwy-Kavik River",5,0,0]
["2014-05-01","Fishing","Knik River","K 0469",null,38,{"$f":"IFERROR(VLOOKUP(D1026,'Study Area Site Variable'!$B$4:$J$1240,6,FALSE),0)","v":1},{"$f":"IFERROR(VLOOKUP(D1026,'Study Area Site Variable'!$B$4:$H$1240,7,FALSE),0)","v":0},0,null,"Dalton Hwy-S. Fork Koyukuk",2,0,0]
["2014-05-01","Fishing","Clear Creek","P00311",null,38,{"$f":"IFERROR(VLOOKUP(D1027,'Study Area Site Variable'!$B$4:$J$1240,6,FALSE),0)","v":1},{"$f":"IFERROR(VLOOKUP(D1027,'Study Area Site Variable'!$B$4:$H$1240,7,FALSE),0)","v":1},11,null,"Delta Clearwater",3,0,0]
["2014-05-01","Fishing","Sheep Creek","M 0009",null,36,{"$f":"IFERROR(VLOOKUP(D1028,'Study Area Site Variable'!$B$4:$J$1240,6,FALSE),0)","v":0},{"$f":"IFERROR(VLOOKUP(D1028,'Study Area Site Variable'!$B$4:$H$1240,7,FALSE),0)","v":0},10,null,"Delta Creek-Richardson",5,0,0]
["2014-05-01","Fishing","Anchor River","P00005",null,36,{"$f":"IFERROR(VLOOKUP(D1029,'Study Area Site Variable'!$B$4:$J$1240,6,FALSE),0)","v":0},{"$f":"IFERROR(VLOOKUP(D1029,'Study Area Site Variable'!$B$4:$H$1240,7,FALSE),0)","v":0},1,null,"Delta Highway Mile 83-Happy Valley",9,0,2]
["2014-05-01","Fishing","Lake Clark","S 0009",null,35,{"$f":"IFERROR(VLOOKUP(D1030,'Study Area Site Variable'!$B$4:$J$1240,6,FALSE),0)","v":0},{"$f":"IFERROR(VLOOKUP(D1030,'Study Area Site Variable'!$B$4:$H$1240,7,FALSE),0)","v":0},35,null,"Delta Junction-Delta junction",191,0,0]
["2014-05-01","Fishing","X and Y lakes (Talkeetna Lakes)","M 0190",null,34,{"$f":"IFERROR(VLOOKUP(D1031,'Study Area Site Variable'!$B$4:$J$1240,6,FALSE),0)","v":0},{"$f":"IFERROR(VLOOKUP(D1031,'Study Area Site Variable'!$B$4:$H$1240,7,FALSE),0)","v":0},34,null,"Delta Junction-Tanana",4,0,0]
["2014-05-01","Fishing","Indian River (into Susitna)","M 0141",null,33,{"$f":"IFERROR(VLOOKUP(D1032,'Study Area Site Variable'!$B$4:$J$1240,6,FALSE),0)","v":0},{"$f":"IFERROR(VLOOKUP(D1032,'Study Area Site Variable'!$B$4:$H$1240,7,FALSE),0)","v":0},0,null,"Denali Highway-Cantwell Side",152,26,2]
["2014-05-01","Fishing","Troublesome Creek","M 0181",null,33,{"$f":"IFERROR(VLOOKUP(D1033,'Study Area Site Variable'!$B$4:$J$1240,6,FALSE),0)","v":0},{"$f":"IFERROR(VLOOKUP(D1033,'Study Area Site Variable'!$B$4:$H$1240,7,FALSE),0)","v":0},27,null,"Denali Highway-Ferry",8,0,1]
["2014-05-01","Fishing","Quartz Creek","P00218",null,31,{"$f":"IFERROR(VLOOKUP(D1034,'Study Area Site Variable'!$B$4:$J$1240,6,FALSE),0)","v":0},{"$f":"IFERROR(VLOOKUP(D1034,'Study Area Site Variable'!$B$4:$H$1240,7,FALSE),0)","v":0},0,null,"Denali Highway-Maclaren River",96,0,2]
["2014-05-01","Fishing","Little Susitna River","K 0004",null,30,{"$f":"IFERROR(VLOOKUP(D1035,'Study Area Site Variable'!$B$4:$J$1240,6,FALSE),0)","v":0},{"$f":"IFERROR(VLOOKUP(D1035,'Study Area Site Variable'!$B$4:$H$1240,7,FALSE),0)","v":0},0,null,"Denali Highway-Susitna River Bridge",15,0,2]
["2014-05-01","Fishing","Clearwater Creek (Denali Highway)","M 3138",null,29,{"$f":"IFERROR(VLOOKUP(D1036,'Study Area Site Variable'!$B$4:$J$1240,6,FALSE),0)","v":1},{"$f":"IFERROR(VLOOKUP(D1036,'Study Area Site Variable'!$B$4:$H$1240,7,FALSE),0)","v":0},0,null,"Denali Highway-Tangle Lakes",60,0,2]
["2014-05-01","Fishing","Lake Louise (McCarthy)","I 0315",null,29,{"$f":"IFERROR(VLOOKUP(D1037,'Study Area Site Variable'!$B$4:$J$1240,6,FALSE),0)","v":0},{"$f":"IFERROR(VLOOKUP(D1037,'Study Area Site Variable'!$B$4:$H$1240,7,FALSE),0)","v":0},0,null,"Denali Highway-Unspecified",72,0,2]
["2014-05-01","Fishing","Sunshine Creek","M 0007",null,29,{"$f":"IFERROR(VLOOKUP(D1038,'Study Area Site Variable'!$B$4:$J$1240,6,FALSE),0)","v":1},{"$f":"IFERROR(VLOOKUP(D1038,'Study Area Site Variable'!$B$4:$H$1240,7,FALSE),0)","v":1},25,null,"Denali Hwy-Brushkana",9,0,1]
["2014-05-01","Fishing","Chitina River","I 0136",null,29,{"$f":"IFERROR(VLOOKUP(D1039,'Study Area Site Variable'!$B$4:$J$1240,6,FALSE),0)","v":0},{"$f":"IFERROR(VLOOKUP(D1039,'Study Area Site Variable'!$B$4:$H$1240,7,FALSE),0)","v":0},0,null,"Denali Hwy-Clearwater",43,0,1]
["2014-05-01","Fishing","Clarence Lake","M 0122",null,29,{"$f":"IFERROR(VLOOKUP(D1040,'Study Area Site Variable'!$B$4:$J$1240,6,FALSE),0)","v":0},{"$f":"IFERROR(VLOOKUP(D1040,'Study Area Site Variable'!$B$4:$H$1240,7,FALSE),0)","v":0},0,null,"Denali Hwy-Paxson",372,0,2]
["2014-05-01","Fishing","Prince William Sound (Boat/Shore Unspecified)","NEI J 0741",null,27,{"$f":"IFERROR(VLOOKUP(D1041,'Study Area Site Variable'!$B$4:$J$1240,6,FALSE),0)","v":0},{"$f":"IFERROR(VLOOKUP(D1041,'Study Area Site Variable'!$B$4:$H$1240,7,FALSE),0)","v":0},0,null,"Denali Hwy-Tangle Lakes",22,0,2]
["2014-05-01","Fishing","Paxson Lake","I 0013",null,27,{"$f":"IFERROR(VLOOKUP(D1042,'Study Area Site Variable'!$B$4:$J$1240,6,FALSE),0)","v":0},{"$f":"IFERROR(VLOOKUP(D1042,'Study Area Site Variable'!$B$4:$H$1240,7,FALSE),0)","v":0},0,null,"Denali Lake Trail-Mile Post 127 Parks Hwy",2,0,0]
["2014-05-01","Fishing","Tonsina River (Lower Tonsina River)","I 0287",null,27,{"$f":"IFERROR(VLOOKUP(D1043,'Study Area Site Variable'!$B$4:$J$1240,6,FALSE),0)","v":0},{"$f":"IFERROR(VLOOKUP(D1043,'Study Area Site Variable'!$B$4:$H$1240,7,FALSE),0)","v":0},0,null,"Denali State Park",12,10,2]
["2014-05-01","Fishing","Finger Lake","K 0009",null,26,{"$f":"IFERROR(VLOOKUP(D1044,'Study Area Site Variable'!$B$4:$J$1240,6,FALSE),0)","v":1},{"$f":"IFERROR(VLOOKUP(D1044,'Study Area Site Variable'!$B$4:$H$1240,7,FALSE),0)","v":0},0,null,"Dennsion River-Dome Creek Shelter Cabin",10,0,0]
["2014-05-01","Fishing","Chulitna River Middle Fork","M 0234",null,25,{"$f":"IFERROR(VLOOKUP(D1045,'Study Area Site Variable'!$B$4:$J$1240,6,FALSE),0)","v":0},{"$f":"IFERROR(VLOOKUP(D1045,'Study Area Site Variable'!$B$4:$H$1240,7,FALSE),0)","v":0},2,null,"Deshka River-Deshka Landing",5,0,0]
["2014-05-01","Fishing","Baxter Lake (Cheney Lake)","L 0023",null,25,{"$f":"IFERROR(VLOOKUP(D1046,'Study Area Site Variable'!$B$4:$J$1240,6,FALSE),0)","v":0},{"$f":"IFERROR(VLOOKUP(D1046,'Study Area Site Variable'!$B$4:$H$1240,7,FALSE),0)","v":0},0,null,"Dillingham",12,0,0]
["2014-05-01","Fishing","Threemile Lake (Third Lake, 3 Mile Lake)","I 0283",null,25,{"$f":"IFERROR(VLOOKUP(D1047,'Study Area Site Variable'!$B$4:$J$1240,6,FALSE),0)","v":0},{"$f":"IFERROR(VLOOKUP(D1047,'Study Area Site Variable'!$B$4:$H$1240,7,FALSE),0)","v":0},0,null,"Eagle Summit-Eagle, AK",9,0,0]
["2014-05-01","Fishing","Chena River - Lower (including Badger Slough)","U 0002",null,24,{"$f":"IFERROR(VLOOKUP(D1048,'Study Area Site Variable'!$B$4:$J$1240,6,FALSE),0)","v":1},{"$f":"IFERROR(VLOOKUP(D1048,'Study Area Site Variable'!$B$4:$H$1240,7,FALSE),0)","v":0},0,null,"Edgerton Hwy-Chitina",25,0,0]
["2014-05-01","Fishing","Chatanika River (reach unspecified)","U 0004",null,24,{"$f":"IFERROR(VLOOKUP(D1049,'Study Area Site Variable'!$B$4:$J$1240,6,FALSE),0)","v":0},{"$f":"IFERROR(VLOOKUP(D1049,'Study Area Site Variable'!$B$4:$H$1240,7,FALSE),0)","v":0},0,null,"Eillot Highway",16,0,0]
["2014-05-01","Fishing","Quartz Lake","U 0010",null,24,{"$f":"IFERROR(VLOOKUP(D1050,'Study Area Site Variable'!$B$4:$J$1240,6,FALSE),0)","v":1},{"$f":"IFERROR(VLOOKUP(D1050,'Study Area Site Variable'!$B$4:$H$1240,7,FALSE),0)","v":0},0,null,"Eklutna",6,0,0]
["2014-05-01","Fishing","Birch Lake (South Anchorage)","L 0214",null,24,{"$f":"IFERROR(VLOOKUP(D1051,'Study Area Site Variable'!$B$4:$J$1240,6,FALSE),0)","v":1},{"$f":"IFERROR(VLOOKUP(D1051,'Study Area Site Variable'!$B$4:$H$1240,7,FALSE),0)","v":0},0,null,"Elliott Hwy-Cushman Creek",2,0,0]
["2014-05-01","Fishing","Chitina lakes","I 0135",null,23,{"$f":"IFERROR(VLOOKUP(D1052,'Study Area Site Variable'!$B$4:$J$1240,6,FALSE),0)","v":0},{"$f":"IFERROR(VLOOKUP(D1052,'Study Area Site Variable'!$B$4:$H$1240,7,FALSE),0)","v":0},0,null,"Ester",9,0,0]
["2014-05-01","Fishing","Chatanika River - Lower (below Elliot Highway, incl. tribs)","U 0613",null,23,{"$f":"IFERROR(VLOOKUP(D1053,'Study Area Site Variable'!$B$4:$J$1240,6,FALSE),0)","v":0},{"$f":"IFERROR(VLOOKUP(D1053,'Study Area Site Variable'!$B$4:$H$1240,7,FALSE),0)","v":0},0,null,"Eureka Area-Eureka",34,0,0]
["2014-05-01","Fishing","Meiers Lake","I 0211",null,23,{"$f":"IFERROR(VLOOKUP(D1054,'Study Area Site Variable'!$B$4:$J$1240,6,FALSE),0)","v":0},{"$f":"IFERROR(VLOOKUP(D1054,'Study Area Site Variable'!$B$4:$H$1240,7,FALSE),0)","v":0},0,null,"Eureka-Glenn Highway",63,0,2]
["2014-05-01","Fishing","Susitna River - Upper","I 0267",null,23,{"$f":"IFERROR(VLOOKUP(D1055,'Study Area Site Variable'!$B$4:$J$1240,6,FALSE),0)","v":0},{"$f":"IFERROR(VLOOKUP(D1055,'Study Area Site Variable'!$B$4:$H$1240,7,FALSE),0)","v":0},23,null,"Eureka-Minto",26,0,0]
["2014-05-01","Fishing","Naknek River (dwnstream frm Rapids Camp incl trib)","R 0279",null,22,{"$f":"IFERROR(VLOOKUP(D1056,'Study Area Site Variable'!$B$4:$J$1240,6,FALSE),0)","v":0},{"$f":"IFERROR(VLOOKUP(D1056,'Study Area Site Variable'!$B$4:$H$1240,7,FALSE),0)","v":0},0,null,"Fairbanks Area",46,0,0]
["2014-05-01","Fishing","Birch Creek","M 0117",null,22,{"$f":"IFERROR(VLOOKUP(D1057,'Study Area Site Variable'!$B$4:$J$1240,6,FALSE),0)","v":0},{"$f":"IFERROR(VLOOKUP(D1057,'Study Area Site Variable'!$B$4:$H$1240,7,FALSE),0)","v":0},22,null,"Farewell, AK-Farewell, AK",23,0,0]
["2014-05-01","Fishing","Kobuk River","X 0004",null,21,{"$f":"IFERROR(VLOOKUP(D1058,'Study Area Site Variable'!$B$4:$J$1240,6,FALSE),0)","v":0},{"$f":"IFERROR(VLOOKUP(D1058,'Study Area Site Variable'!$B$4:$H$1240,7,FALSE),0)","v":0},0,null,"Fielding Lake-Fielding Lake State Recreation Site",7,0,1]
["2014-05-01","Fishing","Sixmile Creek","L 0211",null,21,{"$f":"IFERROR(VLOOKUP(D1059,'Study Area Site Variable'!$B$4:$J$1240,6,FALSE),0)","v":0},{"$f":"IFERROR(VLOOKUP(D1059,'Study Area Site Variable'!$B$4:$H$1240,7,FALSE),0)","v":0},0,null,"Fort Yukon",14,0,0]
["2014-05-01","Fishing","Allison Point (Shore)","J 0831",null,21,{"$f":"IFERROR(VLOOKUP(D1060,'Study Area Site Variable'!$B$4:$J$1240,6,FALSE),0)","v":0},{"$f":"IFERROR(VLOOKUP(D1060,'Study Area Site Variable'!$B$4:$H$1240,7,FALSE),0)","v":0},0,null,"friday creek-butte",27,0,0]
["2014-05-01","Fishing","Chena River - North Fork","U 0101",null,20,{"$f":"IFERROR(VLOOKUP(D1061,'Study Area Site Variable'!$B$4:$J$1240,6,FALSE),0)","v":0},{"$f":"IFERROR(VLOOKUP(D1061,'Study Area Site Variable'!$B$4:$H$1240,7,FALSE),0)","v":0},0,null,"Ft. Wainwright",5,0,0]
["2014-05-01","Fishing","Tyone Lake","M 3012",null,20,{"$f":"IFERROR(VLOOKUP(D1062,'Study Area Site Variable'!$B$4:$J$1240,6,FALSE),0)","v":0},{"$f":"IFERROR(VLOOKUP(D1062,'Study Area Site Variable'!$B$4:$H$1240,7,FALSE),0)","v":0},20,null,"Funny River Road-Daredevil Circle",3,0,0]
["2014-05-01","Fishing","Watana Lake","M 0180",null,20,{"$f":"IFERROR(VLOOKUP(D1063,'Study Area Site Variable'!$B$4:$J$1240,6,FALSE),0)","v":0},{"$f":"IFERROR(VLOOKUP(D1063,'Study Area Site Variable'!$B$4:$H$1240,7,FALSE),0)","v":0},0,null,"Gakona River-Denali Highway",6,0,0]
["2014-05-01","Fishing","Whiskey Gulch Area - Boat (non-charter)","P 10730",null,20,{"$f":"IFERROR(VLOOKUP(D1064,'Study Area Site Variable'!$B$4:$J$1240,6,FALSE),0)","v":0},{"$f":"IFERROR(VLOOKUP(D1064,'Study Area Site Variable'!$B$4:$H$1240,7,FALSE),0)","v":0},0,null,"Galkana River-Richardson Hwy Sourdough Campground",66,0,1]
["2014-05-01","Fishing","Tyone River","M 3296",null,20,{"$f":"IFERROR(VLOOKUP(D1065,'Study Area Site Variable'!$B$4:$J$1240,6,FALSE),0)","v":0},{"$f":"IFERROR(VLOOKUP(D1065,'Study Area Site Variable'!$B$4:$H$1240,7,FALSE),0)","v":0},20,null,"Gameunit 14B N.Fork Montana Crk-Montana Creek Campground",6,0,1]
["2014-05-01","Fishing","Nushagak River system (incl. Harris Creek, King Salmon R.)","T 0003",null,19,{"$f":"IFERROR(VLOOKUP(D1066,'Study Area Site Variable'!$B$4:$J$1240,6,FALSE),0)","v":1},{"$f":"IFERROR(VLOOKUP(D1066,'Study Area Site Variable'!$B$4:$H$1240,7,FALSE),0)","v":0},4,null,"George Lake Area",14,0,0]
["2014-05-01","Fishing","Skilak Lake","P00228",null,19,{"$f":"IFERROR(VLOOKUP(D1067,'Study Area Site Variable'!$B$4:$J$1240,6,FALSE),0)","v":0},{"$f":"IFERROR(VLOOKUP(D1067,'Study Area Site Variable'!$B$4:$H$1240,7,FALSE),0)","v":0},0,null,"Gerstle River-Delta Junction",18,0,0]
["2014-05-01","Fishing","Fire Lake (Upper and Lower)","L 0205",null,19,{"$f":"IFERROR(VLOOKUP(D1068,'Study Area Site Variable'!$B$4:$J$1240,6,FALSE),0)","v":0},{"$f":"IFERROR(VLOOKUP(D1068,'Study Area Site Variable'!$B$4:$H$1240,7,FALSE),0)","v":0},0,null,"Gillespie Lake-Gillespie Creek",16,0,1]
["2014-05-01","Fishing","Ingram Creek","L 0218",null,19,{"$f":"IFERROR(VLOOKUP(D1069,'Study Area Site Variable'!$B$4:$J$1240,6,FALSE),0)","v":0},{"$f":"IFERROR(VLOOKUP(D1069,'Study Area Site Variable'!$B$4:$H$1240,7,FALSE),0)","v":0},0,null,"Girdwood",4,0,0]
["2014-05-01","Fishing","Delta Clearwater","U 0006",null,18,{"$f":"IFERROR(VLOOKUP(D1070,'Study Area Site Variable'!$B$4:$J$1240,6,FALSE),0)","v":0},{"$f":"IFERROR(VLOOKUP(D1070,'Study Area Site Variable'!$B$4:$H$1240,7,FALSE),0)","v":0},0,null,"Glen Highway West of Caribou Creek-Meekins Roadhouse",2,0,1]
["2014-05-01","Fishing","Coal Mine Lake (Coal Mine Road)","U 0544",null,17,{"$f":"IFERROR(VLOOKUP(D1071,'Study Area Site Variable'!$B$4:$J$1240,6,FALSE),0)","v":0},{"$f":"IFERROR(VLOOKUP(D1071,'Study Area Site Variable'!$B$4:$H$1240,7,FALSE),0)","v":0},0,null,"Glenn Highway-Gunsight",4,0,1]
["2014-05-01","Fishing","Beach Lake","L 0021",null,17,{"$f":"IFERROR(VLOOKUP(D1072,'Study Area Site Variable'!$B$4:$J$1240,6,FALSE),0)","v":0},{"$f":"IFERROR(VLOOKUP(D1072,'Study Area Site Variable'!$B$4:$H$1240,7,FALSE),0)","v":0},0,null,"Glenn Highway-Unspecified",3,0,1]
["2014-05-01","Fishing","Tigger Lake (Talkeetna lakes)","M 0226",null,17,{"$f":"IFERROR(VLOOKUP(D1073,'Study Area Site Variable'!$B$4:$J$1240,6,FALSE),0)","v":0},{"$f":"IFERROR(VLOOKUP(D1073,'Study Area Site Variable'!$B$4:$H$1240,7,FALSE),0)","v":0},17,null,"Glenn Hwy-Copper Center",252,0,0]
["2014-05-01","Fishing","Portage Creek","L 0231",null,16,{"$f":"IFERROR(VLOOKUP(D1074,'Study Area Site Variable'!$B$4:$J$1240,6,FALSE),0)","v":0},{"$f":"IFERROR(VLOOKUP(D1074,'Study Area Site Variable'!$B$4:$H$1240,7,FALSE),0)","v":0},0,null,"Glenn Hwy-Sutton",3,0,0]
["2014-05-01","Fishing","Cooper Lake","P00145",null,16,{"$f":"IFERROR(VLOOKUP(D1075,'Study Area Site Variable'!$B$4:$J$1240,6,FALSE),0)","v":0},{"$f":"IFERROR(VLOOKUP(D1075,'Study Area Site Variable'!$B$4:$H$1240,7,FALSE),0)","v":0},0,null,"GMU 13D, Long Lake Area-Adjacent Long Lake",1,0,0]
["2014-05-01","Fishing","Roslyn Creek","Q 0175",null,16,{"$f":"IFERROR(VLOOKUP(D1076,'Study Area Site Variable'!$B$4:$J$1240,6,FALSE),0)","v":0},{"$f":"IFERROR(VLOOKUP(D1076,'Study Area Site Variable'!$B$4:$H$1240,7,FALSE),0)","v":0},0,null,"GMU 20A Rex Dome-Rex",24,0,0]
["2014-05-01","Fishing","Deep Creek","P00007",null,16,{"$f":"IFERROR(VLOOKUP(D1077,'Study Area Site Variable'!$B$4:$J$1240,6,FALSE),0)","v":0},{"$f":"IFERROR(VLOOKUP(D1077,'Study Area Site Variable'!$B$4:$H$1240,7,FALSE),0)","v":0},4,null,"GMU 20B Chatanika-Chatanika",3,0,0]
["2014-05-01","Fishing","Koyukuk R. - Middle Fork (accessed from Dalton Highway)","Y 0410",null,15,{"$f":"IFERROR(VLOOKUP(D1078,'Study Area Site Variable'!$B$4:$J$1240,6,FALSE),0)","v":0},{"$f":"IFERROR(VLOOKUP(D1078,'Study Area Site Variable'!$B$4:$H$1240,7,FALSE),0)","v":0},0,null,"GMU 22D-Kougarok",5,0,0]
["2014-05-01","Fishing","Day Harbor - Boat (non-charter)","P10874",null,15,{"$f":"IFERROR(VLOOKUP(D1079,'Study Area Site Variable'!$B$4:$J$1240,6,FALSE),0)","v":0},{"$f":"IFERROR(VLOOKUP(D1079,'Study Area Site Variable'!$B$4:$H$1240,7,FALSE),0)","v":0},0,null,"Goodpaster River-Delta Junction",7,0,0]
["2014-05-01","Fishing","Larson Creek","M 0186",null,15,{"$f":"IFERROR(VLOOKUP(D1080,'Study Area Site Variable'!$B$4:$J$1240,6,FALSE),0)","v":0},{"$f":"IFERROR(VLOOKUP(D1080,'Study Area Site Variable'!$B$4:$H$1240,7,FALSE),0)","v":0},4,null,"Goodpaster River-Tok",99,0,0]
["2014-05-01","Fishing","Pippin Lake","I 0355",null,15,{"$f":"IFERROR(VLOOKUP(D1081,'Study Area Site Variable'!$B$4:$J$1240,6,FALSE),0)","v":0},{"$f":"IFERROR(VLOOKUP(D1081,'Study Area Site Variable'!$B$4:$H$1240,7,FALSE),0)","v":0},0,null,"Goose Bay-Knik Goose Bay Road",3,0,0]
["2014-05-01","Fishing","Placer River","L 0219",null,14,{"$f":"IFERROR(VLOOKUP(D1082,'Study Area Site Variable'!$B$4:$J$1240,6,FALSE),0)","v":0},{"$f":"IFERROR(VLOOKUP(D1082,'Study Area Site Variable'!$B$4:$H$1240,7,FALSE),0)","v":0},0,null,"Granite Mountains-Coal Mine Road",2,0,0]
["2014-05-01","Fishing","Moose Creek (U)","I 0408",null,14,{"$f":"IFERROR(VLOOKUP(D1083,'Study Area Site Variable'!$B$4:$J$1240,6,FALSE),0)","v":0},{"$f":"IFERROR(VLOOKUP(D1083,'Study Area Site Variable'!$B$4:$H$1240,7,FALSE),0)","v":0},14,null,"Grays Creek-Parks Highway",4,0,0]
["2014-05-01","Fishing","Prince William Sound- Cordova","NEI J 07414",null,14,{"$f":"IFERROR(VLOOKUP(D1084,'Study Area Site Variable'!$B$4:$J$1240,6,FALSE),0)","v":1},{"$f":"IFERROR(VLOOKUP(D1084,'Study Area Site Variable'!$B$4:$H$1240,7,FALSE),0)","v":0},0,null,"Gulkana River-Paxson Lake",6,0,1]
["2014-05-01","Fishing","Caswell Creek","M 0005",null,13,{"$f":"IFERROR(VLOOKUP(D1085,'Study Area Site Variable'!$B$4:$J$1240,6,FALSE),0)","v":0},{"$f":"IFERROR(VLOOKUP(D1085,'Study Area Site Variable'!$B$4:$H$1240,7,FALSE),0)","v":0},0,null,"Hatcher Pass- Palmer Side",15,0,0]
["2014-05-01","Fishing","Goodpaster River","U 0008",null,13,{"$f":"IFERROR(VLOOKUP(D1086,'Study Area Site Variable'!$B$4:$J$1240,6,FALSE),0)","v":0},{"$f":"IFERROR(VLOOKUP(D1086,'Study Area Site Variable'!$B$4:$H$1240,7,FALSE),0)","v":0},0,null,"Hatcher Pass- Willow Side",8,0,0]
["2014-05-01","Fishing","Tonsina Lake","I 0341",null,13,{"$f":"IFERROR(VLOOKUP(D1087,'Study Area Site Variable'!$B$4:$J$1240,6,FALSE),0)","v":0},{"$f":"IFERROR(VLOOKUP(D1087,'Study Area Site Variable'!$B$4:$H$1240,7,FALSE),0)","v":0},0,null,"Hatchers Pass",15,0,0]
["2014-05-01","Fishing","Lost Lake","K 0157",null,13,{"$f":"IFERROR(VLOOKUP(D1088,'Study Area Site Variable'!$B$4:$J$1240,6,FALSE),0)","v":0},{"$f":"IFERROR(VLOOKUP(D1088,'Study Area Site Variable'!$B$4:$H$1240,7,FALSE),0)","v":0},0,null,"Healy Area-Healy",76,0,0]
["2014-05-01","Fishing","Seldovia Bay - Boat (non-charter)","P10746",null,13,{"$f":"IFERROR(VLOOKUP(D1089,'Study Area Site Variable'!$B$4:$J$1240,6,FALSE),0)","v":0},{"$f":"IFERROR(VLOOKUP(D1089,'Study Area Site Variable'!$B$4:$H$1240,7,FALSE),0)","v":0},0,null,"Hinchinbrook Island-Cordova",4,0,0]
["2014-05-01","Fishing","Silver Lake (next to Van Lake)","I 0004",null,13,{"$f":"IFERROR(VLOOKUP(D1090,'Study Area Site Variable'!$B$4:$J$1240,6,FALSE),0)","v":0},{"$f":"IFERROR(VLOOKUP(D1090,'Study Area Site Variable'!$B$4:$H$1240,7,FALSE),0)","v":0},0,null,"Hinchinbrook Island-Valdez",16,0,0]
["2014-05-01","Fishing","Cottonwood Creek","K 0007",null,13,{"$f":"IFERROR(VLOOKUP(D1091,'Study Area Site Variable'!$B$4:$J$1240,6,FALSE),0)","v":0},{"$f":"IFERROR(VLOOKUP(D1091,'Study Area Site Variable'!$B$4:$H$1240,7,FALSE),0)","v":0},0,null,"Honolulu Creek-Honolulu Parks Hwy",3,0,1]
["2014-05-01","Fishing","Yentna River","M 1277",null,13,{"$f":"IFERROR(VLOOKUP(D1092,'Study Area Site Variable'!$B$4:$J$1240,6,FALSE),0)","v":0},{"$f":"IFERROR(VLOOKUP(D1092,'Study Area Site Variable'!$B$4:$H$1240,7,FALSE),0)","v":0},0,null,"Hope-Hope Highway",6,0,0]
["2014-05-01","Fishing","Summit Lake","P00235",null,13,{"$f":"IFERROR(VLOOKUP(D1093,'Study Area Site Variable'!$B$4:$J$1240,6,FALSE),0)","v":0},{"$f":"IFERROR(VLOOKUP(D1093,'Study Area Site Variable'!$B$4:$H$1240,7,FALSE),0)","v":0},0,null,"Houston Area",27,0,0]
["2014-05-01","Fishing","Sixmile Lake (Elmendorf)","L 0011",null,12,{"$f":"IFERROR(VLOOKUP(D1094,'Study Area Site Variable'!$B$4:$J$1240,6,FALSE),0)","v":0},{"$f":"IFERROR(VLOOKUP(D1094,'Study Area Site Variable'!$B$4:$H$1240,7,FALSE),0)","v":0},0,null,"Hunter Creek-Palmer",2,0,0]
["2014-05-01","Fishing","Jim River (Dalton Highway)","Y 0015",null,12,{"$f":"IFERROR(VLOOKUP(D1095,'Study Area Site Variable'!$B$4:$J$1240,6,FALSE),0)","v":1},{"$f":"IFERROR(VLOOKUP(D1095,'Study Area Site Variable'!$B$4:$H$1240,7,FALSE),0)","v":0},0,null,"Indian Valley-Indian",10,0,0]
["2014-05-01","Fishing","C Street Lake (Taku Lake, Taku Campbell Lake)","L 0020",null,12,{"$f":"IFERROR(VLOOKUP(D1096,'Study Area Site Variable'!$B$4:$J$1240,6,FALSE),0)","v":0},{"$f":"IFERROR(VLOOKUP(D1096,'Study Area Site Variable'!$B$4:$H$1240,7,FALSE),0)","v":0},0,null,"Innokko River-Innokko River",2,0,0]
["2014-05-01","Fishing","Copper River","I 0141",null,12,{"$f":"IFERROR(VLOOKUP(D1097,'Study Area Site Variable'!$B$4:$J$1240,6,FALSE),0)","v":0},{"$f":"IFERROR(VLOOKUP(D1097,'Study Area Site Variable'!$B$4:$H$1240,7,FALSE),0)","v":0},0,null,"Innoko River-Shageluk",2,0,0]
["2014-05-01","Fishing","Amber Lake","M 1301",null,12,{"$f":"IFERROR(VLOOKUP(D1098,'Study Area Site Variable'!$B$4:$J$1240,6,FALSE),0)","v":0},{"$f":"IFERROR(VLOOKUP(D1098,'Study Area Site Variable'!$B$4:$H$1240,7,FALSE),0)","v":0},6,null,"Ivashack River-Sagwon",6,0,0]
["2014-05-01","Fishing","Ninilchik River","P00006",null,12,{"$f":"IFERROR(VLOOKUP(D1099,'Study Area Site Variable'!$B$4:$J$1240,6,FALSE),0)","v":0},{"$f":"IFERROR(VLOOKUP(D1099,'Study Area Site Variable'!$B$4:$H$1240,7,FALSE),0)","v":0},0,null,"Jarvis Creek-Alaska Highway",8,0,0]
["2014-05-01","Fishing","Knik River and Tributaries including Jim Creek","K 0005",null,11,{"$f":"IFERROR(VLOOKUP(D1100,'Study Area Site Variable'!$B$4:$J$1240,6,FALSE),0)","v":0},{"$f":"IFERROR(VLOOKUP(D1100,'Study Area Site Variable'!$B$4:$H$1240,7,FALSE),0)","v":0},0,null,"Jay Canyon-Denali Highway",16,0,2]
["2014-05-01","Fishing","Brushkana Creek","U 0137",null,11,{"$f":"IFERROR(VLOOKUP(D1101,'Study Area Site Variable'!$B$4:$J$1240,6,FALSE),0)","v":0},{"$f":"IFERROR(VLOOKUP(D1101,'Study Area Site Variable'!$B$4:$H$1240,7,FALSE),0)","v":0},2,null,"JBER",17,0,0]
["2014-05-01","Fishing","Tolsona Lake","I 0398",null,11,{"$f":"IFERROR(VLOOKUP(D1102,'Study Area Site Variable'!$B$4:$J$1240,6,FALSE),0)","v":0},{"$f":"IFERROR(VLOOKUP(D1102,'Study Area Site Variable'!$B$4:$H$1240,7,FALSE),0)","v":0},0,null,"Jim Creek-Palmer",6,0,0]
["2014-05-01","Fishing","Jewel Lake","L 0003",null,11,{"$f":"IFERROR(VLOOKUP(D1103,'Study Area Site Variable'!$B$4:$J$1240,6,FALSE),0)","v":0},{"$f":"IFERROR(VLOOKUP(D1103,'Study Area Site Variable'!$B$4:$H$1240,7,FALSE),0)","v":0},0,null,"Johnson Pass-Seward Highway",1,0,0]
["2014-05-01","Fishing","Piledriver Slough (including Moose Creek)","U 0319",null,11,{"$f":"IFERROR(VLOOKUP(D1104,'Study Area Site Variable'!$B$4:$J$1240,6,FALSE),0)","v":0},{"$f":"IFERROR(VLOOKUP(D1104,'Study Area Site Variable'!$B$4:$H$1240,7,FALSE),0)","v":0},0,null,"Kaglin Island-Kenai",21,0,0]
["2014-05-01","Fishing","Fourth of July Creek","J 0412",null,11,{"$f":"IFERROR(VLOOKUP(D1105,'Study Area Site Variable'!$B$4:$J$1240,6,FALSE),0)","v":0},{"$f":"IFERROR(VLOOKUP(D1105,'Study Area Site Variable'!$B$4:$H$1240,7,FALSE),0)","v":0},0,null,"Kaltag-Kaltag",12,0,0]
["2014-05-01","Fishing","Chandalar River - North Fork","Y 0054",null,11,{"$f":"IFERROR(VLOOKUP(D1106,'Study Area Site Variable'!$B$4:$J$1240,6,FALSE),0)","v":0},{"$f":"IFERROR(VLOOKUP(D1106,'Study Area Site Variable'!$B$4:$H$1240,7,FALSE),0)","v":0},0,null,"Kantishna-Kantishna",2,0,0]
["2014-05-01","Fishing","Mark Lake (Meadows Road)","U 0221",null,10,{"$f":"IFERROR(VLOOKUP(D1107,'Study Area Site Variable'!$B$4:$J$1240,6,FALSE),0)","v":0},{"$f":"IFERROR(VLOOKUP(D1107,'Study Area Site Variable'!$B$4:$H$1240,7,FALSE),0)","v":0},0,null,"Kasilof-Crooked Creek",5,0,0]
["2014-05-01","Fishing","Kepler Lake (Kepler Lake Complex)","K 0281",null,10,{"$f":"IFERROR(VLOOKUP(D1108,'Study Area Site Variable'!$B$4:$J$1240,6,FALSE),0)","v":1},{"$f":"IFERROR(VLOOKUP(D1108,'Study Area Site Variable'!$B$4:$H$1240,7,FALSE),0)","v":0},0,null,"Kenai Peninsula-Ninilchik",4,0,0]
["2014-05-01","Fishing","Sand Point (Shore)","R 0767",null,10,{"$f":"IFERROR(VLOOKUP(D1109,'Study Area Site Variable'!$B$4:$J$1240,6,FALSE),0)","v":0},{"$f":"IFERROR(VLOOKUP(D1109,'Study Area Site Variable'!$B$4:$H$1240,7,FALSE),0)","v":0},0,null,"Kenai Peninsula-Summit Lake",15,0,0]
["2014-05-01","Fishing","Resurrection River (Russian to Resurrection Bay)","J 0415",null,10,{"$f":"IFERROR(VLOOKUP(D1110,'Study Area Site Variable'!$B$4:$J$1240,6,FALSE),0)","v":0},{"$f":"IFERROR(VLOOKUP(D1110,'Study Area Site Variable'!$B$4:$H$1240,7,FALSE),0)","v":0},0,null,"Kenny Lake",226,0,0]
["2014-05-01","Fishing","Grayling Lake (Eielson AFB)","U 0188",null,10,{"$f":"IFERROR(VLOOKUP(D1111,'Study Area Site Variable'!$B$4:$J$1240,6,FALSE),0)","v":0},{"$f":"IFERROR(VLOOKUP(D1111,'Study Area Site Variable'!$B$4:$H$1240,7,FALSE),0)","v":0},0,null,"Kings River-Glenn Highway",14,0,2]
["2014-05-01","Fishing","Tutka Bay - Boat/Shore & Charter/Non-charter Unspecified","NEI P10737",null,10,{"$f":"IFERROR(VLOOKUP(D1112,'Study Area Site Variable'!$B$4:$J$1240,6,FALSE),0)","v":0},{"$f":"IFERROR(VLOOKUP(D1112,'Study Area Site Variable'!$B$4:$H$1240,7,FALSE),0)","v":0},0,null,"Knik",8,0,0]
["2014-05-01","Fishing","Talachulitna River","M 1007",null,10,{"$f":"IFERROR(VLOOKUP(D1113,'Study Area Site Variable'!$B$4:$J$1240,6,FALSE),0)","v":1},{"$f":"IFERROR(VLOOKUP(D1113,'Study Area Site Variable'!$B$4:$H$1240,7,FALSE),0)","v":0},0,null,"Knik Goose Bay Road",6,0,0]
["2014-05-01","Fishing","Trapper Creek (into Kroto Creek)","M 1263",null,10,{"$f":"IFERROR(VLOOKUP(D1114,'Study Area Site Variable'!$B$4:$J$1240,6,FALSE),0)","v":0},{"$f":"IFERROR(VLOOKUP(D1114,'Study Area Site Variable'!$B$4:$H$1240,7,FALSE),0)","v":0},10,null,"Knik River",1,0,0]
["2014-05-01","Fishing","Matanuska Lake (Kepler Lake Complex)","K 0295",null,10,{"$f":"IFERROR(VLOOKUP(D1115,'Study Area Site Variable'!$B$4:$J$1240,6,FALSE),0)","v":0},{"$f":"IFERROR(VLOOKUP(D1115,'Study Area Site Variable'!$B$4:$H$1240,7,FALSE),0)","v":0},0,null,"Kodiak Island",131,0,0]
["2014-05-01","Fishing","Dune Lake","U 0408",null,10,{"$f":"IFERROR(VLOOKUP(D1116,'Study Area Site Variable'!$B$4:$J$1240,6,FALSE),0)","v":0},{"$f":"IFERROR(VLOOKUP(D1116,'Study Area Site Variable'!$B$4:$H$1240,7,FALSE),0)","v":0},0,null,"Kotzebue-Anchorage",57,9,0]
["2014-05-01","Fishing","Bird Creek Mouth (Boat)","L 0736",null,10,{"$f":"IFERROR(VLOOKUP(D1117,'Study Area Site Variable'!$B$4:$J$1240,6,FALSE),0)","v":0},{"$f":"IFERROR(VLOOKUP(D1117,'Study Area Site Variable'!$B$4:$H$1240,7,FALSE),0)","v":0},0,null,"Koyokuk River-Koyokuk",8,0,0]
["2014-05-01","Fishing","Moose Creek (into Nenana)","U 0413",null,10,{"$f":"IFERROR(VLOOKUP(D1118,'Study Area Site Variable'!$B$4:$J$1240,6,FALSE),0)","v":0},{"$f":"IFERROR(VLOOKUP(D1118,'Study Area Site Variable'!$B$4:$H$1240,7,FALSE),0)","v":0},0,null,"Koyukuk River-Galena",30,0,0]
["2014-05-01","Fishing","West Beaver Lake","K 0185",null,10,{"$f":"IFERROR(VLOOKUP(D1119,'Study Area Site Variable'!$B$4:$J$1240,6,FALSE),0)","v":0},{"$f":"IFERROR(VLOOKUP(D1119,'Study Area Site Variable'!$B$4:$H$1240,7,FALSE),0)","v":0},0,null,"Kroto-Oil Well Rd",51,0,0]
["2014-05-01","Fishing","Fish Creek (Big Lake drainage)","K 0234",null,10,{"$f":"IFERROR(VLOOKUP(D1120,'Study Area Site Variable'!$B$4:$J$1240,6,FALSE),0)","v":0},{"$f":"IFERROR(VLOOKUP(D1120,'Study Area Site Variable'!$B$4:$H$1240,7,FALSE),0)","v":0},0,null,"Lake Alms",6,0,0]
["2014-05-01","Fishing","Denali Highway streams and lakes","M 3487",null,10,{"$f":"IFERROR(VLOOKUP(D1121,'Study Area Site Variable'!$B$4:$J$1240,6,FALSE),0)","v":0},{"$f":"IFERROR(VLOOKUP(D1121,'Study Area Site Variable'!$B$4:$H$1240,7,FALSE),0)","v":0},4,null,"Lake Clark area-Port Alsworth",11,8,0]
["2014-05-01","Fishing","Tazlina River","I 0273",null,10,{"$f":"IFERROR(VLOOKUP(D1122,'Study Area Site Variable'!$B$4:$J$1240,6,FALSE),0)","v":0},{"$f":"IFERROR(VLOOKUP(D1122,'Study Area Site Variable'!$B$4:$H$1240,7,FALSE),0)","v":0},0,null,"Lake Creek-Deshka Landing",4,0,0]
["2014-05-01","Fishing","Raspberry Strait (Boat) - Afognak Island","Q 0798",null,10,{"$f":"IFERROR(VLOOKUP(D1123,'Study Area Site Variable'!$B$4:$J$1240,6,FALSE),0)","v":0},{"$f":"IFERROR(VLOOKUP(D1123,'Study Area Site Variable'!$B$4:$H$1240,7,FALSE),0)","v":0},0,null,"Lake Creek-Skwentna",8,0,0]
["2014-05-01","Fishing","Soule Lake","U 1054",null,10,{"$f":"IFERROR(VLOOKUP(D1124,'Study Area Site Variable'!$B$4:$J$1240,6,FALSE),0)","v":0},{"$f":"IFERROR(VLOOKUP(D1124,'Study Area Site Variable'!$B$4:$H$1240,7,FALSE),0)","v":0},10,null,"lake george (east of palmer)-Birchwood",3,0,0]
["2014-05-01","Fishing","Little Willow Creek","M 0010",null,10,{"$f":"IFERROR(VLOOKUP(D1125,'Study Area Site Variable'!$B$4:$J$1240,6,FALSE),0)","v":0},{"$f":"IFERROR(VLOOKUP(D1125,'Study Area Site Variable'!$B$4:$H$1240,7,FALSE),0)","v":0},0,null,"Lake Louise",171,87,2]
["2014-05-01","Fishing","Yukon River (reach unspecified)","Y 0103",null,10,{"$f":"IFERROR(VLOOKUP(D1126,'Study Area Site Variable'!$B$4:$J$1240,6,FALSE),0)","v":0},{"$f":"IFERROR(VLOOKUP(D1126,'Study Area Site Variable'!$B$4:$H$1240,7,FALSE),0)","v":0},0,null,"Little Delta River",14,0,0]
["2014-05-01","Fishing","Byers Lake","M 0177",null,10,{"$f":"IFERROR(VLOOKUP(D1127,'Study Area Site Variable'!$B$4:$J$1240,6,FALSE),0)","v":0},{"$f":"IFERROR(VLOOKUP(D1127,'Study Area Site Variable'!$B$4:$H$1240,7,FALSE),0)","v":0},0,null,"Little Detta River Drainage-Summit Lake",9,0,0]
["2014-05-01","Fishing","Kashwitna River","M 0143",null,9,{"$f":"IFERROR(VLOOKUP(D1128,'Study Area Site Variable'!$B$4:$J$1240,6,FALSE),0)","v":1},{"$f":"IFERROR(VLOOKUP(D1128,'Study Area Site Variable'!$B$4:$H$1240,7,FALSE),0)","v":1},0,null,"Little Salcha Valley-Salcha",36,0,0]
["2014-05-01","Fishing","Buskin River","Q 0003",null,9,{"$f":"IFERROR(VLOOKUP(D1129,'Study Area Site Variable'!$B$4:$J$1240,6,FALSE),0)","v":0},{"$f":"IFERROR(VLOOKUP(D1129,'Study Area Site Variable'!$B$4:$H$1240,7,FALSE),0)","v":0},0,null,"Little Susitna River",5,0,0]
["2014-05-01","Fishing","Shaktoolik River","W 0041",null,9,{"$f":"IFERROR(VLOOKUP(D1130,'Study Area Site Variable'!$B$4:$J$1240,6,FALSE),0)","v":0},{"$f":"IFERROR(VLOOKUP(D1130,'Study Area Site Variable'!$B$4:$H$1240,7,FALSE),0)","v":0},0,null,"Lower Susitna-Deshka River",21,0,0]
["2014-05-01","Fishing","Squirrel Creek","I 0263",null,9,{"$f":"IFERROR(VLOOKUP(D1131,'Study Area Site Variable'!$B$4:$J$1240,6,FALSE),0)","v":0},{"$f":"IFERROR(VLOOKUP(D1131,'Study Area Site Variable'!$B$4:$H$1240,7,FALSE),0)","v":0},0,null,"Lower Susitna-Port of Anchorage",5,0,0]
["2014-05-01","Fishing","Chena River - below dam","U 1050",null,9,{"$f":"IFERROR(VLOOKUP(D1132,'Study Area Site Variable'!$B$4:$J$1240,6,FALSE),0)","v":0},{"$f":"IFERROR(VLOOKUP(D1132,'Study Area Site Variable'!$B$4:$H$1240,7,FALSE),0)","v":0},0,null,"Manley Hot Springs-Manley",18,0,0]
["2014-05-01","Fishing","Squirrel Creek Gravel Pit (Gravel Pit Lake)","I 0170",null,9,{"$f":"IFERROR(VLOOKUP(D1133,'Study Area Site Variable'!$B$4:$J$1240,6,FALSE),0)","v":0},{"$f":"IFERROR(VLOOKUP(D1133,'Study Area Site Variable'!$B$4:$H$1240,7,FALSE),0)","v":0},0,null,"Matanuska Valley-Glacier View",10,0,0]
["2014-05-01","Fishing","Sinuk River","W 0022",null,9,{"$f":"IFERROR(VLOOKUP(D1134,'Study Area Site Variable'!$B$4:$J$1240,6,FALSE),0)","v":0},{"$f":"IFERROR(VLOOKUP(D1134,'Study Area Site Variable'!$B$4:$H$1240,7,FALSE),0)","v":0},0,null,"Mat-Su Glacier-Glenn Highway",2,0,0]
["2014-05-01","Fishing","Sourdough Creek","I 0259",null,9,{"$f":"IFERROR(VLOOKUP(D1135,'Study Area Site Variable'!$B$4:$J$1240,6,FALSE),0)","v":0},{"$f":"IFERROR(VLOOKUP(D1135,'Study Area Site Variable'!$B$4:$H$1240,7,FALSE),0)","v":0},0,null,"Maud Lake",8,0,0]
["2014-05-01","Fishing","Bathing Beauty Pond","U 0186",null,9,{"$f":"IFERROR(VLOOKUP(D1136,'Study Area Site Variable'!$B$4:$J$1240,6,FALSE),0)","v":0},{"$f":"IFERROR(VLOOKUP(D1136,'Study Area Site Variable'!$B$4:$H$1240,7,FALSE),0)","v":0},0,null,"McCarthy",23,0,0]
["2014-05-01","Fishing","Christiansen Lake","M 0191",null,9,{"$f":"IFERROR(VLOOKUP(D1137,'Study Area Site Variable'!$B$4:$J$1240,6,FALSE),0)","v":0},{"$f":"IFERROR(VLOOKUP(D1137,'Study Area Site Variable'!$B$4:$H$1240,7,FALSE),0)","v":0},5,null,"McGrath",4,0,0]
["2014-05-01","Fishing","Crosswind Lake","I 0008",null,9,{"$f":"IFERROR(VLOOKUP(D1138,'Study Area Site Variable'!$B$4:$J$1240,6,FALSE),0)","v":0},{"$f":"IFERROR(VLOOKUP(D1138,'Study Area Site Variable'!$B$4:$H$1240,7,FALSE),0)","v":0},0,null,"Meirs Lake",2,0,2]
["2014-05-01","Fishing","Nancy Lake","K 0013",null,9,{"$f":"IFERROR(VLOOKUP(D1139,'Study Area Site Variable'!$B$4:$J$1240,6,FALSE),0)","v":0},{"$f":"IFERROR(VLOOKUP(D1139,'Study Area Site Variable'!$B$4:$H$1240,7,FALSE),0)","v":0},0,null,"Mentasta",25,0,0]
["2014-05-01","Fishing","Port Graham - Boat (non-charter)","P10806",null,9,{"$f":"IFERROR(VLOOKUP(D1140,'Study Area Site Variable'!$B$4:$J$1240,6,FALSE),0)","v":0},{"$f":"IFERROR(VLOOKUP(D1140,'Study Area Site Variable'!$B$4:$H$1240,7,FALSE),0)","v":0},0,null,"Miller Creek-Richardson Highway",5,0,2]
["2014-05-01","Fishing","George Lake","U 0011",null,8,{"$f":"IFERROR(VLOOKUP(D1141,'Study Area Site Variable'!$B$4:$J$1240,6,FALSE),0)","v":0},{"$f":"IFERROR(VLOOKUP(D1141,'Study Area Site Variable'!$B$4:$H$1240,7,FALSE),0)","v":0},0,null,"Minto Flats",24,0,2]
["2014-05-01","Fishing","Pungokepuk Creek","T 0132",null,8,{"$f":"IFERROR(VLOOKUP(D1142,'Study Area Site Variable'!$B$4:$J$1240,6,FALSE),0)","v":0},{"$f":"IFERROR(VLOOKUP(D1142,'Study Area Site Variable'!$B$4:$H$1240,7,FALSE),0)","v":0},0,null,"Montana Creek-Parks Highway",3,0,2]
["2014-05-01","Fishing","Kanektok River (Quinhagak, Chosen)","V 0003",null,8,{"$f":"IFERROR(VLOOKUP(D1143,'Study Area Site Variable'!$B$4:$J$1240,6,FALSE),0)","v":0},{"$f":"IFERROR(VLOOKUP(D1143,'Study Area Site Variable'!$B$4:$H$1240,7,FALSE),0)","v":0},0,null,"Moose Pass/Trail Lake-Moose Pass",3,0,0]
["2014-05-01","Fishing","Peters Creek (Peters Creek Road)","M 1220",null,8,{"$f":"IFERROR(VLOOKUP(D1144,'Study Area Site Variable'!$B$4:$J$1240,6,FALSE),0)","v":1},{"$f":"IFERROR(VLOOKUP(D1144,'Study Area Site Variable'!$B$4:$H$1240,7,FALSE),0)","v":0},4,null,"Moose Range-Palmer",2,0,0]
["2014-05-01","Fishing","Fivemile Clearwater","U 0173",null,8,{"$f":"IFERROR(VLOOKUP(D1145,'Study Area Site Variable'!$B$4:$J$1240,6,FALSE),0)","v":0},{"$f":"IFERROR(VLOOKUP(D1145,'Study Area Site Variable'!$B$4:$H$1240,7,FALSE),0)","v":0},0,null,"Murphy Dome",18,0,0]
["2014-05-01","Fishing","Bradley Lake (Kepler Lake Complex)","K 0277",null,8,{"$f":"IFERROR(VLOOKUP(D1146,'Study Area Site Variable'!$B$4:$J$1240,6,FALSE),0)","v":0},{"$f":"IFERROR(VLOOKUP(D1146,'Study Area Site Variable'!$B$4:$H$1240,7,FALSE),0)","v":0},0,null,"Murphy Dome-Fox",1,0,0]
["2014-05-01","Fishing","Dutch Harbor streams","R 0198",null,7,{"$f":"IFERROR(VLOOKUP(D1147,'Study Area Site Variable'!$B$4:$J$1240,6,FALSE),0)","v":0},{"$f":"IFERROR(VLOOKUP(D1147,'Study Area Site Variable'!$B$4:$H$1240,7,FALSE),0)","v":0},0,null,"Nabesna Road",49,0,0]
["2014-05-01","Fishing","Red Creek (into Johnson River)","N 0284",null,7,{"$f":"IFERROR(VLOOKUP(D1148,'Study Area Site Variable'!$B$4:$J$1240,6,FALSE),0)","v":0},{"$f":"IFERROR(VLOOKUP(D1148,'Study Area Site Variable'!$B$4:$H$1240,7,FALSE),0)","v":0},0,null,"Near Fairbanks-Ski Loop Trail/Summit Trail",5,0,0]
["2014-05-01","Fishing","Tikchik River (Tikchik-Nuyakuk Lake system)","T 0170",null,7,{"$f":"IFERROR(VLOOKUP(D1149,'Study Area Site Variable'!$B$4:$J$1240,6,FALSE),0)","v":0},{"$f":"IFERROR(VLOOKUP(D1149,'Study Area Site Variable'!$B$4:$H$1240,7,FALSE),0)","v":0},0,null,"Nebesna Road-Slana",51,0,0]
["2014-05-01","Fishing","Long Lake (Kepler Lake Complex)","K 0294",null,7,{"$f":"IFERROR(VLOOKUP(D1150,'Study Area Site Variable'!$B$4:$J$1240,6,FALSE),0)","v":0},{"$f":"IFERROR(VLOOKUP(D1150,'Study Area Site Variable'!$B$4:$H$1240,7,FALSE),0)","v":0},0,null,"Nelchina-Glenn Highway",16,0,0]
["2014-05-01","Fishing","Honolulu Creek","M 0183",null,7,{"$f":"IFERROR(VLOOKUP(D1151,'Study Area Site Variable'!$B$4:$J$1240,6,FALSE),0)","v":0},{"$f":"IFERROR(VLOOKUP(D1151,'Study Area Site Variable'!$B$4:$H$1240,7,FALSE),0)","v":0},0,null,"Nixson Fork-Upper Kuskokwim",2,0,0]
["2014-05-01","Fishing","Copper Lake","I 0140",null,7,{"$f":"IFERROR(VLOOKUP(D1152,'Study Area Site Variable'!$B$4:$J$1240,6,FALSE),0)","v":0},{"$f":"IFERROR(VLOOKUP(D1152,'Study Area Site Variable'!$B$4:$H$1240,7,FALSE),0)","v":0},0,null,"Noetah-Kotzebue",14,0,0]
["2014-05-01","Fishing","Ugashik Bay (Boat)","R 0884",null,7,{"$f":"IFERROR(VLOOKUP(D1153,'Study Area Site Variable'!$B$4:$J$1240,6,FALSE),0)","v":0},{"$f":"IFERROR(VLOOKUP(D1153,'Study Area Site Variable'!$B$4:$H$1240,7,FALSE),0)","v":0},0,null,"Nome Creek-Davidson Ditch",3,0,0]
["2014-05-01","Fishing","Lower Fire Lake","L 0006",null,7,{"$f":"IFERROR(VLOOKUP(D1154,'Study Area Site Variable'!$B$4:$J$1240,6,FALSE),0)","v":0},{"$f":"IFERROR(VLOOKUP(D1154,'Study Area Site Variable'!$B$4:$H$1240,7,FALSE),0)","v":0},0,null,"North Fork Chandalar River-20 miles north of Chandalar lake",12,0,0]
["2014-05-01","Fishing","Benka Lake","M 0114",null,7,{"$f":"IFERROR(VLOOKUP(D1155,'Study Area Site Variable'!$B$4:$J$1240,6,FALSE),0)","v":0},{"$f":"IFERROR(VLOOKUP(D1155,'Study Area Site Variable'!$B$4:$H$1240,7,FALSE),0)","v":0},7,null,"North Slope-Dalton Highway",7,0,0]
["2014-05-01","Fishing","Lucile Lake","K 0011",null,7,{"$f":"IFERROR(VLOOKUP(D1156,'Study Area Site Variable'!$B$4:$J$1240,6,FALSE),0)","v":0},{"$f":"IFERROR(VLOOKUP(D1156,'Study Area Site Variable'!$B$4:$H$1240,7,FALSE),0)","v":0},0,null,"North Slope-Oksrukuyik",21,0,0]
["2014-05-01","Fishing","Ballaine Lake (Fairbanks)","U 0620",null,7,{"$f":"IFERROR(VLOOKUP(D1157,'Study Area Site Variable'!$B$4:$J$1240,6,FALSE),0)","v":0},{"$f":"IFERROR(VLOOKUP(D1157,'Study Area Site Variable'!$B$4:$H$1240,7,FALSE),0)","v":0},0,null,"Nowitna river-Yukon River bridge",13,0,0]
["2014-05-01","Fishing","Kalsin Bay (Boat)","Q 0738",null,7,{"$f":"IFERROR(VLOOKUP(D1158,'Study Area Site Variable'!$B$4:$J$1240,6,FALSE),0)","v":0},{"$f":"IFERROR(VLOOKUP(D1158,'Study Area Site Variable'!$B$4:$H$1240,7,FALSE),0)","v":0},0,null,"Olnes Ponds-Olnes",6,0,0]
["2014-05-01","Fishing","Kazakof Bay (Boat) - Afognak Island","Q 0902",null,7,{"$f":"IFERROR(VLOOKUP(D1159,'Study Area Site Variable'!$B$4:$J$1240,6,FALSE),0)","v":0},{"$f":"IFERROR(VLOOKUP(D1159,'Study Area Site Variable'!$B$4:$H$1240,7,FALSE),0)","v":0},0,null,"Palmer Area",5,0,0]
["2014-05-01","Fishing","Koyukuk River - Middle Fork (Dalton Highway)","Y 0064",null,7,{"$f":"IFERROR(VLOOKUP(D1160,'Study Area Site Variable'!$B$4:$J$1240,6,FALSE),0)","v":0},{"$f":"IFERROR(VLOOKUP(D1160,'Study Area Site Variable'!$B$4:$H$1240,7,FALSE),0)","v":0},0,null,"Palmer Hay Flats",49,5,0]
["2014-05-01","Fishing","Gulf of Alaska- Seward","J 10781",null,6,{"$f":"IFERROR(VLOOKUP(D1161,'Study Area Site Variable'!$B$4:$J$1240,6,FALSE),0)","v":0},{"$f":"IFERROR(VLOOKUP(D1161,'Study Area Site Variable'!$B$4:$H$1240,7,FALSE),0)","v":0},0,null,"Paxton",5,0,2]
["2014-05-01","Fishing","Iliamna Bay (Boat)","N 0756",null,6,{"$f":"IFERROR(VLOOKUP(D1162,'Study Area Site Variable'!$B$4:$J$1240,6,FALSE),0)","v":0},{"$f":"IFERROR(VLOOKUP(D1162,'Study Area Site Variable'!$B$4:$H$1240,7,FALSE),0)","v":0},0,null,"Peters Creek",5,0,0]
["2014-05-01","Fishing","Silver Salmon Creek","N 0237",null,6,{"$f":"IFERROR(VLOOKUP(D1163,'Study Area Site Variable'!$B$4:$J$1240,6,FALSE),0)","v":0},{"$f":"IFERROR(VLOOKUP(D1163,'Study Area Site Variable'!$B$4:$H$1240,7,FALSE),0)","v":0},0,null,"Petersville-Talkeetna",129,38,0]
["2014-05-01","Fishing","Gulf of Alaska- Valdez","J 10783",null,6,{"$f":"IFERROR(VLOOKUP(D1164,'Study Area Site Variable'!$B$4:$J$1240,6,FALSE),0)","v":0},{"$f":"IFERROR(VLOOKUP(D1164,'Study Area Site Variable'!$B$4:$H$1240,7,FALSE),0)","v":0},0,null,"Petersville-Trapper Creek",187,92,0]
["2014-05-01","Fishing","Sawmill Bay (Boat)","J 0776",null,6,{"$f":"IFERROR(VLOOKUP(D1165,'Study Area Site Variable'!$B$4:$J$1240,6,FALSE),0)","v":0},{"$f":"IFERROR(VLOOKUP(D1165,'Study Area Site Variable'!$B$4:$H$1240,7,FALSE),0)","v":0},0,null,"Point Mackenzie",61,0,0]
["2014-05-01","Fishing","Eastern PWS (Boat) - Trip to Whittier, Chenega or West PWS","J 1202",null,6,{"$f":"IFERROR(VLOOKUP(D1166,'Study Area Site Variable'!$B$4:$J$1240,6,FALSE),0)","v":0},{"$f":"IFERROR(VLOOKUP(D1166,'Study Area Site Variable'!$B$4:$H$1240,7,FALSE),0)","v":0},0,null,"Poker Creek-Boundery, AK",61,0,0]
["2014-05-01","Fishing","Shell Lake","M 1012",null,6,{"$f":"IFERROR(VLOOKUP(D1167,'Study Area Site Variable'!$B$4:$J$1240,6,FALSE),0)","v":0},{"$f":"IFERROR(VLOOKUP(D1167,'Study Area Site Variable'!$B$4:$H$1240,7,FALSE),0)","v":0},0,null,"Port Lions-Port Lions",3,0,0]
["2014-05-01","Fishing","Little Susitna River- Houston","K 00041",null,6,{"$f":"IFERROR(VLOOKUP(D1168,'Study Area Site Variable'!$B$4:$J$1240,6,FALSE),0)","v":0},{"$f":"IFERROR(VLOOKUP(D1168,'Study Area Site Variable'!$B$4:$H$1240,7,FALSE),0)","v":0},0,null,"Portage Area",30,0,0]
["2014-05-01","Fishing","Bonnie Lake (30 miles NE Palmer) (Lower Bonnie)","K 0124",null,6,{"$f":"IFERROR(VLOOKUP(D1169,'Study Area Site Variable'!$B$4:$J$1240,6,FALSE),0)","v":0},{"$f":"IFERROR(VLOOKUP(D1169,'Study Area Site Variable'!$B$4:$H$1240,7,FALSE),0)","v":0},0,null,"Prince of Wales Island ",17,0,0]
["2014-05-01","Fishing","Delta River (below Tangle lakes)","U 0017",null,6,{"$f":"IFERROR(VLOOKUP(D1170,'Study Area Site Variable'!$B$4:$J$1240,6,FALSE),0)","v":0},{"$f":"IFERROR(VLOOKUP(D1170,'Study Area Site Variable'!$B$4:$H$1240,7,FALSE),0)","v":0},0,null,"Prince William Sound-Whittier",60,0,0]
["2014-05-01","Fishing","Ivishak River (Dalton Highway)","Z 0022",null,6,{"$f":"IFERROR(VLOOKUP(D1171,'Study Area Site Variable'!$B$4:$J$1240,6,FALSE),0)","v":0},{"$f":"IFERROR(VLOOKUP(D1171,'Study Area Site Variable'!$B$4:$H$1240,7,FALSE),0)","v":0},0,null,"Quartz Lake-Big Delta",13,0,0]
["2014-05-01","Fishing","Grizzly Lake","I 0332",null,6,{"$f":"IFERROR(VLOOKUP(D1172,'Study Area Site Variable'!$B$4:$J$1240,6,FALSE),0)","v":0},{"$f":"IFERROR(VLOOKUP(D1172,'Study Area Site Variable'!$B$4:$H$1240,7,FALSE),0)","v":0},0,null,"Rabbit Slough-Wasilla",69,0,0]
["2014-05-01","Fishing","Noatak River","X 0003",null,6,{"$f":"IFERROR(VLOOKUP(D1173,'Study Area Site Variable'!$B$4:$J$1240,6,FALSE),0)","v":0},{"$f":"IFERROR(VLOOKUP(D1173,'Study Area Site Variable'!$B$4:$H$1240,7,FALSE),0)","v":0},0,null,"Redoubt Mountain",7,0,0]
["2014-05-01","Fishing","Bolio Lake (Meadows Road)","U 0133",null,6,{"$f":"IFERROR(VLOOKUP(D1174,'Study Area Site Variable'!$B$4:$J$1240,6,FALSE),0)","v":0},{"$f":"IFERROR(VLOOKUP(D1174,'Study Area Site Variable'!$B$4:$H$1240,7,FALSE),0)","v":0},0,null,"Resurrection Pass",3,0,0]
["2014-05-01","Fishing","Cornelius Lake","K 0130",null,6,{"$f":"IFERROR(VLOOKUP(D1175,'Study Area Site Variable'!$B$4:$J$1240,6,FALSE),0)","v":0},{"$f":"IFERROR(VLOOKUP(D1175,'Study Area Site Variable'!$B$4:$H$1240,7,FALSE),0)","v":0},0,null,"Resurrection Pass-Hope",9,0,0]
["2014-05-01","Fishing","Moose Creek (Deshka-Oilwell Rd)","M 1278",null,6,{"$f":"IFERROR(VLOOKUP(D1176,'Study Area Site Variable'!$B$4:$J$1240,6,FALSE),0)","v":0},{"$f":"IFERROR(VLOOKUP(D1176,'Study Area Site Variable'!$B$4:$H$1240,7,FALSE),0)","v":0},0,null,"Resurrection Trail-Cooper Landing",3,0,0]
["2014-05-01","Fishing","Ugashik River","R 0203",null,6,{"$f":"IFERROR(VLOOKUP(D1177,'Study Area Site Variable'!$B$4:$J$1240,6,FALSE),0)","v":0},{"$f":"IFERROR(VLOOKUP(D1177,'Study Area Site Variable'!$B$4:$H$1240,7,FALSE),0)","v":0},0,null,"Revillageogideo-Ketchikan",8,0,0]
["2014-05-01","Fishing","Chena River - Upper (including South Fork)","U 0001",null,6,{"$f":"IFERROR(VLOOKUP(D1178,'Study Area Site Variable'!$B$4:$J$1240,6,FALSE),0)","v":0},{"$f":"IFERROR(VLOOKUP(D1178,'Study Area Site Variable'!$B$4:$H$1240,7,FALSE),0)","v":0},0,null,"Rex TraIl-Parks Highway",12,0,0]
["2014-05-01","Fishing","Frog Lake","K 0140",null,6,{"$f":"IFERROR(VLOOKUP(D1179,'Study Area Site Variable'!$B$4:$J$1240,6,FALSE),0)","v":0},{"$f":"IFERROR(VLOOKUP(D1179,'Study Area Site Variable'!$B$4:$H$1240,7,FALSE),0)","v":0},0,null,"Richardson Hwy-Black Rapids",29,0,0]
["2014-05-01","Fishing","Fish Creek (into Mentasta Lake)","I 0158",null,6,{"$f":"IFERROR(VLOOKUP(D1180,'Study Area Site Variable'!$B$4:$J$1240,6,FALSE),0)","v":0},{"$f":"IFERROR(VLOOKUP(D1180,'Study Area Site Variable'!$B$4:$H$1240,7,FALSE),0)","v":0},0,null,"Richardson Hwy-Donnelly Dome",9,0,0]
["2014-05-01","Fishing","Mansfield Creek","U 0589",null,5,{"$f":"IFERROR(VLOOKUP(D1181,'Study Area Site Variable'!$B$4:$J$1240,6,FALSE),0)","v":0},{"$f":"IFERROR(VLOOKUP(D1181,'Study Area Site Variable'!$B$4:$H$1240,7,FALSE),0)","v":0},0,null,"Richardson Hwy-Paxton",9,0,2]
["2014-05-01","Fishing","Crooked Lake","K 0133",null,5,{"$f":"IFERROR(VLOOKUP(D1182,'Study Area Site Variable'!$B$4:$J$1240,6,FALSE),0)","v":0},{"$f":"IFERROR(VLOOKUP(D1182,'Study Area Site Variable'!$B$4:$H$1240,7,FALSE),0)","v":0},0,null,"Richardson Hwy-Thompson Pass",4,0,0]
["2014-05-01","Fishing","Little Campbell Creek","L 0158",null,5,{"$f":"IFERROR(VLOOKUP(D1183,'Study Area Site Variable'!$B$4:$J$1240,6,FALSE),0)","v":0},{"$f":"IFERROR(VLOOKUP(D1183,'Study Area Site Variable'!$B$4:$H$1240,7,FALSE),0)","v":0},0,null,"Richardson Hwy-Tonsina",34,0,0]
["2014-05-01","Fishing","Symphony Lake","L 0228",null,5,{"$f":"IFERROR(VLOOKUP(D1184,'Study Area Site Variable'!$B$4:$J$1240,6,FALSE),0)","v":0},{"$f":"IFERROR(VLOOKUP(D1184,'Study Area Site Variable'!$B$4:$H$1240,7,FALSE),0)","v":0},0,null,"Russian lake trial-Russian Lake",0,0,0]
["2014-05-01","Fishing","Minto Flats (all lakes and rivers of Minto Flats)","U 0014",null,5,{"$f":"IFERROR(VLOOKUP(D1185,'Study Area Site Variable'!$B$4:$J$1240,6,FALSE),0)","v":0},{"$f":"IFERROR(VLOOKUP(D1185,'Study Area Site Variable'!$B$4:$H$1240,7,FALSE),0)","v":0},0,null,"Sadie cove-Homer",3,0,0]
["2014-05-01","Fishing","Tanada Lake","I 0271",null,5,{"$f":"IFERROR(VLOOKUP(D1186,'Study Area Site Variable'!$B$4:$J$1240,6,FALSE),0)","v":0},{"$f":"IFERROR(VLOOKUP(D1186,'Study Area Site Variable'!$B$4:$H$1240,7,FALSE),0)","v":0},0,null,"Salcha River",31,0,0]
["2014-05-01","Fishing","Twomile Lake (Second Lake)","I 0294",null,5,{"$f":"IFERROR(VLOOKUP(D1187,'Study Area Site Variable'!$B$4:$J$1240,6,FALSE),0)","v":0},{"$f":"IFERROR(VLOOKUP(D1187,'Study Area Site Variable'!$B$4:$H$1240,7,FALSE),0)","v":0},0,null,"Seldovia",5,0,0]
["2014-05-01","Fishing","Hudson Lake","I 0009",null,5,{"$f":"IFERROR(VLOOKUP(D1188,'Study Area Site Variable'!$B$4:$J$1240,6,FALSE),0)","v":0},{"$f":"IFERROR(VLOOKUP(D1188,'Study Area Site Variable'!$B$4:$H$1240,7,FALSE),0)","v":0},0,null,"Seward Highway MP52",3,0,0]
["2014-05-01","Fishing","Byers Creek","M 0179",null,5,{"$f":"IFERROR(VLOOKUP(D1189,'Study Area Site Variable'!$B$4:$J$1240,6,FALSE),0)","v":0},{"$f":"IFERROR(VLOOKUP(D1189,'Study Area Site Variable'!$B$4:$H$1240,7,FALSE),0)","v":0},2,null,"Shaktoolik River-Shaktoolik",12,0,0]
["2014-05-01","Fishing","Peters Creek","L 0168",null,5,{"$f":"IFERROR(VLOOKUP(D1190,'Study Area Site Variable'!$B$4:$J$1240,6,FALSE),0)","v":0},{"$f":"IFERROR(VLOOKUP(D1190,'Study Area Site Variable'!$B$4:$H$1240,7,FALSE),0)","v":0},0,null,"Sheep Mountain-Glenn Highway",12,0,2]
["2014-05-01","Fishing","Glacier Creek (Girdwood)","L 0148",null,5,{"$f":"IFERROR(VLOOKUP(D1191,'Study Area Site Variable'!$B$4:$J$1240,6,FALSE),0)","v":0},{"$f":"IFERROR(VLOOKUP(D1191,'Study Area Site Variable'!$B$4:$H$1240,7,FALSE),0)","v":0},0,null,"Sheep Mtn-Sheep Mtn",18,0,1]
["2014-05-01","Fishing","Jack Lake","J 0173",null,5,{"$f":"IFERROR(VLOOKUP(D1192,'Study Area Site Variable'!$B$4:$J$1240,6,FALSE),0)","v":0},{"$f":"IFERROR(VLOOKUP(D1192,'Study Area Site Variable'!$B$4:$H$1240,7,FALSE),0)","v":0},0,null,"Sitka-Indian River Road",3,0,0]
["2014-05-01","Fishing","Koyukuk R. - South Fork (accessed from Dalton Highway)","Y 0420",null,5,{"$f":"IFERROR(VLOOKUP(D1193,'Study Area Site Variable'!$B$4:$J$1240,6,FALSE),0)","v":0},{"$f":"IFERROR(VLOOKUP(D1193,'Study Area Site Variable'!$B$4:$H$1240,7,FALSE),0)","v":0},0,null,"Skilak Lake Rd-Jim's Landing (North end of Road)",4,0,0]
["2014-05-01","Fishing","Gulkana River (Paxson to West Fork)","I 0500",null,5,{"$f":"IFERROR(VLOOKUP(D1194,'Study Area Site Variable'!$B$4:$J$1240,6,FALSE),0)","v":0},{"$f":"IFERROR(VLOOKUP(D1194,'Study Area Site Variable'!$B$4:$H$1240,7,FALSE),0)","v":0},0,null,"Skilak Lake-Sterling Highway",1,0,0]
["2014-05-01","Fishing","Rabideux Creek","M 1225",null,5,{"$f":"IFERROR(VLOOKUP(D1195,'Study Area Site Variable'!$B$4:$J$1240,6,FALSE),0)","v":0},{"$f":"IFERROR(VLOOKUP(D1195,'Study Area Site Variable'!$B$4:$H$1240,7,FALSE),0)","v":0},3,null,"Skwenta River-Deshka Landing",16,0,0]
["2014-05-01","Fishing","Crescent Lake","N 0155",null,5,{"$f":"IFERROR(VLOOKUP(D1196,'Study Area Site Variable'!$B$4:$J$1240,6,FALSE),0)","v":0},{"$f":"IFERROR(VLOOKUP(D1196,'Study Area Site Variable'!$B$4:$H$1240,7,FALSE),0)","v":0},0,null,"Skwentna River-Deshka Landing",0,0,0]
["2014-05-01","Fishing","Campbell Lake","L 0217",null,5,{"$f":"IFERROR(VLOOKUP(D1197,'Study Area Site Variable'!$B$4:$J$1240,6,FALSE),0)","v":0},{"$f":"IFERROR(VLOOKUP(D1197,'Study Area Site Variable'!$B$4:$H$1240,7,FALSE),0)","v":0},0,null,"Steese Highway",20,0,0]
["2014-05-01","Fishing","Little Tok River","U 0216",null,5,{"$f":"IFERROR(VLOOKUP(D1198,'Study Area Site Variable'!$B$4:$J$1240,6,FALSE),0)","v":0},{"$f":"IFERROR(VLOOKUP(D1198,'Study Area Site Variable'!$B$4:$H$1240,7,FALSE),0)","v":0},0,null,"Sterling",3,0,0]
["2014-05-01","Fishing","Main Bay (Boat)","J 0778",null,5,{"$f":"IFERROR(VLOOKUP(D1199,'Study Area Site Variable'!$B$4:$J$1240,6,FALSE),0)","v":0},{"$f":"IFERROR(VLOOKUP(D1199,'Study Area Site Variable'!$B$4:$H$1240,7,FALSE),0)","v":0},0,null,"Sterling Highway-Sterling",2,0,0]
["2014-05-01","Fishing","Big Beaver Lake","K 0311",null,5,{"$f":"IFERROR(VLOOKUP(D1200,'Study Area Site Variable'!$B$4:$J$1240,6,FALSE),0)","v":0},{"$f":"IFERROR(VLOOKUP(D1200,'Study Area Site Variable'!$B$4:$H$1240,7,FALSE),0)","v":0},0,null,"Sutton-Glenn Highway",13,0,0]
["2014-05-01","Fishing","Moose River","P00204",null,5,{"$f":"IFERROR(VLOOKUP(D1201,'Study Area Site Variable'!$B$4:$J$1240,6,FALSE),0)","v":0},{"$f":"IFERROR(VLOOKUP(D1201,'Study Area Site Variable'!$B$4:$H$1240,7,FALSE),0)","v":0},0,null,"Talkeetna Mounta",30,0,2]
["2014-05-01","Fishing","Tebay lakes","I 0275",null,5,{"$f":"IFERROR(VLOOKUP(D1202,'Study Area Site Variable'!$B$4:$J$1240,6,FALSE),0)","v":0},{"$f":"IFERROR(VLOOKUP(D1202,'Study Area Site Variable'!$B$4:$H$1240,7,FALSE),0)","v":0},0,null,"Talkeetna Mountains-Palmer",4,0,0]
["2014-05-01","Fishing","Wasilla Lake","K 0008",null,5,{"$f":"IFERROR(VLOOKUP(D1203,'Study Area Site Variable'!$B$4:$J$1240,6,FALSE),0)","v":0},{"$f":"IFERROR(VLOOKUP(D1203,'Study Area Site Variable'!$B$4:$H$1240,7,FALSE),0)","v":0},0,null,"Talkeetna Mountains-Sheep Mountain",20,0,2]
["2014-05-01","Fishing","Hidden Lake (Eielson AFB)","U 0331",null,5,{"$f":"IFERROR(VLOOKUP(D1204,'Study Area Site Variable'!$B$4:$J$1240,6,FALSE),0)","v":0},{"$f":"IFERROR(VLOOKUP(D1204,'Study Area Site Variable'!$B$4:$H$1240,7,FALSE),0)","v":0},0,null,"Talkeetna Spur Road",22,22,2]
["2014-05-01","Fishing","Long Lake (near Willow, Nancy Lakes Rec System)","K 0316",null,5,{"$f":"IFERROR(VLOOKUP(D1205,'Study Area Site Variable'!$B$4:$J$1240,6,FALSE),0)","v":0},{"$f":"IFERROR(VLOOKUP(D1205,'Study Area Site Variable'!$B$4:$H$1240,7,FALSE),0)","v":0},0,null,"Talkeetna-Survey Grid 52",2,0,2]
["2014-05-01","Fishing","Chena Hot Springs Road ponds","U 0347",null,5,{"$f":"IFERROR(VLOOKUP(D1206,'Study Area Site Variable'!$B$4:$J$1240,6,FALSE),0)","v":0},{"$f":"IFERROR(VLOOKUP(D1206,'Study Area Site Variable'!$B$4:$H$1240,7,FALSE),0)","v":0},0,null,"Talkeetna-Unspecified",8,0,2]
["2014-05-01","Fishing","Anvik River","Y 0148",null,5,{"$f":"IFERROR(VLOOKUP(D1207,'Study Area Site Variable'!$B$4:$J$1240,6,FALSE),0)","v":0},{"$f":"IFERROR(VLOOKUP(D1207,'Study Area Site Variable'!$B$4:$H$1240,7,FALSE),0)","v":0},0,null,"Tanana River-Fairbanks",17,0,0]
["2014-05-01","Fishing","Stuyahok River","T 0120",null,5,{"$f":"IFERROR(VLOOKUP(D1208,'Study Area Site Variable'!$B$4:$J$1240,6,FALSE),0)","v":0},{"$f":"IFERROR(VLOOKUP(D1208,'Study Area Site Variable'!$B$4:$H$1240,7,FALSE),0)","v":0},0,null,"Tanana River-Nenana",10,0,0]
["2014-05-01","Fishing","Swanson River","P00334",null,5,{"$f":"IFERROR(VLOOKUP(D1209,'Study Area Site Variable'!$B$4:$J$1240,6,FALSE),0)","v":0},{"$f":"IFERROR(VLOOKUP(D1209,'Study Area Site Variable'!$B$4:$H$1240,7,FALSE),0)","v":0},0,null,"Tatlanika River-mile 290 parks hwy",6,0,2]
["2014-05-01","Fishing","Portage Lake","L 0177",null,5,{"$f":"IFERROR(VLOOKUP(D1210,'Study Area Site Variable'!$B$4:$J$1240,6,FALSE),0)","v":0},{"$f":"IFERROR(VLOOKUP(D1210,'Study Area Site Variable'!$B$4:$H$1240,7,FALSE),0)","v":0},0,null,"Tayler Hwy-Tetlin Junction",24,0,0]
["2014-05-01","Fishing","Clunie Lake (Fort Richardson)","L 0009",null,5,{"$f":"IFERROR(VLOOKUP(D1211,'Study Area Site Variable'!$B$4:$J$1240,6,FALSE),0)","v":0},{"$f":"IFERROR(VLOOKUP(D1211,'Study Area Site Variable'!$B$4:$H$1240,7,FALSE),0)","v":0},0,null,"Taylor Highway-Chicken",24,0,0]
["2014-05-01","Fishing","Clam Gluch- Shoreline/ Boat & Charter/Non-charter Unspecified","P10776",null,5,{"$f":"IFERROR(VLOOKUP(D1212,'Study Area Site Variable'!$B$4:$J$1240,6,FALSE),0)","v":1},{"$f":"IFERROR(VLOOKUP(D1212,'Study Area Site Variable'!$B$4:$H$1240,7,FALSE),0)","v":0},0,null,"Tetlin Wildlife Refuge-Tetlin",10,0,0]
["2014-05-01","Fishing","Portage Valley streams","L 0175",null,4,{"$f":"IFERROR(VLOOKUP(D1213,'Study Area Site Variable'!$B$4:$J$1240,6,FALSE),0)","v":0},{"$f":"IFERROR(VLOOKUP(D1213,'Study Area Site Variable'!$B$4:$H$1240,7,FALSE),0)","v":0},0,null,"Tok Area",35,0,0]
["2014-05-01","Fishing","Funny River","P00162",null,4,{"$f":"IFERROR(VLOOKUP(D1214,'Study Area Site Variable'!$B$4:$J$1240,6,FALSE),0)","v":0},{"$f":"IFERROR(VLOOKUP(D1214,'Study Area Site Variable'!$B$4:$H$1240,7,FALSE),0)","v":0},0,null,"Tok Cut Off-Delta Junction",5,0,0]
["2014-05-01","Fishing","North Pole Pond (Beaver Lake)","U 0993",null,4,{"$f":"IFERROR(VLOOKUP(D1215,'Study Area Site Variable'!$B$4:$J$1240,6,FALSE),0)","v":0},{"$f":"IFERROR(VLOOKUP(D1215,'Study Area Site Variable'!$B$4:$H$1240,7,FALSE),0)","v":0},0,null,"Tolsona creek-Tolsona Creek State Recreation Site",6,0,1]
["2014-05-01","Fishing","Swanson Lake (Swanson River Canoe Route Lake)","P00435",null,4,{"$f":"IFERROR(VLOOKUP(D1216,'Study Area Site Variable'!$B$4:$J$1240,6,FALSE),0)","v":0},{"$f":"IFERROR(VLOOKUP(D1216,'Study Area Site Variable'!$B$4:$H$1240,7,FALSE),0)","v":0},0,null,"Tonsina Lake-Richardson Hwy",10,0,0]
["2014-05-01","Fishing","Figure Eight Lake","K 0264",null,4,{"$f":"IFERROR(VLOOKUP(D1217,'Study Area Site Variable'!$B$4:$J$1240,6,FALSE),0)","v":0},{"$f":"IFERROR(VLOOKUP(D1217,'Study Area Site Variable'!$B$4:$H$1240,7,FALSE),0)","v":0},0,null,"Torpedo Lake-Kenai Keys",2,0,0]
["2014-05-01","Fishing","Butte Lake","M 3128",null,4,{"$f":"IFERROR(VLOOKUP(D1218,'Study Area Site Variable'!$B$4:$J$1240,6,FALSE),0)","v":0},{"$f":"IFERROR(VLOOKUP(D1218,'Study Area Site Variable'!$B$4:$H$1240,7,FALSE),0)","v":0},4,null,"Totat River-Healy",14,0,0]
["2014-05-01","Fishing","Thirtymile Slough","U 0283",null,4,{"$f":"IFERROR(VLOOKUP(D1219,'Study Area Site Variable'!$B$4:$J$1240,6,FALSE),0)","v":0},{"$f":"IFERROR(VLOOKUP(D1219,'Study Area Site Variable'!$B$4:$H$1240,7,FALSE),0)","v":0},0,null,"Trading Bay-Anchorage",3,0,0]
["2014-05-01","Fishing","Old Harbor (Boat)","Q 0722",null,4,{"$f":"IFERROR(VLOOKUP(D1220,'Study Area Site Variable'!$B$4:$J$1240,6,FALSE),0)","v":1},{"$f":"IFERROR(VLOOKUP(D1220,'Study Area Site Variable'!$B$4:$H$1240,7,FALSE),0)","v":0},0,null,"Trapper Creek",10,0,0]
["2014-05-01","Fishing","Takotna River","V 0051",null,4,{"$f":"IFERROR(VLOOKUP(D1221,'Study Area Site Variable'!$B$4:$J$1240,6,FALSE),0)","v":0},{"$f":"IFERROR(VLOOKUP(D1221,'Study Area Site Variable'!$B$4:$H$1240,7,FALSE),0)","v":0},0,null,"Turnagain Pass",3,0,0]
["2014-05-01","Fishing","Windy Creek","M 3307",null,4,{"$f":"IFERROR(VLOOKUP(D1222,'Study Area Site Variable'!$B$4:$J$1240,6,FALSE),0)","v":0},{"$f":"IFERROR(VLOOKUP(D1222,'Study Area Site Variable'!$B$4:$H$1240,7,FALSE),0)","v":0},0,null,"Two Rivers-Two Rivers Rd",5,0,0]
["2014-05-01","Fishing","Tustumena Lake","P00244",null,4,{"$f":"IFERROR(VLOOKUP(D1223,'Study Area Site Variable'!$B$4:$J$1240,6,FALSE),0)","v":0},{"$f":"IFERROR(VLOOKUP(D1223,'Study Area Site Variable'!$B$4:$H$1240,7,FALSE),0)","v":0},0,null,"Uncodeable",73,0,0]
["2014-05-01","Fishing","Silver Lake (Kepler Lake Complex)","K 0292",null,4,{"$f":"IFERROR(VLOOKUP(D1224,'Study Area Site Variable'!$B$4:$J$1240,6,FALSE),0)","v":0},{"$f":"IFERROR(VLOOKUP(D1224,'Study Area Site Variable'!$B$4:$H$1240,7,FALSE),0)","v":0},0,null,"Unit 13-Glenn Highway",4,0,2]
["2014-05-01","Fishing","Knik Lake","K 0151",null,4,{"$f":"IFERROR(VLOOKUP(D1225,'Study Area Site Variable'!$B$4:$J$1240,6,FALSE),0)","v":0},{"$f":"IFERROR(VLOOKUP(D1225,'Study Area Site Variable'!$B$4:$H$1240,7,FALSE),0)","v":0},0,null,"Unit 26B Kavik River near Prudhoe Bay-Prudhoe Bay",6,0,0]
["2014-05-01","Fishing","Ugashik Lake Narrows","R 0202",null,4,{"$f":"IFERROR(VLOOKUP(D1226,'Study Area Site Variable'!$B$4:$J$1240,6,FALSE),0)","v":0},{"$f":"IFERROR(VLOOKUP(D1226,'Study Area Site Variable'!$B$4:$H$1240,7,FALSE),0)","v":0},2,null,"Upper Susitna- Denali",15,0,2]
["2014-05-01","Fishing","Seldovia River","P00276",null,4,{"$f":"IFERROR(VLOOKUP(D1227,'Study Area Site Variable'!$B$4:$J$1240,6,FALSE),0)","v":0},{"$f":"IFERROR(VLOOKUP(D1227,'Study Area Site Variable'!$B$4:$H$1240,7,FALSE),0)","v":0},0,null,"Valdez Area",14,0,0]
["2014-05-01","Fishing","Naknek River (Rapids Camp upstream to Naknek Lk,incl trib)","R 0275",null,4,{"$f":"IFERROR(VLOOKUP(D1228,'Study Area Site Variable'!$B$4:$J$1240,6,FALSE),0)","v":0},{"$f":"IFERROR(VLOOKUP(D1228,'Study Area Site Variable'!$B$4:$H$1240,7,FALSE),0)","v":0},0,null,"White Mountain-Fairbanks",3,0,0]
["2014-05-01","Fishing","Manley Hot Springs (streams)","U 0345",null,4,{"$f":"IFERROR(VLOOKUP(D1229,'Study Area Site Variable'!$B$4:$J$1240,6,FALSE),0)","v":0},{"$f":"IFERROR(VLOOKUP(D1229,'Study Area Site Variable'!$B$4:$H$1240,7,FALSE),0)","v":0},0,null,"Whittier",3,0,0]
["2014-05-01","Fishing","Beluga Lake","N 0122",null,4,{"$f":"IFERROR(VLOOKUP(D1230,'Study Area Site Variable'!$B$4:$J$1240,6,FALSE),0)","v":0},{"$f":"IFERROR(VLOOKUP(D1230,'Study Area Site Variable'!$B$4:$H$1240,7,FALSE),0)","v":0},0,null,"Williow Area",39,0,0]
["2014-05-01","Fishing","Wolf Lake","K 0232",null,4,{"$f":"IFERROR(VLOOKUP(D1231,'Study Area Site Variable'!$B$4:$J$1240,6,FALSE),0)","v":0},{"$f":"IFERROR(VLOOKUP(D1231,'Study Area Site Variable'!$B$4:$H$1240,7,FALSE),0)","v":0},0,null,"Wrangell-Wrangell",6,0,0]
["2014-05-01","Fishing","Turnagain Arm (Shore)","L 0725",null,4,{"$f":"IFERROR(VLOOKUP(D1232,'Study Area Site Variable'!$B$4:$J$1240,6,FALSE),0)","v":0},{"$f":"IFERROR(VLOOKUP(D1232,'Study Area Site Variable'!$B$4:$H$1240,7,FALSE),0)","v":0},0,null,"Yentna River-Deshka Landing",5,0,0]
["2014-05-01","Fishing","Kuskokwim River drainages below and including Aniak River","V 0310",null,4,{"$f":"IFERROR(VLOOKUP(D1233,'Study Area Site Variable'!$B$4:$J$1240,6,FALSE),0)","v":0},{"$f":"IFERROR(VLOOKUP(D1233,'Study Area Site Variable'!$B$4:$H$1240,7,FALSE),0)","v":0},0,null,"Yentna River-Susitna Landing",9,0,0]
["2014-05-01","Fishing","Aleknagik Lake","T 0112",null,4,{"$f":"IFERROR(VLOOKUP(D1234,'Study Area Site Variable'!$B$4:$J$1240,6,FALSE),0)","v":0},{"$f":"IFERROR(VLOOKUP(D1234,'Study Area Site Variable'!$B$4:$H$1240,7,FALSE),0)","v":0},0,null,"Yukon River-Circle",21,0,0]
["2014-05-01","Fishing","Scottie Lake","M 1370",null,4,{"$f":"IFERROR(VLOOKUP(D1235,'Study Area Site Variable'!$B$4:$J$1240,6,FALSE),0)","v":0},{"$f":"IFERROR(VLOOKUP(D1235,'Study Area Site Variable'!$B$4:$H$1240,7,FALSE),0)","v":0},0,null,"Zero Lake-Zero Lake Road",25,0,0]
["2014-05-01","Fishing","Cook Inlet- Kenai","NEI 991",null,4,{"$f":"IFERROR(VLOOKUP(D1236,'Study Area Site Variable'!$B$4:$J$1240,6,FALSE),0)","v":1},{"$f":"IFERROR(VLOOKUP(D1236,'Study Area Site Variable'!$B$4:$H$1240,7,FALSE),0)","v":0},0,null,"Snow Machining",3797,397,2]
["2014-05-01","Fishing","Fortymile River","Y 0174",null,4,{"$f":"IFERROR(VLOOKUP(D1237,'Study Area Site Variable'!$B$4:$J$1240,6,FALSE),0)","v":0},{"$f":"IFERROR(VLOOKUP(D1237,'Study Area Site Variable'!$B$4:$H$1240,7,FALSE),0)","v":0},0,null,"7 Mile Lake Trails-Skilak",11,0,0]
["2014-05-01","Fishing","Sunshine Creek","T 0181",null,4,{"$f":"IFERROR(VLOOKUP(D1238,'Study Area Site Variable'!$B$4:$J$1240,6,FALSE),0)","v":0},{"$f":"IFERROR(VLOOKUP(D1238,'Study Area Site Variable'!$B$4:$H$1240,7,FALSE),0)","v":0},2,null,"Anchorage",11,0,0]
["2014-05-01","Fishing","Tolsona Creek","I 0285",null,4,{"$f":"IFERROR(VLOOKUP(D1239,'Study Area Site Variable'!$B$4:$J$1240,6,FALSE),0)","v":0},{"$f":"IFERROR(VLOOKUP(D1239,'Study Area Site Variable'!$B$4:$H$1240,7,FALSE),0)","v":0},0,null,"Badger Road-North Pole",5,0,0]
["2014-05-01","Fishing","Loon Lake","I 0360",null,4,{"$f":"IFERROR(VLOOKUP(D1240,'Study Area Site Variable'!$B$4:$J$1240,6,FALSE),0)","v":0},{"$f":"IFERROR(VLOOKUP(D1240,'Study Area Site Variable'!$B$4:$H$1240,7,FALSE),0)","v":0},0,null,"Bethel",30,0,0]
["2014-05-01","Fishing","Sagavanirktok River (Dalton Highway)","Z 0076",null,4,{"$f":"IFERROR(VLOOKUP(D1241,'Study Area Site Variable'!$B$4:$J$1240,6,FALSE),0)","v":0},{"$f":"IFERROR(VLOOKUP(D1241,'Study Area Site Variable'!$B$4:$H$1240,7,FALSE),0)","v":0},0,null,"Bettles",30,0,0]
["2014-05-01","Fishing","Swede Lake (Big Swede Lake)","I 0269",null,3,{"$f":"IFERROR(VLOOKUP(D1242,'Study Area Site Variable'!$B$4:$J$1240,6,FALSE),0)","v":0},{"$f":"IFERROR(VLOOKUP(D1242,'Study Area Site Variable'!$B$4:$H$1240,7,FALSE),0)","v":0},0,null,"Big Lake",86,0,0]
["2014-05-01","Fishing","Whiskey Gulch Area - Boat (non-charter)","P10730",null,3,{"$f":"IFERROR(VLOOKUP(D1243,'Study Area Site Variable'!$B$4:$J$1240,6,FALSE),0)","v":0},{"$f":"IFERROR(VLOOKUP(D1243,'Study Area Site Variable'!$B$4:$H$1240,7,FALSE),0)","v":0},0,null,"Birch Creek-Steese Highway",6,0,0]
["2014-05-01","Fishing","McArthur River","N 0201",null,3,{"$f":"IFERROR(VLOOKUP(D1244,'Study Area Site Variable'!$B$4:$J$1240,6,FALSE),0)","v":0},{"$f":"IFERROR(VLOOKUP(D1244,'Study Area Site Variable'!$B$4:$H$1240,7,FALSE),0)","v":0},0,null,"Birch Lake-Delta Junction",19,0,0]
["2014-05-01","Fishing","North Knob Lake (Glenn Highway mile 119)","K 0319",null,3,{"$f":"IFERROR(VLOOKUP(D1245,'Study Area Site Variable'!$B$4:$J$1240,6,FALSE),0)","v":0},{"$f":"IFERROR(VLOOKUP(D1245,'Study Area Site Variable'!$B$4:$H$1240,7,FALSE),0)","v":0},0,null,"Cache Creek/Ester-Cache Creek",3,0,0]
["2014-05-01","Fishing","Little Tonsina River","I 0200",null,3,{"$f":"IFERROR(VLOOKUP(D1246,'Study Area Site Variable'!$B$4:$J$1240,6,FALSE),0)","v":0},{"$f":"IFERROR(VLOOKUP(D1246,'Study Area Site Variable'!$B$4:$H$1240,7,FALSE),0)","v":0},0,null,"Cantwell",126,65,0]
["2014-05-01","Fishing","Ranger Lake","I 0242",null,3,{"$f":"IFERROR(VLOOKUP(D1247,'Study Area Site Variable'!$B$4:$J$1240,6,FALSE),0)","v":0},{"$f":"IFERROR(VLOOKUP(D1247,'Study Area Site Variable'!$B$4:$H$1240,7,FALSE),0)","v":0},0,null,"Canwell Glacier-Miller Creek",3,0,0]
["2014-05-01","Fishing","Kvichak River","S 0003",null,3,{"$f":"IFERROR(VLOOKUP(D1248,'Study Area Site Variable'!$B$4:$J$1240,6,FALSE),0)","v":1},{"$f":"IFERROR(VLOOKUP(D1248,'Study Area Site Variable'!$B$4:$H$1240,7,FALSE),0)","v":0},0,null,"Chatanika-Elliot Highway",31,0,0]
["2014-05-01","Fishing","Lost Lake (Swanson River Canoe Route Lake)","P00418",null,3,{"$f":"IFERROR(VLOOKUP(D1249,'Study Area Site Variable'!$B$4:$J$1240,6,FALSE),0)","v":0},{"$f":"IFERROR(VLOOKUP(D1249,'Study Area Site Variable'!$B$4:$H$1240,7,FALSE),0)","v":0},0,null,"Chena Flood Control-North Pole",64,0,0]
["2014-05-01","Fishing","Wood River lakes system","T 0004",null,3,{"$f":"IFERROR(VLOOKUP(D1250,'Study Area Site Variable'!$B$4:$J$1240,6,FALSE),0)","v":0},{"$f":"IFERROR(VLOOKUP(D1250,'Study Area Site Variable'!$B$4:$H$1240,7,FALSE),0)","v":0},0,null,"Chena Hot Springs",51,0,0]
["2014-05-01","Fishing","Fielding Lake","U 0013",null,3,{"$f":"IFERROR(VLOOKUP(D1251,'Study Area Site Variable'!$B$4:$J$1240,6,FALSE),0)","v":0},{"$f":"IFERROR(VLOOKUP(D1251,'Study Area Site Variable'!$B$4:$H$1240,7,FALSE),0)","v":0},0,null,"Chena Lakes-North Pole",23,0,0]
["2014-05-01","Fishing","Mulchatna River","T 0007",null,3,{"$f":"IFERROR(VLOOKUP(D1252,'Study Area Site Variable'!$B$4:$J$1240,6,FALSE),0)","v":0},{"$f":"IFERROR(VLOOKUP(D1252,'Study Area Site Variable'!$B$4:$H$1240,7,FALSE),0)","v":0},3,null,"Chena River State Recreation Area-North Pole",116,0,0]
["2014-05-01","Fishing","Ravine Lake","K 0171",null,3,{"$f":"IFERROR(VLOOKUP(D1253,'Study Area Site Variable'!$B$4:$J$1240,6,FALSE),0)","v":0},{"$f":"IFERROR(VLOOKUP(D1253,'Study Area Site Variable'!$B$4:$H$1240,7,FALSE),0)","v":0},0,null,"Chickaloon",7,0,0]
["2014-05-01","Fishing","Steese Highway Mile 36.6 Pit","U 0455",null,3,{"$f":"IFERROR(VLOOKUP(D1254,'Study Area Site Variable'!$B$4:$J$1240,6,FALSE),0)","v":0},{"$f":"IFERROR(VLOOKUP(D1254,'Study Area Site Variable'!$B$4:$H$1240,7,FALSE),0)","v":0},0,null,"Chistochina",30,0,0]
["2014-05-01","Fishing","High Lake","I 0176",null,3,{"$f":"IFERROR(VLOOKUP(D1255,'Study Area Site Variable'!$B$4:$J$1240,6,FALSE),0)","v":0},{"$f":"IFERROR(VLOOKUP(D1255,'Study Area Site Variable'!$B$4:$H$1240,7,FALSE),0)","v":0},3,null,"Chitina",272,0,0]
["2014-05-01","Fishing","Ibeck Creek (Mile 7 Copper River Highway)","J 0171",null,3,{"$f":"IFERROR(VLOOKUP(D1256,'Study Area Site Variable'!$B$4:$J$1240,6,FALSE),0)","v":0},{"$f":"IFERROR(VLOOKUP(D1256,'Study Area Site Variable'!$B$4:$H$1240,7,FALSE),0)","v":0},0,null,"Copper River Valley-Glennallen",46,0,0]
["2014-05-01","Fishing","Trapper Creek (U)","M 1017",null,3,{"$f":"IFERROR(VLOOKUP(D1257,'Study Area Site Variable'!$B$4:$J$1240,6,FALSE),0)","v":0},{"$f":"IFERROR(VLOOKUP(D1257,'Study Area Site Variable'!$B$4:$H$1240,7,FALSE),0)","v":0},0,null,"Delta Junction",1,0,0]
["2014-05-01","Fishing","Wind River","Y 0021",null,3,{"$f":"IFERROR(VLOOKUP(D1258,'Study Area Site Variable'!$B$4:$J$1240,6,FALSE),0)","v":0},{"$f":"IFERROR(VLOOKUP(D1258,'Study Area Site Variable'!$B$4:$H$1240,7,FALSE),0)","v":0},0,null,"Denali Highway-Cantwell",23,0,0]
["2014-05-01","Fishing","Blueberry Lake","J 0122",null,3,{"$f":"IFERROR(VLOOKUP(D1259,'Study Area Site Variable'!$B$4:$J$1240,6,FALSE),0)","v":0},{"$f":"IFERROR(VLOOKUP(D1259,'Study Area Site Variable'!$B$4:$H$1240,7,FALSE),0)","v":0},0,null,"Denali Highway-Central",14,0,0]
["2014-05-01","Fishing","Clearwater Creek","Y 0168",null,3,{"$f":"IFERROR(VLOOKUP(D1260,'Study Area Site Variable'!$B$4:$J$1240,6,FALSE),0)","v":0},{"$f":"IFERROR(VLOOKUP(D1260,'Study Area Site Variable'!$B$4:$H$1240,7,FALSE),0)","v":0},0,null,"Denali Highway-Paxson",45,0,0]
["2014-05-01","Fishing","Harding Lake","U 0189",null,3,{"$f":"IFERROR(VLOOKUP(D1261,'Study Area Site Variable'!$B$4:$J$1240,6,FALSE),0)","v":0},{"$f":"IFERROR(VLOOKUP(D1261,'Study Area Site Variable'!$B$4:$H$1240,7,FALSE),0)","v":0},0,null,"Denali National Park-Cantwell",2,0,0]
["2014-05-01","Fishing","Red Shirt Lake (Nancy Lakes Rec System)","K 0456",null,3,{"$f":"IFERROR(VLOOKUP(D1262,'Study Area Site Variable'!$B$4:$J$1240,6,FALSE),0)","v":0},{"$f":"IFERROR(VLOOKUP(D1262,'Study Area Site Variable'!$B$4:$H$1240,7,FALSE),0)","v":0},0,null,"Drill Lake-Chickaloon",35,0,0]
["2014-05-01","Fishing","Uganik River","Q 0194",null,3,{"$f":"IFERROR(VLOOKUP(D1263,'Study Area Site Variable'!$B$4:$J$1240,6,FALSE),0)","v":0},{"$f":"IFERROR(VLOOKUP(D1263,'Study Area Site Variable'!$B$4:$H$1240,7,FALSE),0)","v":0},0,null,"Dry Creek SRA- Gulkana",1,0,0]
["2014-05-01","Fishing","Chulitna River","M 0223",null,2,{"$f":"IFERROR(VLOOKUP(D1264,'Study Area Site Variable'!$B$4:$J$1240,6,FALSE),0)","v":0},{"$f":"IFERROR(VLOOKUP(D1264,'Study Area Site Variable'!$B$4:$H$1240,7,FALSE),0)","v":0},0,null,"Eagle River Valley",6,0,0]
["2014-05-01","Fishing","Newhalen River","S 0007",null,2,{"$f":"IFERROR(VLOOKUP(D1265,'Study Area Site Variable'!$B$4:$J$1240,6,FALSE),0)","v":0},{"$f":"IFERROR(VLOOKUP(D1265,'Study Area Site Variable'!$B$4:$H$1240,7,FALSE),0)","v":0},0,null,"Eureka",91,0,0]
["2014-05-01","Fishing","Holitna River","V 0006",null,2,{"$f":"IFERROR(VLOOKUP(D1266,'Study Area Site Variable'!$B$4:$J$1240,6,FALSE),0)","v":0},{"$f":"IFERROR(VLOOKUP(D1266,'Study Area Site Variable'!$B$4:$H$1240,7,FALSE),0)","v":0},0,null,"Eyak Mountain-Cordova",4,0,0]
["2014-05-01","Fishing","Little Harding Lake","U 0215",null,2,{"$f":"IFERROR(VLOOKUP(D1267,'Study Area Site Variable'!$B$4:$J$1240,6,FALSE),0)","v":0},{"$f":"IFERROR(VLOOKUP(D1267,'Study Area Site Variable'!$B$4:$H$1240,7,FALSE),0)","v":0},0,null,"Fairbanks",112,0,0]
["2014-05-01","Fishing","Bonnie Lake (U)","K 0235",null,2,{"$f":"IFERROR(VLOOKUP(D1268,'Study Area Site Variable'!$B$4:$J$1240,6,FALSE),0)","v":0},{"$f":"IFERROR(VLOOKUP(D1268,'Study Area Site Variable'!$B$4:$H$1240,7,FALSE),0)","v":0},0,null,"Fairbanks-Fort Greely",2,0,0]
["2014-05-01","Fishing","Knight Island (Boat)","J 1084",null,2,{"$f":"IFERROR(VLOOKUP(D1269,'Study Area Site Variable'!$B$4:$J$1240,6,FALSE),0)","v":0},{"$f":"IFERROR(VLOOKUP(D1269,'Study Area Site Variable'!$B$4:$H$1240,7,FALSE),0)","v":0},0,null,"Fairbanks-Fox",5,0,0]
["2014-05-01","Fishing","Jan Lake","U 0196",null,2,{"$f":"IFERROR(VLOOKUP(D1270,'Study Area Site Variable'!$B$4:$J$1240,6,FALSE),0)","v":0},{"$f":"IFERROR(VLOOKUP(D1270,'Study Area Site Variable'!$B$4:$H$1240,7,FALSE),0)","v":0},2,null,"Fairbanks-Wickersham Trailhead",3,0,0]
["2014-05-01","Fishing","Sheep Creek Slough","M 0176",null,2,{"$f":"IFERROR(VLOOKUP(D1271,'Study Area Site Variable'!$B$4:$J$1240,6,FALSE),0)","v":0},{"$f":"IFERROR(VLOOKUP(D1271,'Study Area Site Variable'!$B$4:$H$1240,7,FALSE),0)","v":0},0,null,"Forgotten Lake--Lake Louise",3,0,0]
["2014-05-01","Fishing","Salmon River (Aniak drainage)","V 0278",null,2,{"$f":"IFERROR(VLOOKUP(D1272,'Study Area Site Variable'!$B$4:$J$1240,6,FALSE),0)","v":0},{"$f":"IFERROR(VLOOKUP(D1272,'Study Area Site Variable'!$B$4:$H$1240,7,FALSE),0)","v":0},0,null,"Fort Yukon",200,0,0]
["2014-05-01","Fishing","Mineral Lake (into Station Creek)","U 0228",null,2,{"$f":"IFERROR(VLOOKUP(D1273,'Study Area Site Variable'!$B$4:$J$1240,6,FALSE),0)","v":0},{"$f":"IFERROR(VLOOKUP(D1273,'Study Area Site Variable'!$B$4:$H$1240,7,FALSE),0)","v":0},0,null,"Funny River Road-Kenai",3,0,0]
["2014-05-01","Fishing","Happy River","M 1338",null,2,{"$f":"IFERROR(VLOOKUP(D1274,'Study Area Site Variable'!$B$4:$J$1240,6,FALSE),0)","v":0},{"$f":"IFERROR(VLOOKUP(D1274,'Study Area Site Variable'!$B$4:$H$1240,7,FALSE),0)","v":0},0,null,"Gakona",6,0,0]
["2014-05-01","Fishing","Boulder Creek (Denali Highway)","M 3331",null,2,{"$f":"IFERROR(VLOOKUP(D1275,'Study Area Site Variable'!$B$4:$J$1240,6,FALSE),0)","v":0},{"$f":"IFERROR(VLOOKUP(D1275,'Study Area Site Variable'!$B$4:$H$1240,7,FALSE),0)","v":0},0,null,"Girdwood",6,0,0]
["2014-05-01","Fishing","Dall River (Dahl River)","Y 0094",null,2,{"$f":"IFERROR(VLOOKUP(D1276,'Study Area Site Variable'!$B$4:$J$1240,6,FALSE),0)","v":0},{"$f":"IFERROR(VLOOKUP(D1276,'Study Area Site Variable'!$B$4:$H$1240,7,FALSE),0)","v":0},0,null,"Gunsight Mountain",3,0,0]
["2014-05-01","Fishing","Snodgrass Lake","M 3457",null,2,{"$f":"IFERROR(VLOOKUP(D1277,'Study Area Site Variable'!$B$4:$J$1240,6,FALSE),0)","v":0},{"$f":"IFERROR(VLOOKUP(D1277,'Study Area Site Variable'!$B$4:$H$1240,7,FALSE),0)","v":0},0,null,"Harding Lake Trails--Salcha Drive",3,0,0]
["2014-05-01","Fishing","Bernard Creek","I 0114",null,2,{"$f":"IFERROR(VLOOKUP(D1278,'Study Area Site Variable'!$B$4:$J$1240,6,FALSE),0)","v":0},{"$f":"IFERROR(VLOOKUP(D1278,'Study Area Site Variable'!$B$4:$H$1240,7,FALSE),0)","v":0},0,null,"Hatcher Pass-Palmer Side",76,13,0]
["2014-05-01","Fishing","Resurrection Creek (near Hope)","P00261",null,2,{"$f":"IFERROR(VLOOKUP(D1279,'Study Area Site Variable'!$B$4:$J$1240,6,FALSE),0)","v":0},{"$f":"IFERROR(VLOOKUP(D1279,'Study Area Site Variable'!$B$4:$H$1240,7,FALSE),0)","v":0},0,null,"Hatcher Pass-Unspecified",21,0,0]
["2014-05-01","Fishing","Twin Lakes (Nabesna Road))","U 1056",null,2,{"$f":"IFERROR(VLOOKUP(D1280,'Study Area Site Variable'!$B$4:$J$1240,6,FALSE),0)","v":0},{"$f":"IFERROR(VLOOKUP(D1280,'Study Area Site Variable'!$B$4:$H$1240,7,FALSE),0)","v":0},0,null,"Hatcher Pass-Willow Side",21,0,0]
["2014-05-01","Fishing","Halibut Cove (Kachemak Bay-Homer) - Boat (non-charter)","P10734",null,2,{"$f":"IFERROR(VLOOKUP(D1281,'Study Area Site Variable'!$B$4:$J$1240,6,FALSE),0)","v":0},{"$f":"IFERROR(VLOOKUP(D1281,'Study Area Site Variable'!$B$4:$H$1240,7,FALSE),0)","v":0},0,null,"Healy Lake--Cummings Rd",4,0,0]
["2014-05-01","Fishing","China Poot Creek","P00315",null,2,{"$f":"IFERROR(VLOOKUP(D1282,'Study Area Site Variable'!$B$4:$J$1240,6,FALSE),0)","v":0},{"$f":"IFERROR(VLOOKUP(D1282,'Study Area Site Variable'!$B$4:$H$1240,7,FALSE),0)","v":0},0,null,"Hoodoo Mountains-Paxson",135,0,0]
["2014-05-01","Fishing","Blackstone Bay (Boat)","J 0800",null,2,{"$f":"IFERROR(VLOOKUP(D1283,'Study Area Site Variable'!$B$4:$J$1240,6,FALSE),0)","v":0},{"$f":"IFERROR(VLOOKUP(D1283,'Study Area Site Variable'!$B$4:$H$1240,7,FALSE),0)","v":0},0,null,"Houston",1,0,0]
["2014-05-01","Fishing","Tebay River","I 0276",null,2,{"$f":"IFERROR(VLOOKUP(D1284,'Study Area Site Variable'!$B$4:$J$1240,6,FALSE),0)","v":0},{"$f":"IFERROR(VLOOKUP(D1284,'Study Area Site Variable'!$B$4:$H$1240,7,FALSE),0)","v":0},0,null,"Johnson Pass-Kenai Peninsula",1,0,0]
["2014-05-01","Fishing","Slana River","I 0255",null,2,{"$f":"IFERROR(VLOOKUP(D1285,'Study Area Site Variable'!$B$4:$J$1240,6,FALSE),0)","v":0},{"$f":"IFERROR(VLOOKUP(D1285,'Study Area Site Variable'!$B$4:$H$1240,7,FALSE),0)","v":0},0,null,"Kashwitna River-Eagles Nest",10,0,0]
["2014-05-01","Fishing","Russian Lake - Lower","P00196",null,2,{"$f":"IFERROR(VLOOKUP(D1286,'Study Area Site Variable'!$B$4:$J$1240,6,FALSE),0)","v":0},{"$f":"IFERROR(VLOOKUP(D1286,'Study Area Site Variable'!$B$4:$H$1240,7,FALSE),0)","v":0},0,null,"Kenai-National Wildlife Refuge",1,0,0]
["2014-05-01","Fishing","Pass Creek (near Cantwell)","U 0576",null,2,{"$f":"IFERROR(VLOOKUP(D1287,'Study Area Site Variable'!$B$4:$J$1240,6,FALSE),0)","v":0},{"$f":"IFERROR(VLOOKUP(D1287,'Study Area Site Variable'!$B$4:$H$1240,7,FALSE),0)","v":0},0,null,"Kenai-Unspecified",3,0,0]
["2014-05-01","Fishing","Dog Creek","I 0150",null,2,{"$f":"IFERROR(VLOOKUP(D1288,'Study Area Site Variable'!$B$4:$J$1240,6,FALSE),0)","v":0},{"$f":"IFERROR(VLOOKUP(D1288,'Study Area Site Variable'!$B$4:$H$1240,7,FALSE),0)","v":0},2,null,"King River",18,0,0]
["2014-05-01","Fishing","Olnes Pond","U 0587",null,2,{"$f":"IFERROR(VLOOKUP(D1289,'Study Area Site Variable'!$B$4:$J$1240,6,FALSE),0)","v":0},{"$f":"IFERROR(VLOOKUP(D1289,'Study Area Site Variable'!$B$4:$H$1240,7,FALSE),0)","v":0},0,null,"Klutina Lake",4,0,0]
["2014-05-01","Fishing","Little Oshetna River","M 0224",null,2,{"$f":"IFERROR(VLOOKUP(D1290,'Study Area Site Variable'!$B$4:$J$1240,6,FALSE),0)","v":0},{"$f":"IFERROR(VLOOKUP(D1290,'Study Area Site Variable'!$B$4:$H$1240,7,FALSE),0)","v":0},0,null,"Knik Goose Bay Road",11,0,0]
["2014-05-01","Fishing","Naknek River and Tributaries","R 0007",null,2,{"$f":"IFERROR(VLOOKUP(D1291,'Study Area Site Variable'!$B$4:$J$1240,6,FALSE),0)","v":0},{"$f":"IFERROR(VLOOKUP(D1291,'Study Area Site Variable'!$B$4:$H$1240,7,FALSE),0)","v":0},0,null,"Knik River",6,0,0]
["2014-05-01","Fishing","Canoe Lake (Kepler Lake Complex)","K 0278",null,2,{"$f":"IFERROR(VLOOKUP(D1292,'Study Area Site Variable'!$B$4:$J$1240,6,FALSE),0)","v":0},{"$f":"IFERROR(VLOOKUP(D1292,'Study Area Site Variable'!$B$4:$H$1240,7,FALSE),0)","v":0},0,null,"Kodiak",1,0,0]
["2014-05-01","Fishing","Ninilchik River (Mouth) - Boat (non-charter)","P10736",null,2,{"$f":"IFERROR(VLOOKUP(D1293,'Study Area Site Variable'!$B$4:$J$1240,6,FALSE),0)","v":0},{"$f":"IFERROR(VLOOKUP(D1293,'Study Area Site Variable'!$B$4:$H$1240,7,FALSE),0)","v":0},0,null,"Lake Louise",157,65,0]
["2014-05-01","Fishing","Jack Creek (into Nabesna River)","U 0194",null,2,{"$f":"IFERROR(VLOOKUP(D1294,'Study Area Site Variable'!$B$4:$J$1240,6,FALSE),0)","v":0},{"$f":"IFERROR(VLOOKUP(D1294,'Study Area Site Variable'!$B$4:$H$1240,7,FALSE),0)","v":0},0,null,"Long Lake--Willow",3,0,0]
["2014-05-01","Fishing","Eklutna Lake","L 0139",null,2,{"$f":"IFERROR(VLOOKUP(D1295,'Study Area Site Variable'!$B$4:$J$1240,6,FALSE),0)","v":0},{"$f":"IFERROR(VLOOKUP(D1295,'Study Area Site Variable'!$B$4:$H$1240,7,FALSE),0)","v":0},0,null,"Loss Lake--Cooper Landing",1,0,0]
["2014-05-01","Fishing","Hess Creek (near Dalton Highway)","Y 0180",null,2,{"$f":"IFERROR(VLOOKUP(D1296,'Study Area Site Variable'!$B$4:$J$1240,6,FALSE),0)","v":0},{"$f":"IFERROR(VLOOKUP(D1296,'Study Area Site Variable'!$B$4:$H$1240,7,FALSE),0)","v":0},0,null,"Lost Lake Trail-Seward",6,0,0]
["2014-05-01","Fishing","Octopus Lake","I 0336",null,2,{"$f":"IFERROR(VLOOKUP(D1297,'Study Area Site Variable'!$B$4:$J$1240,6,FALSE),0)","v":0},{"$f":"IFERROR(VLOOKUP(D1297,'Study Area Site Variable'!$B$4:$H$1240,7,FALSE),0)","v":0},0,null,"Manley Hot Springs",23,0,0]
["2014-05-01","Fishing","Trail Lake","M 1337",null,2,{"$f":"IFERROR(VLOOKUP(D1298,'Study Area Site Variable'!$B$4:$J$1240,6,FALSE),0)","v":0},{"$f":"IFERROR(VLOOKUP(D1298,'Study Area Site Variable'!$B$4:$H$1240,7,FALSE),0)","v":0},0,null,"Matanuska River",3,0,0]
["2014-05-01","Fishing","West Twin Lake (West of Kantishna River)","U 0295",null,2,{"$f":"IFERROR(VLOOKUP(D1299,'Study Area Site Variable'!$B$4:$J$1240,6,FALSE),0)","v":0},{"$f":"IFERROR(VLOOKUP(D1299,'Study Area Site Variable'!$B$4:$H$1240,7,FALSE),0)","v":0},0,null,"McCarthy",2,0,0]
["2014-05-01","Fishing","Snake Lake (Nunavaugaluk Lake)","T 0119",null,2,{"$f":"IFERROR(VLOOKUP(D1300,'Study Area Site Variable'!$B$4:$J$1240,6,FALSE),0)","v":0},{"$f":"IFERROR(VLOOKUP(D1300,'Study Area Site Variable'!$B$4:$H$1240,7,FALSE),0)","v":0},0,null,"Meadow Lakes-Wasilla",3,0,0]
["2014-05-01","Fishing","Klutina Lake","I 0191",null,2,{"$f":"IFERROR(VLOOKUP(D1301,'Study Area Site Variable'!$B$4:$J$1240,6,FALSE),0)","v":0},{"$f":"IFERROR(VLOOKUP(D1301,'Study Area Site Variable'!$B$4:$H$1240,7,FALSE),0)","v":0},0,null,"Mt. Baldy-Shrock Road",10,0,0]
["2014-05-01","Fishing","Blair lakes","U 0130",null,2,{"$f":"IFERROR(VLOOKUP(D1302,'Study Area Site Variable'!$B$4:$J$1240,6,FALSE),0)","v":0},{"$f":"IFERROR(VLOOKUP(D1302,'Study Area Site Variable'!$B$4:$H$1240,7,FALSE),0)","v":0},0,null,"Murphy Dome-Murphy Dome Road",14,0,0]
["2014-05-01","Fishing","Gulf of Alaska- Homer","J 10782",null,2,{"$f":"IFERROR(VLOOKUP(D1303,'Study Area Site Variable'!$B$4:$J$1240,6,FALSE),0)","v":0},{"$f":"IFERROR(VLOOKUP(D1303,'Study Area Site Variable'!$B$4:$H$1240,7,FALSE),0)","v":0},0,null,"Nabesna Area",3,0,0]
["2014-05-01","Fishing","Kobuk Lake","Y 0111",null,1,{"$f":"IFERROR(VLOOKUP(D1304,'Study Area Site Variable'!$B$4:$J$1240,6,FALSE),0)","v":0},{"$f":"IFERROR(VLOOKUP(D1304,'Study Area Site Variable'!$B$4:$H$1240,7,FALSE),0)","v":0},0,null,"Nancy Lakes",64,0,0]
["2014-05-01","Fishing","Goose Creek","M 0138",null,1,{"$f":"IFERROR(VLOOKUP(D1305,'Study Area Site Variable'!$B$4:$J$1240,6,FALSE),0)","v":0},{"$f":"IFERROR(VLOOKUP(D1305,'Study Area Site Variable'!$B$4:$H$1240,7,FALSE),0)","v":0},0,null,"Nenana",13,0,0]
["2014-05-01","Fishing","Nome Creek (Steese Highway)","Y 0328",null,1,{"$f":"IFERROR(VLOOKUP(D1306,'Study Area Site Variable'!$B$4:$J$1240,6,FALSE),0)","v":0},{"$f":"IFERROR(VLOOKUP(D1306,'Study Area Site Variable'!$B$4:$H$1240,7,FALSE),0)","v":0},0,null,"Norton Sound--Shaktoolik",42,0,0]
["2014-05-01","Fishing","Fox Island (Boat)","P60958",null,1,{"$f":"IFERROR(VLOOKUP(D1307,'Study Area Site Variable'!$B$4:$J$1240,6,FALSE),0)","v":0},{"$f":"IFERROR(VLOOKUP(D1307,'Study Area Site Variable'!$B$4:$H$1240,7,FALSE),0)","v":0},0,null,"Palmer",60,0,0]
["2014-05-01","Fishing","Tatalina River","U 0278",null,1,{"$f":"IFERROR(VLOOKUP(D1308,'Study Area Site Variable'!$B$4:$J$1240,6,FALSE),0)","v":0},{"$f":"IFERROR(VLOOKUP(D1308,'Study Area Site Variable'!$B$4:$H$1240,7,FALSE),0)","v":0},0,null,"Parks Highway--Byers Lake",30,30,0]
["2014-05-01","Fishing","Naknek Lake","R 0009",null,1,{"$f":"IFERROR(VLOOKUP(D1309,'Study Area Site Variable'!$B$4:$J$1240,6,FALSE),0)","v":0},{"$f":"IFERROR(VLOOKUP(D1309,'Study Area Site Variable'!$B$4:$H$1240,7,FALSE),0)","v":0},0,null,"Paxson Lake--Pipeline Access Road",4,0,0]
["2014-05-01","Fishing","Rabbit Lake","L 0226",null,1,{"$f":"IFERROR(VLOOKUP(D1310,'Study Area Site Variable'!$B$4:$J$1240,6,FALSE),0)","v":0},{"$f":"IFERROR(VLOOKUP(D1310,'Study Area Site Variable'!$B$4:$H$1240,7,FALSE),0)","v":0},0,null,"Petersville-East Susitna Side",4,0,0]
["2014-05-01","Fishing","Long Lake (Mile 85 Glenn Highway)","K 0221",null,1,{"$f":"IFERROR(VLOOKUP(D1311,'Study Area Site Variable'!$B$4:$J$1240,6,FALSE),0)","v":0},{"$f":"IFERROR(VLOOKUP(D1311,'Study Area Site Variable'!$B$4:$H$1240,7,FALSE),0)","v":0},0,null,"Petersville-Talkeetna",11,0,0]
["2014-05-01","Fishing","Tanaina Lake (Nancy Lakes Rec System)","K 0461",null,1,{"$f":"IFERROR(VLOOKUP(D1312,'Study Area Site Variable'!$B$4:$J$1240,6,FALSE),0)","v":0},{"$f":"IFERROR(VLOOKUP(D1312,'Study Area Site Variable'!$B$4:$H$1240,7,FALSE),0)","v":0},0,null,"Petersville-Unspecified",44,40,0]
["2014-05-01","Fishing","Visnaw Lake","K 0223",null,1,{"$f":"IFERROR(VLOOKUP(D1313,'Study Area Site Variable'!$B$4:$J$1240,6,FALSE),0)","v":0},{"$f":"IFERROR(VLOOKUP(D1313,'Study Area Site Variable'!$B$4:$H$1240,7,FALSE),0)","v":0},0,null,"Petersville-West Susitna Side",343,65,0]
["2014-05-01","Fishing","Green Lake (Elmendorf)","L 0012",null,1,{"$f":"IFERROR(VLOOKUP(D1314,'Study Area Site Variable'!$B$4:$J$1240,6,FALSE),0)","v":0},{"$f":"IFERROR(VLOOKUP(D1314,'Study Area Site Variable'!$B$4:$H$1240,7,FALSE),0)","v":0},0,null,"Point Mackenzie",6,0,0]
["2014-05-01","Fishing","King Salmon Creek (by King Salmon, Naknek drainage)","R 0143",null,1,{"$f":"IFERROR(VLOOKUP(D1315,'Study Area Site Variable'!$B$4:$J$1240,6,FALSE),0)","v":0},{"$f":"IFERROR(VLOOKUP(D1315,'Study Area Site Variable'!$B$4:$H$1240,7,FALSE),0)","v":0},0,null,"Portage/Placer Rivers",25,0,0]
["2014-05-01","Fishing","Horseshoe Lake (North of Big Lake)","K 0145",null,1,{"$f":"IFERROR(VLOOKUP(D1316,'Study Area Site Variable'!$B$4:$J$1240,6,FALSE),0)","v":0},{"$f":"IFERROR(VLOOKUP(D1316,'Study Area Site Variable'!$B$4:$H$1240,7,FALSE),0)","v":0},0,null,"Powerline Pass- Glen Alps Anchorage",5,0,0]
["2014-05-01","Fishing","Lowe River","J 0189",null,1,{"$f":"IFERROR(VLOOKUP(D1317,'Study Area Site Variable'!$B$4:$J$1240,6,FALSE),0)","v":0},{"$f":"IFERROR(VLOOKUP(D1317,'Study Area Site Variable'!$B$4:$H$1240,7,FALSE),0)","v":0},0,null,"Quartz Lake Winter Trail- Valdez",4,0,0]
["2014-05-01","Fishing","Fish Creek (Mile 297 Parks Highway near Nenana)","U 0305",null,1,{"$f":"IFERROR(VLOOKUP(D1318,'Study Area Site Variable'!$B$4:$J$1240,6,FALSE),0)","v":0},{"$f":"IFERROR(VLOOKUP(D1318,'Study Area Site Variable'!$B$4:$H$1240,7,FALSE),0)","v":0},0,null,"Resurrection Pass Trail-Cooper Landing",3,0,0]
["2014-05-01","Fishing","Robe River drainage","J 0222",null,1,{"$f":"IFERROR(VLOOKUP(D1319,'Study Area Site Variable'!$B$4:$J$1240,6,FALSE),0)","v":0},{"$f":"IFERROR(VLOOKUP(D1319,'Study Area Site Variable'!$B$4:$H$1240,7,FALSE),0)","v":0},0,null,"Rex Trail- Nenana",35,0,0]
["2014-05-01","Fishing","Deep Creek Area - Shoreline (charter)","P60795",null,1,{"$f":"IFERROR(VLOOKUP(D1320,'Study Area Site Variable'!$B$4:$J$1240,6,FALSE),0)","v":0},{"$f":"IFERROR(VLOOKUP(D1320,'Study Area Site Variable'!$B$4:$H$1240,7,FALSE),0)","v":0},0,null,"Salcha Winter Trail- Salcha",39,0,0]
["2014-05-01","Fishing","Polly Creek","N 0006",null,1,{"$f":"IFERROR(VLOOKUP(D1321,'Study Area Site Variable'!$B$4:$J$1240,6,FALSE),0)","v":0},{"$f":"IFERROR(VLOOKUP(D1321,'Study Area Site Variable'!$B$4:$H$1240,7,FALSE),0)","v":0},0,null,"Seward",3,0,0]
["2014-05-01","Fishing","Puget Bay - Boat (charter)","P60930",null,1,{"$f":"IFERROR(VLOOKUP(D1322,'Study Area Site Variable'!$B$4:$J$1240,6,FALSE),0)","v":0},{"$f":"IFERROR(VLOOKUP(D1322,'Study Area Site Variable'!$B$4:$H$1240,7,FALSE),0)","v":0},0,null,"Sheep Creek-Sheep Creek Lodge",10,0,0]
["2014-05-01","Fishing","Fish Creek (into Kroto Slough)","M 1170",null,1,{"$f":"IFERROR(VLOOKUP(D1323,'Study Area Site Variable'!$B$4:$J$1240,6,FALSE),0)","v":0},{"$f":"IFERROR(VLOOKUP(D1323,'Study Area Site Variable'!$B$4:$H$1240,7,FALSE),0)","v":0},0,null,"Shishmaref",2,0,0]
["2014-05-01","Fishing","Mentasta Lake","I 0213",null,1,{"$f":"IFERROR(VLOOKUP(D1324,'Study Area Site Variable'!$B$4:$J$1240,6,FALSE),0)","v":0},{"$f":"IFERROR(VLOOKUP(D1324,'Study Area Site Variable'!$B$4:$H$1240,7,FALSE),0)","v":0},0,null,"Skwentna",1,0,0]
["2014-05-01","Fishing","Homer Water Reservoir (Bridge Creek Reservoir)","P00312",null,1,{"$f":"IFERROR(VLOOKUP(D1325,'Study Area Site Variable'!$B$4:$J$1240,6,FALSE),0)","v":0},{"$f":"IFERROR(VLOOKUP(D1325,'Study Area Site Variable'!$B$4:$H$1240,7,FALSE),0)","v":0},0,null,"Skwentna River--Deshka Landing",66,0,0]
["2014-05-01","Fishing","Kustatan River","N 0186",null,1,{"$f":"IFERROR(VLOOKUP(D1326,'Study Area Site Variable'!$B$4:$J$1240,6,FALSE),0)","v":0},{"$f":"IFERROR(VLOOKUP(D1326,'Study Area Site Variable'!$B$4:$H$1240,7,FALSE),0)","v":0},0,null,"Susitna North-Denali",3,0,0]
["2014-05-01","Fishing","Crescent Lake","P00147",null,1,{"$f":"IFERROR(VLOOKUP(D1327,'Study Area Site Variable'!$B$4:$J$1240,6,FALSE),0)","v":0},{"$f":"IFERROR(VLOOKUP(D1327,'Study Area Site Variable'!$B$4:$H$1240,7,FALSE),0)","v":0},0,null,"Susitna River (Lower)- West Side Residence",2,0,0]
["2014-05-01","Fishing","Matanuska River","K 0205",null,1,{"$f":"IFERROR(VLOOKUP(D1328,'Study Area Site Variable'!$B$4:$J$1240,6,FALSE),0)","v":0},{"$f":"IFERROR(VLOOKUP(D1328,'Study Area Site Variable'!$B$4:$H$1240,7,FALSE),0)","v":0},0,null,"Susitna River-Deshka Landing",36,0,2]
["2014-05-01","Fishing","Valdez Creek","M 3301",null,1,{"$f":"IFERROR(VLOOKUP(D1329,'Study Area Site Variable'!$B$4:$J$1240,6,FALSE),0)","v":0},{"$f":"IFERROR(VLOOKUP(D1329,'Study Area Site Variable'!$B$4:$H$1240,7,FALSE),0)","v":0},0,null,"Susitna River-Susitna Landing",4,0,0]
["2014-05-01","Fishing","Lake Louise (off Glenn Highway)","M 3010",null,1,{"$f":"IFERROR(VLOOKUP(D1330,'Study Area Site Variable'!$B$4:$J$1240,6,FALSE),0)","v":0},{"$f":"IFERROR(VLOOKUP(D1330,'Study Area Site Variable'!$B$4:$H$1240,7,FALSE),0)","v":0},0,null,"Susitna River-The Preserve",8,0,0]
["2014-05-01","Fishing","Wood River","T 0200",null,1,{"$f":"IFERROR(VLOOKUP(D1331,'Study Area Site Variable'!$B$4:$J$1240,6,FALSE),0)","v":0},{"$f":"IFERROR(VLOOKUP(D1331,'Study Area Site Variable'!$B$4:$H$1240,7,FALSE),0)","v":0},0,null,"Sutton",7,0,0]
["2014-05-01","Fishing","Washington Creek","U 0293",null,1,{"$f":"IFERROR(VLOOKUP(D1332,'Study Area Site Variable'!$B$4:$J$1240,6,FALSE),0)","v":0},{"$f":"IFERROR(VLOOKUP(D1332,'Study Area Site Variable'!$B$4:$H$1240,7,FALSE),0)","v":0},0,null,"Talkeetna Area-Talkeetna",168,93,0]
["2014-05-01","Fishing","Stony River","V 0068",null,1,{"$f":"IFERROR(VLOOKUP(D1333,'Study Area Site Variable'!$B$4:$J$1240,6,FALSE),0)","v":0},{"$f":"IFERROR(VLOOKUP(D1333,'Study Area Site Variable'!$B$4:$H$1240,7,FALSE),0)","v":0},0,null,"Tanana Flats-Chena Pump",12,0,0]
["2014-05-01","Fishing","Cook Inlet- Valdez","NEI 996",null,1,{"$f":"IFERROR(VLOOKUP(D1334,'Study Area Site Variable'!$B$4:$J$1240,6,FALSE),0)","v":0},{"$f":"IFERROR(VLOOKUP(D1334,'Study Area Site Variable'!$B$4:$H$1240,7,FALSE),0)","v":0},0,null,"Taylor Mountain-Taylor Highway",7,0,0]
["2014-05-01","Fishing","Tiekel River (Uranatina River, incl. Tsina River)","J 0240",null,1,{"$f":"IFERROR(VLOOKUP(D1335,'Study Area Site Variable'!$B$4:$J$1240,6,FALSE),0)","v":0},{"$f":"IFERROR(VLOOKUP(D1335,'Study Area Site Variable'!$B$4:$H$1240,7,FALSE),0)","v":0},0,null,"Tetlin Refuge",6,0,0]
["2014-05-01","Fishing","Pony Cove - Boat (non-charter)","P10880",null,1,{"$f":"IFERROR(VLOOKUP(D1336,'Study Area Site Variable'!$B$4:$J$1240,6,FALSE),0)","v":0},{"$f":"IFERROR(VLOOKUP(D1336,'Study Area Site Variable'!$B$4:$H$1240,7,FALSE),0)","v":0},0,null,"Thompson Pass",16,0,0]
["2014-05-01","Fishing","China Poot Bay - Boat (non-charter)","P10778",null,1,{"$f":"IFERROR(VLOOKUP(D1337,'Study Area Site Variable'!$B$4:$J$1240,6,FALSE),0)","v":0},{"$f":"IFERROR(VLOOKUP(D1337,'Study Area Site Variable'!$B$4:$H$1240,7,FALSE),0)","v":0},0,null,"Tok Area",55,0,0]
["2014-05-01","Fishing","Yukon River drainages below Koyukuk River","Y 0247",null,1,{"$f":"IFERROR(VLOOKUP(D1338,'Study Area Site Variable'!$B$4:$J$1240,6,FALSE),0)","v":0},{"$f":"IFERROR(VLOOKUP(D1338,'Study Area Site Variable'!$B$4:$H$1240,7,FALSE),0)","v":0},0,null,"Tolovana Hotsprings-Elliot Hwy",2,0,0]
["2014-05-01","Fishing","Unalakleet River","W 0003",null,1,{"$f":"IFERROR(VLOOKUP(D1339,'Study Area Site Variable'!$B$4:$J$1240,6,FALSE),0)","v":0},{"$f":"IFERROR(VLOOKUP(D1339,'Study Area Site Variable'!$B$4:$H$1240,7,FALSE),0)","v":0},0,null,"Tonsina",16,0,0]
["2014-05-01","Fishing","Slate Creek (Dalton Highway)","Y 0264",null,1,{"$f":"IFERROR(VLOOKUP(D1340,'Study Area Site Variable'!$B$4:$J$1240,6,FALSE),0)","v":0},{"$f":"IFERROR(VLOOKUP(D1340,'Study Area Site Variable'!$B$4:$H$1240,7,FALSE),0)","v":0},0,null,"Trading Bay-West Cook Inlet",14,0,0]
["2014-05-01","Fishing","Nome River","W 0004",null,1,{"$f":"IFERROR(VLOOKUP(D1341,'Study Area Site Variable'!$B$4:$J$1240,6,FALSE),0)","v":0},{"$f":"IFERROR(VLOOKUP(D1341,'Study Area Site Variable'!$B$4:$H$1240,7,FALSE),0)","v":0},0,null,"Trapper Creek",98,20,0]
["2014-05-01","Fishing","Kanuti River (accessed from Dalton Highway)","Y 0400",null,1,{"$f":"IFERROR(VLOOKUP(D1342,'Study Area Site Variable'!$B$4:$J$1240,6,FALSE),0)","v":0},{"$f":"IFERROR(VLOOKUP(D1342,'Study Area Site Variable'!$B$4:$H$1240,7,FALSE),0)","v":0},0,null,"Turnagain Pass",110,3,0]
["2014-05-01","Fishing","Knob Lake (Glenn Highway mile 119)","K 0318",null,1,{"$f":"IFERROR(VLOOKUP(D1343,'Study Area Site Variable'!$B$4:$J$1240,6,FALSE),0)","v":0},{"$f":"IFERROR(VLOOKUP(D1343,'Study Area Site Variable'!$B$4:$H$1240,7,FALSE),0)","v":0},0,null,"Uncodeable",69,3,0]
["2014-05-01","Fishing","Lake Otis","L 0215",null,1,{"$f":"IFERROR(VLOOKUP(D1344,'Study Area Site Variable'!$B$4:$J$1240,6,FALSE),0)","v":0},{"$f":"IFERROR(VLOOKUP(D1344,'Study Area Site Variable'!$B$4:$H$1240,7,FALSE),0)","v":0},0,null,"Valdez",30,0,0]
["2014-05-01","Fishing","Kenai Lake","P00183",null,1,{"$f":"IFERROR(VLOOKUP(D1345,'Study Area Site Variable'!$B$4:$J$1240,6,FALSE),0)","v":0},{"$f":"IFERROR(VLOOKUP(D1345,'Study Area Site Variable'!$B$4:$H$1240,7,FALSE),0)","v":0},0,null,"Wales",2,0,0]
["2014-05-01","Fishing","Cold Bay Area (Boat)","R 0001",null,1,{"$f":"IFERROR(VLOOKUP(D1346,'Study Area Site Variable'!$B$4:$J$1240,6,FALSE),0)","v":0},{"$f":"IFERROR(VLOOKUP(D1346,'Study Area Site Variable'!$B$4:$H$1240,7,FALSE),0)","v":0},0,null,"Wasilla",26,0,0]
["2014-05-01","Fishing","Nome Area (Boat)","W 0722",null,1,{"$f":"IFERROR(VLOOKUP(D1347,'Study Area Site Variable'!$B$4:$J$1240,6,FALSE),0)","v":0},{"$f":"IFERROR(VLOOKUP(D1347,'Study Area Site Variable'!$B$4:$H$1240,7,FALSE),0)","v":0},0,null,"White Mountain-McKay Creek Area",6,0,0]
["2014-05-01","Fishing","Arizona Lake","I 0113",null,1,{"$f":"IFERROR(VLOOKUP(D1348,'Study Area Site Variable'!$B$4:$J$1240,6,FALSE),0)","v":0},{"$f":"IFERROR(VLOOKUP(D1348,'Study Area Site Variable'!$B$4:$H$1240,7,FALSE),0)","v":0},0,null,"White Mountains-Wickersham",28,0,0]
["2014-05-01","Fishing","Summit Lake (Richardson Highway near Paxson)","I 0014",null,1,{"$f":"IFERROR(VLOOKUP(D1349,'Study Area Site Variable'!$B$4:$J$1240,6,FALSE),0)","v":0},{"$f":"IFERROR(VLOOKUP(D1349,'Study Area Site Variable'!$B$4:$H$1240,7,FALSE),0)","v":0},0,null,"Whittier",16,0,0]
["2014-05-01","Fishing","Flat Creek","I 0427",null,0,{"$f":"IFERROR(VLOOKUP(D1350,'Study Area Site Variable'!$B$4:$J$1240,6,FALSE),0)","v":0},{"$f":"IFERROR(VLOOKUP(D1350,'Study Area Site Variable'!$B$4:$H$1240,7,FALSE),0)","v":0},0,null,"Willow Area Trails-Willow",140,0,0]
["2014-05-01","Fishing","Wild Lake","Y 0038",null,0,{"$f":"IFERROR(VLOOKUP(D1351,'Study Area Site Variable'!$B$4:$J$1240,6,FALSE),0)","v":0},{"$f":"IFERROR(VLOOKUP(D1351,'Study Area Site Variable'!$B$4:$H$1240,7,FALSE),0)","v":0},0,null,"Willow Lakes",7,0,0]
["2013-08-01","Boating","20 Mile River-Boat Launch","BTNG 1",null,9,{"$f":"IFERROR(VLOOKUP(D1352,'Study Area Site Variable'!$B$4:$J$1240,6,FALSE),0)","v":1},{"$f":"IFERROR(VLOOKUP(D1352,'Study Area Site Variable'!$B$4:$H$1240,7,FALSE),0)","v":0},0,null,"Winter Trail-Quartz Lake Access",3,0,0]
["2013-08-01","Boating","Anchaiatie","BTNG 2",null,1,{"$f":"IFERROR(VLOOKUP(D1353,'Study Area Site Variable'!$B$4:$J$1240,6,FALSE),0)","v":0},{"$f":"IFERROR(VLOOKUP(D1353,'Study Area Site Variable'!$B$4:$H$1240,7,FALSE),0)","v":0},0,null,"Yentna to Skwentna-Yentna",16,0,0]
["2013-08-01","Boating","Anchorage Lakes","BTNG 3",null,10,{"$f":"IFERROR(VLOOKUP(D1354,'Study Area Site Variable'!$B$4:$J$1240,6,FALSE),0)","v":1},{"$f":"IFERROR(VLOOKUP(D1354,'Study Area Site Variable'!$B$4:$H$1240,7,FALSE),0)","v":0},0,null,"Grand Total",38431,2734,108]
["2013-08-01","Boating","Andreafsky River-St Marys","BTNG 4",null,3,{"$f":"IFERROR(VLOOKUP(D1355,'Study Area Site Variable'!$B$4:$J$1240,6,FALSE),0)","v":0},{"$f":"IFERROR(VLOOKUP(D1355,'Study Area Site Variable'!$B$4:$H$1240,7,FALSE),0)","v":0},0]
["2013-08-01","Boating","Annette Bay-Metlakatla","BTNG 5",null,1,{"$f":"IFERROR(VLOOKUP(D1356,'Study Area Site Variable'!$B$4:$J$1240,6,FALSE),0)","v":0},{"$f":"IFERROR(VLOOKUP(D1356,'Study Area Site Variable'!$B$4:$H$1240,7,FALSE),0)","v":0},0]
["2013-08-01","Boating","Auk Bay-Juneau Boat Launch","BTNG 6",null,13,{"$f":"IFERROR(VLOOKUP(D1357,'Study Area Site Variable'!$B$4:$J$1240,6,FALSE),0)","v":0},{"$f":"IFERROR(VLOOKUP(D1357,'Study Area Site Variable'!$B$4:$H$1240,7,FALSE),0)","v":0},0]
["2013-08-01","Boating","Badger Slough-North Pole","BTNG 7",null,4,{"$f":"IFERROR(VLOOKUP(D1358,'Study Area Site Variable'!$B$4:$J$1240,6,FALSE),0)","v":0},{"$f":"IFERROR(VLOOKUP(D1358,'Study Area Site Variable'!$B$4:$H$1240,7,FALSE),0)","v":0},0]
["2013-08-01","Boating","Beach Lake-Birchwood","BTNG 8",null,13,{"$f":"IFERROR(VLOOKUP(D1359,'Study Area Site Variable'!$B$4:$J$1240,6,FALSE),0)","v":1},{"$f":"IFERROR(VLOOKUP(D1359,'Study Area Site Variable'!$B$4:$H$1240,7,FALSE),0)","v":0},0]
["2013-08-01","Boating","Bear Lake-Seward","BTNG 9",null,2,{"$f":"IFERROR(VLOOKUP(D1360,'Study Area Site Variable'!$B$4:$J$1240,6,FALSE),0)","v":0},{"$f":"IFERROR(VLOOKUP(D1360,'Study Area Site Variable'!$B$4:$H$1240,7,FALSE),0)","v":0},0]
["2013-08-01","Boating","Bear Paw Lake-Houston","BTNG 10",null,6,{"$f":"IFERROR(VLOOKUP(D1361,'Study Area Site Variable'!$B$4:$J$1240,6,FALSE),0)","v":0},{"$f":"IFERROR(VLOOKUP(D1361,'Study Area Site Variable'!$B$4:$H$1240,7,FALSE),0)","v":0},0]
["2013-08-01","Boating","Beaver Creek-Ophir","BTNG 11",null,9,{"$f":"IFERROR(VLOOKUP(D1362,'Study Area Site Variable'!$B$4:$J$1240,6,FALSE),0)","v":0},{"$f":"IFERROR(VLOOKUP(D1362,'Study Area Site Variable'!$B$4:$H$1240,7,FALSE),0)","v":0},0]
["2013-08-01","Boating","Behm Canal-Ketchikan","BTNG 12",null,29,{"$f":"IFERROR(VLOOKUP(D1363,'Study Area Site Variable'!$B$4:$J$1240,6,FALSE),0)","v":0},{"$f":"IFERROR(VLOOKUP(D1363,'Study Area Site Variable'!$B$4:$H$1240,7,FALSE),0)","v":0},0]
["2013-08-01","Boating","Benka Lake-Talkeetna","BTNG 13",null,20,{"$f":"IFERROR(VLOOKUP(D1364,'Study Area Site Variable'!$B$4:$J$1240,6,FALSE),0)","v":1},{"$f":"IFERROR(VLOOKUP(D1364,'Study Area Site Variable'!$B$4:$H$1240,7,FALSE),0)","v":0},0]
["2013-08-01","Boating","Big Beaver-Big Lake","BTNG 14",null,4,{"$f":"IFERROR(VLOOKUP(D1365,'Study Area Site Variable'!$B$4:$J$1240,6,FALSE),0)","v":0},{"$f":"IFERROR(VLOOKUP(D1365,'Study Area Site Variable'!$B$4:$H$1240,7,FALSE),0)","v":0},0]
["2013-08-01","Boating","Big Lake-Big Lake","BTNG 15",null,144,{"$f":"IFERROR(VLOOKUP(D1366,'Study Area Site Variable'!$B$4:$J$1240,6,FALSE),0)","v":1},{"$f":"IFERROR(VLOOKUP(D1366,'Study Area Site Variable'!$B$4:$H$1240,7,FALSE),0)","v":0},0]
["2013-08-01","Boating","Birch Lake-Birch Lake","BTNG 16",null,12,{"$f":"IFERROR(VLOOKUP(D1367,'Study Area Site Variable'!$B$4:$J$1240,6,FALSE),0)","v":1},{"$f":"IFERROR(VLOOKUP(D1367,'Study Area Site Variable'!$B$4:$H$1240,7,FALSE),0)","v":0},0]
["2013-08-01","Boating","Black River-Fort Yukon","BTNG 17",null,3,{"$f":"IFERROR(VLOOKUP(D1368,'Study Area Site Variable'!$B$4:$J$1240,6,FALSE),0)","v":0},{"$f":"IFERROR(VLOOKUP(D1368,'Study Area Site Variable'!$B$4:$H$1240,7,FALSE),0)","v":0},0]
["2013-08-01","Boating","Bontenintata-Campground","BTNG 18",null,5,{"$f":"IFERROR(VLOOKUP(D1369,'Study Area Site Variable'!$B$4:$J$1240,6,FALSE),0)","v":0},{"$f":"IFERROR(VLOOKUP(D1369,'Study Area Site Variable'!$B$4:$H$1240,7,FALSE),0)","v":0},0]
["2013-08-01","Boating","Byers Lake/Susitna River-Talkeetna","BTNG 19",null,1,{"$f":"IFERROR(VLOOKUP(D1370,'Study Area Site Variable'!$B$4:$J$1240,6,FALSE),0)","v":0},{"$f":"IFERROR(VLOOKUP(D1370,'Study Area Site Variable'!$B$4:$H$1240,7,FALSE),0)","v":0},0]
["2013-08-01","Boating","Byers Lake-Boat Launch Campground","BTNG 20",null,22,{"$f":"IFERROR(VLOOKUP(D1371,'Study Area Site Variable'!$B$4:$J$1240,6,FALSE),0)","v":1},{"$f":"IFERROR(VLOOKUP(D1371,'Study Area Site Variable'!$B$4:$H$1240,7,FALSE),0)","v":0},0]
["2013-08-01","Boating","Campbell Creek-Anchorage","BTNG 21",null,19,{"$f":"IFERROR(VLOOKUP(D1372,'Study Area Site Variable'!$B$4:$J$1240,6,FALSE),0)","v":1},{"$f":"IFERROR(VLOOKUP(D1372,'Study Area Site Variable'!$B$4:$H$1240,7,FALSE),0)","v":0},0]
["2013-08-01","Boating","Campbell Lake-Anchorage","BTNG 22",null,1,{"$f":"IFERROR(VLOOKUP(D1373,'Study Area Site Variable'!$B$4:$J$1240,6,FALSE),0)","v":0},{"$f":"IFERROR(VLOOKUP(D1373,'Study Area Site Variable'!$B$4:$H$1240,7,FALSE),0)","v":0},0]
["2013-08-01","Boating","Canoe Trails-Tanana Lake Trailhead","BTNG 23",null,1,{"$f":"IFERROR(VLOOKUP(D1374,'Study Area Site Variable'!$B$4:$J$1240,6,FALSE),0)","v":0},{"$f":"IFERROR(VLOOKUP(D1374,'Study Area Site Variable'!$B$4:$H$1240,7,FALSE),0)","v":0},0]
["2013-08-01","Boating","Captain Cook Recreation Site","BTNG 24",null,3,{"$f":"IFERROR(VLOOKUP(D1375,'Study Area Site Variable'!$B$4:$J$1240,6,FALSE),0)","v":0},{"$f":"IFERROR(VLOOKUP(D1375,'Study Area Site Variable'!$B$4:$H$1240,7,FALSE),0)","v":0},0]
["2013-08-01","Boating","Carpenters Lake-Burma Road","BTNG 25",null,5,{"$f":"IFERROR(VLOOKUP(D1376,'Study Area Site Variable'!$B$4:$J$1240,6,FALSE),0)","v":0},{"$f":"IFERROR(VLOOKUP(D1376,'Study Area Site Variable'!$B$4:$H$1240,7,FALSE),0)","v":0},0]
["2013-08-01","Boating","Chatanika River-Chatanika","BTNG 26",null,24,{"$f":"IFERROR(VLOOKUP(D1377,'Study Area Site Variable'!$B$4:$J$1240,6,FALSE),0)","v":1},{"$f":"IFERROR(VLOOKUP(D1377,'Study Area Site Variable'!$B$4:$H$1240,7,FALSE),0)","v":0},0]
["2013-08-01","Boating","Chena Lakes Rec Area-North Pole","BTNG 27",null,51,{"$f":"IFERROR(VLOOKUP(D1378,'Study Area Site Variable'!$B$4:$J$1240,6,FALSE),0)","v":1},{"$f":"IFERROR(VLOOKUP(D1378,'Study Area Site Variable'!$B$4:$H$1240,7,FALSE),0)","v":0},0]
["2013-08-01","Boating","Chena River-Chena","BTNG 28",null,5,{"$f":"IFERROR(VLOOKUP(D1379,'Study Area Site Variable'!$B$4:$J$1240,6,FALSE),0)","v":1},{"$f":"IFERROR(VLOOKUP(D1379,'Study Area Site Variable'!$B$4:$H$1240,7,FALSE),0)","v":0},0]
["2013-08-01","Boating","Chena River-Fairbanks","BTNG 29",null,210,{"$f":"IFERROR(VLOOKUP(D1380,'Study Area Site Variable'!$B$4:$J$1240,6,FALSE),0)","v":1},{"$f":"IFERROR(VLOOKUP(D1380,'Study Area Site Variable'!$B$4:$H$1240,7,FALSE),0)","v":0},0]
["2013-08-01","Boating","Chena River-Ft. Wainwright","BTNG 30",null,5,{"$f":"IFERROR(VLOOKUP(D1381,'Study Area Site Variable'!$B$4:$J$1240,6,FALSE),0)","v":0},{"$f":"IFERROR(VLOOKUP(D1381,'Study Area Site Variable'!$B$4:$H$1240,7,FALSE),0)","v":0},0]
["2013-08-01","Boating","Chena River-Nordale","BTNG 31",null,11,{"$f":"IFERROR(VLOOKUP(D1382,'Study Area Site Variable'!$B$4:$J$1240,6,FALSE),0)","v":1},{"$f":"IFERROR(VLOOKUP(D1382,'Study Area Site Variable'!$B$4:$H$1240,7,FALSE),0)","v":0},0]
["2013-08-01","Boating","Chena River-North Pole","BTNG 32",null,1,{"$f":"IFERROR(VLOOKUP(D1383,'Study Area Site Variable'!$B$4:$J$1240,6,FALSE),0)","v":0},{"$f":"IFERROR(VLOOKUP(D1383,'Study Area Site Variable'!$B$4:$H$1240,7,FALSE),0)","v":0},0]
["2013-08-01","Boating","Chena River-Upper","BTNG 33",null,11,{"$f":"IFERROR(VLOOKUP(D1384,'Study Area Site Variable'!$B$4:$J$1240,6,FALSE),0)","v":1},{"$f":"IFERROR(VLOOKUP(D1384,'Study Area Site Variable'!$B$4:$H$1240,7,FALSE),0)","v":0},0]
["2013-08-01","Boating","Cheney Lake-Anchorage","BTNG 34",null,1,{"$f":"IFERROR(VLOOKUP(D1385,'Study Area Site Variable'!$B$4:$J$1240,6,FALSE),0)","v":0},{"$f":"IFERROR(VLOOKUP(D1385,'Study Area Site Variable'!$B$4:$H$1240,7,FALSE),0)","v":0},0]
["2013-08-01","Boating","Cheri Lake-Houston","BTNG 35",null,10,{"$f":"IFERROR(VLOOKUP(D1386,'Study Area Site Variable'!$B$4:$J$1240,6,FALSE),0)","v":0},{"$f":"IFERROR(VLOOKUP(D1386,'Study Area Site Variable'!$B$4:$H$1240,7,FALSE),0)","v":0},0]
["2013-08-01","Boating","Chiniak Bay-Kodiak","BTNG 36",null,1,{"$f":"IFERROR(VLOOKUP(D1387,'Study Area Site Variable'!$B$4:$J$1240,6,FALSE),0)","v":1},{"$f":"IFERROR(VLOOKUP(D1387,'Study Area Site Variable'!$B$4:$H$1240,7,FALSE),0)","v":0},0]
["2013-08-01","Boating","Chukchi Sea-Kotzebue","BTNG 37",null,15,{"$f":"IFERROR(VLOOKUP(D1388,'Study Area Site Variable'!$B$4:$J$1240,6,FALSE),0)","v":0},{"$f":"IFERROR(VLOOKUP(D1388,'Study Area Site Variable'!$B$4:$H$1240,7,FALSE),0)","v":0},0]
["2013-08-01","Boating","Chulitna River-Parks Highway","BTNG 38",null,5,{"$f":"IFERROR(VLOOKUP(D1389,'Study Area Site Variable'!$B$4:$J$1240,6,FALSE),0)","v":1},{"$f":"IFERROR(VLOOKUP(D1389,'Study Area Site Variable'!$B$4:$H$1240,7,FALSE),0)","v":1},0]
["2013-08-01","Boating","Chulitna River-Troublesome Crek","BTNG 39",null,4,{"$f":"IFERROR(VLOOKUP(D1390,'Study Area Site Variable'!$B$4:$J$1240,6,FALSE),0)","v":1},{"$f":"IFERROR(VLOOKUP(D1390,'Study Area Site Variable'!$B$4:$H$1240,7,FALSE),0)","v":1},0]
["2013-08-01","Boating","Clear Creek-Talkeetna","BTNG 40",null,2,{"$f":"IFERROR(VLOOKUP(D1391,'Study Area Site Variable'!$B$4:$J$1240,6,FALSE),0)","v":1},{"$f":"IFERROR(VLOOKUP(D1391,'Study Area Site Variable'!$B$4:$H$1240,7,FALSE),0)","v":0},0]
["2013-08-01","Boating","Clooney Lake-Anchorage","BTNG 41",null,1,{"$f":"IFERROR(VLOOKUP(D1392,'Study Area Site Variable'!$B$4:$J$1240,6,FALSE),0)","v":0},{"$f":"IFERROR(VLOOKUP(D1392,'Study Area Site Variable'!$B$4:$H$1240,7,FALSE),0)","v":0},0]
["2013-08-01","Boating","Cook Inlet-Deep Crek","BTNG 42",null,3,{"$f":"IFERROR(VLOOKUP(D1393,'Study Area Site Variable'!$B$4:$J$1240,6,FALSE),0)","v":1},{"$f":"IFERROR(VLOOKUP(D1393,'Study Area Site Variable'!$B$4:$H$1240,7,FALSE),0)","v":0},0]
["2013-08-01","Boating","Cook Inlet-Homer","BTNG 43",null,2,{"$f":"IFERROR(VLOOKUP(D1394,'Study Area Site Variable'!$B$4:$J$1240,6,FALSE),0)","v":1},{"$f":"IFERROR(VLOOKUP(D1394,'Study Area Site Variable'!$B$4:$H$1240,7,FALSE),0)","v":0},0]
["2013-08-01","Boating","Cook Inlet-Nikiski","BTNG 44",null,1,{"$f":"IFERROR(VLOOKUP(D1395,'Study Area Site Variable'!$B$4:$J$1240,6,FALSE),0)","v":0},{"$f":"IFERROR(VLOOKUP(D1395,'Study Area Site Variable'!$B$4:$H$1240,7,FALSE),0)","v":0},0]
["2013-08-01","Boating","Cook Inlet-Seldovia","BTNG 45",null,5,{"$f":"IFERROR(VLOOKUP(D1396,'Study Area Site Variable'!$B$4:$J$1240,6,FALSE),0)","v":0},{"$f":"IFERROR(VLOOKUP(D1396,'Study Area Site Variable'!$B$4:$H$1240,7,FALSE),0)","v":0},0]
["2013-08-01","Boating","Cook Inlet-Unspecified","BTNG 46",null,0,{"$f":"IFERROR(VLOOKUP(D1397,'Study Area Site Variable'!$B$4:$J$1240,6,FALSE),0)","v":0},{"$f":"IFERROR(VLOOKUP(D1397,'Study Area Site Variable'!$B$4:$H$1240,7,FALSE),0)","v":0},0]
["2013-08-01","Boating","Cottonwood Lake-Wasilla","BTNG 47",null,6,{"$f":"IFERROR(VLOOKUP(D1398,'Study Area Site Variable'!$B$4:$J$1240,6,FALSE),0)","v":0},{"$f":"IFERROR(VLOOKUP(D1398,'Study Area Site Variable'!$B$4:$H$1240,7,FALSE),0)","v":0},0]
["2013-08-01","Boating","Crator Lake-Tazlina","BTNG 48",null,5,{"$f":"IFERROR(VLOOKUP(D1399,'Study Area Site Variable'!$B$4:$J$1240,6,FALSE),0)","v":0},{"$f":"IFERROR(VLOOKUP(D1399,'Study Area Site Variable'!$B$4:$H$1240,7,FALSE),0)","v":0},0]
["2013-08-01","Boating","Crooked Lake-Wasilla","BTNG 49",null,5,{"$f":"IFERROR(VLOOKUP(D1400,'Study Area Site Variable'!$B$4:$J$1240,6,FALSE),0)","v":0},{"$f":"IFERROR(VLOOKUP(D1400,'Study Area Site Variable'!$B$4:$H$1240,7,FALSE),0)","v":0},0]
["2013-08-01","Boating","Crystal Lake-Willow","BTNG 50",null,30,{"$f":"IFERROR(VLOOKUP(D1401,'Study Area Site Variable'!$B$4:$J$1240,6,FALSE),0)","v":1},{"$f":"IFERROR(VLOOKUP(D1401,'Study Area Site Variable'!$B$4:$H$1240,7,FALSE),0)","v":0},0]
["2013-08-01","Boating","Delta Clearwater-Clearwater Lake","BTNG 51",null,9,{"$f":"IFERROR(VLOOKUP(D1402,'Study Area Site Variable'!$B$4:$J$1240,6,FALSE),0)","v":0},{"$f":"IFERROR(VLOOKUP(D1402,'Study Area Site Variable'!$B$4:$H$1240,7,FALSE),0)","v":0},0]
["2013-08-01","Boating","Delta Clearwater-Clearwater River","BTNG 52",null,42,{"$f":"IFERROR(VLOOKUP(D1403,'Study Area Site Variable'!$B$4:$J$1240,6,FALSE),0)","v":1},{"$f":"IFERROR(VLOOKUP(D1403,'Study Area Site Variable'!$B$4:$H$1240,7,FALSE),0)","v":0},0]
["2013-08-01","Boating","Delta River-Richardson Highway","BTNG 53",null,1,{"$f":"IFERROR(VLOOKUP(D1404,'Study Area Site Variable'!$B$4:$J$1240,6,FALSE),0)","v":1},{"$f":"IFERROR(VLOOKUP(D1404,'Study Area Site Variable'!$B$4:$H$1240,7,FALSE),0)","v":0},0]
["2013-08-01","Boating","Delta River-Tangle Lake Campground","BTNG 54",null,11,{"$f":"IFERROR(VLOOKUP(D1405,'Study Area Site Variable'!$B$4:$J$1240,6,FALSE),0)","v":0},{"$f":"IFERROR(VLOOKUP(D1405,'Study Area Site Variable'!$B$4:$H$1240,7,FALSE),0)","v":0},0]
["2013-08-01","Boating","Deshka River-Deshka Landing","BTNG 55",null,26,{"$f":"IFERROR(VLOOKUP(D1406,'Study Area Site Variable'!$B$4:$J$1240,6,FALSE),0)","v":1},{"$f":"IFERROR(VLOOKUP(D1406,'Study Area Site Variable'!$B$4:$H$1240,7,FALSE),0)","v":1},0]
["2013-08-01","Boating","Doly Varden Lake-Kenai","BTNG 56",null,1,{"$f":"IFERROR(VLOOKUP(D1407,'Study Area Site Variable'!$B$4:$J$1240,6,FALSE),0)","v":0},{"$f":"IFERROR(VLOOKUP(D1407,'Study Area Site Variable'!$B$4:$H$1240,7,FALSE),0)","v":0},0]
["2013-08-01","Boating","Drill Lake-Chickaloon","BTNG 57",null,17,{"$f":"IFERROR(VLOOKUP(D1408,'Study Area Site Variable'!$B$4:$J$1240,6,FALSE),0)","v":1},{"$f":"IFERROR(VLOOKUP(D1408,'Study Area Site Variable'!$B$4:$H$1240,7,FALSE),0)","v":0},0]
["2013-08-01","Boating","Eagle RIver-Eagle River","BTNG 58",null,17,{"$f":"IFERROR(VLOOKUP(D1409,'Study Area Site Variable'!$B$4:$J$1240,6,FALSE),0)","v":1},{"$f":"IFERROR(VLOOKUP(D1409,'Study Area Site Variable'!$B$4:$H$1240,7,FALSE),0)","v":0},0]
["2013-08-01","Boating","Echo Lake-Anchorage","BTNG 59",null,12,{"$f":"IFERROR(VLOOKUP(D1410,'Study Area Site Variable'!$B$4:$J$1240,6,FALSE),0)","v":0},{"$f":"IFERROR(VLOOKUP(D1410,'Study Area Site Variable'!$B$4:$H$1240,7,FALSE),0)","v":0},0]
["2013-08-01","Boating","Eklutna Lake-Eklutna Campground","BTNG 60",null,18,{"$f":"IFERROR(VLOOKUP(D1411,'Study Area Site Variable'!$B$4:$J$1240,6,FALSE),0)","v":1},{"$f":"IFERROR(VLOOKUP(D1411,'Study Area Site Variable'!$B$4:$H$1240,7,FALSE),0)","v":0},0]
["2013-08-01","Boating","Fielding Lake- Fielding Lake State Recreation Area","BTNG 61",null,3,{"$f":"IFERROR(VLOOKUP(D1412,'Study Area Site Variable'!$B$4:$J$1240,6,FALSE),0)","v":0},{"$f":"IFERROR(VLOOKUP(D1412,'Study Area Site Variable'!$B$4:$H$1240,7,FALSE),0)","v":0},0]
["2013-08-01","Boating","Finger Lake- Finger Lake SRS","BTNG 62",null,75,{"$f":"IFERROR(VLOOKUP(D1413,'Study Area Site Variable'!$B$4:$J$1240,6,FALSE),0)","v":0},{"$f":"IFERROR(VLOOKUP(D1413,'Study Area Site Variable'!$B$4:$H$1240,7,FALSE),0)","v":0},0]
["2013-08-01","Boating","Fire Lake- Eagle River","BTNG 63",null,19,{"$f":"IFERROR(VLOOKUP(D1414,'Study Area Site Variable'!$B$4:$J$1240,6,FALSE),0)","v":1},{"$f":"IFERROR(VLOOKUP(D1414,'Study Area Site Variable'!$B$4:$H$1240,7,FALSE),0)","v":0},0]
["2013-08-01","Boating","Flat Lake-Big Lake","BTNG 64",null,3,{"$f":"IFERROR(VLOOKUP(D1415,'Study Area Site Variable'!$B$4:$J$1240,6,FALSE),0)","v":0},{"$f":"IFERROR(VLOOKUP(D1415,'Study Area Site Variable'!$B$4:$H$1240,7,FALSE),0)","v":0},0]
["2013-08-01","Boating","Gastineau Channel-Juneau","BTNG 65",null,2,{"$f":"IFERROR(VLOOKUP(D1416,'Study Area Site Variable'!$B$4:$J$1240,6,FALSE),0)","v":0},{"$f":"IFERROR(VLOOKUP(D1416,'Study Area Site Variable'!$B$4:$H$1240,7,FALSE),0)","v":0},0]
["2013-08-01","Boating","George Lake-AK Highway Landing East of Tanana River Bridge","BTNG 66",null,6,{"$f":"IFERROR(VLOOKUP(D1417,'Study Area Site Variable'!$B$4:$J$1240,6,FALSE),0)","v":0},{"$f":"IFERROR(VLOOKUP(D1417,'Study Area Site Variable'!$B$4:$H$1240,7,FALSE),0)","v":0},0]
["2013-08-01","Boating","Glacier Creek-Girdwood","BTNG 67",null,2,{"$f":"IFERROR(VLOOKUP(D1418,'Study Area Site Variable'!$B$4:$J$1240,6,FALSE),0)","v":0},{"$f":"IFERROR(VLOOKUP(D1418,'Study Area Site Variable'!$B$4:$H$1240,7,FALSE),0)","v":0},0]
["2013-08-01","Boating","Good Pasture-Delta Bridge","BTNG 68",null,1,{"$f":"IFERROR(VLOOKUP(D1419,'Study Area Site Variable'!$B$4:$J$1240,6,FALSE),0)","v":0},{"$f":"IFERROR(VLOOKUP(D1419,'Study Area Site Variable'!$B$4:$H$1240,7,FALSE),0)","v":0},0]
["2013-08-01","Boating","Goodnews Lake-Dillingham","BTNG 69",null,14,{"$f":"IFERROR(VLOOKUP(D1420,'Study Area Site Variable'!$B$4:$J$1240,6,FALSE),0)","v":0},{"$f":"IFERROR(VLOOKUP(D1420,'Study Area Site Variable'!$B$4:$H$1240,7,FALSE),0)","v":0},0]
["2013-08-01","Boating","Goose Lake-Anchorage","BTNG 70",null,1,{"$f":"IFERROR(VLOOKUP(D1421,'Study Area Site Variable'!$B$4:$J$1240,6,FALSE),0)","v":0},{"$f":"IFERROR(VLOOKUP(D1421,'Study Area Site Variable'!$B$4:$H$1240,7,FALSE),0)","v":0},0]
["2013-08-01","Boating","Granite Creek-Kenai","BTNG 71",null,1,{"$f":"IFERROR(VLOOKUP(D1422,'Study Area Site Variable'!$B$4:$J$1240,6,FALSE),0)","v":0},{"$f":"IFERROR(VLOOKUP(D1422,'Study Area Site Variable'!$B$4:$H$1240,7,FALSE),0)","v":0},0]
["2013-08-01","Boating","Gulf of Alaska ","BTNG 72",null,64,{"$f":"IFERROR(VLOOKUP(D1423,'Study Area Site Variable'!$B$4:$J$1240,6,FALSE),0)","v":0},{"$f":"IFERROR(VLOOKUP(D1423,'Study Area Site Variable'!$B$4:$H$1240,7,FALSE),0)","v":0},0]
["2013-08-01","Boating","Gulf of Alaska-Juneau","BTNG 73",null,4,{"$f":"IFERROR(VLOOKUP(D1424,'Study Area Site Variable'!$B$4:$J$1240,6,FALSE),0)","v":0},{"$f":"IFERROR(VLOOKUP(D1424,'Study Area Site Variable'!$B$4:$H$1240,7,FALSE),0)","v":0},0]
["2013-08-01","Boating","Gulf of Alaska-Whittier","BTNG 74",null,1,{"$f":"IFERROR(VLOOKUP(D1425,'Study Area Site Variable'!$B$4:$J$1240,6,FALSE),0)","v":0},{"$f":"IFERROR(VLOOKUP(D1425,'Study Area Site Variable'!$B$4:$H$1240,7,FALSE),0)","v":0},0]
["2013-08-01","Boating","Gulkana River-Gulkana","BTNG 75",null,4,{"$f":"IFERROR(VLOOKUP(D1426,'Study Area Site Variable'!$B$4:$J$1240,6,FALSE),0)","v":1},{"$f":"IFERROR(VLOOKUP(D1426,'Study Area Site Variable'!$B$4:$H$1240,7,FALSE),0)","v":0},0]
["2013-08-01","Boating","Gulkana River-Paxson Lake","BTNG 76",null,25,{"$f":"IFERROR(VLOOKUP(D1427,'Study Area Site Variable'!$B$4:$J$1240,6,FALSE),0)","v":1},{"$f":"IFERROR(VLOOKUP(D1427,'Study Area Site Variable'!$B$4:$H$1240,7,FALSE),0)","v":0},0]
["2013-08-01","Boating","Harding Lake-Fairbanks","BTNG 77",null,71,{"$f":"IFERROR(VLOOKUP(D1428,'Study Area Site Variable'!$B$4:$J$1240,6,FALSE),0)","v":1},{"$f":"IFERROR(VLOOKUP(D1428,'Study Area Site Variable'!$B$4:$H$1240,7,FALSE),0)","v":0},0]
["2013-08-01","Boating","Healy Lake-Cummings Rd","BTNG 78",null,4,{"$f":"IFERROR(VLOOKUP(D1429,'Study Area Site Variable'!$B$4:$J$1240,6,FALSE),0)","v":0},{"$f":"IFERROR(VLOOKUP(D1429,'Study Area Site Variable'!$B$4:$H$1240,7,FALSE),0)","v":0},0]
["2013-08-01","Boating","Hidden Lake-Kenai","BTNG 79",null,4,{"$f":"IFERROR(VLOOKUP(D1430,'Study Area Site Variable'!$B$4:$J$1240,6,FALSE),0)","v":1},{"$f":"IFERROR(VLOOKUP(D1430,'Study Area Site Variable'!$B$4:$H$1240,7,FALSE),0)","v":0},0]
["2013-08-01","Boating","Honeybee Lake-Willow","BTNG 80",null,20,{"$f":"IFERROR(VLOOKUP(D1431,'Study Area Site Variable'!$B$4:$J$1240,6,FALSE),0)","v":0},{"$f":"IFERROR(VLOOKUP(D1431,'Study Area Site Variable'!$B$4:$H$1240,7,FALSE),0)","v":0},0]
["2013-08-01","Boating","Horseshoe Lake-Houston","BTNG 81",null,7,{"$f":"IFERROR(VLOOKUP(D1432,'Study Area Site Variable'!$B$4:$J$1240,6,FALSE),0)","v":0},{"$f":"IFERROR(VLOOKUP(D1432,'Study Area Site Variable'!$B$4:$H$1240,7,FALSE),0)","v":0},0]
["2013-08-01","Boating","Icy Straits-Hoonah","BTNG 82",null,3,{"$f":"IFERROR(VLOOKUP(D1433,'Study Area Site Variable'!$B$4:$J$1240,6,FALSE),0)","v":0},{"$f":"IFERROR(VLOOKUP(D1433,'Study Area Site Variable'!$B$4:$H$1240,7,FALSE),0)","v":0},0]
["2013-08-01","Boating","J.H. Lake-Kantishna River","BTNG 83",null,6,{"$f":"IFERROR(VLOOKUP(D1434,'Study Area Site Variable'!$B$4:$J$1240,6,FALSE),0)","v":0},{"$f":"IFERROR(VLOOKUP(D1434,'Study Area Site Variable'!$B$4:$H$1240,7,FALSE),0)","v":0},0]
["2013-08-01","Boating","Jewel Lake-Anchorage","BTNG 84",null,1,{"$f":"IFERROR(VLOOKUP(D1435,'Study Area Site Variable'!$B$4:$J$1240,6,FALSE),0)","v":0},{"$f":"IFERROR(VLOOKUP(D1435,'Study Area Site Variable'!$B$4:$H$1240,7,FALSE),0)","v":0},0]
["2013-08-01","Boating","Jim Creek-Mat Su","BTNG 85",null,1,{"$f":"IFERROR(VLOOKUP(D1436,'Study Area Site Variable'!$B$4:$J$1240,6,FALSE),0)","v":1},{"$f":"IFERROR(VLOOKUP(D1436,'Study Area Site Variable'!$B$4:$H$1240,7,FALSE),0)","v":0},0]
["2013-08-01","Boating","Kachemak Bay- Homer","BTNG 86",null,108,{"$f":"IFERROR(VLOOKUP(D1437,'Study Area Site Variable'!$B$4:$J$1240,6,FALSE),0)","v":1},{"$f":"IFERROR(VLOOKUP(D1437,'Study Area Site Variable'!$B$4:$H$1240,7,FALSE),0)","v":0},0]
["2013-08-01","Boating","Kachemak Bay-Seldovia","BTNG 87",null,13,{"$f":"IFERROR(VLOOKUP(D1438,'Study Area Site Variable'!$B$4:$J$1240,6,FALSE),0)","v":1},{"$f":"IFERROR(VLOOKUP(D1438,'Study Area Site Variable'!$B$4:$H$1240,7,FALSE),0)","v":0},0]
["2013-08-01","Boating","Kake-SE Alaska","BTNG 88",null,3,{"$f":"IFERROR(VLOOKUP(D1439,'Study Area Site Variable'!$B$4:$J$1240,6,FALSE),0)","v":0},{"$f":"IFERROR(VLOOKUP(D1439,'Study Area Site Variable'!$B$4:$H$1240,7,FALSE),0)","v":0},0]
["2013-08-01","Boating","Kalmbach Lake-Wasilla","BTNG 89",null,2,{"$f":"IFERROR(VLOOKUP(D1440,'Study Area Site Variable'!$B$4:$J$1240,6,FALSE),0)","v":0},{"$f":"IFERROR(VLOOKUP(D1440,'Study Area Site Variable'!$B$4:$H$1240,7,FALSE),0)","v":0},0]
["2013-08-01","Boating","Kasilof River-Sterling Highway","BTNG 90",null,1,{"$f":"IFERROR(VLOOKUP(D1441,'Study Area Site Variable'!$B$4:$J$1240,6,FALSE),0)","v":1},{"$f":"IFERROR(VLOOKUP(D1441,'Study Area Site Variable'!$B$4:$H$1240,7,FALSE),0)","v":0},0]
["2013-08-01","Boating","Katie Lake-Talkeetna","BTNG 91",null,32,{"$f":"IFERROR(VLOOKUP(D1442,'Study Area Site Variable'!$B$4:$J$1240,6,FALSE),0)","v":1},{"$f":"IFERROR(VLOOKUP(D1442,'Study Area Site Variable'!$B$4:$H$1240,7,FALSE),0)","v":0},0]
["2013-08-01","Boating","Katmai-Saboniski Loop","BTNG 92",null,8,{"$f":"IFERROR(VLOOKUP(D1443,'Study Area Site Variable'!$B$4:$J$1240,6,FALSE),0)","v":0},{"$f":"IFERROR(VLOOKUP(D1443,'Study Area Site Variable'!$B$4:$H$1240,7,FALSE),0)","v":0},0]
["2013-08-01","Boating","Kelly Lake-Kenai","BTNG 93",null,3,{"$f":"IFERROR(VLOOKUP(D1444,'Study Area Site Variable'!$B$4:$J$1240,6,FALSE),0)","v":0},{"$f":"IFERROR(VLOOKUP(D1444,'Study Area Site Variable'!$B$4:$H$1240,7,FALSE),0)","v":0},0]
["2013-08-01","Boating","Kenai Canoe Trails-Swanson River","BTNG 94",null,3,{"$f":"IFERROR(VLOOKUP(D1445,'Study Area Site Variable'!$B$4:$J$1240,6,FALSE),0)","v":0},{"$f":"IFERROR(VLOOKUP(D1445,'Study Area Site Variable'!$B$4:$H$1240,7,FALSE),0)","v":0},0]
["2013-08-01","Boating","Kenai Lake-Cooper Landing","BTNG 95",null,14,{"$f":"IFERROR(VLOOKUP(D1446,'Study Area Site Variable'!$B$4:$J$1240,6,FALSE),0)","v":1},{"$f":"IFERROR(VLOOKUP(D1446,'Study Area Site Variable'!$B$4:$H$1240,7,FALSE),0)","v":0},0]
["2013-08-01","Boating","Kenai Lakes-Unspecified","BTNG 96",null,26,{"$f":"IFERROR(VLOOKUP(D1447,'Study Area Site Variable'!$B$4:$J$1240,6,FALSE),0)","v":1},{"$f":"IFERROR(VLOOKUP(D1447,'Study Area Site Variable'!$B$4:$H$1240,7,FALSE),0)","v":0},0]
["2013-08-01","Boating","Kenai Lake-Trail River","BTNG 97",null,1,{"$f":"IFERROR(VLOOKUP(D1448,'Study Area Site Variable'!$B$4:$J$1240,6,FALSE),0)","v":0},{"$f":"IFERROR(VLOOKUP(D1448,'Study Area Site Variable'!$B$4:$H$1240,7,FALSE),0)","v":0},0]
["2013-08-01","Boating","Kenai River-Lower","BTNG 98",null,43,{"$f":"IFERROR(VLOOKUP(D1449,'Study Area Site Variable'!$B$4:$J$1240,6,FALSE),0)","v":1},{"$f":"IFERROR(VLOOKUP(D1449,'Study Area Site Variable'!$B$4:$H$1240,7,FALSE),0)","v":0},0]
["2013-08-01","Boating","Kenai River-Middle","BTNG 99",null,13,{"$f":"IFERROR(VLOOKUP(D1450,'Study Area Site Variable'!$B$4:$J$1240,6,FALSE),0)","v":1},{"$f":"IFERROR(VLOOKUP(D1450,'Study Area Site Variable'!$B$4:$H$1240,7,FALSE),0)","v":0},0]
["2013-08-01","Boating","Kenai River-Unspecified","BTNG 100",null,2,{"$f":"IFERROR(VLOOKUP(D1451,'Study Area Site Variable'!$B$4:$J$1240,6,FALSE),0)","v":0},{"$f":"IFERROR(VLOOKUP(D1451,'Study Area Site Variable'!$B$4:$H$1240,7,FALSE),0)","v":0},0]
["2013-08-01","Boating","Kenai River-Upper","BTNG 101",null,66,{"$f":"IFERROR(VLOOKUP(D1452,'Study Area Site Variable'!$B$4:$J$1240,6,FALSE),0)","v":1},{"$f":"IFERROR(VLOOKUP(D1452,'Study Area Site Variable'!$B$4:$H$1240,7,FALSE),0)","v":0},0]
["2013-08-01","Boating","Kepler Bradley Lakes-Palmer","BTNG 102",null,28,{"$f":"IFERROR(VLOOKUP(D1453,'Study Area Site Variable'!$B$4:$J$1240,6,FALSE),0)","v":0},{"$f":"IFERROR(VLOOKUP(D1453,'Study Area Site Variable'!$B$4:$H$1240,7,FALSE),0)","v":0},5]
["2013-08-01","Boating","Ketchikan Saltwater","BTNG 103",null,10,{"$f":"IFERROR(VLOOKUP(D1454,'Study Area Site Variable'!$B$4:$J$1240,6,FALSE),0)","v":0},{"$f":"IFERROR(VLOOKUP(D1454,'Study Area Site Variable'!$B$4:$H$1240,7,FALSE),0)","v":0},0]
["2013-08-01","Boating","King Creek-Nenana","BTNG 104",null,3,{"$f":"IFERROR(VLOOKUP(D1455,'Study Area Site Variable'!$B$4:$J$1240,6,FALSE),0)","v":0},{"$f":"IFERROR(VLOOKUP(D1455,'Study Area Site Variable'!$B$4:$H$1240,7,FALSE),0)","v":0},0]
["2013-08-01","Boating","Knik Lake","BTNG 105",null,4,{"$f":"IFERROR(VLOOKUP(D1456,'Study Area Site Variable'!$B$4:$J$1240,6,FALSE),0)","v":0},{"$f":"IFERROR(VLOOKUP(D1456,'Study Area Site Variable'!$B$4:$H$1240,7,FALSE),0)","v":0},0]
["2013-08-01","Boating","Knik River to Glacier-Knik River Access","BTNG 106",null,16,{"$f":"IFERROR(VLOOKUP(D1457,'Study Area Site Variable'!$B$4:$J$1240,6,FALSE),0)","v":1},{"$f":"IFERROR(VLOOKUP(D1457,'Study Area Site Variable'!$B$4:$H$1240,7,FALSE),0)","v":0},0]
["2013-08-01","Boating","Kodiak","BTNG 107",null,6,{"$f":"IFERROR(VLOOKUP(D1458,'Study Area Site Variable'!$B$4:$J$1240,6,FALSE),0)","v":0},{"$f":"IFERROR(VLOOKUP(D1458,'Study Area Site Variable'!$B$4:$H$1240,7,FALSE),0)","v":0},0]
["2013-08-01","Boating","Kongakut River-Fairbanks by Air","BTNG 108",null,17,{"$f":"IFERROR(VLOOKUP(D1459,'Study Area Site Variable'!$B$4:$J$1240,6,FALSE),0)","v":0},{"$f":"IFERROR(VLOOKUP(D1459,'Study Area Site Variable'!$B$4:$H$1240,7,FALSE),0)","v":0},0]
["2013-08-01","Boating","Koyukuk River-Bettles","BTNG 109",null,5,{"$f":"IFERROR(VLOOKUP(D1460,'Study Area Site Variable'!$B$4:$J$1240,6,FALSE),0)","v":0},{"$f":"IFERROR(VLOOKUP(D1460,'Study Area Site Variable'!$B$4:$H$1240,7,FALSE),0)","v":0},0]
["2013-08-01","Boating","Koyukuk River-Unspecified","BTNG 110",null,15,{"$f":"IFERROR(VLOOKUP(D1461,'Study Area Site Variable'!$B$4:$J$1240,6,FALSE),0)","v":0},{"$f":"IFERROR(VLOOKUP(D1461,'Study Area Site Variable'!$B$4:$H$1240,7,FALSE),0)","v":0},15]
["2013-08-01","Boating","Kroto Creek-Petersville","BTNG 111",null,1,{"$f":"IFERROR(VLOOKUP(D1462,'Study Area Site Variable'!$B$4:$J$1240,6,FALSE),0)","v":0},{"$f":"IFERROR(VLOOKUP(D1462,'Study Area Site Variable'!$B$4:$H$1240,7,FALSE),0)","v":0},0]
["2013-08-01","Boating","Kuskokwim River-Bethel","BTNG 112",null,12,{"$f":"IFERROR(VLOOKUP(D1463,'Study Area Site Variable'!$B$4:$J$1240,6,FALSE),0)","v":0},{"$f":"IFERROR(VLOOKUP(D1463,'Study Area Site Variable'!$B$4:$H$1240,7,FALSE),0)","v":0},0]
["2013-08-01","Boating","Lake Louise","BTNG 113",null,14,{"$f":"IFERROR(VLOOKUP(D1464,'Study Area Site Variable'!$B$4:$J$1240,6,FALSE),0)","v":1},{"$f":"IFERROR(VLOOKUP(D1464,'Study Area Site Variable'!$B$4:$H$1240,7,FALSE),0)","v":0},0]
["2013-08-01","Boating","Lake September-Trapper Creek","BTNG 114",null,3,{"$f":"IFERROR(VLOOKUP(D1465,'Study Area Site Variable'!$B$4:$J$1240,6,FALSE),0)","v":0},{"$f":"IFERROR(VLOOKUP(D1465,'Study Area Site Variable'!$B$4:$H$1240,7,FALSE),0)","v":0},3]
["2013-08-01","Boating","Little Campbell Lake-Kincaid Park","BTNG 115",null,1,{"$f":"IFERROR(VLOOKUP(D1466,'Study Area Site Variable'!$B$4:$J$1240,6,FALSE),0)","v":0},{"$f":"IFERROR(VLOOKUP(D1466,'Study Area Site Variable'!$B$4:$H$1240,7,FALSE),0)","v":0},0]
["2013-08-01","Boating","Little Su-Houston","BTNG 116",null,5,{"$f":"IFERROR(VLOOKUP(D1467,'Study Area Site Variable'!$B$4:$J$1240,6,FALSE),0)","v":1},{"$f":"IFERROR(VLOOKUP(D1467,'Study Area Site Variable'!$B$4:$H$1240,7,FALSE),0)","v":0},0]
["2013-08-01","Boating","Little Su-LSPUF","BTNG 117",null,11,{"$f":"IFERROR(VLOOKUP(D1468,'Study Area Site Variable'!$B$4:$J$1240,6,FALSE),0)","v":1},{"$f":"IFERROR(VLOOKUP(D1468,'Study Area Site Variable'!$B$4:$H$1240,7,FALSE),0)","v":0},0]
["2013-08-01","Boating","Little Willow Creek-Willow","BTNG 118",null,2,{"$f":"IFERROR(VLOOKUP(D1469,'Study Area Site Variable'!$B$4:$J$1240,6,FALSE),0)","v":0},{"$f":"IFERROR(VLOOKUP(D1469,'Study Area Site Variable'!$B$4:$H$1240,7,FALSE),0)","v":0},0]
["2013-08-01","Boating","Local Lakes-Mile 111-122 Glenn Hwy","BTNG 119",null,5,{"$f":"IFERROR(VLOOKUP(D1470,'Study Area Site Variable'!$B$4:$J$1240,6,FALSE),0)","v":0},{"$f":"IFERROR(VLOOKUP(D1470,'Study Area Site Variable'!$B$4:$H$1240,7,FALSE),0)","v":0},0]
["2013-08-01","Boating","Lynn Lake-Willow","BTNG 120",null,3,{"$f":"IFERROR(VLOOKUP(D1471,'Study Area Site Variable'!$B$4:$J$1240,6,FALSE),0)","v":0},{"$f":"IFERROR(VLOOKUP(D1471,'Study Area Site Variable'!$B$4:$H$1240,7,FALSE),0)","v":0},0]
["2013-08-01","Boating","Matanuska Lake-Matanuska Lake State Rec. Area","BTNG 121",null,5,{"$f":"IFERROR(VLOOKUP(D1472,'Study Area Site Variable'!$B$4:$J$1240,6,FALSE),0)","v":0},{"$f":"IFERROR(VLOOKUP(D1472,'Study Area Site Variable'!$B$4:$H$1240,7,FALSE),0)","v":0},0]
["2013-08-01","Boating","Matanuska Lake-Palmer","BTNG 122",null,2,{"$f":"IFERROR(VLOOKUP(D1473,'Study Area Site Variable'!$B$4:$J$1240,6,FALSE),0)","v":1},{"$f":"IFERROR(VLOOKUP(D1473,'Study Area Site Variable'!$B$4:$H$1240,7,FALSE),0)","v":0},0]
["2013-08-01","Boating","Matanuska River-Chickaloon","BTNG 123",null,11,{"$f":"IFERROR(VLOOKUP(D1474,'Study Area Site Variable'!$B$4:$J$1240,6,FALSE),0)","v":1},{"$f":"IFERROR(VLOOKUP(D1474,'Study Area Site Variable'!$B$4:$H$1240,7,FALSE),0)","v":0},0]
["2013-08-01","Boating","Matanuska River-Palmer","BTNG 124",null,3,{"$f":"IFERROR(VLOOKUP(D1475,'Study Area Site Variable'!$B$4:$J$1240,6,FALSE),0)","v":0},{"$f":"IFERROR(VLOOKUP(D1475,'Study Area Site Variable'!$B$4:$H$1240,7,FALSE),0)","v":0},0]
["2013-08-01","Boating","Meadow Lakes-Wasilla","BTNG 125",null,5,{"$f":"IFERROR(VLOOKUP(D1476,'Study Area Site Variable'!$B$4:$J$1240,6,FALSE),0)","v":1},{"$f":"IFERROR(VLOOKUP(D1476,'Study Area Site Variable'!$B$4:$H$1240,7,FALSE),0)","v":0},0]
["2013-08-01","Boating","Memory Lake-Wasilla","BTNG 126",null,13,{"$f":"IFERROR(VLOOKUP(D1477,'Study Area Site Variable'!$B$4:$J$1240,6,FALSE),0)","v":0},{"$f":"IFERROR(VLOOKUP(D1477,'Study Area Site Variable'!$B$4:$H$1240,7,FALSE),0)","v":0},0]
["2013-08-01","Boating","Mirror Lake-Chugiak","BTNG 127",null,39,{"$f":"IFERROR(VLOOKUP(D1478,'Study Area Site Variable'!$B$4:$J$1240,6,FALSE),0)","v":1},{"$f":"IFERROR(VLOOKUP(D1478,'Study Area Site Variable'!$B$4:$H$1240,7,FALSE),0)","v":0},0]
["2013-08-01","Boating","Montana Creek-Yoder Rd","BTNG 128",null,1,{"$f":"IFERROR(VLOOKUP(D1479,'Study Area Site Variable'!$B$4:$J$1240,6,FALSE),0)","v":1},{"$f":"IFERROR(VLOOKUP(D1479,'Study Area Site Variable'!$B$4:$H$1240,7,FALSE),0)","v":1},0]
["2013-08-01","Boating","Moose Creek-Palmer","BTNG 129",null,1,{"$f":"IFERROR(VLOOKUP(D1480,'Study Area Site Variable'!$B$4:$J$1240,6,FALSE),0)","v":0},{"$f":"IFERROR(VLOOKUP(D1480,'Study Area Site Variable'!$B$4:$H$1240,7,FALSE),0)","v":0},0]
["2013-08-01","Boating","Mud Lake-Palmer","BTNG 130",null,7,{"$f":"IFERROR(VLOOKUP(D1481,'Study Area Site Variable'!$B$4:$J$1240,6,FALSE),0)","v":0},{"$f":"IFERROR(VLOOKUP(D1481,'Study Area Site Variable'!$B$4:$H$1240,7,FALSE),0)","v":0},0]
["2013-08-01","Boating","Nancy Lakes","BTNG 131",null,176,{"$f":"IFERROR(VLOOKUP(D1482,'Study Area Site Variable'!$B$4:$J$1240,6,FALSE),0)","v":1},{"$f":"IFERROR(VLOOKUP(D1482,'Study Area Site Variable'!$B$4:$H$1240,7,FALSE),0)","v":0},0]
["2013-08-01","Boating","Nelchina River-Nelchina","BTNG 132",null,3,{"$f":"IFERROR(VLOOKUP(D1483,'Study Area Site Variable'!$B$4:$J$1240,6,FALSE),0)","v":0},{"$f":"IFERROR(VLOOKUP(D1483,'Study Area Site Variable'!$B$4:$H$1240,7,FALSE),0)","v":0},0]
["2013-08-01","Boating","Nenana River-Denali Area","BTNG 133",null,27,{"$f":"IFERROR(VLOOKUP(D1484,'Study Area Site Variable'!$B$4:$J$1240,6,FALSE),0)","v":1},{"$f":"IFERROR(VLOOKUP(D1484,'Study Area Site Variable'!$B$4:$H$1240,7,FALSE),0)","v":0},8]
["2013-08-01","Boating","Nenana River-Nenana","BTNG 134",null,2,{"$f":"IFERROR(VLOOKUP(D1485,'Study Area Site Variable'!$B$4:$J$1240,6,FALSE),0)","v":1},{"$f":"IFERROR(VLOOKUP(D1485,'Study Area Site Variable'!$B$4:$H$1240,7,FALSE),0)","v":0},0]
["2013-08-01","Boating","North Pole Lakes-Unspecified","BTNG 135",null,8,{"$f":"IFERROR(VLOOKUP(D1486,'Study Area Site Variable'!$B$4:$J$1240,6,FALSE),0)","v":0},{"$f":"IFERROR(VLOOKUP(D1486,'Study Area Site Variable'!$B$4:$H$1240,7,FALSE),0)","v":0},0]
["2013-08-01","Boating","North Sound-Norton Sound","BTNG 136",null,5,{"$f":"IFERROR(VLOOKUP(D1487,'Study Area Site Variable'!$B$4:$J$1240,6,FALSE),0)","v":0},{"$f":"IFERROR(VLOOKUP(D1487,'Study Area Site Variable'!$B$4:$H$1240,7,FALSE),0)","v":0},0]
["2013-08-01","Boating","Otto Lake-Healy","BTNG 137",null,1,{"$f":"IFERROR(VLOOKUP(D1488,'Study Area Site Variable'!$B$4:$J$1240,6,FALSE),0)","v":0},{"$f":"IFERROR(VLOOKUP(D1488,'Study Area Site Variable'!$B$4:$H$1240,7,FALSE),0)","v":0},0]
["2013-08-01","Boating","Partor Lake-Houston","BTNG 138",null,25,{"$f":"IFERROR(VLOOKUP(D1489,'Study Area Site Variable'!$B$4:$J$1240,6,FALSE),0)","v":1},{"$f":"IFERROR(VLOOKUP(D1489,'Study Area Site Variable'!$B$4:$H$1240,7,FALSE),0)","v":0},0]
["2013-08-01","Boating","Paxon Lake-Glennallen","BTNG 139",null,3,{"$f":"IFERROR(VLOOKUP(D1490,'Study Area Site Variable'!$B$4:$J$1240,6,FALSE),0)","v":1},{"$f":"IFERROR(VLOOKUP(D1490,'Study Area Site Variable'!$B$4:$H$1240,7,FALSE),0)","v":0},0]
["2013-08-01","Boating","Porcupine River-Fort Yukon","BTNG 140",null,15,{"$f":"IFERROR(VLOOKUP(D1491,'Study Area Site Variable'!$B$4:$J$1240,6,FALSE),0)","v":0},{"$f":"IFERROR(VLOOKUP(D1491,'Study Area Site Variable'!$B$4:$H$1240,7,FALSE),0)","v":0},0]
["2013-08-01","Boating","Portage Creek-Portage Valley","BTNG 141",null,12,{"$f":"IFERROR(VLOOKUP(D1492,'Study Area Site Variable'!$B$4:$J$1240,6,FALSE),0)","v":1},{"$f":"IFERROR(VLOOKUP(D1492,'Study Area Site Variable'!$B$4:$H$1240,7,FALSE),0)","v":0},0]
["2013-08-01","Boating","Prince William Sound-Cordova","BTNG 142",null,8,{"$f":"IFERROR(VLOOKUP(D1493,'Study Area Site Variable'!$B$4:$J$1240,6,FALSE),0)","v":1},{"$f":"IFERROR(VLOOKUP(D1493,'Study Area Site Variable'!$B$4:$H$1240,7,FALSE),0)","v":0},0]
["2013-08-01","Boating","Prince William Sound-Seward","BTNG 143",null,5,{"$f":"IFERROR(VLOOKUP(D1494,'Study Area Site Variable'!$B$4:$J$1240,6,FALSE),0)","v":1},{"$f":"IFERROR(VLOOKUP(D1494,'Study Area Site Variable'!$B$4:$H$1240,7,FALSE),0)","v":0},0]
["2013-08-01","Boating","Prince William Sound-Valdez","BTNG 144",null,45,{"$f":"IFERROR(VLOOKUP(D1495,'Study Area Site Variable'!$B$4:$J$1240,6,FALSE),0)","v":1},{"$f":"IFERROR(VLOOKUP(D1495,'Study Area Site Variable'!$B$4:$H$1240,7,FALSE),0)","v":0},0]
["2013-08-01","Boating","Prince William Sound-Whittier","BTNG 145",null,290,{"$f":"IFERROR(VLOOKUP(D1496,'Study Area Site Variable'!$B$4:$J$1240,6,FALSE),0)","v":1},{"$f":"IFERROR(VLOOKUP(D1496,'Study Area Site Variable'!$B$4:$H$1240,7,FALSE),0)","v":0},0]
["2013-08-01","Boating","Quartz Lake-Richardson Highway","BTNG 146",null,39,{"$f":"IFERROR(VLOOKUP(D1497,'Study Area Site Variable'!$B$4:$J$1240,6,FALSE),0)","v":1},{"$f":"IFERROR(VLOOKUP(D1497,'Study Area Site Variable'!$B$4:$H$1240,7,FALSE),0)","v":0},0]
["2013-08-01","Boating","Rainbow Lake-Wasilla","BTNG 147",null,20,{"$f":"IFERROR(VLOOKUP(D1498,'Study Area Site Variable'!$B$4:$J$1240,6,FALSE),0)","v":0},{"$f":"IFERROR(VLOOKUP(D1498,'Study Area Site Variable'!$B$4:$H$1240,7,FALSE),0)","v":0},0]
["2013-08-01","Boating","Reid Lake-Wasilla","BTNG 148",null,6,{"$f":"IFERROR(VLOOKUP(D1499,'Study Area Site Variable'!$B$4:$J$1240,6,FALSE),0)","v":0},{"$f":"IFERROR(VLOOKUP(D1499,'Study Area Site Variable'!$B$4:$H$1240,7,FALSE),0)","v":0},0]
["2013-08-01","Boating","Resurrection Bay-Seward","BTNG 149",null,139,{"$f":"IFERROR(VLOOKUP(D1500,'Study Area Site Variable'!$B$4:$J$1240,6,FALSE),0)","v":1},{"$f":"IFERROR(VLOOKUP(D1500,'Study Area Site Variable'!$B$4:$H$1240,7,FALSE),0)","v":0},0]
["2013-08-01","Boating","Rocky Lake-Big Lake","BTNG 150",null,15,{"$f":"IFERROR(VLOOKUP(D1501,'Study Area Site Variable'!$B$4:$J$1240,6,FALSE),0)","v":1},{"$f":"IFERROR(VLOOKUP(D1501,'Study Area Site Variable'!$B$4:$H$1240,7,FALSE),0)","v":0},0]
["2013-08-01","Boating","Ryan Lake-Mile 149 Glenn Hwy","BTNG 151",null,6,{"$f":"IFERROR(VLOOKUP(D1502,'Study Area Site Variable'!$B$4:$J$1240,6,FALSE),0)","v":0},{"$f":"IFERROR(VLOOKUP(D1502,'Study Area Site Variable'!$B$4:$H$1240,7,FALSE),0)","v":0},0]
["2013-08-01","Boating","Salcha River-Salcha Rec Area","BTNG 152",null,34,{"$f":"IFERROR(VLOOKUP(D1503,'Study Area Site Variable'!$B$4:$J$1240,6,FALSE),0)","v":1},{"$f":"IFERROR(VLOOKUP(D1503,'Study Area Site Variable'!$B$4:$H$1240,7,FALSE),0)","v":0},0]
["2013-08-01","Boating","Sand Lake-Anchorage","BTNG 153",null,130,{"$f":"IFERROR(VLOOKUP(D1504,'Study Area Site Variable'!$B$4:$J$1240,6,FALSE),0)","v":0},{"$f":"IFERROR(VLOOKUP(D1504,'Study Area Site Variable'!$B$4:$H$1240,7,FALSE),0)","v":0},0]
["2013-08-01","Boating","Ship Creek-Anchorage","BTNG 154",null,1,{"$f":"IFERROR(VLOOKUP(D1505,'Study Area Site Variable'!$B$4:$J$1240,6,FALSE),0)","v":1},{"$f":"IFERROR(VLOOKUP(D1505,'Study Area Site Variable'!$B$4:$H$1240,7,FALSE),0)","v":0},0]
["2013-08-01","Boating","Sitka","BTNG 155",null,4,{"$f":"IFERROR(VLOOKUP(D1506,'Study Area Site Variable'!$B$4:$J$1240,6,FALSE),0)","v":0},{"$f":"IFERROR(VLOOKUP(D1506,'Study Area Site Variable'!$B$4:$H$1240,7,FALSE),0)","v":0},0]
["2013-08-01","Boating","Six Mile Creek-Hope Turnout","BTNG 156",null,2,{"$f":"IFERROR(VLOOKUP(D1507,'Study Area Site Variable'!$B$4:$J$1240,6,FALSE),0)","v":1},{"$f":"IFERROR(VLOOKUP(D1507,'Study Area Site Variable'!$B$4:$H$1240,7,FALSE),0)","v":0},0]
["2013-08-01","Boating","Skilak Lake","BTNG 157",null,57,{"$f":"IFERROR(VLOOKUP(D1508,'Study Area Site Variable'!$B$4:$J$1240,6,FALSE),0)","v":1},{"$f":"IFERROR(VLOOKUP(D1508,'Study Area Site Variable'!$B$4:$H$1240,7,FALSE),0)","v":0},0]
["2013-08-01","Boating","Skwentna River-Deshka Landing","BTNG 158",null,76,{"$f":"IFERROR(VLOOKUP(D1509,'Study Area Site Variable'!$B$4:$J$1240,6,FALSE),0)","v":1},{"$f":"IFERROR(VLOOKUP(D1509,'Study Area Site Variable'!$B$4:$H$1240,7,FALSE),0)","v":0},0]
["2013-08-01","Boating","Slaw Creek-Private","BTNG 159",null,1,{"$f":"IFERROR(VLOOKUP(D1510,'Study Area Site Variable'!$B$4:$J$1240,6,FALSE),0)","v":0},{"$f":"IFERROR(VLOOKUP(D1510,'Study Area Site Variable'!$B$4:$H$1240,7,FALSE),0)","v":0},0]
["2013-08-01","Boating","Snow River-Kenai Peninsula","BTNG 160",null,1,{"$f":"IFERROR(VLOOKUP(D1511,'Study Area Site Variable'!$B$4:$J$1240,6,FALSE),0)","v":0},{"$f":"IFERROR(VLOOKUP(D1511,'Study Area Site Variable'!$B$4:$H$1240,7,FALSE),0)","v":0},0]
["2013-08-01","Boating","Summitt Lake-Kenai Peninsula","BTNG 161",null,3,{"$f":"IFERROR(VLOOKUP(D1512,'Study Area Site Variable'!$B$4:$J$1240,6,FALSE),0)","v":0},{"$f":"IFERROR(VLOOKUP(D1512,'Study Area Site Variable'!$B$4:$H$1240,7,FALSE),0)","v":0},0]
["2013-08-01","Boating","Susitna River-Deshka Landing","BTNG 162",null,24,{"$f":"IFERROR(VLOOKUP(D1513,'Study Area Site Variable'!$B$4:$J$1240,6,FALSE),0)","v":1},{"$f":"IFERROR(VLOOKUP(D1513,'Study Area Site Variable'!$B$4:$H$1240,7,FALSE),0)","v":1},0]
["2013-08-01","Boating","Susitna River-Susitna Landing","BTNG 163",null,2,{"$f":"IFERROR(VLOOKUP(D1514,'Study Area Site Variable'!$B$4:$J$1240,6,FALSE),0)","v":1},{"$f":"IFERROR(VLOOKUP(D1514,'Study Area Site Variable'!$B$4:$H$1240,7,FALSE),0)","v":1},0]
["2013-08-01","Boating","Susitna River-Talkeetna","BTNG 164",null,2,{"$f":"IFERROR(VLOOKUP(D1515,'Study Area Site Variable'!$B$4:$J$1240,6,FALSE),0)","v":0},{"$f":"IFERROR(VLOOKUP(D1515,'Study Area Site Variable'!$B$4:$H$1240,7,FALSE),0)","v":0},0]
["2013-08-01","Boating","Swan Lake System-Sterling","BTNG 165",null,4,{"$f":"IFERROR(VLOOKUP(D1516,'Study Area Site Variable'!$B$4:$J$1240,6,FALSE),0)","v":0},{"$f":"IFERROR(VLOOKUP(D1516,'Study Area Site Variable'!$B$4:$H$1240,7,FALSE),0)","v":0},0]
["2013-08-01","Boating","Taku Lake-Anchorage","BTNG 166",null,2,{"$f":"IFERROR(VLOOKUP(D1517,'Study Area Site Variable'!$B$4:$J$1240,6,FALSE),0)","v":0},{"$f":"IFERROR(VLOOKUP(D1517,'Study Area Site Variable'!$B$4:$H$1240,7,FALSE),0)","v":0},0]
["2013-08-01","Boating","Talachulitna-Judd Lake","BTNG 167",null,8,{"$f":"IFERROR(VLOOKUP(D1518,'Study Area Site Variable'!$B$4:$J$1240,6,FALSE),0)","v":0},{"$f":"IFERROR(VLOOKUP(D1518,'Study Area Site Variable'!$B$4:$H$1240,7,FALSE),0)","v":0},0]
["2013-08-01","Boating","Talkeetna Area Lakes","BTNG 168",null,3,{"$f":"IFERROR(VLOOKUP(D1519,'Study Area Site Variable'!$B$4:$J$1240,6,FALSE),0)","v":0},{"$f":"IFERROR(VLOOKUP(D1519,'Study Area Site Variable'!$B$4:$H$1240,7,FALSE),0)","v":0},3]
["2013-08-01","Boating","Talkeetna River-Talkeetna River","BTNG 169",null,2,{"$f":"IFERROR(VLOOKUP(D1520,'Study Area Site Variable'!$B$4:$J$1240,6,FALSE),0)","v":1},{"$f":"IFERROR(VLOOKUP(D1520,'Study Area Site Variable'!$B$4:$H$1240,7,FALSE),0)","v":1},0]
["2013-08-01","Boating","Tanana River-Chena","BTNG 170",null,2,{"$f":"IFERROR(VLOOKUP(D1521,'Study Area Site Variable'!$B$4:$J$1240,6,FALSE),0)","v":1},{"$f":"IFERROR(VLOOKUP(D1521,'Study Area Site Variable'!$B$4:$H$1240,7,FALSE),0)","v":0},0]
["2013-08-01","Boating","Tanana River-Delta","BTNG 171",null,1,{"$f":"IFERROR(VLOOKUP(D1522,'Study Area Site Variable'!$B$4:$J$1240,6,FALSE),0)","v":1},{"$f":"IFERROR(VLOOKUP(D1522,'Study Area Site Variable'!$B$4:$H$1240,7,FALSE),0)","v":0},0]
["2013-08-01","Boating","Tanana River-Fairbanks","BTNG 172",null,6,{"$f":"IFERROR(VLOOKUP(D1523,'Study Area Site Variable'!$B$4:$J$1240,6,FALSE),0)","v":1},{"$f":"IFERROR(VLOOKUP(D1523,'Study Area Site Variable'!$B$4:$H$1240,7,FALSE),0)","v":0},0]
["2013-08-01","Boating","Tangle Lakes- Denali Highway","BTNG 173",null,31,{"$f":"IFERROR(VLOOKUP(D1524,'Study Area Site Variable'!$B$4:$J$1240,6,FALSE),0)","v":1},{"$f":"IFERROR(VLOOKUP(D1524,'Study Area Site Variable'!$B$4:$H$1240,7,FALSE),0)","v":0},0]
["2013-08-01","Boating","Teklanika River-Nenana","BTNG 174",null,10,{"$f":"IFERROR(VLOOKUP(D1525,'Study Area Site Variable'!$B$4:$J$1240,6,FALSE),0)","v":1},{"$f":"IFERROR(VLOOKUP(D1525,'Study Area Site Variable'!$B$4:$H$1240,7,FALSE),0)","v":0},0]
["2013-08-01","Boating","Trail Lakes-Moose Pass","BTNG 175",null,10,{"$f":"IFERROR(VLOOKUP(D1526,'Study Area Site Variable'!$B$4:$J$1240,6,FALSE),0)","v":1},{"$f":"IFERROR(VLOOKUP(D1526,'Study Area Site Variable'!$B$4:$H$1240,7,FALSE),0)","v":0},0]
["2013-08-01","Boating","Turnagin Arm-Seward Hwy","BTNG 176",null,35,{"$f":"IFERROR(VLOOKUP(D1527,'Study Area Site Variable'!$B$4:$J$1240,6,FALSE),0)","v":1},{"$f":"IFERROR(VLOOKUP(D1527,'Study Area Site Variable'!$B$4:$H$1240,7,FALSE),0)","v":0},0]
["2013-08-01","Boating","Unalakleet River-Unalakleet","BTNG 177",null,5,{"$f":"IFERROR(VLOOKUP(D1528,'Study Area Site Variable'!$B$4:$J$1240,6,FALSE),0)","v":0},{"$f":"IFERROR(VLOOKUP(D1528,'Study Area Site Variable'!$B$4:$H$1240,7,FALSE),0)","v":0},0]
["2013-08-01","Boating","Valdez Arm and Harbor-Valdez","BTNG 178",null,121,{"$f":"IFERROR(VLOOKUP(D1529,'Study Area Site Variable'!$B$4:$J$1240,6,FALSE),0)","v":0},{"$f":"IFERROR(VLOOKUP(D1529,'Study Area Site Variable'!$B$4:$H$1240,7,FALSE),0)","v":0},0]
["2013-08-01","Boating","Walby Lake-Palmer","BTNG 179",null,16,{"$f":"IFERROR(VLOOKUP(D1530,'Study Area Site Variable'!$B$4:$J$1240,6,FALSE),0)","v":1},{"$f":"IFERROR(VLOOKUP(D1530,'Study Area Site Variable'!$B$4:$H$1240,7,FALSE),0)","v":0},0]
["2013-08-01","Boating","Wasilla Lake-Wasilla","BTNG 180",null,61,{"$f":"IFERROR(VLOOKUP(D1531,'Study Area Site Variable'!$B$4:$J$1240,6,FALSE),0)","v":1},{"$f":"IFERROR(VLOOKUP(D1531,'Study Area Site Variable'!$B$4:$H$1240,7,FALSE),0)","v":0},0]
["2013-08-01","Boating","Westchester-Anchorage","BTNG 181",null,15,{"$f":"IFERROR(VLOOKUP(D1532,'Study Area Site Variable'!$B$4:$J$1240,6,FALSE),0)","v":1},{"$f":"IFERROR(VLOOKUP(D1532,'Study Area Site Variable'!$B$4:$H$1240,7,FALSE),0)","v":0},0]
["2013-08-01","Boating","Willow Creek-Willow","BTNG 182",null,4,{"$f":"IFERROR(VLOOKUP(D1533,'Study Area Site Variable'!$B$4:$J$1240,6,FALSE),0)","v":1},{"$f":"IFERROR(VLOOKUP(D1533,'Study Area Site Variable'!$B$4:$H$1240,7,FALSE),0)","v":1},0]
["2013-08-01","Boating","Willow Lake-Willow","BTNG 183",null,32,{"$f":"IFERROR(VLOOKUP(D1534,'Study Area Site Variable'!$B$4:$J$1240,6,FALSE),0)","v":1},{"$f":"IFERROR(VLOOKUP(D1534,'Study Area Site Variable'!$B$4:$H$1240,7,FALSE),0)","v":0},0]
["2013-08-01","Boating","Wolf Lake-Palmer","BTNG 184",null,9,{"$f":"IFERROR(VLOOKUP(D1535,'Study Area Site Variable'!$B$4:$J$1240,6,FALSE),0)","v":0},{"$f":"IFERROR(VLOOKUP(D1535,'Study Area Site Variable'!$B$4:$H$1240,7,FALSE),0)","v":0},0]
["2013-08-01","Boating","Wolverine Lake-Chickaloon","BTNG 185",null,1,{"$f":"IFERROR(VLOOKUP(D1536,'Study Area Site Variable'!$B$4:$J$1240,6,FALSE),0)","v":0},{"$f":"IFERROR(VLOOKUP(D1536,'Study Area Site Variable'!$B$4:$H$1240,7,FALSE),0)","v":0},0]
["2013-08-01","Boating","Yentna River-Deshka Landing","BTNG 186",null,6,{"$f":"IFERROR(VLOOKUP(D1537,'Study Area Site Variable'!$B$4:$J$1240,6,FALSE),0)","v":1},{"$f":"IFERROR(VLOOKUP(D1537,'Study Area Site Variable'!$B$4:$H$1240,7,FALSE),0)","v":1},0]
["2013-08-01","Boating","Yukon River-Dalton","BTNG 187",null,60,{"$f":"IFERROR(VLOOKUP(D1538,'Study Area Site Variable'!$B$4:$J$1240,6,FALSE),0)","v":1},{"$f":"IFERROR(VLOOKUP(D1538,'Study Area Site Variable'!$B$4:$H$1240,7,FALSE),0)","v":0},0]
["2013-08-01","Boating","Yukon River-Dawson","BTNG 188",null,10,{"$f":"IFERROR(VLOOKUP(D1539,'Study Area Site Variable'!$B$4:$J$1240,6,FALSE),0)","v":0},{"$f":"IFERROR(VLOOKUP(D1539,'Study Area Site Variable'!$B$4:$H$1240,7,FALSE),0)","v":0},0]
["2013-08-01","Boating","Yukon River-Fort Yukon","BTNG 189",null,12,{"$f":"IFERROR(VLOOKUP(D1540,'Study Area Site Variable'!$B$4:$J$1240,6,FALSE),0)","v":0},{"$f":"IFERROR(VLOOKUP(D1540,'Study Area Site Variable'!$B$4:$H$1240,7,FALSE),0)","v":0},0]
["2013-08-01","Boating","Yukon River-Galena","BTNG 190",null,1,{"$f":"IFERROR(VLOOKUP(D1541,'Study Area Site Variable'!$B$4:$J$1240,6,FALSE),0)","v":0},{"$f":"IFERROR(VLOOKUP(D1541,'Study Area Site Variable'!$B$4:$H$1240,7,FALSE),0)","v":0},0]
["2013-08-01","Boating","Uncodeable","BTNG 999",null,51,{"$f":"IFERROR(VLOOKUP(D1542,'Study Area Site Variable'!$B$4:$J$1240,6,FALSE),0)","v":0},{"$f":"IFERROR(VLOOKUP(D1542,'Study Area Site Variable'!$B$4:$H$1240,7,FALSE),0)","v":0},0]
["2014-05-01","Boating","20 Mile River-Boat Launch","BTNG 1",null,5,{"$f":"IFERROR(VLOOKUP(D1543,'Study Area Site Variable'!$B$4:$J$1240,6,FALSE),0)","v":1},{"$f":"IFERROR(VLOOKUP(D1543,'Study Area Site Variable'!$B$4:$H$1240,7,FALSE),0)","v":0},0]
["2014-05-01","Boating","Anchaiatie","BTNG 2",null,0,{"$f":"IFERROR(VLOOKUP(D1544,'Study Area Site Variable'!$B$4:$J$1240,6,FALSE),0)","v":0},{"$f":"IFERROR(VLOOKUP(D1544,'Study Area Site Variable'!$B$4:$H$1240,7,FALSE),0)","v":0},0]
["2014-05-01","Boating","Anchorage Lakes","BTNG 3",null,10,{"$f":"IFERROR(VLOOKUP(D1545,'Study Area Site Variable'!$B$4:$J$1240,6,FALSE),0)","v":1},{"$f":"IFERROR(VLOOKUP(D1545,'Study Area Site Variable'!$B$4:$H$1240,7,FALSE),0)","v":0},0]
["2014-05-01","Boating","Andreafsky River-St Marys","BTNG 4",null,0,{"$f":"IFERROR(VLOOKUP(D1546,'Study Area Site Variable'!$B$4:$J$1240,6,FALSE),0)","v":0},{"$f":"IFERROR(VLOOKUP(D1546,'Study Area Site Variable'!$B$4:$H$1240,7,FALSE),0)","v":0},0]
["2014-05-01","Boating","Annette Bay-Metlakatla","BTNG 5",null,0,{"$f":"IFERROR(VLOOKUP(D1547,'Study Area Site Variable'!$B$4:$J$1240,6,FALSE),0)","v":0},{"$f":"IFERROR(VLOOKUP(D1547,'Study Area Site Variable'!$B$4:$H$1240,7,FALSE),0)","v":0},0]
["2014-05-01","Boating","Auk Bay-Juneau Boat Launch","BTNG 6",null,0,{"$f":"IFERROR(VLOOKUP(D1548,'Study Area Site Variable'!$B$4:$J$1240,6,FALSE),0)","v":0},{"$f":"IFERROR(VLOOKUP(D1548,'Study Area Site Variable'!$B$4:$H$1240,7,FALSE),0)","v":0},0]
["2014-05-01","Boating","Badger Slough-North Pole","BTNG 7",null,7,{"$f":"IFERROR(VLOOKUP(D1549,'Study Area Site Variable'!$B$4:$J$1240,6,FALSE),0)","v":0},{"$f":"IFERROR(VLOOKUP(D1549,'Study Area Site Variable'!$B$4:$H$1240,7,FALSE),0)","v":0},0]
["2014-05-01","Boating","Beach Lake-Birchwood","BTNG 8",null,11,{"$f":"IFERROR(VLOOKUP(D1550,'Study Area Site Variable'!$B$4:$J$1240,6,FALSE),0)","v":1},{"$f":"IFERROR(VLOOKUP(D1550,'Study Area Site Variable'!$B$4:$H$1240,7,FALSE),0)","v":0},0]
["2014-05-01","Boating","Bear Lake-Seward","BTNG 9",null,6,{"$f":"IFERROR(VLOOKUP(D1551,'Study Area Site Variable'!$B$4:$J$1240,6,FALSE),0)","v":0},{"$f":"IFERROR(VLOOKUP(D1551,'Study Area Site Variable'!$B$4:$H$1240,7,FALSE),0)","v":0},0]
["2014-05-01","Boating","Bear Paw Lake-Houston","BTNG 10",null,0,{"$f":"IFERROR(VLOOKUP(D1552,'Study Area Site Variable'!$B$4:$J$1240,6,FALSE),0)","v":0},{"$f":"IFERROR(VLOOKUP(D1552,'Study Area Site Variable'!$B$4:$H$1240,7,FALSE),0)","v":0},0]
["2014-05-01","Boating","Beaver Creek-Ophir","BTNG 11",null,0,{"$f":"IFERROR(VLOOKUP(D1553,'Study Area Site Variable'!$B$4:$J$1240,6,FALSE),0)","v":0},{"$f":"IFERROR(VLOOKUP(D1553,'Study Area Site Variable'!$B$4:$H$1240,7,FALSE),0)","v":0},0]
["2014-05-01","Boating","Behm Canal-Ketchikan","BTNG 12",null,0,{"$f":"IFERROR(VLOOKUP(D1554,'Study Area Site Variable'!$B$4:$J$1240,6,FALSE),0)","v":0},{"$f":"IFERROR(VLOOKUP(D1554,'Study Area Site Variable'!$B$4:$H$1240,7,FALSE),0)","v":0},0]
["2014-05-01","Boating","Benka Lake-Talkeetna","BTNG 13",null,15,{"$f":"IFERROR(VLOOKUP(D1555,'Study Area Site Variable'!$B$4:$J$1240,6,FALSE),0)","v":1},{"$f":"IFERROR(VLOOKUP(D1555,'Study Area Site Variable'!$B$4:$H$1240,7,FALSE),0)","v":0},8]
["2014-05-01","Boating","Big Beaver-Big Lake","BTNG 14",null,4,{"$f":"IFERROR(VLOOKUP(D1556,'Study Area Site Variable'!$B$4:$J$1240,6,FALSE),0)","v":0},{"$f":"IFERROR(VLOOKUP(D1556,'Study Area Site Variable'!$B$4:$H$1240,7,FALSE),0)","v":0},0]
["2014-05-01","Boating","Big Lake-Big Lake","BTNG 15",null,422,{"$f":"IFERROR(VLOOKUP(D1557,'Study Area Site Variable'!$B$4:$J$1240,6,FALSE),0)","v":1},{"$f":"IFERROR(VLOOKUP(D1557,'Study Area Site Variable'!$B$4:$H$1240,7,FALSE),0)","v":0},0]
["2014-05-01","Boating","Birch Lake-Birch Lake","BTNG 16",null,27,{"$f":"IFERROR(VLOOKUP(D1558,'Study Area Site Variable'!$B$4:$J$1240,6,FALSE),0)","v":1},{"$f":"IFERROR(VLOOKUP(D1558,'Study Area Site Variable'!$B$4:$H$1240,7,FALSE),0)","v":0},0]
["2014-05-01","Boating","Black River-Fort Yukon","BTNG 17",null,0,{"$f":"IFERROR(VLOOKUP(D1559,'Study Area Site Variable'!$B$4:$J$1240,6,FALSE),0)","v":0},{"$f":"IFERROR(VLOOKUP(D1559,'Study Area Site Variable'!$B$4:$H$1240,7,FALSE),0)","v":0},0]
["2014-05-01","Boating","Bontenintata-Campground","BTNG 18",null,0,{"$f":"IFERROR(VLOOKUP(D1560,'Study Area Site Variable'!$B$4:$J$1240,6,FALSE),0)","v":0},{"$f":"IFERROR(VLOOKUP(D1560,'Study Area Site Variable'!$B$4:$H$1240,7,FALSE),0)","v":0},0]
["2014-05-01","Boating","Byers Lake/Susitna River-Talkeetna","BTNG 19",null,0,{"$f":"IFERROR(VLOOKUP(D1561,'Study Area Site Variable'!$B$4:$J$1240,6,FALSE),0)","v":0},{"$f":"IFERROR(VLOOKUP(D1561,'Study Area Site Variable'!$B$4:$H$1240,7,FALSE),0)","v":0},0]
["2014-05-01","Boating","Byers Lake-Boat Launch Campground","BTNG 20",null,20,{"$f":"IFERROR(VLOOKUP(D1562,'Study Area Site Variable'!$B$4:$J$1240,6,FALSE),0)","v":1},{"$f":"IFERROR(VLOOKUP(D1562,'Study Area Site Variable'!$B$4:$H$1240,7,FALSE),0)","v":0},5]
["2014-05-01","Boating","Campbell Creek-Anchorage","BTNG 21",null,0,{"$f":"IFERROR(VLOOKUP(D1563,'Study Area Site Variable'!$B$4:$J$1240,6,FALSE),0)","v":1},{"$f":"IFERROR(VLOOKUP(D1563,'Study Area Site Variable'!$B$4:$H$1240,7,FALSE),0)","v":0},0]
["2014-05-01","Boating","Campbell Lake-Anchorage","BTNG 22",null,43,{"$f":"IFERROR(VLOOKUP(D1564,'Study Area Site Variable'!$B$4:$J$1240,6,FALSE),0)","v":0},{"$f":"IFERROR(VLOOKUP(D1564,'Study Area Site Variable'!$B$4:$H$1240,7,FALSE),0)","v":0},0]
["2014-05-01","Boating","Canoe Trails-Tanana Lake Trailhead","BTNG 23",null,0,{"$f":"IFERROR(VLOOKUP(D1565,'Study Area Site Variable'!$B$4:$J$1240,6,FALSE),0)","v":0},{"$f":"IFERROR(VLOOKUP(D1565,'Study Area Site Variable'!$B$4:$H$1240,7,FALSE),0)","v":0},0]
["2014-05-01","Boating","Captain Cook Recreation Site","BTNG 24",null,0,{"$f":"IFERROR(VLOOKUP(D1566,'Study Area Site Variable'!$B$4:$J$1240,6,FALSE),0)","v":0},{"$f":"IFERROR(VLOOKUP(D1566,'Study Area Site Variable'!$B$4:$H$1240,7,FALSE),0)","v":0},0]
["2014-05-01","Boating","Carpenters Lake-Burma Road","BTNG 25",null,0,{"$f":"IFERROR(VLOOKUP(D1567,'Study Area Site Variable'!$B$4:$J$1240,6,FALSE),0)","v":0},{"$f":"IFERROR(VLOOKUP(D1567,'Study Area Site Variable'!$B$4:$H$1240,7,FALSE),0)","v":0},0]
["2014-05-01","Boating","Chatanika River-Chatanika","BTNG 26",null,58,{"$f":"IFERROR(VLOOKUP(D1568,'Study Area Site Variable'!$B$4:$J$1240,6,FALSE),0)","v":1},{"$f":"IFERROR(VLOOKUP(D1568,'Study Area Site Variable'!$B$4:$H$1240,7,FALSE),0)","v":0},0]
["2014-05-01","Boating","Chena Lakes Rec Area-North Pole","BTNG 27",null,41,{"$f":"IFERROR(VLOOKUP(D1569,'Study Area Site Variable'!$B$4:$J$1240,6,FALSE),0)","v":1},{"$f":"IFERROR(VLOOKUP(D1569,'Study Area Site Variable'!$B$4:$H$1240,7,FALSE),0)","v":0},0]
["2014-05-01","Boating","Chena River-Chena","BTNG 28",null,32,{"$f":"IFERROR(VLOOKUP(D1570,'Study Area Site Variable'!$B$4:$J$1240,6,FALSE),0)","v":1},{"$f":"IFERROR(VLOOKUP(D1570,'Study Area Site Variable'!$B$4:$H$1240,7,FALSE),0)","v":0},5]
["2014-05-01","Boating","Chena River-Fairbanks","BTNG 29",null,136,{"$f":"IFERROR(VLOOKUP(D1571,'Study Area Site Variable'!$B$4:$J$1240,6,FALSE),0)","v":1},{"$f":"IFERROR(VLOOKUP(D1571,'Study Area Site Variable'!$B$4:$H$1240,7,FALSE),0)","v":0},0]
["2014-05-01","Boating","Chena River-Ft. Wainwright","BTNG 30",null,3,{"$f":"IFERROR(VLOOKUP(D1572,'Study Area Site Variable'!$B$4:$J$1240,6,FALSE),0)","v":0},{"$f":"IFERROR(VLOOKUP(D1572,'Study Area Site Variable'!$B$4:$H$1240,7,FALSE),0)","v":0},0]
["2014-05-01","Boating","Chena River-Nordale","BTNG 31",null,36,{"$f":"IFERROR(VLOOKUP(D1573,'Study Area Site Variable'!$B$4:$J$1240,6,FALSE),0)","v":1},{"$f":"IFERROR(VLOOKUP(D1573,'Study Area Site Variable'!$B$4:$H$1240,7,FALSE),0)","v":0},0]
["2014-05-01","Boating","Chena River-North Pole","BTNG 32",null,12,{"$f":"IFERROR(VLOOKUP(D1574,'Study Area Site Variable'!$B$4:$J$1240,6,FALSE),0)","v":0},{"$f":"IFERROR(VLOOKUP(D1574,'Study Area Site Variable'!$B$4:$H$1240,7,FALSE),0)","v":0},0]
["2014-05-01","Boating","Chena River-Upper","BTNG 33",null,4,{"$f":"IFERROR(VLOOKUP(D1575,'Study Area Site Variable'!$B$4:$J$1240,6,FALSE),0)","v":1},{"$f":"IFERROR(VLOOKUP(D1575,'Study Area Site Variable'!$B$4:$H$1240,7,FALSE),0)","v":0},0]
["2014-05-01","Boating","Cheney Lake-Anchorage","BTNG 34",null,23,{"$f":"IFERROR(VLOOKUP(D1576,'Study Area Site Variable'!$B$4:$J$1240,6,FALSE),0)","v":0},{"$f":"IFERROR(VLOOKUP(D1576,'Study Area Site Variable'!$B$4:$H$1240,7,FALSE),0)","v":0},0]
["2014-05-01","Boating","Cheri Lake-Houston","BTNG 35",null,0,{"$f":"IFERROR(VLOOKUP(D1577,'Study Area Site Variable'!$B$4:$J$1240,6,FALSE),0)","v":0},{"$f":"IFERROR(VLOOKUP(D1577,'Study Area Site Variable'!$B$4:$H$1240,7,FALSE),0)","v":0},0]
["2014-05-01","Boating","Chiniak Bay-Kodiak","BTNG 36",null,0,{"$f":"IFERROR(VLOOKUP(D1578,'Study Area Site Variable'!$B$4:$J$1240,6,FALSE),0)","v":1},{"$f":"IFERROR(VLOOKUP(D1578,'Study Area Site Variable'!$B$4:$H$1240,7,FALSE),0)","v":0},0]
["2014-05-01","Boating","Chukchi Sea-Kotzebue","BTNG 37",null,0,{"$f":"IFERROR(VLOOKUP(D1579,'Study Area Site Variable'!$B$4:$J$1240,6,FALSE),0)","v":0},{"$f":"IFERROR(VLOOKUP(D1579,'Study Area Site Variable'!$B$4:$H$1240,7,FALSE),0)","v":0},0]
["2014-05-01","Boating","Chulitna River-Parks Highway","BTNG 38",null,9,{"$f":"IFERROR(VLOOKUP(D1580,'Study Area Site Variable'!$B$4:$J$1240,6,FALSE),0)","v":1},{"$f":"IFERROR(VLOOKUP(D1580,'Study Area Site Variable'!$B$4:$H$1240,7,FALSE),0)","v":1},3]
["2014-05-01","Boating","Chulitna River-Troublesome Crek","BTNG 39",null,0,{"$f":"IFERROR(VLOOKUP(D1581,'Study Area Site Variable'!$B$4:$J$1240,6,FALSE),0)","v":1},{"$f":"IFERROR(VLOOKUP(D1581,'Study Area Site Variable'!$B$4:$H$1240,7,FALSE),0)","v":1},0]
["2014-05-01","Boating","Clear Creek-Talkeetna","BTNG 40",null,0,{"$f":"IFERROR(VLOOKUP(D1582,'Study Area Site Variable'!$B$4:$J$1240,6,FALSE),0)","v":1},{"$f":"IFERROR(VLOOKUP(D1582,'Study Area Site Variable'!$B$4:$H$1240,7,FALSE),0)","v":0},0]
["2014-05-01","Boating","Clooney Lake-Anchorage","BTNG 41",null,0,{"$f":"IFERROR(VLOOKUP(D1583,'Study Area Site Variable'!$B$4:$J$1240,6,FALSE),0)","v":0},{"$f":"IFERROR(VLOOKUP(D1583,'Study Area Site Variable'!$B$4:$H$1240,7,FALSE),0)","v":0},0]
["2014-05-01","Boating","Cook Inlet-Deep Crek","BTNG 42",null,2,{"$f":"IFERROR(VLOOKUP(D1584,'Study Area Site Variable'!$B$4:$J$1240,6,FALSE),0)","v":1},{"$f":"IFERROR(VLOOKUP(D1584,'Study Area Site Variable'!$B$4:$H$1240,7,FALSE),0)","v":0},0]
["2014-05-01","Boating","Cook Inlet-Homer","BTNG 43",null,2,{"$f":"IFERROR(VLOOKUP(D1585,'Study Area Site Variable'!$B$4:$J$1240,6,FALSE),0)","v":1},{"$f":"IFERROR(VLOOKUP(D1585,'Study Area Site Variable'!$B$4:$H$1240,7,FALSE),0)","v":0},0]
["2014-05-01","Boating","Cook Inlet-Nikiski","BTNG 44",null,0,{"$f":"IFERROR(VLOOKUP(D1586,'Study Area Site Variable'!$B$4:$J$1240,6,FALSE),0)","v":0},{"$f":"IFERROR(VLOOKUP(D1586,'Study Area Site Variable'!$B$4:$H$1240,7,FALSE),0)","v":0},0]
["2014-05-01","Boating","Cook Inlet-Seldovia","BTNG 45",null,7,{"$f":"IFERROR(VLOOKUP(D1587,'Study Area Site Variable'!$B$4:$J$1240,6,FALSE),0)","v":0},{"$f":"IFERROR(VLOOKUP(D1587,'Study Area Site Variable'!$B$4:$H$1240,7,FALSE),0)","v":0},0]
["2014-05-01","Boating","Cook Inlet-Unspecified","BTNG 46",null,0,{"$f":"IFERROR(VLOOKUP(D1588,'Study Area Site Variable'!$B$4:$J$1240,6,FALSE),0)","v":0},{"$f":"IFERROR(VLOOKUP(D1588,'Study Area Site Variable'!$B$4:$H$1240,7,FALSE),0)","v":0},0]
["2014-05-01","Boating","Cottonwood Lake-Wasilla","BTNG 47",null,57,{"$f":"IFERROR(VLOOKUP(D1589,'Study Area Site Variable'!$B$4:$J$1240,6,FALSE),0)","v":0},{"$f":"IFERROR(VLOOKUP(D1589,'Study Area Site Variable'!$B$4:$H$1240,7,FALSE),0)","v":0},0]
["2014-05-01","Boating","Crator Lake-Tazlina","BTNG 48",null,0,{"$f":"IFERROR(VLOOKUP(D1590,'Study Area Site Variable'!$B$4:$J$1240,6,FALSE),0)","v":0},{"$f":"IFERROR(VLOOKUP(D1590,'Study Area Site Variable'!$B$4:$H$1240,7,FALSE),0)","v":0},0]
["2014-05-01","Boating","Crooked Lake-Wasilla","BTNG 49",null,45,{"$f":"IFERROR(VLOOKUP(D1591,'Study Area Site Variable'!$B$4:$J$1240,6,FALSE),0)","v":0},{"$f":"IFERROR(VLOOKUP(D1591,'Study Area Site Variable'!$B$4:$H$1240,7,FALSE),0)","v":0},0]
["2014-05-01","Boating","Crystal Lake-Willow","BTNG 50",null,3,{"$f":"IFERROR(VLOOKUP(D1592,'Study Area Site Variable'!$B$4:$J$1240,6,FALSE),0)","v":1},{"$f":"IFERROR(VLOOKUP(D1592,'Study Area Site Variable'!$B$4:$H$1240,7,FALSE),0)","v":0},0]
["2014-05-01","Boating","Delta Clearwater-Clearwater Lake","BTNG 51",null,0,{"$f":"IFERROR(VLOOKUP(D1593,'Study Area Site Variable'!$B$4:$J$1240,6,FALSE),0)","v":0},{"$f":"IFERROR(VLOOKUP(D1593,'Study Area Site Variable'!$B$4:$H$1240,7,FALSE),0)","v":0},0]
["2014-05-01","Boating","Delta Clearwater-Clearwater River","BTNG 52",null,0,{"$f":"IFERROR(VLOOKUP(D1594,'Study Area Site Variable'!$B$4:$J$1240,6,FALSE),0)","v":1},{"$f":"IFERROR(VLOOKUP(D1594,'Study Area Site Variable'!$B$4:$H$1240,7,FALSE),0)","v":0},0]
["2014-05-01","Boating","Delta River-Richardson Highway","BTNG 53",null,0,{"$f":"IFERROR(VLOOKUP(D1595,'Study Area Site Variable'!$B$4:$J$1240,6,FALSE),0)","v":1},{"$f":"IFERROR(VLOOKUP(D1595,'Study Area Site Variable'!$B$4:$H$1240,7,FALSE),0)","v":0},0]
["2014-05-01","Boating","Delta River-Tangle Lake Campground","BTNG 54",null,0,{"$f":"IFERROR(VLOOKUP(D1596,'Study Area Site Variable'!$B$4:$J$1240,6,FALSE),0)","v":0},{"$f":"IFERROR(VLOOKUP(D1596,'Study Area Site Variable'!$B$4:$H$1240,7,FALSE),0)","v":0},0]
["2014-05-01","Boating","Deshka River-Deshka Landing","BTNG 55",null,2,{"$f":"IFERROR(VLOOKUP(D1597,'Study Area Site Variable'!$B$4:$J$1240,6,FALSE),0)","v":1},{"$f":"IFERROR(VLOOKUP(D1597,'Study Area Site Variable'!$B$4:$H$1240,7,FALSE),0)","v":1},0]
["2014-05-01","Boating","Doly Varden Lake-Kenai","BTNG 56",null,0,{"$f":"IFERROR(VLOOKUP(D1598,'Study Area Site Variable'!$B$4:$J$1240,6,FALSE),0)","v":0},{"$f":"IFERROR(VLOOKUP(D1598,'Study Area Site Variable'!$B$4:$H$1240,7,FALSE),0)","v":0},0]
["2014-05-01","Boating","Drill Lake-Chickaloon","BTNG 57",null,0,{"$f":"IFERROR(VLOOKUP(D1599,'Study Area Site Variable'!$B$4:$J$1240,6,FALSE),0)","v":1},{"$f":"IFERROR(VLOOKUP(D1599,'Study Area Site Variable'!$B$4:$H$1240,7,FALSE),0)","v":0},0]
["2014-05-01","Boating","Eagle RIver-Eagle River","BTNG 58",null,14,{"$f":"IFERROR(VLOOKUP(D1600,'Study Area Site Variable'!$B$4:$J$1240,6,FALSE),0)","v":1},{"$f":"IFERROR(VLOOKUP(D1600,'Study Area Site Variable'!$B$4:$H$1240,7,FALSE),0)","v":0},0]
["2014-05-01","Boating","Echo Lake-Anchorage","BTNG 59",null,1,{"$f":"IFERROR(VLOOKUP(D1601,'Study Area Site Variable'!$B$4:$J$1240,6,FALSE),0)","v":0},{"$f":"IFERROR(VLOOKUP(D1601,'Study Area Site Variable'!$B$4:$H$1240,7,FALSE),0)","v":0},0]
["2014-05-01","Boating","Eklutna Lake-Eklutna Campground","BTNG 60",null,14,{"$f":"IFERROR(VLOOKUP(D1602,'Study Area Site Variable'!$B$4:$J$1240,6,FALSE),0)","v":1},{"$f":"IFERROR(VLOOKUP(D1602,'Study Area Site Variable'!$B$4:$H$1240,7,FALSE),0)","v":0},0]
["2014-05-01","Boating","Fielding Lake- Fielding Lake State Recreation Area","BTNG 61",null,0,{"$f":"IFERROR(VLOOKUP(D1603,'Study Area Site Variable'!$B$4:$J$1240,6,FALSE),0)","v":0},{"$f":"IFERROR(VLOOKUP(D1603,'Study Area Site Variable'!$B$4:$H$1240,7,FALSE),0)","v":0},0]
["2014-05-01","Boating","Finger Lake- Finger Lake SRS","BTNG 62",null,44,{"$f":"IFERROR(VLOOKUP(D1604,'Study Area Site Variable'!$B$4:$J$1240,6,FALSE),0)","v":0},{"$f":"IFERROR(VLOOKUP(D1604,'Study Area Site Variable'!$B$4:$H$1240,7,FALSE),0)","v":0},7]
["2014-05-01","Boating","Fire Lake- Eagle River","BTNG 63",null,5,{"$f":"IFERROR(VLOOKUP(D1605,'Study Area Site Variable'!$B$4:$J$1240,6,FALSE),0)","v":1},{"$f":"IFERROR(VLOOKUP(D1605,'Study Area Site Variable'!$B$4:$H$1240,7,FALSE),0)","v":0},0]
["2014-05-01","Boating","Flat Lake-Big Lake","BTNG 64",null,20,{"$f":"IFERROR(VLOOKUP(D1606,'Study Area Site Variable'!$B$4:$J$1240,6,FALSE),0)","v":0},{"$f":"IFERROR(VLOOKUP(D1606,'Study Area Site Variable'!$B$4:$H$1240,7,FALSE),0)","v":0},0]
["2014-05-01","Boating","Gastineau Channel-Juneau","BTNG 65",null,0,{"$f":"IFERROR(VLOOKUP(D1607,'Study Area Site Variable'!$B$4:$J$1240,6,FALSE),0)","v":0},{"$f":"IFERROR(VLOOKUP(D1607,'Study Area Site Variable'!$B$4:$H$1240,7,FALSE),0)","v":0},0]
["2014-05-01","Boating","George Lake-AK Highway Landing East of Tanana River Bridge","BTNG 66",null,0,{"$f":"IFERROR(VLOOKUP(D1608,'Study Area Site Variable'!$B$4:$J$1240,6,FALSE),0)","v":0},{"$f":"IFERROR(VLOOKUP(D1608,'Study Area Site Variable'!$B$4:$H$1240,7,FALSE),0)","v":0},0]
["2014-05-01","Boating","Glacier Creek-Girdwood","BTNG 67",null,1,{"$f":"IFERROR(VLOOKUP(D1609,'Study Area Site Variable'!$B$4:$J$1240,6,FALSE),0)","v":0},{"$f":"IFERROR(VLOOKUP(D1609,'Study Area Site Variable'!$B$4:$H$1240,7,FALSE),0)","v":0},0]
["2014-05-01","Boating","Good Pasture-Delta Bridge","BTNG 68",null,6,{"$f":"IFERROR(VLOOKUP(D1610,'Study Area Site Variable'!$B$4:$J$1240,6,FALSE),0)","v":0},{"$f":"IFERROR(VLOOKUP(D1610,'Study Area Site Variable'!$B$4:$H$1240,7,FALSE),0)","v":0},0]
["2014-05-01","Boating","Goodnews Lake-Dillingham","BTNG 69",null,0,{"$f":"IFERROR(VLOOKUP(D1611,'Study Area Site Variable'!$B$4:$J$1240,6,FALSE),0)","v":0},{"$f":"IFERROR(VLOOKUP(D1611,'Study Area Site Variable'!$B$4:$H$1240,7,FALSE),0)","v":0},0]
["2014-05-01","Boating","Goose Lake-Anchorage","BTNG 70",null,1,{"$f":"IFERROR(VLOOKUP(D1612,'Study Area Site Variable'!$B$4:$J$1240,6,FALSE),0)","v":0},{"$f":"IFERROR(VLOOKUP(D1612,'Study Area Site Variable'!$B$4:$H$1240,7,FALSE),0)","v":0},0]
["2014-05-01","Boating","Granite Creek-Kenai","BTNG 71",null,0,{"$f":"IFERROR(VLOOKUP(D1613,'Study Area Site Variable'!$B$4:$J$1240,6,FALSE),0)","v":0},{"$f":"IFERROR(VLOOKUP(D1613,'Study Area Site Variable'!$B$4:$H$1240,7,FALSE),0)","v":0},0]
["2014-05-01","Boating","Gulf of Alaska ","BTNG 72",null,0,{"$f":"IFERROR(VLOOKUP(D1614,'Study Area Site Variable'!$B$4:$J$1240,6,FALSE),0)","v":0},{"$f":"IFERROR(VLOOKUP(D1614,'Study Area Site Variable'!$B$4:$H$1240,7,FALSE),0)","v":0},0]
["2014-05-01","Boating","Gulf of Alaska-Juneau","BTNG 73",null,0,{"$f":"IFERROR(VLOOKUP(D1615,'Study Area Site Variable'!$B$4:$J$1240,6,FALSE),0)","v":0},{"$f":"IFERROR(VLOOKUP(D1615,'Study Area Site Variable'!$B$4:$H$1240,7,FALSE),0)","v":0},0]
["2014-05-01","Boating","Gulf of Alaska-Whittier","BTNG 74",null,0,{"$f":"IFERROR(VLOOKUP(D1616,'Study Area Site Variable'!$B$4:$J$1240,6,FALSE),0)","v":0},{"$f":"IFERROR(VLOOKUP(D1616,'Study Area Site Variable'!$B$4:$H$1240,7,FALSE),0)","v":0},0]
["2014-05-01","Boating","Gulkana River-Gulkana","BTNG 75",null,3,{"$f":"IFERROR(VLOOKUP(D1617,'Study Area Site Variable'!$B$4:$J$1240,6,FALSE),0)","v":1},{"$f":"IFERROR(VLOOKUP(D1617,'Study Area Site Variable'!$B$4:$H$1240,7,FALSE),0)","v":0},0]
["2014-05-01","Boating","Gulkana River-Paxson Lake","BTNG 76",null,21,{"$f":"IFERROR(VLOOKUP(D1618,'Study Area Site Variable'!$B$4:$J$1240,6,FALSE),0)","v":1},{"$f":"IFERROR(VLOOKUP(D1618,'Study Area Site Variable'!$B$4:$H$1240,7,FALSE),0)","v":0},0]
["2014-05-01","Boating","Harding Lake-Fairbanks","BTNG 77",null,114,{"$f":"IFERROR(VLOOKUP(D1619,'Study Area Site Variable'!$B$4:$J$1240,6,FALSE),0)","v":1},{"$f":"IFERROR(VLOOKUP(D1619,'Study Area Site Variable'!$B$4:$H$1240,7,FALSE),0)","v":0},0]
["2014-05-01","Boating","Healy Lake-Cummings Rd","BTNG 78",null,0,{"$f":"IFERROR(VLOOKUP(D1620,'Study Area Site Variable'!$B$4:$J$1240,6,FALSE),0)","v":0},{"$f":"IFERROR(VLOOKUP(D1620,'Study Area Site Variable'!$B$4:$H$1240,7,FALSE),0)","v":0},0]
["2014-05-01","Boating","Hidden Lake-Kenai","BTNG 79",null,0,{"$f":"IFERROR(VLOOKUP(D1621,'Study Area Site Variable'!$B$4:$J$1240,6,FALSE),0)","v":1},{"$f":"IFERROR(VLOOKUP(D1621,'Study Area Site Variable'!$B$4:$H$1240,7,FALSE),0)","v":0},0]
["2014-05-01","Boating","Honeybee Lake-Willow","BTNG 80",null,0,{"$f":"IFERROR(VLOOKUP(D1622,'Study Area Site Variable'!$B$4:$J$1240,6,FALSE),0)","v":0},{"$f":"IFERROR(VLOOKUP(D1622,'Study Area Site Variable'!$B$4:$H$1240,7,FALSE),0)","v":0},0]
["2014-05-01","Boating","Horseshoe Lake-Houston","BTNG 81",null,1,{"$f":"IFERROR(VLOOKUP(D1623,'Study Area Site Variable'!$B$4:$J$1240,6,FALSE),0)","v":0},{"$f":"IFERROR(VLOOKUP(D1623,'Study Area Site Variable'!$B$4:$H$1240,7,FALSE),0)","v":0},0]
["2014-05-01","Boating","Icy Straits-Hoonah","BTNG 82",null,0,{"$f":"IFERROR(VLOOKUP(D1624,'Study Area Site Variable'!$B$4:$J$1240,6,FALSE),0)","v":0},{"$f":"IFERROR(VLOOKUP(D1624,'Study Area Site Variable'!$B$4:$H$1240,7,FALSE),0)","v":0},0]
["2014-05-01","Boating","J.H. Lake-Kantishna River","BTNG 83",null,0,{"$f":"IFERROR(VLOOKUP(D1625,'Study Area Site Variable'!$B$4:$J$1240,6,FALSE),0)","v":0},{"$f":"IFERROR(VLOOKUP(D1625,'Study Area Site Variable'!$B$4:$H$1240,7,FALSE),0)","v":0},0]
["2014-05-01","Boating","Jewel Lake-Anchorage","BTNG 84",null,12,{"$f":"IFERROR(VLOOKUP(D1626,'Study Area Site Variable'!$B$4:$J$1240,6,FALSE),0)","v":0},{"$f":"IFERROR(VLOOKUP(D1626,'Study Area Site Variable'!$B$4:$H$1240,7,FALSE),0)","v":0},0]
["2014-05-01","Boating","Jim Creek-Mat Su","BTNG 85",null,6,{"$f":"IFERROR(VLOOKUP(D1627,'Study Area Site Variable'!$B$4:$J$1240,6,FALSE),0)","v":1},{"$f":"IFERROR(VLOOKUP(D1627,'Study Area Site Variable'!$B$4:$H$1240,7,FALSE),0)","v":0},0]
["2014-05-01","Boating","Kachemak Bay- Homer","BTNG 86",null,277,{"$f":"IFERROR(VLOOKUP(D1628,'Study Area Site Variable'!$B$4:$J$1240,6,FALSE),0)","v":1},{"$f":"IFERROR(VLOOKUP(D1628,'Study Area Site Variable'!$B$4:$H$1240,7,FALSE),0)","v":0},0]
["2014-05-01","Boating","Kachemak Bay-Seldovia","BTNG 87",null,6,{"$f":"IFERROR(VLOOKUP(D1629,'Study Area Site Variable'!$B$4:$J$1240,6,FALSE),0)","v":1},{"$f":"IFERROR(VLOOKUP(D1629,'Study Area Site Variable'!$B$4:$H$1240,7,FALSE),0)","v":0},0]
["2014-05-01","Boating","Kake-SE Alaska","BTNG 88",null,0,{"$f":"IFERROR(VLOOKUP(D1630,'Study Area Site Variable'!$B$4:$J$1240,6,FALSE),0)","v":0},{"$f":"IFERROR(VLOOKUP(D1630,'Study Area Site Variable'!$B$4:$H$1240,7,FALSE),0)","v":0},0]
["2014-05-01","Boating","Kalmbach Lake-Wasilla","BTNG 89",null,0,{"$f":"IFERROR(VLOOKUP(D1631,'Study Area Site Variable'!$B$4:$J$1240,6,FALSE),0)","v":0},{"$f":"IFERROR(VLOOKUP(D1631,'Study Area Site Variable'!$B$4:$H$1240,7,FALSE),0)","v":0},0]
["2014-05-01","Boating","Kasilof River-Sterling Highway","BTNG 90",null,0,{"$f":"IFERROR(VLOOKUP(D1632,'Study Area Site Variable'!$B$4:$J$1240,6,FALSE),0)","v":1},{"$f":"IFERROR(VLOOKUP(D1632,'Study Area Site Variable'!$B$4:$H$1240,7,FALSE),0)","v":0},0]
["2014-05-01","Boating","Katie Lake-Talkeetna","BTNG 91",null,0,{"$f":"IFERROR(VLOOKUP(D1633,'Study Area Site Variable'!$B$4:$J$1240,6,FALSE),0)","v":1},{"$f":"IFERROR(VLOOKUP(D1633,'Study Area Site Variable'!$B$4:$H$1240,7,FALSE),0)","v":0},0]
["2014-05-01","Boating","Katmai-Saboniski Loop","BTNG 92",null,0,{"$f":"IFERROR(VLOOKUP(D1634,'Study Area Site Variable'!$B$4:$J$1240,6,FALSE),0)","v":0},{"$f":"IFERROR(VLOOKUP(D1634,'Study Area Site Variable'!$B$4:$H$1240,7,FALSE),0)","v":0},0]
["2014-05-01","Boating","Kelly Lake-Kenai","BTNG 93",null,0,{"$f":"IFERROR(VLOOKUP(D1635,'Study Area Site Variable'!$B$4:$J$1240,6,FALSE),0)","v":0},{"$f":"IFERROR(VLOOKUP(D1635,'Study Area Site Variable'!$B$4:$H$1240,7,FALSE),0)","v":0},0]
["2014-05-01","Boating","Kenai Canoe Trails-Swanson River","BTNG 94",null,0,{"$f":"IFERROR(VLOOKUP(D1636,'Study Area Site Variable'!$B$4:$J$1240,6,FALSE),0)","v":0},{"$f":"IFERROR(VLOOKUP(D1636,'Study Area Site Variable'!$B$4:$H$1240,7,FALSE),0)","v":0},0]
["2014-05-01","Boating","Kenai Lake-Cooper Landing","BTNG 95",null,49,{"$f":"IFERROR(VLOOKUP(D1637,'Study Area Site Variable'!$B$4:$J$1240,6,FALSE),0)","v":1},{"$f":"IFERROR(VLOOKUP(D1637,'Study Area Site Variable'!$B$4:$H$1240,7,FALSE),0)","v":0},0]
["2014-05-01","Boating","Kenai Lakes-Unspecified","BTNG 96",null,3,{"$f":"IFERROR(VLOOKUP(D1638,'Study Area Site Variable'!$B$4:$J$1240,6,FALSE),0)","v":1},{"$f":"IFERROR(VLOOKUP(D1638,'Study Area Site Variable'!$B$4:$H$1240,7,FALSE),0)","v":0},0]
["2014-05-01","Boating","Kenai Lake-Trail River","BTNG 97",null,0,{"$f":"IFERROR(VLOOKUP(D1639,'Study Area Site Variable'!$B$4:$J$1240,6,FALSE),0)","v":0},{"$f":"IFERROR(VLOOKUP(D1639,'Study Area Site Variable'!$B$4:$H$1240,7,FALSE),0)","v":0},0]
["2014-05-01","Boating","Kenai River-Lower","BTNG 98",null,2,{"$f":"IFERROR(VLOOKUP(D1640,'Study Area Site Variable'!$B$4:$J$1240,6,FALSE),0)","v":1},{"$f":"IFERROR(VLOOKUP(D1640,'Study Area Site Variable'!$B$4:$H$1240,7,FALSE),0)","v":0},0]
["2014-05-01","Boating","Kenai River-Middle","BTNG 99",null,0,{"$f":"IFERROR(VLOOKUP(D1641,'Study Area Site Variable'!$B$4:$J$1240,6,FALSE),0)","v":1},{"$f":"IFERROR(VLOOKUP(D1641,'Study Area Site Variable'!$B$4:$H$1240,7,FALSE),0)","v":0},0]
["2014-05-01","Boating","Kenai River-Unspecified","BTNG 100",null,10,{"$f":"IFERROR(VLOOKUP(D1642,'Study Area Site Variable'!$B$4:$J$1240,6,FALSE),0)","v":0},{"$f":"IFERROR(VLOOKUP(D1642,'Study Area Site Variable'!$B$4:$H$1240,7,FALSE),0)","v":0},0]
["2014-05-01","Boating","Kenai River-Upper","BTNG 101",null,1,{"$f":"IFERROR(VLOOKUP(D1643,'Study Area Site Variable'!$B$4:$J$1240,6,FALSE),0)","v":1},{"$f":"IFERROR(VLOOKUP(D1643,'Study Area Site Variable'!$B$4:$H$1240,7,FALSE),0)","v":0},0]
["2014-05-01","Boating","Kepler Bradley Lakes-Palmer","BTNG 102",null,0,{"$f":"IFERROR(VLOOKUP(D1644,'Study Area Site Variable'!$B$4:$J$1240,6,FALSE),0)","v":0},{"$f":"IFERROR(VLOOKUP(D1644,'Study Area Site Variable'!$B$4:$H$1240,7,FALSE),0)","v":0},0]
["2014-05-01","Boating","Ketchikan Saltwater","BTNG 103",null,0,{"$f":"IFERROR(VLOOKUP(D1645,'Study Area Site Variable'!$B$4:$J$1240,6,FALSE),0)","v":0},{"$f":"IFERROR(VLOOKUP(D1645,'Study Area Site Variable'!$B$4:$H$1240,7,FALSE),0)","v":0},0]
["2014-05-01","Boating","King Creek-Nenana","BTNG 104",null,0,{"$f":"IFERROR(VLOOKUP(D1646,'Study Area Site Variable'!$B$4:$J$1240,6,FALSE),0)","v":0},{"$f":"IFERROR(VLOOKUP(D1646,'Study Area Site Variable'!$B$4:$H$1240,7,FALSE),0)","v":0},0]
["2014-05-01","Boating","Knik Lake","BTNG 105",null,0,{"$f":"IFERROR(VLOOKUP(D1647,'Study Area Site Variable'!$B$4:$J$1240,6,FALSE),0)","v":0},{"$f":"IFERROR(VLOOKUP(D1647,'Study Area Site Variable'!$B$4:$H$1240,7,FALSE),0)","v":0},0]
["2014-05-01","Boating","Knik River to Glacier-Knik River Access","BTNG 106",null,4,{"$f":"IFERROR(VLOOKUP(D1648,'Study Area Site Variable'!$B$4:$J$1240,6,FALSE),0)","v":1},{"$f":"IFERROR(VLOOKUP(D1648,'Study Area Site Variable'!$B$4:$H$1240,7,FALSE),0)","v":0},0]
["2014-05-01","Boating","Kodiak","BTNG 107",null,2,{"$f":"IFERROR(VLOOKUP(D1649,'Study Area Site Variable'!$B$4:$J$1240,6,FALSE),0)","v":0},{"$f":"IFERROR(VLOOKUP(D1649,'Study Area Site Variable'!$B$4:$H$1240,7,FALSE),0)","v":0},0]
["2014-05-01","Boating","Kongakut River-Fairbanks by Air","BTNG 108",null,0,{"$f":"IFERROR(VLOOKUP(D1650,'Study Area Site Variable'!$B$4:$J$1240,6,FALSE),0)","v":0},{"$f":"IFERROR(VLOOKUP(D1650,'Study Area Site Variable'!$B$4:$H$1240,7,FALSE),0)","v":0},0]
["2014-05-01","Boating","Koyukuk River-Bettles","BTNG 109",null,0,{"$f":"IFERROR(VLOOKUP(D1651,'Study Area Site Variable'!$B$4:$J$1240,6,FALSE),0)","v":0},{"$f":"IFERROR(VLOOKUP(D1651,'Study Area Site Variable'!$B$4:$H$1240,7,FALSE),0)","v":0},0]
["2014-05-01","Boating","Koyukuk River-Unspecified","BTNG 110",null,0,{"$f":"IFERROR(VLOOKUP(D1652,'Study Area Site Variable'!$B$4:$J$1240,6,FALSE),0)","v":0},{"$f":"IFERROR(VLOOKUP(D1652,'Study Area Site Variable'!$B$4:$H$1240,7,FALSE),0)","v":0},0]
["2014-05-01","Boating","Kroto Creek-Petersville","BTNG 111",null,0,{"$f":"IFERROR(VLOOKUP(D1653,'Study Area Site Variable'!$B$4:$J$1240,6,FALSE),0)","v":0},{"$f":"IFERROR(VLOOKUP(D1653,'Study Area Site Variable'!$B$4:$H$1240,7,FALSE),0)","v":0},0]
["2014-05-01","Boating","Kuskokwim River-Bethel","BTNG 112",null,0,{"$f":"IFERROR(VLOOKUP(D1654,'Study Area Site Variable'!$B$4:$J$1240,6,FALSE),0)","v":0},{"$f":"IFERROR(VLOOKUP(D1654,'Study Area Site Variable'!$B$4:$H$1240,7,FALSE),0)","v":0},0]
["2014-05-01","Boating","Lake Louise","BTNG 113",null,79,{"$f":"IFERROR(VLOOKUP(D1655,'Study Area Site Variable'!$B$4:$J$1240,6,FALSE),0)","v":1},{"$f":"IFERROR(VLOOKUP(D1655,'Study Area Site Variable'!$B$4:$H$1240,7,FALSE),0)","v":0},4]
["2014-05-01","Boating","Lake September-Trapper Creek","BTNG 114",null,0,{"$f":"IFERROR(VLOOKUP(D1656,'Study Area Site Variable'!$B$4:$J$1240,6,FALSE),0)","v":0},{"$f":"IFERROR(VLOOKUP(D1656,'Study Area Site Variable'!$B$4:$H$1240,7,FALSE),0)","v":0},0]
["2014-05-01","Boating","Little Campbell Lake-Kincaid Park","BTNG 115",null,13,{"$f":"IFERROR(VLOOKUP(D1657,'Study Area Site Variable'!$B$4:$J$1240,6,FALSE),0)","v":0},{"$f":"IFERROR(VLOOKUP(D1657,'Study Area Site Variable'!$B$4:$H$1240,7,FALSE),0)","v":0},0]
["2014-05-01","Boating","Little Su-Houston","BTNG 116",null,3,{"$f":"IFERROR(VLOOKUP(D1658,'Study Area Site Variable'!$B$4:$J$1240,6,FALSE),0)","v":1},{"$f":"IFERROR(VLOOKUP(D1658,'Study Area Site Variable'!$B$4:$H$1240,7,FALSE),0)","v":0},0]
["2014-05-01","Boating","Little Su-LSPUF","BTNG 117",null,0,{"$f":"IFERROR(VLOOKUP(D1659,'Study Area Site Variable'!$B$4:$J$1240,6,FALSE),0)","v":1},{"$f":"IFERROR(VLOOKUP(D1659,'Study Area Site Variable'!$B$4:$H$1240,7,FALSE),0)","v":0},0]
["2014-05-01","Boating","Little Willow Creek-Willow","BTNG 118",null,0,{"$f":"IFERROR(VLOOKUP(D1660,'Study Area Site Variable'!$B$4:$J$1240,6,FALSE),0)","v":0},{"$f":"IFERROR(VLOOKUP(D1660,'Study Area Site Variable'!$B$4:$H$1240,7,FALSE),0)","v":0},0]
["2014-05-01","Boating","Local Lakes-Mile 111-122 Glenn Hwy","BTNG 119",null,0,{"$f":"IFERROR(VLOOKUP(D1661,'Study Area Site Variable'!$B$4:$J$1240,6,FALSE),0)","v":0},{"$f":"IFERROR(VLOOKUP(D1661,'Study Area Site Variable'!$B$4:$H$1240,7,FALSE),0)","v":0},0]
["2014-05-01","Boating","Lynn Lake-Willow","BTNG 120",null,0,{"$f":"IFERROR(VLOOKUP(D1662,'Study Area Site Variable'!$B$4:$J$1240,6,FALSE),0)","v":0},{"$f":"IFERROR(VLOOKUP(D1662,'Study Area Site Variable'!$B$4:$H$1240,7,FALSE),0)","v":0},0]
["2014-05-01","Boating","Matanuska Lake-Matanuska Lake State Rec. Area","BTNG 121",null,2,{"$f":"IFERROR(VLOOKUP(D1663,'Study Area Site Variable'!$B$4:$J$1240,6,FALSE),0)","v":0},{"$f":"IFERROR(VLOOKUP(D1663,'Study Area Site Variable'!$B$4:$H$1240,7,FALSE),0)","v":0},0]
["2014-05-01","Boating","Matanuska Lake-Palmer","BTNG 122",null,0,{"$f":"IFERROR(VLOOKUP(D1664,'Study Area Site Variable'!$B$4:$J$1240,6,FALSE),0)","v":1},{"$f":"IFERROR(VLOOKUP(D1664,'Study Area Site Variable'!$B$4:$H$1240,7,FALSE),0)","v":0},0]
["2014-05-01","Boating","Matanuska River-Chickaloon","BTNG 123",null,2,{"$f":"IFERROR(VLOOKUP(D1665,'Study Area Site Variable'!$B$4:$J$1240,6,FALSE),0)","v":1},{"$f":"IFERROR(VLOOKUP(D1665,'Study Area Site Variable'!$B$4:$H$1240,7,FALSE),0)","v":0},0]
["2014-05-01","Boating","Matanuska River-Palmer","BTNG 124",null,1,{"$f":"IFERROR(VLOOKUP(D1666,'Study Area Site Variable'!$B$4:$J$1240,6,FALSE),0)","v":0},{"$f":"IFERROR(VLOOKUP(D1666,'Study Area Site Variable'!$B$4:$H$1240,7,FALSE),0)","v":0},0]
["2014-05-01","Boating","Meadow Lakes-Wasilla","BTNG 125",null,0,{"$f":"IFERROR(VLOOKUP(D1667,'Study Area Site Variable'!$B$4:$J$1240,6,FALSE),0)","v":1},{"$f":"IFERROR(VLOOKUP(D1667,'Study Area Site Variable'!$B$4:$H$1240,7,FALSE),0)","v":0},0]
["2014-05-01","Boating","Memory Lake-Wasilla","BTNG 126",null,0,{"$f":"IFERROR(VLOOKUP(D1668,'Study Area Site Variable'!$B$4:$J$1240,6,FALSE),0)","v":0},{"$f":"IFERROR(VLOOKUP(D1668,'Study Area Site Variable'!$B$4:$H$1240,7,FALSE),0)","v":0},0]
["2014-05-01","Boating","Mirror Lake-Chugiak","BTNG 127",null,16,{"$f":"IFERROR(VLOOKUP(D1669,'Study Area Site Variable'!$B$4:$J$1240,6,FALSE),0)","v":1},{"$f":"IFERROR(VLOOKUP(D1669,'Study Area Site Variable'!$B$4:$H$1240,7,FALSE),0)","v":0},0]
["2014-05-01","Boating","Montana Creek-Yoder Rd","BTNG 128",null,0,{"$f":"IFERROR(VLOOKUP(D1670,'Study Area Site Variable'!$B$4:$J$1240,6,FALSE),0)","v":1},{"$f":"IFERROR(VLOOKUP(D1670,'Study Area Site Variable'!$B$4:$H$1240,7,FALSE),0)","v":1},0]
["2014-05-01","Boating","Moose Creek-Palmer","BTNG 129",null,0,{"$f":"IFERROR(VLOOKUP(D1671,'Study Area Site Variable'!$B$4:$J$1240,6,FALSE),0)","v":0},{"$f":"IFERROR(VLOOKUP(D1671,'Study Area Site Variable'!$B$4:$H$1240,7,FALSE),0)","v":0},0]
["2014-05-01","Boating","Mud Lake-Palmer","BTNG 130",null,3,{"$f":"IFERROR(VLOOKUP(D1672,'Study Area Site Variable'!$B$4:$J$1240,6,FALSE),0)","v":0},{"$f":"IFERROR(VLOOKUP(D1672,'Study Area Site Variable'!$B$4:$H$1240,7,FALSE),0)","v":0},0]
["2014-05-01","Boating","Nancy Lakes","BTNG 131",null,181,{"$f":"IFERROR(VLOOKUP(D1673,'Study Area Site Variable'!$B$4:$J$1240,6,FALSE),0)","v":1},{"$f":"IFERROR(VLOOKUP(D1673,'Study Area Site Variable'!$B$4:$H$1240,7,FALSE),0)","v":0},5]
["2014-05-01","Boating","Nelchina River-Nelchina","BTNG 132",null,0,{"$f":"IFERROR(VLOOKUP(D1674,'Study Area Site Variable'!$B$4:$J$1240,6,FALSE),0)","v":0},{"$f":"IFERROR(VLOOKUP(D1674,'Study Area Site Variable'!$B$4:$H$1240,7,FALSE),0)","v":0},0]
["2014-05-01","Boating","Nenana River-Denali Area","BTNG 133",null,24,{"$f":"IFERROR(VLOOKUP(D1675,'Study Area Site Variable'!$B$4:$J$1240,6,FALSE),0)","v":1},{"$f":"IFERROR(VLOOKUP(D1675,'Study Area Site Variable'!$B$4:$H$1240,7,FALSE),0)","v":0},4]
["2014-05-01","Boating","Nenana River-Nenana","BTNG 134",null,0,{"$f":"IFERROR(VLOOKUP(D1676,'Study Area Site Variable'!$B$4:$J$1240,6,FALSE),0)","v":1},{"$f":"IFERROR(VLOOKUP(D1676,'Study Area Site Variable'!$B$4:$H$1240,7,FALSE),0)","v":0},0]
["2014-05-01","Boating","North Pole Lakes-Unspecified","BTNG 135",null,0,{"$f":"IFERROR(VLOOKUP(D1677,'Study Area Site Variable'!$B$4:$J$1240,6,FALSE),0)","v":0},{"$f":"IFERROR(VLOOKUP(D1677,'Study Area Site Variable'!$B$4:$H$1240,7,FALSE),0)","v":0},0]
["2014-05-01","Boating","North Sound-Norton Sound","BTNG 136",null,0,{"$f":"IFERROR(VLOOKUP(D1678,'Study Area Site Variable'!$B$4:$J$1240,6,FALSE),0)","v":0},{"$f":"IFERROR(VLOOKUP(D1678,'Study Area Site Variable'!$B$4:$H$1240,7,FALSE),0)","v":0},0]
["2014-05-01","Boating","Otto Lake-Healy","BTNG 137",null,0,{"$f":"IFERROR(VLOOKUP(D1679,'Study Area Site Variable'!$B$4:$J$1240,6,FALSE),0)","v":0},{"$f":"IFERROR(VLOOKUP(D1679,'Study Area Site Variable'!$B$4:$H$1240,7,FALSE),0)","v":0},0]
["2014-05-01","Boating","Partor Lake-Houston","BTNG 138",null,0,{"$f":"IFERROR(VLOOKUP(D1680,'Study Area Site Variable'!$B$4:$J$1240,6,FALSE),0)","v":1},{"$f":"IFERROR(VLOOKUP(D1680,'Study Area Site Variable'!$B$4:$H$1240,7,FALSE),0)","v":0},0]
["2014-05-01","Boating","Paxon Lake-Glennallen","BTNG 139",null,14,{"$f":"IFERROR(VLOOKUP(D1681,'Study Area Site Variable'!$B$4:$J$1240,6,FALSE),0)","v":1},{"$f":"IFERROR(VLOOKUP(D1681,'Study Area Site Variable'!$B$4:$H$1240,7,FALSE),0)","v":0},0]
["2014-05-01","Boating","Porcupine River-Fort Yukon","BTNG 140",null,0,{"$f":"IFERROR(VLOOKUP(D1682,'Study Area Site Variable'!$B$4:$J$1240,6,FALSE),0)","v":0},{"$f":"IFERROR(VLOOKUP(D1682,'Study Area Site Variable'!$B$4:$H$1240,7,FALSE),0)","v":0},0]
["2014-05-01","Boating","Portage Creek-Portage Valley","BTNG 141",null,9,{"$f":"IFERROR(VLOOKUP(D1683,'Study Area Site Variable'!$B$4:$J$1240,6,FALSE),0)","v":1},{"$f":"IFERROR(VLOOKUP(D1683,'Study Area Site Variable'!$B$4:$H$1240,7,FALSE),0)","v":0},0]
["2014-05-01","Boating","Prince William Sound-Cordova","BTNG 142",null,19,{"$f":"IFERROR(VLOOKUP(D1684,'Study Area Site Variable'!$B$4:$J$1240,6,FALSE),0)","v":1},{"$f":"IFERROR(VLOOKUP(D1684,'Study Area Site Variable'!$B$4:$H$1240,7,FALSE),0)","v":0},0]
["2014-05-01","Boating","Prince William Sound-Seward","BTNG 143",null,205,{"$f":"IFERROR(VLOOKUP(D1685,'Study Area Site Variable'!$B$4:$J$1240,6,FALSE),0)","v":1},{"$f":"IFERROR(VLOOKUP(D1685,'Study Area Site Variable'!$B$4:$H$1240,7,FALSE),0)","v":0},0]
["2014-05-01","Boating","Prince William Sound-Valdez","BTNG 144",null,147,{"$f":"IFERROR(VLOOKUP(D1686,'Study Area Site Variable'!$B$4:$J$1240,6,FALSE),0)","v":1},{"$f":"IFERROR(VLOOKUP(D1686,'Study Area Site Variable'!$B$4:$H$1240,7,FALSE),0)","v":0},0]
["2014-05-01","Boating","Prince William Sound-Whittier","BTNG 145",null,249,{"$f":"IFERROR(VLOOKUP(D1687,'Study Area Site Variable'!$B$4:$J$1240,6,FALSE),0)","v":1},{"$f":"IFERROR(VLOOKUP(D1687,'Study Area Site Variable'!$B$4:$H$1240,7,FALSE),0)","v":0},7]
["2014-05-01","Boating","Quartz Lake-Richardson Highway","BTNG 146",null,17,{"$f":"IFERROR(VLOOKUP(D1688,'Study Area Site Variable'!$B$4:$J$1240,6,FALSE),0)","v":1},{"$f":"IFERROR(VLOOKUP(D1688,'Study Area Site Variable'!$B$4:$H$1240,7,FALSE),0)","v":0},0]
["2014-05-01","Boating","Rainbow Lake-Wasilla","BTNG 147",null,7,{"$f":"IFERROR(VLOOKUP(D1689,'Study Area Site Variable'!$B$4:$J$1240,6,FALSE),0)","v":0},{"$f":"IFERROR(VLOOKUP(D1689,'Study Area Site Variable'!$B$4:$H$1240,7,FALSE),0)","v":0},0]
["2014-05-01","Boating","Reid Lake-Wasilla","BTNG 148",null,0,{"$f":"IFERROR(VLOOKUP(D1690,'Study Area Site Variable'!$B$4:$J$1240,6,FALSE),0)","v":0},{"$f":"IFERROR(VLOOKUP(D1690,'Study Area Site Variable'!$B$4:$H$1240,7,FALSE),0)","v":0},0]
["2014-05-01","Boating","Resurrection Bay-Seward","BTNG 149",null,137,{"$f":"IFERROR(VLOOKUP(D1691,'Study Area Site Variable'!$B$4:$J$1240,6,FALSE),0)","v":1},{"$f":"IFERROR(VLOOKUP(D1691,'Study Area Site Variable'!$B$4:$H$1240,7,FALSE),0)","v":0},1]
["2014-05-01","Boating","Rocky Lake-Big Lake","BTNG 150",null,3,{"$f":"IFERROR(VLOOKUP(D1692,'Study Area Site Variable'!$B$4:$J$1240,6,FALSE),0)","v":1},{"$f":"IFERROR(VLOOKUP(D1692,'Study Area Site Variable'!$B$4:$H$1240,7,FALSE),0)","v":0},0]
["2014-05-01","Boating","Ryan Lake-Mile 149 Glenn Hwy","BTNG 151",null,0,{"$f":"IFERROR(VLOOKUP(D1693,'Study Area Site Variable'!$B$4:$J$1240,6,FALSE),0)","v":0},{"$f":"IFERROR(VLOOKUP(D1693,'Study Area Site Variable'!$B$4:$H$1240,7,FALSE),0)","v":0},0]
["2014-05-01","Boating","Salcha River-Salcha Rec Area","BTNG 152",null,27,{"$f":"IFERROR(VLOOKUP(D1694,'Study Area Site Variable'!$B$4:$J$1240,6,FALSE),0)","v":1},{"$f":"IFERROR(VLOOKUP(D1694,'Study Area Site Variable'!$B$4:$H$1240,7,FALSE),0)","v":0},0]
["2014-05-01","Boating","Sand Lake-Anchorage","BTNG 153",null,176,{"$f":"IFERROR(VLOOKUP(D1695,'Study Area Site Variable'!$B$4:$J$1240,6,FALSE),0)","v":0},{"$f":"IFERROR(VLOOKUP(D1695,'Study Area Site Variable'!$B$4:$H$1240,7,FALSE),0)","v":0},0]
["2014-05-01","Boating","Ship Creek-Anchorage","BTNG 154",null,0,{"$f":"IFERROR(VLOOKUP(D1696,'Study Area Site Variable'!$B$4:$J$1240,6,FALSE),0)","v":1},{"$f":"IFERROR(VLOOKUP(D1696,'Study Area Site Variable'!$B$4:$H$1240,7,FALSE),0)","v":0},0]
["2014-05-01","Boating","Sitka","BTNG 155",null,0,{"$f":"IFERROR(VLOOKUP(D1697,'Study Area Site Variable'!$B$4:$J$1240,6,FALSE),0)","v":0},{"$f":"IFERROR(VLOOKUP(D1697,'Study Area Site Variable'!$B$4:$H$1240,7,FALSE),0)","v":0},0]
["2014-05-01","Boating","Six Mile Creek-Hope Turnout","BTNG 156",null,17,{"$f":"IFERROR(VLOOKUP(D1698,'Study Area Site Variable'!$B$4:$J$1240,6,FALSE),0)","v":1},{"$f":"IFERROR(VLOOKUP(D1698,'Study Area Site Variable'!$B$4:$H$1240,7,FALSE),0)","v":0},0]
["2014-05-01","Boating","Skilak Lake","BTNG 157",null,3,{"$f":"IFERROR(VLOOKUP(D1699,'Study Area Site Variable'!$B$4:$J$1240,6,FALSE),0)","v":1},{"$f":"IFERROR(VLOOKUP(D1699,'Study Area Site Variable'!$B$4:$H$1240,7,FALSE),0)","v":0},0]
["2014-05-01","Boating","Skwentna River-Deshka Landing","BTNG 158",null,0,{"$f":"IFERROR(VLOOKUP(D1700,'Study Area Site Variable'!$B$4:$J$1240,6,FALSE),0)","v":1},{"$f":"IFERROR(VLOOKUP(D1700,'Study Area Site Variable'!$B$4:$H$1240,7,FALSE),0)","v":0},0]
["2014-05-01","Boating","Slaw Creek-Private","BTNG 159",null,0,{"$f":"IFERROR(VLOOKUP(D1701,'Study Area Site Variable'!$B$4:$J$1240,6,FALSE),0)","v":0},{"$f":"IFERROR(VLOOKUP(D1701,'Study Area Site Variable'!$B$4:$H$1240,7,FALSE),0)","v":0},0]
["2014-05-01","Boating","Snow River-Kenai Peninsula","BTNG 160",null,0,{"$f":"IFERROR(VLOOKUP(D1702,'Study Area Site Variable'!$B$4:$J$1240,6,FALSE),0)","v":0},{"$f":"IFERROR(VLOOKUP(D1702,'Study Area Site Variable'!$B$4:$H$1240,7,FALSE),0)","v":0},0]
["2014-05-01","Boating","Summitt Lake-Kenai Peninsula","BTNG 161",null,4,{"$f":"IFERROR(VLOOKUP(D1703,'Study Area Site Variable'!$B$4:$J$1240,6,FALSE),0)","v":0},{"$f":"IFERROR(VLOOKUP(D1703,'Study Area Site Variable'!$B$4:$H$1240,7,FALSE),0)","v":0},0]
["2014-05-01","Boating","Susitna River-Deshka Landing","BTNG 162",null,18,{"$f":"IFERROR(VLOOKUP(D1704,'Study Area Site Variable'!$B$4:$J$1240,6,FALSE),0)","v":1},{"$f":"IFERROR(VLOOKUP(D1704,'Study Area Site Variable'!$B$4:$H$1240,7,FALSE),0)","v":1},0]
["2014-05-01","Boating","Susitna River-Susitna Landing","BTNG 163",null,10,{"$f":"IFERROR(VLOOKUP(D1705,'Study Area Site Variable'!$B$4:$J$1240,6,FALSE),0)","v":1},{"$f":"IFERROR(VLOOKUP(D1705,'Study Area Site Variable'!$B$4:$H$1240,7,FALSE),0)","v":1},0]
["2014-05-01","Boating","Susitna River-Talkeetna","BTNG 164",null,49,{"$f":"IFERROR(VLOOKUP(D1706,'Study Area Site Variable'!$B$4:$J$1240,6,FALSE),0)","v":0},{"$f":"IFERROR(VLOOKUP(D1706,'Study Area Site Variable'!$B$4:$H$1240,7,FALSE),0)","v":0},8]
["2014-05-01","Boating","Swan Lake System-Sterling","BTNG 165",null,0,{"$f":"IFERROR(VLOOKUP(D1707,'Study Area Site Variable'!$B$4:$J$1240,6,FALSE),0)","v":0},{"$f":"IFERROR(VLOOKUP(D1707,'Study Area Site Variable'!$B$4:$H$1240,7,FALSE),0)","v":0},0]
["2014-05-01","Boating","Taku Lake-Anchorage","BTNG 166",null,0,{"$f":"IFERROR(VLOOKUP(D1708,'Study Area Site Variable'!$B$4:$J$1240,6,FALSE),0)","v":0},{"$f":"IFERROR(VLOOKUP(D1708,'Study Area Site Variable'!$B$4:$H$1240,7,FALSE),0)","v":0},0]
["2014-05-01","Boating","Talachulitna-Judd Lake","BTNG 167",null,0,{"$f":"IFERROR(VLOOKUP(D1709,'Study Area Site Variable'!$B$4:$J$1240,6,FALSE),0)","v":0},{"$f":"IFERROR(VLOOKUP(D1709,'Study Area Site Variable'!$B$4:$H$1240,7,FALSE),0)","v":0},0]
["2014-05-01","Boating","Talkeetna Area Lakes","BTNG 168",null,0,{"$f":"IFERROR(VLOOKUP(D1710,'Study Area Site Variable'!$B$4:$J$1240,6,FALSE),0)","v":0},{"$f":"IFERROR(VLOOKUP(D1710,'Study Area Site Variable'!$B$4:$H$1240,7,FALSE),0)","v":0},0]
["2014-05-01","Boating","Talkeetna River-Talkeetna River","BTNG 169",null,0,{"$f":"IFERROR(VLOOKUP(D1711,'Study Area Site Variable'!$B$4:$J$1240,6,FALSE),0)","v":1},{"$f":"IFERROR(VLOOKUP(D1711,'Study Area Site Variable'!$B$4:$H$1240,7,FALSE),0)","v":1},0]
["2014-05-01","Boating","Tanana River-Chena","BTNG 170",null,28,{"$f":"IFERROR(VLOOKUP(D1712,'Study Area Site Variable'!$B$4:$J$1240,6,FALSE),0)","v":1},{"$f":"IFERROR(VLOOKUP(D1712,'Study Area Site Variable'!$B$4:$H$1240,7,FALSE),0)","v":0},0]
["2014-05-01","Boating","Tanana River-Delta","BTNG 171",null,11,{"$f":"IFERROR(VLOOKUP(D1713,'Study Area Site Variable'!$B$4:$J$1240,6,FALSE),0)","v":1},{"$f":"IFERROR(VLOOKUP(D1713,'Study Area Site Variable'!$B$4:$H$1240,7,FALSE),0)","v":0},0]
["2014-05-01","Boating","Tanana River-Fairbanks","BTNG 172",null,8,{"$f":"IFERROR(VLOOKUP(D1714,'Study Area Site Variable'!$B$4:$J$1240,6,FALSE),0)","v":1},{"$f":"IFERROR(VLOOKUP(D1714,'Study Area Site Variable'!$B$4:$H$1240,7,FALSE),0)","v":0},0]
["2014-05-01","Boating","Tangle Lakes- Denali Highway","BTNG 173",null,25,{"$f":"IFERROR(VLOOKUP(D1715,'Study Area Site Variable'!$B$4:$J$1240,6,FALSE),0)","v":1},{"$f":"IFERROR(VLOOKUP(D1715,'Study Area Site Variable'!$B$4:$H$1240,7,FALSE),0)","v":0},0]
["2014-05-01","Boating","Teklanika River-Nenana","BTNG 174",null,19,{"$f":"IFERROR(VLOOKUP(D1716,'Study Area Site Variable'!$B$4:$J$1240,6,FALSE),0)","v":1},{"$f":"IFERROR(VLOOKUP(D1716,'Study Area Site Variable'!$B$4:$H$1240,7,FALSE),0)","v":0},0]
["2014-05-01","Boating","Trail Lakes-Moose Pass","BTNG 175",null,2,{"$f":"IFERROR(VLOOKUP(D1717,'Study Area Site Variable'!$B$4:$J$1240,6,FALSE),0)","v":1},{"$f":"IFERROR(VLOOKUP(D1717,'Study Area Site Variable'!$B$4:$H$1240,7,FALSE),0)","v":0},0]
["2014-05-01","Boating","Turnagin Arm-Seward Hwy","BTNG 176",null,0,{"$f":"IFERROR(VLOOKUP(D1718,'Study Area Site Variable'!$B$4:$J$1240,6,FALSE),0)","v":1},{"$f":"IFERROR(VLOOKUP(D1718,'Study Area Site Variable'!$B$4:$H$1240,7,FALSE),0)","v":0},0]
["2014-05-01","Boating","Unalakleet River-Unalakleet","BTNG 177",null,0,{"$f":"IFERROR(VLOOKUP(D1719,'Study Area Site Variable'!$B$4:$J$1240,6,FALSE),0)","v":0},{"$f":"IFERROR(VLOOKUP(D1719,'Study Area Site Variable'!$B$4:$H$1240,7,FALSE),0)","v":0},0]
["2014-05-01","Boating","Valdez Arm and Harbor-Valdez","BTNG 178",null,68,{"$f":"IFERROR(VLOOKUP(D1720,'Study Area Site Variable'!$B$4:$J$1240,6,FALSE),0)","v":0},{"$f":"IFERROR(VLOOKUP(D1720,'Study Area Site Variable'!$B$4:$H$1240,7,FALSE),0)","v":0},1]
["2014-05-01","Boating","Walby Lake-Palmer","BTNG 179",null,2,{"$f":"IFERROR(VLOOKUP(D1721,'Study Area Site Variable'!$B$4:$J$1240,6,FALSE),0)","v":1},{"$f":"IFERROR(VLOOKUP(D1721,'Study Area Site Variable'!$B$4:$H$1240,7,FALSE),0)","v":0},0]
["2014-05-01","Boating","Wasilla Lake-Wasilla","BTNG 180",null,110,{"$f":"IFERROR(VLOOKUP(D1722,'Study Area Site Variable'!$B$4:$J$1240,6,FALSE),0)","v":1},{"$f":"IFERROR(VLOOKUP(D1722,'Study Area Site Variable'!$B$4:$H$1240,7,FALSE),0)","v":0},0]
["2014-05-01","Boating","Westchester-Anchorage","BTNG 181",null,5,{"$f":"IFERROR(VLOOKUP(D1723,'Study Area Site Variable'!$B$4:$J$1240,6,FALSE),0)","v":1},{"$f":"IFERROR(VLOOKUP(D1723,'Study Area Site Variable'!$B$4:$H$1240,7,FALSE),0)","v":0},0]
["2014-05-01","Boating","Willow Creek-Willow","BTNG 182",null,23,{"$f":"IFERROR(VLOOKUP(D1724,'Study Area Site Variable'!$B$4:$J$1240,6,FALSE),0)","v":1},{"$f":"IFERROR(VLOOKUP(D1724,'Study Area Site Variable'!$B$4:$H$1240,7,FALSE),0)","v":1},0]
["2014-05-01","Boating","Willow Lake-Willow","BTNG 183",null,0,{"$f":"IFERROR(VLOOKUP(D1725,'Study Area Site Variable'!$B$4:$J$1240,6,FALSE),0)","v":1},{"$f":"IFERROR(VLOOKUP(D1725,'Study Area Site Variable'!$B$4:$H$1240,7,FALSE),0)","v":0},0]
["2014-05-01","Boating","Wolf Lake-Palmer","BTNG 184",null,5,{"$f":"IFERROR(VLOOKUP(D1726,'Study Area Site Variable'!$B$4:$J$1240,6,FALSE),0)","v":0},{"$f":"IFERROR(VLOOKUP(D1726,'Study Area Site Variable'!$B$4:$H$1240,7,FALSE),0)","v":0},0]
["2014-05-01","Boating","Wolverine Lake-Chickaloon","BTNG 185",null,0,{"$f":"IFERROR(VLOOKUP(D1727,'Study Area Site Variable'!$B$4:$J$1240,6,FALSE),0)","v":0},{"$f":"IFERROR(VLOOKUP(D1727,'Study Area Site Variable'!$B$4:$H$1240,7,FALSE),0)","v":0},0]
["2014-05-01","Boating","Yentna River-Deshka Landing","BTNG 186",null,24,{"$f":"IFERROR(VLOOKUP(D1728,'Study Area Site Variable'!$B$4:$J$1240,6,FALSE),0)","v":1},{"$f":"IFERROR(VLOOKUP(D1728,'Study Area Site Variable'!$B$4:$H$1240,7,FALSE),0)","v":1},0]
["2014-05-01","Boating","Yukon River-Dalton","BTNG 187",null,0,{"$f":"IFERROR(VLOOKUP(D1729,'Study Area Site Variable'!$B$4:$J$1240,6,FALSE),0)","v":1},{"$f":"IFERROR(VLOOKUP(D1729,'Study Area Site Variable'!$B$4:$H$1240,7,FALSE),0)","v":0},0]
["2014-05-01","Boating","Yukon River-Dawson","BTNG 188",null,5,{"$f":"IFERROR(VLOOKUP(D1730,'Study Area Site Variable'!$B$4:$J$1240,6,FALSE),0)","v":0},{"$f":"IFERROR(VLOOKUP(D1730,'Study Area Site Variable'!$B$4:$H$1240,7,FALSE),0)","v":0},0]
["2014-05-01","Boating","Yukon River-Fort Yukon","BTNG 189",null,0,{"$f":"IFERROR(VLOOKUP(D1731,'Study Area Site Variable'!$B$4:$J$1240,6,FALSE),0)","v":0},{"$f":"IFERROR(VLOOKUP(D1731,'Study Area Site Variable'!$B$4:$H$1240,7,FALSE),0)","v":0},0]
["2014-05-01","Boating","Yukon River-Galena","BTNG 190",null,0,{"$f":"IFERROR(VLOOKUP(D1732,'Study Area Site Variable'!$B$4:$J$1240,6,FALSE),0)","v":0},{"$f":"IFERROR(VLOOKUP(D1732,'Study Area Site Variable'!$B$4:$H$1240,7,FALSE),0)","v":0},0]
["2014-05-01","Boating","Uncodeable","BTNG 999",null,491,{"$f":"IFERROR(VLOOKUP(D1733,'Study Area Site Variable'!$B$4:$J$1240,6,FALSE),0)","v":0},{"$f":"IFERROR(VLOOKUP(D1733,'Study Area Site Variable'!$B$4:$H$1240,7,FALSE),0)","v":0},135]
["2014-05-01","Boating","3 Rivers (Talkeetna/Susitna/Chultina Rivers)-Talkeetna","BTNG 200",null,2,{"$f":"IFERROR(VLOOKUP(D1734,'Study Area Site Variable'!$B$4:$J$1240,6,FALSE),0)","v":0},{"$f":"IFERROR(VLOOKUP(D1734,'Study Area Site Variable'!$B$4:$H$1240,7,FALSE),0)","v":0},0]
["2014-05-01","Boating","40 mile River-40 mile crossing","BTNG 201",null,4,{"$f":"IFERROR(VLOOKUP(D1735,'Study Area Site Variable'!$B$4:$J$1240,6,FALSE),0)","v":0},{"$f":"IFERROR(VLOOKUP(D1735,'Study Area Site Variable'!$B$4:$H$1240,7,FALSE),0)","v":0},0]
["2014-05-01","Boating","6 mile lake-JBER","BTNG 202",null,1,{"$f":"IFERROR(VLOOKUP(D1736,'Study Area Site Variable'!$B$4:$J$1240,6,FALSE),0)","v":0},{"$f":"IFERROR(VLOOKUP(D1736,'Study Area Site Variable'!$B$4:$H$1240,7,FALSE),0)","v":0},0]
["2014-05-01","Boating","Alaqanek Sloosh-Boat Launch","BTNG 203",null,1,{"$f":"IFERROR(VLOOKUP(D1737,'Study Area Site Variable'!$B$4:$J$1240,6,FALSE),0)","v":0},{"$f":"IFERROR(VLOOKUP(D1737,'Study Area Site Variable'!$B$4:$H$1240,7,FALSE),0)","v":0},0]
["2014-05-01","Boating","Alexander Creek-Anchorage","BTNG 204",null,5,{"$f":"IFERROR(VLOOKUP(D1738,'Study Area Site Variable'!$B$4:$J$1240,6,FALSE),0)","v":0},{"$f":"IFERROR(VLOOKUP(D1738,'Study Area Site Variable'!$B$4:$H$1240,7,FALSE),0)","v":0},0]
["2014-05-01","Boating","Amber Lake-Amber Lake Boat Launch","BTNG 205",null,47,{"$f":"IFERROR(VLOOKUP(D1739,'Study Area Site Variable'!$B$4:$J$1240,6,FALSE),0)","v":1},{"$f":"IFERROR(VLOOKUP(D1739,'Study Area Site Variable'!$B$4:$H$1240,7,FALSE),0)","v":0},0]
["2014-05-01","Boating","aniak river-aniak,ak","BTNG 206",null,2,{"$f":"IFERROR(VLOOKUP(D1740,'Study Area Site Variable'!$B$4:$J$1240,6,FALSE),0)","v":0},{"$f":"IFERROR(VLOOKUP(D1740,'Study Area Site Variable'!$B$4:$H$1240,7,FALSE),0)","v":0},0]
["2014-05-01","Boating","Anvik River-Anvik","BTNG 207",null,18,{"$f":"IFERROR(VLOOKUP(D1741,'Study Area Site Variable'!$B$4:$J$1240,6,FALSE),0)","v":1},{"$f":"IFERROR(VLOOKUP(D1741,'Study Area Site Variable'!$B$4:$H$1240,7,FALSE),0)","v":0},0]
["2014-05-01","Boating","Bathing Beauty-Richardson  Hwy","BTNG 208",null,5,{"$f":"IFERROR(VLOOKUP(D1742,'Study Area Site Variable'!$B$4:$J$1240,6,FALSE),0)","v":0},{"$f":"IFERROR(VLOOKUP(D1742,'Study Area Site Variable'!$B$4:$H$1240,7,FALSE),0)","v":0},0]
["2014-05-01","Boating","Bear Lake-private property","BTNG 209",null,1,{"$f":"IFERROR(VLOOKUP(D1743,'Study Area Site Variable'!$B$4:$J$1240,6,FALSE),0)","v":0},{"$f":"IFERROR(VLOOKUP(D1743,'Study Area Site Variable'!$B$4:$H$1240,7,FALSE),0)","v":0},0]
["2014-05-01","Boating","Beaver Creek-Nome Creek, off US Creek Rd, White Mtns Rec Area","BTNG 210",null,2,{"$f":"IFERROR(VLOOKUP(D1744,'Study Area Site Variable'!$B$4:$J$1240,6,FALSE),0)","v":0},{"$f":"IFERROR(VLOOKUP(D1744,'Study Area Site Variable'!$B$4:$H$1240,7,FALSE),0)","v":0},0]
["2014-05-01","Boating","Beaver Pond-Richardson Hwy","BTNG 211",null,2,{"$f":"IFERROR(VLOOKUP(D1745,'Study Area Site Variable'!$B$4:$J$1240,6,FALSE),0)","v":0},{"$f":"IFERROR(VLOOKUP(D1745,'Study Area Site Variable'!$B$4:$H$1240,7,FALSE),0)","v":0},0]
["2014-05-01","Boating","Bell Lake-Parks Hwy mile 127","BTNG 212",null,4,{"$f":"IFERROR(VLOOKUP(D1746,'Study Area Site Variable'!$B$4:$J$1240,6,FALSE),0)","v":0},{"$f":"IFERROR(VLOOKUP(D1746,'Study Area Site Variable'!$B$4:$H$1240,7,FALSE),0)","v":0},0]
["2014-05-01","Boating","Bering Sea-Akutan","BTNG 213",null,1,{"$f":"IFERROR(VLOOKUP(D1747,'Study Area Site Variable'!$B$4:$J$1240,6,FALSE),0)","v":0},{"$f":"IFERROR(VLOOKUP(D1747,'Study Area Site Variable'!$B$4:$H$1240,7,FALSE),0)","v":0},0]
["2014-05-01","Boating","Birch Creek-Circle","BTNG 214",null,7,{"$f":"IFERROR(VLOOKUP(D1748,'Study Area Site Variable'!$B$4:$J$1240,6,FALSE),0)","v":0},{"$f":"IFERROR(VLOOKUP(D1748,'Study Area Site Variable'!$B$4:$H$1240,7,FALSE),0)","v":0},0]
["2014-05-01","Boating","Birch Creek-Talkeetna spur road to Susitna river","BTNG 215",null,2,{"$f":"IFERROR(VLOOKUP(D1749,'Study Area Site Variable'!$B$4:$J$1240,6,FALSE),0)","v":0},{"$f":"IFERROR(VLOOKUP(D1749,'Study Area Site Variable'!$B$4:$H$1240,7,FALSE),0)","v":0},2]
["2014-05-01","Boating","Bird Creek-Bird Creek","BTNG 216",null,2,{"$f":"IFERROR(VLOOKUP(D1750,'Study Area Site Variable'!$B$4:$J$1240,6,FALSE),0)","v":0},{"$f":"IFERROR(VLOOKUP(D1750,'Study Area Site Variable'!$B$4:$H$1240,7,FALSE),0)","v":0},0]
["2014-05-01","Boating","blair lake","BTNG 217",null,1,{"$f":"IFERROR(VLOOKUP(D1751,'Study Area Site Variable'!$B$4:$J$1240,6,FALSE),0)","v":0},{"$f":"IFERROR(VLOOKUP(D1751,'Study Area Site Variable'!$B$4:$H$1240,7,FALSE),0)","v":0},0]
["2014-05-01","Boating","Bolio Lake-Ft. Greely","BTNG 218",null,2,{"$f":"IFERROR(VLOOKUP(D1752,'Study Area Site Variable'!$B$4:$J$1240,6,FALSE),0)","v":0},{"$f":"IFERROR(VLOOKUP(D1752,'Study Area Site Variable'!$B$4:$H$1240,7,FALSE),0)","v":0},0]
["2014-05-01","Boating","Bonnie Lake-Launch","BTNG 219",null,15,{"$f":"IFERROR(VLOOKUP(D1753,'Study Area Site Variable'!$B$4:$J$1240,6,FALSE),0)","v":1},{"$f":"IFERROR(VLOOKUP(D1753,'Study Area Site Variable'!$B$4:$H$1240,7,FALSE),0)","v":0},0]
["2014-05-01","Boating","Campbell Lake-Private Property","BTNG 220",null,3,{"$f":"IFERROR(VLOOKUP(D1754,'Study Area Site Variable'!$B$4:$J$1240,6,FALSE),0)","v":0},{"$f":"IFERROR(VLOOKUP(D1754,'Study Area Site Variable'!$B$4:$H$1240,7,FALSE),0)","v":0},0]
["2014-05-01","Boating","Canning River-Headwaters airstrip","BTNG 221",null,2,{"$f":"IFERROR(VLOOKUP(D1755,'Study Area Site Variable'!$B$4:$J$1240,6,FALSE),0)","v":0},{"$f":"IFERROR(VLOOKUP(D1755,'Study Area Site Variable'!$B$4:$H$1240,7,FALSE),0)","v":0},0]
["2014-05-01","Boating","Canyon Creek-Seward Hwy","BTNG 222",null,4,{"$f":"IFERROR(VLOOKUP(D1756,'Study Area Site Variable'!$B$4:$J$1240,6,FALSE),0)","v":0},{"$f":"IFERROR(VLOOKUP(D1756,'Study Area Site Variable'!$B$4:$H$1240,7,FALSE),0)","v":0},0]
["2014-05-01","Boating","Chandalar Lake-North Fork Chandalar River","BTNG 223",null,9,{"$f":"IFERROR(VLOOKUP(D1757,'Study Area Site Variable'!$B$4:$J$1240,6,FALSE),0)","v":0},{"$f":"IFERROR(VLOOKUP(D1757,'Study Area Site Variable'!$B$4:$H$1240,7,FALSE),0)","v":0},0]
["2014-05-01","Boating","Chelatna Lake-Float Plane","BTNG 224",null,5,{"$f":"IFERROR(VLOOKUP(D1758,'Study Area Site Variable'!$B$4:$J$1240,6,FALSE),0)","v":0},{"$f":"IFERROR(VLOOKUP(D1758,'Study Area Site Variable'!$B$4:$H$1240,7,FALSE),0)","v":0},0]
["2014-05-01","Boating","Chena River-Chena Wayside","BTNG 225",null,4,{"$f":"IFERROR(VLOOKUP(D1759,'Study Area Site Variable'!$B$4:$J$1240,6,FALSE),0)","v":0},{"$f":"IFERROR(VLOOKUP(D1759,'Study Area Site Variable'!$B$4:$H$1240,7,FALSE),0)","v":0},0]
["2014-05-01","Boating","Chena River-Flat Creek launch","BTNG 226",null,1,{"$f":"IFERROR(VLOOKUP(D1760,'Study Area Site Variable'!$B$4:$J$1240,6,FALSE),0)","v":0},{"$f":"IFERROR(VLOOKUP(D1760,'Study Area Site Variable'!$B$4:$H$1240,7,FALSE),0)","v":0},0]
["2014-05-01","Boating","Chena River-Graehl Landing Fairbanks","BTNG 227",null,35,{"$f":"IFERROR(VLOOKUP(D1761,'Study Area Site Variable'!$B$4:$J$1240,6,FALSE),0)","v":1},{"$f":"IFERROR(VLOOKUP(D1761,'Study Area Site Variable'!$B$4:$H$1240,7,FALSE),0)","v":0},0]
["2014-05-01","Boating","chena river-mile 28 Chena Hot Springs Road","BTNG 228",null,3,{"$f":"IFERROR(VLOOKUP(D1762,'Study Area Site Variable'!$B$4:$J$1240,6,FALSE),0)","v":0},{"$f":"IFERROR(VLOOKUP(D1762,'Study Area Site Variable'!$B$4:$H$1240,7,FALSE),0)","v":0},0]
["2014-05-01","Boating","Chena River-Near Hot Springs Drift (Moose Hunt)","BTNG 229",null,5,{"$f":"IFERROR(VLOOKUP(D1763,'Study Area Site Variable'!$B$4:$J$1240,6,FALSE),0)","v":0},{"$f":"IFERROR(VLOOKUP(D1763,'Study Area Site Variable'!$B$4:$H$1240,7,FALSE),0)","v":0},0]
["2014-05-01","Boating","Chena River-Peger Road","BTNG 230",null,4,{"$f":"IFERROR(VLOOKUP(D1764,'Study Area Site Variable'!$B$4:$J$1240,6,FALSE),0)","v":0},{"$f":"IFERROR(VLOOKUP(D1764,'Study Area Site Variable'!$B$4:$H$1240,7,FALSE),0)","v":0},0]
["2014-05-01","Boating","Chena River-Pikes Landing, Fairbanks","BTNG 231",null,41,{"$f":"IFERROR(VLOOKUP(D1765,'Study Area Site Variable'!$B$4:$J$1240,6,FALSE),0)","v":1},{"$f":"IFERROR(VLOOKUP(D1765,'Study Area Site Variable'!$B$4:$H$1240,7,FALSE),0)","v":0},0]
["2014-05-01","Boating","Chena River-Pioneer Park Boat Launch","BTNG 232",null,4,{"$f":"IFERROR(VLOOKUP(D1766,'Study Area Site Variable'!$B$4:$J$1240,6,FALSE),0)","v":0},{"$f":"IFERROR(VLOOKUP(D1766,'Study Area Site Variable'!$B$4:$H$1240,7,FALSE),0)","v":0},0]
["2014-05-01","Boating","Chena River-Pump House put in","BTNG 233",null,5,{"$f":"IFERROR(VLOOKUP(D1767,'Study Area Site Variable'!$B$4:$J$1240,6,FALSE),0)","v":0},{"$f":"IFERROR(VLOOKUP(D1767,'Study Area Site Variable'!$B$4:$H$1240,7,FALSE),0)","v":0},0]
["2014-05-01","Boating","Chena River-Small Tracts Launch","BTNG 234",null,2,{"$f":"IFERROR(VLOOKUP(D1768,'Study Area Site Variable'!$B$4:$J$1240,6,FALSE),0)","v":0},{"$f":"IFERROR(VLOOKUP(D1768,'Study Area Site Variable'!$B$4:$H$1240,7,FALSE),0)","v":0},0]
["2014-05-01","Boating","Chena River-Unspecified","BTNG 235",null,17,{"$f":"IFERROR(VLOOKUP(D1769,'Study Area Site Variable'!$B$4:$J$1240,6,FALSE),0)","v":1},{"$f":"IFERROR(VLOOKUP(D1769,'Study Area Site Variable'!$B$4:$H$1240,7,FALSE),0)","v":0},0]
["2014-05-01","Boating","Chena Slough-Mission Road Crossing","BTNG 236",null,2,{"$f":"IFERROR(VLOOKUP(D1770,'Study Area Site Variable'!$B$4:$J$1240,6,FALSE),0)","v":0},{"$f":"IFERROR(VLOOKUP(D1770,'Study Area Site Variable'!$B$4:$H$1240,7,FALSE),0)","v":0},0]
["2014-05-01","Boating","Chilkat River-Haines/Klukwan","BTNG 237",null,20,{"$f":"IFERROR(VLOOKUP(D1771,'Study Area Site Variable'!$B$4:$J$1240,6,FALSE),0)","v":1},{"$f":"IFERROR(VLOOKUP(D1771,'Study Area Site Variable'!$B$4:$H$1240,7,FALSE),0)","v":0},0]
["2014-05-01","Boating","Christensen Lake-Talkeetna","BTNG 238",null,13,{"$f":"IFERROR(VLOOKUP(D1772,'Study Area Site Variable'!$B$4:$J$1240,6,FALSE),0)","v":0},{"$f":"IFERROR(VLOOKUP(D1772,'Study Area Site Variable'!$B$4:$H$1240,7,FALSE),0)","v":0},13]
["2014-05-01","Boating","Chulitna River,East Fork-Parks Hwy Bridge","BTNG 239",null,1,{"$f":"IFERROR(VLOOKUP(D1773,'Study Area Site Variable'!$B$4:$J$1240,6,FALSE),0)","v":0},{"$f":"IFERROR(VLOOKUP(D1773,'Study Area Site Variable'!$B$4:$H$1240,7,FALSE),0)","v":0},1]
["2014-05-01","Boating","Chulitna River-Denali","BTNG 240",null,1,{"$f":"IFERROR(VLOOKUP(D1774,'Study Area Site Variable'!$B$4:$J$1240,6,FALSE),0)","v":0},{"$f":"IFERROR(VLOOKUP(D1774,'Study Area Site Variable'!$B$4:$H$1240,7,FALSE),0)","v":0},0]
["2014-05-01","Boating","Chulitna River-Float Plane out of Talkeetna","BTNG 241",null,3,{"$f":"IFERROR(VLOOKUP(D1775,'Study Area Site Variable'!$B$4:$J$1240,6,FALSE),0)","v":0},{"$f":"IFERROR(VLOOKUP(D1775,'Study Area Site Variable'!$B$4:$H$1240,7,FALSE),0)","v":0},0]
["2014-05-01","Boating","Clearwater Lake-Delta Junction","BTNG 242",null,15,{"$f":"IFERROR(VLOOKUP(D1776,'Study Area Site Variable'!$B$4:$J$1240,6,FALSE),0)","v":1},{"$f":"IFERROR(VLOOKUP(D1776,'Study Area Site Variable'!$B$4:$H$1240,7,FALSE),0)","v":0},0]
["2014-05-01","Boating","Clearwater River-Clearwater Campground","BTNG 243",null,14,{"$f":"IFERROR(VLOOKUP(D1777,'Study Area Site Variable'!$B$4:$J$1240,6,FALSE),0)","v":0},{"$f":"IFERROR(VLOOKUP(D1777,'Study Area Site Variable'!$B$4:$H$1240,7,FALSE),0)","v":0},0]
["2014-05-01","Boating","Colorado Lake-Broad pass","BTNG 244",null,7,{"$f":"IFERROR(VLOOKUP(D1778,'Study Area Site Variable'!$B$4:$J$1240,6,FALSE),0)","v":0},{"$f":"IFERROR(VLOOKUP(D1778,'Study Area Site Variable'!$B$4:$H$1240,7,FALSE),0)","v":0},7]
["2014-05-01","Boating","Cook Inlet-Anchorage","BTNG 245",null,5,{"$f":"IFERROR(VLOOKUP(D1779,'Study Area Site Variable'!$B$4:$J$1240,6,FALSE),0)","v":0},{"$f":"IFERROR(VLOOKUP(D1779,'Study Area Site Variable'!$B$4:$H$1240,7,FALSE),0)","v":0},0]
["2014-05-01","Boating","Cook Inlet-Tyonek","BTNG 246",null,10,{"$f":"IFERROR(VLOOKUP(D1780,'Study Area Site Variable'!$B$4:$J$1240,6,FALSE),0)","v":0},{"$f":"IFERROR(VLOOKUP(D1780,'Study Area Site Variable'!$B$4:$H$1240,7,FALSE),0)","v":0},0]
["2014-05-01","Boating","Copper lake-Slana","BTNG 247",null,3,{"$f":"IFERROR(VLOOKUP(D1781,'Study Area Site Variable'!$B$4:$J$1240,6,FALSE),0)","v":0},{"$f":"IFERROR(VLOOKUP(D1781,'Study Area Site Variable'!$B$4:$H$1240,7,FALSE),0)","v":0},0]
["2014-05-01","Boating","Copper River-Below Gulkana River bridge","BTNG 248",null,1,{"$f":"IFERROR(VLOOKUP(D1782,'Study Area Site Variable'!$B$4:$J$1240,6,FALSE),0)","v":0},{"$f":"IFERROR(VLOOKUP(D1782,'Study Area Site Variable'!$B$4:$H$1240,7,FALSE),0)","v":0},0]
["2014-05-01","Boating","Copper River-Below Gulkana River bridge","BTNG 249",null,0,{"$f":"IFERROR(VLOOKUP(D1783,'Study Area Site Variable'!$B$4:$J$1240,6,FALSE),0)","v":0},{"$f":"IFERROR(VLOOKUP(D1783,'Study Area Site Variable'!$B$4:$H$1240,7,FALSE),0)","v":0},0]
["2014-05-01","Boating","Copper River-Chitina","BTNG 250",null,17,{"$f":"IFERROR(VLOOKUP(D1784,'Study Area Site Variable'!$B$4:$J$1240,6,FALSE),0)","v":1},{"$f":"IFERROR(VLOOKUP(D1784,'Study Area Site Variable'!$B$4:$H$1240,7,FALSE),0)","v":0},0]
["2014-05-01","Boating","Copper River-Copper Center","BTNG 251",null,11,{"$f":"IFERROR(VLOOKUP(D1785,'Study Area Site Variable'!$B$4:$J$1240,6,FALSE),0)","v":0},{"$f":"IFERROR(VLOOKUP(D1785,'Study Area Site Variable'!$B$4:$H$1240,7,FALSE),0)","v":0},0]
["2014-05-01","Boating","Copper River-New Richardson Bridge","BTNG 252",null,1,{"$f":"IFERROR(VLOOKUP(D1786,'Study Area Site Variable'!$B$4:$J$1240,6,FALSE),0)","v":0},{"$f":"IFERROR(VLOOKUP(D1786,'Study Area Site Variable'!$B$4:$H$1240,7,FALSE),0)","v":0},0]
["2014-05-01","Boating","Copper River-Slana, AK","BTNG 253",null,9,{"$f":"IFERROR(VLOOKUP(D1787,'Study Area Site Variable'!$B$4:$J$1240,6,FALSE),0)","v":0},{"$f":"IFERROR(VLOOKUP(D1787,'Study Area Site Variable'!$B$4:$H$1240,7,FALSE),0)","v":0},0]
["2014-05-01","Boating","Copper River-Unspecified","BTNG 254",null,3,{"$f":"IFERROR(VLOOKUP(D1788,'Study Area Site Variable'!$B$4:$J$1240,6,FALSE),0)","v":0},{"$f":"IFERROR(VLOOKUP(D1788,'Study Area Site Variable'!$B$4:$H$1240,7,FALSE),0)","v":0},0]
["2014-05-01","Boating","Cornieleius Lake-Palmer","BTNG 255",null,6,{"$f":"IFERROR(VLOOKUP(D1789,'Study Area Site Variable'!$B$4:$J$1240,6,FALSE),0)","v":0},{"$f":"IFERROR(VLOOKUP(D1789,'Study Area Site Variable'!$B$4:$H$1240,7,FALSE),0)","v":0},0]
["2014-05-01","Boating","Cottonwood Lake-Private Property","BTNG 256",null,2,{"$f":"IFERROR(VLOOKUP(D1790,'Study Area Site Variable'!$B$4:$J$1240,6,FALSE),0)","v":0},{"$f":"IFERROR(VLOOKUP(D1790,'Study Area Site Variable'!$B$4:$H$1240,7,FALSE),0)","v":0},0]
["2014-05-01","Boating","cranberry lake near big lake-public launch","BTNG 257",null,8,{"$f":"IFERROR(VLOOKUP(D1791,'Study Area Site Variable'!$B$4:$J$1240,6,FALSE),0)","v":0},{"$f":"IFERROR(VLOOKUP(D1791,'Study Area Site Variable'!$B$4:$H$1240,7,FALSE),0)","v":0},0]
["2014-05-01","Boating","Crosswind Lake-Private property","BTNG 258",null,6,{"$f":"IFERROR(VLOOKUP(D1792,'Study Area Site Variable'!$B$4:$J$1240,6,FALSE),0)","v":0},{"$f":"IFERROR(VLOOKUP(D1792,'Study Area Site Variable'!$B$4:$H$1240,7,FALSE),0)","v":0},0]
["2014-05-01","Boating","Crosswind Lake-Tulsona Glennallen Area","BTNG 259",null,4,{"$f":"IFERROR(VLOOKUP(D1793,'Study Area Site Variable'!$B$4:$J$1240,6,FALSE),0)","v":0},{"$f":"IFERROR(VLOOKUP(D1793,'Study Area Site Variable'!$B$4:$H$1240,7,FALSE),0)","v":0},0]
["2014-05-01","Boating","Crystal Lake-private property","BTNG 260",null,2,{"$f":"IFERROR(VLOOKUP(D1794,'Study Area Site Variable'!$B$4:$J$1240,6,FALSE),0)","v":0},{"$f":"IFERROR(VLOOKUP(D1794,'Study Area Site Variable'!$B$4:$H$1240,7,FALSE),0)","v":0},0]
["2014-05-01","Boating","Deep Creek-Mouth","BTNG 261",null,4,{"$f":"IFERROR(VLOOKUP(D1795,'Study Area Site Variable'!$B$4:$J$1240,6,FALSE),0)","v":0},{"$f":"IFERROR(VLOOKUP(D1795,'Study Area Site Variable'!$B$4:$H$1240,7,FALSE),0)","v":0},0]
["2014-05-01","Boating","DeLong Lake-Anchorage","BTNG 262",null,4,{"$f":"IFERROR(VLOOKUP(D1796,'Study Area Site Variable'!$B$4:$J$1240,6,FALSE),0)","v":0},{"$f":"IFERROR(VLOOKUP(D1796,'Study Area Site Variable'!$B$4:$H$1240,7,FALSE),0)","v":0},0]
["2014-05-01","Boating","Drashner Lake-Cantwell","BTNG 263",null,2,{"$f":"IFERROR(VLOOKUP(D1797,'Study Area Site Variable'!$B$4:$J$1240,6,FALSE),0)","v":0},{"$f":"IFERROR(VLOOKUP(D1797,'Study Area Site Variable'!$B$4:$H$1240,7,FALSE),0)","v":0},0]
["2014-05-01","Boating","Dutch Harbor-Dutch Harbor","BTNG 264",null,6,{"$f":"IFERROR(VLOOKUP(D1798,'Study Area Site Variable'!$B$4:$J$1240,6,FALSE),0)","v":0},{"$f":"IFERROR(VLOOKUP(D1798,'Study Area Site Variable'!$B$4:$H$1240,7,FALSE),0)","v":0},0]
["2014-05-01","Boating","East Fork Susitna River-Valdez Creek","BTNG 265",null,2,{"$f":"IFERROR(VLOOKUP(D1799,'Study Area Site Variable'!$B$4:$J$1240,6,FALSE),0)","v":0},{"$f":"IFERROR(VLOOKUP(D1799,'Study Area Site Variable'!$B$4:$H$1240,7,FALSE),0)","v":0},0]
["2014-05-01","Boating","Eight Mile Lake-Denali Highway","BTNG 266",null,1,{"$f":"IFERROR(VLOOKUP(D1800,'Study Area Site Variable'!$B$4:$J$1240,6,FALSE),0)","v":0},{"$f":"IFERROR(VLOOKUP(D1800,'Study Area Site Variable'!$B$4:$H$1240,7,FALSE),0)","v":0},1]
["2014-05-01","Boating","Eyak River-Boat Launch","BTNG 267",null,1,{"$f":"IFERROR(VLOOKUP(D1801,'Study Area Site Variable'!$B$4:$J$1240,6,FALSE),0)","v":0},{"$f":"IFERROR(VLOOKUP(D1801,'Study Area Site Variable'!$B$4:$H$1240,7,FALSE),0)","v":0},0]
["2014-05-01","Boating","Finger Lake- Private Property","BTNG 268",null,10,{"$f":"IFERROR(VLOOKUP(D1802,'Study Area Site Variable'!$B$4:$J$1240,6,FALSE),0)","v":0},{"$f":"IFERROR(VLOOKUP(D1802,'Study Area Site Variable'!$B$4:$H$1240,7,FALSE),0)","v":0},0]
["2014-05-01","Boating","Fire Lake- Eagle River Private Residence","BTNG 269",null,6,{"$f":"IFERROR(VLOOKUP(D1803,'Study Area Site Variable'!$B$4:$J$1240,6,FALSE),0)","v":0},{"$f":"IFERROR(VLOOKUP(D1803,'Study Area Site Variable'!$B$4:$H$1240,7,FALSE),0)","v":0},0]
["2014-05-01","Boating","Fortymile River South Fork -S Fork boat launch off Taylor Hwy","BTNG 270",null,6,{"$f":"IFERROR(VLOOKUP(D1804,'Study Area Site Variable'!$B$4:$J$1240,6,FALSE),0)","v":0},{"$f":"IFERROR(VLOOKUP(D1804,'Study Area Site Variable'!$B$4:$H$1240,7,FALSE),0)","v":0},0]
["2014-05-01","Boating","Gakona River-Richardson Hwy, mile 154","BTNG 271",null,2,{"$f":"IFERROR(VLOOKUP(D1805,'Study Area Site Variable'!$B$4:$J$1240,6,FALSE),0)","v":0},{"$f":"IFERROR(VLOOKUP(D1805,'Study Area Site Variable'!$B$4:$H$1240,7,FALSE),0)","v":0},0]
["2014-05-01","Boating","Good Paster River-Tanana River Boat Launch","BTNG 272",null,8,{"$f":"IFERROR(VLOOKUP(D1806,'Study Area Site Variable'!$B$4:$J$1240,6,FALSE),0)","v":0},{"$f":"IFERROR(VLOOKUP(D1806,'Study Area Site Variable'!$B$4:$H$1240,7,FALSE),0)","v":0},0]
["2014-05-01","Boating","Goodpaster River-Big Delta boat launch","BTNG 273",null,10,{"$f":"IFERROR(VLOOKUP(D1807,'Study Area Site Variable'!$B$4:$J$1240,6,FALSE),0)","v":0},{"$f":"IFERROR(VLOOKUP(D1807,'Study Area Site Variable'!$B$4:$H$1240,7,FALSE),0)","v":0},0]
["2014-05-01","Boating","Gravel Lake-Salcha","BTNG 274",null,2,{"$f":"IFERROR(VLOOKUP(D1808,'Study Area Site Variable'!$B$4:$J$1240,6,FALSE),0)","v":0},{"$f":"IFERROR(VLOOKUP(D1808,'Study Area Site Variable'!$B$4:$H$1240,7,FALSE),0)","v":0},0]
["2014-05-01","Boating","Gulf of Alaska-Sand Point","BTNG 275",null,5,{"$f":"IFERROR(VLOOKUP(D1809,'Study Area Site Variable'!$B$4:$J$1240,6,FALSE),0)","v":0},{"$f":"IFERROR(VLOOKUP(D1809,'Study Area Site Variable'!$B$4:$H$1240,7,FALSE),0)","v":0},0]
["2014-05-01","Boating","Gulkana River-Gakona","BTNG 276",null,3,{"$f":"IFERROR(VLOOKUP(D1810,'Study Area Site Variable'!$B$4:$J$1240,6,FALSE),0)","v":0},{"$f":"IFERROR(VLOOKUP(D1810,'Study Area Site Variable'!$B$4:$H$1240,7,FALSE),0)","v":0},0]
["2014-05-01","Boating","Gulkana River-Glenallen","BTNG 277",null,5,{"$f":"IFERROR(VLOOKUP(D1811,'Study Area Site Variable'!$B$4:$J$1240,6,FALSE),0)","v":0},{"$f":"IFERROR(VLOOKUP(D1811,'Study Area Site Variable'!$B$4:$H$1240,7,FALSE),0)","v":0},0]
["2014-05-01","Boating","gulkana river-paxson","BTNG 278",null,6,{"$f":"IFERROR(VLOOKUP(D1812,'Study Area Site Variable'!$B$4:$J$1240,6,FALSE),0)","v":0},{"$f":"IFERROR(VLOOKUP(D1812,'Study Area Site Variable'!$B$4:$H$1240,7,FALSE),0)","v":0},0]
["2014-05-01","Boating","Gulkana River-Paxson Lake","BTNG 279",null,0,{"$f":"IFERROR(VLOOKUP(D1813,'Study Area Site Variable'!$B$4:$J$1240,6,FALSE),0)","v":0},{"$f":"IFERROR(VLOOKUP(D1813,'Study Area Site Variable'!$B$4:$H$1240,7,FALSE),0)","v":0},0]
["2014-05-01","Boating","Gulkana River-Poplar grove, Richardson Hwy","BTNG 280",null,1,{"$f":"IFERROR(VLOOKUP(D1814,'Study Area Site Variable'!$B$4:$J$1240,6,FALSE),0)","v":0},{"$f":"IFERROR(VLOOKUP(D1814,'Study Area Site Variable'!$B$4:$H$1240,7,FALSE),0)","v":0},0]
["2014-05-01","Boating","Gulkana River-Sailor's Pit","BTNG 281",null,9,{"$f":"IFERROR(VLOOKUP(D1815,'Study Area Site Variable'!$B$4:$J$1240,6,FALSE),0)","v":0},{"$f":"IFERROR(VLOOKUP(D1815,'Study Area Site Variable'!$B$4:$H$1240,7,FALSE),0)","v":0},0]
["2014-05-01","Boating","Gulkana River-Sourdough BLM","BTNG 282",null,30,{"$f":"IFERROR(VLOOKUP(D1816,'Study Area Site Variable'!$B$4:$J$1240,6,FALSE),0)","v":1},{"$f":"IFERROR(VLOOKUP(D1816,'Study Area Site Variable'!$B$4:$H$1240,7,FALSE),0)","v":0},0]
["2014-05-01","Boating","gulkana river-summit lake","BTNG 283",null,9,{"$f":"IFERROR(VLOOKUP(D1817,'Study Area Site Variable'!$B$4:$J$1240,6,FALSE),0)","v":0},{"$f":"IFERROR(VLOOKUP(D1817,'Study Area Site Variable'!$B$4:$H$1240,7,FALSE),0)","v":0},0]
["2014-05-01","Boating","Halibut Cove-Halibut Cove","BTNG 284",null,2,{"$f":"IFERROR(VLOOKUP(D1818,'Study Area Site Variable'!$B$4:$J$1240,6,FALSE),0)","v":0},{"$f":"IFERROR(VLOOKUP(D1818,'Study Area Site Variable'!$B$4:$H$1240,7,FALSE),0)","v":0},0]
["2014-05-01","Boating","Happy River-Fly-in","BTNG 285",null,8,{"$f":"IFERROR(VLOOKUP(D1819,'Study Area Site Variable'!$B$4:$J$1240,6,FALSE),0)","v":0},{"$f":"IFERROR(VLOOKUP(D1819,'Study Area Site Variable'!$B$4:$H$1240,7,FALSE),0)","v":0},0]
["2014-05-01","Boating","Healy Lake-Unspecified","BTNG 286",null,0,{"$f":"IFERROR(VLOOKUP(D1820,'Study Area Site Variable'!$B$4:$J$1240,6,FALSE),0)","v":0},{"$f":"IFERROR(VLOOKUP(D1820,'Study Area Site Variable'!$B$4:$H$1240,7,FALSE),0)","v":0},0]
["2014-05-01","Boating","Hidden Lake-Cooper Landing","BTNG 287",null,3,{"$f":"IFERROR(VLOOKUP(D1821,'Study Area Site Variable'!$B$4:$J$1240,6,FALSE),0)","v":0},{"$f":"IFERROR(VLOOKUP(D1821,'Study Area Site Variable'!$B$4:$H$1240,7,FALSE),0)","v":0},0]
["2014-05-01","Boating","High Lake-Personal dock","BTNG 288",null,2,{"$f":"IFERROR(VLOOKUP(D1822,'Study Area Site Variable'!$B$4:$J$1240,6,FALSE),0)","v":0},{"$f":"IFERROR(VLOOKUP(D1822,'Study Area Site Variable'!$B$4:$H$1240,7,FALSE),0)","v":0},2]
["2014-05-01","Boating","Hulahula River-Walked from Sadlerochit River","BTNG 289",null,1,{"$f":"IFERROR(VLOOKUP(D1823,'Study Area Site Variable'!$B$4:$J$1240,6,FALSE),0)","v":0},{"$f":"IFERROR(VLOOKUP(D1823,'Study Area Site Variable'!$B$4:$H$1240,7,FALSE),0)","v":0},0]
["2014-05-01","Boating","Ingram Creek-Seward Hwy","BTNG 290",null,1,{"$f":"IFERROR(VLOOKUP(D1824,'Study Area Site Variable'!$B$4:$J$1240,6,FALSE),0)","v":0},{"$f":"IFERROR(VLOOKUP(D1824,'Study Area Site Variable'!$B$4:$H$1240,7,FALSE),0)","v":0},0]
["2014-05-01","Boating","Innoko River-Shageluk","BTNG 291",null,10,{"$f":"IFERROR(VLOOKUP(D1825,'Study Area Site Variable'!$B$4:$J$1240,6,FALSE),0)","v":0},{"$f":"IFERROR(VLOOKUP(D1825,'Study Area Site Variable'!$B$4:$H$1240,7,FALSE),0)","v":0},0]
["2014-05-01","Boating","Inside Passage-Cruise Ship Vancouver","BTNG 292",null,8,{"$f":"IFERROR(VLOOKUP(D1826,'Study Area Site Variable'!$B$4:$J$1240,6,FALSE),0)","v":0},{"$f":"IFERROR(VLOOKUP(D1826,'Study Area Site Variable'!$B$4:$H$1240,7,FALSE),0)","v":0},0]
["2014-05-01","Boating","Jack River-Cantwell","BTNG 293",null,7,{"$f":"IFERROR(VLOOKUP(D1827,'Study Area Site Variable'!$B$4:$J$1240,6,FALSE),0)","v":0},{"$f":"IFERROR(VLOOKUP(D1827,'Study Area Site Variable'!$B$4:$H$1240,7,FALSE),0)","v":0},1]
["2014-05-01","Boating","Kaktovik Lagoon-crossed to Barter Island, narrowest point","BTNG 294",null,1,{"$f":"IFERROR(VLOOKUP(D1828,'Study Area Site Variable'!$B$4:$J$1240,6,FALSE),0)","v":0},{"$f":"IFERROR(VLOOKUP(D1828,'Study Area Site Variable'!$B$4:$H$1240,7,FALSE),0)","v":0},0]
["2014-05-01","Boating","Kenai Lake-Quartz Creek","BTNG 295",null,1,{"$f":"IFERROR(VLOOKUP(D1829,'Study Area Site Variable'!$B$4:$J$1240,6,FALSE),0)","v":0},{"$f":"IFERROR(VLOOKUP(D1829,'Study Area Site Variable'!$B$4:$H$1240,7,FALSE),0)","v":0},0]
["2014-05-01","Boating","Kenai River- Kenai","BTNG 296",null,10,{"$f":"IFERROR(VLOOKUP(D1830,'Study Area Site Variable'!$B$4:$J$1240,6,FALSE),0)","v":0},{"$f":"IFERROR(VLOOKUP(D1830,'Study Area Site Variable'!$B$4:$H$1240,7,FALSE),0)","v":0},0]
["2014-05-01","Boating","Kenai River-Bings Landing","BTNG 297",null,17,{"$f":"IFERROR(VLOOKUP(D1831,'Study Area Site Variable'!$B$4:$J$1240,6,FALSE),0)","v":1},{"$f":"IFERROR(VLOOKUP(D1831,'Study Area Site Variable'!$B$4:$H$1240,7,FALSE),0)","v":0},0]
["2014-05-01","Boating","Kenai River-Cooper Landing Boat Launch","BTNG 298",null,50,{"$f":"IFERROR(VLOOKUP(D1832,'Study Area Site Variable'!$B$4:$J$1240,6,FALSE),0)","v":1},{"$f":"IFERROR(VLOOKUP(D1832,'Study Area Site Variable'!$B$4:$H$1240,7,FALSE),0)","v":0},0]
["2014-05-01","Boating","Kenai River-Funny River","BTNG 299",null,1,{"$f":"IFERROR(VLOOKUP(D1833,'Study Area Site Variable'!$B$4:$J$1240,6,FALSE),0)","v":0},{"$f":"IFERROR(VLOOKUP(D1833,'Study Area Site Variable'!$B$4:$H$1240,7,FALSE),0)","v":0},0]
["2014-05-01","Boating","Kenai River-Grown Point","BTNG 300",null,2,{"$f":"IFERROR(VLOOKUP(D1834,'Study Area Site Variable'!$B$4:$J$1240,6,FALSE),0)","v":0},{"$f":"IFERROR(VLOOKUP(D1834,'Study Area Site Variable'!$B$4:$H$1240,7,FALSE),0)","v":0},0]
["2014-05-01","Boating","Kenai River-Izaak Walton","BTNG 301",null,2,{"$f":"IFERROR(VLOOKUP(D1835,'Study Area Site Variable'!$B$4:$J$1240,6,FALSE),0)","v":0},{"$f":"IFERROR(VLOOKUP(D1835,'Study Area Site Variable'!$B$4:$H$1240,7,FALSE),0)","v":0},0]
["2014-05-01","Boating","Kenai River-Jims Landing","BTNG 302",null,3,{"$f":"IFERROR(VLOOKUP(D1836,'Study Area Site Variable'!$B$4:$J$1240,6,FALSE),0)","v":0},{"$f":"IFERROR(VLOOKUP(D1836,'Study Area Site Variable'!$B$4:$H$1240,7,FALSE),0)","v":0},0]
["2014-05-01","Boating","Kenai River-Lower Skilak","BTNG 303",null,2,{"$f":"IFERROR(VLOOKUP(D1837,'Study Area Site Variable'!$B$4:$J$1240,6,FALSE),0)","v":0},{"$f":"IFERROR(VLOOKUP(D1837,'Study Area Site Variable'!$B$4:$H$1240,7,FALSE),0)","v":0},0]
["2014-05-01","Boating","Kenai River-Mile 32 of the River","BTNG 304",null,1,{"$f":"IFERROR(VLOOKUP(D1838,'Study Area Site Variable'!$B$4:$J$1240,6,FALSE),0)","v":0},{"$f":"IFERROR(VLOOKUP(D1838,'Study Area Site Variable'!$B$4:$H$1240,7,FALSE),0)","v":0},0]
["2014-05-01","Boating","Kenai River-Primrose Campground","BTNG 305",null,2,{"$f":"IFERROR(VLOOKUP(D1839,'Study Area Site Variable'!$B$4:$J$1240,6,FALSE),0)","v":0},{"$f":"IFERROR(VLOOKUP(D1839,'Study Area Site Variable'!$B$4:$H$1240,7,FALSE),0)","v":0},0]
["2014-05-01","Boating","Kenai River-Private Property","BTNG 306",null,3,{"$f":"IFERROR(VLOOKUP(D1840,'Study Area Site Variable'!$B$4:$J$1240,6,FALSE),0)","v":0},{"$f":"IFERROR(VLOOKUP(D1840,'Study Area Site Variable'!$B$4:$H$1240,7,FALSE),0)","v":0},3]
["2014-05-01","Boating","Kenai River-Skilak Lake","BTNG 307",null,2,{"$f":"IFERROR(VLOOKUP(D1841,'Study Area Site Variable'!$B$4:$J$1240,6,FALSE),0)","v":0},{"$f":"IFERROR(VLOOKUP(D1841,'Study Area Site Variable'!$B$4:$H$1240,7,FALSE),0)","v":0},0]
["2014-05-01","Boating","Kenai River-Soldotna City dock","BTNG 308",null,10,{"$f":"IFERROR(VLOOKUP(D1842,'Study Area Site Variable'!$B$4:$J$1240,6,FALSE),0)","v":0},{"$f":"IFERROR(VLOOKUP(D1842,'Study Area Site Variable'!$B$4:$H$1240,7,FALSE),0)","v":0},0]
["2014-05-01","Boating","Kenai River-Sportsmens Landing","BTNG 309",null,10,{"$f":"IFERROR(VLOOKUP(D1843,'Study Area Site Variable'!$B$4:$J$1240,6,FALSE),0)","v":0},{"$f":"IFERROR(VLOOKUP(D1843,'Study Area Site Variable'!$B$4:$H$1240,7,FALSE),0)","v":0},0]
["2014-05-01","Boating","Klattina River-Klatina","BTNG 310",null,3,{"$f":"IFERROR(VLOOKUP(D1844,'Study Area Site Variable'!$B$4:$J$1240,6,FALSE),0)","v":0},{"$f":"IFERROR(VLOOKUP(D1844,'Study Area Site Variable'!$B$4:$H$1240,7,FALSE),0)","v":0},0]
["2014-05-01","Boating","Klutina Lake-Klutina Lake rd","BTNG 311",null,2,{"$f":"IFERROR(VLOOKUP(D1845,'Study Area Site Variable'!$B$4:$J$1240,6,FALSE),0)","v":0},{"$f":"IFERROR(VLOOKUP(D1845,'Study Area Site Variable'!$B$4:$H$1240,7,FALSE),0)","v":0},0]
["2014-05-01","Boating","Klutina Lake-Klutina River","BTNG 312",null,4,{"$f":"IFERROR(VLOOKUP(D1846,'Study Area Site Variable'!$B$4:$J$1240,6,FALSE),0)","v":0},{"$f":"IFERROR(VLOOKUP(D1846,'Study Area Site Variable'!$B$4:$H$1240,7,FALSE),0)","v":0},0]
["2014-05-01","Boating","Klutina River-Copper Center","BTNG 313",null,1,{"$f":"IFERROR(VLOOKUP(D1847,'Study Area Site Variable'!$B$4:$J$1240,6,FALSE),0)","v":0},{"$f":"IFERROR(VLOOKUP(D1847,'Study Area Site Variable'!$B$4:$H$1240,7,FALSE),0)","v":0},0]
["2014-05-01","Boating","Klutina River-New Richardson Bridge","BTNG 314",null,2,{"$f":"IFERROR(VLOOKUP(D1848,'Study Area Site Variable'!$B$4:$J$1240,6,FALSE),0)","v":0},{"$f":"IFERROR(VLOOKUP(D1848,'Study Area Site Variable'!$B$4:$H$1240,7,FALSE),0)","v":0},0]
["2014-05-01","Boating","Knik River-Knik Bridge Sand bar","BTNG 315",null,1,{"$f":"IFERROR(VLOOKUP(D1849,'Study Area Site Variable'!$B$4:$J$1240,6,FALSE),0)","v":0},{"$f":"IFERROR(VLOOKUP(D1849,'Study Area Site Variable'!$B$4:$H$1240,7,FALSE),0)","v":0},0]
["2014-05-01","Boating","Knik River-Knik River Rd","BTNG 316",null,3,{"$f":"IFERROR(VLOOKUP(D1850,'Study Area Site Variable'!$B$4:$J$1240,6,FALSE),0)","v":0},{"$f":"IFERROR(VLOOKUP(D1850,'Study Area Site Variable'!$B$4:$H$1240,7,FALSE),0)","v":0},0]
["2014-05-01","Boating","Knik River-Old Glenn Bridge","BTNG 317",null,11,{"$f":"IFERROR(VLOOKUP(D1851,'Study Area Site Variable'!$B$4:$J$1240,6,FALSE),0)","v":0},{"$f":"IFERROR(VLOOKUP(D1851,'Study Area Site Variable'!$B$4:$H$1240,7,FALSE),0)","v":0},0]
["2014-05-01","Boating","Knik River-Palmer","BTNG 318",null,5,{"$f":"IFERROR(VLOOKUP(D1852,'Study Area Site Variable'!$B$4:$J$1240,6,FALSE),0)","v":0},{"$f":"IFERROR(VLOOKUP(D1852,'Study Area Site Variable'!$B$4:$H$1240,7,FALSE),0)","v":0},0]
["2014-05-01","Boating","Kobuk River-Walker Lake","BTNG 319",null,9,{"$f":"IFERROR(VLOOKUP(D1853,'Study Area Site Variable'!$B$4:$J$1240,6,FALSE),0)","v":0},{"$f":"IFERROR(VLOOKUP(D1853,'Study Area Site Variable'!$B$4:$H$1240,7,FALSE),0)","v":0},0]
["2014-05-01","Boating","Kuskokwim River-McGrath","BTNG 320",null,19,{"$f":"IFERROR(VLOOKUP(D1854,'Study Area Site Variable'!$B$4:$J$1240,6,FALSE),0)","v":1},{"$f":"IFERROR(VLOOKUP(D1854,'Study Area Site Variable'!$B$4:$H$1240,7,FALSE),0)","v":0},0]
["2014-05-01","Boating","Kutchak  River-Iguigig","BTNG 321",null,5,{"$f":"IFERROR(VLOOKUP(D1855,'Study Area Site Variable'!$B$4:$J$1240,6,FALSE),0)","v":0},{"$f":"IFERROR(VLOOKUP(D1855,'Study Area Site Variable'!$B$4:$H$1240,7,FALSE),0)","v":0},0]
["2014-05-01","Boating","kuyokuk river-haul road","BTNG 322",null,15,{"$f":"IFERROR(VLOOKUP(D1856,'Study Area Site Variable'!$B$4:$J$1240,6,FALSE),0)","v":0},{"$f":"IFERROR(VLOOKUP(D1856,'Study Area Site Variable'!$B$4:$H$1240,7,FALSE),0)","v":0},0]
["2014-05-01","Boating","Kwethluk River-Kengaqak","BTNG 323",null,3,{"$f":"IFERROR(VLOOKUP(D1857,'Study Area Site Variable'!$B$4:$J$1240,6,FALSE),0)","v":0},{"$f":"IFERROR(VLOOKUP(D1857,'Study Area Site Variable'!$B$4:$H$1240,7,FALSE),0)","v":0},0]
["2014-05-01","Boating","Lake Barbara-Dillingham","BTNG 324",null,2,{"$f":"IFERROR(VLOOKUP(D1858,'Study Area Site Variable'!$B$4:$J$1240,6,FALSE),0)","v":0},{"$f":"IFERROR(VLOOKUP(D1858,'Study Area Site Variable'!$B$4:$H$1240,7,FALSE),0)","v":0},0]
["2014-05-01","Boating","Lake Chitina-Chitina","BTNG 325",null,6,{"$f":"IFERROR(VLOOKUP(D1859,'Study Area Site Variable'!$B$4:$J$1240,6,FALSE),0)","v":0},{"$f":"IFERROR(VLOOKUP(D1859,'Study Area Site Variable'!$B$4:$H$1240,7,FALSE),0)","v":0},0]
["2014-05-01","Boating","Lake Clark-Keyes Point","BTNG 326",null,50,{"$f":"IFERROR(VLOOKUP(D1860,'Study Area Site Variable'!$B$4:$J$1240,6,FALSE),0)","v":1},{"$f":"IFERROR(VLOOKUP(D1860,'Study Area Site Variable'!$B$4:$H$1240,7,FALSE),0)","v":0},35]
["2014-05-01","Boating","Lake Creek-Deshka Landing","BTNG 327",null,2,{"$f":"IFERROR(VLOOKUP(D1861,'Study Area Site Variable'!$B$4:$J$1240,6,FALSE),0)","v":0},{"$f":"IFERROR(VLOOKUP(D1861,'Study Area Site Variable'!$B$4:$H$1240,7,FALSE),0)","v":0},0]
["2014-05-01","Boating","Lake Louise-Evergreen Lodge","BTNG 328",null,40,{"$f":"IFERROR(VLOOKUP(D1862,'Study Area Site Variable'!$B$4:$J$1240,6,FALSE),0)","v":1},{"$f":"IFERROR(VLOOKUP(D1862,'Study Area Site Variable'!$B$4:$H$1240,7,FALSE),0)","v":0},40]
["2014-05-01","Boating","Lake Louise-Glenallen","BTNG 329",null,6,{"$f":"IFERROR(VLOOKUP(D1863,'Study Area Site Variable'!$B$4:$J$1240,6,FALSE),0)","v":0},{"$f":"IFERROR(VLOOKUP(D1863,'Study Area Site Variable'!$B$4:$H$1240,7,FALSE),0)","v":0},0]
["2014-05-01","Boating","Lake Louise-Public Launch Lake Louise","BTNG 330",null,57,{"$f":"IFERROR(VLOOKUP(D1864,'Study Area Site Variable'!$B$4:$J$1240,6,FALSE),0)","v":1},{"$f":"IFERROR(VLOOKUP(D1864,'Study Area Site Variable'!$B$4:$H$1240,7,FALSE),0)","v":0},56]
["2014-05-01","Boating","Lake Louise-Unspecified","BTNG 331",null,3,{"$f":"IFERROR(VLOOKUP(D1865,'Study Area Site Variable'!$B$4:$J$1240,6,FALSE),0)","v":0},{"$f":"IFERROR(VLOOKUP(D1865,'Study Area Site Variable'!$B$4:$H$1240,7,FALSE),0)","v":0},0]
["2014-05-01","Boating","Lake Louise-Wasilla","BTNG 332",null,10,{"$f":"IFERROR(VLOOKUP(D1866,'Study Area Site Variable'!$B$4:$J$1240,6,FALSE),0)","v":0},{"$f":"IFERROR(VLOOKUP(D1866,'Study Area Site Variable'!$B$4:$H$1240,7,FALSE),0)","v":0},0]
["2014-05-01","Boating","lake 'o' the hills-anchorage","BTNG 333",null,4,{"$f":"IFERROR(VLOOKUP(D1867,'Study Area Site Variable'!$B$4:$J$1240,6,FALSE),0)","v":0},{"$f":"IFERROR(VLOOKUP(D1867,'Study Area Site Variable'!$B$4:$H$1240,7,FALSE),0)","v":0},0]
["2014-05-01","Boating","Lake Susitna-Evergreen Lodge","BTNG 334",null,40,{"$f":"IFERROR(VLOOKUP(D1868,'Study Area Site Variable'!$B$4:$J$1240,6,FALSE),0)","v":1},{"$f":"IFERROR(VLOOKUP(D1868,'Study Area Site Variable'!$B$4:$H$1240,7,FALSE),0)","v":0},40]
["2014-05-01","Boating","Larsen Bay-Kodiak Gulf","BTNG 335",null,3,{"$f":"IFERROR(VLOOKUP(D1869,'Study Area Site Variable'!$B$4:$J$1240,6,FALSE),0)","v":0},{"$f":"IFERROR(VLOOKUP(D1869,'Study Area Site Variable'!$B$4:$H$1240,7,FALSE),0)","v":0},0]
["2014-05-01","Boating","Little Bill Lake-mp 100 Parks Hwy-, Sunshine","BTNG 336",null,5,{"$f":"IFERROR(VLOOKUP(D1870,'Study Area Site Variable'!$B$4:$J$1240,6,FALSE),0)","v":0},{"$f":"IFERROR(VLOOKUP(D1870,'Study Area Site Variable'!$B$4:$H$1240,7,FALSE),0)","v":0},5]
["2014-05-01","Boating","Little Nelchina River-Nelchina Campground","BTNG 337",null,4,{"$f":"IFERROR(VLOOKUP(D1871,'Study Area Site Variable'!$B$4:$J$1240,6,FALSE),0)","v":0},{"$f":"IFERROR(VLOOKUP(D1871,'Study Area Site Variable'!$B$4:$H$1240,7,FALSE),0)","v":0},0]
["2014-05-01","Boating","Little Susitna-Hatchers Pass","BTNG 338",null,2,{"$f":"IFERROR(VLOOKUP(D1872,'Study Area Site Variable'!$B$4:$J$1240,6,FALSE),0)","v":0},{"$f":"IFERROR(VLOOKUP(D1872,'Study Area Site Variable'!$B$4:$H$1240,7,FALSE),0)","v":0},0]
["2014-05-01","Boating","Little Susitna-Palmer","BTNG 339",null,3,{"$f":"IFERROR(VLOOKUP(D1873,'Study Area Site Variable'!$B$4:$J$1240,6,FALSE),0)","v":0},{"$f":"IFERROR(VLOOKUP(D1873,'Study Area Site Variable'!$B$4:$H$1240,7,FALSE),0)","v":0},0]
["2014-05-01","Boating","Little Susitna-Unspecified","BTNG 340",null,1,{"$f":"IFERROR(VLOOKUP(D1874,'Study Area Site Variable'!$B$4:$J$1240,6,FALSE),0)","v":0},{"$f":"IFERROR(VLOOKUP(D1874,'Study Area Site Variable'!$B$4:$H$1240,7,FALSE),0)","v":0},0]
["2014-05-01","Boating","Little Susitna-Willow","BTNG 341",null,3,{"$f":"IFERROR(VLOOKUP(D1875,'Study Area Site Variable'!$B$4:$J$1240,6,FALSE),0)","v":0},{"$f":"IFERROR(VLOOKUP(D1875,'Study Area Site Variable'!$B$4:$H$1240,7,FALSE),0)","v":0},0]
["2014-05-01","Boating","Long Lake-Glenn Highway","BTNG 342",null,5,{"$f":"IFERROR(VLOOKUP(D1876,'Study Area Site Variable'!$B$4:$J$1240,6,FALSE),0)","v":0},{"$f":"IFERROR(VLOOKUP(D1876,'Study Area Site Variable'!$B$4:$H$1240,7,FALSE),0)","v":0},0]
["2014-05-01","Boating","Long Lake-Private Property]","BTNG 343",null,1,{"$f":"IFERROR(VLOOKUP(D1877,'Study Area Site Variable'!$B$4:$J$1240,6,FALSE),0)","v":0},{"$f":"IFERROR(VLOOKUP(D1877,'Study Area Site Variable'!$B$4:$H$1240,7,FALSE),0)","v":0},0]
["2014-05-01","Boating","Loon Lake-Public Boat Launch","BTNG 344",null,3,{"$f":"IFERROR(VLOOKUP(D1878,'Study Area Site Variable'!$B$4:$J$1240,6,FALSE),0)","v":0},{"$f":"IFERROR(VLOOKUP(D1878,'Study Area Site Variable'!$B$4:$H$1240,7,FALSE),0)","v":0},0]
["2014-05-01","Boating","Lucile Lake-Wasilla","BTNG 345",null,26,{"$f":"IFERROR(VLOOKUP(D1879,'Study Area Site Variable'!$B$4:$J$1240,6,FALSE),0)","v":1},{"$f":"IFERROR(VLOOKUP(D1879,'Study Area Site Variable'!$B$4:$H$1240,7,FALSE),0)","v":0},0]
["2014-05-01","Boating","Lynn Canal-Juneau","BTNG 346",null,3,{"$f":"IFERROR(VLOOKUP(D1880,'Study Area Site Variable'!$B$4:$J$1240,6,FALSE),0)","v":0},{"$f":"IFERROR(VLOOKUP(D1880,'Study Area Site Variable'!$B$4:$H$1240,7,FALSE),0)","v":0},0]
["2014-05-01","Boating","Lynx Lake-Midnight Sun Bible Camp","BTNG 347",null,16,{"$f":"IFERROR(VLOOKUP(D1881,'Study Area Site Variable'!$B$4:$J$1240,6,FALSE),0)","v":1},{"$f":"IFERROR(VLOOKUP(D1881,'Study Area Site Variable'!$B$4:$H$1240,7,FALSE),0)","v":0},0]
["2014-05-01","Boating","Lynx lake-Public Launch","BTNG 348",null,7,{"$f":"IFERROR(VLOOKUP(D1882,'Study Area Site Variable'!$B$4:$J$1240,6,FALSE),0)","v":0},{"$f":"IFERROR(VLOOKUP(D1882,'Study Area Site Variable'!$B$4:$H$1240,7,FALSE),0)","v":0},0]
["2014-05-01","Boating","Marion Lake-Unspecified","BTNG 349",null,2,{"$f":"IFERROR(VLOOKUP(D1883,'Study Area Site Variable'!$B$4:$J$1240,6,FALSE),0)","v":0},{"$f":"IFERROR(VLOOKUP(D1883,'Study Area Site Variable'!$B$4:$H$1240,7,FALSE),0)","v":0},0]
["2014-05-01","Boating","Matanuska River-Sutton","BTNG 350",null,3,{"$f":"IFERROR(VLOOKUP(D1884,'Study Area Site Variable'!$B$4:$J$1240,6,FALSE),0)","v":0},{"$f":"IFERROR(VLOOKUP(D1884,'Study Area Site Variable'!$B$4:$H$1240,7,FALSE),0)","v":0},0]
["2014-05-01","Boating","McClaren River-Denali Hwy, McClaren Lodge","BTNG 351",null,2,{"$f":"IFERROR(VLOOKUP(D1885,'Study Area Site Variable'!$B$4:$J$1240,6,FALSE),0)","v":0},{"$f":"IFERROR(VLOOKUP(D1885,'Study Area Site Variable'!$B$4:$H$1240,7,FALSE),0)","v":0},0]
["2014-05-01","Boating","Middle Fork Koyukuk-Coldfoot","BTNG 352",null,15,{"$f":"IFERROR(VLOOKUP(D1886,'Study Area Site Variable'!$B$4:$J$1240,6,FALSE),0)","v":0},{"$f":"IFERROR(VLOOKUP(D1886,'Study Area Site Variable'!$B$4:$H$1240,7,FALSE),0)","v":0},0]
["2014-05-01","Boating","Mineral Lake-Mile 88 Tok cutoff","BTNG 353",null,1,{"$f":"IFERROR(VLOOKUP(D1887,'Study Area Site Variable'!$B$4:$J$1240,6,FALSE),0)","v":0},{"$f":"IFERROR(VLOOKUP(D1887,'Study Area Site Variable'!$B$4:$H$1240,7,FALSE),0)","v":0},0]
["2014-05-01","Boating","Minto Flats-Minto","BTNG 354",null,8,{"$f":"IFERROR(VLOOKUP(D1888,'Study Area Site Variable'!$B$4:$J$1240,6,FALSE),0)","v":0},{"$f":"IFERROR(VLOOKUP(D1888,'Study Area Site Variable'!$B$4:$H$1240,7,FALSE),0)","v":0},0]
["2014-05-01","Boating","Montana Creek-Talkeetna","BTNG 355",null,2,{"$f":"IFERROR(VLOOKUP(D1889,'Study Area Site Variable'!$B$4:$J$1240,6,FALSE),0)","v":0},{"$f":"IFERROR(VLOOKUP(D1889,'Study Area Site Variable'!$B$4:$H$1240,7,FALSE),0)","v":0},0]
["2014-05-01","Boating","Moon lakeTok","BTNG 356",null,3,{"$f":"IFERROR(VLOOKUP(D1890,'Study Area Site Variable'!$B$4:$J$1240,6,FALSE),0)","v":0},{"$f":"IFERROR(VLOOKUP(D1890,'Study Area Site Variable'!$B$4:$H$1240,7,FALSE),0)","v":0},0]
["2014-05-01","Boating","Moose Creek-Oil Well Rd. Petersville","BTNG 357",null,7,{"$f":"IFERROR(VLOOKUP(D1891,'Study Area Site Variable'!$B$4:$J$1240,6,FALSE),0)","v":0},{"$f":"IFERROR(VLOOKUP(D1891,'Study Area Site Variable'!$B$4:$H$1240,7,FALSE),0)","v":0},0]
["2014-05-01","Boating","moose creek-trapper creek","BTNG 358",null,1,{"$f":"IFERROR(VLOOKUP(D1892,'Study Area Site Variable'!$B$4:$J$1240,6,FALSE),0)","v":0},{"$f":"IFERROR(VLOOKUP(D1892,'Study Area Site Variable'!$B$4:$H$1240,7,FALSE),0)","v":0},1]
["2014-05-01","Boating","Moose River-Sterling Launch","BTNG 359",null,2,{"$f":"IFERROR(VLOOKUP(D1893,'Study Area Site Variable'!$B$4:$J$1240,6,FALSE),0)","v":0},{"$f":"IFERROR(VLOOKUP(D1893,'Study Area Site Variable'!$B$4:$H$1240,7,FALSE),0)","v":0},0]
["2014-05-01","Boating","Nancy Lake-Friend's dock","BTNG 360",null,1,{"$f":"IFERROR(VLOOKUP(D1894,'Study Area Site Variable'!$B$4:$J$1240,6,FALSE),0)","v":0},{"$f":"IFERROR(VLOOKUP(D1894,'Study Area Site Variable'!$B$4:$H$1240,7,FALSE),0)","v":0},0]
["2014-05-01","Boating","Nenana River-Cantwell","BTNG 361",null,20,{"$f":"IFERROR(VLOOKUP(D1895,'Study Area Site Variable'!$B$4:$J$1240,6,FALSE),0)","v":1},{"$f":"IFERROR(VLOOKUP(D1895,'Study Area Site Variable'!$B$4:$H$1240,7,FALSE),0)","v":0},20]
["2014-05-01","Boating","Nenana River-McKinley Village","BTNG 362",null,1,{"$f":"IFERROR(VLOOKUP(D1896,'Study Area Site Variable'!$B$4:$J$1240,6,FALSE),0)","v":0},{"$f":"IFERROR(VLOOKUP(D1896,'Study Area Site Variable'!$B$4:$H$1240,7,FALSE),0)","v":0},1]
["2014-05-01","Boating","Nenana River-Panoram Pizza, South of Denali Park","BTNG 363",null,1,{"$f":"IFERROR(VLOOKUP(D1897,'Study Area Site Variable'!$B$4:$J$1240,6,FALSE),0)","v":0},{"$f":"IFERROR(VLOOKUP(D1897,'Study Area Site Variable'!$B$4:$H$1240,7,FALSE),0)","v":0},0]
["2014-05-01","Boating","Nixon Fork-McGrath","BTNG 364",null,4,{"$f":"IFERROR(VLOOKUP(D1898,'Study Area Site Variable'!$B$4:$J$1240,6,FALSE),0)","v":0},{"$f":"IFERROR(VLOOKUP(D1898,'Study Area Site Variable'!$B$4:$H$1240,7,FALSE),0)","v":0},0]
["2014-05-01","Boating","Noatak River-Gates of the Arctic","BTNG 365",null,13,{"$f":"IFERROR(VLOOKUP(D1899,'Study Area Site Variable'!$B$4:$J$1240,6,FALSE),0)","v":0},{"$f":"IFERROR(VLOOKUP(D1899,'Study Area Site Variable'!$B$4:$H$1240,7,FALSE),0)","v":0},0]
["2014-05-01","Boating","Nome River-Nome Alaska","BTNG 366",null,1,{"$f":"IFERROR(VLOOKUP(D1900,'Study Area Site Variable'!$B$4:$J$1240,6,FALSE),0)","v":0},{"$f":"IFERROR(VLOOKUP(D1900,'Study Area Site Variable'!$B$4:$H$1240,7,FALSE),0)","v":0},0]
["2014-05-01","Boating","Nushagak River-Ekwok","BTNG 367",null,2,{"$f":"IFERROR(VLOOKUP(D1901,'Study Area Site Variable'!$B$4:$J$1240,6,FALSE),0)","v":0},{"$f":"IFERROR(VLOOKUP(D1901,'Study Area Site Variable'!$B$4:$H$1240,7,FALSE),0)","v":0},2]
["2014-05-01","Boating","olnes pond-rec area","BTNG 368",null,2,{"$f":"IFERROR(VLOOKUP(D1902,'Study Area Site Variable'!$B$4:$J$1240,6,FALSE),0)","v":0},{"$f":"IFERROR(VLOOKUP(D1902,'Study Area Site Variable'!$B$4:$H$1240,7,FALSE),0)","v":0},0]
["2014-05-01","Boating","Otter Lake-Flew from Anchorage to Otter Lake","BTNG 369",null,0,{"$f":"IFERROR(VLOOKUP(D1903,'Study Area Site Variable'!$B$4:$J$1240,6,FALSE),0)","v":0},{"$f":"IFERROR(VLOOKUP(D1903,'Study Area Site Variable'!$B$4:$H$1240,7,FALSE),0)","v":0},0]
["2014-05-01","Boating","Otter Lake-JBER","BTNG 370",null,26,{"$f":"IFERROR(VLOOKUP(D1904,'Study Area Site Variable'!$B$4:$J$1240,6,FALSE),0)","v":1},{"$f":"IFERROR(VLOOKUP(D1904,'Study Area Site Variable'!$B$4:$H$1240,7,FALSE),0)","v":0},2]
["2014-05-01","Boating","piledriver slough-Eielson Air Force Base","BTNG 371",null,4,{"$f":"IFERROR(VLOOKUP(D1905,'Study Area Site Variable'!$B$4:$J$1240,6,FALSE),0)","v":0},{"$f":"IFERROR(VLOOKUP(D1905,'Study Area Site Variable'!$B$4:$H$1240,7,FALSE),0)","v":0},0]
["2014-05-01","Boating","Pippen Lake-Edgerton Hwy","BTNG 372",null,3,{"$f":"IFERROR(VLOOKUP(D1906,'Study Area Site Variable'!$B$4:$J$1240,6,FALSE),0)","v":0},{"$f":"IFERROR(VLOOKUP(D1906,'Study Area Site Variable'!$B$4:$H$1240,7,FALSE),0)","v":0},0]
["2014-05-01","Boating","Pippin Lake-Edgerton Highway","BTNG 373",null,4,{"$f":"IFERROR(VLOOKUP(D1907,'Study Area Site Variable'!$B$4:$J$1240,6,FALSE),0)","v":0},{"$f":"IFERROR(VLOOKUP(D1907,'Study Area Site Variable'!$B$4:$H$1240,7,FALSE),0)","v":0},0]
["2014-05-01","Boating","Placer River-AK RR","BTNG 374",null,1,{"$f":"IFERROR(VLOOKUP(D1908,'Study Area Site Variable'!$B$4:$J$1240,6,FALSE),0)","v":0},{"$f":"IFERROR(VLOOKUP(D1908,'Study Area Site Variable'!$B$4:$H$1240,7,FALSE),0)","v":0},0]
["2014-05-01","Boating","placer river-parking lot boat launch","BTNG 375",null,2,{"$f":"IFERROR(VLOOKUP(D1909,'Study Area Site Variable'!$B$4:$J$1240,6,FALSE),0)","v":0},{"$f":"IFERROR(VLOOKUP(D1909,'Study Area Site Variable'!$B$4:$H$1240,7,FALSE),0)","v":0},0]
["2014-05-01","Boating","Pond 1 & 2 in Portage Valley-Alder Pond exit","BTNG 376",null,7,{"$f":"IFERROR(VLOOKUP(D1910,'Study Area Site Variable'!$B$4:$J$1240,6,FALSE),0)","v":0},{"$f":"IFERROR(VLOOKUP(D1910,'Study Area Site Variable'!$B$4:$H$1240,7,FALSE),0)","v":0},0]
["2014-05-01","Boating","Portage Creek-Begich Boggs Visitor center","BTNG 377",null,4,{"$f":"IFERROR(VLOOKUP(D1911,'Study Area Site Variable'!$B$4:$J$1240,6,FALSE),0)","v":0},{"$f":"IFERROR(VLOOKUP(D1911,'Study Area Site Variable'!$B$4:$H$1240,7,FALSE),0)","v":0},0]
["2014-05-01","Boating","Portage Lake-Boat Launch","BTNG 378",null,4,{"$f":"IFERROR(VLOOKUP(D1912,'Study Area Site Variable'!$B$4:$J$1240,6,FALSE),0)","v":0},{"$f":"IFERROR(VLOOKUP(D1912,'Study Area Site Variable'!$B$4:$H$1240,7,FALSE),0)","v":0},0]
["2014-05-01","Boating","Portage Lake-Portage","BTNG 379",null,2,{"$f":"IFERROR(VLOOKUP(D1913,'Study Area Site Variable'!$B$4:$J$1240,6,FALSE),0)","v":0},{"$f":"IFERROR(VLOOKUP(D1913,'Study Area Site Variable'!$B$4:$H$1240,7,FALSE),0)","v":0},0]
["2014-05-01","Boating","Portage Lake-Portage River","BTNG 380",null,0,{"$f":"IFERROR(VLOOKUP(D1914,'Study Area Site Variable'!$B$4:$J$1240,6,FALSE),0)","v":0},{"$f":"IFERROR(VLOOKUP(D1914,'Study Area Site Variable'!$B$4:$H$1240,7,FALSE),0)","v":0},0]
["2014-05-01","Boating","Portage Lake-Sterling, AK","BTNG 381",null,1,{"$f":"IFERROR(VLOOKUP(D1915,'Study Area Site Variable'!$B$4:$J$1240,6,FALSE),0)","v":0},{"$f":"IFERROR(VLOOKUP(D1915,'Study Area Site Variable'!$B$4:$H$1240,7,FALSE),0)","v":0},0]
["2014-05-01","Boating","Prince William Sound-Hinchinbrok Island","BTNG 382",null,3,{"$f":"IFERROR(VLOOKUP(D1916,'Study Area Site Variable'!$B$4:$J$1240,6,FALSE),0)","v":0},{"$f":"IFERROR(VLOOKUP(D1916,'Study Area Site Variable'!$B$4:$H$1240,7,FALSE),0)","v":0},0]
["2014-05-01","Boating","Prince William Sound-Hydaburg","BTNG 383",null,2,{"$f":"IFERROR(VLOOKUP(D1917,'Study Area Site Variable'!$B$4:$J$1240,6,FALSE),0)","v":0},{"$f":"IFERROR(VLOOKUP(D1917,'Study Area Site Variable'!$B$4:$H$1240,7,FALSE),0)","v":0},0]
["2014-05-01","Boating","Puntilla Lake-Rainy Pass Lodge","BTNG 384",null,1,{"$f":"IFERROR(VLOOKUP(D1918,'Study Area Site Variable'!$B$4:$J$1240,6,FALSE),0)","v":0},{"$f":"IFERROR(VLOOKUP(D1918,'Study Area Site Variable'!$B$4:$H$1240,7,FALSE),0)","v":0},0]
["2014-05-01","Boating","Pup Lake-Big Lake","BTNG 385",null,2,{"$f":"IFERROR(VLOOKUP(D1919,'Study Area Site Variable'!$B$4:$J$1240,6,FALSE),0)","v":0},{"$f":"IFERROR(VLOOKUP(D1919,'Study Area Site Variable'!$B$4:$H$1240,7,FALSE),0)","v":0},0]
["2014-05-01","Boating","Quartz Lake-Quartz Lake Boat Launch","BTNG 386",null,26,{"$f":"IFERROR(VLOOKUP(D1920,'Study Area Site Variable'!$B$4:$J$1240,6,FALSE),0)","v":1},{"$f":"IFERROR(VLOOKUP(D1920,'Study Area Site Variable'!$B$4:$H$1240,7,FALSE),0)","v":0},0]
["2014-05-01","Boating","Rabbit Lake-Rabbit Lake","BTNG 387",null,1,{"$f":"IFERROR(VLOOKUP(D1921,'Study Area Site Variable'!$B$4:$J$1240,6,FALSE),0)","v":0},{"$f":"IFERROR(VLOOKUP(D1921,'Study Area Site Variable'!$B$4:$H$1240,7,FALSE),0)","v":0},0]
["2014-05-01","Boating","Rabbit slough-Palmer","BTNG 388",null,11,{"$f":"IFERROR(VLOOKUP(D1922,'Study Area Site Variable'!$B$4:$J$1240,6,FALSE),0)","v":0},{"$f":"IFERROR(VLOOKUP(D1922,'Study Area Site Variable'!$B$4:$H$1240,7,FALSE),0)","v":0},0]
["2014-05-01","Boating","Rainbow Lake-Sterling, AK","BTNG 389",null,1,{"$f":"IFERROR(VLOOKUP(D1923,'Study Area Site Variable'!$B$4:$J$1240,6,FALSE),0)","v":0},{"$f":"IFERROR(VLOOKUP(D1923,'Study Area Site Variable'!$B$4:$H$1240,7,FALSE),0)","v":0},0]
["2014-05-01","Boating","Red Shirt Lake-HIke","BTNG 390",null,33,{"$f":"IFERROR(VLOOKUP(D1924,'Study Area Site Variable'!$B$4:$J$1240,6,FALSE),0)","v":1},{"$f":"IFERROR(VLOOKUP(D1924,'Study Area Site Variable'!$B$4:$H$1240,7,FALSE),0)","v":0},0]
["2014-05-01","Boating","Riley Creek-Hike in","BTNG 391",null,2,{"$f":"IFERROR(VLOOKUP(D1925,'Study Area Site Variable'!$B$4:$J$1240,6,FALSE),0)","v":0},{"$f":"IFERROR(VLOOKUP(D1925,'Study Area Site Variable'!$B$4:$H$1240,7,FALSE),0)","v":0},0]
["2014-05-01","Boating","Sadlerochit River-Walked to headwaters from Marsh Fork","BTNG 392",null,2,{"$f":"IFERROR(VLOOKUP(D1926,'Study Area Site Variable'!$B$4:$J$1240,6,FALSE),0)","v":0},{"$f":"IFERROR(VLOOKUP(D1926,'Study Area Site Variable'!$B$4:$H$1240,7,FALSE),0)","v":0},0]
["2014-05-01","Boating","Salmon Lake-Nome Alaska","BTNG 393",null,1,{"$f":"IFERROR(VLOOKUP(D1927,'Study Area Site Variable'!$B$4:$J$1240,6,FALSE),0)","v":0},{"$f":"IFERROR(VLOOKUP(D1927,'Study Area Site Variable'!$B$4:$H$1240,7,FALSE),0)","v":0},0]
["2014-05-01","Boating","salmon river-aniak,ak","BTNG 394",null,2,{"$f":"IFERROR(VLOOKUP(D1928,'Study Area Site Variable'!$B$4:$J$1240,6,FALSE),0)","v":0},{"$f":"IFERROR(VLOOKUP(D1928,'Study Area Site Variable'!$B$4:$H$1240,7,FALSE),0)","v":0},0]
["2014-05-01","Boating","Scotty Lake-Petersville Rd.","BTNG 395",null,1,{"$f":"IFERROR(VLOOKUP(D1929,'Study Area Site Variable'!$B$4:$J$1240,6,FALSE),0)","v":0},{"$f":"IFERROR(VLOOKUP(D1929,'Study Area Site Variable'!$B$4:$H$1240,7,FALSE),0)","v":0},0]
["2014-05-01","Boating","Sedovia Slough-Seldovia","BTNG 396",null,1,{"$f":"IFERROR(VLOOKUP(D1930,'Study Area Site Variable'!$B$4:$J$1240,6,FALSE),0)","v":0},{"$f":"IFERROR(VLOOKUP(D1930,'Study Area Site Variable'!$B$4:$H$1240,7,FALSE),0)","v":0},0]
["2014-05-01","Boating","Seven Lake Canoe Trail System-Palmer","BTNG 397",null,2,{"$f":"IFERROR(VLOOKUP(D1931,'Study Area Site Variable'!$B$4:$J$1240,6,FALSE),0)","v":0},{"$f":"IFERROR(VLOOKUP(D1931,'Study Area Site Variable'!$B$4:$H$1240,7,FALSE),0)","v":0},0]
["2014-05-01","Boating","seymour lake-public access","BTNG 398",null,10,{"$f":"IFERROR(VLOOKUP(D1932,'Study Area Site Variable'!$B$4:$J$1240,6,FALSE),0)","v":0},{"$f":"IFERROR(VLOOKUP(D1932,'Study Area Site Variable'!$B$4:$H$1240,7,FALSE),0)","v":0},0]
["2014-05-01","Boating","Silver Lake-Chitna","BTNG 399",null,2,{"$f":"IFERROR(VLOOKUP(D1933,'Study Area Site Variable'!$B$4:$J$1240,6,FALSE),0)","v":0},{"$f":"IFERROR(VLOOKUP(D1933,'Study Area Site Variable'!$B$4:$H$1240,7,FALSE),0)","v":0},0]
["2014-05-01","Boating","Sitka Sound-Sitka","BTNG 400",null,7,{"$f":"IFERROR(VLOOKUP(D1934,'Study Area Site Variable'!$B$4:$J$1240,6,FALSE),0)","v":0},{"$f":"IFERROR(VLOOKUP(D1934,'Study Area Site Variable'!$B$4:$H$1240,7,FALSE),0)","v":0},0]
["2014-05-01","Boating","Skilak Lake-Skilak Lake","BTNG 401",null,7,{"$f":"IFERROR(VLOOKUP(D1935,'Study Area Site Variable'!$B$4:$J$1240,6,FALSE),0)","v":0},{"$f":"IFERROR(VLOOKUP(D1935,'Study Area Site Variable'!$B$4:$H$1240,7,FALSE),0)","v":0},0]
["2014-05-01","Boating","skilak lake-upper landing","BTNG 402",null,59,{"$f":"IFERROR(VLOOKUP(D1936,'Study Area Site Variable'!$B$4:$J$1240,6,FALSE),0)","v":1},{"$f":"IFERROR(VLOOKUP(D1936,'Study Area Site Variable'!$B$4:$H$1240,7,FALSE),0)","v":0},0]
["2014-05-01","Boating","Slana River-Mile 64","BTNG 403",null,4,{"$f":"IFERROR(VLOOKUP(D1937,'Study Area Site Variable'!$B$4:$J$1240,6,FALSE),0)","v":0},{"$f":"IFERROR(VLOOKUP(D1937,'Study Area Site Variable'!$B$4:$H$1240,7,FALSE),0)","v":0},0]
["2014-05-01","Boating","Slana River-Slana","BTNG 404",null,1,{"$f":"IFERROR(VLOOKUP(D1938,'Study Area Site Variable'!$B$4:$J$1240,6,FALSE),0)","v":0},{"$f":"IFERROR(VLOOKUP(D1938,'Study Area Site Variable'!$B$4:$H$1240,7,FALSE),0)","v":0},0]
["2014-05-01","Boating","Slipper Lake-Sutton","BTNG 405",null,5,{"$f":"IFERROR(VLOOKUP(D1939,'Study Area Site Variable'!$B$4:$J$1240,6,FALSE),0)","v":0},{"$f":"IFERROR(VLOOKUP(D1939,'Study Area Site Variable'!$B$4:$H$1240,7,FALSE),0)","v":0},0]
["2014-05-01","Boating","South Rolly Lake-South Rolly Lake Campground","BTNG 406",null,4,{"$f":"IFERROR(VLOOKUP(D1940,'Study Area Site Variable'!$B$4:$J$1240,6,FALSE),0)","v":0},{"$f":"IFERROR(VLOOKUP(D1940,'Study Area Site Variable'!$B$4:$H$1240,7,FALSE),0)","v":0},0]
["2014-05-01","Boating","Spencer Lake-AK RR","BTNG 407",null,2,{"$f":"IFERROR(VLOOKUP(D1941,'Study Area Site Variable'!$B$4:$J$1240,6,FALSE),0)","v":0},{"$f":"IFERROR(VLOOKUP(D1941,'Study Area Site Variable'!$B$4:$H$1240,7,FALSE),0)","v":0},0]
["2014-05-01","Boating","Stephan Lake-Stephan Lake","BTNG 408",null,73,{"$f":"IFERROR(VLOOKUP(D1942,'Study Area Site Variable'!$B$4:$J$1240,6,FALSE),0)","v":1},{"$f":"IFERROR(VLOOKUP(D1942,'Study Area Site Variable'!$B$4:$H$1240,7,FALSE),0)","v":0},73]
["2014-05-01","Boating","Stuyahok River-Iliamna","BTNG 409",null,6,{"$f":"IFERROR(VLOOKUP(D1943,'Study Area Site Variable'!$B$4:$J$1240,6,FALSE),0)","v":0},{"$f":"IFERROR(VLOOKUP(D1943,'Study Area Site Variable'!$B$4:$H$1240,7,FALSE),0)","v":0},0]
["2014-05-01","Boating","Summit Lake-Tender Foot Camp","BTNG 410",null,1,{"$f":"IFERROR(VLOOKUP(D1944,'Study Area Site Variable'!$B$4:$J$1240,6,FALSE),0)","v":0},{"$f":"IFERROR(VLOOKUP(D1944,'Study Area Site Variable'!$B$4:$H$1240,7,FALSE),0)","v":0},0]
["2014-05-01","Boating","Susitna Lake-Lake Louise","BTNG 411",null,27,{"$f":"IFERROR(VLOOKUP(D1945,'Study Area Site Variable'!$B$4:$J$1240,6,FALSE),0)","v":1},{"$f":"IFERROR(VLOOKUP(D1945,'Study Area Site Variable'!$B$4:$H$1240,7,FALSE),0)","v":0},20]
["2014-05-01","Boating","Susitna River-Gold Creek","BTNG 412",null,2,{"$f":"IFERROR(VLOOKUP(D1946,'Study Area Site Variable'!$B$4:$J$1240,6,FALSE),0)","v":0},{"$f":"IFERROR(VLOOKUP(D1946,'Study Area Site Variable'!$B$4:$H$1240,7,FALSE),0)","v":0},0]
["2014-05-01","Boating","Susitna River-Portage Creek","BTNG 413",null,3,{"$f":"IFERROR(VLOOKUP(D1947,'Study Area Site Variable'!$B$4:$J$1240,6,FALSE),0)","v":0},{"$f":"IFERROR(VLOOKUP(D1947,'Study Area Site Variable'!$B$4:$H$1240,7,FALSE),0)","v":0},0]
["2014-05-01","Boating","Susitna river-Susitna Landing","BTNG 414",null,0,{"$f":"IFERROR(VLOOKUP(D1948,'Study Area Site Variable'!$B$4:$J$1240,6,FALSE),0)","v":0},{"$f":"IFERROR(VLOOKUP(D1948,'Study Area Site Variable'!$B$4:$H$1240,7,FALSE),0)","v":0},0]
["2014-05-01","Boating","Sutton Lake-Sutton","BTNG 415",null,5,{"$f":"IFERROR(VLOOKUP(D1949,'Study Area Site Variable'!$B$4:$J$1240,6,FALSE),0)","v":0},{"$f":"IFERROR(VLOOKUP(D1949,'Study Area Site Variable'!$B$4:$H$1240,7,FALSE),0)","v":0},0]
["2014-05-01","Boating","Swan Lake-Flew in from Talkeetna","BTNG 416",null,12,{"$f":"IFERROR(VLOOKUP(D1950,'Study Area Site Variable'!$B$4:$J$1240,6,FALSE),0)","v":0},{"$f":"IFERROR(VLOOKUP(D1950,'Study Area Site Variable'!$B$4:$H$1240,7,FALSE),0)","v":0},12]
["2014-05-01","Boating","Swanson River Canoeing Trail-Kenai ","BTNG 417",null,11,{"$f":"IFERROR(VLOOKUP(D1951,'Study Area Site Variable'!$B$4:$J$1240,6,FALSE),0)","v":0},{"$f":"IFERROR(VLOOKUP(D1951,'Study Area Site Variable'!$B$4:$H$1240,7,FALSE),0)","v":0},0]
["2014-05-01","Boating","Takotna River-McGrath","BTNG 418",null,4,{"$f":"IFERROR(VLOOKUP(D1952,'Study Area Site Variable'!$B$4:$J$1240,6,FALSE),0)","v":0},{"$f":"IFERROR(VLOOKUP(D1952,'Study Area Site Variable'!$B$4:$H$1240,7,FALSE),0)","v":0},0]
["2014-05-01","Boating","Talkeetna River-Fly-in","BTNG 419",null,3,{"$f":"IFERROR(VLOOKUP(D1953,'Study Area Site Variable'!$B$4:$J$1240,6,FALSE),0)","v":0},{"$f":"IFERROR(VLOOKUP(D1953,'Study Area Site Variable'!$B$4:$H$1240,7,FALSE),0)","v":0},0]
["2014-05-01","Boating","Talkeetna River-Talkeetna","BTNG 420",null,12,{"$f":"IFERROR(VLOOKUP(D1954,'Study Area Site Variable'!$B$4:$J$1240,6,FALSE),0)","v":0},{"$f":"IFERROR(VLOOKUP(D1954,'Study Area Site Variable'!$B$4:$H$1240,7,FALSE),0)","v":0},2]
["2014-05-01","Boating","Tanaina Lake-Nancy Lake State Recreation Area","BTNG 421",null,1,{"$f":"IFERROR(VLOOKUP(D1955,'Study Area Site Variable'!$B$4:$J$1240,6,FALSE),0)","v":0},{"$f":"IFERROR(VLOOKUP(D1955,'Study Area Site Variable'!$B$4:$H$1240,7,FALSE),0)","v":0},0]
["2014-05-01","Boating","Tanana Lake","BTNG 422",null,1,{"$f":"IFERROR(VLOOKUP(D1956,'Study Area Site Variable'!$B$4:$J$1240,6,FALSE),0)","v":0},{"$f":"IFERROR(VLOOKUP(D1956,'Study Area Site Variable'!$B$4:$H$1240,7,FALSE),0)","v":0},0]
["2014-05-01","Boating","Tanana River-Manley","BTNG 423",null,2,{"$f":"IFERROR(VLOOKUP(D1957,'Study Area Site Variable'!$B$4:$J$1240,6,FALSE),0)","v":0},{"$f":"IFERROR(VLOOKUP(D1957,'Study Area Site Variable'!$B$4:$H$1240,7,FALSE),0)","v":0},0]
["2014-05-01","Boating","Tanana River-Nenana","BTNG 424",null,10,{"$f":"IFERROR(VLOOKUP(D1958,'Study Area Site Variable'!$B$4:$J$1240,6,FALSE),0)","v":0},{"$f":"IFERROR(VLOOKUP(D1958,'Study Area Site Variable'!$B$4:$H$1240,7,FALSE),0)","v":0},0]
["2014-05-01","Boating","tanana river-rosie creek/chena pump rd","BTNG 425",null,2,{"$f":"IFERROR(VLOOKUP(D1959,'Study Area Site Variable'!$B$4:$J$1240,6,FALSE),0)","v":0},{"$f":"IFERROR(VLOOKUP(D1959,'Study Area Site Variable'!$B$4:$H$1240,7,FALSE),0)","v":0},0]
["2014-05-01","Boating","Tanana River-Tanacross","BTNG 426",null,14,{"$f":"IFERROR(VLOOKUP(D1960,'Study Area Site Variable'!$B$4:$J$1240,6,FALSE),0)","v":0},{"$f":"IFERROR(VLOOKUP(D1960,'Study Area Site Variable'!$B$4:$H$1240,7,FALSE),0)","v":0},0]
["2014-05-01","Boating","Tanana River-Tanana River Boat Landing","BTNG 427",null,31,{"$f":"IFERROR(VLOOKUP(D1961,'Study Area Site Variable'!$B$4:$J$1240,6,FALSE),0)","v":1},{"$f":"IFERROR(VLOOKUP(D1961,'Study Area Site Variable'!$B$4:$H$1240,7,FALSE),0)","v":0},0]
["2014-05-01","Boating","Tanana River-Tok","BTNG 428",null,3,{"$f":"IFERROR(VLOOKUP(D1962,'Study Area Site Variable'!$B$4:$J$1240,6,FALSE),0)","v":0},{"$f":"IFERROR(VLOOKUP(D1962,'Study Area Site Variable'!$B$4:$H$1240,7,FALSE),0)","v":0},0]
["2014-05-01","Boating","Tangle Lakes/Delta River-Maclaren River Lodge","BTNG 429",null,3,{"$f":"IFERROR(VLOOKUP(D1963,'Study Area Site Variable'!$B$4:$J$1240,6,FALSE),0)","v":0},{"$f":"IFERROR(VLOOKUP(D1963,'Study Area Site Variable'!$B$4:$H$1240,7,FALSE),0)","v":0},0]
["2014-05-01","Boating","Tangle Lakes-BLM Boat Launch","BTNG 430",null,16,{"$f":"IFERROR(VLOOKUP(D1964,'Study Area Site Variable'!$B$4:$J$1240,6,FALSE),0)","v":1},{"$f":"IFERROR(VLOOKUP(D1964,'Study Area Site Variable'!$B$4:$H$1240,7,FALSE),0)","v":0},0]
["2014-05-01","Boating","Tazlina River-Richardson Hwy","BTNG 431",null,1,{"$f":"IFERROR(VLOOKUP(D1965,'Study Area Site Variable'!$B$4:$J$1240,6,FALSE),0)","v":0},{"$f":"IFERROR(VLOOKUP(D1965,'Study Area Site Variable'!$B$4:$H$1240,7,FALSE),0)","v":0},0]
["2014-05-01","Boating","Tazlina River-Tazlina Lake","BTNG 432",null,7,{"$f":"IFERROR(VLOOKUP(D1966,'Study Area Site Variable'!$B$4:$J$1240,6,FALSE),0)","v":0},{"$f":"IFERROR(VLOOKUP(D1966,'Study Area Site Variable'!$B$4:$H$1240,7,FALSE),0)","v":0},0]
["2014-05-01","Boating","Teklanika River-Tanana Boat Launch","BTNG 433",null,10,{"$f":"IFERROR(VLOOKUP(D1967,'Study Area Site Variable'!$B$4:$J$1240,6,FALSE),0)","v":0},{"$f":"IFERROR(VLOOKUP(D1967,'Study Area Site Variable'!$B$4:$H$1240,7,FALSE),0)","v":0},0]
["2014-05-01","Boating","Tex Smith Lake-Boat launch","BTNG 434",null,1,{"$f":"IFERROR(VLOOKUP(D1968,'Study Area Site Variable'!$B$4:$J$1240,6,FALSE),0)","v":0},{"$f":"IFERROR(VLOOKUP(D1968,'Study Area Site Variable'!$B$4:$H$1240,7,FALSE),0)","v":0},0]
["2014-05-01","Boating","Tikchik River-Nishlikik","BTNG 435",null,8,{"$f":"IFERROR(VLOOKUP(D1969,'Study Area Site Variable'!$B$4:$J$1240,6,FALSE),0)","v":0},{"$f":"IFERROR(VLOOKUP(D1969,'Study Area Site Variable'!$B$4:$H$1240,7,FALSE),0)","v":0},0]
["2014-05-01","Boating","Tokositna River-Swan Lake","BTNG 436",null,1,{"$f":"IFERROR(VLOOKUP(D1970,'Study Area Site Variable'!$B$4:$J$1240,6,FALSE),0)","v":0},{"$f":"IFERROR(VLOOKUP(D1970,'Study Area Site Variable'!$B$4:$H$1240,7,FALSE),0)","v":0},1]
["2014-05-01","Boating","Tolsona Lake-Tolsona Lake road","BTNG 437",null,10,{"$f":"IFERROR(VLOOKUP(D1971,'Study Area Site Variable'!$B$4:$J$1240,6,FALSE),0)","v":0},{"$f":"IFERROR(VLOOKUP(D1971,'Study Area Site Variable'!$B$4:$H$1240,7,FALSE),0)","v":0},0]
["2014-05-01","Boating","Tonsina River-Highway Boat Launch","BTNG 438",null,1,{"$f":"IFERROR(VLOOKUP(D1972,'Study Area Site Variable'!$B$4:$J$1240,6,FALSE),0)","v":0},{"$f":"IFERROR(VLOOKUP(D1972,'Study Area Site Variable'!$B$4:$H$1240,7,FALSE),0)","v":0},0]
["2014-05-01","Boating","Tonsina River-Mile 74 Richardson Hwy","BTNG 439",null,3,{"$f":"IFERROR(VLOOKUP(D1973,'Study Area Site Variable'!$B$4:$J$1240,6,FALSE),0)","v":0},{"$f":"IFERROR(VLOOKUP(D1973,'Study Area Site Variable'!$B$4:$H$1240,7,FALSE),0)","v":0},0]
["2014-05-01","Boating","Tonsina River-Squirrel Creek CG","BTNG 440",null,9,{"$f":"IFERROR(VLOOKUP(D1974,'Study Area Site Variable'!$B$4:$J$1240,6,FALSE),0)","v":0},{"$f":"IFERROR(VLOOKUP(D1974,'Study Area Site Variable'!$B$4:$H$1240,7,FALSE),0)","v":0},0]
["2014-05-01","Boating","Trapper Lake-Flying from Anchorage","BTNG 441",null,4,{"$f":"IFERROR(VLOOKUP(D1975,'Study Area Site Variable'!$B$4:$J$1240,6,FALSE),0)","v":0},{"$f":"IFERROR(VLOOKUP(D1975,'Study Area Site Variable'!$B$4:$H$1240,7,FALSE),0)","v":0},0]
["2014-05-01","Boating","Trapper Lake-Trapper lake","BTNG 442",null,26,{"$f":"IFERROR(VLOOKUP(D1976,'Study Area Site Variable'!$B$4:$J$1240,6,FALSE),0)","v":1},{"$f":"IFERROR(VLOOKUP(D1976,'Study Area Site Variable'!$B$4:$H$1240,7,FALSE),0)","v":0},5]
["2014-05-01","Boating","Tustemina Lake-Soldotna","BTNG 443",null,1,{"$f":"IFERROR(VLOOKUP(D1977,'Study Area Site Variable'!$B$4:$J$1240,6,FALSE),0)","v":0},{"$f":"IFERROR(VLOOKUP(D1977,'Study Area Site Variable'!$B$4:$H$1240,7,FALSE),0)","v":0},0]
["2014-05-01","Boating","Tyone Lake-Evergreen Lodge","BTNG 444",null,40,{"$f":"IFERROR(VLOOKUP(D1978,'Study Area Site Variable'!$B$4:$J$1240,6,FALSE),0)","v":1},{"$f":"IFERROR(VLOOKUP(D1978,'Study Area Site Variable'!$B$4:$H$1240,7,FALSE),0)","v":0},40]
["2014-05-01","Boating","Tyone River-Evergreen Lodge","BTNG 445",null,40,{"$f":"IFERROR(VLOOKUP(D1979,'Study Area Site Variable'!$B$4:$J$1240,6,FALSE),0)","v":1},{"$f":"IFERROR(VLOOKUP(D1979,'Study Area Site Variable'!$B$4:$H$1240,7,FALSE),0)","v":0},40]
["2014-05-01","Boating","University Lake-Anchorage","BTNG 446",null,3,{"$f":"IFERROR(VLOOKUP(D1980,'Study Area Site Variable'!$B$4:$J$1240,6,FALSE),0)","v":0},{"$f":"IFERROR(VLOOKUP(D1980,'Study Area Site Variable'!$B$4:$H$1240,7,FALSE),0)","v":0},0]
["2014-05-01","Boating","west beaver lake[-our cabin","BTNG 447",null,4,{"$f":"IFERROR(VLOOKUP(D1981,'Study Area Site Variable'!$B$4:$J$1240,6,FALSE),0)","v":0},{"$f":"IFERROR(VLOOKUP(D1981,'Study Area Site Variable'!$B$4:$H$1240,7,FALSE),0)","v":0},0]
["2014-05-01","Boating","Windy Creek-Cantwell","BTNG 448",null,1,{"$f":"IFERROR(VLOOKUP(D1982,'Study Area Site Variable'!$B$4:$J$1240,6,FALSE),0)","v":0},{"$f":"IFERROR(VLOOKUP(D1982,'Study Area Site Variable'!$B$4:$H$1240,7,FALSE),0)","v":0},0]
["2014-05-01","Boating","Yukon River-Rampart Access","BTNG 449",null,4,{"$f":"IFERROR(VLOOKUP(D1983,'Study Area Site Variable'!$B$4:$J$1240,6,FALSE),0)","v":0},{"$f":"IFERROR(VLOOKUP(D1983,'Study Area Site Variable'!$B$4:$H$1240,7,FALSE),0)","v":0},0]
["2014-05-01","Boating","Yukon River-Unspecified","BTNG 450",null,5,{"$f":"IFERROR(VLOOKUP(D1984,'Study Area Site Variable'!$B$4:$J$1240,6,FALSE),0)","v":0},{"$f":"IFERROR(VLOOKUP(D1984,'Study Area Site Variable'!$B$4:$H$1240,7,FALSE),0)","v":0},0]
["2014-05-01","Boating","Little Susitna-Wasilla","BTNG 451",null,1,{"$f":"IFERROR(VLOOKUP(D1985,'Study Area Site Variable'!$B$4:$J$1240,6,FALSE),0)","v":0},{"$f":"IFERROR(VLOOKUP(D1985,'Study Area Site Variable'!$B$4:$H$1240,7,FALSE),0)","v":0},0]
["2014-05-01","Boating","chena river-wendell st bridge","BTNG 452",null,1,{"$f":"IFERROR(VLOOKUP(D1986,'Study Area Site Variable'!$B$4:$J$1240,6,FALSE),0)","v":0},{"$f":"IFERROR(VLOOKUP(D1986,'Study Area Site Variable'!$B$4:$H$1240,7,FALSE),0)","v":0},0]
["2014-05-01","Boating","Chatanika River-Whitefish Campground","BTNG 453",null,18,{"$f":"IFERROR(VLOOKUP(D1987,'Study Area Site Variable'!$B$4:$J$1240,6,FALSE),0)","v":1},{"$f":"IFERROR(VLOOKUP(D1987,'Study Area Site Variable'!$B$4:$H$1240,7,FALSE),0)","v":0},0]
["2014-05-01","Boating","Wild lake-bettles","BTNG 454",null,0,{"$f":"IFERROR(VLOOKUP(D1988,'Study Area Site Variable'!$B$4:$J$1240,6,FALSE),0)","v":0},{"$f":"IFERROR(VLOOKUP(D1988,'Study Area Site Variable'!$B$4:$H$1240,7,FALSE),0)","v":0},0]
["2014-05-01","Boating","Willow River-Willow AK","BTNG 455",null,2,{"$f":"IFERROR(VLOOKUP(D1989,'Study Area Site Variable'!$B$4:$J$1240,6,FALSE),0)","v":0},{"$f":"IFERROR(VLOOKUP(D1989,'Study Area Site Variable'!$B$4:$H$1240,7,FALSE),0)","v":0},0]
["2014-05-01","Boating","Watana Lake-Willow Floatplane","BTNG 456",null,10,{"$f":"IFERROR(VLOOKUP(D1990,'Study Area Site Variable'!$B$4:$J$1240,6,FALSE),0)","v":0},{"$f":"IFERROR(VLOOKUP(D1990,'Study Area Site Variable'!$B$4:$H$1240,7,FALSE),0)","v":0},0]
["2014-05-01","Boating","Willow Lake-Private","BTNG 457",null,15,{"$f":"IFERROR(VLOOKUP(D1991,'Study Area Site Variable'!$B$4:$J$1240,6,FALSE),0)","v":1},{"$f":"IFERROR(VLOOKUP(D1991,'Study Area Site Variable'!$B$4:$H$1240,7,FALSE),0)","v":0},0]
["2014-05-01","Boating","Butterfly Lake-Willow","BTNG 458",null,5,{"$f":"IFERROR(VLOOKUP(D1992,'Study Area Site Variable'!$B$4:$J$1240,6,FALSE),0)","v":0},{"$f":"IFERROR(VLOOKUP(D1992,'Study Area Site Variable'!$B$4:$H$1240,7,FALSE),0)","v":0},0]
["2014-05-01","Boating","Florence Lake-Willow","BTNG 459",null,10,{"$f":"IFERROR(VLOOKUP(D1993,'Study Area Site Variable'!$B$4:$J$1240,6,FALSE),0)","v":0},{"$f":"IFERROR(VLOOKUP(D1993,'Study Area Site Variable'!$B$4:$H$1240,7,FALSE),0)","v":0},0]
["2014-05-01","Boating","Little Lonely Lake-Willow","BTNG 460",null,12,{"$f":"IFERROR(VLOOKUP(D1994,'Study Area Site Variable'!$B$4:$J$1240,6,FALSE),0)","v":0},{"$f":"IFERROR(VLOOKUP(D1994,'Study Area Site Variable'!$B$4:$H$1240,7,FALSE),0)","v":0},0]
["2014-05-01","Boating","Long Lake-Willow","BTNG 461",null,41,{"$f":"IFERROR(VLOOKUP(D1995,'Study Area Site Variable'!$B$4:$J$1240,6,FALSE),0)","v":1},{"$f":"IFERROR(VLOOKUP(D1995,'Study Area Site Variable'!$B$4:$H$1240,7,FALSE),0)","v":0},0]
["2014-05-01","Boating","Susitna River-Willow","BTNG 462",null,11,{"$f":"IFERROR(VLOOKUP(D1996,'Study Area Site Variable'!$B$4:$J$1240,6,FALSE),0)","v":0},{"$f":"IFERROR(VLOOKUP(D1996,'Study Area Site Variable'!$B$4:$H$1240,7,FALSE),0)","v":0},0]
["2014-05-01","Boating","Nenana River-Windy Pass","BTNG 463",null,1,{"$f":"IFERROR(VLOOKUP(D1997,'Study Area Site Variable'!$B$4:$J$1240,6,FALSE),0)","v":0},{"$f":"IFERROR(VLOOKUP(D1997,'Study Area Site Variable'!$B$4:$H$1240,7,FALSE),0)","v":0},1]
["2014-05-01","Boating","Lake Louise-Wolverine Lodge","BTNG 464",null,160,{"$f":"IFERROR(VLOOKUP(D1998,'Study Area Site Variable'!$B$4:$J$1240,6,FALSE),0)","v":1},{"$f":"IFERROR(VLOOKUP(D1998,'Study Area Site Variable'!$B$4:$H$1240,7,FALSE),0)","v":0},120]
["2014-05-01","Boating","Tanaina Lake-Nancy Lake State Recreation Area","BTNG 465",null,0,{"$f":"IFERROR(VLOOKUP(D1999,'Study Area Site Variable'!$B$4:$J$1240,6,FALSE),0)","v":0},{"$f":"IFERROR(VLOOKUP(D1999,'Study Area Site Variable'!$B$4:$H$1240,7,FALSE),0)","v":0},0]
["2014-05-01","Boating","Chena River-31.4 Mile","BTNG 466",null,3,{"$f":"IFERROR(VLOOKUP(D2000,'Study Area Site Variable'!$B$4:$J$1240,6,FALSE),0)","v":0},{"$f":"IFERROR(VLOOKUP(D2000,'Study Area Site Variable'!$B$4:$H$1240,7,FALSE),0)","v":0},0]

{"sheet":"Study Area Site Variable","index":6,"n_rows":1240,"n_cols":14,"rows_kept":1240,"cut":false,"hidden":false,"merged":[]}
[]
[]
["Activity","Location_Code","site_name","TripsPerSite","Number_Recreators","wave","AnalysisSite","PolicySite","latitude","longitude"]
["Fishing","Area A-H","Area A-H",243,37,"Waves 1 and 2",0]
["Boating","BTNG 1","20 Mile River-Boat Launch",14,6,"Waves 1 and 2",1,0,60.845798492431598,-148.99151611328099,null,null,"Row Labels","Sum of PolicySite"]
["Boating","BTNG 100","Kenai River-Unspecified",12,7,"Waves 1 and 2",null,null,null,null,null,null,"Boating",9]
["Boating","BTNG 101","Kenai River-Upper",67,27,"Waves 1 and 2",1,0,60.492599487304702,-149.82261657714801,null,null,"Fishing",7]
["Boating","BTNG 103","Ketchikan Saltwater",10,1,"Wave 1",0,null,null,null,null,null,"Hunting",44]
["Boating","BTNG 104","King Creek-Nenana",3,1,"Wave 1",0,null,null,null,null,null,"Snowmachine",1]
["Boating","BTNG 105","Knik Lake",4,2,"Wave 1",0,null,null,null,null,null,"Grand Total",61]
["Boating","BTNG 106","Knik River to Glacier-Knik River Access",20,8,"Waves 1 and 2",1,0,61.508621215820298,-148.99520874023401]
["Boating","BTNG 107","Kodiak",8,2,"Waves 1 and 2"]
["Boating","BTNG 108","Kongakut River-Fairbanks by Air",17,1,"Wave 1",0]
["Boating","BTNG 109","Koyukuk River-Bettles",5,1,"Wave 1",0]
["Boating","BTNG 11","Beaver Creek-Ophir",9,1,"Wave 1",0]
["Boating","BTNG 110","Koyukuk River-Unspecified",15,1,"Wave 1",0,null,65.67774,-156.33869000000001]
["Boating","BTNG 111","Kroto Creek-Petersville",1,1,"Wave 1",0]
["Boating","BTNG 112","Kuskokwim River-Bethel",12,1,"Wave 1",0]
["Boating","BTNG 113","Lake Louise",93,24,"Waves 1 and 2",1,0,62.287868499755902,-146.54170227050801]
["Boating","BTNG 114","Lake September-Trapper Creek",3,1,"Wave 1",0]
["Boating","BTNG 116","Little Su-Houston",8,3,"Waves 1 and 2",1,0,61.628200531005902,-149.81317138671901]
["Boating","BTNG 117","Little Su-LSPUF",11,4,"Wave 1",1,0,61.437461853027301,-150.17440795898401]
["Boating","BTNG 118","Little Willow Creek-Willow",2,1,"Wave 1",0]
["Boating","BTNG 119","Local Lakes-Mile 111-122 Glenn Hwy",5,1,"Wave 1",0]
["Boating","BTNG 12","Behm Canal-Ketchikan",29,1,"Wave 1",0,null,55.93694," -131.18833"]
["Boating","BTNG 122","Matanuska Lake-Palmer",9,4,"Waves 1 and 2",1,0,61.553630828857401,-149.22654724121099]
["Boating","BTNG 123","Matanuska River-Chickaloon",13,8,"Waves 1 and 2",1,0,61.781471252441399,-148.46455383300801]
["Boating","BTNG 124","Matanuska River-Palmer",4,3,"Waves 1 and 2"]
["Boating","BTNG 125","Meadow Lakes-Wasilla",32,5,"Waves 1 and 2",1,0,61.595485687255902,-149.63113403320301]
["Boating","BTNG 127","Mirror Lake-Chugiak",55,18,"Waves 1 and 2",1,0,61.428020477294901,-149.41688537597699]
["Boating","BTNG 128","Montana Creek-Yoder Rd",1,1,"Wave 1",1,1,62.174739837646499,-149.97073364257801]
["Boating","BTNG 129","Moose Creek-Palmer",1,1,"Wave 1",0]
["Boating","BTNG 13","Benka Lake-Talkeetna",35,4,"Waves 1 and 2",1,0,62.183708190917997,-150.01141357421901]
["Boating","BTNG 131","Nancy Lakes",357,36,"Waves 1 and 2",1,0,61.702690124511697,-150.00746154785199]
["Boating","BTNG 132","Nelchina River-Nelchina",3,1,"Wave 1",0]
["Boating","BTNG 133","Nenana River-Denali Area",51,16,"Waves 1 and 2",1,0,63.656688690185497,-148.83128356933599]
["Boating","BTNG 134","Nenana River-Nenana",2,1,"Wave 1",1,0,64.556739807128906,-149.11323547363301]
["Boating","BTNG 135","North Pole Lakes-Unspecified",8,1,"Wave 1",0]
["Boating","BTNG 136","North Sound-Norton Sound",5,1,"Wave 1",0]
["Boating","BTNG 137","Otto Lake-Healy",1,1,"Wave 1",0]
["Boating","BTNG 138","Partor Lake-Houston",43,5,"Wave 1",1,0,61.624050140380902,-149.73182678222699]
["Boating","BTNG 139","Paxon Lake-Glennallen",17,8,"Waves 1 and 2",1,null,62.901769999999999,-145.53368]
["Boating","BTNG 140","Porcupine River-Fort Yukon",15,1,"Wave 1",0,null,66.57638,-145.31777]
["Boating","BTNG 141","Portage Creek-Portage Valley",13,5,"Waves 1 and 2",1,0,60.785160064697301,-148.84147644043]
["Boating","BTNG 142","Prince William Sound-Cordova",27,5,"Waves 1 and 2",1,0,60.543628692627003,-145.76211547851599]
["Boating","BTNG 143","Prince William Sound-Seward",210,33,"Waves 1 and 2",1,null,60.117489999999997,-149.42224999999999]
["Boating","BTNG 144","Prince William Sound-Valdez",381,48,"Waves 1 and 2",1,0,61.127368927002003,-146.33877563476599]
["Boating","BTNG 145","Prince William Sound-Whittier",536,105,"Waves 1 and 2",1,0,60.776988983154297,-148.68948364257801]
["Boating","BTNG 146","Quartz Lake-Richardson Highway",56,9,"Waves 1 and 2",1,0,64.199012756347699,-145.82728576660199]
["Boating","BTNG 149","Resurrection Bay-Seward",276,75,"Waves 1 and 2",1,0,60.116001129150398,-149.43943786621099]
["Boating","BTNG 15","Big Lake-Big Lake",566,72,"Waves 1 and 2",1,0,61.547740936279297,-149.85487365722699]
["Boating","BTNG 150","Rocky Lake-Big Lake",107,13,"Waves 1 and 2",1,0,61.577285766601598,-149.92227172851599]
["Boating","BTNG 151","Ryan Lake-Mile 149 Glenn Hwy",6,1,"Wave 1",0]
["Boating","BTNG 152","Salcha River-Salcha Rec Area",61,11,"Waves 1 and 2",1,0,64.469779968261705,-146.93013000488301]
["Boating","BTNG 154","Ship Creek-Anchorage",1,1,"Wave 1",1,0,61.2234497070312,-149.88897705078099]
["Boating","BTNG 155","Sitka",4,1,"Wave 1",0]
["Boating","BTNG 156","Six Mile Creek-Hope Turnout",19,10,"Waves 1 and 2",1,0,60.8938598632812,-149.42633056640599]
["Boating","BTNG 157","Skilak Lake",60,7,"Waves 1 and 2",1,0,60.438148498535199,-150.32148742675801]
["Boating","BTNG 158","Skwentna River-Deshka Landing",76,1,"Wave 1",1,0,61.465950012207003,-152.77320861816401]
["Boating","BTNG 159","Slaw Creek-Private",1,1,"Wave 1",0]
["Boating","BTNG 16","Birch Lake-Birch Lake",39,10,"Waves 1 and 2",1,0,64.315200805664105,-146.646072387695]
["Boating","BTNG 160","Snow River-Kenai Peninsula",1,1,"Wave 1",0]
["Boating","BTNG 161","Summitt Lake-Kenai Peninsula",4,2,"Wave 2"]
["Boating","BTNG 162","Susitna River-Deshka Landing",42,6,"Waves 1 and 2",1,1,61.721450805664098,-150.20471191406199]
["Boating","BTNG 163","Susitna River-Susitna Landing",12,2,"Waves 1 and 2",1,1,61.912330627441399,-150.099609375]
["Boating","BTNG 165","Swan Lake System-Sterling",4,1,"Wave 1",0]
["Boating","BTNG 167","Talachulitna-Judd Lake",8,1,"Wave 1",0]
["Boating","BTNG 168","Talkeetna Area Lakes",3,1,"Wave 1",0]
["Boating","BTNG 169","Talkeetna River-Talkeetna River",53,12,"Waves 1 and 2",1,1,62.327419281005902,-150.11204528808599]
["Boating","BTNG 17","Black River-Fort Yukon",3,1,"Wave 1",0]
["Boating","BTNG 170","Tanana River-Chena",30,5,"Waves 1 and 2",1,null,64.792410000000004,-147.95657]
["Boating","BTNG 171","Tanana River-Delta",12,3,"Waves 1 and 2",1,0,64.156417846679702,-145.849197387695]
["Boating","BTNG 172","Tanana River-Fairbanks",14,6,"Waves 1 and 2",1,0,63.761871337890597,-144.69209289550801]
["Boating","BTNG 173","Tangle Lakes- Denali Highway",56,16,"Waves 1 and 2",1,0,63.044670104980497,-146.02679443359401]
["Boating","BTNG 174","Teklanika River-Nenana",29,4,"Waves 1 and 2",1,0,64.467140197753906,-149.353439331055]
["Boating","BTNG 175","Trail Lakes-Moose Pass",12,3,"Waves 1 and 2",1,0,60.48828125,-149.369384765625]
["Boating","BTNG 176","Turnagin Arm-Seward Hwy",35,1,"Wave 1",1,0,60.973159790039098,-149.47210693359401]
["Boating","BTNG 177","Unalakleet River-Unalakleet",5,1,"Wave 1",0]
["Boating","BTNG 179","Walby Lake-Palmer",38,9,"Waves 1 and 2",1,0,61.618873596191399,-149.214920043945]
["Boating","BTNG 18","Bontenintata-Campground",5,1,"Wave 1",0]
["Boating","BTNG 180","Wasilla Lake-Wasilla",376,52,"Waves 1 and 2",1,0,61.599388122558601,-149.29588317871099]
["Boating","BTNG 181","Westchester-Anchorage",20,7,"Waves 1 and 2",1,0,61.207489013671903,-149.91885375976599]
["Boating","BTNG 182","Willow Creek-Willow",27,6,"Waves 1 and 2",1,1,61.775669097900398,-150.16227722168]
["Boating","BTNG 183","Willow Lake-Willow",32,2,"Wave 1",1,0,61.744670867919901,-150.053466796875]
["Boating","BTNG 185","Wolverine Lake-Chickaloon",1,1,"Wave 1",0]
["Boating","BTNG 186","Yentna River-Deshka Landing",30,5,"Waves 1 and 2",1,1,61.906028747558601,-150.918045043945]
["Boating","BTNG 187","Yukon River-Dalton",60,1,"Wave 1",1,0,65.878509521484403,-149.71824645996099]
["Boating","BTNG 188","Yukon River-Dawson",15,2,"Waves 1 and 2",0]
["Boating","BTNG 189","Yukon River-Fort Yukon",12,1,"Wave 1",0]
["Boating","BTNG 190","Yukon River-Galena",1,1,"Wave 1",0]
["Boating","BTNG 2","Anchaiatie",1,1,"Wave 1",0]
["Boating","BTNG 20","Byers Lake-Boat Launch Campground",43,13,"Waves 1 and 2",1,0,62.743030548095703,-150.12739562988301]
["Boating","BTNG 200","3 Rivers (Talkeetna/Susitna/Chultina Rivers)-Talkeetna",2,2,"Wave 2"]
["Boating","BTNG 201","40 mile River-40 mile crossing",4,1,"Wave 2"]
["Boating","BTNG 202","6 mile lake-JBER",1,1,"Wave 2"]
["Boating","BTNG 203","Alaqanek Sloosh-Boat Launch",1,1,"Wave 2"]
["Boating","BTNG 204","Alexander Creek-Anchorage",5,1,"Wave 2"]
["Boating","BTNG 205","Amber Lake-Amber Lake Boat Launch",47,3,"Wave 2",1,null,62.17651,-150.52217999999999]
["Boating","BTNG 206","aniak river-aniak,ak",2,1,"Wave 2"]
["Boating","BTNG 207","Anvik River-Anvik",18,1,"Wave 2",1,null,62.655670000000001,-160.20639]
["Boating","BTNG 208","Bathing Beauty-Richardson  Hwy",5,2,"Wave 2"]
["Boating","BTNG 209","Bear Lake-private property",1,1,"Wave 2"]
["Boating","BTNG 21","Campbell Creek-Anchorage",19,6,"Wave 1",1,0,61.101768493652301,-149.66178894043]
["Boating","BTNG 210","Beaver Creek-Nome Creek, off US Creek Rd, White Mtns Rec Area",2,1,"Wave 2"]
["Boating","BTNG 211","Beaver Pond-Richardson Hwy",2,1,"Wave 2"]
["Boating","BTNG 212","Bell Lake-Parks Hwy mile 127",4,1,"Wave 2"]
["Boating","BTNG 213","Bering Sea-Akutan",1,1,"Wave 2"]
["Boating","BTNG 214","Birch Creek-Circle",7,1,"Wave 2"]
["Boating","BTNG 215","Birch Creek-Talkeetna spur road to Susitna river",2,1,"Wave 2"]
["Boating","BTNG 216","Bird Creek-Bird Creek",2,1,"Wave 2"]
["Boating","BTNG 217","blair lake",1,1,"Wave 2"]
["Boating","BTNG 218","Bolio Lake-Ft. Greely",2,1,"Wave 2"]
["Boating","BTNG 219","Bonnie Lake-Launch",15,1,"Wave 2",1,null,61.811709999999998,-148.29655]
["Boating","BTNG 220","Campbell Lake-Private Property",3,1,"Wave 2"]
["Boating","BTNG 221","Canning River-Headwaters airstrip",2,1,"Wave 2"]
["Boating","BTNG 222","Canyon Creek-Seward Hwy",4,1,"Wave 2"]
["Boating","BTNG 223","Chandalar Lake-North Fork Chandalar River",9,1,"Wave 2"]
["Boating","BTNG 224","Chelatna Lake-Float Plane",5,1,"Wave 2"]
["Boating","BTNG 225","Chena River-Chena Wayside",4,1,"Wave 2"]
["Boating","BTNG 226","Chena River-Flat Creek launch",1,1,"Wave 2"]
["Boating","BTNG 227","Chena River-Graehl Landing Fairbanks",35,6,"Wave 2",1,null,64.845749999999995,-147.70593]
["Boating","BTNG 228","chena river-mile 28 Chena Hot Springs Road",3,1,"Wave 2"]
["Boating","BTNG 229","Chena River-Near Hot Springs Drift (Moose Hunt)",5,1,"Wave 2"]
["Boating","BTNG 23","Canoe Trails-Tanana Lake Trailhead",1,1,"Wave 1",0]
["Boating","BTNG 230","Chena River-Peger Road",4,2,"Wave 2"]
["Boating","BTNG 231","Chena River-Pikes Landing, Fairbanks",41,5,"Wave 2",1,null,64.830119999999994,-147.84938]
["Boating","BTNG 232","Chena River-Pioneer Park Boat Launch",4,2,"Wave 2"]
["Boating","BTNG 233","Chena River-Pump House put in",5,1,"Wave 2"]
["Boating","BTNG 234","Chena River-Small Tracts Launch",2,1,"Wave 2"]
["Boating","BTNG 235","Chena River-Unspecified",17,5,"Wave 2",1,null,64.556470000000004,-149.11399]
["Boating","BTNG 236","Chena Slough-Mission Road Crossing",2,1,"Wave 2"]
["Boating","BTNG 237","Chilkat River-Haines/Klukwan",20,1,"Wave 2",1,null,59.282170000000001," -135.46073"]
["Boating","BTNG 238","Christensen Lake-Talkeetna",13,3,"Wave 2"]
["Boating","BTNG 239","Chulitna River,East Fork-Parks Hwy Bridge",1,1,"Wave 2"]
["Boating","BTNG 24","Captain Cook Recreation Site",3,1,"Wave 1",0]
["Boating","BTNG 240","Chulitna River-Denali",1,1,"Wave 2"]
["Boating","BTNG 241","Chulitna River-Float Plane out of Talkeetna",3,1,"Wave 2"]
["Boating","BTNG 242","Clearwater Lake-Delta Junction",15,6,"Wave 2",1,null,64.083479999999994,-145.60035999999999]
["Boating","BTNG 243","Clearwater River-Clearwater Campground",14,4,"Wave 2"]
["Boating","BTNG 244","Colorado Lake-Broad pass",7,1,"Wave 2"]
["Boating","BTNG 245","Cook Inlet-Anchorage",5,1,"Wave 2"]
["Boating","BTNG 246","Cook Inlet-Tyonek",10,1,"Wave 2"]
["Boating","BTNG 247","Copper lake-Slana",3,1,"Wave 2"]
["Boating","BTNG 248","Copper River-Below Gulkana River bridge",1,1,"Wave 2"]
["Boating","BTNG 25","Carpenters Lake-Burma Road",5,1,"Wave 1",0]
["Boating","BTNG 250","Copper River-Chitina",17,4,"Wave 2",1,null,61.520330000000001,-144.42219]
["Boating","BTNG 251","Copper River-Copper Center",11,4,"Wave 2"]
["Boating","BTNG 252","Copper River-New Richardson Bridge",1,1,"Wave 2"]
["Boating","BTNG 253","Copper River-Slana, AK",9,1,"Wave 2"]
["Boating","BTNG 254","Copper River-Unspecified",3,3,"Wave 2"]
["Boating","BTNG 255","Cornieleius Lake-Palmer",6,2,"Wave 2"]
["Boating","BTNG 256","Cottonwood Lake-Private Property",2,1,"Wave 2"]
["Boating","BTNG 257","cranberry lake near big lake-public launch",8,1,"Wave 2"]
["Boating","BTNG 258","Crosswind Lake-Private property",6,1,"Wave 2"]
["Boating","BTNG 259","Crosswind Lake-Tulsona Glennallen Area",4,1,"Wave 2"]
["Boating","BTNG 26","Chatanika River-Chatanika",82,10,"Waves 1 and 2",1,0,65.1309814453125,-147.49003601074199]
["Boating","BTNG 260","Crystal Lake-private property",2,1,"Wave 2"]
["Boating","BTNG 261","Deep Creek-Mouth",4,1,"Wave 2"]
["Boating","BTNG 262","DeLong Lake-Anchorage",4,2,"Wave 2"]
["Boating","BTNG 263","Drashner Lake-Cantwell",2,1,"Wave 2"]
["Boating","BTNG 264","Dutch Harbor-Dutch Harbor",6,1,"Wave 2"]
["Boating","BTNG 265","East Fork Susitna River-Valdez Creek",2,1,"Wave 2"]
["Boating","BTNG 266","Eight Mile Lake-Denali Highway",1,1,"Wave 2"]
["Boating","BTNG 267","Eyak River-Boat Launch",1,1,"Wave 2"]
["Boating","BTNG 268","Finger Lake- Private Property",10,1,"Wave 2"]
["Boating","BTNG 269","Fire Lake- Eagle River Private Residence",6,1,"Wave 2"]
["Boating","BTNG 27","Chena Lakes Rec Area-North Pole",92,18,"Waves 1 and 2",1,0,64.769668579101605,-147.22932434082]
["Boating","BTNG 270","Fortymile River South Fork -S Fork boat launch off Taylor Hwy",6,1,"Wave 2"]
["Boating","BTNG 271","Gakona River-Richardson Hwy, mile 154",2,1,"Wave 2"]
["Boating","BTNG 272","Good Paster River-Tanana River Boat Launch",8,2,"Wave 2"]
["Boating","BTNG 273","Goodpaster River-Big Delta boat launch",10,1,"Wave 2"]
["Boating","BTNG 274","Gravel Lake-Salcha",2,1,"Wave 2"]
["Boating","BTNG 275","Gulf of Alaska-Sand Point",5,1,"Wave 2"]
["Boating","BTNG 276","Gulkana River-Gakona",3,2,"Wave 2"]
["Boating","BTNG 278","gulkana river-paxson",6,1,"Wave 2"]
["Boating","BTNG 28","Chena River-Chena",37,5,"Waves 1 and 2",1,null,64.807500000000005,-147.91511]
["Boating","BTNG 280","Gulkana River-Poplar grove, Richardson Hwy",1,1,"Wave 2"]
["Boating","BTNG 281","Gulkana River-Sailor's Pit",9,4,"Wave 2"]
["Boating","BTNG 282","Gulkana River-Sourdough BLM",30,9,"Wave 2",1,null,62.521279999999997,-145.5308]
["Boating","BTNG 283","gulkana river-summit lake",9,2,"Wave 2"]
["Boating","BTNG 284","Halibut Cove-Halibut Cove",2,1,"Wave 2"]
["Boating","BTNG 285","Happy River-Fly-in",8,1,"Wave 2"]
["Boating","BTNG 287","Hidden Lake-Cooper Landing",3,1,"Wave 2"]
["Boating","BTNG 288","High Lake-Personal dock",2,1,"Wave 2"]
["Boating","BTNG 289","Hulahula River-Walked from Sadlerochit River",1,1,"Wave 2"]
["Boating","BTNG 29","Chena River-Fairbanks",346,79,"Waves 1 and 2",1,0,64.842079162597699,-147.81202697753901]
["Boating","BTNG 290","Ingram Creek-Seward Hwy",1,1,"Wave 2"]
["Boating","BTNG 291","Innoko River-Shageluk",10,1,"Wave 2"]
["Boating","BTNG 292","Inside Passage-Cruise Ship Vancouver",8,1,"Wave 2"]
["Boating","BTNG 293","Jack River-Cantwell",7,2,"Wave 2"]
["Boating","BTNG 294","Kaktovik Lagoon-crossed to Barter Island, narrowest point",1,1,"Wave 2"]
["Boating","BTNG 295","Kenai Lake-Quartz Creek",1,1,"Wave 2"]
["Boating","BTNG 296","Kenai River- Kenai",10,6,"Wave 2"]
["Boating","BTNG 297","Kenai River-Bings Landing",17,2,"Wave 2",1,null,60.515680000000003,-150.70101]
["Boating","BTNG 298","Kenai River-Cooper Landing Boat Launch",50,17,"Wave 2",1,null,60.49006,-149.83268000000001]
["Boating","BTNG 299","Kenai River-Funny River",1,1,"Wave 2"]
["Boating","BTNG 3","Anchorage Lakes",439,40,"Waves 1 and 2",1,0,61.152271270752003,-149.95709228515599]
["Boating","BTNG 30","Chena River-Ft. Wainwright",8,3,"Waves 1 and 2"]
["Boating","BTNG 300","Kenai River-Grown Point",2,1,"Wave 2"]
["Boating","BTNG 301","Kenai River-Izaak Walton",2,1,"Wave 2"]
["Boating","BTNG 302","Kenai River-Jims Landing",3,1,"Wave 2"]
["Boating","BTNG 303","Kenai River-Lower Skilak",2,1,"Wave 2"]
["Boating","BTNG 304","Kenai River-Mile 32 of the River",1,1,"Wave 2"]
["Boating","BTNG 305","Kenai River-Primrose Campground",2,1,"Wave 2"]
["Boating","BTNG 306","Kenai River-Private Property",3,1,"Wave 2"]
["Boating","BTNG 307","Kenai River-Skilak Lake",2,1,"Wave 2"]
["Boating","BTNG 308","Kenai River-Soldotna City dock",10,3,"Wave 2"]
["Boating","BTNG 309","Kenai River-Sportsmens Landing",10,6,"Wave 2"]
["Boating","BTNG 31","Chena River-Nordale",47,16,"Waves 1 and 2",1,0,64.840583801269503,-147.69003295898401]
["Boating","BTNG 310","Klattina River-Klatina",3,1,"Wave 2"]
["Boating","BTNG 311","Klutina Lake-Klutina Lake rd",2,1,"Wave 2"]
["Boating","BTNG 312","Klutina Lake-Klutina River",4,1,"Wave 2"]
["Boating","BTNG 313","Klutina River-Copper Center",1,1,"Wave 2"]
["Boating","BTNG 314","Klutina River-New Richardson Bridge",2,1,"Wave 2"]
["Boating","BTNG 315","Knik River-Knik Bridge Sand bar",1,1,"Wave 2"]
["Boating","BTNG 316","Knik River-Knik River Rd",3,1,"Wave 2"]
["Boating","BTNG 317","Knik River-Old Glenn Bridge",11,4,"Wave 2"]
["Boating","BTNG 318","Knik River-Palmer",5,1,"Wave 2"]
["Boating","BTNG 319","Kobuk River-Walker Lake",9,1,"Wave 2"]
["Boating","BTNG 32","Chena River-North Pole",13,3,"Waves 1 and 2"]
["Boating","BTNG 320","Kuskokwim River-McGrath",19,1,"Wave 2",1,null,62.945509999999999," -155.62058"]
["Boating","BTNG 321","Kutchak  River-Iguigig",5,1,"Wave 2"]
["Boating","BTNG 322","kuyokuk river-haul road",15,1,"Wave 2",0,null,67.413960000000003,-150.1104]
["Boating","BTNG 323","Kwethluk River-Kengaqak",3,1,"Wave 2"]
["Boating","BTNG 324","Lake Barbara-Dillingham",2,1,"Wave 2"]
["Boating","BTNG 325","Lake Chitina-Chitina",6,1,"Wave 2"]
["Boating","BTNG 326","Lake Clark-Keyes Point",50,2,"Wave 2",1,null,60.10801,-154.61695]
["Boating","BTNG 327","Lake Creek-Deshka Landing",2,1,"Wave 2"]
["Boating","BTNG 328","Lake Louise-Evergreen Lodge",40,1,"Wave 2",1,null,62.277059999999999,-146.51392000000001]
["Boating","BTNG 329","Lake Louise-Glenallen",6,2,"Wave 2"]
["Boating","BTNG 33","Chena River-Upper",15,3,"Waves 1 and 2",1,0,64.8751220703125,-146.76609802246099]
["Boating","BTNG 330","Lake Louise-Public Launch Lake Louise",57,2,"Wave 2",1,null,62.286340000000003," -146.54128"]
["Boating","BTNG 331","Lake Louise-Unspecified",3,1,"Wave 2"]
["Boating","BTNG 332","Lake Louise-Wasilla",10,1,"Wave 2"]
["Boating","BTNG 333","lake 'o' the hills-anchorage",4,1,"Wave 2"]
["Boating","BTNG 334","Lake Susitna-Evergreen Lodge",40,1,"Wave 2",1,null,62.277349999999998," -146.51404"]
["Boating","BTNG 335","Larsen Bay-Kodiak Gulf",3,1,"Wave 2"]
["Boating","BTNG 336","Little Bill Lake-mp 100 Parks Hwy-, Sunshine",5,1,"Wave 2"]
["Boating","BTNG 337","Little Nelchina River-Nelchina Campground",4,1,"Wave 2"]
["Boating","BTNG 338","Little Susitna-Hatchers Pass",2,1,"Wave 2"]
["Boating","BTNG 339","Little Susitna-Palmer",3,2,"Wave 2"]
["Boating","BTNG 340","Little Susitna-Unspecified",1,1,"Wave 2"]
["Boating","BTNG 341","Little Susitna-Willow",3,1,"Wave 2"]
["Boating","BTNG 342","Long Lake-Glenn Highway",5,2,"Wave 2"]
["Boating","BTNG 343","Long Lake-Private Property]",1,1,"Wave 2"]
["Boating","BTNG 344","Loon Lake-Public Boat Launch",3,1,"Wave 2"]
["Boating","BTNG 345","Lucile Lake-Wasilla",26,4,"Wave 2",1,null,61.575220000000002,-149.47815]
["Boating","BTNG 346","Lynn Canal-Juneau",3,1,"Wave 2"]
["Boating","BTNG 347","Lynx Lake-Midnight Sun Bible Camp",16,1,"Wave 2",1,null,61.62594," -150.06454"]
["Boating","BTNG 348","Lynx lake-Public Launch",7,1,"Wave 2"]
["Boating","BTNG 349","Marion Lake-Unspecified",2,1,"Wave 2"]
["Boating","BTNG 350","Matanuska River-Sutton",3,1,"Wave 2"]
["Boating","BTNG 351","McClaren River-Denali Hwy, McClaren Lodge",2,1,"Wave 2"]
["Boating","BTNG 352","Middle Fork Koyukuk-Coldfoot",15,1,"Wave 2",0,null,67.259569999999997,-150.19057000000001]
["Boating","BTNG 353","Mineral Lake-Mile 88 Tok cutoff",1,1,"Wave 2"]
["Boating","BTNG 354","Minto Flats-Minto",8,1,"Wave 2"]
["Boating","BTNG 355","Montana Creek-Talkeetna",2,1,"Wave 2"]
["Boating","BTNG 356","Moon lakeTok",3,1,"Wave 2"]
["Boating","BTNG 357","Moose Creek-Oil Well Rd. Petersville",7,2,"Wave 2"]
["Boating","BTNG 358","moose creek-trapper creek",1,1,"Wave 2"]
["Boating","BTNG 359","Moose River-Sterling Launch",2,1,"Wave 2"]
["Boating","BTNG 36","Chiniak Bay-Kodiak",1,1,"Wave 1",1,0,57.782886505127003,-152.407150268555]
["Boating","BTNG 360","Nancy Lake-Friend's dock",1,1,"Wave 2"]
["Boating","BTNG 361","Nenana River-Cantwell",20,2,"Wave 2",1,null,63.453270000000003,-148.80689000000001]
["Boating","BTNG 362","Nenana River-McKinley Village",1,1,"Wave 2"]
["Boating","BTNG 363","Nenana River-Panoram Pizza, South of Denali Park",1,1,"Wave 2"]
["Boating","BTNG 364","Nixon Fork-McGrath",4,1,"Wave 2"]
["Boating","BTNG 365","Noatak River-Gates of the Arctic",13,1,"Wave 2"]
["Boating","BTNG 366","Nome River-Nome Alaska",1,1,"Wave 2"]
["Boating","BTNG 367","Nushagak River-Ekwok",2,1,"Wave 2"]
["Boating","BTNG 368","olnes pond-rec area",2,1,"Wave 2"]
["Boating","BTNG 37","Chukchi Sea-Kotzebue",15,1,"Wave 1",0]
["Boating","BTNG 370","Otter Lake-JBER",26,6,"Wave 2",1,null,61.291379999999997,-149.74101999999999]
["Boating","BTNG 371","piledriver slough-Eielson Air Force Base",4,2,"Wave 2"]
["Boating","BTNG 372","Pippen Lake-Edgerton Hwy",3,1,"Wave 2"]
["Boating","BTNG 373","Pippin Lake-Edgerton Highway",4,2,"Wave 2"]
["Boating","BTNG 374","Placer River-AK RR",1,1,"Wave 2"]
["Boating","BTNG 375","placer river-parking lot boat launch",2,1,"Wave 2"]
["Boating","BTNG 376","Pond 1 & 2 in Portage Valley-Alder Pond exit",7,1,"Wave 2"]
["Boating","BTNG 377","Portage Creek-Begich Boggs Visitor center",3,2,"Wave 2"]
["Boating","BTNG 378","Portage Lake-Boat Launch",4,4,"Wave 2"]
["Boating","BTNG 379","Portage Lake-Portage",2,1,"Wave 2"]
["Boating","BTNG 38","Chulitna River-Parks Highway",14,4,"Waves 1 and 2",1,1,62.889331817627003,-149.79339599609401]
["Boating","BTNG 381","Portage Lake-Sterling, AK",1,1,"Wave 2"]
["Boating","BTNG 382","Prince William Sound-Hinchinbrok Island",3,1,"Wave 2"]
["Boating","BTNG 383","Prince William Sound-Hydaburg",2,1,"Wave 2"]
["Boating","BTNG 384","Puntilla Lake-Rainy Pass Lodge",1,1,"Wave 2"]
["Boating","BTNG 385","Pup Lake-Big Lake",2,1,"Wave 2"]
["Boating","BTNG 386","Quartz Lake-Quartz Lake Boat Launch",26,2,"Wave 2",1,null,64.19847,-145.82748000000001]
["Boating","BTNG 387","Rabbit Lake-Rabbit Lake",1,1,"Wave 2"]
["Boating","BTNG 388","Rabbit slough-Palmer",11,2,"Wave 2"]
["Boating","BTNG 389","Rainbow Lake-Sterling, AK",1,1,"Wave 2"]
["Boating","BTNG 39","Chulitna River-Troublesome Crek",4,1,"Wave 1",1,1,62.626491546630902,-150.23713684082]
["Boating","BTNG 390","Red Shirt Lake-HIke",33,3,"Wave 2",1,null,61.640909999999998,-150.15129999999999]
["Boating","BTNG 391","Riley Creek-Hike in",2,2,"Wave 2"]
["Boating","BTNG 392","Sadlerochit River-Walked to headwaters from Marsh Fork",2,1,"Wave 2"]
["Boating","BTNG 393","Salmon Lake-Nome Alaska",1,1,"Wave 2"]
["Boating","BTNG 394","salmon river-aniak,ak",2,1,"Wave 2"]
["Boating","BTNG 395","Scotty Lake-Petersville Rd.",1,1,"Wave 2"]
["Boating","BTNG 396","Sedovia Slough-Seldovia",1,1,"Wave 2"]
["Boating","BTNG 397","Seven Lake Canoe Trail System-Palmer",2,2,"Wave 2"]
["Boating","BTNG 398","seymour lake-public access",10,2,"Wave 2"]
["Boating","BTNG 399","Silver Lake-Chitna",2,1,"Wave 2"]
["Boating","BTNG 4","Andreafsky River-St Marys",3,1,"Wave 1",0]
["Boating","BTNG 40","Clear Creek-Talkeetna",2,2,"Wave 1",1,0,62.349430084228501,-150.13665771484401]
["Boating","BTNG 400","Sitka Sound-Sitka",7,1,"Wave 2"]
["Boating","BTNG 401","Skilak Lake-Skilak Lake",7,2,"Wave 2"]
["Boating","BTNG 402","skilak lake-upper landing",59,2,"Wave 2",1,null,60.437919999999998,-150.32]
["Boating","BTNG 403","Slana River-Mile 64",4,1,"Wave 2"]
["Boating","BTNG 404","Slana River-Slana",1,1,"Wave 2"]
["Boating","BTNG 405","Slipper Lake-Sutton",5,1,"Wave 2"]
["Boating","BTNG 406","South Rolly Lake-South Rolly Lake Campground",4,1,"Wave 2"]
["Boating","BTNG 407","Spencer Lake-AK RR",2,1,"Wave 2"]
["Boating","BTNG 408","Stephan Lake-Stephan Lake",73,1,"Wave 2",1,null,61.489849999999997,-149.91924]
["Boating","BTNG 409","Stuyahok River-Iliamna",6,1,"Wave 2"]
["Boating","BTNG 410","Summit Lake-Tender Foot Camp",1,1,"Wave 2"]
["Boating","BTNG 411","Susitna Lake-Lake Louise",27,3,"Wave 2",1,null,62.281559999999999,-146.53398999999999]
["Boating","BTNG 412","Susitna River-Gold Creek",2,1,"Wave 2"]
["Boating","BTNG 413","Susitna River-Portage Creek",3,1,"Wave 2"]
["Boating","BTNG 415","Sutton Lake-Sutton",5,1,"Wave 2"]
["Boating","BTNG 416","Swan Lake-Flew in from Talkeetna",12,1,"Wave 2"]
["Boating","BTNG 417","Swanson River Canoeing Trail-Kenai",11,2,"Wave 2"]
["Boating","BTNG 418","Takotna River-McGrath",4,1,"Wave 2"]
["Boating","BTNG 419","Talkeetna River-Fly-in",3,1,"Wave 2"]
["Boating","BTNG 42","Cook Inlet-Deep Crek",5,3,"Waves 1 and 2",1,0,60.050960540771499,-151.66947937011699]
["Boating","BTNG 420","Talkeetna River-Talkeetna",12,6,"Wave 2"]
["Boating","BTNG 421","Tanaina Lake-Nancy Lake State Recreation Area",1,1,"Wave 2"]
["Boating","BTNG 422","Tanana Lake",1,1,"Wave 2"]
["Boating","BTNG 423","Tanana River-Manley",2,1,"Wave 2"]
["Boating","BTNG 424","Tanana River-Nenana",10,4,"Wave 2"]
["Boating","BTNG 425","tanana river-rosie creek/chena pump rd",2,1,"Wave 2"]
["Boating","BTNG 426","Tanana River-Tanacross",14,1,"Wave 2"]
["Boating","BTNG 427","Tanana River-Tanana River Boat Landing",31,2,"Wave 2",1,null,64.79468,-147.95357999999999]
["Boating","BTNG 428","Tanana River-Tok",3,1,"Wave 2"]
["Boating","BTNG 429","Tangle Lakes/Delta River-Maclaren River Lodge",3,1,"Wave 2"]
["Boating","BTNG 43","Cook Inlet-Homer",4,3,"Waves 1 and 2",1,0,59.637760162353501,-151.54054260253901]
["Boating","BTNG 430","Tangle Lakes-BLM Boat Launch",16,5,"Wave 2",1,null,63.049619999999997,-146.00747999999999]
["Boating","BTNG 431","Tazlina River-Richardson Hwy",1,1,"Wave 2"]
["Boating","BTNG 432","Tazlina River-Tazlina Lake",7,2,"Wave 2"]
["Boating","BTNG 433","Teklanika River-Tanana Boat Launch",10,1,"Wave 2"]
["Boating","BTNG 434","Tex Smith Lake-Boat launch",1,1,"Wave 2"]
["Boating","BTNG 435","Tikchik River-Nishlikik",8,1,"Wave 2"]
["Boating","BTNG 436","Tokositna River-Swan Lake",1,1,"Wave 2"]
["Boating","BTNG 437","Tolsona Lake-Tolsona Lake road",10,1,"Wave 2"]
["Boating","BTNG 438","Tonsina River-Highway Boat Launch",1,1,"Wave 2"]
["Boating","BTNG 439","Tonsina River-Mile 74 Richardson Hwy",3,1,"Wave 2"]
["Boating","BTNG 44","Cook Inlet-Nikiski",1,1,"Wave 1",0]
["Boating","BTNG 440","Tonsina River-Squirrel Creek CG",9,3,"Wave 2"]
["Boating","BTNG 441","Trapper Lake-Flying from Anchorage",4,1,"Wave 2"]
["Boating","BTNG 442","Trapper Lake-Trapper lake",26,2,"Wave 2",1,null,62.002850000000002,-150.24502000000001]
["Boating","BTNG 443","Tustemina Lake-Soldotna",1,1,"Wave 2"]
["Boating","BTNG 444","Tyone Lake-Evergreen Lodge",40,1,"Wave 2",1,null,62.277790000000003," -146.51496"]
["Boating","BTNG 445","Tyone River-Evergreen Lodge",40,1,"Wave 2",1,null,62.277419999999999,-146.51482999999999]
["Boating","BTNG 446","University Lake-Anchorage",3,1,"Wave 2"]
["Boating","BTNG 447","west beaver lake[-our cabin",4,1,"Wave 2"]
["Boating","BTNG 448","Windy Creek-Cantwell",1,1,"Wave 2"]
["Boating","BTNG 449","Yukon River-Rampart Access",4,1,"Wave 2"]
["Boating","BTNG 450","Yukon River-Unspecified",5,1,"Wave 2"]
["Boating","BTNG 451","Little Susitna-Wasilla",1,1,"Wave 2"]
["Boating","BTNG 452","chena river-wendell st bridge",1,1,"Wave 2"]
["Boating","BTNG 453","Chatanika River-Whitefish Campground",18,1,"Wave 2",1,null,65.084810000000004,-147.7277]
["Boating","BTNG 455","Willow River-Willow AK",2,1,"Wave 2"]
["Boating","BTNG 456","Watana Lake-Willow Floatplane",10,1,"Wave 2"]
["Boating","BTNG 457","Willow Lake-Private",15,1,"Wave 2",1,null,61.74485,-150.05333999999999]
["Boating","BTNG 458","Butterfly Lake-Willow",5,1,"Wave 2"]
["Boating","BTNG 459","Florence Lake-Willow",10,1,"Wave 2"]
["Boating","BTNG 460","Little Lonely Lake-Willow",12,1,"Wave 2"]
["Boating","BTNG 461","Long Lake-Willow",41,3,"Wave 2",1,null," -150.08484"," -150.08484"]
["Boating","BTNG 462","Susitna River-Willow",11,2,"Wave 2"]
["Boating","BTNG 463","Nenana River-Windy Pass",1,1,"Wave 2"]
["Boating","BTNG 464","Lake Louise-Wolverine Lodge",160,2,"Wave 2",1,null,62.276020000000003,-146.52927]
["Boating","BTNG 466","Chena River-31.4 Mile",3,1,"Wave 2"]
["Boating","BTNG 48","Crator Lake-Tazlina",5,1,"Wave 1",0]
["Boating","BTNG 5","Annette Bay-Metlakatla",1,1,"Wave 1",0]
["Boating","BTNG 50","Crystal Lake-Willow",56,8,"Waves 1 and 2",1,0,61.713050842285199,-150.10192871093801]
["Boating","BTNG 51","Delta Clearwater-Clearwater Lake",9,2,"Wave 1",0]
["Boating","BTNG 52","Delta Clearwater-Clearwater River",42,11,"Wave 1",1,0,64.054000854492202,-145.43339538574199]
["Boating","BTNG 53","Delta River-Richardson Highway",1,1,"Wave 1",1,0,63.6767387390137,-145.88356018066401]
["Boating","BTNG 54","Delta River-Tangle Lake Campground",11,2,"Wave 1",0]
["Boating","BTNG 55","Deshka River-Deshka Landing",28,6,"Waves 1 and 2",1,1,61.698841094970703,-150.32049560546901]
["Boating","BTNG 56","Doly Varden Lake-Kenai",1,1,"Wave 1",0]
["Boating","BTNG 57","Drill Lake-Chickaloon",17,1,"Wave 1",1,0,61.794971466064503,-148.51089477539099]
["Boating","BTNG 58","Eagle RIver-Eagle River",31,14,"Waves 1 and 2",1,0,61.297309875488303,-149.53428649902301]
["Boating","BTNG 6","Auk Bay-Juneau Boat Launch",13,4,"Wave 1",0]
["Boating","BTNG 60","Eklutna Lake-Eklutna Campground",32,19,"Waves 1 and 2",1,0,61.408611297607401,-149.13569641113301]
["Boating","BTNG 61","Fielding Lake- Fielding Lake State Recreation Area",3,1,"Wave 1",0]
["Boating","BTNG 63","Fire Lake- Eagle River",24,10,"Waves 1 and 2",1,0,61.355800628662102,-149.52778625488301]
["Boating","BTNG 65","Gastineau Channel-Juneau",2,1,"Wave 1",0]
["Boating","BTNG 66","George Lake-AK Highway Landing East of Tanana River Bridge",6,1,"Wave 1",0]
["Boating","BTNG 67","Glacier Creek-Girdwood",3,2,"Waves 1 and 2"]
["Boating","BTNG 68","Good Pasture-Delta Bridge",7,2,"Waves 1 and 2"]
["Boating","BTNG 69","Goodnews Lake-Dillingham",14,1,"Wave 1",0]
["Boating","BTNG 7","Badger Slough-North Pole",11,2,"Waves 1 and 2"]
["Boating","BTNG 71","Granite Creek-Kenai",1,1,"Wave 1",0]
["Boating","BTNG 72","Gulf of Alaska",64,2,"Wave 1",0]
["Boating","BTNG 73","Gulf of Alaska-Juneau",4,1,"Wave 1",0]
["Boating","BTNG 74","Gulf of Alaska-Whittier",1,1,"Wave 1",0]
["Boating","BTNG 75","Gulkana River-Gulkana",7,2,"Waves 1 and 2",1,0,62.526561737060497,-145.52455139160199]
["Boating","BTNG 76","Gulkana River-Paxson Lake",46,9,"Waves 1 and 2",1,0,62.885730743408203,-145.52522277832]
["Boating","BTNG 77","Harding Lake-Fairbanks",185,28,"Waves 1 and 2",1,0,64.434646606445298,-146.88081359863301]
["Boating","BTNG 78","Healy Lake-Cummings Rd",4,1,"Wave 1",0]
["Boating","BTNG 79","Hidden Lake-Kenai",4,3,"Wave 1",1,0,60.467559814453097,-150.20516967773401]
["Boating","BTNG 8","Beach Lake-Birchwood",24,10,"Waves 1 and 2",1,0,61.401611328125,-149.56489562988301]
["Boating","BTNG 82","Icy Straits-Hoonah",3,1,"Wave 1",0]
["Boating","BTNG 83","J.H. Lake-Kantishna River",6,1,"Wave 1",0]
["Boating","BTNG 85","Jim Creek-Mat Su",7,2,"Waves 1 and 2",1,0,61.557258605957003,-148.92379760742199]
["Boating","BTNG 86","Kachemak Bay- Homer",385,57,"Waves 1 and 2",1,0,59.607681274414098,-151.43119812011699]
["Boating","BTNG 87","Kachemak Bay-Seldovia",31,7,"Waves 1 and 2",1,0,59.438541412353501,-151.7177734375]
["Boating","BTNG 88","Kake-SE Alaska",3,1,"Wave 1",0]
["Boating","BTNG 9","Bear Lake-Seward",8,4,"Waves 1 and 2"]
["Boating","BTNG 90","Kasilof River-Sterling Highway",1,1,"Wave 1",1,0,60.316848754882798,-151.25836181640599]
["Boating","BTNG 91","Katie Lake-Talkeetna",32,1,"Wave 1",1,0,62.396461486816399,-149.83369445800801]
["Boating","BTNG 92","Katmai-Saboniski Loop",8,1,"Wave 1",0]
["Boating","BTNG 93","Kelly Lake-Kenai",3,1,"Wave 1",0]
["Boating","BTNG 94","Kenai Canoe Trails-Swanson River",3,1,"Wave 1",0]
["Boating","BTNG 95","Kenai Lake-Cooper Landing",63,13,"Waves 1 and 2",1,0,60.491989135742202,-149.810546875]
["Boating","BTNG 96","Kenai Lakes-Unspecified",29,3,"Waves 1 and 2",1,null,60.484560000000002,-149.73349999999999]
["Boating","BTNG 97","Kenai Lake-Trail River",1,1,"Wave 1",0]
["Boating","BTNG 98","Kenai River-Lower",45,13,"Waves 1 and 2",1,0,60.533859252929702,-151.09762573242199]
["Boating","BTNG 99","Kenai River-Middle",13,4,"Wave 1",1,0,60.515769958496101,-150.70231628418]
["Boating","BTNG 999","Uncodeable",540,93,"Waves 1 and 2"]
["Fishing","I 0001","Gulkana River (Paxson to Sourdough)",12,2,"Wave 1",0]
["Fishing","I 0004","Silver Lake (next to Van Lake)",13,5,"Wave 2"]
["Fishing","I 0008","Crosswind Lake",12,3,"Waves 1 and 2"]
["Fishing","I 0009","Hudson Lake",5,2,"Wave 2"]
["Fishing","I 0013","Paxson Lake",35,15,"Waves 1 and 2"]
["Fishing","I 0014","Summit Lake (Richardson Highway near Paxson)",1,1,"Wave 2"]
["Fishing","I 0015","Gulkana River (Sourdough to Highway)",161,27,"Waves 1 and 2",1,null,62.287849999999999,-145.34043]
["Fishing","I 0113","Arizona Lake",1,1,"Wave 2"]
["Fishing","I 0114","Bernard Creek",2,1,"Wave 2"]
["Fishing","I 0135","Chitina lakes",23,1,"Wave 2"]
["Fishing","I 0140","Copper Lake",7,2,"Wave 2"]
["Fishing","I 0141","Copper River",12,1,"Wave 2"]
["Fishing","I 0150","Dog Creek",2,1,"Wave 2"]
["Fishing","I 0158","Fish Creek (into Mentasta Lake)",6,1,"Wave 2"]
["Fishing","I 0170","Squirrel Creek Gravel Pit (Gravel Pit Lake)",9,2,"Wave 2"]
["Fishing","I 0176","High Lake",3,1,"Wave 2"]
["Fishing","I 0191","Klutina Lake",6,3,"Waves 1 and 2"]
["Fishing","I 0200","Little Tonsina River",3,1,"Wave 2"]
["Fishing","I 0211","Meiers Lake",23,3,"Wave 2"]
["Fishing","I 0213","Mentasta Lake",1,1,"Wave 2"]
["Fishing","I 0229","Nelchina River",3,1,"Wave 1",0]
["Fishing","I 0242","Ranger Lake",3,1,"Wave 2"]
["Fishing","I 0255","Slana River",2,2,"Wave 2"]
["Fishing","I 0259","Sourdough Creek",9,3,"Wave 2"]
["Fishing","I 0263","Squirrel Creek",9,5,"Wave 2"]
["Fishing","I 0269","Swede Lake (Big Swede Lake)",3,1,"Wave 2"]
["Fishing","I 0271","Tanada Lake",5,1,"Wave 2"]
["Fishing","I 0272","Tazlina Lake",2,1,"Wave 1",0]
["Fishing","I 0273","Tazlina River",10,1,"Wave 2"]
["Fishing","I 0275","Tebay lakes",5,2,"Wave 2"]
["Fishing","I 0276","Tebay River",2,1,"Wave 2"]
["Fishing","I 0283","Threemile Lake (Third Lake, 3 Mile Lake)",25,2,"Wave 2"]
["Fishing","I 0285","Tolsona Creek",4,1,"Wave 2"]
["Fishing","I 0287","Tonsina River (Lower Tonsina River)",27,8,"Wave 2"]
["Fishing","I 0294","Twomile Lake (Second Lake)",5,1,"Wave 2"]
["Fishing","I 0315","Lake Louise (McCarthy)",29,10,"Wave 2"]
["Fishing","I 0332","Grizzly Lake",6,1,"Wave 2"]
["Fishing","I 0336","Octopus Lake",2,1,"Wave 2"]
["Fishing","I 0341","Tonsina Lake",13,4,"Wave 2"]
["Fishing","I 0355","Pippin Lake",15,4,"Wave 2"]
["Fishing","I 0360","Loon Lake",4,1,"Wave 2"]
["Fishing","I 0391","Otter Lake",4,1,"Wave 1",0]
["Fishing","I 0398","Tolsona Lake",11,2,"Wave 2"]
["Fishing","I 0408","Moose Creek (U)",14,1,"Wave 2"]
["Fishing","I 0416","Klutina River",521,92,"Waves 1 and 2",1,0,61.953830718994098,-145.32167053222699]
["Fishing","I 0432","Gulkana River mainstem (reach unspecified)",84,16,"Wave 2",null,null,62.845829999999999,-145.66666000000001]
["Fishing","I 0500","Gulkana River (Paxson to West Fork)",5,1,"Wave 2"]
["Fishing","I 0650","Gulkana River (above Paxson)",46,10,"Wave 2",null,null,63.064129999999999,-145.31307000000001]
["Fishing","J 0011","Eshamy Lake",4,1,"Wave 1",0]
["Fishing","J 0122","Blueberry Lake",3,2,"Wave 2"]
["Fishing","J 0140","Copper River",415,84,"Waves 1 and 2",null,null,62.069159999999997,-145.39975999999999]
["Fishing","J 0145","Crater Lake",6,3,"Wave 1",0]
["Fishing","J 0171","Ibeck Creek (Mile 7 Copper River Highway)",6,2,"Waves 1 and 2"]
["Fishing","J 0173","Jack Lake",5,1,"Wave 2"]
["Fishing","J 0189","Lowe River",1,1,"Wave 2"]
["Fishing","J 0222","Robe River drainage",1,1,"Wave 2"]
["Fishing","J 0240","Tiekel River (Uranatina River, incl. Tsina River)",1,1,"Wave 2"]
["Fishing","J 0249","Eyak Lake",5,1,"Wave 1",0]
["Fishing","J 0271","Sheep Creek",96,10,"Waves 1 and 2",1,0,61.936317443847699,-147.67494201660199]
["Fishing","J 0412","Fourth of July Creek",11,1,"Wave 2"]
["Fishing","J 0415","Resurrection River (Russian to Resurrection Bay)",10,1,"Wave 2"]
["Fishing","J 0720","Montague Island (Boat)",2,2,"Wave 1",0]
["Fishing","J 0722","Orca Bay (Boat)",3,1,"Wave 1",0]
["Fishing","J 0776","Sawmill Bay (Boat)",6,1,"Wave 2"]
["Fishing","J 0831","Allison Point (Shore)",26,8,"Waves 1 and 2"]
["Fishing","J 0902","Eshamy Lagoon (Boat)",4,1,"Wave 1",0]
["Fishing","J 10781","Gulf of Alaska- Seward",36,11,"Waves 1 and 2"]
["Fishing","J 10782","Gulf of Alaska- Homer",2,1,"Wave 2"]
["Fishing","J 10783","Gulf of Alaska- Valdez",7,4,"Waves 1 and 2"]
["Fishing","J 1084","Knight Island (Boat)",2,1,"Wave 2"]
["Fishing","J 1088","Prince of Wales Passage (Boat)",16,2,"Wave 1",0]
["Fishing","K 00042","Little Susitna River- Little Susitna Public Use Facility",242,55,"Waves 1 and 2",1,0,61.559703826904297,-149.21366882324199]
["Fishing","K 0006","Wasilla Creek (Rabbit Slough)",5,1,"Wave 1",0]
["Fishing","K 0007","Cottonwood Creek",13,3,"Wave 2"]
["Fishing","K 0008","Wasilla Lake",6,2,"Waves 1 and 2"]
["Fishing","K 0009","Finger Lake",97,23,"Waves 1 and 2",1,0,61.608890533447301,-149.26486206054699]
["Fishing","K 0011","Lucile Lake",13,4,"Waves 1 and 2"]
["Fishing","K 0012","Big Lake",59,16,"Waves 1 and 2",null,null,61.511809999999997,-149.96632]
["Fishing","K 0013","Nancy Lake",18,6,"Waves 1 and 2"]
["Fishing","K 0124","Bonnie Lake (30 miles NE Palmer) (Lower Bonnie)",6,2,"Wave 2"]
["Fishing","K 0130","Cornelius Lake",6,2,"Wave 2"]
["Fishing","K 0131","Cottonwood Lake",70,8,"Waves 1 and 2",null,null,61.598460000000003,-149.30995999999999]
["Fishing","K 0133","Crooked Lake",5,1,"Wave 2"]
["Fishing","K 0140","Frog Lake",6,1,"Wave 2"]
["Fishing","K 0142","Goose Creek",2,1,"Wave 1",0]
["Fishing","K 0145","Horseshoe Lake (North of Big Lake)",1,1,"Wave 2"]
["Fishing","K 0151","Knik Lake",13,3,"Waves 1 and 2"]
["Fishing","K 0157","Lost Lake",18,4,"Waves 1 and 2"]
["Fishing","K 0162","Memory Lake",6,1,"Wave 1",0]
["Fishing","K 0166","Meirs Lake (in Palmer)",1,1,"Wave 1",0]
["Fishing","K 0171","Ravine Lake",13,2,"Waves 1 and 2"]
["Fishing","K 0183","Walby Lake",8,2,"Wave 1",0]
["Fishing","K 0185","West Beaver Lake",10,1,"Wave 2"]
["Fishing","K 0195","Crystal Lake (near Willow)",8,2,"Wave 1",0]
["Fishing","K 0196","Honeybee Lake",7,1,"Wave 1",0]
["Fishing","K 0203","Wolverine Lake",2,2,"Wave 1",0]
["Fishing","K 0205","Matanuska River",1,1,"Wave 2"]
["Fishing","K 0215","Weiner Lake",23,2,"Wave 1",0]
["Fishing","K 0221","Long Lake (Mile 85 Glenn Highway)",1,1,"Wave 2"]
["Fishing","K 0222","Lalen Lake",2,1,"Wave 1",0]
["Fishing","K 0223","Visnaw Lake",1,1,"Wave 2"]
["Fishing","K 0232","Wolf Lake",9,4,"Waves 1 and 2"]
["Fishing","K 0234","Fish Creek (Big Lake drainage)",10,1,"Wave 2"]
["Fishing","K 0235","Bonnie Lake (U)",25,3,"Waves 1 and 2"]
["Fishing","K 0244","Nancy Lake Rec System",2,1,"Wave 1",0]
["Fishing","K 0248","Lorraine Lake",1,1,"Wave 1",0]
["Fishing","K 0264","Figure Eight Lake",6,2,"Waves 1 and 2"]
["Fishing","K 0278","Canoe Lake (Kepler Lake Complex)",2,1,"Wave 2"]
["Fishing","K 0281","Kepler Lake (Kepler Lake Complex)",87,17,"Waves 1 and 2",1,0,61.554561614990199,-149.22016906738301]
["Fishing","K 0292","Silver Lake (Kepler Lake Complex)",4,1,"Wave 2"]
["Fishing","K 0294","Long Lake (Kepler Lake Complex)",7,2,"Wave 2"]
["Fishing","K 0311","Big Beaver Lake",45,2,"Waves 1 and 2",null,null,61.581299999999999,-149.83331000000001]
["Fishing","K 0316","Long Lake (near Willow, Nancy Lakes Rec System)",13,5,"Waves 1 and 2"]
["Fishing","K 0318","Knob Lake (Glenn Highway mile 119)",10,3,"Waves 1 and 2"]
["Fishing","K 0319","North Knob Lake (Glenn Highway mile 119)",3,1,"Wave 2"]
["Fishing","K 0456","Red Shirt Lake (Nancy Lakes Rec System)",26,3,"Waves 1 and 2"]
["Fishing","K 0461","Tanaina Lake (Nancy Lakes Rec System)",1,1,"Wave 2"]
["Fishing","K 0468","Jim Creek (into Knik River)",128,20,"Waves 1 and 2",1,0,61.525497436523402,-148.94075012207]
["Fishing","K 0469","Knik River",190,39,"Waves 1 and 2",1,0,61.476352691650398,-149.16229248046901]
["Fishing","L 0003","Jewel Lake",26,9,"Waves 1 and 2"]
["Fishing","L 0004","Campbell Point Lake (Beercan Lake)",5,1,"Wave 1",0]
["Fishing","L 0005","Sand Lake",86,7,"Waves 1 and 2",null,null,61.151119999999999,-149.96641]
["Fishing","L 0006","Lower Fire Lake",7,2,"Wave 2"]
["Fishing","L 0007","Mirror Lake",80,11,"Waves 1 and 2",null,null,61.425640000000001,-149.41399000000001]
["Fishing","L 0009","Clunie Lake (Fort Richardson)",7,2,"Waves 1 and 2"]
["Fishing","L 0011","Sixmile Lake (Elmendorf)",18,2,"Waves 1 and 2"]
["Fishing","L 0012","Green Lake (Elmendorf)",1,1,"Wave 2"]
["Fishing","L 0013","Hillberg Lake (Elmendorf)",2,1,"Wave 1",0]
["Fishing","L 0014","Ship Creek",380,55,"Waves 1 and 2",1,0,61.223453521728501,-149.88896179199199]
["Fishing","L 0015","Bird Creek",99,28,"Waves 1 and 2",1,0,60.973171234130902,-149.46659851074199]
["Fishing","L 0016","Campbell Creek",99,16,"Waves 1 and 2",null,null,61.12914,-149.96462]
["Fishing","L 0017","Twentymile River",46,14,"Waves 1 and 2",null,null,61.004089999999998," -148.87608"]
["Fishing","L 0018","Eagle River",10,1,"Wave 1",0]
["Fishing","L 0020","C Street Lake (Taku Lake, Taku Campbell Lake)",48,6,"Waves 1 and 2",null,null,61.151130000000002,-149.88215]
["Fishing","L 0021","Beach Lake",33,8,"Waves 1 and 2"]
["Fishing","L 0023","Baxter Lake (Cheney Lake)",42,8,"Waves 1 and 2",null,null,61.20326,-149.76130000000001]
["Fishing","L 0138","Delong Lake",64,6,"Waves 1 and 2",null,null,61.162399999999998,-149.95693]
["Fishing","L 0148","Glacier Creek (Girdwood)",4,1,"Wave 2"]
["Fishing","L 0158","Little Campbell Creek",5,1,"Wave 2"]
["Fishing","L 0168","Peters Creek",5,1,"Wave 2"]
["Fishing","L 0175","Portage Valley streams",4,1,"Wave 2"]
["Fishing","L 0177","Portage Lake",5,2,"Wave 2"]
["Fishing","L 0205","Fire Lake (Upper and Lower)",19,1,"Wave 2"]
["Fishing","L 0211","Sixmile Creek",25,6,"Waves 1 and 2"]
["Fishing","L 0213","Westchester Lagoon",2,1,"Wave 1",0]
["Fishing","L 0214","Birch Lake (South Anchorage)",47,12,"Waves 1 and 2",1,0,64.315200805664105,-146.646072387695]
["Fishing","L 0215","Lake Otis",1,1,"Wave 2"]
["Fishing","L 0217","Campbell Lake",5,1,"Wave 2"]
["Fishing","L 0218","Ingram Creek",18,3,"Wave 2"]
["Fishing","L 0226","Rabbit Lake",1,1,"Wave 2"]
["Fishing","L 0228","Symphony Lake",5,2,"Wave 2"]
["Fishing","L 0300","Anchorage bowl lakes",15,2,"Wave 1",0]
["Fishing","L 0725","Turnagain Arm (Shore)",8,4,"Waves 1 and 2"]
["Fishing","L 0736","Bird Creek Mouth (Boat)",10,1,"Wave 2"]
["Fishing","M 0004","Willow Creek",170,37,"Waves 1 and 2",1,1,61.775661468505902,-150.16227722168]
["Fishing","M 0005","Caswell Creek",13,3,"Wave 2"]
["Fishing","M 0006","Montana Creek",194,46,"Waves 1 and 2",1,1,62.104087829589801,-150.05830383300801]
["Fishing","M 0007","Sunshine Creek",32,6,"Waves 1 and 2",1,1,62.176109313964801,-150.12554931640599]
["Fishing","M 0009","Sheep Creek",36,9,"Wave 2"]
["Fishing","M 0114","Benka Lake",7,1,"Wave 2"]
["Fishing","M 0117","Birch Creek",30,4,"Waves 1 and 2"]
["Fishing","M 0119","Caswell Lake",2,1,"Wave 1",0]
["Fishing","M 0122","Clarence Lake",22,2,"Wave 2"]
["Fishing","M 0138","Goose Creek",1,1,"Wave 2"]
["Fishing","M 0141","Indian River (into Susitna)",34,2,"Waves 1 and 2"]
["Fishing","M 0143","Kashwitna River",180,21,"Waves 1 and 2",1,1,61.923683166503899,-150.07102966308599]
["Fishing","M 0168","Talkeetna lakes",7,4,"Wave 1",0]
["Fishing","M 0170","Talkeetna River",168,17,"Waves 1 and 2",1,1,62.327415466308601,-150.11204528808599]
["Fishing","M 0176","Sheep Creek Slough",2,1,"Wave 2"]
["Fishing","M 0177","Byers Lake",14,2,"Waves 1 and 2"]
["Fishing","M 0179","Byers Creek",16,4,"Waves 1 and 2"]
["Fishing","M 0180","Watana Lake",20,1,"Wave 2"]
["Fishing","M 0181","Troublesome Creek",36,6,"Waves 1 and 2"]
["Fishing","M 0183","Honolulu Creek",7,3,"Wave 2"]
["Fishing","M 0185","Twelvemile Lake",1,1,"Wave 1",0]
["Fishing","M 0186","Larson Creek",16,5,"Waves 1 and 2"]
["Fishing","M 0190","X and Y lakes (Talkeetna Lakes)",34,2,"Wave 2"]
["Fishing","M 0191","Christiansen Lake",9,4,"Wave 2"]
["Fishing","M 0210","Willow Lake",4,2,"Wave 1",0]
["Fishing","M 0223","Chulitna River",2,2,"Wave 2"]
["Fishing","M 0224","Little Oshetna River",4,2,"Waves 1 and 2"]
["Fishing","M 0226","Tigger Lake (Talkeetna lakes)",17,2,"Wave 2"]
["Fishing","M 0234","Chulitna River Middle Fork",25,4,"Wave 2"]
["Fishing","M 0242","Chulitna River East Fork",4,1,"Wave 1",0]
["Fishing","M 1003","Deshka River (Kroto Creek)",142,37,"Waves 1 and 2",1,1,61.695774078369098,-150.31443786621099]
["Fishing","M 1004","Lake Creek",74,9,"Waves 1 and 2",1,0,61.909877777099602,-150.90499877929699]
["Fishing","M 1007","Talachulitna River",14,3,"Waves 1 and 2",1,0,61.876220703125,-151.41416931152301]
["Fishing","M 1012","Shell Lake",6,1,"Wave 2"]
["Fishing","M 1017","Trapper Creek (U)",3,1,"Wave 2"]
["Fishing","M 1117","Alexander Creek",72,4,"Waves 1 and 2",null,null,61.414439999999999,-150.60033000000001]
["Fishing","M 1118","Alexander Lake",3,1,"Wave 1",0]
["Fishing","M 1159","Donkey Creek, Donkey Creek Slough",12,1,"Wave 1",0]
["Fishing","M 1170","Fish Creek (into Kroto Slough)",1,1,"Wave 2"]
["Fishing","M 1220","Peters Creek (Peters Creek Road)",42,5,"Waves 1 and 2",1,0,62.176944732666001,-150.87777709960901]
["Fishing","M 1225","Rabideux Creek",5,2,"Wave 2"]
["Fishing","M 1239","Skwentna River",76,1,"Wave 1",0]
["Fishing","M 1263","Trapper Creek (into Kroto Creek)",10,1,"Wave 2"]
["Fishing","M 1277","Yentna River",19,7,"Waves 1 and 2"]
["Fishing","M 1278","Moose Creek (Deshka-Oilwell Rd)",6,2,"Wave 2"]
["Fishing","M 1301","Amber Lake",12,3,"Wave 2"]
["Fishing","M 1337","Trail Lake",2,1,"Wave 2"]
["Fishing","M 1338","Happy River",2,1,"Wave 2"]
["Fishing","M 1370","Scottie Lake",4,1,"Wave 2"]
["Fishing","M 1936","Red Lake",2,1,"Wave 1",0]
["Fishing","M 3010","Lake Louise (off Glenn Highway)",1,1,"Wave 2"]
["Fishing","M 3011","Susitna Lake",43,4,"Wave 2",null,null,62.376100000000001,-146.65965]
["Fishing","M 3012","Tyone Lake",20,1,"Wave 2"]
["Fishing","M 3128","Butte Lake",9,3,"Waves 1 and 2"]
["Fishing","M 3138","Clearwater Creek (Denali Highway)",54,15,"Waves 1 and 2",1,0,62.199165344238303,-151.60777282714801]
["Fishing","M 3296","Tyone River",22,2,"Waves 1 and 2"]
["Fishing","M 3301","Valdez Creek",1,1,"Wave 2"]
["Fishing","M 3307","Windy Creek",6,2,"Waves 1 and 2"]
["Fishing","M 3331","Boulder Creek (Denali Highway)",2,1,"Wave 2"]
["Fishing","M 3426","Butte Creek",2,1,"Wave 1",0]
["Fishing","M 3457","Snodgrass Lake",2,1,"Wave 2"]
["Fishing","M 3487","Denali Highway streams and lakes",12,4,"Waves 1 and 2"]
["Fishing","N 0001","Western Cook Inlet Other Saltwater Areas (Boat)",19,1,"Wave 1",0]
["Fishing","N 0006","Polly Creek",1,1,"Wave 2"]
["Fishing","N 0122","Beluga Lake",6,2,"Waves 1 and 2"]
["Fishing","N 0150","Coal Creek (into Beluga Lake)",2,1,"Wave 1",0]
["Fishing","N 0155","Crescent Lake",5,2,"Wave 2"]
["Fishing","N 0186","Kustatan River",1,1,"Wave 2"]
["Fishing","N 0201","McArthur River",13,3,"Waves 1 and 2"]
["Fishing","N 0237","Silver Salmon Creek",6,1,"Wave 2"]
["Fishing","N 0284","Red Creek (into Johnson River)",7,1,"Wave 2"]
["Fishing","N 0756","Iliamna Bay (Boat)",6,1,"Wave 2"]
["Fishing","NEI 991","Cook Inlet- Kenai",181,59,"Waves 1 and 2",1,0,60.030529022216797,-151.68054199218801]
["Fishing","NEI 993","Cook Inlet- Anchor Point",154,50,"Waves 1 and 2",1,0,59.774120330810497,-151.86737060546901]
["Fishing","NEI 994","Cook Inlet- Ninlichik",78,25,"Waves 1 and 2",1,0,60.0528373718262,-151.66656494140599]
["Fishing","NEI 997","Cook Inlet- Seldovia",48,5,"Wave 2",null,null,59.438049999999997,-151.71137999999999]
["Fishing","NEI J 07413","Prince William Sound- Whittier",660,112,"Waves 1 and 2",1,0,60.776992797851598,-148.68948364257801]
["Fishing","NEI J 07414","Prince William Sound- Cordova",1147,210,"Waves 1 and 2",1,0,61.1241455078125,-146.36213684082]
["Fishing","NEI J 07415","Prince William Sound- Seward",53,18,"Waves 1 and 2",null,null,60.10416,-149.44221999999999]
["Fishing","NEI P10791","Resurrection Bay (Seward) -Boat/Shore & Charter/Non Charter unspecified",845,221,"Waves 1 and 2",1,0,60.115997314453097,-149.43943786621099]
["Fishing","NEI P60001","Kenai River - (Cook Inlet to Soldotna Bridge)",2282,430,"Waves 1 and 2",1,0,60.481906890869098,-151.09878540039099]
["Fishing","NEI P60002","Kenai River - (Soldotna Bridge to Moose R)",260,38,"Wave 2",null,null,60.474829999999997,-150.92377999999999]
["Fishing","NEI P60003","Kenai River - (Moose R to Skilak Outlet)",255,31,"Wave 2",null,null,60.490499999999997,-150.6447]
["Fishing","NEI P60004","Kenai River - (Skilak Inlet to Kenai Lake)",365,83,"Waves 1 and 2",1,0,60.486488342285199,-150.00260925293]
["Fishing","P 10730",null,20,1,"Wave 2"]
["Fishing","P00007","Deep Creek",16,8,"Wave 2"]
["Fishing","P00010","Kasilof River (guided, private, boat, bank not specified)",298,91,"Waves 1 and 2",1,0,60.386516571044901,-151.29525756835901]
["Fishing","P00138","Chickaloon River",5,1,"Wave 1",0]
["Fishing","P00145","Cooper Lake",18,3,"Waves 1 and 2"]
["Fishing","P00147","Crescent Lake",5,3,"Waves 1 and 2"]
["Fishing","P00159","Fish Lake",4,1,"Wave 1",0]
["Fishing","P00160","Forest Lake",1,1,"Wave 1",0]
["Fishing","P00162","Funny River",4,1,"Wave 2"]
["Fishing","P00178","Johnson Lake",5,1,"Wave 1",0]
["Fishing","P00183","Kenai Lake",7,4,"Waves 1 and 2"]
["Fishing","P00184","Kenai River (reach and guided/non-guided not specified)",618,160,"Waves 1 and 2",1,0,60.492595672607401,-149.82261657714801]
["Fishing","P00196","Russian Lake - Lower",2,1,"Wave 2"]
["Fishing","P00204","Moose River",7,4,"Waves 1 and 2"]
["Fishing","P00207","Ohmer Lake (Upper and Lower)",4,1,"Wave 1",0]
["Fishing","P00218","Quartz Creek",37,12,"Waves 1 and 2"]
["Fishing","P00228","Skilak Lake",26,5,"Waves 1 and 2"]
["Fishing","P00235","Summit Lake",39,12,"Waves 1 and 2"]
["Fishing","P00244","Tustumena Lake",4,1,"Wave 2"]
["Fishing","P00261","Resurrection Creek (near Hope)",14,3,"Waves 1 and 2"]
["Fishing","P00264","Trail River",8,1,"Wave 1",0]
["Fishing","P00275","Caribou Lake",3,1,"Wave 1",0]
["Fishing","P00276","Seldovia River",4,1,"Wave 2"]
["Fishing","P00304","Echo Lake",10,1,"Wave 1",0]
["Fishing","P00311","Clear Creek",38,13,"Waves 1 and 2",1,1,62.369998931884801,-150.00889587402301]
["Fishing","P00312","Homer Water Reservoir (Bridge Creek Reservoir)",1,1,"Wave 2"]
["Fishing","P00315","China Poot Creek",2,1,"Wave 2"]
["Fishing","P00334","Swanson River",5,1,"Wave 2"]
["Fishing","P00351","Seattle Creek",2,1,"Wave 1",0]
["Fishing","P00418","Lost Lake (Swanson River Canoe Route Lake)",3,1,"Wave 2"]
["Fishing","P00435","Swanson Lake (Swanson River Canoe Route Lake)",8,3,"Waves 1 and 2"]
["Fishing","P00465","Loon Lake (Swan Lake Canoe System)",2,1,"Wave 1",0]
["Fishing","P00551","Rocky Lake",3,1,"Wave 1",0]
["Fishing","P10730","Whiskey Gulch Area - Boat (non-charter)",4,2,"Waves 1 and 2"]
["Fishing","P10734","Halibut Cove (Kachemak Bay-Homer) - Boat (non-charter)",4,2,"Waves 1 and 2"]
["Fishing","P10736","Ninilchik River (Mouth) - Boat (non-charter)",2,2,"Wave 2"]
["Fishing","P10746","Seldovia Bay - Boat (non-charter)",13,2,"Wave 2"]
["Fishing","P10776","Clam Gluch- Shoreline/ Boat & Charter/Non-charter Unspecified",21,4,"Waves 1 and 2",1,0,60.239425659179702,-151.40087890625]
["Fishing","P10778","China Poot Bay - Boat (non-charter)",1,1,"Wave 2"]
["Fishing","P10806","Port Graham - Boat (non-charter)",9,1,"Wave 2"]
["Fishing","P10842","Harris Bay - Boat (non-charter)",2,1,"Wave 1",0]
["Fishing","P10874","Day Harbor - Boat (non-charter)",15,2,"Wave 2"]
["Fishing","P10880","Pony Cove - Boat (non-charter)",1,1,"Wave 2"]
["Fishing","P60795","Deep Creek Area - Shoreline (charter)",1,1,"Wave 2"]
["Fishing","P60930","Puget Bay - Boat (charter)",1,1,"Wave 2"]
["Fishing","P60958","Fox Island (Boat)",1,1,"Wave 2"]
["Fishing","P61003","Kachemak Bay",703,191,"Waves 1 and 2",1,0,59.607681274414098,-151.43119812011699]
["Fishing","Q 0003","Buskin River",10,2,"Waves 1 and 2"]
["Fishing","Q 0114","American River",8,2,"Wave 1",0]
["Fishing","Q 0163","Olds River",5,1,"Wave 1",0]
["Fishing","Q 0175","Roslyn Creek",16,1,"Wave 2"]
["Fishing","Q 0194","Uganik River",3,1,"Wave 2"]
["Fishing","Q 0232","Lake Louise",139,17,"Waves 1 and 2",1,0,62.287868499755902,-146.54170227050801]
["Fishing","Q 0722","Old Harbor (Boat)",8,2,"Waves 1 and 2",1,0,57.7856254577637,-152.40798950195301]
["Fishing","Q 0738","Kalsin Bay (Boat)",7,1,"Wave 2"]
["Fishing","Q 0798","Raspberry Strait (Boat) - Afognak Island",10,1,"Wave 2"]
["Fishing","Q 0822","Olga Bay (Boat)",6,1,"Wave 1",0]
["Fishing","Q 0902","Kazakof Bay (Boat) - Afognak Island",7,1,"Wave 2"]
["Fishing","R 0001","Cold Bay Area (Boat)",2,2,"Waves 1 and 2"]
["Fishing","R 0007","Naknek River and Tributaries",2,1,"Wave 2"]
["Fishing","R 0009","Naknek Lake",1,1,"Wave 2"]
["Fishing","R 0143","King Salmon Creek (by King Salmon, Naknek drainage)",1,1,"Wave 2"]
["Fishing","R 0198","Dutch Harbor streams",7,1,"Wave 2"]
["Fishing","R 0202","Ugashik Lake Narrows",4,2,"Wave 2"]
["Fishing","R 0203","Ugashik River",6,1,"Wave 2"]
["Fishing","R 0275","Naknek River (Rapids Camp upstream to Naknek Lk,incl trib)",4,1,"Wave 2"]
["Fishing","R 0279","Naknek River (dwnstream frm Rapids Camp incl trib)",22,2,"Wave 2"]
["Fishing","R 0333","Frosty Creek (Cold Bay)",2,1,"Wave 1",0]
["Fishing","R 0767","Sand Point (Shore)",10,1,"Wave 2"]
["Fishing","R 0872","Katmai Bay (Boat)",3,1,"Wave 1",0]
["Fishing","R 0884","Ugashik Bay (Boat)",7,2,"Wave 2"]
["Fishing","S 0003","Kvichak River",63,2,"Waves 1 and 2",1,0,59.317783355712898,-156.07043457031199]
["Fishing","S 0007","Newhalen River",2,2,"Wave 2"]
["Fishing","S 0009","Lake Clark",39,2,"Waves 1 and 2"]
["Fishing","S 0152","Sixmile Lake",5,1,"Wave 1",0]
["Fishing","S 0183","Kukaklek River (Big Ku) (into Alagnak)",2,1,"Wave 1",0]
["Snowmachine","Snow 1","7 Mile Lake Trails-Skilak",11,2,"Wave 1",0]
["Snowmachine","Snow 10","Canwell Glacier-Miller Creek",3,1,"Wave 1",0]
["Snowmachine","Snow 100","Yentna to Skwentna-Yentna",12,3,"Waves 1 and 2",1,0,61.968170166015597,-151.22050476074199]
["Snowmachine","Snow 101","Anchorage",11,1,"Wave 2"]
["Snowmachine","Snow 102","Delta Junction",1,1,"Wave 2"]
["Snowmachine","Snow 103","Parks Highway--Byers Lake",30,1,"Wave 2",1,null,62.738700000000001,-150.11812]
["Snowmachine","Snow 104","Point Mackenzie",6,1,"Wave 2"]
["Snowmachine","Snow 105","Kodiak",1,1,"Wave 2"]
["Snowmachine","Snow 106","Norton Sound--Shaktoolik",42,1,"Wave 2",0]
["Snowmachine","Snow 107","Tonsina",16,2,"Wave 2",1,null,61.655830000000002,-145.17527000000001]
["Snowmachine","Snow 108","Fairbanks-Wickersham Trailhead",3,2,"Wave 2"]
["Snowmachine","Snow 109","Fairbanks-Fox",5,1,"Wave 2"]
["Snowmachine","Snow 11","Chatanika-Elliot Highway",33,4,"Wave 1",1,0,65.076225280761705,-147.74337768554699]
["Snowmachine","Snow 110","Fairbanks-Fort Greely",2,2,"Wave 2"]
["Snowmachine","Snow 111","Chistochina",30,1,"Wave 2",1,null,62.564999999999998,-144.66471999999999]
["Snowmachine","Snow 112","Chitina",272,2,"Wave 2",1,null,61.515830000000001,-144.43693999999999]
["Snowmachine","Snow 113","Fort Yukon",200,1,"Wave 2",1,null,66.567340000000002,-145.25134]
["Snowmachine","Snow 114","Petersville-Unspecified",44,2,"Wave 2",1,null,62.496380000000002,150.76554999999999]
["Snowmachine","Snow 115","Seward",3,2,"Wave 2"]
["Snowmachine","Snow 116","Kenai-National Wildlife Refuge",1,1,"Wave 2"]
["Snowmachine","Snow 117","Valdez",30,1,"Wave 2",1,null,61.130830000000003,-146.34833]
["Snowmachine","Snow 12","Chena Flood Control-North Pole",64,4,"Wave 1",1,0,64.72705078125,-147.23379516601599]
["Snowmachine","Snow 13","Chena Hot Springs",51,8,"Waves 1 and 2",1,0,65.055473327636705,-146.05929565429699]
["Snowmachine","Snow 14","Chena Lakes-North Pole",23,5,"Wave 1",1,0,64.77685546875,-147.234939575195]
["Snowmachine","Snow 15","Chena River State Recreation Area-North Pole",121,7,"Waves 1 and 2",1,0,64.762428283691406,-147.34812927246099]
["Snowmachine","Snow 16","Chickaloon",7,3,"Wave 1",0]
["Snowmachine","Snow 17","Copper River Valley-Glennallen",46,10,"Waves 1 and 2",1,null,62.109720000000003,-145.5573]
["Snowmachine","Snow 19","Denali Highway-Central",14,4,"Waves 1 and 2"]
["Snowmachine","Snow 20","Denali Highway-Paxson",45,9,"Waves 1 and 2",1,0,63.030006408691399,-145.49751281738301]
["Snowmachine","Snow 21","Denali National Park-Cantwell",2,1,"Wave 1",0]
["Snowmachine","Snow 22","Drill Lake-Chickaloon",35,1,"Wave 1",1,0,61.795711517333999,-148.51165771484401]
["Snowmachine","Snow 23","Dry Creek SRA- Gulkana",1,1,"Wave 1",0]
["Snowmachine","Snow 24","Eagle River Valley",6,1,"Wave 1",0]
["Snowmachine","Snow 25","Eureka",91,20,"Waves 1 and 2",1,0,61.938014984130902,-147.17449951171901]
["Snowmachine","Snow 26","Eyak Mountain-Cordova",4,1,"Wave 1",0]
["Snowmachine","Snow 27","Fairbanks",116,21,"Waves 1 and 2",1,0,65.046928405761705,-147.43756103515599]
["Snowmachine","Snow 29","Funny River Road-Kenai",3,1,"Wave 1",0]
["Snowmachine","Snow 3","Bethel",30,1,"Wave 1",0]
["Snowmachine","Snow 30","Gakona",6,3,"Waves 1 and 2"]
["Snowmachine","Snow 31","Girdwood",6,2,"Wave 1",0]
["Snowmachine","Snow 32","Gunsight Mountain",3,2,"Wave 1",0]
["Snowmachine","Snow 34","Hatcher Pass-Palmer Side",98,23,"Waves 1 and 2",1,0,61.7781372070312,-149.19735717773401]
["Snowmachine","Snow 36","Hatcher Pass-Willow Side",21,4,"Waves 1 and 2",1,0,61.710823059082003,-150.018966674805]
["Snowmachine","Snow 37","Healy Lake--Cummings Rd",4,1,"Wave 1",0]
["Snowmachine","Snow 38","Hoodoo Mountains-Paxson",135,23,"Waves 1 and 2",1,0,63.2016410827637,-145.51208496093801]
["Snowmachine","Snow 39","Houston",1,1,"Wave 1",0]
["Snowmachine","Snow 4","Bettles",30,1,"Wave 1",0]
["Snowmachine","Snow 40","Johnson Pass-Kenai Peninsula",1,1,"Wave 1",0]
["Snowmachine","Snow 41","Kashwitna River-Eagles Nest",10,1,"Wave 1",0]
["Snowmachine","Snow 42","Kenai-Unspecified",3,1,"Wave 1",0]
["Snowmachine","Snow 43","King River",18,2,"Wave 1",1,null,61.777279999999998,-148.63890000000001]
["Snowmachine","Snow 44","Klutina Lake",4,1,"Wave 1",0]
["Snowmachine","Snow 45","Knik Goose Bay Road",11,4,"Waves 1 and 2"]
["Snowmachine","Snow 46","Knik River",6,2,"Waves 1 and 2"]
["Snowmachine","Snow 47","Lake Louise",160,17,"Waves 1 and 2",1,0,62.2761421203613,-146.51313781738301]
["Snowmachine","Snow 48","Long Lake--Willow",3,2,"Waves 1 and 2"]
["Snowmachine","Snow 49","Loss Lake--Cooper Landing",1,1,"Wave 1",0]
["Snowmachine","Snow 5","Big Lake",84,25,"Waves 1 and 2",1,0,61.547088623046903,-149.85511779785199]
["Snowmachine","Snow 50","Lost Lake Trail-Seward",6,3,"Waves 1 and 2",1,0,60.340629577636697,-149.36869812011699]
["Snowmachine","Snow 51","Manley Hot Springs",23,1,"Wave 1",1,0,65.006927490234403,-150.61680603027301]
["Snowmachine","Snow 52","Matanuska River",3,1,"Wave 1",0]
["Snowmachine","Snow 53","McCarthy",2,1,"Wave 1",0]
["Snowmachine","Snow 54","Meadow Lakes-Wasilla",3,1,"Wave 1",0]
["Snowmachine","Snow 55","Mt. Baldy-Shrock Road",10,1,"Wave 1",0]
["Snowmachine","Snow 57","Nabesna Area",3,1,"Wave 1",0]
["Snowmachine","Snow 58","Nancy Lakes",64,11,"Waves 1 and 2",1,0,61.6748237609863,-150.09436035156199]
["Snowmachine","Snow 6","Birch Creek-Steese Highway",6,2,"Wave 1",0]
["Snowmachine","Snow 60","Palmer",60,4,"Waves 1 and 2",1,null,61.599719999999998,-149.11277000000001]
["Snowmachine","Snow 61","Paxson Lake--Pipeline Access Road",4,1,"Wave 1",0]
["Snowmachine","Snow 62","Petersville-East Susitna Side",4,1,"Wave 1",0]
["Snowmachine","Snow 63","Petersville-Talkeetna",11,3,"Waves 1 and 2"]
["Snowmachine","Snow 64","Petersville-West Susitna Side",343,34,"Waves 1 and 2",1,0,62.336727142333999,-150.56307983398401]
["Snowmachine","Snow 65","Portage/Placer Rivers",25,5,"Waves 1 and 2",1,0,60.819007873535199,-148.97549438476599]
["Snowmachine","Snow 66","Powerline Pass- Glen Alps Anchorage",5,2,"Wave 1",0]
["Snowmachine","Snow 67","Quartz Lake Winter Trail- Valdez",4,1,"Wave 1",0]
["Snowmachine","Snow 68","Resurrection Pass Trail-Cooper Landing",3,1,"Wave 1",1,0,60.484375,-149.95362854003901]
["Snowmachine","Snow 69","Rex Trail- Nenana",48,3,"Waves 1 and 2",1,0,64.571861267089801,-149.11529541015599]
["Snowmachine","Snow 7","Birch Lake-Delta Junction",1,1,"Wave 1",0]
["Snowmachine","Snow 70","Salcha Winter Trail- Salcha",42,7,"Wave 1",1,0,64.455024719238295,-146.91278076171901]
["Snowmachine","Snow 71","Sheep Creek-Sheep Creek Lodge",10,1,"Wave 1",0]
["Snowmachine","Snow 72","Shishmaref",2,1,"Wave 1",0]
["Snowmachine","Snow 73","Skwentna",1,1,"Wave 1",0]
["Snowmachine","Snow 74","Skwentna River--Deshka Landing",66,2,"Waves 1 and 2",1,0]
["Snowmachine","Snow 75","Susitna North-Denali",3,1,"Wave 1",0]
["Snowmachine","Snow 76","Susitna River (Lower)- West Side Residence",2,1,"Wave 1",0]
["Snowmachine","Snow 77","Susitna River-Deshka Landing",40,8,"Waves 1 and 2",1,1,61.721553802490199,-150.20147705078099]
["Snowmachine","Snow 78","Susitna River-Susitna Landing",4,1,"Wave 1",1,0,61.912769317627003,-150.09852600097699]
["Snowmachine","Snow 79","Susitna River-The Preserve",8,1,"Wave 1",0]
["Snowmachine","Snow 8","Cache Creek/Ester-Cache Creek",3,1,"Wave 1",0]
["Snowmachine","Snow 80","Sutton",7,4,"Wave 1",0]
["Snowmachine","Snow 81","Talkeetna Area-Talkeetna",168,18,"Waves 1 and 2",1,0,62.1775512695312,-150.026779174805]
["Snowmachine","Snow 82","Tanana Flats-Chena Pump",12,4,"Wave 1",0]
["Snowmachine","Snow 83","Taylor Mountain-Taylor Highway",7,2,"Wave 1",0]
["Snowmachine","Snow 84","Tetlin Refuge",6,1,"Wave 1",0]
["Snowmachine","Snow 85","Thompson Pass",16,5,"Waves 1 and 2",1,null,61.128610000000002,-145.72971999999999]
["Snowmachine","Snow 86","Tok Area",55,7,"Waves 1 and 2",1,0,63.311164855957003,-142.60275268554699]
["Snowmachine","Snow 88","Trading Bay-West Cook Inlet",14,1,"Wave 1",0]
["Snowmachine","Snow 89","Trapper Creek",98,10,"Waves 1 and 2",1,0,62.404949188232401,-150.257568359375]
["Snowmachine","Snow 9","Cantwell",126,17,"Waves 1 and 2",1,0,63.389972686767599,-148.90182495117199]
["Snowmachine","Snow 90","Turnagain Pass",103,27,"Waves 1 and 2",1,0,60.750595092773402,-149.25076293945301]
["Snowmachine","Snow 91","Uncodeable",66,7,"Waves 1 and 2"]
["Snowmachine","Snow 92","Wales",2,1,"Wave 1",0]
["Snowmachine","Snow 93","Wasilla",26,7,"Waves 1 and 2",1,0,61.592582702636697,-149.33050537109401]
["Snowmachine","Snow 95","White Mountains-Wickersham",57,11,"Waves 1 and 2",1,0,65.221275329589801,-147.16650390625]
["Snowmachine","Snow 96","Whittier",16,4,"Waves 1 and 2",1,null,60.773049999999998,-148.68387999999999]
["Snowmachine","Snow 97","Willow Area Trails-Willow",140,24,"Waves 1 and 2",1,0,61.713546752929702,-150.12283325195301]
["Snowmachine","Snow 98","Willow Lakes",7,2,"Wave 1",0]
["Snowmachine","Snow 99","Winter Trail-Quartz Lake Access",3,1,"Wave 1",0]
["Fishing","T 0003","Nushagak River system (incl. Harris Creek, King Salmon R.)",38,7,"Waves 1 and 2",1,0,59.346378326416001,-157.47865295410199]
["Fishing","T 0004","Wood River lakes system",3,1,"Wave 2"]
["Fishing","T 0007","Mulchatna River",3,1,"Wave 2"]
["Fishing","T 0112","Aleknagik Lake",4,1,"Wave 2"]
["Fishing","T 0119","Snake Lake (Nunavaugaluk Lake)",2,1,"Wave 2"]
["Fishing","T 0120","Stuyahok River",5,1,"Wave 2"]
["Fishing","T 0132","Pungokepuk Creek",8,1,"Wave 2"]
["Fishing","T 0170","Tikchik River (Tikchik-Nuyakuk Lake system)",7,1,"Wave 2"]
["Fishing","T 0181","Sunshine Creek",4,2,"Wave 2"]
["Fishing","T 0200","Wood River",1,1,"Wave 2"]
["Fishing","U 0001","Chena River - Upper (including South Fork)",18,5,"Waves 1 and 2"]
["Fishing","U 0002","Chena River - Lower (including Badger Slough)",168,34,"Waves 1 and 2",1,0,64.902160644531193,-147.360763549805]
["Fishing","U 0004","Chatanika River (reach unspecified)",32,7,"Waves 1 and 2"]
["Fishing","U 0005","Salcha River",74,8,"Waves 1 and 2",1,0,64.469779968261705,-146.93013000488301]
["Fishing","U 0006","Delta Clearwater",28,10,"Waves 1 and 2"]
["Fishing","U 0008","Goodpaster River",14,3,"Waves 1 and 2"]
["Fishing","U 0010","Quartz Lake",63,18,"Waves 1 and 2",1,0,64.199012756347699,-145.82728576660199]
["Fishing","U 0011","George Lake",10,5,"Waves 1 and 2"]
["Fishing","U 0013","Fielding Lake",16,4,"Waves 1 and 2"]
["Fishing","U 0014","Minto Flats (all lakes and rivers of Minto Flats)",5,3,"Wave 2"]
["Fishing","U 0015","Tangle lakes and Tangle River",82,24,"Waves 1 and 2",1,0,63.044673919677699,-146.02679443359401]
["Fishing","U 0017","Delta River (below Tangle lakes)",22,5,"Waves 1 and 2"]
["Fishing","U 0018","Chena lakes (Rec Area)",187,18,"Waves 1 and 2",1,0,64.768836975097699,-147.22276306152301]
["Fishing","U 0101","Chena River - North Fork",20,1,"Wave 2"]
["Fishing","U 0130","Blair lakes",2,1,"Wave 2"]
["Fishing","U 0133","Bolio Lake (Meadows Road)",6,2,"Wave 2"]
["Fishing","U 0137","Brushkana Creek",13,6,"Waves 1 and 2"]
["Fishing","U 0146","Clearwater Creek (U)",10,1,"Wave 1",0]
["Fishing","U 0159","Donna Lake",5,1,"Wave 1",0]
["Fishing","U 0166","Eielson Air Force Base lakes",10,1,"Wave 1",0]
["Fishing","U 0173","Fivemile Clearwater",8,1,"Wave 2"]
["Fishing","U 0177","Fourmile Lake (Taylor Highway)",5,1,"Wave 1",0]
["Fishing","U 0186","Bathing Beauty Pond",23,7,"Waves 1 and 2"]
["Fishing","U 0188","Grayling Lake (Eielson AFB)",17,2,"Waves 1 and 2"]
["Fishing","U 0189","Harding Lake",28,10,"Waves 1 and 2"]
["Fishing","U 0194","Jack Creek (into Nabesna River)",2,1,"Wave 2"]
["Fishing","U 0195","Jack River (into Nenana)",58,6,"Waves 1 and 2",null,null,64.556550000000001,-149.11193]
["Fishing","U 0196","Jan Lake",2,1,"Wave 2"]
["Fishing","U 0199","Julius Creek",1,1,"Wave 1",0]
["Fishing","U 0213","Little Chena River",2,1,"Wave 1",0]
["Fishing","U 0215","Little Harding Lake",2,1,"Wave 2"]
["Fishing","U 0216","Little Tok River",5,2,"Wave 2"]
["Fishing","U 0218","Little Lost Lake (near Quartz Lake)",6,1,"Wave 1",0]
["Fishing","U 0221","Mark Lake (Meadows Road)",10,1,"Wave 2"]
["Fishing","U 0228","Mineral Lake (into Station Creek)",2,1,"Wave 2"]
["Fishing","U 0267","Seattle Creek (Denali Highway)",2,1,"Wave 1",0]
["Fishing","U 0275","Tanana River (reach unspecified)",105,15,"Waves 1 and 2",null,null,64.818259999999995,-147.90279000000001]
["Fishing","U 0278","Tatalina River",1,1,"Wave 2"]
["Fishing","U 0279","Tatlanika River",5,1,"Wave 1",0]
["Fishing","U 0283","Thirtymile Slough",8,2,"Waves 1 and 2"]
["Fishing","U 0293","Washington Creek",1,1,"Wave 2"]
["Fishing","U 0295","West Twin Lake (West of Kantishna River)",2,1,"Wave 2"]
["Fishing","U 0305","Fish Creek (Mile 297 Parks Highway near Nenana)",1,1,"Wave 2"]
["Fishing","U 0318","Tangle River",2,1,"Wave 1",0]
["Fishing","U 0319","Piledriver Slough (including Moose Creek)",11,2,"Wave 2"]
["Fishing","U 0331","Hidden Lake (Eielson AFB)",5,1,"Wave 2"]
["Fishing","U 0345","Manley Hot Springs (streams)",4,1,"Wave 2"]
["Fishing","U 0347","Chena Hot Springs Road ponds",18,6,"Waves 1 and 2"]
["Fishing","U 0408","Dune Lake",10,1,"Wave 2"]
["Fishing","U 0413","Moose Creek (into Nenana)",10,1,"Wave 2"]
["Fishing","U 0455","Steese Highway Mile 36.6 Pit",3,1,"Wave 2"]
["Fishing","U 0456","Moose Lake (Eielson AFB)",5,1,"Wave 1",0]
["Fishing","U 0542","Backdown Lake (Coal Mine Road)",1,1,"Wave 1",0]
["Fishing","U 0544","Coal Mine Lake (Coal Mine Road)",17,3,"Wave 2"]
["Fishing","U 0576","Pass Creek (near Cantwell)",2,1,"Wave 2"]
["Fishing","U 0587","Olnes Pond",2,1,"Wave 2"]
["Fishing","U 0588","Chena River (reach unspecified)",60,15,"Waves 1 and 2",null,null,64.923320000000004,-146.32517999999999]
["Fishing","U 0589","Mansfield Creek",5,1,"Wave 2"]
["Fishing","U 0613","Chatanika River - Lower (below Elliot Highway, incl. tribs)",58,18,"Waves 1 and 2",null,null,65.082319999999996,-147.72748000000001]
["Fishing","U 0620","Ballaine Lake (Fairbanks)",7,3,"Wave 2"]
["Fishing","U 0628","Mullins Pit (Eielson AFB)",5,1,"Wave 1",0]
["Fishing","U 0993","North Pole Pond (Beaver Lake)",4,1,"Wave 2"]
["Fishing","U 1008","Bear Lake (Eielson AFB)",5,1,"Wave 1",0]
["Fishing","U 1025","Fish Creek (Denali Highway near Cantwell)",101,10,"Waves 1 and 2",null,null,63.387169999999998,-148.89778999999999]
["Fishing","U 1026","Clearwater Lake (Delta Junction)",6,2,"Wave 1",0]
["Fishing","U 1050","Chena River - below dam",9,2,"Wave 2"]
["Fishing","U 1054","Soule Lake",12,2,"Waves 1 and 2"]
["Fishing","U 1056","Twin Lakes (Nabesna Road))",2,1,"Wave 2"]
["Fishing","V 0003","Kanektok River (Quinhagak, Chosen)",8,1,"Wave 2"]
["Fishing","V 0006","Holitna River",2,1,"Wave 2"]
["Fishing","V 0017","Kuskokwim River - reach not specified",9,2,"Wave 1",0]
["Fishing","V 0051","Takotna River",4,1,"Wave 2"]
["Fishing","V 0068","Stony River",1,1,"Wave 2"]
["Fishing","V 0092","Goodnews Lake",14,1,"Wave 1",0]
["Fishing","V 0278","Salmon River (Aniak drainage)",2,1,"Wave 2"]
["Fishing","V 0310","Kuskokwim River drainages below and including Aniak River",4,1,"Wave 2"]
["Fishing","W 0003","Unalakleet River",3,2,"Waves 1 and 2"]
["Fishing","W 0004","Nome River",32,3,"Waves 1 and 2"]
["Fishing","W 0012","Snake River",16,1,"Wave 1",0]
["Fishing","W 0022","Sinuk River",11,3,"Waves 1 and 2"]
["Fishing","W 0041","Shaktoolik River",9,1,"Wave 2"]
["Fishing","W 0094","North River (into Unalakleet River)",6,1,"Wave 1",0]
["Fishing","W 0112","Fish River",5,1,"Wave 1",0]
["Fishing","W 0113","Niukluk River (reach unspecified)",5,1,"Wave 1",0]
["Fishing","W 0722","Nome Area (Boat)",1,1,"Wave 2"]
["Fishing","X 0003","Noatak River",6,2,"Wave 2"]
["Fishing","X 0004","Kobuk River",22,3,"Waves 1 and 2"]
["Fishing","X 0070","Kogoluktuk River (into Kobuk River)",3,1,"Wave 1",0]
["Fishing","Y 0015","Jim River (Dalton Highway)",42,14,"Waves 1 and 2",1,0,66.563316345214801,-145.27471923828099]
["Fishing","Y 0021","Wind River",3,1,"Wave 2"]
["Fishing","Y 0024","Porcupine River drainage",50,1,"Wave 2"]
["Fishing","Y 0054","Chandalar River - North Fork",11,1,"Wave 2"]
["Fishing","Y 0064","Koyukuk River - Middle Fork (Dalton Highway)",7,1,"Wave 2"]
["Fishing","Y 0094","Dall River (Dahl River)",2,1,"Wave 2"]
["Fishing","Y 0111","Kobuk Lake",1,1,"Wave 2"]
["Fishing","Y 0147","Andreafsky River",4,1,"Wave 1",0]
["Fishing","Y 0148","Anvik River",5,1,"Wave 2"]
["Fishing","Y 0174","Fortymile River",4,1,"Wave 2"]
["Fishing","Y 0180","Hess Creek (near Dalton Highway)",2,1,"Wave 2"]
["Fishing","Y 0247","Yukon River drainages below Koyukuk River",1,1,"Wave 2"]
["Fishing","Y 0248","Yukon River - Fort Yukon to Koyukuk River",91,2,"Wave 2",null,null,65.171260000000004,-152.03437]
["Fishing","Y 0264","Slate Creek (Dalton Highway)",1,1,"Wave 2"]
["Fishing","Y 0400","Kanuti River (accessed from Dalton Highway)",1,1,"Wave 2"]
["Fishing","Y 0410","Koyukuk R. - Middle Fork (accessed from Dalton Highway)",15,1,"Wave 2"]
["Fishing","Y 0420","Koyukuk R. - South Fork (accessed from Dalton Highway)",5,1,"Wave 2"]
["Fishing","Z 0022","Ivishak River (Dalton Highway)",10,2,"Waves 1 and 2"]
["Fishing","Z 0066","Kuparuk River (Dalton Highway)",20,1,"Wave 1",0]
["Fishing","Z 0076","Sagavanirktok River (Dalton Highway)",4,1,"Wave 2"]
["Hunting","HTNG124","Prince of Wales Island",17,3,"Wave 1",0,0,0,0]
["Hunting","HTNG283","Wrangell-Wrangell",6,1,"Wave 2",0,0,0,0]
["Hunting","HTNG139","Sitka-Indian River Road",3,1,"Wave 1",0,0,0,0]
["Hunting","HTNG3","Admiralty Island-Angoon",6,1,"Wave 1",0,0,0,0]
["Hunting","HTNG129","Resurrection Pass",3,1,"Wave 1",1,0,60.878826141357401,-149.63026428222699]
["Hunting","HTNG130","Resurrection Pass-Hope",9,4,"Waves 1 and 2",1,0,60.878826141357401,-149.63026428222699]
["Hunting","HTNG137","Seward Highway MP52",3,1,"Wave 1",1,0,60.878826141357401,-149.63026428222699]
["Hunting","HTNG163","Turnagain Pass",3,3,"Waves 1 and 2",1,0,60.878826141357401,-149.63026428222699]
["Hunting","HTNG187","Area 7-Seward",14,3,"Wave 2",1,0,60.878826141357401,-149.63026428222699]
["Hunting","HTNG207","Crown Point-Crown Point",5,2,"Wave 2",1,0,60.878826141357401,-149.63026428222699]
["Hunting","HTNG250","Kenai Peninsula-Summit Lake",15,3,"Wave 2",1,0,60.878826141357401,-149.63026428222699]
["Hunting","HTNG257","Moose Pass/Trail Lake-Moose Pass",3,1,"Wave 2",1,0,60.878826141357401,-149.63026428222699]
["Hunting","HTNG267","Resurrection Trail-Cooper Landing",3,1,"Wave 2",1,0,60.878826141357401,-149.63026428222699]
["Hunting","HTNG28","Chugach Mountains",6,1,"Wave 1",1,0,60.878826141357401,-149.63026428222699]
["Hunting","HTNG40","Crescent Lake-Crescent Lake Trailhead",4,1,"Wave 1",1,0,60.878826141357401,-149.63026428222699]
["Hunting","HTNG75","Hope-Hope Highway",6,4,"Waves 1 and 2",1,0,60.878826141357401,-149.63026428222699]
["Hunting","HTNG82","Johnson Pass-Seward Highway",1,1,"Wave 1",1,0,60.878826141357401,-149.63026428222699]
["Hunting","HTNG266","Port Lions-Port Lions",3,1,"Wave 2",1,0,57.786964416503899,-152.402587890625]
["Hunting","HTNG88","Kodiak Island",131,13,"Waves 1 and 2",1,0,57.786964416503899,-152.402587890625]
["Hunting","HTNG2","Adak Island",7,1,"Wave 1",0,0,0,0]
["Hunting","HTNG102","McCarthy",23,3,"Waves 1 and 2",1,0,62.568901062011697,-143.47148132324199]
["Hunting","HTNG110","Nabesna Road",49,3,"Waves 1 and 2",1,0,62.568901062011697,-143.47148132324199]
["Hunting","HTNG195","Boulder creek-Chistochina",37,6,"Wave 2",1,0,62.568901062011697,-143.47148132324199]
["Hunting","HTNG205","Copper River-Gakona",16,3,"Wave 2",1,0,62.568901062011697,-143.47148132324199]
["Hunting","HTNG260","Nebesna Road-Slana",51,6,"Wave 2",1,0,62.568901062011697,-143.47148132324199]
["Hunting","HTNG155","Tetlin Wildlife Refuge-Tetlin",10,1,"Wave 1",1,0,63.137199401855497,-142.51606750488301]
["Hunting","HTNG156","Tok Area",35,5,"Waves 1 and 2",1,0,63.137199401855497,-142.51606750488301]
["Hunting","HTNG276","Tayler Hwy-Tetlin Junction",24,4,"Wave 2",1,0,63.137199401855497,-142.51606750488301]
["Hunting","HTNG66","Goodpaster River-Tok",99,11,"Waves 1 and 2",1,0,63.137199401855497,-142.51606750488301]
["Hunting","HTNG112","Noetah-Kotzebue",14,2,"Waves 1 and 2",0,0,0,0]
["Hunting","HTNG183","Ambler River-Ambler",9,2,"Wave 2",0,0,0,0]
["Hunting","HTNG89","Kotzebue-Anchorage",57,12,"Waves 1 and 2",0,0,0,0]
["Hunting","HTNG101","Maud Lake",8,1,"Wave 1",0,0,0,0]
["Hunting","HTNG131","Revillageogideo-Ketchikan",8,1,"Wave 1",0,0,0,0]
["Hunting","HTNG29","Chugach Mountains-Cordova",19,2,"Waves 1 and 2",1,0,60.543144226074197,-145.75433349609401]
["Hunting","HTNG37","Cordova",3,1,"Wave 1",1,0,60.543144226074197,-145.75433349609401]
["Hunting","HTNG125","Prince William Sound-Whittier",60,15,"Waves 1 and 2",1,0,60.776271820068402,-148.68527221679699]
["Hunting","HTNG168","Valdez Area",14,3,"Wave 1",1,0,60.776271820068402,-148.68527221679699]
["Hunting","HTNG73","Hinchinbrook Island-Cordova",4,1,"Wave 1",1,0,60.776271820068402,-148.68527221679699]
["Hunting","HTNG74","Hinchinbrook Island-Valdez",16,3,"Waves 1 and 2",1,0,60.776271820068402,-148.68527221679699]
["Hunting","HTNG252","Lake Clark area-Port Alsworth",11,3,"Wave 2",0,0,0,0]
["Hunting","HTNG182","Alaska Penn-King Salmon",35,3,"Wave 2",0,0,0,0]
["Hunting","HTNG203","cold bay-izenbeck",18,1,"Wave 2",0,0,0,0]
["Hunting","HTNG36","Cold Bay",9,1,"Wave 1",0,0,0,0]
["Hunting","HTNG6","Applegate Cove-Cold Bay",4,1,"Wave 1",0,0,0,0]
["Hunting","HTNG181","Alaska Penn-Cender River",10,1,"Wave 2",0,0,0,0]
["Hunting","HTNG138","Sheep Mountain-Glenn Highway",12,3,"Wave 1",1,1,62.287868499755902,-146.54170227050801]
["Hunting","HTNG145","Talkeetna Mounta",30,1,"Wave 1",1,1,62.287868499755902,-146.54170227050801]
["Hunting","HTNG147","Talkeetna Mountains-Sheep Mountain",20,2,"Wave 1",1,1,62.287868499755902,-146.54170227050801]
["Hunting","HTNG166","Unit 13-Glenn Highway",4,1,"Wave 1",1,1,62.287868499755902,-146.54170227050801]
["Hunting","HTNG227","Galkana River-Richardson Hwy Sourdough Campground",66,15,"Wave 2",1,1,62.287868499755902,-146.54170227050801]
["Hunting","HTNG230","Glen Highway West of Caribou Creek-Meekins Roadhouse",2,1,"Wave 2",1,1,62.287868499755902,-146.54170227050801]
["Hunting","HTNG231","Glenn Highway-Unspecified",3,1,"Wave 2",1,1,62.287868499755902,-146.54170227050801]
["Hunting","HTNG232","Glenn Highway-Gunsight",4,1,"Wave 2",1,1,62.287868499755902,-146.54170227050801]
["Hunting","HTNG274","Sheep Mtn-Sheep Mtn",18,3,"Wave 2",1,1,62.287868499755902,-146.54170227050801]
["Hunting","HTNG277","Tolsona creek-Tolsona Creek State Recreation Site",6,1,"Wave 2",1,1,62.287868499755902,-146.54170227050801]
["Hunting","HTNG57","Eureka-Glenn Highway",63,13,"Wave 1",1,1,62.287868499755902,-146.54170227050801]
["Hunting","HTNG85","Kings River-Glenn Highway",14,4,"Wave 1",1,1,62.287868499755902,-146.54170227050801]
["Hunting","HTNG9","Billy Creek-Glenn Hwy MP 88",5,1,"Wave 1",1,1,62.287868499755902,-146.54170227050801]
["Hunting","HTNG93","Lake Louise",171,25,"Waves 1 and 2",1,1,62.287868499755902,-146.54170227050801]
["Hunting","HTNG103","Meirs Lake",2,1,"Wave 1",1,1,63.030006408691399,-145.49751281738301]
["Hunting","HTNG105","Miller Creek-Richardson Highway",5,1,"Wave 1",1,1,63.030006408691399,-145.49751281738301]
["Hunting","HTNG117","Paxton",5,1,"Wave 1",1,1,63.030006408691399,-145.49751281738301]
["Hunting","HTNG134","Richardson Hwy-Paxton",9,2,"Wave 1",1,1,63.030006408691399,-145.49751281738301]
["Hunting","HTNG214","Denali Hwy-Clearwater",43,4,"Wave 2",1,1,63.030006408691399,-145.49751281738301]
["Hunting","HTNG224","Fielding Lake-Fielding Lake State Recreation Site",7,1,"Wave 2",1,1,63.030006408691399,-145.49751281738301]
["Hunting","HTNG229","Gillespie Lake-Gillespie Creek",16,5,"Wave 2",1,1,63.030006408691399,-145.49751281738301]
["Hunting","HTNG240","Gulkana River-Paxson Lake",6,1,"Wave 2",1,1,63.030006408691399,-145.49751281738301]
["Hunting","HTNG44","Delta Highway Mile 83-Happy Valley",9,1,"Wave 1",1,1,63.030006408691399,-145.49751281738301]
["Hunting","HTNG47","Denali Highway-Maclaren River",96,15,"Waves 1 and 2",1,1,63.030006408691399,-145.49751281738301]
["Hunting","HTNG48","Denali Highway-Susitna River Bridge",15,1,"Wave 1",1,1,63.030006408691399,-145.49751281738301]
["Hunting","HTNG49","Denali Highway-Tangle Lakes",60,15,"Waves 1 and 2",1,1,63.030006408691399,-145.49751281738301]
["Hunting","HTNG51","Denali Hwy-Paxson",372,68,"Waves 1 and 2",1,1,63.030006408691399,-145.49751281738301]
["Hunting","HTNG52","Denali Hwy-Tangle Lakes",22,3,"Wave 1",1,1,63.030006408691399,-145.49751281738301]
["Hunting","HTNG104","Mentasta",25,2,"Waves 1 and 2",1,0,62.106922149658203,-145.63415527343801]
["Hunting","HTNG27","Chistochina-Glennallen",27,7,"Waves 1 and 2",1,0,62.106922149658203,-145.63415527343801]
["Hunting","HTNG61","Gakona River-Denali Highway",6,1,"Wave 1",1,0,62.106922149658203,-145.63415527343801]
["Hunting","HTNG100","Mat-Su Glacier-Glenn Highway",2,1,"Wave 1",1,0,61.719165802002003,-144.94833374023401]
["Hunting","HTNG111","Nelchina-Glenn Highway",16,2,"Wave 1",1,0,61.719165802002003,-144.94833374023401]
["Hunting","HTNG158","Tonsina Lake-Richardson Hwy",10,1,"Wave 1",1,0,61.719165802002003,-144.94833374023401]
["Hunting","HTNG204","Copper River-Tiekel",30,4,"Wave 2",1,0,61.719165802002003,-144.94833374023401]
["Hunting","HTNG219","Edgerton Hwy-Chitina",25,2,"Wave 2",1,0,61.719165802002003,-144.94833374023401]
["Hunting","HTNG233","Glenn Hwy-Copper Center",252,7,"Wave 2",1,0,61.719165802002003,-144.94833374023401]
["Hunting","HTNG235","GMU 13D, Long Lake Area-Adjacent Long Lake",1,1,"Wave 2",1,0,61.719165802002003,-144.94833374023401]
["Hunting","HTNG268","Richardson Hwy-Thompson Pass",4,2,"Wave 2",1,0,61.719165802002003,-144.94833374023401]
["Hunting","HTNG270","Richardson Hwy-Tonsina",34,5,"Wave 2",1,0,61.719165802002003,-144.94833374023401]
["Hunting","HTNG84","Kenny Lake",226,10,"Waves 1 and 2",1,0,61.719165802002003,-144.94833374023401]
["Hunting","HTNG153","Tatlanika River-mile 290 parks hwy",6,1,"Wave 1",1,1,63.389972686767599,-148.90182495117199]
["Hunting","HTNG167","Upper Susitna- Denali",15,1,"Wave 1",1,1,63.389972686767599,-148.90182495117199]
["Hunting","HTNG193","Denali Highway-Ferry",8,1,"Wave 2",1,1,63.389972686767599,-148.90182495117199]
["Hunting","HTNG20","Cantwell",245,35,"Waves 1 and 2",1,1,63.389972686767599,-148.90182495117199]
["Hunting","HTNG215","Denali Hwy-Brushkana",9,2,"Wave 2",1,1,63.389972686767599,-148.90182495117199]
["Hunting","HTNG241","Honolulu Creek-Honolulu Parks Hwy",3,1,"Wave 2",1,1,63.389972686767599,-148.90182495117199]
["Hunting","HTNG46","Denali Highway-Cantwell Side",152,26,"Waves 1 and 2",1,1,63.389972686767599,-148.90182495117199]
["Hunting","HTNG50","Denali Highway-Unspecified",72,9,"Waves 1 and 2",1,1,63.389972686767599,-148.90182495117199]
["Hunting","HTNG53","Denali State Park",12,3,"Waves 1 and 2",1,1,63.389972686767599,-148.90182495117199]
["Hunting","HTNG79","Jay Canyon-Denali Highway",16,1,"Wave 1",1,1,63.389972686767599,-148.90182495117199]
["Hunting","HTNG108","Moose Range-Palmer",2,1,"Wave 1",1,0,61.533332824707003,-149.26666259765599]
["Hunting","HTNG115","Palmer Area",5,2,"Wave 1",1,0,61.533332824707003,-149.26666259765599]
["Hunting","HTNG116","Palmer Hay Flats",46,10,"Waves 1 and 2",1,0,61.533332824707003,-149.26666259765599]
["Hunting","HTNG121","Point Mackenzie",61,14,"Waves 1 and 2",1,0,61.533332824707003,-149.26666259765599]
["Hunting","HTNG127","Rabbit Slough-Wasilla",69,10,"Waves 1 and 2",1,0,61.533332824707003,-149.26666259765599]
["Hunting","HTNG13","Boulder Creek",2,1,"Wave 1",1,0,61.533332824707003,-149.26666259765599]
["Hunting","HTNG144","Sutton-Glenn Highway",13,2,"Wave 1",1,0,61.533332824707003,-149.26666259765599]
["Hunting","HTNG146","Talkeetna Mountains-Palmer",4,1,"Wave 1",1,0,61.533332824707003,-149.26666259765599]
["Hunting","HTNG171","Williow Area",39,4,"Wave 1",1,0,61.533332824707003,-149.26666259765599]
["Hunting","HTNG175","Zero Lake-Zero Lake Road",25,4,"Waves 1 and 2",1,0,61.533332824707003,-149.26666259765599]
["Hunting","HTNG188","Army trail-Willow",60,11,"Wave 2",1,0,61.533332824707003,-149.26666259765599]
["Hunting","HTNG191","Big Lake Area-Big Lake",118,6,"Wave 2",1,0,61.533332824707003,-149.26666259765599]
["Hunting","HTNG198","Castle Mountain-Chickaloon",111,1,"Wave 2",1,0,61.533332824707003,-149.26666259765599]
["Hunting","HTNG225","friday creek-butte",27,5,"Wave 2",1,0,61.533332824707003,-149.26666259765599]
["Hunting","HTNG23","Chickaloon-Glenn Highway",5,2,"Wave 1",1,0,61.533332824707003,-149.26666259765599]
["Hunting","HTNG234","Glenn Hwy-Sutton",3,2,"Wave 2",1,0,61.533332824707003,-149.26666259765599]
["Hunting","HTNG256","Matanuska Valley-Glacier View",10,1,"Wave 2",1,0,61.533332824707003,-149.26666259765599]
["Hunting","HTNG32","Clark Wolverine-Palmer",33,6,"Waves 1 and 2",1,0,61.533332824707003,-149.26666259765599]
["Hunting","HTNG69","Hatcher Pass- Palmer Side",15,3,"Wave 1",1,0,61.533332824707003,-149.26666259765599]
["Hunting","HTNG70","Hatcher Pass- Willow Side",8,2,"Wave 1",1,0,61.533332824707003,-149.26666259765599]
["Hunting","HTNG71","Hatchers Pass",15,6,"Waves 1 and 2",1,0,61.533332824707003,-149.26666259765599]
["Hunting","HTNG76","Houston Area",27,3,"Waves 1 and 2",1,0,61.533332824707003,-149.26666259765599]
["Hunting","HTNG77","Hunter Creek-Palmer",2,1,"Wave 1",1,0,61.533332824707003,-149.26666259765599]
["Hunting","HTNG8","Big Lake-Fish Creek",2,1,"Wave 1",1,0,61.533332824707003,-149.26666259765599]
["Hunting","HTNG81","Jim Creek-Palmer",6,3,"Wave 1",1,0,61.533332824707003,-149.26666259765599]
["Hunting","HTNG86","Knik Goose Bay Road",6,2,"Wave 1",1,0,61.533332824707003,-149.26666259765599]
["Hunting","HTNG87","Knik",9,3,"Waves 1 and 2",1,0,61.533332824707003,-149.26666259765599]
["Hunting","HTNG92","Lake Creek-Deshka Landing",4,1,"Wave 1",1,0,61.533332824707003,-149.26666259765599]
["Hunting","HTNG96","Little Susitna River",5,2,"Waves 1 and 2",1,0,61.533332824707003,-149.26666259765599]
["Hunting","HTNG98","Lower Susitna-Port of Anchorage",5,1,"Wave 1",1,0,61.533332824707003,-149.26666259765599]
["Hunting","HTNG106","Minto Flats",24,2,"Wave 1",1,1,62.228717803955099,-150.08584594726599]
["Hunting","HTNG107","Montana Creek-Parks Highway",3,1,"Wave 1",1,1,62.228717803955099,-150.08584594726599]
["Hunting","HTNG148","Talkeetna Spur Road",22,1,"Wave 1",1,1,62.228717803955099,-150.08584594726599]
["Hunting","HTNG149","Talkeetna-Survey Grid 52",2,1,"Wave 1",1,1,62.228717803955099,-150.08584594726599]
["Hunting","HTNG150","Talkeetna-Unspecified",8,3,"Wave 1",1,1,62.228717803955099,-150.08584594726599]
["Hunting","HTNG228","Gameunit 14B N.Fork Montana Crk-Montana Creek Campground",6,1,"Wave 2",1,1,62.228717803955099,-150.08584594726599]
["Hunting","HTNG1","20 Mile River-Portage",14,4,"Waves 1 and 2",1,0,60.831275939941399,-148.98524475097699]
["Hunting","HTNG11","Bird Creek-Seward Highway",2,1,"Wave 1",1,0,60.831275939941399,-148.98524475097699]
["Hunting","HTNG123","Portage Area",30,3,"Wave 1",1,0,60.831275939941399,-148.98524475097699]
["Hunting","HTNG176","Eklutna",6,1,"Wave 2",1,0,60.831275939941399,-148.98524475097699]
["Hunting","HTNG185","Anchorage-Ft. Richardson",7,3,"Wave 2",1,0,60.831275939941399,-148.98524475097699]
["Hunting","HTNG201","Chugach State Park-Bird Creek",2,1,"Wave 2",1,0,60.831275939941399,-148.98524475097699]
["Hunting","HTNG206","Crow Pass-Eagle River",6,2,"Wave 2",1,0,60.831275939941399,-148.98524475097699]
["Hunting","HTNG242","Indian Valley-Indian",10,1,"Wave 2",1,0,60.831275939941399,-148.98524475097699]
["Hunting","HTNG254","lake george (east of palmer)-Birchwood",3,1,"Wave 2",1,0,60.831275939941399,-148.98524475097699]
["Hunting","HTNG30","Chugiak",8,2,"Waves 1 and 2",1,0,60.831275939941399,-148.98524475097699]
["Hunting","HTNG5","Anchorage Coastal Wildlife Refuge-Rabbit Creek",5,2,"Wave 1",1,0,60.831275939941399,-148.98524475097699]
["Hunting","HTNG64","Girdwood",2,1,"Wave 1",1,0,60.831275939941399,-148.98524475097699]
["Hunting","HTNG7","Arctic Valley",3,1,"Wave 1",1,0,60.831275939941399,-148.98524475097699]
["Hunting","HTNG80","JBER",17,4,"Wave 1",1,0,60.831275939941399,-148.98524475097699]
["Hunting","HTNG143","Sterling Highway-Sterling",2,1,"Wave 1",0,0,0,0]
["Hunting","HTNG275","Skilak Lake Rd-Jim's Landing (North end of Road)",4,1,"Wave 2",0,0,0,0]
["Hunting","HTNG281","Sterling",3,2,"Wave 2",0,0,0,0]
["Hunting","HTNG140","Skilak Lake-Sterling Highway",1,1,"Wave 1",0,0,0,0]
["Hunting","HTNG159","Torpedo Lake-Kenai Keys",2,1,"Wave 1",0,0,0,0]
["Hunting","HTNG226","Funny River Road-Daredevil Circle",3,1,"Wave 2",0,0,0,0]
["Hunting","HTNG83","Kasilof-Crooked Creek",5,1,"Wave 1",0,0,0,0]
["Hunting","HTNG136","Seldovia",5,1,"Wave 1",0,0,0,0]
["Hunting","HTNG249","Kenai Peninsula-Ninilchik",4,1,"Wave 2",0,0,0,0]
["Hunting","HTNG272","Sadie cove-Homer",3,1,"Wave 2",0,0,0,0]
["Hunting","HTNG118","Peters Creek",5,1,"Wave 1",1,0,62.404949188232401,-150.257568359375]
["Hunting","HTNG119","Petersville-Talkeetna",129,17,"Waves 1 and 2",1,0,62.404949188232401,-150.257568359375]
["Hunting","HTNG120","Petersville-Trapper Creek",187,21,"Waves 1 and 2",1,0,62.404949188232401,-150.257568359375]
["Hunting","HTNG141","Skwentna River-Deshka Landing",16,1,"Wave 1",1,0,62.404949188232401,-150.257568359375]
["Hunting","HTNG162","Trapper Creek",10,2,"Wave 1",1,0,62.404949188232401,-150.257568359375]
["Hunting","HTNG172","Yentna River-Deshka Landing",5,1,"Wave 1",1,0,62.404949188232401,-150.257568359375]
["Hunting","HTNG177","Kroto-Oil Well Rd",51,2,"Wave 2",1,0,62.404949188232401,-150.257568359375]
["Hunting","HTNG197","Cache Creek-Petersville Rd",78,11,"Wave 2",1,0,62.404949188232401,-150.257568359375]
["Hunting","HTNG216","Denali Lake Trail-Mile Post 127 Parks Hwy",2,1,"Wave 2",1,0,62.404949188232401,-150.257568359375]
["Hunting","HTNG31","Chulitna RIver-Parks Highway",7,1,"Wave 1",1,0,62.404949188232401,-150.257568359375]
["Hunting","HTNG54","Deshka River-Deshka Landing",5,1,"Wave 1",1,0,62.404949188232401,-150.257568359375]
["Hunting","HTNG97","Lower Susitna-Deshka River",21,1,"Wave 1",1,0,62.404949188232401,-150.257568359375]
["Hunting","HTNG68","Grays Creek-Parks Highway",4,1,"Wave 1",1,0,62.404949188232401,-150.257568359375]
["Hunting","HTNG128","Redoubt Mountain",7,1,"Wave 1",1,0,61.906028747558601,-150.918045043945]
["Hunting","HTNG161","Trading Bay-Anchorage",3,1,"Wave 1",1,0,61.906028747558601,-150.918045043945]
["Hunting","HTNG173","Yentna River-Susitna Landing",9,1,"Wave 1",1,0,61.906028747558601,-150.918045043945]
["Hunting","HTNG189","Beluga-Movie Lake",2,1,"Wave 2",1,0,61.906028747558601,-150.918045043945]
["Hunting","HTNG190","Beluga Mudflats-Beluga Airstrip",3,1,"Wave 2",1,0,61.906028747558601,-150.918045043945]
["Hunting","HTNG192","Big River Lakes-Nikiski",10,1,"Wave 2",1,0,61.906028747558601,-150.918045043945]
["Hunting","HTNG194","Bluga Drainage-Tyonek",20,1,"Wave 2",1,0,61.906028747558601,-150.918045043945]
["Hunting","HTNG246","Kaglin Island-Kenai",21,3,"Wave 2",1,0,61.906028747558601,-150.918045043945]
["Hunting","HTNG253","Lake Creek-Skwentna",8,1,"Wave 2",1,0,61.906028747558601,-150.918045043945]
["Hunting","HTNG67","Goose Bay-Knik Goose Bay Road",3,1,"Wave 1",1,0,61.906028747558601,-150.918045043945]
["Hunting","HTNG279","Dillingham",12,1,"Wave 2",0,0,0,0]
["Hunting","HTNG223","Farewell, AK-Farewell, AK",23,2,"Wave 2",0,0,0,0]
["Hunting","HTNG261","Nixson Fork-Upper Kuskokwim",2,1,"Wave 2",0,0,0,0]
["Hunting","HTNG282","McGrath",4,1,"Wave 2",0,0,0,0]
["Hunting","HTNG132","Rex TraIl-Parks Highway",12,2,"Wave 1",1,0,64.862098693847699,-147.752685546875]
["Hunting","HTNG152","Tanana River-Nenana",10,2,"Wave 1",1,0,64.862098693847699,-147.752685546875]
["Hunting","HTNG16","Brooks Range-Fairbanks",292,38,"Waves 1 and 2",1,0,64.862098693847699,-147.752685546875]
["Hunting","HTNG160","Totat River-Healy",14,1,"Wave 1",1,0,64.862098693847699,-147.752685546875]
["Hunting","HTNG179","33 Mile Loop-Fort Greely",26,4,"Wave 2",1,0,64.862098693847699,-147.752685546875]
["Hunting","HTNG236","GMU 20A Rex Dome-Rex",24,3,"Wave 2",1,0,64.862098693847699,-147.752685546875]
["Hunting","HTNG34","Clear Creek-Tanana River",5,1,"Wave 1",1,0,64.862098693847699,-147.752685546875]
["Hunting","HTNG35","Coal Creek-Healy",4,1,"Wave 1",1,0,64.862098693847699,-147.752685546875]
["Hunting","HTNG4","Alaska Range-Healy",50,7,"Waves 1 and 2",1,0,64.862098693847699,-147.752685546875]
["Hunting","HTNG65","Goodpaster River-Delta Junction",7,1,"Wave 1",1,0,64.862098693847699,-147.752685546875]
["Hunting","HTNG72","Healy Area-Healy",76,9,"Waves 1 and 2",1,0,64.862098693847699,-147.752685546875]
["Hunting","HTNG94","Little Delta River",14,1,"Wave 1",1,0,64.862098693847699,-147.752685546875]
["Hunting","HTNG10","Birch Creek-147 Steese Hwy",5,1,"Wave 1",1,0,65.055473327636705,-146.05929565429699]
["Hunting","HTNG109","Murphy Dome",18,3,"Waves 1 and 2",1,0,65.055473327636705,-146.05929565429699]
["Hunting","HTNG12","Bonanza Creek-Ester",6,2,"Wave 1",1,0,65.055473327636705,-146.05929565429699]
["Hunting","HTNG133","Richardson Hwy-Black Rapids",29,4,"Waves 1 and 2",1,0,65.055473327636705,-146.05929565429699]
["Hunting","HTNG135","Salcha River",31,3,"Wave 1",1,0,65.055473327636705,-146.05929565429699]
["Hunting","HTNG142","Steese Highway",20,4,"Waves 1 and 2",1,0,65.055473327636705,-146.05929565429699]
["Hunting","HTNG151","Tanana River-Fairbanks",19,5,"Waves 1 and 2",1,0,65.055473327636705,-146.05929565429699]
["Hunting","HTNG164","Two Rivers-Two Rivers Rd",5,2,"Wave 1",1,0,65.055473327636705,-146.05929565429699]
["Hunting","HTNG169","White Mountain-Fairbanks",3,1,"Wave 1",1,0,65.055473327636705,-146.05929565429699]
["Hunting","HTNG178","20B?-Elliot Highway",2,1,"Wave 2",1,0,65.055473327636705,-146.05929565429699]
["Hunting","HTNG200","Chena River-North Pole",77,5,"Wave 2",1,0,65.055473327636705,-146.05929565429699]
["Hunting","HTNG208","Dalton Elliot Hwy Junction-Livengood",98,19,"Wave 2",1,0,65.055473327636705,-146.05929565429699]
["Hunting","HTNG21","Chatanika River-Elliot Bridge",3,1,"Wave 1",1,0,65.055473327636705,-146.05929565429699]
["Hunting","HTNG22","Chena River-Chena Hot Springs Road",130,14,"Waves 1 and 2",1,0,65.055473327636705,-146.05929565429699]
["Hunting","HTNG220","Elliott Hwy-Cushman Creek",2,1,"Wave 2",1,0,65.055473327636705,-146.05929565429699]
["Hunting","HTNG221","Eureka Area-Eureka",34,8,"Wave 2",1,0,65.055473327636705,-146.05929565429699]
["Hunting","HTNG222","Eureka-Minto",26,5,"Wave 2",1,0,65.055473327636705,-146.05929565429699]
["Hunting","HTNG237","GMU 20B Chatanika-Chatanika",3,1,"Wave 2",1,0,65.055473327636705,-146.05929565429699]
["Hunting","HTNG258","Murphy Dome-Fox",1,1,"Wave 2",1,0,65.055473327636705,-146.05929565429699]
["Hunting","HTNG259","Near Fairbanks-Ski Loop Trail/Summit Trail",5,1,"Wave 2",1,0,65.055473327636705,-146.05929565429699]
["Hunting","HTNG262","Nome Creek-Davidson Ditch",3,1,"Wave 2",1,0,65.055473327636705,-146.05929565429699]
["Hunting","HTNG265","Olnes Ponds-Olnes",6,1,"Wave 2",1,0,65.055473327636705,-146.05929565429699]
["Hunting","HTNG269","Richardson Hwy-Donnelly Dome",9,4,"Wave 2",1,0,65.055473327636705,-146.05929565429699]
["Hunting","HTNG280","Central",1,1,"Wave 2",1,0,65.055473327636705,-146.05929565429699]
["Hunting","HTNG33","Clear Creek-Chena Pump Rd",10,1,"Wave 1",1,0,65.055473327636705,-146.05929565429699]
["Hunting","HTNG39","Creamers Field-Fairbanks",10,2,"Wave 1",1,0,65.055473327636705,-146.05929565429699]
["Hunting","HTNG55","Eillot Highway",16,2,"Wave 1",1,0,65.055473327636705,-146.05929565429699]
["Hunting","HTNG56","Ester",9,2,"Wave 1",1,0,65.055473327636705,-146.05929565429699]
["Hunting","HTNG58","Fairbanks Area",46,6,"Waves 1 and 2",1,0,65.055473327636705,-146.05929565429699]
["Hunting","HTNG60","Ft. Wainwright",5,2,"Waves 1 and 2",1,0,65.055473327636705,-146.05929565429699]
["Hunting","HTNG63","Gerstle River-Delta Junction",18,3,"Wave 1",1,0,65.055473327636705,-146.05929565429699]
["Hunting","HTNG95","Little Salcha Valley-Salcha",36,6,"Waves 1 and 2",1,0,65.055473327636705,-146.05929565429699]
["Hunting","HTNG99","Manley Hot Springs-Manley",18,4,"Waves 1 and 2",1,0,65.055473327636705,-146.05929565429699]
["Hunting","HTNG248","Kantishna-Kantishna",2,1,"Wave 2",1,0,64.81465,-151.46357]
["Hunting","HTNG255","Little Detta River Drainage-Summit Lake",9,1,"Wave 2",1,0,64.81465,-151.46357]
["Hunting","HTNG38","Cosna River-Manley",9,1,"Wave 1",1,0,64.81465,-151.46357]
["Hunting","HTNG91","Lake Alms",6,1,"Wave 1",1,0,64.81465,-151.46357]
["Hunting","HTNG126","Quartz Lake-Big Delta",13,2,"Waves 1 and 2",1,0,64.037193298339801,-145.732345581055]
["Hunting","HTNG157","Tok Cut Off-Delta Junction",5,1,"Wave 1",1,0,64.037193298339801,-145.732345581055]
["Hunting","HTNG213","Delta Junction-Tanana",4,2,"Wave 2",1,0,64.037193298339801,-145.732345581055]
["Hunting","HTNG239","Granite Mountains-Coal Mine Road",2,1,"Wave 2",1,0,64.037193298339801,-145.732345581055]
["Hunting","HTNG42","Delta Clearwater",3,1,"Wave 1",1,0,64.037193298339801,-145.732345581055]
["Hunting","HTNG43","Delta Creek-Richardson",5,2,"Waves 1 and 2",1,0,64.037193298339801,-145.732345581055]
["Hunting","HTNG45","Delta Junction-Delta junction",191,30,"Waves 1 and 2",1,0,64.037193298339801,-145.732345581055]
["Hunting","HTNG78","Jarvis Creek-Alaska Highway",8,1,"Wave 1",1,0,64.037193298339801,-145.732345581055]
["Hunting","HTNG122","Poker Creek-Boundery, AK",61,1,"Wave 1",1,0,64.073600769042997,-141.93566894531199]
["Hunting","HTNG154","Taylor Highway-Chicken",24,2,"Wave 1",1,0,64.073600769042997,-141.93566894531199]
["Hunting","HTNG196","Boundary area-Boundary",4,2,"Wave 2",1,0,64.073600769042997,-141.93566894531199]
["Hunting","HTNG217","Dennsion River-Dome Creek Shelter Cabin",10,1,"Wave 2",1,0,64.073600769042997,-141.93566894531199]
["Hunting","HTNG218","Eagle Summit-Eagle, AK",9,2,"Wave 2",1,0,64.073600769042997,-141.93566894531199]
["Hunting","HTNG24","Chicken",7,1,"Wave 1",1,0,64.073600769042997,-141.93566894531199]
["Hunting","HTNG25","Chicken Ridge-Chicken",16,5,"Waves 1 and 2",1,0,64.073600769042997,-141.93566894531199]
["Hunting","HTNG26","Chicken-Taylor Hwy",4,1,"Wave 1",1,0,64.073600769042997,-141.93566894531199]
["Hunting","HTNG41","Dalton Highway",20,3,"Wave 1",0,0,0,0]
["Hunting","HTNG243","Innokko River-Innokko River",2,1,"Wave 2",0,0,0,0]
["Hunting","HTNG114","Nowitna river-Yukon River bridge",13,1,"Wave 1",0,0,0,0]
["Hunting","HTNG247","Kaltag-Kaltag",12,1,"Wave 2",0,0,0,0]
["Hunting","HTNG251","Koyokuk River-Koyokuk",8,1,"Wave 2",0,0,0,0]
["Hunting","HTNG90","Koyukuk River-Galena",24,3,"Waves 1 and 2",0,0,0,0]
["Hunting","HTNG186","Anvik River-Anvik",7,1,"Wave 2",0,0,0,0]
["Hunting","HTNG244","Innoko River-Shageluk",2,1,"Wave 2",0,0,0,0]
["Hunting","HTNG273","Shaktoolik River-Shaktoolik",12,1,"Wave 2",0,0,0,0]
["Hunting","HTNG238","GMU 22D-Kougarok",5,1,"Wave 2",0,0,0,0]
["Hunting","HTNG15","Brooks Range-Coldfoot",69,7,"Waves 1 and 2",0,0,0,0]
["Hunting","HTNG212","Dalton Hwy-S. Fork Koyukuk",2,1,"Wave 2",0,0,0,0]
["Hunting","HTNG14","Brooks Range-Bettles",13,2,"Waves 1 and 2",0,0,0,0]
["Hunting","HTNG199","chandaler river-arctic village",5,1,"Wave 2",0,0,0,0]
["Hunting","HTNG263","North Fork Chandalar River-20 miles north of Chandalar lake",12,1,"Wave 2",0,0,0,0]
["Hunting","HTNG202","Circle Hot Springs-Circle Hot Springs",18,5,"Wave 2",1,0,65.489180000000005,-144.62228999999999]
["Hunting","HTNG174","Yukon River-Circle",21,2,"Waves 1 and 2",1,0,65.824333190917997,-144.06298828125]
["Hunting","HTNG59","Fort Yukon",14,2,"Waves 1 and 2",1,0,65.824333190917997,-144.06298828125]
["Hunting","HTNG62","George Lake Area",14,3,"Waves 1 and 2",1,0,65.824333190917997,-144.06298828125]
["Hunting","HTNG184","Anaktuvuk Pass-Float Plane",4,1,"Wave 2",0,0,0,0]
["Hunting","HTNG113","North Slope-Dalton Highway",7,1,"Wave 1",0,0,0,0]
["Hunting","HTNG17","Brooks Range-Galberth Lake",10,1,"Wave 2",0,0,0,0]
["Hunting","HTNG18","Brooks Range-Happy Valley",8,1,"Wave 1",0,0,0,0]
["Hunting","HTNG209","Dalton highway-Pump station 2",3,1,"Wave 2",0,0,0,0]
["Hunting","HTNG210","Dalton Hwy, Atigun Pass",7,1,"Wave 2",0,0,0,0]
["Hunting","HTNG211","Dalton Hwy-Kavik River",5,1,"Wave 2",0,0,0,0]
["Hunting","HTNG245","Ivashack River-Sagwon",6,1,"Wave 2",0,0,0,0]
["Hunting","HTNG264","North Slope-Oksrukuyik",21,1,"Wave 2",0,0,0,0]
["Hunting","HTNG278","Unit 26B Kavik River near Prudhoe Bay-Prudhoe Bay",6,1,"Wave 2",0,0,0,0]
["Hunting","HTNG19","Brooks Range-Marsh Fork",8,1,"Wave 1",0,0,0,0]