{"text_format":"1","workbook":"xlsx","n_sheets":9,"sheets":["README","Variable List","VL Old","Raw Data","Cleaned SnowMachine Data","Site Codes","Activity Days","Lives in SA (Zip)","PolicySites"],"not_rendered":{"charts":0,"images":0,"macros":0,"external_links":0,"defined_names":1,"comments":5,"pivot_tables":2},"unopened":[],"bounds":{"document_bytes":16777216,"sheet_cells":100000,"rows_first":2000,"rows_last":500,"rows_between":2000,"halvings":0,"cell_chars":16384,"cell_head_chars":4096},"cells_cut":0,"cells_raw":0,"read":"whole","date_system":"1900"}

{"sheet":"README","index":0,"n_rows":15,"n_cols":3,"rows_kept":15,"cut":false,"hidden":false,"merged":[[0,0,0,5],[2,0,2,5],[16,0,16,5]]}
["Susitna Watana 2013 Recreational Mail Survey- Snow Machine Data (Round 2) "]
["File Overview"]
["   This file-overview worksheet describes each of the subsequent worksheets contined in this Excel spreadsheet.  Table 1 lists each of the worksheets in this spreadsheet and provides a brief description."]
[]
[null,"Table 1: Worksheet Descriptions"]
[null,"Worksheet Name","Worksheet Description"]
[null,"Variable List","List of variables, value labels, and variable descriptions"]
[null,"Raw Data","Raw Data from the McDowell Mail Survey. Includes all data"]
[null,"Cleaned SnowMachine Data","Final cleaned boating data including site codes"]
[null,"Recoding List","Documents the final boating site list cleaned from the raw data"]
[null,"Activity Days","A sheet NEI used to summarize the number of days an activity was done at each location. "]
[null,"Lives in SA (Zip)","A sheet including all the respondents indicating whether or not they lived in the Study Area "]
[null,"PolicySites","A sheet indicating whether a location was a policy site or not. "]
[null,"Green Variables were created by NEI"]
[null,"Yellow cells indicate that NEI changed the data from the original version of the spreadsheet through some inferred process."]

{"sheet":"Variable List","index":1,"n_rows":1757,"n_cols":4,"rows_kept":1757,"cut":false,"hidden":false,"merged":[[11,4,13,4],[14,4,21,4],[22,4,24,4],[27,4,29,4]]}
[]
[]
["Variable Name","Meaning","Interpretation","Variable Origin"]
["sys_SequentialRespondentNumber","Unknown-Do not use a respondent ID non-unique",null,"McDowell Named and Created"]
["password","Unknown-Do not use a respondent ID non-unique",null,"McDowell Named and Created"]
["Mail (1)/online (2)","How the respondent completed the survey",null,"McDowell Named and Created"]
["Unique ID","Unique Respondent ID","Unique ID Created by NEI","NEI Created"]
["MGinfo_r1_c1","Unknown",null,"McDowell Named and Created"]
["Snowmachined Ever in Alaska","Did Respondent Snow Machine in Alaska ","1=Yes; 2=No","NEI Renamed"]
["McDowell Snowmachined in 2013","Did they Snowmachine in Alaska in 2013","1= No; 2=Yes","NEI Renamed"]
["NEI Snowmachined 2013 Recoded","Did they Snowmachine in Alaska in 2013","1=Yes, 0=No","NEI Created"]
["Total 2013 Days","Total days in 2013 snowmachined in AK","Number","NEI Renamed"]
["Total Days in SA","Total days in 2013 snowmachined in the study area","Number","NEI Created"]
["Location 1","Respondent Provided Name of Location","text","NEI Renamed"]
["Location 2","Respondent Provided Name of Location","text","NEI Renamed"]
["Location 3","Respondent Provided Name of Location","text","NEI Renamed"]
["Location 4","Respondent Provided Name of Location","text","NEI Renamed"]
["Location 5","Respondent Provided Name of Location","text","NEI Renamed"]
["Location 6","Respondent Provided Name of Location","text","NEI Renamed"]
["Location 7","Respondent Provided Name of Location","text","NEI Renamed"]
["Location 8","Respondent Provided Name of Location","text","NEI Renamed"]
["Location 9","Respondent Provided Name of Location","text","NEI Renamed"]
["Location 10","Respondent Provided Name of Location","text","NEI Renamed"]
["Concatenated Location 1","Combined Raw Location/Access data for Location 1 and Access 1","Text   ","NEI Created"]
["Concatenated Location 2","Combined Raw Location/Access data for Location 2 and Access 2","Text   ","NEI Created"]
["Concatenated Location 3","Combined Raw Location/Access data for Location 3 and Access 3","Text   ","NEI Created"]
["Concatenated Location 4","Combined Raw Location/Access data for Location 4 and Access 4","Text   ","NEI Created"]
["Concatenated Location 5","Combined Raw Location/Access data for Location 5 and Access 5","Text   ","NEI Created"]
["Concatenated Location 6","Combined Raw Location/Access data for Location 6 and Access 6","Text   ","NEI Created"]
["Concatenated Location 7","Combined Raw Location/Access data for Location 7 and Access 7","Text   ","NEI Created"]
["Concatenated Location 8","Combined Raw Location/Access data for Location 8 and Access 8","Text   ","NEI Created"]
["Concatenated Location 9","Combined Raw Location/Access data for Location 9 and Access 9","Text   ","NEI Created"]
["Concatenated Location 10","Combined Raw Location/Access data for Location 10 and Access 10","Text   ","NEI Created"]
["Recoded Location 1","Corresponding Short Code for Location 1","Text","NEI Created"]
["Recoded Location 2","Corresponding Short Code for Location 2","Text","NEI Created"]
["Recoded Location 3","Corresponding Short Code for Location 3","Text","NEI Created"]
["Recoded Location 4","Corresponding Short Code for Location 4","Text","NEI Created"]
["Recoded Location 5","Corresponding Short Code for Location 5","Text","NEI Created"]
["Recoded Location 6","Corresponding Short Code for Location 6","Text","NEI Created"]
["Recoded Location 7","Corresponding Short Code for Location 7","Text","NEI Created"]
["Recoded Location 8","Corresponding Short Code for Location 8","Text","NEI Created"]
["Recoded Location 9","Corresponding Short Code for Location 9","Text","NEI Created"]
["Recoded Location 10","Corresponding Short Code for Location 10","Text","NEI Created"]
["Access Point 1","Respondent entered access for location 1","Text","NEI Renamed"]
["Access Point 2","Respondent entered access for location 2","Text","NEI Renamed"]
["Access Point 3","Respondent entered access for location 3","Text","NEI Renamed"]
["Access Point 4","Respondent entered access for location 4","Text","NEI Renamed"]
["Access Point 5","Respondent entered access for location 5","Text","NEI Renamed"]
["Access Point 6","Respondent entered access for location 6","Text","NEI Renamed"]
["Access Point 7","Respondent entered access for location 7","Text","NEI Renamed"]
["Access Point 8","Respondent entered access for location 8","Text","NEI Renamed"]
["Access Point 9","Respondent entered access for location 9","Text","NEI Renamed"]
["Access Point 10","Respondent entered access for location 10","Text","NEI Renamed"]
["Days at Location 1","Respondent days spent at location 1","Number","NEI Renamed"]
["Days at Location 2","Respondent days spent at location 2","Number","NEI Renamed"]
["Days at Location 3","Respondent days spent at location 3","Number","NEI Renamed"]
["Days at Location 4","Respondent days spent at location 4","Number","NEI Renamed"]
["Days at Location 5","Respondent days spent at location 5","Number","NEI Renamed"]
["Days at Location 6","Respondent days spent at location 6","Number","NEI Renamed"]
["Days at Location 7","Respondent days spent at location 7","Number","NEI Renamed"]
["Days at Location 8","Respondent days spent at location 8","Number","NEI Renamed"]
["Days at Location 9","Respondent days spent at location 9","Number","NEI Renamed"]
["Days at Location 10","Respondent days spent at location 10","Number","McDowell Named and Created"]
["SM1_r1","Location 1 Activity on 1/1","1=Yes;0=No","McDowell Named and Created"]
["SM1_r2","Location 1 Activity on 1/2","1=Yes;0=No","McDowell Named and Created"]
["SM1_r3","Location 1 Activity on 1/3","1=Yes;0=No","McDowell Named and Created"]
["SM1_r4","Location 1 Activity on 1/4","1=Yes;0=No","McDowell Named and Created"]
["SM1_r5","Location 1 Activity on 1/5","1=Yes;0=No","McDowell Named and Created"]
["SM1_r6","Location 1 Activity on 1/6","1=Yes;0=No","McDowell Named and Created"]
["SM1_r7","Location 1 Activity on 1/7","1=Yes;0=No","McDowell Named and Created"]
["SM1_r8","Location 1 Activity on 1/8","1=Yes;0=No","McDowell Named and Created"]
["SM1_r9","Location 1 Activity on 1/9","1=Yes;0=No","McDowell Named and Created"]
["SM1_r10","Location 1 Activity on 1/10","1=Yes;0=No","McDowell Named and Created"]
["SM1_r11","Location 1 Activity on 1/11","1=Yes;0=No","McDowell Named and Created"]
["SM1_r12","Location 1 Activity on 1/12","1=Yes;0=No","McDowell Named and Created"]
["SM1_r13","Location 1 Activity on 1/13","1=Yes;0=No","McDowell Named and Created"]
["SM1_r14","Location 1 Activity on 1/14","1=Yes;0=No","McDowell Named and Created"]
["SM1_r15","Location 1 Activity on 1/15","1=Yes;0=No","McDowell Named and Created"]
["SM1_r16","Location 1 Activity on 1/16","1=Yes;0=No","McDowell Named and Created"]
["SM1_r17","Location 1 Activity on 1/17","1=Yes;0=No","McDowell Named and Created"]
["SM1_r18","Location 1 Activity on 1/18","1=Yes;0=No","McDowell Named and Created"]
["SM1_r19","Location 1 Activity on 1/19","1=Yes;0=No","McDowell Named and Created"]
["SM1_r20","Location 1 Activity on 1/20","1=Yes;0=No","McDowell Named and Created"]
["SM1_r21","Location 1 Activity on 1/21","1=Yes;0=No","McDowell Named and Created"]
["SM1_r22","Location 1 Activity on 1/22","1=Yes;0=No","McDowell Named and Created"]
["SM1_r23","Location 1 Activity on 1/23","1=Yes;0=No","McDowell Named and Created"]
["SM1_r24","Location 1 Activity on 1/24","1=Yes;0=No","McDowell Named and Created"]
["SM1_r25","Location 1 Activity on 1/25","1=Yes;0=No","McDowell Named and Created"]
["SM1_r26","Location 1 Activity on 1/26","1=Yes;0=No","McDowell Named and Created"]
["SM1_r27","Location 1 Activity on 1/27","1=Yes;0=No","McDowell Named and Created"]
["SM1_r28","Location 1 Activity on 1/28","1=Yes;0=No","McDowell Named and Created"]
["SM1_r29","Location 1 Activity on 1/29","1=Yes;0=No","McDowell Named and Created"]
["SM1_r30","Location 1 Activity on 1/30","1=Yes;0=No","McDowell Named and Created"]
["SM1_r31","Location 1 Activity on 1/31","1=Yes;0=No","McDowell Named and Created"]
["SM1_r32","Location 1 Activity on 2/1","1=Yes;0=No","McDowell Named and Created"]
["SM1_r33","Location 1 Activity on 2/2","1=Yes;0=No","McDowell Named and Created"]
["SM1_r34","Location 1 Activity on 2/3","1=Yes;0=No","McDowell Named and Created"]
["SM1_r35","Location 1 Activity on 2/4","1=Yes;0=No","McDowell Named and Created"]
["SM1_r36","Location 1 Activity on 2/5","1=Yes;0=No","McDowell Named and Created"]
["SM1_r37","Location 1 Activity on 2/6","1=Yes;0=No","McDowell Named and Created"]
["SM1_r38","Location 1 Activity on 2/7","1=Yes;0=No","McDowell Named and Created"]
["SM1_r39","Location 1 Activity on 2/8","1=Yes;0=No","McDowell Named and Created"]
["SM1_r40","Location 1 Activity on 2/9","1=Yes;0=No","McDowell Named and Created"]
["SM1_r41","Location 1 Activity on 2/10","1=Yes;0=No","McDowell Named and Created"]
["SM1_r42","Location 1 Activity on 2/11","1=Yes;0=No","McDowell Named and Created"]
["SM1_r43","Location 1 Activity on 2/12","1=Yes;0=No","McDowell Named and Created"]
["SM1_r44","Location 1 Activity on 2/13","1=Yes;0=No","McDowell Named and Created"]
["SM1_r45","Location 1 Activity on 2/14","1=Yes;0=No","McDowell Named and Created"]
["SM1_r46","Location 1 Activity on 2/15","1=Yes;0=No","McDowell Named and Created"]
["SM1_r47","Location 1 Activity on 2/16","1=Yes;0=No","McDowell Named and Created"]
["SM1_r48","Location 1 Activity on 2/17","1=Yes;0=No","McDowell Named and Created"]
["SM1_r49","Location 1 Activity on 2/18","1=Yes;0=No","McDowell Named and Created"]
["SM1_r50","Location 1 Activity on 2/19","1=Yes;0=No","McDowell Named and Created"]
["SM1_r51","Location 1 Activity on 2/20","1=Yes;0=No","McDowell Named and Created"]
["SM1_r52","Location 1 Activity on 2/21","1=Yes;0=No","McDowell Named and Created"]
["SM1_r53","Location 1 Activity on 2/22","1=Yes;0=No","McDowell Named and Created"]
["SM1_r54","Location 1 Activity on 2/23","1=Yes;0=No","McDowell Named and Created"]
["SM1_r55","Location 1 Activity on 2/24","1=Yes;0=No","McDowell Named and Created"]
["SM1_r56","Location 1 Activity on 2/25","1=Yes;0=No","McDowell Named and Created"]
["SM1_r57","Location 1 Activity on 2/26","1=Yes;0=No","McDowell Named and Created"]
["SM1_r58","Location 1 Activity on 2/27","1=Yes;0=No","McDowell Named and Created"]
["SM1_r59","Location 1 Activity on 2/28","1=Yes;0=No","McDowell Named and Created"]
["SM1_r60","Location 1 Activity on 3/1","1=Yes;0=No","McDowell Named and Created"]
["SM1_r61","Location 1 Activity on 3/2","1=Yes;0=No","McDowell Named and Created"]
["SM1_r62","Location 1 Activity on 3/3","1=Yes;0=No","McDowell Named and Created"]
["SM1_r63","Location 1 Activity on 3/4","1=Yes;0=No","McDowell Named and Created"]
["SM1_r64","Location 1 Activity on 3/5","1=Yes;0=No","McDowell Named and Created"]
["SM1_r65","Location 1 Activity on 3/6","1=Yes;0=No","McDowell Named and Created"]
["SM1_r66","Location 1 Activity on 3/7","1=Yes;0=No","McDowell Named and Created"]
["SM1_r67","Location 1 Activity on 3/8","1=Yes;0=No","McDowell Named and Created"]
["SM1_r68","Location 1 Activity on 3/9","1=Yes;0=No","McDowell Named and Created"]
["SM1_r69","Location 1 Activity on 3/10","1=Yes;0=No","McDowell Named and Created"]
["SM1_r70","Location 1 Activity on 3/11","1=Yes;0=No","McDowell Named and Created"]
["SM1_r71","Location 1 Activity on 3/12","1=Yes;0=No","McDowell Named and Created"]
["SM1_r72","Location 1 Activity on 3/13","1=Yes;0=No","McDowell Named and Created"]
["SM1_r73","Location 1 Activity on 3/14","1=Yes;0=No","McDowell Named and Created"]
["SM1_r74","Location 1 Activity on 3/15","1=Yes;0=No","McDowell Named and Created"]
["SM1_r75","Location 1 Activity on 3/16","1=Yes;0=No","McDowell Named and Created"]
["SM1_r76","Location 1 Activity on 3/17","1=Yes;0=No","McDowell Named and Created"]
["SM1_r77","Location 1 Activity on 3/18","1=Yes;0=No","McDowell Named and Created"]
["SM1_r78","Location 1 Activity on 3/19","1=Yes;0=No","McDowell Named and Created"]
["SM1_r79","Location 1 Activity on 3/20","1=Yes;0=No","McDowell Named and Created"]
["SM1_r80","Location 1 Activity on 3/21","1=Yes;0=No","McDowell Named and Created"]
["SM1_r81","Location 1 Activity on 3/22","1=Yes;0=No","McDowell Named and Created"]
["SM1_r82","Location 1 Activity on 3/23","1=Yes;0=No","McDowell Named and Created"]
["SM1_r83","Location 1 Activity on 3/24","1=Yes;0=No","McDowell Named and Created"]
["SM1_r84","Location 1 Activity on 3/25","1=Yes;0=No","McDowell Named and Created"]
["SM1_r85","Location 1 Activity on 3/26","1=Yes;0=No","McDowell Named and Created"]
["SM1_r86","Location 1 Activity on 3/27","1=Yes;0=No","McDowell Named and Created"]
["SM1_r87","Location 1 Activity on 3/28","1=Yes;0=No","McDowell Named and Created"]
["SM1_r88","Location 1 Activity on 3/29","1=Yes;0=No","McDowell Named and Created"]
["SM1_r89","Location 1 Activity on 3/30","1=Yes;0=No","McDowell Named and Created"]
["SM1_r90","Location 1 Activity on 3/31","1=Yes;0=No","McDowell Named and Created"]
["SM1_r91","Location 1 Activity on 4/1","1=Yes;0=No","McDowell Named and Created"]
["SM1_r92","Location 1 Activity on 4/2","1=Yes;0=No","McDowell Named and Created"]
["SM1_r93","Location 1 Activity on 4/3","1=Yes;0=No","McDowell Named and Created"]
["SM1_r94","Location 1 Activity on 4/4","1=Yes;0=No","McDowell Named and Created"]
["SM1_r95","Location 1 Activity on 4/5","1=Yes;0=No","McDowell Named and Created"]
["SM1_r96","Location 1 Activity on 4/6","1=Yes;0=No","McDowell Named and Created"]
["SM1_r97","Location 1 Activity on 4/7","1=Yes;0=No","McDowell Named and Created"]
["SM1_r98","Location 1 Activity on 4/8","1=Yes;0=No","McDowell Named and Created"]
["SM1_r99","Location 1 Activity on 4/9","1=Yes;0=No","McDowell Named and Created"]
["SM1_r100","Location 1 Activity on 4/10","1=Yes;0=No","McDowell Named and Created"]
["SM1_r101","Location 1 Activity on 4/11","1=Yes;0=No","McDowell Named and Created"]
["SM1_r102","Location 1 Activity on 4/12","1=Yes;0=No","McDowell Named and Created"]
["SM1_r103","Location 1 Activity on 4/13","1=Yes;0=No","McDowell Named and Created"]
["SM1_r104","Location 1 Activity on 4/14","1=Yes;0=No","McDowell Named and Created"]
["SM1_r105","Location 1 Activity on 4/15","1=Yes;0=No","McDowell Named and Created"]
["SM1_r106","Location 1 Activity on 4/16","1=Yes;0=No","McDowell Named and Created"]
["SM1_r107","Location 1 Activity on 4/17","1=Yes;0=No","McDowell Named and Created"]
["SM1_r108","Location 1 Activity on 4/18","1=Yes;0=No","McDowell Named and Created"]
["SM1_r109","Location 1 Activity on 4/19","1=Yes;0=No","McDowell Named and Created"]
["SM1_r110","Location 1 Activity on 4/20","1=Yes;0=No","McDowell Named and Created"]
["SM1_r111","Location 1 Activity on 4/21","1=Yes;0=No","McDowell Named and Created"]
["SM1_r112","Location 1 Activity on 4/22","1=Yes;0=No","McDowell Named and Created"]
["SM1_r113","Location 1 Activity on 4/23","1=Yes;0=No","McDowell Named and Created"]
["SM1_r114","Location 1 Activity on 4/24","1=Yes;0=No","McDowell Named and Created"]
["SM1_r115","Location 1 Activity on 4/25","1=Yes;0=No","McDowell Named and Created"]
["SM1_r116","Location 1 Activity on 4/26","1=Yes;0=No","McDowell Named and Created"]
["SM1_r117","Location 1 Activity on 4/27","1=Yes;0=No","McDowell Named and Created"]
["SM1_r118","Location 1 Activity on 4/28","1=Yes;0=No","McDowell Named and Created"]
["SM1_r119","Location 1 Activity on 4/29","1=Yes;0=No","McDowell Named and Created"]
["SM1_r120","Location 1 Activity on 4/30","1=Yes;0=No","McDowell Named and Created"]
["SM2_r1","Location 2 Activity on 1/1","1=Yes;0=No","McDowell Named and Created"]
["SM2_r2","Location 2 Activity on 1/2","1=Yes;0=No","McDowell Named and Created"]
["SM2_r3","Location 2 Activity on 1/3","1=Yes;0=No","McDowell Named and Created"]
["SM2_r4","Location 2 Activity on 1/4","1=Yes;0=No","McDowell Named and Created"]
["SM2_r5","Location 2 Activity on 1/5","1=Yes;0=No","McDowell Named and Created"]
["SM2_r6","Location 2 Activity on 1/6","1=Yes;0=No","McDowell Named and Created"]
["SM2_r7","Location 2 Activity on 1/7","1=Yes;0=No","McDowell Named and Created"]
["SM2_r8","Location 2 Activity on 1/8","1=Yes;0=No","McDowell Named and Created"]
["SM2_r9","Location 2 Activity on 1/9","1=Yes;0=No","McDowell Named and Created"]
["SM2_r10","Location 2 Activity on 1/10","1=Yes;0=No","McDowell Named and Created"]
["SM2_r11","Location 2 Activity on 1/11","1=Yes;0=No","McDowell Named and Created"]
["SM2_r12","Location 2 Activity on 1/12","1=Yes;0=No","McDowell Named and Created"]
["SM2_r13","Location 2 Activity on 1/13","1=Yes;0=No","McDowell Named and Created"]
["SM2_r14","Location 2 Activity on 1/14","1=Yes;0=No","McDowell Named and Created"]
["SM2_r15","Location 2 Activity on 1/15","1=Yes;0=No","McDowell Named and Created"]
["SM2_r16","Location 2 Activity on 1/16","1=Yes;0=No","McDowell Named and Created"]
["SM2_r17","Location 2 Activity on 1/17","1=Yes;0=No","McDowell Named and Created"]
["SM2_r18","Location 2 Activity on 1/18","1=Yes;0=No","McDowell Named and Created"]
["SM2_r19","Location 2 Activity on 1/19","1=Yes;0=No","McDowell Named and Created"]
["SM2_r20","Location 2 Activity on 1/20","1=Yes;0=No","McDowell Named and Created"]
["SM2_r21","Location 2 Activity on 1/21","1=Yes;0=No","McDowell Named and Created"]
["SM2_r22","Location 2 Activity on 1/22","1=Yes;0=No","McDowell Named and Created"]
["SM2_r23","Location 2 Activity on 1/23","1=Yes;0=No","McDowell Named and Created"]
["SM2_r24","Location 2 Activity on 1/24","1=Yes;0=No","McDowell Named and Created"]
["SM2_r25","Location 2 Activity on 1/25","1=Yes;0=No","McDowell Named and Created"]
["SM2_r26","Location 2 Activity on 1/26","1=Yes;0=No","McDowell Named and Created"]
["SM2_r27","Location 2 Activity on 1/27","1=Yes;0=No","McDowell Named and Created"]
["SM2_r28","Location 2 Activity on 1/28","1=Yes;0=No","McDowell Named and Created"]
["SM2_r29","Location 2 Activity on 1/29","1=Yes;0=No","McDowell Named and Created"]
["SM2_r30","Location 2 Activity on 1/30","1=Yes;0=No","McDowell Named and Created"]
["SM2_r31","Location 2 Activity on 1/31","1=Yes;0=No","McDowell Named and Created"]
["SM2_r32","Location 2 Activity on 2/1","1=Yes;0=No","McDowell Named and Created"]
["SM2_r33","Location 2 Activity on 2/2","1=Yes;0=No","McDowell Named and Created"]
["SM2_r34","Location 2 Activity on 2/3","1=Yes;0=No","McDowell Named and Created"]
["SM2_r35","Location 2 Activity on 2/4","1=Yes;0=No","McDowell Named and Created"]
["SM2_r36","Location 2 Activity on 2/5","1=Yes;0=No","McDowell Named and Created"]
["SM2_r37","Location 2 Activity on 2/6","1=Yes;0=No","McDowell Named and Created"]
["SM2_r38","Location 2 Activity on 2/7","1=Yes;0=No","McDowell Named and Created"]
["SM2_r39","Location 2 Activity on 2/8","1=Yes;0=No","McDowell Named and Created"]
["SM2_r40","Location 2 Activity on 2/9","1=Yes;0=No","McDowell Named and Created"]
["SM2_r41","Location 2 Activity on 2/10","1=Yes;0=No","McDowell Named and Created"]
["SM2_r42","Location 2 Activity on 2/11","1=Yes;0=No","McDowell Named and Created"]
["SM2_r43","Location 2 Activity on 2/12","1=Yes;0=No","McDowell Named and Created"]
["SM2_r44","Location 2 Activity on 2/13","1=Yes;0=No","McDowell Named and Created"]
["SM2_r45","Location 2 Activity on 2/14","1=Yes;0=No","McDowell Named and Created"]
["SM2_r46","Location 2 Activity on 2/15","1=Yes;0=No","McDowell Named and Created"]
["SM2_r47","Location 2 Activity on 2/16","1=Yes;0=No","McDowell Named and Created"]
["SM2_r48","Location 2 Activity on 2/17","1=Yes;0=No","McDowell Named and Created"]
["SM2_r49","Location 2 Activity on 2/18","1=Yes;0=No","McDowell Named and Created"]
["SM2_r50","Location 2 Activity on 2/19","1=Yes;0=No","McDowell Named and Created"]
["SM2_r51","Location 2 Activity on 2/20","1=Yes;0=No","McDowell Named and Created"]
["SM2_r52","Location 2 Activity on 2/21","1=Yes;0=No","McDowell Named and Created"]
["SM2_r53","Location 2 Activity on 2/22","1=Yes;0=No","McDowell Named and Created"]
["SM2_r54","Location 2 Activity on 2/23","1=Yes;0=No","McDowell Named and Created"]
["SM2_r55","Location 2 Activity on 2/24","1=Yes;0=No","McDowell Named and Created"]
["SM2_r56","Location 2 Activity on 2/25","1=Yes;0=No","McDowell Named and Created"]
["SM2_r57","Location 2 Activity on 2/26","1=Yes;0=No","McDowell Named and Created"]
["SM2_r58","Location 2 Activity on 2/27","1=Yes;0=No","McDowell Named and Created"]
["SM2_r59","Location 2 Activity on 2/28","1=Yes;0=No","McDowell Named and Created"]
["SM2_r60","Location 2 Activity on 3/1","1=Yes;0=No","McDowell Named and Created"]
["SM2_r61","Location 2 Activity on 3/2","1=Yes;0=No","McDowell Named and Created"]
["SM2_r62","Location 2 Activity on 3/3","1=Yes;0=No","McDowell Named and Created"]
["SM2_r63","Location 2 Activity on 3/4","1=Yes;0=No","McDowell Named and Created"]
["SM2_r64","Location 2 Activity on 3/5","1=Yes;0=No","McDowell Named and Created"]
["SM2_r65","Location 2 Activity on 3/6","1=Yes;0=No","McDowell Named and Created"]
["SM2_r66","Location 2 Activity on 3/7","1=Yes;0=No","McDowell Named and Created"]
["SM2_r67","Location 2 Activity on 3/8","1=Yes;0=No","McDowell Named and Created"]
["SM2_r68","Location 2 Activity on 3/9","1=Yes;0=No","McDowell Named and Created"]
["SM2_r69","Location 2 Activity on 3/10","1=Yes;0=No","McDowell Named and Created"]
["SM2_r70","Location 2 Activity on 3/11","1=Yes;0=No","McDowell Named and Created"]
["SM2_r71","Location 2 Activity on 3/12","1=Yes;0=No","McDowell Named and Created"]
["SM2_r72","Location 2 Activity on 3/13","1=Yes;0=No","McDowell Named and Created"]
["SM2_r73","Location 2 Activity on 3/14","1=Yes;0=No","McDowell Named and Created"]
["SM2_r74","Location 2 Activity on 3/15","1=Yes;0=No","McDowell Named and Created"]
["SM2_r75","Location 2 Activity on 3/16","1=Yes;0=No","McDowell Named and Created"]
["SM2_r76","Location 2 Activity on 3/17","1=Yes;0=No","McDowell Named and Created"]
["SM2_r77","Location 2 Activity on 3/18","1=Yes;0=No","McDowell Named and Created"]
["SM2_r78","Location 2 Activity on 3/19","1=Yes;0=No","McDowell Named and Created"]
["SM2_r79","Location 2 Activity on 3/20","1=Yes;0=No","McDowell Named and Created"]
["SM2_r80","Location 2 Activity on 3/21","1=Yes;0=No","McDowell Named and Created"]
["SM2_r81","Location 2 Activity on 3/22","1=Yes;0=No","McDowell Named and Created"]
["SM2_r82","Location 2 Activity on 3/23","1=Yes;0=No","McDowell Named and Created"]
["SM2_r83","Location 2 Activity on 3/24","1=Yes;0=No","McDowell Named and Created"]
["SM2_r84","Location 2 Activity on 3/25","1=Yes;0=No","McDowell Named and Created"]
["SM2_r85","Location 2 Activity on 3/26","1=Yes;0=No","McDowell Named and Created"]
["SM2_r86","Location 2 Activity on 3/27","1=Yes;0=No","McDowell Named and Created"]
["SM2_r87","Location 2 Activity on 3/28","1=Yes;0=No","McDowell Named and Created"]
["SM2_r88","Location 2 Activity on 3/29","1=Yes;0=No","McDowell Named and Created"]
["SM2_r89","Location 2 Activity on 3/30","1=Yes;0=No","McDowell Named and Created"]
["SM2_r90","Location 2 Activity on 3/31","1=Yes;0=No","McDowell Named and Created"]
["SM2_r91","Location 2 Activity on 4/1","1=Yes;0=No","McDowell Named and Created"]
["SM2_r92","Location 2 Activity on 4/2","1=Yes;0=No","McDowell Named and Created"]
["SM2_r93","Location 2 Activity on 4/3","1=Yes;0=No","McDowell Named and Created"]
["SM2_r94","Location 2 Activity on 4/4","1=Yes;0=No","McDowell Named and Created"]
["SM2_r95","Location 2 Activity on 4/5","1=Yes;0=No","McDowell Named and Created"]
["SM2_r96","Location 2 Activity on 4/6","1=Yes;0=No","McDowell Named and Created"]
["SM2_r97","Location 2 Activity on 4/7","1=Yes;0=No","McDowell Named and Created"]
["SM2_r98","Location 2 Activity on 4/8","1=Yes;0=No","McDowell Named and Created"]
["SM2_r99","Location 2 Activity on 4/9","1=Yes;0=No","McDowell Named and Created"]
["SM2_r100","Location 2 Activity on 4/10","1=Yes;0=No","McDowell Named and Created"]
["SM2_r101","Location 2 Activity on 4/11","1=Yes;0=No","McDowell Named and Created"]
["SM2_r102","Location 2 Activity on 4/12","1=Yes;0=No","McDowell Named and Created"]
["SM2_r103","Location 2 Activity on 4/13","1=Yes;0=No","McDowell Named and Created"]
["SM2_r104","Location 2 Activity on 4/14","1=Yes;0=No","McDowell Named and Created"]
["SM2_r105","Location 2 Activity on 4/15","1=Yes;0=No","McDowell Named and Created"]
["SM2_r106","Location 2 Activity on 4/16","1=Yes;0=No","McDowell Named and Created"]
["SM2_r107","Location 2 Activity on 4/17","1=Yes;0=No","McDowell Named and Created"]
["SM2_r108","Location 2 Activity on 4/18","1=Yes;0=No","McDowell Named and Created"]
["SM2_r109","Location 2 Activity on 4/19","1=Yes;0=No","McDowell Named and Created"]
["SM2_r110","Location 2 Activity on 4/20","1=Yes;0=No","McDowell Named and Created"]
["SM2_r111","Location 2 Activity on 4/21","1=Yes;0=No","McDowell Named and Created"]
["SM2_r112","Location 2 Activity on 4/22","1=Yes;0=No","McDowell Named and Created"]
["SM2_r113","Location 2 Activity on 4/23","1=Yes;0=No","McDowell Named and Created"]
["SM2_r114","Location 2 Activity on 4/24","1=Yes;0=No","McDowell Named and Created"]
["SM2_r115","Location 2 Activity on 4/25","1=Yes;0=No","McDowell Named and Created"]
["SM2_r116","Location 2 Activity on 4/26","1=Yes;0=No","McDowell Named and Created"]
["SM2_r117","Location 2 Activity on 4/27","1=Yes;0=No","McDowell Named and Created"]
["SM2_r118","Location 2 Activity on 4/28","1=Yes;0=No","McDowell Named and Created"]
["SM2_r119","Location 2 Activity on 4/29","1=Yes;0=No","McDowell Named and Created"]
["SM2_r120","Location 2 Activity on 4/30","1=Yes;0=No","McDowell Named and Created"]
["SM3_r1","Location 3 Activity on 1/1","1=Yes;0=No","McDowell Named and Created"]
["SM3_r2","Location 3 Activity on 1/2","1=Yes;0=No","McDowell Named and Created"]
["SM3_r3","Location 3 Activity on 1/3","1=Yes;0=No","McDowell Named and Created"]
["SM3_r4","Location 3 Activity on 1/4","1=Yes;0=No","McDowell Named and Created"]
["SM3_r5","Location 3 Activity on 1/5","1=Yes;0=No","McDowell Named and Created"]
["SM3_r6","Location 3 Activity on 1/6","1=Yes;0=No","McDowell Named and Created"]
["SM3_r7","Location 3 Activity on 1/7","1=Yes;0=No","McDowell Named and Created"]
["SM3_r8","Location 3 Activity on 1/8","1=Yes;0=No","McDowell Named and Created"]
["SM3_r9","Location 3 Activity on 1/9","1=Yes;0=No","McDowell Named and Created"]
["SM3_r10","Location 3 Activity on 1/10","1=Yes;0=No","McDowell Named and Created"]
["SM3_r11","Location 3 Activity on 1/11","1=Yes;0=No","McDowell Named and Created"]
["SM3_r12","Location 3 Activity on 1/12","1=Yes;0=No","McDowell Named and Created"]
["SM3_r13","Location 3 Activity on 1/13","1=Yes;0=No","McDowell Named and Created"]
["SM3_r14","Location 3 Activity on 1/14","1=Yes;0=No","McDowell Named and Created"]
["SM3_r15","Location 3 Activity on 1/15","1=Yes;0=No","McDowell Named and Created"]
["SM3_r16","Location 3 Activity on 1/16","1=Yes;0=No","McDowell Named and Created"]
["SM3_r17","Location 3 Activity on 1/17","1=Yes;0=No","McDowell Named and Created"]
["SM3_r18","Location 3 Activity on 1/18","1=Yes;0=No","McDowell Named and Created"]
["SM3_r19","Location 3 Activity on 1/19","1=Yes;0=No","McDowell Named and Created"]
["SM3_r20","Location 3 Activity on 1/20","1=Yes;0=No","McDowell Named and Created"]
["SM3_r21","Location 3 Activity on 1/21","1=Yes;0=No","McDowell Named and Created"]
["SM3_r22","Location 3 Activity on 1/22","1=Yes;0=No","McDowell Named and Created"]
["SM3_r23","Location 3 Activity on 1/23","1=Yes;0=No","McDowell Named and Created"]
["SM3_r24","Location 3 Activity on 1/24","1=Yes;0=No","McDowell Named and Created"]
["SM3_r25","Location 3 Activity on 1/25","1=Yes;0=No","McDowell Named and Created"]
["SM3_r26","Location 3 Activity on 1/26","1=Yes;0=No","McDowell Named and Created"]
["SM3_r27","Location 3 Activity on 1/27","1=Yes;0=No","McDowell Named and Created"]
["SM3_r28","Location 3 Activity on 1/28","1=Yes;0=No","McDowell Named and Created"]
["SM3_r29","Location 3 Activity on 1/29","1=Yes;0=No","McDowell Named and Created"]
["SM3_r30","Location 3 Activity on 1/30","1=Yes;0=No","McDowell Named and Created"]
["SM3_r31","Location 3 Activity on 1/31","1=Yes;0=No","McDowell Named and Created"]
["SM3_r32","Location 3 Activity on 2/1","1=Yes;0=No","McDowell Named and Created"]
["SM3_r33","Location 3 Activity on 2/2","1=Yes;0=No","McDowell Named and Created"]
["SM3_r34","Location 3 Activity on 2/3","1=Yes;0=No","McDowell Named and Created"]
["SM3_r35","Location 3 Activity on 2/4","1=Yes;0=No","McDowell Named and Created"]
["SM3_r36","Location 3 Activity on 2/5","1=Yes;0=No","McDowell Named and Created"]
["SM3_r37","Location 3 Activity on 2/6","1=Yes;0=No","McDowell Named and Created"]
["SM3_r38","Location 3 Activity on 2/7","1=Yes;0=No","McDowell Named and Created"]
["SM3_r39","Location 3 Activity on 2/8","1=Yes;0=No","McDowell Named and Created"]
["SM3_r40","Location 3 Activity on 2/9","1=Yes;0=No","McDowell Named and Created"]
["SM3_r41","Location 3 Activity on 2/10","1=Yes;0=No","McDowell Named and Created"]
["SM3_r42","Location 3 Activity on 2/11","1=Yes;0=No","McDowell Named and Created"]
["SM3_r43","Location 3 Activity on 2/12","1=Yes;0=No","McDowell Named and Created"]
["SM3_r44","Location 3 Activity on 2/13","1=Yes;0=No","McDowell Named and Created"]
["SM3_r45","Location 3 Activity on 2/14","1=Yes;0=No","McDowell Named and Created"]
["SM3_r46","Location 3 Activity on 2/15","1=Yes;0=No","McDowell Named and Created"]
["SM3_r47","Location 3 Activity on 2/16","1=Yes;0=No","McDowell Named and Created"]
["SM3_r48","Location 3 Activity on 2/17","1=Yes;0=No","McDowell Named and Created"]
["SM3_r49","Location 3 Activity on 2/18","1=Yes;0=No","McDowell Named and Created"]
["SM3_r50","Location 3 Activity on 2/19","1=Yes;0=No","McDowell Named and Created"]
["SM3_r51","Location 3 Activity on 2/20","1=Yes;0=No","McDowell Named and Created"]
["SM3_r52","Location 3 Activity on 2/21","1=Yes;0=No","McDowell Named and Created"]
["SM3_r53","Location 3 Activity on 2/22","1=Yes;0=No","McDowell Named and Created"]
["SM3_r54","Location 3 Activity on 2/23","1=Yes;0=No","McDowell Named and Created"]
["SM3_r55","Location 3 Activity on 2/24","1=Yes;0=No","McDowell Named and Created"]
["SM3_r56","Location 3 Activity on 2/25","1=Yes;0=No","McDowell Named and Created"]
["SM3_r57","Location 3 Activity on 2/26","1=Yes;0=No","McDowell Named and Created"]
["SM3_r58","Location 3 Activity on 2/27","1=Yes;0=No","McDowell Named and Created"]
["SM3_r59","Location 3 Activity on 2/28","1=Yes;0=No","McDowell Named and Created"]
["SM3_r60","Location 3 Activity on 3/1","1=Yes;0=No","McDowell Named and Created"]
["SM3_r61","Location 3 Activity on 3/2","1=Yes;0=No","McDowell Named and Created"]
["SM3_r62","Location 3 Activity on 3/3","1=Yes;0=No","McDowell Named and Created"]
["SM3_r63","Location 3 Activity on 3/4","1=Yes;0=No","McDowell Named and Created"]
["SM3_r64","Location 3 Activity on 3/5","1=Yes;0=No","McDowell Named and Created"]
["SM3_r65","Location 3 Activity on 3/6","1=Yes;0=No","McDowell Named and Created"]
["SM3_r66","Location 3 Activity on 3/7","1=Yes;0=No","McDowell Named and Created"]
["SM3_r67","Location 3 Activity on 3/8","1=Yes;0=No","McDowell Named and Created"]
["SM3_r68","Location 3 Activity on 3/9","1=Yes;0=No","McDowell Named and Created"]
["SM3_r69","Location 3 Activity on 3/10","1=Yes;0=No","McDowell Named and Created"]
["SM3_r70","Location 3 Activity on 3/11","1=Yes;0=No","McDowell Named and Created"]
["SM3_r71","Location 3 Activity on 3/12","1=Yes;0=No","McDowell Named and Created"]
["SM3_r72","Location 3 Activity on 3/13","1=Yes;0=No","McDowell Named and Created"]
["SM3_r73","Location 3 Activity on 3/14","1=Yes;0=No","McDowell Named and Created"]
["SM3_r74","Location 3 Activity on 3/15","1=Yes;0=No","McDowell Named and Created"]
["SM3_r75","Location 3 Activity on 3/16","1=Yes;0=No","McDowell Named and Created"]
["SM3_r76","Location 3 Activity on 3/17","1=Yes;0=No","McDowell Named and Created"]
["SM3_r77","Location 3 Activity on 3/18","1=Yes;0=No","McDowell Named and Created"]
["SM3_r78","Location 3 Activity on 3/19","1=Yes;0=No","McDowell Named and Created"]
["SM3_r79","Location 3 Activity on 3/20","1=Yes;0=No","McDowell Named and Created"]
["SM3_r80","Location 3 Activity on 3/21","1=Yes;0=No","McDowell Named and Created"]
["SM3_r81","Location 3 Activity on 3/22","1=Yes;0=No","McDowell Named and Created"]
["SM3_r82","Location 3 Activity on 3/23","1=Yes;0=No","McDowell Named and Created"]
["SM3_r83","Location 3 Activity on 3/24","1=Yes;0=No","McDowell Named and Created"]
["SM3_r84","Location 3 Activity on 3/25","1=Yes;0=No","McDowell Named and Created"]
["SM3_r85","Location 3 Activity on 3/26","1=Yes;0=No","McDowell Named and Created"]
["SM3_r86","Location 3 Activity on 3/27","1=Yes;0=No","McDowell Named and Created"]
["SM3_r87","Location 3 Activity on 3/28","1=Yes;0=No","McDowell Named and Created"]
["SM3_r88","Location 3 Activity on 3/29","1=Yes;0=No","McDowell Named and Created"]
["SM3_r89","Location 3 Activity on 3/30","1=Yes;0=No","McDowell Named and Created"]
["SM3_r90","Location 3 Activity on 3/31","1=Yes;0=No","McDowell Named and Created"]
["SM3_r91","Location 3 Activity on 4/1","1=Yes;0=No","McDowell Named and Created"]
["SM3_r92","Location 3 Activity on 4/2","1=Yes;0=No","McDowell Named and Created"]
["SM3_r93","Location 3 Activity on 4/3","1=Yes;0=No","McDowell Named and Created"]
["SM3_r94","Location 3 Activity on 4/4","1=Yes;0=No","McDowell Named and Created"]
["SM3_r95","Location 3 Activity on 4/5","1=Yes;0=No","McDowell Named and Created"]
["SM3_r96","Location 3 Activity on 4/6","1=Yes;0=No","McDowell Named and Created"]
["SM3_r97","Location 3 Activity on 4/7","1=Yes;0=No","McDowell Named and Created"]
["SM3_r98","Location 3 Activity on 4/8","1=Yes;0=No","McDowell Named and Created"]
["SM3_r99","Location 3 Activity on 4/9","1=Yes;0=No","McDowell Named and Created"]
["SM3_r100","Location 3 Activity on 4/10","1=Yes;0=No","McDowell Named and Created"]
["SM3_r101","Location 3 Activity on 4/11","1=Yes;0=No","McDowell Named and Created"]
["SM3_r102","Location 3 Activity on 4/12","1=Yes;0=No","McDowell Named and Created"]
["SM3_r103","Location 3 Activity on 4/13","1=Yes;0=No","McDowell Named and Created"]
["SM3_r104","Location 3 Activity on 4/14","1=Yes;0=No","McDowell Named and Created"]
["SM3_r105","Location 3 Activity on 4/15","1=Yes;0=No","McDowell Named and Created"]
["SM3_r106","Location 3 Activity on 4/16","1=Yes;0=No","McDowell Named and Created"]
["SM3_r107","Location 3 Activity on 4/17","1=Yes;0=No","McDowell Named and Created"]
["SM3_r108","Location 3 Activity on 4/18","1=Yes;0=No","McDowell Named and Created"]
["SM3_r109","Location 3 Activity on 4/19","1=Yes;0=No","McDowell Named and Created"]
["SM3_r110","Location 3 Activity on 4/20","1=Yes;0=No","McDowell Named and Created"]
["SM3_r111","Location 3 Activity on 4/21","1=Yes;0=No","McDowell Named and Created"]
["SM3_r112","Location 3 Activity on 4/22","1=Yes;0=No","McDowell Named and Created"]
["SM3_r113","Location 3 Activity on 4/23","1=Yes;0=No","McDowell Named and Created"]
["SM3_r114","Location 3 Activity on 4/24","1=Yes;0=No","McDowell Named and Created"]
["SM3_r115","Location 3 Activity on 4/25","1=Yes;0=No","McDowell Named and Created"]
["SM3_r116","Location 3 Activity on 4/26","1=Yes;0=No","McDowell Named and Created"]
["SM3_r117","Location 3 Activity on 4/27","1=Yes;0=No","McDowell Named and Created"]
["SM3_r118","Location 3 Activity on 4/28","1=Yes;0=No","McDowell Named and Created"]
["SM3_r119","Location 3 Activity on 4/29","1=Yes;0=No","McDowell Named and Created"]
["SM3_r120","Location 3 Activity on 4/30","1=Yes;0=No","McDowell Named and Created"]
["SM4_r1","Location 4 Activity on 1/1","1=Yes;0=No","McDowell Named and Created"]
["SM4_r2","Location 4 Activity on 1/2","1=Yes;0=No","McDowell Named and Created"]
["SM4_r3","Location 4 Activity on 1/3","1=Yes;0=No","McDowell Named and Created"]
["SM4_r4","Location 4 Activity on 1/4","1=Yes;0=No","McDowell Named and Created"]
["SM4_r5","Location 4 Activity on 1/5","1=Yes;0=No","McDowell Named and Created"]
["SM4_r6","Location 4 Activity on 1/6","1=Yes;0=No","McDowell Named and Created"]
["SM4_r7","Location 4 Activity on 1/7","1=Yes;0=No","McDowell Named and Created"]
["SM4_r8","Location 4 Activity on 1/8","1=Yes;0=No","McDowell Named and Created"]
["SM4_r9","Location 4 Activity on 1/9","1=Yes;0=No","McDowell Named and Created"]
["SM4_r10","Location 4 Activity on 1/10","1=Yes;0=No","McDowell Named and Created"]
["SM4_r11","Location 4 Activity on 1/11","1=Yes;0=No","McDowell Named and Created"]
["SM4_r12","Location 4 Activity on 1/12","1=Yes;0=No","McDowell Named and Created"]
["SM4_r13","Location 4 Activity on 1/13","1=Yes;0=No","McDowell Named and Created"]
["SM4_r14","Location 4 Activity on 1/14","1=Yes;0=No","McDowell Named and Created"]
["SM4_r15","Location 4 Activity on 1/15","1=Yes;0=No","McDowell Named and Created"]
["SM4_r16","Location 4 Activity on 1/16","1=Yes;0=No","McDowell Named and Created"]
["SM4_r17","Location 4 Activity on 1/17","1=Yes;0=No","McDowell Named and Created"]
["SM4_r18","Location 4 Activity on 1/18","1=Yes;0=No","McDowell Named and Created"]
["SM4_r19","Location 4 Activity on 1/19","1=Yes;0=No","McDowell Named and Created"]
["SM4_r20","Location 4 Activity on 1/20","1=Yes;0=No","McDowell Named and Created"]
["SM4_r21","Location 4 Activity on 1/21","1=Yes;0=No","McDowell Named and Created"]
["SM4_r22","Location 4 Activity on 1/22","1=Yes;0=No","McDowell Named and Created"]
["SM4_r23","Location 4 Activity on 1/23","1=Yes;0=No","McDowell Named and Created"]
["SM4_r24","Location 4 Activity on 1/24","1=Yes;0=No","McDowell Named and Created"]
["SM4_r25","Location 4 Activity on 1/25","1=Yes;0=No","McDowell Named and Created"]
["SM4_r26","Location 4 Activity on 1/26","1=Yes;0=No","McDowell Named and Created"]
["SM4_r27","Location 4 Activity on 1/27","1=Yes;0=No","McDowell Named and Created"]
["SM4_r28","Location 4 Activity on 1/28","1=Yes;0=No","McDowell Named and Created"]
["SM4_r29","Location 4 Activity on 1/29","1=Yes;0=No","McDowell Named and Created"]
["SM4_r30","Location 4 Activity on 1/30","1=Yes;0=No","McDowell Named and Created"]
["SM4_r31","Location 4 Activity on 1/31","1=Yes;0=No","McDowell Named and Created"]
["SM4_r32","Location 4 Activity on 2/1","1=Yes;0=No","McDowell Named and Created"]
["SM4_r33","Location 4 Activity on 2/2","1=Yes;0=No","McDowell Named and Created"]
["SM4_r34","Location 4 Activity on 2/3","1=Yes;0=No","McDowell Named and Created"]
["SM4_r35","Location 4 Activity on 2/4","1=Yes;0=No","McDowell Named and Created"]
["SM4_r36","Location 4 Activity on 2/5","1=Yes;0=No","McDowell Named and Created"]
["SM4_r37","Location 4 Activity on 2/6","1=Yes;0=No","McDowell Named and Created"]
["SM4_r38","Location 4 Activity on 2/7","1=Yes;0=No","McDowell Named and Created"]
["SM4_r39","Location 4 Activity on 2/8","1=Yes;0=No","McDowell Named and Created"]
["SM4_r40","Location 4 Activity on 2/9","1=Yes;0=No","McDowell Named and Created"]
["SM4_r41","Location 4 Activity on 2/10","1=Yes;0=No","McDowell Named and Created"]
["SM4_r42","Location 4 Activity on 2/11","1=Yes;0=No","McDowell Named and Created"]
["SM4_r43","Location 4 Activity on 2/12","1=Yes;0=No","McDowell Named and Created"]
["SM4_r44","Location 4 Activity on 2/13","1=Yes;0=No","McDowell Named and Created"]
["SM4_r45","Location 4 Activity on 2/14","1=Yes;0=No","McDowell Named and Created"]
["SM4_r46","Location 4 Activity on 2/15","1=Yes;0=No","McDowell Named and Created"]
["SM4_r47","Location 4 Activity on 2/16","1=Yes;0=No","McDowell Named and Created"]
["SM4_r48","Location 4 Activity on 2/17","1=Yes;0=No","McDowell Named and Created"]
["SM4_r49","Location 4 Activity on 2/18","1=Yes;0=No","McDowell Named and Created"]
["SM4_r50","Location 4 Activity on 2/19","1=Yes;0=No","McDowell Named and Created"]
["SM4_r51","Location 4 Activity on 2/20","1=Yes;0=No","McDowell Named and Created"]
["SM4_r52","Location 4 Activity on 2/21","1=Yes;0=No","McDowell Named and Created"]
["SM4_r53","Location 4 Activity on 2/22","1=Yes;0=No","McDowell Named and Created"]
["SM4_r54","Location 4 Activity on 2/23","1=Yes;0=No","McDowell Named and Created"]
["SM4_r55","Location 4 Activity on 2/24","1=Yes;0=No","McDowell Named and Created"]
["SM4_r56","Location 4 Activity on 2/25","1=Yes;0=No","McDowell Named and Created"]
["SM4_r57","Location 4 Activity on 2/26","1=Yes;0=No","McDowell Named and Created"]
["SM4_r58","Location 4 Activity on 2/27","1=Yes;0=No","McDowell Named and Created"]
["SM4_r59","Location 4 Activity on 2/28","1=Yes;0=No","McDowell Named and Created"]
["SM4_r60","Location 4 Activity on 3/1","1=Yes;0=No","McDowell Named and Created"]
["SM4_r61","Location 4 Activity on 3/2","1=Yes;0=No","McDowell Named and Created"]
["SM4_r62","Location 4 Activity on 3/3","1=Yes;0=No","McDowell Named and Created"]
["SM4_r63","Location 4 Activity on 3/4","1=Yes;0=No","McDowell Named and Created"]
["SM4_r64","Location 4 Activity on 3/5","1=Yes;0=No","McDowell Named and Created"]
["SM4_r65","Location 4 Activity on 3/6","1=Yes;0=No","McDowell Named and Created"]
["SM4_r66","Location 4 Activity on 3/7","1=Yes;0=No","McDowell Named and Created"]
["SM4_r67","Location 4 Activity on 3/8","1=Yes;0=No","McDowell Named and Created"]
["SM4_r68","Location 4 Activity on 3/9","1=Yes;0=No","McDowell Named and Created"]
["SM4_r69","Location 4 Activity on 3/10","1=Yes;0=No","McDowell Named and Created"]
["SM4_r70","Location 4 Activity on 3/11","1=Yes;0=No","McDowell Named and Created"]
["SM4_r71","Location 4 Activity on 3/12","1=Yes;0=No","McDowell Named and Created"]
["SM4_r72","Location 4 Activity on 3/13","1=Yes;0=No","McDowell Named and Created"]
["SM4_r73","Location 4 Activity on 3/14","1=Yes;0=No","McDowell Named and Created"]
["SM4_r74","Location 4 Activity on 3/15","1=Yes;0=No","McDowell Named and Created"]
["SM4_r75","Location 4 Activity on 3/16","1=Yes;0=No","McDowell Named and Created"]
["SM4_r76","Location 4 Activity on 3/17","1=Yes;0=No","McDowell Named and Created"]
["SM4_r77","Location 4 Activity on 3/18","1=Yes;0=No","McDowell Named and Created"]
["SM4_r78","Location 4 Activity on 3/19","1=Yes;0=No","McDowell Named and Created"]
["SM4_r79","Location 4 Activity on 3/20","1=Yes;0=No","McDowell Named and Created"]
["SM4_r80","Location 4 Activity on 3/21","1=Yes;0=No","McDowell Named and Created"]
["SM4_r81","Location 4 Activity on 3/22","1=Yes;0=No","McDowell Named and Created"]
["SM4_r82","Location 4 Activity on 3/23","1=Yes;0=No","McDowell Named and Created"]
["SM4_r83","Location 4 Activity on 3/24","1=Yes;0=No","McDowell Named and Created"]
["SM4_r84","Location 4 Activity on 3/25","1=Yes;0=No","McDowell Named and Created"]
["SM4_r85","Location 4 Activity on 3/26","1=Yes;0=No","McDowell Named and Created"]
["SM4_r86","Location 4 Activity on 3/27","1=Yes;0=No","McDowell Named and Created"]
["SM4_r87","Location 4 Activity on 3/28","1=Yes;0=No","McDowell Named and Created"]
["SM4_r88","Location 4 Activity on 3/29","1=Yes;0=No","McDowell Named and Created"]
["SM4_r89","Location 4 Activity on 3/30","1=Yes;0=No","McDowell Named and Created"]
["SM4_r90","Location 4 Activity on 3/31","1=Yes;0=No","McDowell Named and Created"]
["SM4_r91","Location 4 Activity on 4/1","1=Yes;0=No","McDowell Named and Created"]
["SM4_r92","Location 4 Activity on 4/2","1=Yes;0=No","McDowell Named and Created"]
["SM4_r93","Location 4 Activity on 4/3","1=Yes;0=No","McDowell Named and Created"]
["SM4_r94","Location 4 Activity on 4/4","1=Yes;0=No","McDowell Named and Created"]
["SM4_r95","Location 4 Activity on 4/5","1=Yes;0=No","McDowell Named and Created"]
["SM4_r96","Location 4 Activity on 4/6","1=Yes;0=No","McDowell Named and Created"]
["SM4_r97","Location 4 Activity on 4/7","1=Yes;0=No","McDowell Named and Created"]
["SM4_r98","Location 4 Activity on 4/8","1=Yes;0=No","McDowell Named and Created"]
["SM4_r99","Location 4 Activity on 4/9","1=Yes;0=No","McDowell Named and Created"]
["SM4_r100","Location 4 Activity on 4/10","1=Yes;0=No","McDowell Named and Created"]
["SM4_r101","Location 4 Activity on 4/11","1=Yes;0=No","McDowell Named and Created"]
["SM4_r102","Location 4 Activity on 4/12","1=Yes;0=No","McDowell Named and Created"]
["SM4_r103","Location 4 Activity on 4/13","1=Yes;0=No","McDowell Named and Created"]
["SM4_r104","Location 4 Activity on 4/14","1=Yes;0=No","McDowell Named and Created"]
["SM4_r105","Location 4 Activity on 4/15","1=Yes;0=No","McDowell Named and Created"]
["SM4_r106","Location 4 Activity on 4/16","1=Yes;0=No","McDowell Named and Created"]
["SM4_r107","Location 4 Activity on 4/17","1=Yes;0=No","McDowell Named and Created"]
["SM4_r108","Location 4 Activity on 4/18","1=Yes;0=No","McDowell Named and Created"]
["SM4_r109","Location 4 Activity on 4/19","1=Yes;0=No","McDowell Named and Created"]
["SM4_r110","Location 4 Activity on 4/20","1=Yes;0=No","McDowell Named and Created"]
["SM4_r111","Location 4 Activity on 4/21","1=Yes;0=No","McDowell Named and Created"]
["SM4_r112","Location 4 Activity on 4/22","1=Yes;0=No","McDowell Named and Created"]
["SM4_r113","Location 4 Activity on 4/23","1=Yes;0=No","McDowell Named and Created"]
["SM4_r114","Location 4 Activity on 4/24","1=Yes;0=No","McDowell Named and Created"]
["SM4_r115","Location 4 Activity on 4/25","1=Yes;0=No","McDowell Named and Created"]
["SM4_r116","Location 4 Activity on 4/26","1=Yes;0=No","McDowell Named and Created"]
["SM4_r117","Location 4 Activity on 4/27","1=Yes;0=No","McDowell Named and Created"]
["SM4_r118","Location 4 Activity on 4/28","1=Yes;0=No","McDowell Named and Created"]
["SM4_r119","Location 4 Activity on 4/29","1=Yes;0=No","McDowell Named and Created"]
["SM4_r120","Location 4 Activity on 4/30","1=Yes;0=No","McDowell Named and Created"]
["SM5_r1","Location 5 Activity on 1/1","1=Yes;0=No","McDowell Named and Created"]
["SM5_r2","Location 5 Activity on 1/2","1=Yes;0=No","McDowell Named and Created"]
["SM5_r3","Location 5 Activity on 1/3","1=Yes;0=No","McDowell Named and Created"]
["SM5_r4","Location 5 Activity on 1/4","1=Yes;0=No","McDowell Named and Created"]
["SM5_r5","Location 5 Activity on 1/5","1=Yes;0=No","McDowell Named and Created"]
["SM5_r6","Location 5 Activity on 1/6","1=Yes;0=No","McDowell Named and Created"]
["SM5_r7","Location 5 Activity on 1/7","1=Yes;0=No","McDowell Named and Created"]
["SM5_r8","Location 5 Activity on 1/8","1=Yes;0=No","McDowell Named and Created"]
["SM5_r9","Location 5 Activity on 1/9","1=Yes;0=No","McDowell Named and Created"]
["SM5_r10","Location 5 Activity on 1/10","1=Yes;0=No","McDowell Named and Created"]
["SM5_r11","Location 5 Activity on 1/11","1=Yes;0=No","McDowell Named and Created"]
["SM5_r12","Location 5 Activity on 1/12","1=Yes;0=No","McDowell Named and Created"]
["SM5_r13","Location 5 Activity on 1/13","1=Yes;0=No","McDowell Named and Created"]
["SM5_r14","Location 5 Activity on 1/14","1=Yes;0=No","McDowell Named and Created"]
["SM5_r15","Location 5 Activity on 1/15","1=Yes;0=No","McDowell Named and Created"]
["SM5_r16","Location 5 Activity on 1/16","1=Yes;0=No","McDowell Named and Created"]
["SM5_r17","Location 5 Activity on 1/17","1=Yes;0=No","McDowell Named and Created"]
["SM5_r18","Location 5 Activity on 1/18","1=Yes;0=No","McDowell Named and Created"]
["SM5_r19","Location 5 Activity on 1/19","1=Yes;0=No","McDowell Named and Created"]
["SM5_r20","Location 5 Activity on 1/20","1=Yes;0=No","McDowell Named and Created"]
["SM5_r21","Location 5 Activity on 1/21","1=Yes;0=No","McDowell Named and Created"]
["SM5_r22","Location 5 Activity on 1/22","1=Yes;0=No","McDowell Named and Created"]
["SM5_r23","Location 5 Activity on 1/23","1=Yes;0=No","McDowell Named and Created"]
["SM5_r24","Location 5 Activity on 1/24","1=Yes;0=No","McDowell Named and Created"]
["SM5_r25","Location 5 Activity on 1/25","1=Yes;0=No","McDowell Named and Created"]
["SM5_r26","Location 5 Activity on 1/26","1=Yes;0=No","McDowell Named and Created"]
["SM5_r27","Location 5 Activity on 1/27","1=Yes;0=No","McDowell Named and Created"]
["SM5_r28","Location 5 Activity on 1/28","1=Yes;0=No","McDowell Named and Created"]
["SM5_r29","Location 5 Activity on 1/29","1=Yes;0=No","McDowell Named and Created"]
["SM5_r30","Location 5 Activity on 1/30","1=Yes;0=No","McDowell Named and Created"]
["SM5_r31","Location 5 Activity on 1/31","1=Yes;0=No","McDowell Named and Created"]
["SM5_r32","Location 5 Activity on 2/1","1=Yes;0=No","McDowell Named and Created"]
["SM5_r33","Location 5 Activity on 2/2","1=Yes;0=No","McDowell Named and Created"]
["SM5_r34","Location 5 Activity on 2/3","1=Yes;0=No","McDowell Named and Created"]
["SM5_r35","Location 5 Activity on 2/4","1=Yes;0=No","McDowell Named and Created"]
["SM5_r36","Location 5 Activity on 2/5","1=Yes;0=No","McDowell Named and Created"]
["SM5_r37","Location 5 Activity on 2/6","1=Yes;0=No","McDowell Named and Created"]
["SM5_r38","Location 5 Activity on 2/7","1=Yes;0=No","McDowell Named and Created"]
["SM5_r39","Location 5 Activity on 2/8","1=Yes;0=No","McDowell Named and Created"]
["SM5_r40","Location 5 Activity on 2/9","1=Yes;0=No","McDowell Named and Created"]
["SM5_r41","Location 5 Activity on 2/10","1=Yes;0=No","McDowell Named and Created"]
["SM5_r42","Location 5 Activity on 2/11","1=Yes;0=No","McDowell Named and Created"]
["SM5_r43","Location 5 Activity on 2/12","1=Yes;0=No","McDowell Named and Created"]
["SM5_r44","Location 5 Activity on 2/13","1=Yes;0=No","McDowell Named and Created"]
["SM5_r45","Location 5 Activity on 2/14","1=Yes;0=No","McDowell Named and Created"]
["SM5_r46","Location 5 Activity on 2/15","1=Yes;0=No","McDowell Named and Created"]
["SM5_r47","Location 5 Activity on 2/16","1=Yes;0=No","McDowell Named and Created"]
["SM5_r48","Location 5 Activity on 2/17","1=Yes;0=No","McDowell Named and Created"]
["SM5_r49","Location 5 Activity on 2/18","1=Yes;0=No","McDowell Named and Created"]
["SM5_r50","Location 5 Activity on 2/19","1=Yes;0=No","McDowell Named and Created"]
["SM5_r51","Location 5 Activity on 2/20","1=Yes;0=No","McDowell Named and Created"]
["SM5_r52","Location 5 Activity on 2/21","1=Yes;0=No","McDowell Named and Created"]
["SM5_r53","Location 5 Activity on 2/22","1=Yes;0=No","McDowell Named and Created"]
["SM5_r54","Location 5 Activity on 2/23","1=Yes;0=No","McDowell Named and Created"]
["SM5_r55","Location 5 Activity on 2/24","1=Yes;0=No","McDowell Named and Created"]
["SM5_r56","Location 5 Activity on 2/25","1=Yes;0=No","McDowell Named and Created"]
["SM5_r57","Location 5 Activity on 2/26","1=Yes;0=No","McDowell Named and Created"]
["SM5_r58","Location 5 Activity on 2/27","1=Yes;0=No","McDowell Named and Created"]
["SM5_r59","Location 5 Activity on 2/28","1=Yes;0=No","McDowell Named and Created"]
["SM5_r60","Location 5 Activity on 3/1","1=Yes;0=No","McDowell Named and Created"]
["SM5_r61","Location 5 Activity on 3/2","1=Yes;0=No","McDowell Named and Created"]
["SM5_r62","Location 5 Activity on 3/3","1=Yes;0=No","McDowell Named and Created"]
["SM5_r63","Location 5 Activity on 3/4","1=Yes;0=No","McDowell Named and Created"]
["SM5_r64","Location 5 Activity on 3/5","1=Yes;0=No","McDowell Named and Created"]
["SM5_r65","Location 5 Activity on 3/6","1=Yes;0=No","McDowell Named and Created"]
["SM5_r66","Location 5 Activity on 3/7","1=Yes;0=No","McDowell Named and Created"]
["SM5_r67","Location 5 Activity on 3/8","1=Yes;0=No","McDowell Named and Created"]
["SM5_r68","Location 5 Activity on 3/9","1=Yes;0=No","McDowell Named and Created"]
["SM5_r69","Location 5 Activity on 3/10","1=Yes;0=No","McDowell Named and Created"]
["SM5_r70","Location 5 Activity on 3/11","1=Yes;0=No","McDowell Named and Created"]
["SM5_r71","Location 5 Activity on 3/12","1=Yes;0=No","McDowell Named and Created"]
["SM5_r72","Location 5 Activity on 3/13","1=Yes;0=No","McDowell Named and Created"]
["SM5_r73","Location 5 Activity on 3/14","1=Yes;0=No","McDowell Named and Created"]
["SM5_r74","Location 5 Activity on 3/15","1=Yes;0=No","McDowell Named and Created"]
["SM5_r75","Location 5 Activity on 3/16","1=Yes;0=No","McDowell Named and Created"]
["SM5_r76","Location 5 Activity on 3/17","1=Yes;0=No","McDowell Named and Created"]
["SM5_r77","Location 5 Activity on 3/18","1=Yes;0=No","McDowell Named and Created"]
["SM5_r78","Location 5 Activity on 3/19","1=Yes;0=No","McDowell Named and Created"]
["SM5_r79","Location 5 Activity on 3/20","1=Yes;0=No","McDowell Named and Created"]
["SM5_r80","Location 5 Activity on 3/21","1=Yes;0=No","McDowell Named and Created"]
["SM5_r81","Location 5 Activity on 3/22","1=Yes;0=No","McDowell Named and Created"]
["SM5_r82","Location 5 Activity on 3/23","1=Yes;0=No","McDowell Named and Created"]
["SM5_r83","Location 5 Activity on 3/24","1=Yes;0=No","McDowell Named and Created"]
["SM5_r84","Location 5 Activity on 3/25","1=Yes;0=No","McDowell Named and Created"]
["SM5_r85","Location 5 Activity on 3/26","1=Yes;0=No","McDowell Named and Created"]
["SM5_r86","Location 5 Activity on 3/27","1=Yes;0=No","McDowell Named and Created"]
["SM5_r87","Location 5 Activity on 3/28","1=Yes;0=No","McDowell Named and Created"]
["SM5_r88","Location 5 Activity on 3/29","1=Yes;0=No","McDowell Named and Created"]
["SM5_r89","Location 5 Activity on 3/30","1=Yes;0=No","McDowell Named and Created"]
["SM5_r90","Location 5 Activity on 3/31","1=Yes;0=No","McDowell Named and Created"]
["SM5_r91","Location 5 Activity on 4/1","1=Yes;0=No","McDowell Named and Created"]
["SM5_r92","Location 5 Activity on 4/2","1=Yes;0=No","McDowell Named and Created"]
["SM5_r93","Location 5 Activity on 4/3","1=Yes;0=No","McDowell Named and Created"]
["SM5_r94","Location 5 Activity on 4/4","1=Yes;0=No","McDowell Named and Created"]
["SM5_r95","Location 5 Activity on 4/5","1=Yes;0=No","McDowell Named and Created"]
["SM5_r96","Location 5 Activity on 4/6","1=Yes;0=No","McDowell Named and Created"]
["SM5_r97","Location 5 Activity on 4/7","1=Yes;0=No","McDowell Named and Created"]
["SM5_r98","Location 5 Activity on 4/8","1=Yes;0=No","McDowell Named and Created"]
["SM5_r99","Location 5 Activity on 4/9","1=Yes;0=No","McDowell Named and Created"]
["SM5_r100","Location 5 Activity on 4/10","1=Yes;0=No","McDowell Named and Created"]
["SM5_r101","Location 5 Activity on 4/11","1=Yes;0=No","McDowell Named and Created"]
["SM5_r102","Location 5 Activity on 4/12","1=Yes;0=No","McDowell Named and Created"]
["SM5_r103","Location 5 Activity on 4/13","1=Yes;0=No","McDowell Named and Created"]
["SM5_r104","Location 5 Activity on 4/14","1=Yes;0=No","McDowell Named and Created"]
["SM5_r105","Location 5 Activity on 4/15","1=Yes;0=No","McDowell Named and Created"]
["SM5_r106","Location 5 Activity on 4/16","1=Yes;0=No","McDowell Named and Created"]
["SM5_r107","Location 5 Activity on 4/17","1=Yes;0=No","McDowell Named and Created"]
["SM5_r108","Location 5 Activity on 4/18","1=Yes;0=No","McDowell Named and Created"]
["SM5_r109","Location 5 Activity on 4/19","1=Yes;0=No","McDowell Named and Created"]
["SM5_r110","Location 5 Activity on 4/20","1=Yes;0=No","McDowell Named and Created"]
["SM5_r111","Location 5 Activity on 4/21","1=Yes;0=No","McDowell Named and Created"]
["SM5_r112","Location 5 Activity on 4/22","1=Yes;0=No","McDowell Named and Created"]
["SM5_r113","Location 5 Activity on 4/23","1=Yes;0=No","McDowell Named and Created"]
["SM5_r114","Location 5 Activity on 4/24","1=Yes;0=No","McDowell Named and Created"]
["SM5_r115","Location 5 Activity on 4/25","1=Yes;0=No","McDowell Named and Created"]
["SM5_r116","Location 5 Activity on 4/26","1=Yes;0=No","McDowell Named and Created"]
["SM5_r117","Location 5 Activity on 4/27","1=Yes;0=No","McDowell Named and Created"]
["SM5_r118","Location 5 Activity on 4/28","1=Yes;0=No","McDowell Named and Created"]
["SM5_r119","Location 5 Activity on 4/29","1=Yes;0=No","McDowell Named and Created"]
["SM5_r120","Location 5 Activity on 4/30","1=Yes;0=No","McDowell Named and Created"]
["SM6_r1","Location 6 Activity on 1/1","1=Yes;0=No","McDowell Named and Created"]
["SM6_r2","Location 6 Activity on 1/2","1=Yes;0=No","McDowell Named and Created"]
["SM6_r3","Location 6 Activity on 1/3","1=Yes;0=No","McDowell Named and Created"]
["SM6_r4","Location 6 Activity on 1/4","1=Yes;0=No","McDowell Named and Created"]
["SM6_r5","Location 6 Activity on 1/5","1=Yes;0=No","McDowell Named and Created"]
["SM6_r6","Location 6 Activity on 1/6","1=Yes;0=No","McDowell Named and Created"]
["SM6_r7","Location 6 Activity on 1/7","1=Yes;0=No","McDowell Named and Created"]
["SM6_r8","Location 6 Activity on 1/8","1=Yes;0=No","McDowell Named and Created"]
["SM6_r9","Location 6 Activity on 1/9","1=Yes;0=No","McDowell Named and Created"]
["SM6_r10","Location 6 Activity on 1/10","1=Yes;0=No","McDowell Named and Created"]
["SM6_r11","Location 6 Activity on 1/11","1=Yes;0=No","McDowell Named and Created"]
["SM6_r12","Location 6 Activity on 1/12","1=Yes;0=No","McDowell Named and Created"]
["SM6_r13","Location 6 Activity on 1/13","1=Yes;0=No","McDowell Named and Created"]
["SM6_r14","Location 6 Activity on 1/14","1=Yes;0=No","McDowell Named and Created"]
["SM6_r15","Location 6 Activity on 1/15","1=Yes;0=No","McDowell Named and Created"]
["SM6_r16","Location 6 Activity on 1/16","1=Yes;0=No","McDowell Named and Created"]
["SM6_r17","Location 6 Activity on 1/17","1=Yes;0=No","McDowell Named and Created"]
["SM6_r18","Location 6 Activity on 1/18","1=Yes;0=No","McDowell Named and Created"]
["SM6_r19","Location 6 Activity on 1/19","1=Yes;0=No","McDowell Named and Created"]
["SM6_r20","Location 6 Activity on 1/20","1=Yes;0=No","McDowell Named and Created"]
["SM6_r21","Location 6 Activity on 1/21","1=Yes;0=No","McDowell Named and Created"]
["SM6_r22","Location 6 Activity on 1/22","1=Yes;0=No","McDowell Named and Created"]
["SM6_r23","Location 6 Activity on 1/23","1=Yes;0=No","McDowell Named and Created"]
["SM6_r24","Location 6 Activity on 1/24","1=Yes;0=No","McDowell Named and Created"]
["SM6_r25","Location 6 Activity on 1/25","1=Yes;0=No","McDowell Named and Created"]
["SM6_r26","Location 6 Activity on 1/26","1=Yes;0=No","McDowell Named and Created"]
["SM6_r27","Location 6 Activity on 1/27","1=Yes;0=No","McDowell Named and Created"]
["SM6_r28","Location 6 Activity on 1/28","1=Yes;0=No","McDowell Named and Created"]
["SM6_r29","Location 6 Activity on 1/29","1=Yes;0=No","McDowell Named and Created"]
["SM6_r30","Location 6 Activity on 1/30","1=Yes;0=No","McDowell Named and Created"]
["SM6_r31","Location 6 Activity on 1/31","1=Yes;0=No","McDowell Named and Created"]
["SM6_r32","Location 6 Activity on 2/1","1=Yes;0=No","McDowell Named and Created"]
["SM6_r33","Location 6 Activity on 2/2","1=Yes;0=No","McDowell Named and Created"]
["SM6_r34","Location 6 Activity on 2/3","1=Yes;0=No","McDowell Named and Created"]
["SM6_r35","Location 6 Activity on 2/4","1=Yes;0=No","McDowell Named and Created"]
["SM6_r36","Location 6 Activity on 2/5","1=Yes;0=No","McDowell Named and Created"]
["SM6_r37","Location 6 Activity on 2/6","1=Yes;0=No","McDowell Named and Created"]
["SM6_r38","Location 6 Activity on 2/7","1=Yes;0=No","McDowell Named and Created"]
["SM6_r39","Location 6 Activity on 2/8","1=Yes;0=No","McDowell Named and Created"]
["SM6_r40","Location 6 Activity on 2/9","1=Yes;0=No","McDowell Named and Created"]
["SM6_r41","Location 6 Activity on 2/10","1=Yes;0=No","McDowell Named and Created"]
["SM6_r42","Location 6 Activity on 2/11","1=Yes;0=No","McDowell Named and Created"]
["SM6_r43","Location 6 Activity on 2/12","1=Yes;0=No","McDowell Named and Created"]
["SM6_r44","Location 6 Activity on 2/13","1=Yes;0=No","McDowell Named and Created"]
["SM6_r45","Location 6 Activity on 2/14","1=Yes;0=No","McDowell Named and Created"]
["SM6_r46","Location 6 Activity on 2/15","1=Yes;0=No","McDowell Named and Created"]
["SM6_r47","Location 6 Activity on 2/16","1=Yes;0=No","McDowell Named and Created"]
["SM6_r48","Location 6 Activity on 2/17","1=Yes;0=No","McDowell Named and Created"]
["SM6_r49","Location 6 Activity on 2/18","1=Yes;0=No","McDowell Named and Created"]
["SM6_r50","Location 6 Activity on 2/19","1=Yes;0=No","McDowell Named and Created"]
["SM6_r51","Location 6 Activity on 2/20","1=Yes;0=No","McDowell Named and Created"]
["SM6_r52","Location 6 Activity on 2/21","1=Yes;0=No","McDowell Named and Created"]
["SM6_r53","Location 6 Activity on 2/22","1=Yes;0=No","McDowell Named and Created"]
["SM6_r54","Location 6 Activity on 2/23","1=Yes;0=No","McDowell Named and Created"]
["SM6_r55","Location 6 Activity on 2/24","1=Yes;0=No","McDowell Named and Created"]
["SM6_r56","Location 6 Activity on 2/25","1=Yes;0=No","McDowell Named and Created"]
["SM6_r57","Location 6 Activity on 2/26","1=Yes;0=No","McDowell Named and Created"]
["SM6_r58","Location 6 Activity on 2/27","1=Yes;0=No","McDowell Named and Created"]
["SM6_r59","Location 6 Activity on 2/28","1=Yes;0=No","McDowell Named and Created"]
["SM6_r60","Location 6 Activity on 3/1","1=Yes;0=No","McDowell Named and Created"]
["SM6_r61","Location 6 Activity on 3/2","1=Yes;0=No","McDowell Named and Created"]
["SM6_r62","Location 6 Activity on 3/3","1=Yes;0=No","McDowell Named and Created"]
["SM6_r63","Location 6 Activity on 3/4","1=Yes;0=No","McDowell Named and Created"]
["SM6_r64","Location 6 Activity on 3/5","1=Yes;0=No","McDowell Named and Created"]
["SM6_r65","Location 6 Activity on 3/6","1=Yes;0=No","McDowell Named and Created"]
["SM6_r66","Location 6 Activity on 3/7","1=Yes;0=No","McDowell Named and Created"]
["SM6_r67","Location 6 Activity on 3/8","1=Yes;0=No","McDowell Named and Created"]
["SM6_r68","Location 6 Activity on 3/9","1=Yes;0=No","McDowell Named and Created"]
["SM6_r69","Location 6 Activity on 3/10","1=Yes;0=No","McDowell Named and Created"]
["SM6_r70","Location 6 Activity on 3/11","1=Yes;0=No","McDowell Named and Created"]
["SM6_r71","Location 6 Activity on 3/12","1=Yes;0=No","McDowell Named and Created"]
["SM6_r72","Location 6 Activity on 3/13","1=Yes;0=No","McDowell Named and Created"]
["SM6_r73","Location 6 Activity on 3/14","1=Yes;0=No","McDowell Named and Created"]
["SM6_r74","Location 6 Activity on 3/15","1=Yes;0=No","McDowell Named and Created"]
["SM6_r75","Location 6 Activity on 3/16","1=Yes;0=No","McDowell Named and Created"]
["SM6_r76","Location 6 Activity on 3/17","1=Yes;0=No","McDowell Named and Created"]
["SM6_r77","Location 6 Activity on 3/18","1=Yes;0=No","McDowell Named and Created"]
["SM6_r78","Location 6 Activity on 3/19","1=Yes;0=No","McDowell Named and Created"]
["SM6_r79","Location 6 Activity on 3/20","1=Yes;0=No","McDowell Named and Created"]
["SM6_r80","Location 6 Activity on 3/21","1=Yes;0=No","McDowell Named and Created"]
["SM6_r81","Location 6 Activity on 3/22","1=Yes;0=No","McDowell Named and Created"]
["SM6_r82","Location 6 Activity on 3/23","1=Yes;0=No","McDowell Named and Created"]
["SM6_r83","Location 6 Activity on 3/24","1=Yes;0=No","McDowell Named and Created"]
["SM6_r84","Location 6 Activity on 3/25","1=Yes;0=No","McDowell Named and Created"]
["SM6_r85","Location 6 Activity on 3/26","1=Yes;0=No","McDowell Named and Created"]
["SM6_r86","Location 6 Activity on 3/27","1=Yes;0=No","McDowell Named and Created"]
["SM6_r87","Location 6 Activity on 3/28","1=Yes;0=No","McDowell Named and Created"]
["SM6_r88","Location 6 Activity on 3/29","1=Yes;0=No","McDowell Named and Created"]
["SM6_r89","Location 6 Activity on 3/30","1=Yes;0=No","McDowell Named and Created"]
["SM6_r90","Location 6 Activity on 3/31","1=Yes;0=No","McDowell Named and Created"]
["SM6_r91","Location 6 Activity on 4/1","1=Yes;0=No","McDowell Named and Created"]
["SM6_r92","Location 6 Activity on 4/2","1=Yes;0=No","McDowell Named and Created"]
["SM6_r93","Location 6 Activity on 4/3","1=Yes;0=No","McDowell Named and Created"]
["SM6_r94","Location 6 Activity on 4/4","1=Yes;0=No","McDowell Named and Created"]
["SM6_r95","Location 6 Activity on 4/5","1=Yes;0=No","McDowell Named and Created"]
["SM6_r96","Location 6 Activity on 4/6","1=Yes;0=No","McDowell Named and Created"]
["SM6_r97","Location 6 Activity on 4/7","1=Yes;0=No","McDowell Named and Created"]
["SM6_r98","Location 6 Activity on 4/8","1=Yes;0=No","McDowell Named and Created"]
["SM6_r99","Location 6 Activity on 4/9","1=Yes;0=No","McDowell Named and Created"]
["SM6_r100","Location 6 Activity on 4/10","1=Yes;0=No","McDowell Named and Created"]
["SM6_r101","Location 6 Activity on 4/11","1=Yes;0=No","McDowell Named and Created"]
["SM6_r102","Location 6 Activity on 4/12","1=Yes;0=No","McDowell Named and Created"]
["SM6_r103","Location 6 Activity on 4/13","1=Yes;0=No","McDowell Named and Created"]
["SM6_r104","Location 6 Activity on 4/14","1=Yes;0=No","McDowell Named and Created"]
["SM6_r105","Location 6 Activity on 4/15","1=Yes;0=No","McDowell Named and Created"]
["SM6_r106","Location 6 Activity on 4/16","1=Yes;0=No","McDowell Named and Created"]
["SM6_r107","Location 6 Activity on 4/17","1=Yes;0=No","McDowell Named and Created"]
["SM6_r108","Location 6 Activity on 4/18","1=Yes;0=No","McDowell Named and Created"]
["SM6_r109","Location 6 Activity on 4/19","1=Yes;0=No","McDowell Named and Created"]
["SM6_r110","Location 6 Activity on 4/20","1=Yes;0=No","McDowell Named and Created"]
["SM6_r111","Location 6 Activity on 4/21","1=Yes;0=No","McDowell Named and Created"]
["SM6_r112","Location 6 Activity on 4/22","1=Yes;0=No","McDowell Named and Created"]
["SM6_r113","Location 6 Activity on 4/23","1=Yes;0=No","McDowell Named and Created"]
["SM6_r114","Location 6 Activity on 4/24","1=Yes;0=No","McDowell Named and Created"]
["SM6_r115","Location 6 Activity on 4/25","1=Yes;0=No","McDowell Named and Created"]
["SM6_r116","Location 6 Activity on 4/26","1=Yes;0=No","McDowell Named and Created"]
["SM6_r117","Location 6 Activity on 4/27","1=Yes;0=No","McDowell Named and Created"]
["SM6_r118","Location 6 Activity on 4/28","1=Yes;0=No","McDowell Named and Created"]
["SM6_r119","Location 6 Activity on 4/29","1=Yes;0=No","McDowell Named and Created"]
["SM6_r120","Location 6 Activity on 4/30","1=Yes;0=No","McDowell Named and Created"]
["SM7_r1","Location 7 Activity on 1/1","1=Yes;0=No","McDowell Named and Created"]
["SM7_r2","Location 7 Activity on 1/2","1=Yes;0=No","McDowell Named and Created"]
["SM7_r3","Location 7 Activity on 1/3","1=Yes;0=No","McDowell Named and Created"]
["SM7_r4","Location 7 Activity on 1/4","1=Yes;0=No","McDowell Named and Created"]
["SM7_r5","Location 7 Activity on 1/5","1=Yes;0=No","McDowell Named and Created"]
["SM7_r6","Location 7 Activity on 1/6","1=Yes;0=No","McDowell Named and Created"]
["SM7_r7","Location 7 Activity on 1/7","1=Yes;0=No","McDowell Named and Created"]
["SM7_r8","Location 7 Activity on 1/8","1=Yes;0=No","McDowell Named and Created"]
["SM7_r9","Location 7 Activity on 1/9","1=Yes;0=No","McDowell Named and Created"]
["SM7_r10","Location 7 Activity on 1/10","1=Yes;0=No","McDowell Named and Created"]
["SM7_r11","Location 7 Activity on 1/11","1=Yes;0=No","McDowell Named and Created"]
["SM7_r12","Location 7 Activity on 1/12","1=Yes;0=No","McDowell Named and Created"]
["SM7_r13","Location 7 Activity on 1/13","1=Yes;0=No","McDowell Named and Created"]
["SM7_r14","Location 7 Activity on 1/14","1=Yes;0=No","McDowell Named and Created"]
["SM7_r15","Location 7 Activity on 1/15","1=Yes;0=No","McDowell Named and Created"]
["SM7_r16","Location 7 Activity on 1/16","1=Yes;0=No","McDowell Named and Created"]
["SM7_r17","Location 7 Activity on 1/17","1=Yes;0=No","McDowell Named and Created"]
["SM7_r18","Location 7 Activity on 1/18","1=Yes;0=No","McDowell Named and Created"]
["SM7_r19","Location 7 Activity on 1/19","1=Yes;0=No","McDowell Named and Created"]
["SM7_r20","Location 7 Activity on 1/20","1=Yes;0=No","McDowell Named and Created"]
["SM7_r21","Location 7 Activity on 1/21","1=Yes;0=No","McDowell Named and Created"]
["SM7_r22","Location 7 Activity on 1/22","1=Yes;0=No","McDowell Named and Created"]
["SM7_r23","Location 7 Activity on 1/23","1=Yes;0=No","McDowell Named and Created"]
["SM7_r24","Location 7 Activity on 1/24","1=Yes;0=No","McDowell Named and Created"]
["SM7_r25","Location 7 Activity on 1/25","1=Yes;0=No","McDowell Named and Created"]
["SM7_r26","Location 7 Activity on 1/26","1=Yes;0=No","McDowell Named and Created"]
["SM7_r27","Location 7 Activity on 1/27","1=Yes;0=No","McDowell Named and Created"]
["SM7_r28","Location 7 Activity on 1/28","1=Yes;0=No","McDowell Named and Created"]
["SM7_r29","Location 7 Activity on 1/29","1=Yes;0=No","McDowell Named and Created"]
["SM7_r30","Location 7 Activity on 1/30","1=Yes;0=No","McDowell Named and Created"]
["SM7_r31","Location 7 Activity on 1/31","1=Yes;0=No","McDowell Named and Created"]
["SM7_r32","Location 7 Activity on 2/1","1=Yes;0=No","McDowell Named and Created"]
["SM7_r33","Location 7 Activity on 2/2","1=Yes;0=No","McDowell Named and Created"]
["SM7_r34","Location 7 Activity on 2/3","1=Yes;0=No","McDowell Named and Created"]
["SM7_r35","Location 7 Activity on 2/4","1=Yes;0=No","McDowell Named and Created"]
["SM7_r36","Location 7 Activity on 2/5","1=Yes;0=No","McDowell Named and Created"]
["SM7_r37","Location 7 Activity on 2/6","1=Yes;0=No","McDowell Named and Created"]
["SM7_r38","Location 7 Activity on 2/7","1=Yes;0=No","McDowell Named and Created"]
["SM7_r39","Location 7 Activity on 2/8","1=Yes;0=No","McDowell Named and Created"]
["SM7_r40","Location 7 Activity on 2/9","1=Yes;0=No","McDowell Named and Created"]
["SM7_r41","Location 7 Activity on 2/10","1=Yes;0=No","McDowell Named and Created"]
["SM7_r42","Location 7 Activity on 2/11","1=Yes;0=No","McDowell Named and Created"]
["SM7_r43","Location 7 Activity on 2/12","1=Yes;0=No","McDowell Named and Created"]
["SM7_r44","Location 7 Activity on 2/13","1=Yes;0=No","McDowell Named and Created"]
["SM7_r45","Location 7 Activity on 2/14","1=Yes;0=No","McDowell Named and Created"]
["SM7_r46","Location 7 Activity on 2/15","1=Yes;0=No","McDowell Named and Created"]
["SM7_r47","Location 7 Activity on 2/16","1=Yes;0=No","McDowell Named and Created"]
["SM7_r48","Location 7 Activity on 2/17","1=Yes;0=No","McDowell Named and Created"]
["SM7_r49","Location 7 Activity on 2/18","1=Yes;0=No","McDowell Named and Created"]
["SM7_r50","Location 7 Activity on 2/19","1=Yes;0=No","McDowell Named and Created"]
["SM7_r51","Location 7 Activity on 2/20","1=Yes;0=No","McDowell Named and Created"]
["SM7_r52","Location 7 Activity on 2/21","1=Yes;0=No","McDowell Named and Created"]
["SM7_r53","Location 7 Activity on 2/22","1=Yes;0=No","McDowell Named and Created"]
["SM7_r54","Location 7 Activity on 2/23","1=Yes;0=No","McDowell Named and Created"]
["SM7_r55","Location 7 Activity on 2/24","1=Yes;0=No","McDowell Named and Created"]
["SM7_r56","Location 7 Activity on 2/25","1=Yes;0=No","McDowell Named and Created"]
["SM7_r57","Location 7 Activity on 2/26","1=Yes;0=No","McDowell Named and Created"]
["SM7_r58","Location 7 Activity on 2/27","1=Yes;0=No","McDowell Named and Created"]
["SM7_r59","Location 7 Activity on 2/28","1=Yes;0=No","McDowell Named and Created"]
["SM7_r60","Location 7 Activity on 3/1","1=Yes;0=No","McDowell Named and Created"]
["SM7_r61","Location 7 Activity on 3/2","1=Yes;0=No","McDowell Named and Created"]
["SM7_r62","Location 7 Activity on 3/3","1=Yes;0=No","McDowell Named and Created"]
["SM7_r63","Location 7 Activity on 3/4","1=Yes;0=No","McDowell Named and Created"]
["SM7_r64","Location 7 Activity on 3/5","1=Yes;0=No","McDowell Named and Created"]
["SM7_r65","Location 7 Activity on 3/6","1=Yes;0=No","McDowell Named and Created"]
["SM7_r66","Location 7 Activity on 3/7","1=Yes;0=No","McDowell Named and Created"]
["SM7_r67","Location 7 Activity on 3/8","1=Yes;0=No","McDowell Named and Created"]
["SM7_r68","Location 7 Activity on 3/9","1=Yes;0=No","McDowell Named and Created"]
["SM7_r69","Location 7 Activity on 3/10","1=Yes;0=No","McDowell Named and Created"]
["SM7_r70","Location 7 Activity on 3/11","1=Yes;0=No","McDowell Named and Created"]
["SM7_r71","Location 7 Activity on 3/12","1=Yes;0=No","McDowell Named and Created"]
["SM7_r72","Location 7 Activity on 3/13","1=Yes;0=No","McDowell Named and Created"]
["SM7_r73","Location 7 Activity on 3/14","1=Yes;0=No","McDowell Named and Created"]
["SM7_r74","Location 7 Activity on 3/15","1=Yes;0=No","McDowell Named and Created"]
["SM7_r75","Location 7 Activity on 3/16","1=Yes;0=No","McDowell Named and Created"]
["SM7_r76","Location 7 Activity on 3/17","1=Yes;0=No","McDowell Named and Created"]
["SM7_r77","Location 7 Activity on 3/18","1=Yes;0=No","McDowell Named and Created"]
["SM7_r78","Location 7 Activity on 3/19","1=Yes;0=No","McDowell Named and Created"]
["SM7_r79","Location 7 Activity on 3/20","1=Yes;0=No","McDowell Named and Created"]
["SM7_r80","Location 7 Activity on 3/21","1=Yes;0=No","McDowell Named and Created"]
["SM7_r81","Location 7 Activity on 3/22","1=Yes;0=No","McDowell Named and Created"]
["SM7_r82","Location 7 Activity on 3/23","1=Yes;0=No","McDowell Named and Created"]
["SM7_r83","Location 7 Activity on 3/24","1=Yes;0=No","McDowell Named and Created"]
["SM7_r84","Location 7 Activity on 3/25","1=Yes;0=No","McDowell Named and Created"]
["SM7_r85","Location 7 Activity on 3/26","1=Yes;0=No","McDowell Named and Created"]
["SM7_r86","Location 7 Activity on 3/27","1=Yes;0=No","McDowell Named and Created"]
["SM7_r87","Location 7 Activity on 3/28","1=Yes;0=No","McDowell Named and Created"]
["SM7_r88","Location 7 Activity on 3/29","1=Yes;0=No","McDowell Named and Created"]
["SM7_r89","Location 7 Activity on 3/30","1=Yes;0=No","McDowell Named and Created"]
["SM7_r90","Location 7 Activity on 3/31","1=Yes;0=No","McDowell Named and Created"]
["SM7_r91","Location 7 Activity on 4/1","1=Yes;0=No","McDowell Named and Created"]
["SM7_r92","Location 7 Activity on 4/2","1=Yes;0=No","McDowell Named and Created"]
["SM7_r93","Location 7 Activity on 4/3","1=Yes;0=No","McDowell Named and Created"]
["SM7_r94","Location 7 Activity on 4/4","1=Yes;0=No","McDowell Named and Created"]
["SM7_r95","Location 7 Activity on 4/5","1=Yes;0=No","McDowell Named and Created"]
["SM7_r96","Location 7 Activity on 4/6","1=Yes;0=No","McDowell Named and Created"]
["SM7_r97","Location 7 Activity on 4/7","1=Yes;0=No","McDowell Named and Created"]
["SM7_r98","Location 7 Activity on 4/8","1=Yes;0=No","McDowell Named and Created"]
["SM7_r99","Location 7 Activity on 4/9","1=Yes;0=No","McDowell Named and Created"]
["SM7_r100","Location 7 Activity on 4/10","1=Yes;0=No","McDowell Named and Created"]
["SM7_r101","Location 7 Activity on 4/11","1=Yes;0=No","McDowell Named and Created"]
["SM7_r102","Location 7 Activity on 4/12","1=Yes;0=No","McDowell Named and Created"]
["SM7_r103","Location 7 Activity on 4/13","1=Yes;0=No","McDowell Named and Created"]
["SM7_r104","Location 7 Activity on 4/14","1=Yes;0=No","McDowell Named and Created"]
["SM7_r105","Location 7 Activity on 4/15","1=Yes;0=No","McDowell Named and Created"]
["SM7_r106","Location 7 Activity on 4/16","1=Yes;0=No","McDowell Named and Created"]
["SM7_r107","Location 7 Activity on 4/17","1=Yes;0=No","McDowell Named and Created"]
["SM7_r108","Location 7 Activity on 4/18","1=Yes;0=No","McDowell Named and Created"]
["SM7_r109","Location 7 Activity on 4/19","1=Yes;0=No","McDowell Named and Created"]
["SM7_r110","Location 7 Activity on 4/20","1=Yes;0=No","McDowell Named and Created"]
["SM7_r111","Location 7 Activity on 4/21","1=Yes;0=No","McDowell Named and Created"]
["SM7_r112","Location 7 Activity on 4/22","1=Yes;0=No","McDowell Named and Created"]
["SM7_r113","Location 7 Activity on 4/23","1=Yes;0=No","McDowell Named and Created"]
["SM7_r114","Location 7 Activity on 4/24","1=Yes;0=No","McDowell Named and Created"]
["SM7_r115","Location 7 Activity on 4/25","1=Yes;0=No","McDowell Named and Created"]
["SM7_r116","Location 7 Activity on 4/26","1=Yes;0=No","McDowell Named and Created"]
["SM7_r117","Location 7 Activity on 4/27","1=Yes;0=No","McDowell Named and Created"]
["SM7_r118","Location 7 Activity on 4/28","1=Yes;0=No","McDowell Named and Created"]
["SM7_r119","Location 7 Activity on 4/29","1=Yes;0=No","McDowell Named and Created"]
["SM7_r120","Location 7 Activity on 4/30","1=Yes;0=No","McDowell Named and Created"]
["SM8_r1","Location 8 Activity on 1/1","1=Yes;0=No","McDowell Named and Created"]
["SM8_r2","Location 8 Activity on 1/2","1=Yes;0=No","McDowell Named and Created"]
["SM8_r3","Location 8 Activity on 1/3","1=Yes;0=No","McDowell Named and Created"]
["SM8_r4","Location 8 Activity on 1/4","1=Yes;0=No","McDowell Named and Created"]
["SM8_r5","Location 8 Activity on 1/5","1=Yes;0=No","McDowell Named and Created"]
["SM8_r6","Location 8 Activity on 1/6","1=Yes;0=No","McDowell Named and Created"]
["SM8_r7","Location 8 Activity on 1/7","1=Yes;0=No","McDowell Named and Created"]
["SM8_r8","Location 8 Activity on 1/8","1=Yes;0=No","McDowell Named and Created"]
["SM8_r9","Location 8 Activity on 1/9","1=Yes;0=No","McDowell Named and Created"]
["SM8_r10","Location 8 Activity on 1/10","1=Yes;0=No","McDowell Named and Created"]
["SM8_r11","Location 8 Activity on 1/11","1=Yes;0=No","McDowell Named and Created"]
["SM8_r12","Location 8 Activity on 1/12","1=Yes;0=No","McDowell Named and Created"]
["SM8_r13","Location 8 Activity on 1/13","1=Yes;0=No","McDowell Named and Created"]
["SM8_r14","Location 8 Activity on 1/14","1=Yes;0=No","McDowell Named and Created"]
["SM8_r15","Location 8 Activity on 1/15","1=Yes;0=No","McDowell Named and Created"]
["SM8_r16","Location 8 Activity on 1/16","1=Yes;0=No","McDowell Named and Created"]
["SM8_r17","Location 8 Activity on 1/17","1=Yes;0=No","McDowell Named and Created"]
["SM8_r18","Location 8 Activity on 1/18","1=Yes;0=No","McDowell Named and Created"]
["SM8_r19","Location 8 Activity on 1/19","1=Yes;0=No","McDowell Named and Created"]
["SM8_r20","Location 8 Activity on 1/20","1=Yes;0=No","McDowell Named and Created"]
["SM8_r21","Location 8 Activity on 1/21","1=Yes;0=No","McDowell Named and Created"]
["SM8_r22","Location 8 Activity on 1/22","1=Yes;0=No","McDowell Named and Created"]
["SM8_r23","Location 8 Activity on 1/23","1=Yes;0=No","McDowell Named and Created"]
["SM8_r24","Location 8 Activity on 1/24","1=Yes;0=No","McDowell Named and Created"]
["SM8_r25","Location 8 Activity on 1/25","1=Yes;0=No","McDowell Named and Created"]
["SM8_r26","Location 8 Activity on 1/26","1=Yes;0=No","McDowell Named and Created"]
["SM8_r27","Location 8 Activity on 1/27","1=Yes;0=No","McDowell Named and Created"]
["SM8_r28","Location 8 Activity on 1/28","1=Yes;0=No","McDowell Named and Created"]
["SM8_r29","Location 8 Activity on 1/29","1=Yes;0=No","McDowell Named and Created"]
["SM8_r30","Location 8 Activity on 1/30","1=Yes;0=No","McDowell Named and Created"]
["SM8_r31","Location 8 Activity on 1/31","1=Yes;0=No","McDowell Named and Created"]
["SM8_r32","Location 8 Activity on 2/1","1=Yes;0=No","McDowell Named and Created"]
["SM8_r33","Location 8 Activity on 2/2","1=Yes;0=No","McDowell Named and Created"]
["SM8_r34","Location 8 Activity on 2/3","1=Yes;0=No","McDowell Named and Created"]
["SM8_r35","Location 8 Activity on 2/4","1=Yes;0=No","McDowell Named and Created"]
["SM8_r36","Location 8 Activity on 2/5","1=Yes;0=No","McDowell Named and Created"]
["SM8_r37","Location 8 Activity on 2/6","1=Yes;0=No","McDowell Named and Created"]
["SM8_r38","Location 8 Activity on 2/7","1=Yes;0=No","McDowell Named and Created"]
["SM8_r39","Location 8 Activity on 2/8","1=Yes;0=No","McDowell Named and Created"]
["SM8_r40","Location 8 Activity on 2/9","1=Yes;0=No","McDowell Named and Created"]
["SM8_r41","Location 8 Activity on 2/10","1=Yes;0=No","McDowell Named and Created"]
["SM8_r42","Location 8 Activity on 2/11","1=Yes;0=No","McDowell Named and Created"]
["SM8_r43","Location 8 Activity on 2/12","1=Yes;0=No","McDowell Named and Created"]
["SM8_r44","Location 8 Activity on 2/13","1=Yes;0=No","McDowell Named and Created"]
["SM8_r45","Location 8 Activity on 2/14","1=Yes;0=No","McDowell Named and Created"]
["SM8_r46","Location 8 Activity on 2/15","1=Yes;0=No","McDowell Named and Created"]
["SM8_r47","Location 8 Activity on 2/16","1=Yes;0=No","McDowell Named and Created"]
["SM8_r48","Location 8 Activity on 2/17","1=Yes;0=No","McDowell Named and Created"]
["SM8_r49","Location 8 Activity on 2/18","1=Yes;0=No","McDowell Named and Created"]
["SM8_r50","Location 8 Activity on 2/19","1=Yes;0=No","McDowell Named and Created"]
["SM8_r51","Location 8 Activity on 2/20","1=Yes;0=No","McDowell Named and Created"]
["SM8_r52","Location 8 Activity on 2/21","1=Yes;0=No","McDowell Named and Created"]
["SM8_r53","Location 8 Activity on 2/22","1=Yes;0=No","McDowell Named and Created"]
["SM8_r54","Location 8 Activity on 2/23","1=Yes;0=No","McDowell Named and Created"]
["SM8_r55","Location 8 Activity on 2/24","1=Yes;0=No","McDowell Named and Created"]
["SM8_r56","Location 8 Activity on 2/25","1=Yes;0=No","McDowell Named and Created"]
["SM8_r57","Location 8 Activity on 2/26","1=Yes;0=No","McDowell Named and Created"]
["SM8_r58","Location 8 Activity on 2/27","1=Yes;0=No","McDowell Named and Created"]
["SM8_r59","Location 8 Activity on 2/28","1=Yes;0=No","McDowell Named and Created"]
["SM8_r60","Location 8 Activity on 3/1","1=Yes;0=No","McDowell Named and Created"]
["SM8_r61","Location 8 Activity on 3/2","1=Yes;0=No","McDowell Named and Created"]
["SM8_r62","Location 8 Activity on 3/3","1=Yes;0=No","McDowell Named and Created"]
["SM8_r63","Location 8 Activity on 3/4","1=Yes;0=No","McDowell Named and Created"]
["SM8_r64","Location 8 Activity on 3/5","1=Yes;0=No","McDowell Named and Created"]
["SM8_r65","Location 8 Activity on 3/6","1=Yes;0=No","McDowell Named and Created"]
["SM8_r66","Location 8 Activity on 3/7","1=Yes;0=No","McDowell Named and Created"]
["SM8_r67","Location 8 Activity on 3/8","1=Yes;0=No","McDowell Named and Created"]
["SM8_r68","Location 8 Activity on 3/9","1=Yes;0=No","McDowell Named and Created"]
["SM8_r69","Location 8 Activity on 3/10","1=Yes;0=No","McDowell Named and Created"]
["SM8_r70","Location 8 Activity on 3/11","1=Yes;0=No","McDowell Named and Created"]
["SM8_r71","Location 8 Activity on 3/12","1=Yes;0=No","McDowell Named and Created"]
["SM8_r72","Location 8 Activity on 3/13","1=Yes;0=No","McDowell Named and Created"]
["SM8_r73","Location 8 Activity on 3/14","1=Yes;0=No","McDowell Named and Created"]
["SM8_r74","Location 8 Activity on 3/15","1=Yes;0=No","McDowell Named and Created"]
["SM8_r75","Location 8 Activity on 3/16","1=Yes;0=No","McDowell Named and Created"]
["SM8_r76","Location 8 Activity on 3/17","1=Yes;0=No","McDowell Named and Created"]
["SM8_r77","Location 8 Activity on 3/18","1=Yes;0=No","McDowell Named and Created"]
["SM8_r78","Location 8 Activity on 3/19","1=Yes;0=No","McDowell Named and Created"]
["SM8_r79","Location 8 Activity on 3/20","1=Yes;0=No","McDowell Named and Created"]
["SM8_r80","Location 8 Activity on 3/21","1=Yes;0=No","McDowell Named and Created"]
["SM8_r81","Location 8 Activity on 3/22","1=Yes;0=No","McDowell Named and Created"]
["SM8_r82","Location 8 Activity on 3/23","1=Yes;0=No","McDowell Named and Created"]
["SM8_r83","Location 8 Activity on 3/24","1=Yes;0=No","McDowell Named and Created"]
["SM8_r84","Location 8 Activity on 3/25","1=Yes;0=No","McDowell Named and Created"]
["SM8_r85","Location 8 Activity on 3/26","1=Yes;0=No","McDowell Named and Created"]
["SM8_r86","Location 8 Activity on 3/27","1=Yes;0=No","McDowell Named and Created"]
["SM8_r87","Location 8 Activity on 3/28","1=Yes;0=No","McDowell Named and Created"]
["SM8_r88","Location 8 Activity on 3/29","1=Yes;0=No","McDowell Named and Created"]
["SM8_r89","Location 8 Activity on 3/30","1=Yes;0=No","McDowell Named and Created"]
["SM8_r90","Location 8 Activity on 3/31","1=Yes;0=No","McDowell Named and Created"]
["SM8_r91","Location 8 Activity on 4/1","1=Yes;0=No","McDowell Named and Created"]
["SM8_r92","Location 8 Activity on 4/2","1=Yes;0=No","McDowell Named and Created"]
["SM8_r93","Location 8 Activity on 4/3","1=Yes;0=No","McDowell Named and Created"]
["SM8_r94","Location 8 Activity on 4/4","1=Yes;0=No","McDowell Named and Created"]
["SM8_r95","Location 8 Activity on 4/5","1=Yes;0=No","McDowell Named and Created"]
["SM8_r96","Location 8 Activity on 4/6","1=Yes;0=No","McDowell Named and Created"]
["SM8_r97","Location 8 Activity on 4/7","1=Yes;0=No","McDowell Named and Created"]
["SM8_r98","Location 8 Activity on 4/8","1=Yes;0=No","McDowell Named and Created"]
["SM8_r99","Location 8 Activity on 4/9","1=Yes;0=No","McDowell Named and Created"]
["SM8_r100","Location 8 Activity on 4/10","1=Yes;0=No","McDowell Named and Created"]
["SM8_r101","Location 8 Activity on 4/11","1=Yes;0=No","McDowell Named and Created"]
["SM8_r102","Location 8 Activity on 4/12","1=Yes;0=No","McDowell Named and Created"]
["SM8_r103","Location 8 Activity on 4/13","1=Yes;0=No","McDowell Named and Created"]
["SM8_r104","Location 8 Activity on 4/14","1=Yes;0=No","McDowell Named and Created"]
["SM8_r105","Location 8 Activity on 4/15","1=Yes;0=No","McDowell Named and Created"]
["SM8_r106","Location 8 Activity on 4/16","1=Yes;0=No","McDowell Named and Created"]
["SM8_r107","Location 8 Activity on 4/17","1=Yes;0=No","McDowell Named and Created"]
["SM8_r108","Location 8 Activity on 4/18","1=Yes;0=No","McDowell Named and Created"]
["SM8_r109","Location 8 Activity on 4/19","1=Yes;0=No","McDowell Named and Created"]
["SM8_r110","Location 8 Activity on 4/20","1=Yes;0=No","McDowell Named and Created"]
["SM8_r111","Location 8 Activity on 4/21","1=Yes;0=No","McDowell Named and Created"]
["SM8_r112","Location 8 Activity on 4/22","1=Yes;0=No","McDowell Named and Created"]
["SM8_r113","Location 8 Activity on 4/23","1=Yes;0=No","McDowell Named and Created"]
["SM8_r114","Location 8 Activity on 4/24","1=Yes;0=No","McDowell Named and Created"]
["SM8_r115","Location 8 Activity on 4/25","1=Yes;0=No","McDowell Named and Created"]
["SM8_r116","Location 8 Activity on 4/26","1=Yes;0=No","McDowell Named and Created"]
["SM8_r117","Location 8 Activity on 4/27","1=Yes;0=No","McDowell Named and Created"]
["SM8_r118","Location 8 Activity on 4/28","1=Yes;0=No","McDowell Named and Created"]
["SM8_r119","Location 8 Activity on 4/29","1=Yes;0=No","McDowell Named and Created"]
["SM8_r120","Location 8 Activity on 4/30","1=Yes;0=No","McDowell Named and Created"]
["SM9_r1","Location 9 Activity on 1/1","1=Yes;0=No","McDowell Named and Created"]
["SM9_r2","Location 9 Activity on 1/2","1=Yes;0=No","McDowell Named and Created"]
["SM9_r3","Location 9 Activity on 1/3","1=Yes;0=No","McDowell Named and Created"]
["SM9_r4","Location 9 Activity on 1/4","1=Yes;0=No","McDowell Named and Created"]
["SM9_r5","Location 9 Activity on 1/5","1=Yes;0=No","McDowell Named and Created"]
["SM9_r6","Location 9 Activity on 1/6","1=Yes;0=No","McDowell Named and Created"]
["SM9_r7","Location 9 Activity on 1/7","1=Yes;0=No","McDowell Named and Created"]
["SM9_r8","Location 9 Activity on 1/8","1=Yes;0=No","McDowell Named and Created"]
["SM9_r9","Location 9 Activity on 1/9","1=Yes;0=No","McDowell Named and Created"]
["SM9_r10","Location 9 Activity on 1/10","1=Yes;0=No","McDowell Named and Created"]
["SM9_r11","Location 9 Activity on 1/11","1=Yes;0=No","McDowell Named and Created"]
["SM9_r12","Location 9 Activity on 1/12","1=Yes;0=No","McDowell Named and Created"]
["SM9_r13","Location 9 Activity on 1/13","1=Yes;0=No","McDowell Named and Created"]
["SM9_r14","Location 9 Activity on 1/14","1=Yes;0=No","McDowell Named and Created"]
["SM9_r15","Location 9 Activity on 1/15","1=Yes;0=No","McDowell Named and Created"]
["SM9_r16","Location 9 Activity on 1/16","1=Yes;0=No","McDowell Named and Created"]
["SM9_r17","Location 9 Activity on 1/17","1=Yes;0=No","McDowell Named and Created"]
["SM9_r18","Location 9 Activity on 1/18","1=Yes;0=No","McDowell Named and Created"]
["SM9_r19","Location 9 Activity on 1/19","1=Yes;0=No","McDowell Named and Created"]
["SM9_r20","Location 9 Activity on 1/20","1=Yes;0=No","McDowell Named and Created"]
["SM9_r21","Location 9 Activity on 1/21","1=Yes;0=No","McDowell Named and Created"]
["SM9_r22","Location 9 Activity on 1/22","1=Yes;0=No","McDowell Named and Created"]
["SM9_r23","Location 9 Activity on 1/23","1=Yes;0=No","McDowell Named and Created"]
["SM9_r24","Location 9 Activity on 1/24","1=Yes;0=No","McDowell Named and Created"]
["SM9_r25","Location 9 Activity on 1/25","1=Yes;0=No","McDowell Named and Created"]
["SM9_r26","Location 9 Activity on 1/26","1=Yes;0=No","McDowell Named and Created"]
["SM9_r27","Location 9 Activity on 1/27","1=Yes;0=No","McDowell Named and Created"]
["SM9_r28","Location 9 Activity on 1/28","1=Yes;0=No","McDowell Named and Created"]
["SM9_r29","Location 9 Activity on 1/29","1=Yes;0=No","McDowell Named and Created"]
["SM9_r30","Location 9 Activity on 1/30","1=Yes;0=No","McDowell Named and Created"]
["SM9_r31","Location 9 Activity on 1/31","1=Yes;0=No","McDowell Named and Created"]
["SM9_r32","Location 9 Activity on 2/1","1=Yes;0=No","McDowell Named and Created"]
["SM9_r33","Location 9 Activity on 2/2","1=Yes;0=No","McDowell Named and Created"]
["SM9_r34","Location 9 Activity on 2/3","1=Yes;0=No","McDowell Named and Created"]
["SM9_r35","Location 9 Activity on 2/4","1=Yes;0=No","McDowell Named and Created"]
["SM9_r36","Location 9 Activity on 2/5","1=Yes;0=No","McDowell Named and Created"]
["SM9_r37","Location 9 Activity on 2/6","1=Yes;0=No","McDowell Named and Created"]
["SM9_r38","Location 9 Activity on 2/7","1=Yes;0=No","McDowell Named and Created"]
["SM9_r39","Location 9 Activity on 2/8","1=Yes;0=No","McDowell Named and Created"]
["SM9_r40","Location 9 Activity on 2/9","1=Yes;0=No","McDowell Named and Created"]
["SM9_r41","Location 9 Activity on 2/10","1=Yes;0=No","McDowell Named and Created"]
["SM9_r42","Location 9 Activity on 2/11","1=Yes;0=No","McDowell Named and Created"]
["SM9_r43","Location 9 Activity on 2/12","1=Yes;0=No","McDowell Named and Created"]
["SM9_r44","Location 9 Activity on 2/13","1=Yes;0=No","McDowell Named and Created"]
["SM9_r45","Location 9 Activity on 2/14","1=Yes;0=No","McDowell Named and Created"]
["SM9_r46","Location 9 Activity on 2/15","1=Yes;0=No","McDowell Named and Created"]
["SM9_r47","Location 9 Activity on 2/16","1=Yes;0=No","McDowell Named and Created"]
["SM9_r48","Location 9 Activity on 2/17","1=Yes;0=No","McDowell Named and Created"]
["SM9_r49","Location 9 Activity on 2/18","1=Yes;0=No","McDowell Named and Created"]
["SM9_r50","Location 9 Activity on 2/19","1=Yes;0=No","McDowell Named and Created"]
["SM9_r51","Location 9 Activity on 2/20","1=Yes;0=No","McDowell Named and Created"]
["SM9_r52","Location 9 Activity on 2/21","1=Yes;0=No","McDowell Named and Created"]
["SM9_r53","Location 9 Activity on 2/22","1=Yes;0=No","McDowell Named and Created"]
["SM9_r54","Location 9 Activity on 2/23","1=Yes;0=No","McDowell Named and Created"]
["SM9_r55","Location 9 Activity on 2/24","1=Yes;0=No","McDowell Named and Created"]
["SM9_r56","Location 9 Activity on 2/25","1=Yes;0=No","McDowell Named and Created"]
["SM9_r57","Location 9 Activity on 2/26","1=Yes;0=No","McDowell Named and Created"]
["SM9_r58","Location 9 Activity on 2/27","1=Yes;0=No","McDowell Named and Created"]
["SM9_r59","Location 9 Activity on 2/28","1=Yes;0=No","McDowell Named and Created"]
["SM9_r60","Location 9 Activity on 3/1","1=Yes;0=No","McDowell Named and Created"]
["SM9_r61","Location 9 Activity on 3/2","1=Yes;0=No","McDowell Named and Created"]
["SM9_r62","Location 9 Activity on 3/3","1=Yes;0=No","McDowell Named and Created"]
["SM9_r63","Location 9 Activity on 3/4","1=Yes;0=No","McDowell Named and Created"]
["SM9_r64","Location 9 Activity on 3/5","1=Yes;0=No","McDowell Named and Created"]
["SM9_r65","Location 9 Activity on 3/6","1=Yes;0=No","McDowell Named and Created"]
["SM9_r66","Location 9 Activity on 3/7","1=Yes;0=No","McDowell Named and Created"]
["SM9_r67","Location 9 Activity on 3/8","1=Yes;0=No","McDowell Named and Created"]
["SM9_r68","Location 9 Activity on 3/9","1=Yes;0=No","McDowell Named and Created"]
["SM9_r69","Location 9 Activity on 3/10","1=Yes;0=No","McDowell Named and Created"]
["SM9_r70","Location 9 Activity on 3/11","1=Yes;0=No","McDowell Named and Created"]
["SM9_r71","Location 9 Activity on 3/12","1=Yes;0=No","McDowell Named and Created"]
["SM9_r72","Location 9 Activity on 3/13","1=Yes;0=No","McDowell Named and Created"]
["SM9_r73","Location 9 Activity on 3/14","1=Yes;0=No","McDowell Named and Created"]
["SM9_r74","Location 9 Activity on 3/15","1=Yes;0=No","McDowell Named and Created"]
["SM9_r75","Location 9 Activity on 3/16","1=Yes;0=No","McDowell Named and Created"]
["SM9_r76","Location 9 Activity on 3/17","1=Yes;0=No","McDowell Named and Created"]
["SM9_r77","Location 9 Activity on 3/18","1=Yes;0=No","McDowell Named and Created"]
["SM9_r78","Location 9 Activity on 3/19","1=Yes;0=No","McDowell Named and Created"]
["SM9_r79","Location 9 Activity on 3/20","1=Yes;0=No","McDowell Named and Created"]
["SM9_r80","Location 9 Activity on 3/21","1=Yes;0=No","McDowell Named and Created"]
["SM9_r81","Location 9 Activity on 3/22","1=Yes;0=No","McDowell Named and Created"]
["SM9_r82","Location 9 Activity on 3/23","1=Yes;0=No","McDowell Named and Created"]
["SM9_r83","Location 9 Activity on 3/24","1=Yes;0=No","McDowell Named and Created"]
["SM9_r84","Location 9 Activity on 3/25","1=Yes;0=No","McDowell Named and Created"]
["SM9_r85","Location 9 Activity on 3/26","1=Yes;0=No","McDowell Named and Created"]
["SM9_r86","Location 9 Activity on 3/27","1=Yes;0=No","McDowell Named and Created"]
["SM9_r87","Location 9 Activity on 3/28","1=Yes;0=No","McDowell Named and Created"]
["SM9_r88","Location 9 Activity on 3/29","1=Yes;0=No","McDowell Named and Created"]
["SM9_r89","Location 9 Activity on 3/30","1=Yes;0=No","McDowell Named and Created"]
["SM9_r90","Location 9 Activity on 3/31","1=Yes;0=No","McDowell Named and Created"]
["SM9_r91","Location 9 Activity on 4/1","1=Yes;0=No","McDowell Named and Created"]
["SM9_r92","Location 9 Activity on 4/2","1=Yes;0=No","McDowell Named and Created"]
["SM9_r93","Location 9 Activity on 4/3","1=Yes;0=No","McDowell Named and Created"]
["SM9_r94","Location 9 Activity on 4/4","1=Yes;0=No","McDowell Named and Created"]
["SM9_r95","Location 9 Activity on 4/5","1=Yes;0=No","McDowell Named and Created"]
["SM9_r96","Location 9 Activity on 4/6","1=Yes;0=No","McDowell Named and Created"]
["SM9_r97","Location 9 Activity on 4/7","1=Yes;0=No","McDowell Named and Created"]
["SM9_r98","Location 9 Activity on 4/8","1=Yes;0=No","McDowell Named and Created"]
["SM9_r99","Location 9 Activity on 4/9","1=Yes;0=No","McDowell Named and Created"]
["SM9_r100","Location 9 Activity on 4/10","1=Yes;0=No","McDowell Named and Created"]
["SM9_r101","Location 9 Activity on 4/11","1=Yes;0=No","McDowell Named and Created"]
["SM9_r102","Location 9 Activity on 4/12","1=Yes;0=No","McDowell Named and Created"]
["SM9_r103","Location 9 Activity on 4/13","1=Yes;0=No","McDowell Named and Created"]
["SM9_r104","Location 9 Activity on 4/14","1=Yes;0=No","McDowell Named and Created"]
["SM9_r105","Location 9 Activity on 4/15","1=Yes;0=No","McDowell Named and Created"]
["SM9_r106","Location 9 Activity on 4/16","1=Yes;0=No","McDowell Named and Created"]
["SM9_r107","Location 9 Activity on 4/17","1=Yes;0=No","McDowell Named and Created"]
["SM9_r108","Location 9 Activity on 4/18","1=Yes;0=No","McDowell Named and Created"]
["SM9_r109","Location 9 Activity on 4/19","1=Yes;0=No","McDowell Named and Created"]
["SM9_r110","Location 9 Activity on 4/20","1=Yes;0=No","McDowell Named and Created"]
["SM9_r111","Location 9 Activity on 4/21","1=Yes;0=No","McDowell Named and Created"]
["SM9_r112","Location 9 Activity on 4/22","1=Yes;0=No","McDowell Named and Created"]
["SM9_r113","Location 9 Activity on 4/23","1=Yes;0=No","McDowell Named and Created"]
["SM9_r114","Location 9 Activity on 4/24","1=Yes;0=No","McDowell Named and Created"]
["SM9_r115","Location 9 Activity on 4/25","1=Yes;0=No","McDowell Named and Created"]
["SM9_r116","Location 9 Activity on 4/26","1=Yes;0=No","McDowell Named and Created"]
["SM9_r117","Location 9 Activity on 4/27","1=Yes;0=No","McDowell Named and Created"]
["SM9_r118","Location 9 Activity on 4/28","1=Yes;0=No","McDowell Named and Created"]
["SM9_r119","Location 9 Activity on 4/29","1=Yes;0=No","McDowell Named and Created"]
["SM9_r120","Location 9 Activity on 4/30","1=Yes;0=No","McDowell Named and Created"]
["SM10_r1","Location 10 Activity on 1/1","1=Yes;0=No","McDowell Named and Created"]
["SM10_r2","Location 10 Activity on 1/2","1=Yes;0=No","McDowell Named and Created"]
["SM10_r3","Location 10 Activity on 1/3","1=Yes;0=No","McDowell Named and Created"]
["SM10_r4","Location 10 Activity on 1/4","1=Yes;0=No","McDowell Named and Created"]
["SM10_r5","Location 10 Activity on 1/5","1=Yes;0=No","McDowell Named and Created"]
["SM10_r6","Location 10 Activity on 1/6","1=Yes;0=No","McDowell Named and Created"]
["SM10_r7","Location 10 Activity on 1/7","1=Yes;0=No","McDowell Named and Created"]
["SM10_r8","Location 10 Activity on 1/8","1=Yes;0=No","McDowell Named and Created"]
["SM10_r9","Location 10 Activity on 1/9","1=Yes;0=No","McDowell Named and Created"]
["SM10_r10","Location 10 Activity on 1/10","1=Yes;0=No","McDowell Named and Created"]
["SM10_r11","Location 10 Activity on 1/11","1=Yes;0=No","McDowell Named and Created"]
["SM10_r12","Location 10 Activity on 1/12","1=Yes;0=No","McDowell Named and Created"]
["SM10_r13","Location 10 Activity on 1/13","1=Yes;0=No","McDowell Named and Created"]
["SM10_r14","Location 10 Activity on 1/14","1=Yes;0=No","McDowell Named and Created"]
["SM10_r15","Location 10 Activity on 1/15","1=Yes;0=No","McDowell Named and Created"]
["SM10_r16","Location 10 Activity on 1/16","1=Yes;0=No","McDowell Named and Created"]
["SM10_r17","Location 10 Activity on 1/17","1=Yes;0=No","McDowell Named and Created"]
["SM10_r18","Location 10 Activity on 1/18","1=Yes;0=No","McDowell Named and Created"]
["SM10_r19","Location 10 Activity on 1/19","1=Yes;0=No","McDowell Named and Created"]
["SM10_r20","Location 10 Activity on 1/20","1=Yes;0=No","McDowell Named and Created"]
["SM10_r21","Location 10 Activity on 1/21","1=Yes;0=No","McDowell Named and Created"]
["SM10_r22","Location 10 Activity on 1/22","1=Yes;0=No","McDowell Named and Created"]
["SM10_r23","Location 10 Activity on 1/23","1=Yes;0=No","McDowell Named and Created"]
["SM10_r24","Location 10 Activity on 1/24","1=Yes;0=No","McDowell Named and Created"]
["SM10_r25","Location 10 Activity on 1/25","1=Yes;0=No","McDowell Named and Created"]
["SM10_r26","Location 10 Activity on 1/26","1=Yes;0=No","McDowell Named and Created"]
["SM10_r27","Location 10 Activity on 1/27","1=Yes;0=No","McDowell Named and Created"]
["SM10_r28","Location 10 Activity on 1/28","1=Yes;0=No","McDowell Named and Created"]
["SM10_r29","Location 10 Activity on 1/29","1=Yes;0=No","McDowell Named and Created"]
["SM10_r30","Location 10 Activity on 1/30","1=Yes;0=No","McDowell Named and Created"]
["SM10_r31","Location 10 Activity on 1/31","1=Yes;0=No","McDowell Named and Created"]
["SM10_r32","Location 10 Activity on 2/1","1=Yes;0=No","McDowell Named and Created"]
["SM10_r33","Location 10 Activity on 2/2","1=Yes;0=No","McDowell Named and Created"]
["SM10_r34","Location 10 Activity on 2/3","1=Yes;0=No","McDowell Named and Created"]
["SM10_r35","Location 10 Activity on 2/4","1=Yes;0=No","McDowell Named and Created"]
["SM10_r36","Location 10 Activity on 2/5","1=Yes;0=No","McDowell Named and Created"]
["SM10_r37","Location 10 Activity on 2/6","1=Yes;0=No","McDowell Named and Created"]
["SM10_r38","Location 10 Activity on 2/7","1=Yes;0=No","McDowell Named and Created"]
["SM10_r39","Location 10 Activity on 2/8","1=Yes;0=No","McDowell Named and Created"]
["SM10_r40","Location 10 Activity on 2/9","1=Yes;0=No","McDowell Named and Created"]
["SM10_r41","Location 10 Activity on 2/10","1=Yes;0=No","McDowell Named and Created"]
["SM10_r42","Location 10 Activity on 2/11","1=Yes;0=No","McDowell Named and Created"]
["SM10_r43","Location 10 Activity on 2/12","1=Yes;0=No","McDowell Named and Created"]
["SM10_r44","Location 10 Activity on 2/13","1=Yes;0=No","McDowell Named and Created"]
["SM10_r45","Location 10 Activity on 2/14","1=Yes;0=No","McDowell Named and Created"]
["SM10_r46","Location 10 Activity on 2/15","1=Yes;0=No","McDowell Named and Created"]
["SM10_r47","Location 10 Activity on 2/16","1=Yes;0=No","McDowell Named and Created"]
["SM10_r48","Location 10 Activity on 2/17","1=Yes;0=No","McDowell Named and Created"]
["SM10_r49","Location 10 Activity on 2/18","1=Yes;0=No","McDowell Named and Created"]
["SM10_r50","Location 10 Activity on 2/19","1=Yes;0=No","McDowell Named and Created"]
["SM10_r51","Location 10 Activity on 2/20","1=Yes;0=No","McDowell Named and Created"]
["SM10_r52","Location 10 Activity on 2/21","1=Yes;0=No","McDowell Named and Created"]
["SM10_r53","Location 10 Activity on 2/22","1=Yes;0=No","McDowell Named and Created"]
["SM10_r54","Location 10 Activity on 2/23","1=Yes;0=No","McDowell Named and Created"]
["SM10_r55","Location 10 Activity on 2/24","1=Yes;0=No","McDowell Named and Created"]
["SM10_r56","Location 10 Activity on 2/25","1=Yes;0=No","McDowell Named and Created"]
["SM10_r57","Location 10 Activity on 2/26","1=Yes;0=No","McDowell Named and Created"]
["SM10_r58","Location 10 Activity on 2/27","1=Yes;0=No","McDowell Named and Created"]
["SM10_r59","Location 10 Activity on 2/28","1=Yes;0=No","McDowell Named and Created"]
["SM10_r60","Location 10 Activity on 3/1","1=Yes;0=No","McDowell Named and Created"]
["SM10_r61","Location 10 Activity on 3/2","1=Yes;0=No","McDowell Named and Created"]
["SM10_r62","Location 10 Activity on 3/3","1=Yes;0=No","McDowell Named and Created"]
["SM10_r63","Location 10 Activity on 3/4","1=Yes;0=No","McDowell Named and Created"]
["SM10_r64","Location 10 Activity on 3/5","1=Yes;0=No","McDowell Named and Created"]
["SM10_r65","Location 10 Activity on 3/6","1=Yes;0=No","McDowell Named and Created"]
["SM10_r66","Location 10 Activity on 3/7","1=Yes;0=No","McDowell Named and Created"]
["SM10_r67","Location 10 Activity on 3/8","1=Yes;0=No","McDowell Named and Created"]
["SM10_r68","Location 10 Activity on 3/9","1=Yes;0=No","McDowell Named and Created"]
["SM10_r69","Location 10 Activity on 3/10","1=Yes;0=No","McDowell Named and Created"]
["SM10_r70","Location 10 Activity on 3/11","1=Yes;0=No","McDowell Named and Created"]
["SM10_r71","Location 10 Activity on 3/12","1=Yes;0=No","McDowell Named and Created"]
["SM10_r72","Location 10 Activity on 3/13","1=Yes;0=No","McDowell Named and Created"]
["SM10_r73","Location 10 Activity on 3/14","1=Yes;0=No","McDowell Named and Created"]
["SM10_r74","Location 10 Activity on 3/15","1=Yes;0=No","McDowell Named and Created"]
["SM10_r75","Location 10 Activity on 3/16","1=Yes;0=No","McDowell Named and Created"]
["SM10_r76","Location 10 Activity on 3/17","1=Yes;0=No","McDowell Named and Created"]
["SM10_r77","Location 10 Activity on 3/18","1=Yes;0=No","McDowell Named and Created"]
["SM10_r78","Location 10 Activity on 3/19","1=Yes;0=No","McDowell Named and Created"]
["SM10_r79","Location 10 Activity on 3/20","1=Yes;0=No","McDowell Named and Created"]
["SM10_r80","Location 10 Activity on 3/21","1=Yes;0=No","McDowell Named and Created"]
["SM10_r81","Location 10 Activity on 3/22","1=Yes;0=No","McDowell Named and Created"]
["SM10_r82","Location 10 Activity on 3/23","1=Yes;0=No","McDowell Named and Created"]
["SM10_r83","Location 10 Activity on 3/24","1=Yes;0=No","McDowell Named and Created"]
["SM10_r84","Location 10 Activity on 3/25","1=Yes;0=No","McDowell Named and Created"]
["SM10_r85","Location 10 Activity on 3/26","1=Yes;0=No","McDowell Named and Created"]
["SM10_r86","Location 10 Activity on 3/27","1=Yes;0=No","McDowell Named and Created"]
["SM10_r87","Location 10 Activity on 3/28","1=Yes;0=No","McDowell Named and Created"]
["SM10_r88","Location 10 Activity on 3/29","1=Yes;0=No","McDowell Named and Created"]
["SM10_r89","Location 10 Activity on 3/30","1=Yes;0=No","McDowell Named and Created"]
["SM10_r90","Location 10 Activity on 3/31","1=Yes;0=No","McDowell Named and Created"]
["SM10_r91","Location 10 Activity on 4/1","1=Yes;0=No","McDowell Named and Created"]
["SM10_r92","Location 10 Activity on 4/2","1=Yes;0=No","McDowell Named and Created"]
["SM10_r93","Location 10 Activity on 4/3","1=Yes;0=No","McDowell Named and Created"]
["SM10_r94","Location 10 Activity on 4/4","1=Yes;0=No","McDowell Named and Created"]
["SM10_r95","Location 10 Activity on 4/5","1=Yes;0=No","McDowell Named and Created"]
["SM10_r96","Location 10 Activity on 4/6","1=Yes;0=No","McDowell Named and Created"]
["SM10_r97","Location 10 Activity on 4/7","1=Yes;0=No","McDowell Named and Created"]
["SM10_r98","Location 10 Activity on 4/8","1=Yes;0=No","McDowell Named and Created"]
["SM10_r99","Location 10 Activity on 4/9","1=Yes;0=No","McDowell Named and Created"]
["SM10_r100","Location 10 Activity on 4/10","1=Yes;0=No","McDowell Named and Created"]
["SM10_r101","Location 10 Activity on 4/11","1=Yes;0=No","McDowell Named and Created"]
["SM10_r102","Location 10 Activity on 4/12","1=Yes;0=No","McDowell Named and Created"]
["SM10_r103","Location 10 Activity on 4/13","1=Yes;0=No","McDowell Named and Created"]
["SM10_r104","Location 10 Activity on 4/14","1=Yes;0=No","McDowell Named and Created"]
["SM10_r105","Location 10 Activity on 4/15","1=Yes;0=No","McDowell Named and Created"]
["SM10_r106","Location 10 Activity on 4/16","1=Yes;0=No","McDowell Named and Created"]
["SM10_r107","Location 10 Activity on 4/17","1=Yes;0=No","McDowell Named and Created"]
["SM10_r108","Location 10 Activity on 4/18","1=Yes;0=No","McDowell Named and Created"]
["SM10_r109","Location 10 Activity on 4/19","1=Yes;0=No","McDowell Named and Created"]
["SM10_r110","Location 10 Activity on 4/20","1=Yes;0=No","McDowell Named and Created"]
["SM10_r111","Location 10 Activity on 4/21","1=Yes;0=No","McDowell Named and Created"]
["SM10_r112","Location 10 Activity on 4/22","1=Yes;0=No","McDowell Named and Created"]
["SM10_r113","Location 10 Activity on 4/23","1=Yes;0=No","McDowell Named and Created"]
["SM10_r114","Location 10 Activity on 4/24","1=Yes;0=No","McDowell Named and Created"]
["SM10_r115","Location 10 Activity on 4/25","1=Yes;0=No","McDowell Named and Created"]
["SM10_r116","Location 10 Activity on 4/26","1=Yes;0=No","McDowell Named and Created"]
["SM10_r117","Location 10 Activity on 4/27","1=Yes;0=No","McDowell Named and Created"]
["SM10_r118","Location 10 Activity on 4/28","1=Yes;0=No","McDowell Named and Created"]
["SM10_r119","Location 10 Activity on 4/29","1=Yes;0=No","McDowell Named and Created"]
["SM10_r120","Location 10 Activity on 4/30",{"$f":"VLOOKUP($A1263,#REF!,3,FALSE)","v":{"$error":"#REF!"}},"McDowell Named and Created"]
["Q13",{"$f":"VLOOKUP($A1264,#REF!,2,FALSE)","v":{"$error":"#REF!"}},{"$f":"VLOOKUP($A1264,#REF!,3,FALSE)","v":{"$error":"#REF!"}},"McDowell Named and Created"]
["Q14",{"$f":"VLOOKUP($A1265,#REF!,2,FALSE)","v":{"$error":"#REF!"}},{"$f":"VLOOKUP($A1265,#REF!,3,FALSE)","v":{"$error":"#REF!"}},"McDowell Named and Created"]
["Q14a_1",{"$f":"VLOOKUP($A1266,#REF!,2,FALSE)","v":{"$error":"#REF!"}},{"$f":"VLOOKUP($A1266,#REF!,3,FALSE)","v":{"$error":"#REF!"}},"McDowell Named and Created"]
["Q14a_2",{"$f":"VLOOKUP($A1267,#REF!,2,FALSE)","v":{"$error":"#REF!"}},{"$f":"VLOOKUP($A1267,#REF!,3,FALSE)","v":{"$error":"#REF!"}},"McDowell Named and Created"]
["Q14a_3",{"$f":"VLOOKUP($A1268,#REF!,2,FALSE)","v":{"$error":"#REF!"}},{"$f":"VLOOKUP($A1268,#REF!,3,FALSE)","v":{"$error":"#REF!"}},"McDowell Named and Created"]
["Q14a_4",{"$f":"VLOOKUP($A1269,#REF!,2,FALSE)","v":{"$error":"#REF!"}},{"$f":"VLOOKUP($A1269,#REF!,3,FALSE)","v":{"$error":"#REF!"}},"McDowell Named and Created"]
["Q14a_5",{"$f":"VLOOKUP($A1270,#REF!,2,FALSE)","v":{"$error":"#REF!"}},{"$f":"VLOOKUP($A1270,#REF!,3,FALSE)","v":{"$error":"#REF!"}},"McDowell Named and Created"]
["Q14a_6",{"$f":"VLOOKUP($A1271,#REF!,2,FALSE)","v":{"$error":"#REF!"}},{"$f":"VLOOKUP($A1271,#REF!,3,FALSE)","v":{"$error":"#REF!"}},"McDowell Named and Created"]
["Q14a_7",{"$f":"VLOOKUP($A1272,#REF!,2,FALSE)","v":{"$error":"#REF!"}},{"$f":"VLOOKUP($A1272,#REF!,3,FALSE)","v":{"$error":"#REF!"}},"McDowell Named and Created"]
["Q14a_8",{"$f":"VLOOKUP($A1273,#REF!,2,FALSE)","v":{"$error":"#REF!"}},{"$f":"VLOOKUP($A1273,#REF!,3,FALSE)","v":{"$error":"#REF!"}},"McDowell Named and Created"]
["Q14a_9",{"$f":"VLOOKUP($A1274,#REF!,2,FALSE)","v":{"$error":"#REF!"}},{"$f":"VLOOKUP($A1274,#REF!,3,FALSE)","v":{"$error":"#REF!"}},"McDowell Named and Created"]
["Q14a_10",{"$f":"VLOOKUP($A1275,#REF!,2,FALSE)","v":{"$error":"#REF!"}},{"$f":"VLOOKUP($A1275,#REF!,3,FALSE)","v":{"$error":"#REF!"}},"McDowell Named and Created"]
["Q14a_11",{"$f":"VLOOKUP($A1276,#REF!,2,FALSE)","v":{"$error":"#REF!"}},{"$f":"VLOOKUP($A1276,#REF!,3,FALSE)","v":{"$error":"#REF!"}},"McDowell Named and Created"]
["Q14a_12",{"$f":"VLOOKUP($A1277,#REF!,2,FALSE)","v":{"$error":"#REF!"}},{"$f":"VLOOKUP($A1277,#REF!,3,FALSE)","v":{"$error":"#REF!"}},"McDowell Named and Created"]
["Q14a_13",{"$f":"VLOOKUP($A1278,#REF!,2,FALSE)","v":{"$error":"#REF!"}},{"$f":"VLOOKUP($A1278,#REF!,3,FALSE)","v":{"$error":"#REF!"}},"McDowell Named and Created"]
["Q14a_14",{"$f":"VLOOKUP($A1279,#REF!,2,FALSE)","v":{"$error":"#REF!"}},{"$f":"VLOOKUP($A1279,#REF!,3,FALSE)","v":{"$error":"#REF!"}},"McDowell Named and Created"]
["Q14a_15",{"$f":"VLOOKUP($A1280,#REF!,2,FALSE)","v":{"$error":"#REF!"}},{"$f":"VLOOKUP($A1280,#REF!,3,FALSE)","v":{"$error":"#REF!"}},"McDowell Named and Created"]
["Q14a_16",{"$f":"VLOOKUP($A1281,#REF!,2,FALSE)","v":{"$error":"#REF!"}},{"$f":"VLOOKUP($A1281,#REF!,3,FALSE)","v":{"$error":"#REF!"}},"McDowell Named and Created"]
["Q14a_17",{"$f":"VLOOKUP($A1282,#REF!,2,FALSE)","v":{"$error":"#REF!"}},{"$f":"VLOOKUP($A1282,#REF!,3,FALSE)","v":{"$error":"#REF!"}},"McDowell Named and Created"]
["Q14a_18",{"$f":"VLOOKUP($A1283,#REF!,2,FALSE)","v":{"$error":"#REF!"}},{"$f":"VLOOKUP($A1283,#REF!,3,FALSE)","v":{"$error":"#REF!"}},"McDowell Named and Created"]
["Q14a_19",{"$f":"VLOOKUP($A1284,#REF!,2,FALSE)","v":{"$error":"#REF!"}},{"$f":"VLOOKUP($A1284,#REF!,3,FALSE)","v":{"$error":"#REF!"}},"McDowell Named and Created"]
["Q14a_20",{"$f":"VLOOKUP($A1285,#REF!,2,FALSE)","v":{"$error":"#REF!"}},{"$f":"VLOOKUP($A1285,#REF!,3,FALSE)","v":{"$error":"#REF!"}},"McDowell Named and Created"]
["Q14a_21",{"$f":"VLOOKUP($A1286,#REF!,2,FALSE)","v":{"$error":"#REF!"}},{"$f":"VLOOKUP($A1286,#REF!,3,FALSE)","v":{"$error":"#REF!"}},"McDowell Named and Created"]
["Q14a_22",{"$f":"VLOOKUP($A1287,#REF!,2,FALSE)","v":{"$error":"#REF!"}},{"$f":"VLOOKUP($A1287,#REF!,3,FALSE)","v":{"$error":"#REF!"}},"McDowell Named and Created"]
["Q14a_23",{"$f":"VLOOKUP($A1288,#REF!,2,FALSE)","v":{"$error":"#REF!"}},{"$f":"VLOOKUP($A1288,#REF!,3,FALSE)","v":{"$error":"#REF!"}},"McDowell Named and Created"]
["Q14a_24",{"$f":"VLOOKUP($A1289,#REF!,2,FALSE)","v":{"$error":"#REF!"}},{"$f":"VLOOKUP($A1289,#REF!,3,FALSE)","v":{"$error":"#REF!"}},"McDowell Named and Created"]
["Q14a_21_other",{"$f":"VLOOKUP($A1290,#REF!,2,FALSE)","v":{"$error":"#REF!"}},{"$f":"VLOOKUP($A1290,#REF!,3,FALSE)","v":{"$error":"#REF!"}},"McDowell Named and Created"]
["Q14a_22_other",{"$f":"VLOOKUP($A1291,#REF!,2,FALSE)","v":{"$error":"#REF!"}},{"$f":"VLOOKUP($A1291,#REF!,3,FALSE)","v":{"$error":"#REF!"}},"McDowell Named and Created"]
["Q14a_23_other",{"$f":"VLOOKUP($A1292,#REF!,2,FALSE)","v":{"$error":"#REF!"}},{"$f":"VLOOKUP($A1292,#REF!,3,FALSE)","v":{"$error":"#REF!"}},"McDowell Named and Created"]
["Q14a_24_other",{"$f":"VLOOKUP($A1293,#REF!,2,FALSE)","v":{"$error":"#REF!"}},{"$f":"VLOOKUP($A1293,#REF!,3,FALSE)","v":{"$error":"#REF!"}},"McDowell Named and Created"]
["Q14b_r1_c1","Alaska Railroad days","Number","McDowell Named and Created"]
["Q14b_r2_c1","Bird watching days","Number","McDowell Named and Created"]
["Q14b_r3_c1","Bicycling days","Number","McDowell Named and Created"]
["Q14b_r4_c1","Camping - remote tent/cabin days","Number","McDowell Named and Created"]
["Q14b_r5_c1","Camping - RV/campground/roadside days","Number","McDowell Named and Created"]
["Q14b_r6_c1","Collecting berries/mushrooms days","Number","McDowell Named and Created"]
["Q14b_r7_c1","Dog sledding days","Number","McDowell Named and Created"]
["Q14b_r8_c1","Fishing for salmon days","Number","McDowell Named and Created"]
["Q14b_r9_c1","Fishing for other species days","Number","McDowell Named and Created"]
["Q14b_r10_c1","Flightseeing days","Number","McDowell Named and Created"]
["Q14b_r11_c1","Hunting days","Number","McDowell Named and Created"]
["Q14b_r12_c1","Hiking/backpacking days","Number","McDowell Named and Created"]
["Q14b_r13_c1","Motorized boating days","Number","McDowell Named and Created"]
["Q14b_r14_c1","Non-motorized boating days","Number","McDowell Named and Created"]
["Q14b_r15_c1","Riding ATV's days","Number","McDowell Named and Created"]
["Q14b_r16_c1","Skiing days","Number","McDowell Named and Created"]
["Q14b_r17_c1","Snow machining days","Number","McDowell Named and Created"]
["Q14b_r18_c1","Showshoeing days","Number","McDowell Named and Created"]
["Q14b_r19_c1","Walking/running days","Number","McDowell Named and Created"]
["Q14b_r20_c1","Wildlife viewing days","Number","McDowell Named and Created"]
["Q14b_r21_c1","Other rec activity 1 days","Number","McDowell Named and Created"]
["Q14b_r22_c1","Other rec activity 2 days","Number","McDowell Named and Created"]
["Q14b_r23_c1","Other rec activity 3 days","Number","McDowell Named and Created"]
["Q14b_r24_c1","Other rec activity 4 days","Number","McDowell Named and Created"]
["Q14b_r21_other","Other rec activity 1 specified","Text","McDowell Named and Created"]
["Q14b_r22_other","Other rec activity 2 specified","Text","McDowell Named and Created"]
["Q14b_r23_other","Other rec activity 3 specified","Text","McDowell Named and Created"]
["Q14b_r24_other","Other rec activity 4 specified","Text","McDowell Named and Created"]
["Q14c_1","Alaska Railroad recent visit","1=Yes;0=No","McDowell Named and Created"]
["Q14c_2","Bird watching recent visit","1=Yes;0=No","McDowell Named and Created"]
["Q14c_3","Bicycling recent visit","1=Yes;0=No","McDowell Named and Created"]
["Q14c_4","Camping - remote tent/cabin recent visit","1=Yes;0=No","McDowell Named and Created"]
["Q14c_5","Camping - RV/campground/roadside recent visit","1=Yes;0=No","McDowell Named and Created"]
["Q14c_6","Collecting berries/mushrooms recent visit","1=Yes;0=No","McDowell Named and Created"]
["Q14c_7","Dog sledding recent visit","1=Yes;0=No","McDowell Named and Created"]
["Q14c_8","Fishing for salmon recent visit","1=Yes;0=No","McDowell Named and Created"]
["Q14c_9","Fishing for other species recent visit","1=Yes;0=No","McDowell Named and Created"]
["Q14c_10","Flightseeing recent visit","1=Yes;0=No","McDowell Named and Created"]
["Q14c_11","Hunting recent visit","1=Yes;0=No","McDowell Named and Created"]
["Q14c_12","Hiking/backpacking recent visit","1=Yes;0=No","McDowell Named and Created"]
["Q14c_13","Motorized boating recent visit","1=Yes;0=No","McDowell Named and Created"]
["Q14c_14","Non-motorized boating recent visit","1=Yes;0=No","McDowell Named and Created"]
["Q14c_15","Riding ATV's recent visit","1=Yes;0=No","McDowell Named and Created"]
["Q14c_16","Skiing recent visit","1=Yes;0=No","McDowell Named and Created"]
["Q14c_17","Snow machining recent visit","1=Yes;0=No","McDowell Named and Created"]
["Q14c_18","Showshoeing recent visit","1=Yes;0=No","McDowell Named and Created"]
["Q14c_19","Walking/running recent visit","1=Yes;0=No","McDowell Named and Created"]
["Q14c_20","Wildlife viewing recent visit","1=Yes;0=No","McDowell Named and Created"]
["Q14c_21","Other rec activity 1 recent visit","1=Yes;0=No","McDowell Named and Created"]
["Q14c_22","Other rec activity 2 recent visit","1=Yes;0=No","McDowell Named and Created"]
["Q14c_23","Other rec activity 3 recent visit","1=Yes;0=No","McDowell Named and Created"]
["Q14c_24","Other rec activity 4 recent visit","1=Yes;0=No","McDowell Named and Created"]
["Q14c_21_other","Other rec activity 1 specified","Text","McDowell Named and Created"]
["Q14c_22_other","Other rec activity 2 specified","Text","McDowell Named and Created"]
["Q14c_23_other","Other rec activity 3 specified","Text","McDowell Named and Created"]
["Q14c_24_other","Other rec activity 4 specified","Text","McDowell Named and Created"]
["Q15","Primary Activity on Recent Outing","1=Alaska Railroad; 2=Bird watching; 3=Bicycling; 4=Camping - remote; 5=Camping (not remote); 6=Collecting berries/mushrooms; 7=Dog sledding; 8=Fishing for salmon; 9=Fishing for other species; 10=Flightseeing; 11=Hunting; 12=Hiking/backpacking; 13=Motorized boating; 14=Non-motorized boating; 15=Riding ATV's; 16=Skiing; 17=Snow machining; 18=Showshoeing; 19=Walking/running; 20=Wildlife viewing; 21=Other activity 1; 22=Other activity 2; 23=Other activity 3; 24=Other activity 4","McDowell Named and Created"]
["Q15_21_other","Other rec activity 1 specified","Text","McDowell Named and Created"]
["Q15_22_other","Other rec activity 2 specified","Text","McDowell Named and Created"]
["Q15_23_other","Other rec activity 3 specified","Text","McDowell Named and Created"]
["Q15_24_other","Other rec activity 4 specified","Text","McDowell Named and Created"]
["Q15a","If Hunting Primary Activity, What Target","1=Caribou - Federal Subsistence; 2=Caribou - State draw permit one bull; 3=Caribou - State registration permit any caribou; 4=Caribou - State community harvest; 5=Caribou - Non-resident; 6=Moose - federal subsistence; 7=Moose - State draw permit any bull; 8=Moose - State draw permit cow; 9=Moose - State community harvest; 10-Moose - State harvest ticket; 11=Moose - Non-resident; 12=Bear (brown or black); 13=Waterfowl; 14=Upland game birds; 15=Other","McDowell Named and Created"]
["Q15a_15_other","Other Hunting Target specified","Text","McDowell Named and Created"]
["R1_r1","Participated in Primary Activity in Grid Area 1","1=Yes; 0=No","McDowell Named and Created"]
["R1_r2","Participated in Primary Activity in Grid Area 2","1=Yes; 0=No","McDowell Named and Created"]
["R1_r3","Participated in Primary Activity in Grid Area 3","1=Yes; 0=No","McDowell Named and Created"]
["R1_r4","Participated in Primary Activity in Grid Area 4","1=Yes; 0=No","McDowell Named and Created"]
["R1_r5","Participated in Primary Activity in Grid Area 5","1=Yes; 0=No","McDowell Named and Created"]
["R1_r6","Participated in Primary Activity in Grid Area 6","1=Yes; 0=No","McDowell Named and Created"]
["R1_r7","Participated in Primary Activity in Grid Area 7","1=Yes; 0=No","McDowell Named and Created"]
["R1_r8","Participated in Primary Activity in Grid Area 8","1=Yes; 0=No","McDowell Named and Created"]
["R1_r9","Participated in Primary Activity in Grid Area 9","1=Yes; 0=No","McDowell Named and Created"]
["R1_r10","Participated in Primary Activity in Grid Area 10","1=Yes; 0=No","McDowell Named and Created"]
["R1_r11","Participated in Primary Activity in Grid Area 11","1=Yes; 0=No","McDowell Named and Created"]
["R1_r12","Participated in Primary Activity in Grid Area 12","1=Yes; 0=No","McDowell Named and Created"]
["R1_r13","Participated in Primary Activity in Grid Area 13","1=Yes; 0=No","McDowell Named and Created"]
["R1_r14","Participated in Primary Activity in Grid Area 14","1=Yes; 0=No","McDowell Named and Created"]
["R1_r15","Participated in Primary Activity in Grid Area 15","1=Yes; 0=No","McDowell Named and Created"]
["R1_r16","Participated in Primary Activity in Grid Area 16","1=Yes; 0=No","McDowell Named and Created"]
["R1_r17","Participated in Primary Activity in Grid Area 17","1=Yes; 0=No","McDowell Named and Created"]
["R1_r18","Participated in Primary Activity in Grid Area 18","1=Yes; 0=No","McDowell Named and Created"]
["R1_r19","Participated in Primary Activity in Grid Area 19","1=Yes; 0=No","McDowell Named and Created"]
["R1_r20","Participated in Primary Activity in Grid Area 20","1=Yes; 0=No","McDowell Named and Created"]
["R1_r21","Participated in Primary Activity in Grid Area 21","1=Yes; 0=No","McDowell Named and Created"]
["R1_r22","Participated in Primary Activity in Grid Area 22","1=Yes; 0=No","McDowell Named and Created"]
["R1_r23","Participated in Primary Activity in Grid Area 23","1=Yes; 0=No","McDowell Named and Created"]
["R1_r24","Participated in Primary Activity in Grid Area 24","1=Yes; 0=No","McDowell Named and Created"]
["R1_r25","Participated in Primary Activity in Grid Area 25","1=Yes; 0=No","McDowell Named and Created"]
["R1_r26","Participated in Primary Activity in Grid Area 26","1=Yes; 0=No","McDowell Named and Created"]
["R1_r27","Participated in Primary Activity in Grid Area 27","1=Yes; 0=No","McDowell Named and Created"]
["R1_r28","Participated in Primary Activity in Grid Area 28","1=Yes; 0=No","McDowell Named and Created"]
["R1_r29","Participated in Primary Activity in Grid Area 29","1=Yes; 0=No","McDowell Named and Created"]
["R1_r30","Participated in Primary Activity in Grid Area 30","1=Yes; 0=No","McDowell Named and Created"]
["R1_r31","Participated in Primary Activity in Grid Area 31","1=Yes; 0=No","McDowell Named and Created"]
["R1_r32","Participated in Primary Activity in Grid Area 32","1=Yes; 0=No","McDowell Named and Created"]
["R1_r33","Participated in Primary Activity in Grid Area 33","1=Yes; 0=No","McDowell Named and Created"]
["R1_r34","Participated in Primary Activity in Grid Area 34","1=Yes; 0=No","McDowell Named and Created"]
["R1_r35","Participated in Primary Activity in Grid Area 35","1=Yes; 0=No","McDowell Named and Created"]
["R1_r36","Participated in Primary Activity in Grid Area 36","1=Yes; 0=No","McDowell Named and Created"]
["R1_r37","Participated in Primary Activity in Grid Area 37","1=Yes; 0=No","McDowell Named and Created"]
["R1_r38","Participated in Primary Activity in Grid Area 38","1=Yes; 0=No","McDowell Named and Created"]
["R1_r39","Participated in Primary Activity in Grid Area 39","1=Yes; 0=No","McDowell Named and Created"]
["R1_r40","Participated in Primary Activity in Grid Area 40","1=Yes; 0=No","McDowell Named and Created"]
["R1_r41","Participated in Primary Activity in Grid Area 41","1=Yes; 0=No","McDowell Named and Created"]
["R1_r42","Participated in Primary Activity in Grid Area 42","1=Yes; 0=No","McDowell Named and Created"]
["R1_r43","Participated in Primary Activity in Grid Area 43","1=Yes; 0=No","McDowell Named and Created"]
["R1_r44","Participated in Primary Activity in Grid Area 44","1=Yes; 0=No","McDowell Named and Created"]
["R1_r45","Participated in Primary Activity in Grid Area 45","1=Yes; 0=No","McDowell Named and Created"]
["R1_r46","Participated in Primary Activity in Grid Area 46","1=Yes; 0=No","McDowell Named and Created"]
["R1_r47","Participated in Primary Activity in Grid Area 47","1=Yes; 0=No","McDowell Named and Created"]
["R1_r48","Participated in Primary Activity in Grid Area 48","1=Yes; 0=No","McDowell Named and Created"]
["R1_r49","Participated in Primary Activity in Grid Area 49","1=Yes; 0=No","McDowell Named and Created"]
["R1_r51","Participated in Primary Activity in Grid Area 51","1=Yes; 0=No","McDowell Named and Created"]
["R1_r52","Participated in Primary Activity in Grid Area 52","1=Yes; 0=No","McDowell Named and Created"]
["R1_r53","Participated in Primary Activity in Grid Area 53","1=Yes; 0=No","McDowell Named and Created"]
["R1_r54","Participated in Primary Activity in Grid Area 54","1=Yes; 0=No","McDowell Named and Created"]
["R1_r55","Participated in Primary Activity in Grid Area 55","1=Yes; 0=No","McDowell Named and Created"]
["R1_r56","Participated in Primary Activity in Grid Area 56","1=Yes; 0=No","McDowell Named and Created"]
["R1_r57","Participated in Primary Activity in Grid Area 57","1=Yes; 0=No","McDowell Named and Created"]
["R1_r58","Participated in Primary Activity in Grid Area 58","1=Yes; 0=No","McDowell Named and Created"]
["R1_r59","Participated in Primary Activity in Grid Area 59","1=Yes; 0=No","McDowell Named and Created"]
["R1_r60","Participated in Primary Activity in Grid Area 60","1=Yes; 0=No","McDowell Named and Created"]
["Q17","Ever Been to Study Area for Primary Activity prior to Recent Trip?","1=Yes; 2=No; 3-Live in study area","McDowell Named and Created"]
["Q17a","Year of First Visit to Study Area for Primary Activity","Year","McDowell Named and Created"]
["Q17b","Frequency per Year of Primary Activity in Study Area","Number","McDowell Named and Created"]
["Q18","Hire a Guide during Recent Outing to Study Area","1=Yes; 2=No","McDowell Named and Created"]
["Q18a","Guide Hired for Primary Activity","1=Yes; 2=No","McDowell Named and Created"]
["Q19","Night Spent in Study Area (Besides Primary Residence)","1=Yes; 2=No","McDowell Named and Created"]
["Q20","Nights Spent in Study Area on Last Outing","Number","McDowell Named and Created"]
["Q21overnight_1","Overnighted in Talkeetna","1=Yes; 0=No","McDowell Named and Created"]
["Q21overnight_2","Overnighted in Talkneeta Lodge","1=Yes; 0=No","McDowell Named and Created"]
["Q21overnight_3","Overnighted in Trapper Creek","1=Yes; 0=No","McDowell Named and Created"]
["Q21overnight_4","Overnighted in McKinley Princess","1=Yes; 0=No","McDowell Named and Created"]
["Q21overnight_5","Overnighted in Byers Lake","1=Yes; 0=No","McDowell Named and Created"]
["Q21overnight_6","Overnighted in Cantwell","1=Yes; 0=No","McDowell Named and Created"]
["Q21overnight_7","Overnighted in Brushkana","1=Yes; 0=No","McDowell Named and Created"]
["Q21overnight_8","Overnighted in Tangle Lakes","1=Yes; 0=No","McDowell Named and Created"]
["Q21overnight_9","Overnighted in Lake Louise","1=Yes; 0=No","McDowell Named and Created"]
["Q21overnight_10","Other Overnight Location 1 specified","Text","McDowell Named and Created"]
["Q21overnight_11","Other Overnight Location 2 specified","Text","McDowell Named and Created"]
["Q21overnight_12","Other Overnight Location 3 specified","Text","McDowell Named and Created"]
["Q21overnight_13","Other Overnight Location 4 specified","Text","McDowell Named and Created"]
["Q21overnight_14","Other Overnight Location 5 specified","Text","McDowell Named and Created"]
["Q21overnight_15","Other Overnight Location 6 specified","Text","McDowell Named and Created"]
["Q21overnight_16","Other Overnight Location 7 specified","Text","McDowell Named and Created"]
["Q21overnight_17","Other Overnight Location 8 specified","Text","McDowell Named and Created"]
["Q21overnight_18","Other Overnight Location 9 specified","Text","McDowell Named and Created"]
["Q21overnight_19","Other Overnight Location 1","1=Yes; 0=No","McDowell Named and Created"]
["Q21overnight_20","Other Overnight Location 2","1=Yes; 0=No","McDowell Named and Created"]
["Q21overnight_21","Other Overnight Location 3","1=Yes; 0=No","McDowell Named and Created"]
["Q21overnight_22","Other Overnight Location 4","1=Yes; 0=No","McDowell Named and Created"]
["Q21overnight_23","Other Overnight Location 5","1=Yes; 0=No","McDowell Named and Created"]
["Q21overnight_24","Other Overnight Location 6","1=Yes; 0=No","McDowell Named and Created"]
["Q21overnight_25","Other Overnight Location 7","1=Yes; 0=No","McDowell Named and Created"]
["Q21overnight_26","Other Overnight Location 8","1=Yes; 0=No","McDowell Named and Created"]
["Q21overnight_27","Other Overnight Location 9","1=Yes; 0=No","McDowell Named and Created"]
["Q21overnight_28","None of the Above Locations","1=Yes; 0=No","McDowell Named and Created"]
["Q21overnight_10_other","Unknown","Unknown","McDowell Named and Created"]
["Q21overnight_11_other","Unknown","Unknown","McDowell Named and Created"]
["Q21overnight_12_other","Unknown","Unknown","McDowell Named and Created"]
["Q21overnight_13_other","Unknown","Unknown","McDowell Named and Created"]
["Q21overnight_14_other","Unknown","Unknown","McDowell Named and Created"]
["Q21overnight_15_other","Unknown","Unknown","McDowell Named and Created"]
["Q21overnight_16_other","Unknown","Unknown","McDowell Named and Created"]
["Q21overnight_17_other","Unknown","Unknown","McDowell Named and Created"]
["Q21overnight_18_other","Unknown","Unknown","McDowell Named and Created"]
["Q21other_r1_c1","Unknown","Unknown","McDowell Named and Created"]
["Q21other_r2_c1","Unknown","Unknown","McDowell Named and Created"]
["Q21other_r3_c1","Unknown","Unknown","McDowell Named and Created"]
["Q21other_r4_c1","Unknown","Unknown","McDowell Named and Created"]
["Q21other_r5_c1","Unknown","Unknown","McDowell Named and Created"]
["Q21other_r6_c1","Unknown","Unknown","McDowell Named and Created"]
["Q21other_r7_c1","Unknown","Unknown","McDowell Named and Created"]
["Q21other_r8_c1","Unknown","Unknown","McDowell Named and Created"]
["Q21other_r9_c1","Unknown","Unknown","McDowell Named and Created"]
["Q21other_r10_c1","Unknown","Unknown","McDowell Named and Created"]
["Q21other_r11_c1","Unknown","Unknown","McDowell Named and Created"]
["Q21other_r12_c1","Unknown","Unknown","McDowell Named and Created"]
["Q21other_r13_c1","Unknown","Unknown","McDowell Named and Created"]
["Q21other_r14_c1","Unknown","Unknown","McDowell Named and Created"]
["Q21other_r15_c1","Unknown","Unknown","McDowell Named and Created"]
["Q21other_r16_c1","Unknown","Unknown","McDowell Named and Created"]
["Q21other_r17_c1","Unknown","Unknown","McDowell Named and Created"]
["Q21other_r18_c1","Unknown","Unknown","McDowell Named and Created"]
["Q21other_r19_c1","Unknown","Unknown","McDowell Named and Created"]
["Q21other_r20_c1","Unknown","Unknown","McDowell Named and Created"]
["Q21other_r21_c1","Unknown","Unknown","McDowell Named and Created"]
["Q21other_r22_c1","Unknown","Unknown","McDowell Named and Created"]
["Q21other_r23_c1","Unknown","Unknown","McDowell Named and Created"]
["Q21other_r24_c1","Unknown","Unknown","McDowell Named and Created"]
["Q21other_r25_c1","Unknown","Unknown","McDowell Named and Created"]
["Q21other_r26_c1","Unknown","Unknown","McDowell Named and Created"]
["Q21other_r27_c1","Unknown","Unknown","McDowell Named and Created"]
["Q21other_r28_c1","Unknown","Unknown","McDowell Named and Created"]
["Q21other_r1_c2","Unknown","Unknown","McDowell Named and Created"]
["Q21other_r2_c2","Unknown","Unknown","McDowell Named and Created"]
["Q21other_r3_c2","Unknown","Unknown","McDowell Named and Created"]
["Q21other_r4_c2","Unknown","Unknown","McDowell Named and Created"]
["Q21other_r5_c2","Unknown","Unknown","McDowell Named and Created"]
["Q21other_r6_c2","Unknown","Unknown","McDowell Named and Created"]
["Q21other_r7_c2","Unknown","Unknown","McDowell Named and Created"]
["Q21other_r8_c2","Unknown","Unknown","McDowell Named and Created"]
["Q21other_r9_c2","Unknown","Unknown","McDowell Named and Created"]
["Q21other_r10_c2","Unknown","Unknown","McDowell Named and Created"]
["Q21other_r11_c2","Unknown","Unknown","McDowell Named and Created"]
["Q21other_r12_c2","Unknown","Unknown","McDowell Named and Created"]
["Q21other_r13_c2","Unknown","Unknown","McDowell Named and Created"]
["Q21other_r14_c2","Unknown","Unknown","McDowell Named and Created"]
["Q21other_r15_c2","Unknown","Unknown","McDowell Named and Created"]
["Q21other_r16_c2","Unknown","Unknown","McDowell Named and Created"]
["Q21other_r17_c2","Unknown","Unknown","McDowell Named and Created"]
["Q21other_r18_c2","Unknown","Unknown","McDowell Named and Created"]
["Q21other_r19_c2","Unknown","Unknown","McDowell Named and Created"]
["Q21other_r20_c2","Unknown","Unknown","McDowell Named and Created"]
["Q21other_r21_c2","Unknown","Unknown","McDowell Named and Created"]
["Q21other_r22_c2","Unknown","Unknown","McDowell Named and Created"]
["Q21other_r23_c2","Unknown","Unknown","McDowell Named and Created"]
["Q21other_r24_c2","Unknown","Unknown","McDowell Named and Created"]
["Q21other_r25_c2","Unknown","Unknown","McDowell Named and Created"]
["Q21other_r26_c2","Unknown","Unknown","McDowell Named and Created"]
["Q21other_r27_c2","Unknown","Unknown","McDowell Named and Created"]
["Q21other_r28_c2","Unknown","Unknown","McDowell Named and Created"]
["Q21other_r10_other","Unknown","Unknown","McDowell Named and Created"]
["Q21other_r11_other","Unknown","Unknown","McDowell Named and Created"]
["Q21other_r12_other","Unknown","Unknown","McDowell Named and Created"]
["Q21other_r13_other","Unknown","Unknown","McDowell Named and Created"]
["Q21other_r14_other","Unknown","Unknown","McDowell Named and Created"]
["Q21other_r15_other","Unknown","Unknown","McDowell Named and Created"]
["Q21other_r16_other","Unknown","Unknown","McDowell Named and Created"]
["Q21other_r17_other","Unknown","Unknown","McDowell Named and Created"]
["Q21other_r18_other","Unknown","Unknown","McDowell Named and Created"]
["Q21none_1","Unknown","Unknown","McDowell Named and Created"]
["Q21_r1_c1","Nights in Talkeetna Hotel/motel/B&B","Number","McDowell Named and Created"]
["Q21_r1_c2","Nights in Talkeetna Lodge","Number","McDowell Named and Created"]
["Q21_r1_c3","Nights in Talkeetna Private home","Number","McDowell Named and Created"]
["Q21_r1_c4","Nights in Talkeetna Established campground","Number","McDowell Named and Created"]
["Q21_r1_c5","Nights in Talkeetna Undeveloped/roadside RV/camper/car/tent","Number","McDowell Named and Created"]
["Q21_r1_c6","Nights in Talkeetna Remote tent/cabin","Number","McDowell Named and Created"]
["Q21_r1_c7","Nights in Talkeetna Other lodging","Number","McDowell Named and Created"]
["Q21_r2_c1","Nights in Talkeetna Lodge Lodge Hotel/motel/B&B","Number","McDowell Named and Created"]
["Q21_r2_c2","Nights in Talkeetna Lodge Lodge Lodge","Number","McDowell Named and Created"]
["Q21_r2_c3","Nights in Talkeetna Lodge Lodge Private home","Number","McDowell Named and Created"]
["Q21_r2_c4","Nights in Talkeetna Lodge Lodge Established campground","Number","McDowell Named and Created"]
["Q21_r2_c5","Nights in Talkeetna Lodge Lodge Undeveloped/roadside RV/camper/car/tent","Number","McDowell Named and Created"]
["Q21_r2_c6","Nights in Talkeetna Lodge Lodge Remote tent/cabin","Number","McDowell Named and Created"]
["Q21_r2_c7","Nights in Talkeetna Lodge Lodge Other lodging","Number","McDowell Named and Created"]
["Q21_r3_c1","Nights in Trapper Creek Hotel/motel/B&B","Number","McDowell Named and Created"]
["Q21_r3_c2","Nights in Trapper Creek Lodge","Number","McDowell Named and Created"]
["Q21_r3_c3","Nights in Trapper Creek Private home","Number","McDowell Named and Created"]
["Q21_r3_c4","Nights in Trapper Creek Established campground","Number","McDowell Named and Created"]
["Q21_r3_c5","Nights in Trapper Creek Undeveloped/roadside RV/camper/car/tent","Number","McDowell Named and Created"]
["Q21_r3_c6","Nights in Trapper Creek Remote tent/cabin","Number","McDowell Named and Created"]
["Q21_r3_c7","Nights in Trapper Creek Other lodging","Number","McDowell Named and Created"]
["Q21_r4_c1","Nights in McKinley Princess Lodge Hotel/motel/B&B","Number","McDowell Named and Created"]
["Q21_r4_c2","Nights in McKinley Princess Lodge Lodge","Number","McDowell Named and Created"]
["Q21_r4_c3","Nights in McKinley Princess Lodge Private home","Number","McDowell Named and Created"]
["Q21_r4_c4","Nights in McKinley Princess Lodge Established campground","Number","McDowell Named and Created"]
["Q21_r4_c5","Nights in McKinley Princess Lodge Undeveloped/roadside RV/camper/car/tent","Number","McDowell Named and Created"]
["Q21_r4_c6","Nights in McKinley Princess Lodge Remote tent/cabin","Number","McDowell Named and Created"]
["Q21_r4_c7","Nights in McKinley Princess Lodge Other lodging","Number","McDowell Named and Created"]
["Q21_r5_c1","Nights in Byers Lake Hotel/motel/B&B","Number","McDowell Named and Created"]
["Q21_r5_c2","Nights in Byers Lake Lodge","Number","McDowell Named and Created"]
["Q21_r5_c3","Nights in Byers Lake Private home","Number","McDowell Named and Created"]
["Q21_r5_c4","Nights in Byers Lake Established campground","Number","McDowell Named and Created"]
["Q21_r5_c5","Nights in Byers Lake Undeveloped/roadside RV/camper/car/tent","Number","McDowell Named and Created"]
["Q21_r5_c6","Nights in Byers Lake Remote tent/cabin","Number","McDowell Named and Created"]
["Q21_r5_c7","Nights in Byers Lake Other lodging","Number","McDowell Named and Created"]
["Q21_r6_c1","Nights in Cantwell Hotel/motel/B&B","Number","McDowell Named and Created"]
["Q21_r6_c2","Nights in Cantwell Lodge","Number","McDowell Named and Created"]
["Q21_r6_c3","Nights in Cantwell Private home","Number","McDowell Named and Created"]
["Q21_r6_c4","Nights in Cantwell Established campground","Number","McDowell Named and Created"]
["Q21_r6_c5","Nights in Cantwell Undeveloped/roadside RV/camper/car/tent","Number","McDowell Named and Created"]
["Q21_r6_c6","Nights in Cantwell Remote tent/cabin","Number","McDowell Named and Created"]
["Q21_r6_c7","Nights in Cantwell Other lodging","Number","McDowell Named and Created"]
["Q21_r7_c1","Nights in Brushkana Creek Campground Hotel/motel/B&B","Number","McDowell Named and Created"]
["Q21_r7_c2","Nights in Brushkana Creek Campground Lodge","Number","McDowell Named and Created"]
["Q21_r7_c3","Nights in Brushkana Creek Campground Private home","Number","McDowell Named and Created"]
["Q21_r7_c4","Nights in Brushkana Creek Campground Established campground","Number","McDowell Named and Created"]
["Q21_r7_c5","Nights in Brushkana Creek Campground Undeveloped/roadside RV/camper/car/tent","Number","McDowell Named and Created"]
["Q21_r7_c6","Nights in Brushkana Creek Campground Remote tent/cabin","Number","McDowell Named and Created"]
["Q21_r7_c7","Nights in Brushkana Creek Campground Other lodging","Number","McDowell Named and Created"]
["Q21_r8_c1","Nights in Tangle Lakes Hotel/motel/B&B","Number","McDowell Named and Created"]
["Q21_r8_c2","Nights in Tangle Lakes Lodge","Number","McDowell Named and Created"]
["Q21_r8_c3","Nights in Tangle Lakes Private home","Number","McDowell Named and Created"]
["Q21_r8_c4","Nights in Tangle Lakes Established campground","Number","McDowell Named and Created"]
["Q21_r8_c5","Nights in Tangle Lakes Undeveloped/roadside RV/camper/car/tent","Number","McDowell Named and Created"]
["Q21_r8_c6","Nights in Tangle Lakes Remote tent/cabin","Number","McDowell Named and Created"]
["Q21_r8_c7","Nights in Tangle Lakes Other lodging","Number","McDowell Named and Created"]
["Q21_r9_c1","Nights in Lake Louise Hotel/motel/B&B","Number","McDowell Named and Created"]
["Q21_r9_c2","Nights in Lake Louise Lodge","Number","McDowell Named and Created"]
["Q21_r9_c3","Nights in Lake Louise Private home","Number","McDowell Named and Created"]
["Q21_r9_c4","Nights in Lake Louise Established campground","Number","McDowell Named and Created"]
["Q21_r9_c5","Nights in Lake Louise Undeveloped/roadside RV/camper/car/tent","Number","McDowell Named and Created"]
["Q21_r9_c6","Nights in Lake Louise Remote tent/cabin","Number","McDowell Named and Created"]
["Q21_r9_c7","Nights in Lake Louise Other lodging","Number","McDowell Named and Created"]
["Q21_r10_c1","Nights in Other Overnight Location 1 Hotel/motel/B&B","Number","McDowell Named and Created"]
["Q21_r10_c2","Nights in Other Overnight Location 1 Lodge","Number","McDowell Named and Created"]
["Q21_r10_c3","Nights in Other Overnight Location 1 Private home","Number","McDowell Named and Created"]
["Q21_r10_c4","Nights in Other Overnight Location 1 Established campground","Number","McDowell Named and Created"]
["Q21_r10_c5","Nights in Other Overnight Location 1 Undeveloped/roadside RV/camper/car/tent","Number","McDowell Named and Created"]
["Q21_r10_c6","Nights in Other Overnight Location 1 Remote tent/cabin","Number","McDowell Named and Created"]
["Q21_r10_c7","Nights in Other Overnight Location 1 Other lodging","Number","McDowell Named and Created"]
["Q21_r11_c1","Nights in Other Overnight Location 2 Hotel/motel/B&B","Number","McDowell Named and Created"]
["Q21_r11_c2","Nights in Other Overnight Location 2 Lodge","Number","McDowell Named and Created"]
["Q21_r11_c3","Nights in Other Overnight Location 2 Private home","Number","McDowell Named and Created"]
["Q21_r11_c4","Nights in Other Overnight Location 2 Established campground","Number","McDowell Named and Created"]
["Q21_r11_c5","Nights in Other Overnight Location 2 Undeveloped/roadside RV/camper/car/tent","Number","McDowell Named and Created"]
["Q21_r11_c6","Nights in Other Overnight Location 2 Remote tent/cabin","Number","McDowell Named and Created"]
["Q21_r11_c7","Nights in Other Overnight Location 2 Other lodging","Number","McDowell Named and Created"]
["Q21_r12_c1","Nights in Other Overnight Location 3 Hotel/motel/B&B","Number","McDowell Named and Created"]
["Q21_r12_c2","Nights in Other Overnight Location 3 Lodge","Number","McDowell Named and Created"]
["Q21_r12_c3","Nights in Other Overnight Location 3 Private home","Number","McDowell Named and Created"]
["Q21_r12_c4","Nights in Other Overnight Location 3 Established campground","Number","McDowell Named and Created"]
["Q21_r12_c5","Nights in Other Overnight Location 3 Undeveloped/roadside RV/camper/car/tent","Number","McDowell Named and Created"]
["Q21_r12_c6","Nights in Other Overnight Location 3 Remote tent/cabin","Number","McDowell Named and Created"]
["Q21_r12_c7","Nights in Other Overnight Location 3 Other lodging","Number","McDowell Named and Created"]
["Q21_r13_c1","Nights in Other Overnight Location 4 Hotel/motel/B&B","Number","McDowell Named and Created"]
["Q21_r13_c2","Nights in Other Overnight Location 4 Lodge","Number","McDowell Named and Created"]
["Q21_r13_c3","Nights in Other Overnight Location 4 Private home","Number","McDowell Named and Created"]
["Q21_r13_c4","Nights in Other Overnight Location 4 Established campground","Number","McDowell Named and Created"]
["Q21_r13_c5","Nights in Other Overnight Location 4 Undeveloped/roadside RV/camper/car/tent","Number","McDowell Named and Created"]
["Q21_r13_c6","Nights in Other Overnight Location 4 Remote tent/cabin","Number","McDowell Named and Created"]
["Q21_r13_c7","Nights in Other Overnight Location 4 Other lodging","Number","McDowell Named and Created"]
["Q21_r14_c1","Nights in Other Overnight Location 5 Hotel/motel/B&B","Number","McDowell Named and Created"]
["Q21_r14_c2","Nights in Other Overnight Location 5 Lodge","Number","McDowell Named and Created"]
["Q21_r14_c3","Nights in Other Overnight Location 5 Private home","Number","McDowell Named and Created"]
["Q21_r14_c4","Nights in Other Overnight Location 5 Established campground","Number","McDowell Named and Created"]
["Q21_r14_c5","Nights in Other Overnight Location 5 Undeveloped/roadside RV/camper/car/tent","Number","McDowell Named and Created"]
["Q21_r14_c6","Nights in Other Overnight Location 5 Remote tent/cabin","Number","McDowell Named and Created"]
["Q21_r14_c7","Nights in Other Overnight Location 5 Other lodging","Number","McDowell Named and Created"]
["Q21_r15_c1","Nights in Other Overnight Location 6 Hotel/motel/B&B","Number","McDowell Named and Created"]
["Q21_r15_c2","Nights in Other Overnight Location 6 Lodge","Number","McDowell Named and Created"]
["Q21_r15_c3","Nights in Other Overnight Location 6 Private home","Number","McDowell Named and Created"]
["Q21_r15_c4","Nights in Other Overnight Location 6 Established campground","Number","McDowell Named and Created"]
["Q21_r15_c5","Nights in Other Overnight Location 6 Undeveloped/roadside RV/camper/car/tent","Number","McDowell Named and Created"]
["Q21_r15_c6","Nights in Other Overnight Location 6 Remote tent/cabin","Number","McDowell Named and Created"]
["Q21_r15_c7","Nights in Other Overnight Location 6 Other lodging","Number","McDowell Named and Created"]
["Q21_r16_c1","Nights in Other Overnight Location 7 Hotel/motel/B&B","Number","McDowell Named and Created"]
["Q21_r16_c2","Nights in Other Overnight Location 7 Lodge","Number","McDowell Named and Created"]
["Q21_r16_c3","Nights in Other Overnight Location 7 Private home","Number","McDowell Named and Created"]
["Q21_r16_c4","Nights in Other Overnight Location 7 Established campground","Number","McDowell Named and Created"]
["Q21_r16_c5","Nights in Other Overnight Location 7 Undeveloped/roadside RV/camper/car/tent","Number","McDowell Named and Created"]
["Q21_r16_c6","Nights in Other Overnight Location 7 Remote tent/cabin","Number","McDowell Named and Created"]
["Q21_r16_c7","Nights in Other Overnight Location 7 Other lodging","Number","McDowell Named and Created"]
["Q21_r17_c1","Nights in Other Overnight Location 8 Hotel/motel/B&B","Number","McDowell Named and Created"]
["Q21_r17_c2","Nights in Other Overnight Location 8 Lodge","Number","McDowell Named and Created"]
["Q21_r17_c3","Nights in Other Overnight Location 8 Private home","Number","McDowell Named and Created"]
["Q21_r17_c4","Nights in Other Overnight Location 8 Established campground","Number","McDowell Named and Created"]
["Q21_r17_c5","Nights in Other Overnight Location 8 Undeveloped/roadside RV/camper/car/tent","Number","McDowell Named and Created"]
["Q21_r17_c6","Nights in Other Overnight Location 8 Remote tent/cabin","Number","McDowell Named and Created"]
["Q21_r17_c7","Nights in Other Overnight Location 8 Other lodging","Number","McDowell Named and Created"]
["Q21_r18_c1","Nights in Other Overnight Location 9 Hotel/motel/B&B","Number","McDowell Named and Created"]
["Q21_r18_c2","Nights in Other Overnight Location 9 Lodge","Number","McDowell Named and Created"]
["Q21_r18_c3","Nights in Other Overnight Location 9 Private home","Number","McDowell Named and Created"]
["Q21_r18_c4","Nights in Other Overnight Location 9 Established campground","Number","McDowell Named and Created"]
["Q21_r18_c5","Nights in Other Overnight Location 9 Undeveloped/roadside RV/camper/car/tent","Number","McDowell Named and Created"]
["Q21_r18_c6","Nights in Other Overnight Location 9 Remote tent/cabin","Number","McDowell Named and Created"]
["Q21_r18_c7","Nights in Other Overnight Location 9 Other lodging","Number","McDowell Named and Created"]
["Q22","People in Immediate Party","Number","McDowell Named and Created"]
["Q23","People in Group","Number","McDowell Named and Created"]
["Q24","Anyone in Party with Disability","1=Yes; 2=No","McDowell Named and Created"]
["Q24a_1","Wheelchair Access to Trails","1=Yes; 2=No","McDowell Named and Created"]
["Q24a_2","Wheelchair Access to Facilities","1=Yes; 2=No","McDowell Named and Created"]
["Q24a_3","Other Need","1=Yes; 2=No","McDowell Named and Created"]
["Q24a_3_other","Other Need specified","Text","McDowell Named and Created"]
["Q25","How Crowded","1=Very crowded; 2=Somewhat crowded; 3=Not crowded","McDowell Named and Created"]
["Q25a","Remember Where Felt Crowded","1=Yes; 2=No","McDowell Named and Created"]
["Q25b_r1_c1","Crowded Place 1","Text","McDowell Named and Created"]
["Q25b_r2_c1","Crowded Place 2","Text","McDowell Named and Created"]
["Q25b_r3_c1","Crowded Place 3","Text","McDowell Named and Created"]
["Q25b_r1_c2","Crowded Place 1 Grid #","Number","McDowell Named and Created"]
["Q25b_r2_c2","Crowded Place 2 Grid #","Number","McDowell Named and Created"]
["Q25b_r3_c2","Crowded Place 3 Grid #","Number","McDowell Named and Created"]
["Q26","Conflict with Other Individual Group","1=Yes; 2=No","McDowell Named and Created"]
["Q26a","Activity of Other Individual or Group","Text","McDowell Named and Created"]
["Q26b","Cause of Conflict","Text","McDowell Named and Created"]
["Q27_1","Nothing","1=Yes; 0=No","McDowell Named and Created"]
["Q27_2","Communication Towers","1=Yes; 0=No","McDowell Named and Created"]
["Q27_3","Power Lines","1=Yes; 0=No","McDowell Named and Created"]
["Q27_4","Railroad","1=Yes; 0=No","McDowell Named and Created"]
["Q27_5","Trash","1=Yes; 0=No","McDowell Named and Created"]
["Q27_6","Roads","1=Yes; 0=No","McDowell Named and Created"]
["Q27_7","Trails","1=Yes; 0=No","McDowell Named and Created"]
["Q27_8","Roadside Camping Areas","1=Yes; 0=No","McDowell Named and Created"]
["Q27_9","Vehicles","1=Yes; 0=No","McDowell Named and Created"]
["Q27_10","People","1=Yes; 0=No","McDowell Named and Created"]
["Q27_11","Other Detraction from Scenic Quality","1=Yes; 0=No","McDowell Named and Created"]
["Q27_11_other","Other Detraction from Scenic Quality specified","Text","McDowell Named and Created"]
["Q28_1","Nothing","1=Yes; 0=No","McDowell Named and Created"]
["Q28_2","Gunshots","1=Yes; 0=No","McDowell Named and Created"]
["Q28_3","Airplanes","1=Yes; 0=No","McDowell Named and Created"]
["Q28_4","Jet Aircraft Sonic Boom","1=Yes; 0=No","McDowell Named and Created"]
["Q28_5","Helicopters","1=Yes; 0=No","McDowell Named and Created"]
["Q28_6","Boats","1=Yes; 0=No","McDowell Named and Created"]
["Q28_7","Four Wheeler/ATV","1=Yes; 0=No","McDowell Named and Created"]
["Q28_8","Cars/Trucks/RV","1=Yes; 0=No","McDowell Named and Created"]
["Q28_9","Noise from Other People","1=Yes; 0=No","McDowell Named and Created"]
["Q28_10","Heavy Equipment","1=Yes; 0=No","McDowell Named and Created"]
["Q28_11","Chainsaw","1=Yes; 0=No","McDowell Named and Created"]
["Q28_12","Snow Machine","1=Yes; 0=No","McDowell Named and Created"]
["Q28_13","Other Source of Noise","1=Yes; 0=No","McDowell Named and Created"]
["Q28_13_other","Other Source of Noise specified","Text","McDowell Named and Created"]
["Q29","Travel More than 0.5 mile from Trailhead or Main Road","1=Yes; 2=No","McDowell Named and Created"]
["Q29a_1","Off-road Vehicle/ATV","1=Yes; 0=No","McDowell Named and Created"]
["Q29a_2","Motorized Watercraft","1=Yes; 0=No","McDowell Named and Created"]
["Q29a_3","Non-motorized Watercraft","1=Yes; 0=No","McDowell Named and Created"]
["Q29a_4","Airplane","1=Yes; 0=No","McDowell Named and Created"]
["Q29a_5","Snow Machine","1=Yes; 0=No","McDowell Named and Created"]
["Q29a_6","Ski","1=Yes; 0=No","McDowell Named and Created"]
["Q29a_7","Snowshoe","1=Yes; 0=No","McDowell Named and Created"]
["Q29a_8","Walked/Hiked","1=Yes; 0=No","McDowell Named and Created"]
["Q29a_9","Other Mode of Transportation","1=Yes; 0=No","McDowell Named and Created"]
["Q29a_9_other","Other specified","Text","McDowell Named and Created"]
["Q29b","Established Trails, Off-trail, or Both","1=Established trails; 2=Off-trail; 3=Both","McDowell Named and Created"]
["Q29c","Camp More than 0.5 Mile from Trailhead or Main Road","1=Yes; 2=No","McDowell Named and Created"]
["Q30_r1","Wildlife Viewing Opportunities","1=Very important; 2=Somewhat important; 3=Not important","McDowell Named and Created"]
["Q30_r2","Opportunity to Hunt","1=Very important; 2=Somewhat important; 3=Not important","McDowell Named and Created"]
["Q30_r3","Opportunity to Fish","1=Very important; 2=Somewhat important; 3=Not important","McDowell Named and Created"]
["Q30_r4","Opportunity to Experience Remote Alaska","1=Very important; 2=Somewhat important; 3=Not important","McDowell Named and Created"]
["Q30_r5","Opportunity to Experience Solitude","1=Very important; 2=Somewhat important; 3=Not important","McDowell Named and Created"]
["Q30_r6","Opportunity to Challenge Yourself","1=Very important; 2=Somewhat important; 3=Not important","McDowell Named and Created"]
["Q30_r7","Scenery","1=Very important; 2=Somewhat important; 3=Not important","McDowell Named and Created"]
["Q31_r1","Area means a lot","1=Strongly Agree; 2=Agree; 3=Neutral; 4=Disagree; 5=Strongly Disagree","McDowell Named and Created"]
["Q31_r2","No other place can compare","1=Strongly Agree; 2=Agree; 3=Neutral; 4=Disagree; 5=Strongly Disagree","McDowell Named and Created"]
["Q31_r3","Recreating here more important than elsewhere","1=Strongly Agree; 2=Agree; 3=Neutral; 4=Disagree; 5=Strongly Disagree","McDowell Named and Created"]
["Q31_r4","This area is close to my home","1=Strongly Agree; 2=Agree; 3=Neutral; 4=Disagree; 5=Strongly Disagree","McDowell Named and Created"]
["Q31_r5","Family has been coming here for generations","1=Strongly Agree; 2=Agree; 3=Neutral; 4=Disagree; 5=Strongly Disagree","McDowell Named and Created"]
["Q32_r1","Maintained roads","1=A lot more; 2=More; 3=Same; 4=Little Less; 5=Lot less","McDowell Named and Created"]
["Q32_r2","Designated parking areas","1=A lot more; 2=More; 3=Same; 4=Little Less; 5=Lot less","McDowell Named and Created"]
["Q32_r3","Roadside toilets","1=A lot more; 2=More; 3=Same; 4=Little Less; 5=Lot less","McDowell Named and Created"]
["Q32_r4","RV accessible sites at campgrounds","1=A lot more; 2=More; 3=Same; 4=Little Less; 5=Lot less","McDowell Named and Created"]
["Q32_r5","Trail maps","1=A lot more; 2=More; 3=Same; 4=Little Less; 5=Lot less","McDowell Named and Created"]
["Q32_r6","Designated trails for non-motorized use","1=A lot more; 2=More; 3=Same; 4=Little Less; 5=Lot less","McDowell Named and Created"]
["Q32_r7","Designated trails for off-road vehicles","1=A lot more; 2=More; 3=Same; 4=Little Less; 5=Lot less","McDowell Named and Created"]
["Q32_r8","Directional road signs","1=A lot more; 2=More; 3=Same; 4=Little Less; 5=Lot less","McDowell Named and Created"]
["Q32_r9","Visitor information","1=A lot more; 2=More; 3=Same; 4=Little Less; 5=Lot less","McDowell Named and Created"]
["Q32_r10","Visitor centers","1=A lot more; 2=More; 3=Same; 4=Little Less; 5=Lot less","McDowell Named and Created"]
["Q32_r11","Public use cabins","1=A lot more; 2=More; 3=Same; 4=Little Less; 5=Lot less","McDowell Named and Created"]
["Q32_r12","Boat launches","1=A lot more; 2=More; 3=Same; 4=Little Less; 5=Lot less","McDowell Named and Created"]
["Q32_r13","Facilities for the disabled","1=A lot more; 2=More; 3=Same; 4=Little Less; 5=Lot less","McDowell Named and Created"]
["Q33","Year of Birth","Year","McDowell Named and Created"]
["Q34","Gender","1=Male; 2=Female","McDowell Named and Created"]
["Q35","Married","1=Yes; 2=No","McDowell Named and Created"]
["Q36","People in Household","Number","McDowell Named and Created"]
["Q37","Any Children Under 18 in Household","1=Yes; 2=No","McDowell Named and Created"]
["Q38","Pre-tax 2012 Household Income","1=<$20,000; 2=$20,001 to $35,000; 3=$35,001 to $50,000; 4=$50,001 to $75,000; 5=$75,001 to $99,999; 6=$100,000 to $149,999; 7=$150,000 or more","McDowell Named and Created"]
["Q39_1","White","1=Yes; 0=No","McDowell Named and Created"]
["Q39_2","Black or African American","1=Yes; 0=No","McDowell Named and Created"]
["Q39_3","Hispanic","1=Yes; 0=No","McDowell Named and Created"]
["Q39_4","American Indian or Alaska Native","1=Yes; 0=No","McDowell Named and Created"]
["Q39_5","Asian","1=Yes; 0=No","McDowell Named and Created"]
["Q39_6","Native Hawaiian or Other Pacific Islander","1=Yes; 0=No","McDowell Named and Created"]
["Q39_7","Some other race","1=Yes; 0=No","McDowell Named and Created"]
["Q40","Highest Level of Education Completed","1=Less than 9th grade; 2=9th to 12th grade, no diploma; 3=High school graduate, GED, or alternative; 4=Some college, no degree; 5=Associate's degree; 6=Bachelor's degree; 7=Graduate or professional degree","McDowell Named and Created"]
["Q41","Professional Guide for Any Recreational Activities?","1=Yes; 2=No","McDowell Named and Created"]
["Q41a_1","Snow machining","1=Yes; 0=No","McDowell Named and Created"]
["Q41a_2","Fishing","1=Yes; 0=No","McDowell Named and Created"]
["Q41a_3","Hunting recent visit","1=Yes; 0=No","McDowell Named and Created"]
["Q41a_4","Boat/float tour","1=Yes; 0=No","McDowell Named and Created"]
["Q41a_5","Other recreational activity","1=Yes; 0=No","McDowell Named and Created"]
["Q41a_5_other","Other recreational activity specified","Text","McDowell Named and Created"]
["Q42","Own Cabin in Alaska","1=Yes; 2=No","McDowell Named and Created"]
["Q42a","Cabin Location","Text","McDowell Named and Created"]
[null,null,null,"McDowell Named and Created"]

{"sheet":"VL Old","index":2,"n_rows":1757,"n_cols":4,"rows_kept":1757,"cut":false,"hidden":true,"merged":[[12,4,13,4],[14,4,21,4],[22,4,24,4],[27,4,29,4]]}
[]
[]
[]
["Variable Name","Meaning","Interpretation","Variable Origin"]
["sys_SequentialRespondentNumber",{"$f":"VLOOKUP($A5,#REF!,2,FALSE)","v":{"$error":"#REF!"}},null,"McDowell Named and Created"]
["password",{"$f":"VLOOKUP($A6,#REF!,2,FALSE)","v":{"$error":"#REF!"}},null,"McDowell Named and Created"]
["Mail (1)/online (2)",{"$f":"VLOOKUP($A7,#REF!,2,FALSE)","v":{"$error":"#REF!"}},null,"McDowell Named and Created"]
["Unique ID",{"$f":"VLOOKUP($A8,#REF!,2,FALSE)","v":{"$error":"#REF!"}},"Unique ID Created by NEI","NEI Created"]
["MGinfo_r1_c1",{"$f":"VLOOKUP($A9,#REF!,2,FALSE)","v":{"$error":"#REF!"}},null,"McDowell Named and Created"]
["Snowmachined Ever in Alaska","Did Respondent Snow Machine in Alaska ","1=Yes; 2=No","NEI Renamed"]
["McDowell Snowmachined in 2013","Did they Snowmachine in Alaska in 2013","1= No; 2=Yes","NEI Renamed"]
["NEI Snowmachined 2013 Recoded","Did they Snowmachine in Alaska in 2013","1=Yes, 0=No","NEI Created"]
["Total 2013 Days","Total days in 2013 snowmachined in AK","Number","NEI Renamed"]
["Location 1","Respondent Provided Name of Location","text","NEI Renamed"]
["Location 2","Respondent Provided Name of Location","text","NEI Renamed"]
["Location 3","Respondent Provided Name of Location","text","NEI Renamed"]
["Location 4","Respondent Provided Name of Location","text","NEI Renamed"]
["Location 5","Respondent Provided Name of Location","text","NEI Renamed"]
["Location 6","Respondent Provided Name of Location","text","NEI Renamed"]
["Location 7","Respondent Provided Name of Location","text","NEI Renamed"]
["Location 8","Respondent Provided Name of Location","text","NEI Renamed"]
["Location 9","Respondent Provided Name of Location","text","NEI Renamed"]
["Location 10","Respondent Provided Name of Location","text","NEI Renamed"]
["Concatenated Location 1","Combined Raw Location/Access data for Location 1 and Access 1","Text   ","NEI Created"]
["Concatenated Location 2","Combined Raw Location/Access data for Location 2 and Access 2","Text   ","NEI Created"]
["Concatenated Location 3","Combined Raw Location/Access data for Location 3 and Access 3","Text   ","NEI Created"]
["Concatenated Location 4","Combined Raw Location/Access data for Location 4 and Access 4","Text   ","NEI Created"]
["Concatenated Location 5","Combined Raw Location/Access data for Location 5 and Access 5","Text   ","NEI Created"]
["Concatenated Location 6","Combined Raw Location/Access data for Location 6 and Access 6","Text   ","NEI Created"]
["Concatenated Location 7","Combined Raw Location/Access data for Location 7 and Access 7","Text   ","NEI Created"]
["Concatenated Location 8","Combined Raw Location/Access data for Location 8 and Access 8","Text   ","NEI Created"]
["Concatenated Location 9","Combined Raw Location/Access data for Location 9 and Access 9","Text   ","NEI Created"]
["Concatenated Location 10","Combined Raw Location/Access data for Location 10 and Access 10","Text   ","NEI Created"]
["Recoded Location 1","Corresponding Short Code for Location 1","Text","NEI Created"]
["Recoded Location 2","Corresponding Short Code for Location 2","Text","NEI Created"]
["Recoded Location 3","Corresponding Short Code for Location 3","Text","NEI Created"]
["Recoded Location 4","Corresponding Short Code for Location 4","Text","NEI Created"]
["Recoded Location 5","Corresponding Short Code for Location 5","Text","NEI Created"]
["Recoded Location 6","Corresponding Short Code for Location 6","Text","NEI Created"]
["Recoded Location 7","Corresponding Short Code for Location 7","Text","NEI Created"]
["Recoded Location 8","Corresponding Short Code for Location 8","Text","NEI Created"]
["Recoded Location 9","Corresponding Short Code for Location 9","Text","NEI Created"]
["Recoded Location 10","Corresponding Short Code for Location 10","Text","NEI Created"]
["Access Point 1","Respondent entered access for location 1","Text","NEI Renamed"]
["Access Point 2","Respondent entered access for location 2","Text","NEI Renamed"]
["Access Point 3","Respondent entered access for location 3","Text","NEI Renamed"]
["Access Point 4","Respondent entered access for location 4","Text","NEI Renamed"]
["Access Point 5","Respondent entered access for location 5","Text","NEI Renamed"]
["Access Point 6","Respondent entered access for location 6","Text","NEI Renamed"]
["Access Point 7","Respondent entered access for location 7","Text","NEI Renamed"]
["Access Point 8","Respondent entered access for location 8","Text","NEI Renamed"]
["Access Point 9","Respondent entered access for location 9","Text","NEI Renamed"]
["Access Point 10","Respondent entered access for location 10","Text","NEI Renamed"]
["Days at Location 1","Respondent days spent at location 1","Number","NEI Renamed"]
["Days at Location 2","Respondent days spent at location 2","Number","NEI Renamed"]
["Days at Location 3","Respondent days spent at location 3","Number","NEI Renamed"]
["Days at Location 4","Respondent days spent at location 4","Number","NEI Renamed"]
["Days at Location 5","Respondent days spent at location 5","Number","NEI Renamed"]
["Days at Location 6","Respondent days spent at location 6","Number","NEI Renamed"]
["Days at Location 7","Respondent days spent at location 7","Number","NEI Renamed"]
["Days at Location 8","Respondent days spent at location 8","Number","NEI Renamed"]
["Days at Location 9","Respondent days spent at location 9","Number","NEI Renamed"]
["Days at Location 10","Respondent days spent at location 10","Number","McDowell Named and Created"]
["SM1_r1",{"$f":"VLOOKUP($A64,#REF!,2,FALSE)","v":{"$error":"#REF!"}},{"$f":"VLOOKUP($A64,#REF!,3,FALSE)","v":{"$error":"#REF!"}},"McDowell Named and Created"]
["SM1_r2",{"$f":"VLOOKUP($A65,#REF!,2,FALSE)","v":{"$error":"#REF!"}},{"$f":"VLOOKUP($A65,#REF!,3,FALSE)","v":{"$error":"#REF!"}},"McDowell Named and Created"]
["SM1_r3",{"$f":"VLOOKUP($A66,#REF!,2,FALSE)","v":{"$error":"#REF!"}},{"$f":"VLOOKUP($A66,#REF!,3,FALSE)","v":{"$error":"#REF!"}},"McDowell Named and Created"]
["SM1_r4",{"$f":"VLOOKUP($A67,#REF!,2,FALSE)","v":{"$error":"#REF!"}},{"$f":"VLOOKUP($A67,#REF!,3,FALSE)","v":{"$error":"#REF!"}},"McDowell Named and Created"]
["SM1_r5",{"$f":"VLOOKUP($A68,#REF!,2,FALSE)","v":{"$error":"#REF!"}},{"$f":"VLOOKUP($A68,#REF!,3,FALSE)","v":{"$error":"#REF!"}},"McDowell Named and Created"]
["SM1_r6",{"$f":"VLOOKUP($A69,#REF!,2,FALSE)","v":{"$error":"#REF!"}},{"$f":"VLOOKUP($A69,#REF!,3,FALSE)","v":{"$error":"#REF!"}},"McDowell Named and Created"]
["SM1_r7",{"$f":"VLOOKUP($A70,#REF!,2,FALSE)","v":{"$error":"#REF!"}},{"$f":"VLOOKUP($A70,#REF!,3,FALSE)","v":{"$error":"#REF!"}},"McDowell Named and Created"]
["SM1_r8",{"$f":"VLOOKUP($A71,#REF!,2,FALSE)","v":{"$error":"#REF!"}},{"$f":"VLOOKUP($A71,#REF!,3,FALSE)","v":{"$error":"#REF!"}},"McDowell Named and Created"]
["SM1_r9",{"$f":"VLOOKUP($A72,#REF!,2,FALSE)","v":{"$error":"#REF!"}},{"$f":"VLOOKUP($A72,#REF!,3,FALSE)","v":{"$error":"#REF!"}},"McDowell Named and Created"]
["SM1_r10",{"$f":"VLOOKUP($A73,#REF!,2,FALSE)","v":{"$error":"#REF!"}},{"$f":"VLOOKUP($A73,#REF!,3,FALSE)","v":{"$error":"#REF!"}},"McDowell Named and Created"]
["SM1_r11",{"$f":"VLOOKUP($A74,#REF!,2,FALSE)","v":{"$error":"#REF!"}},{"$f":"VLOOKUP($A74,#REF!,3,FALSE)","v":{"$error":"#REF!"}},"McDowell Named and Created"]
["SM1_r12",{"$f":"VLOOKUP($A75,#REF!,2,FALSE)","v":{"$error":"#REF!"}},{"$f":"VLOOKUP($A75,#REF!,3,FALSE)","v":{"$error":"#REF!"}},"McDowell Named and Created"]
["SM1_r13",{"$f":"VLOOKUP($A76,#REF!,2,FALSE)","v":{"$error":"#REF!"}},{"$f":"VLOOKUP($A76,#REF!,3,FALSE)","v":{"$error":"#REF!"}},"McDowell Named and Created"]
["SM1_r14",{"$f":"VLOOKUP($A77,#REF!,2,FALSE)","v":{"$error":"#REF!"}},{"$f":"VLOOKUP($A77,#REF!,3,FALSE)","v":{"$error":"#REF!"}},"McDowell Named and Created"]
["SM1_r15",{"$f":"VLOOKUP($A78,#REF!,2,FALSE)","v":{"$error":"#REF!"}},{"$f":"VLOOKUP($A78,#REF!,3,FALSE)","v":{"$error":"#REF!"}},"McDowell Named and Created"]
["SM1_r16",{"$f":"VLOOKUP($A79,#REF!,2,FALSE)","v":{"$error":"#REF!"}},{"$f":"VLOOKUP($A79,#REF!,3,FALSE)","v":{"$error":"#REF!"}},"McDowell Named and Created"]
["SM1_r17",{"$f":"VLOOKUP($A80,#REF!,2,FALSE)","v":{"$error":"#REF!"}},{"$f":"VLOOKUP($A80,#REF!,3,FALSE)","v":{"$error":"#REF!"}},"McDowell Named and Created"]
["SM1_r18",{"$f":"VLOOKUP($A81,#REF!,2,FALSE)","v":{"$error":"#REF!"}},{"$f":"VLOOKUP($A81,#REF!,3,FALSE)","v":{"$error":"#REF!"}},"McDowell Named and Created"]
["SM1_r19",{"$f":"VLOOKUP($A82,#REF!,2,FALSE)","v":{"$error":"#REF!"}},{"$f":"VLOOKUP($A82,#REF!,3,FALSE)","v":{"$error":"#REF!"}},"McDowell Named and Created"]
["SM1_r20",{"$f":"VLOOKUP($A83,#REF!,2,FALSE)","v":{"$error":"#REF!"}},{"$f":"VLOOKUP($A83,#REF!,3,FALSE)","v":{"$error":"#REF!"}},"McDowell Named and Created"]
["SM1_r21",{"$f":"VLOOKUP($A84,#REF!,2,FALSE)","v":{"$error":"#REF!"}},{"$f":"VLOOKUP($A84,#REF!,3,FALSE)","v":{"$error":"#REF!"}},"McDowell Named and Created"]
["SM1_r22",{"$f":"VLOOKUP($A85,#REF!,2,FALSE)","v":{"$error":"#REF!"}},{"$f":"VLOOKUP($A85,#REF!,3,FALSE)","v":{"$error":"#REF!"}},"McDowell Named and Created"]
["SM1_r23",{"$f":"VLOOKUP($A86,#REF!,2,FALSE)","v":{"$error":"#REF!"}},{"$f":"VLOOKUP($A86,#REF!,3,FALSE)","v":{"$error":"#REF!"}},"McDowell Named and Created"]
["SM1_r24",{"$f":"VLOOKUP($A87,#REF!,2,FALSE)","v":{"$error":"#REF!"}},{"$f":"VLOOKUP($A87,#REF!,3,FALSE)","v":{"$error":"#REF!"}},"McDowell Named and Created"]
["SM1_r25",{"$f":"VLOOKUP($A88,#REF!,2,FALSE)","v":{"$error":"#REF!"}},{"$f":"VLOOKUP($A88,#REF!,3,FALSE)","v":{"$error":"#REF!"}},"McDowell Named and Created"]
["SM1_r26",{"$f":"VLOOKUP($A89,#REF!,2,FALSE)","v":{"$error":"#REF!"}},{"$f":"VLOOKUP($A89,#REF!,3,FALSE)","v":{"$error":"#REF!"}},"McDowell Named and Created"]
["SM1_r27",{"$f":"VLOOKUP($A90,#REF!,2,FALSE)","v":{"$error":"#REF!"}},{"$f":"VLOOKUP($A90,#REF!,3,FALSE)","v":{"$error":"#REF!"}},"McDowell Named and Created"]
["SM1_r28",{"$f":"VLOOKUP($A91,#REF!,2,FALSE)","v":{"$error":"#REF!"}},{"$f":"VLOOKUP($A91,#REF!,3,FALSE)","v":{"$error":"#REF!"}},"McDowell Named and Created"]
["SM1_r29",{"$f":"VLOOKUP($A92,#REF!,2,FALSE)","v":{"$error":"#REF!"}},{"$f":"VLOOKUP($A92,#REF!,3,FALSE)","v":{"$error":"#REF!"}},"McDowell Named and Created"]
["SM1_r30",{"$f":"VLOOKUP($A93,#REF!,2,FALSE)","v":{"$error":"#REF!"}},{"$f":"VLOOKUP($A93,#REF!,3,FALSE)","v":{"$error":"#REF!"}},"McDowell Named and Created"]
["SM1_r31",{"$f":"VLOOKUP($A94,#REF!,2,FALSE)","v":{"$error":"#REF!"}},{"$f":"VLOOKUP($A94,#REF!,3,FALSE)","v":{"$error":"#REF!"}},"McDowell Named and Created"]
["SM1_r32",{"$f":"VLOOKUP($A95,#REF!,2,FALSE)","v":{"$error":"#REF!"}},{"$f":"VLOOKUP($A95,#REF!,3,FALSE)","v":{"$error":"#REF!"}},"McDowell Named and Created"]
["SM1_r33",{"$f":"VLOOKUP($A96,#REF!,2,FALSE)","v":{"$error":"#REF!"}},{"$f":"VLOOKUP($A96,#REF!,3,FALSE)","v":{"$error":"#REF!"}},"McDowell Named and Created"]
["SM1_r34",{"$f":"VLOOKUP($A97,#REF!,2,FALSE)","v":{"$error":"#REF!"}},{"$f":"VLOOKUP($A97,#REF!,3,FALSE)","v":{"$error":"#REF!"}},"McDowell Named and Created"]
["SM1_r35",{"$f":"VLOOKUP($A98,#REF!,2,FALSE)","v":{"$error":"#REF!"}},{"$f":"VLOOKUP($A98,#REF!,3,FALSE)","v":{"$error":"#REF!"}},"McDowell Named and Created"]
["SM1_r36",{"$f":"VLOOKUP($A99,#REF!,2,FALSE)","v":{"$error":"#REF!"}},{"$f":"VLOOKUP($A99,#REF!,3,FALSE)","v":{"$error":"#REF!"}},"McDowell Named and Created"]
["SM1_r37",{"$f":"VLOOKUP($A100,#REF!,2,FALSE)","v":{"$error":"#REF!"}},{"$f":"VLOOKUP($A100,#REF!,3,FALSE)","v":{"$error":"#REF!"}},"McDowell Named and Created"]
["SM1_r38",{"$f":"VLOOKUP($A101,#REF!,2,FALSE)","v":{"$error":"#REF!"}},{"$f":"VLOOKUP($A101,#REF!,3,FALSE)","v":{"$error":"#REF!"}},"McDowell Named and Created"]
["SM1_r39",{"$f":"VLOOKUP($A102,#REF!,2,FALSE)","v":{"$error":"#REF!"}},{"$f":"VLOOKUP($A102,#REF!,3,FALSE)","v":{"$error":"#REF!"}},"McDowell Named and Created"]
["SM1_r40",{"$f":"VLOOKUP($A103,#REF!,2,FALSE)","v":{"$error":"#REF!"}},{"$f":"VLOOKUP($A103,#REF!,3,FALSE)","v":{"$error":"#REF!"}},"McDowell Named and Created"]
["SM1_r41",{"$f":"VLOOKUP($A104,#REF!,2,FALSE)","v":{"$error":"#REF!"}},{"$f":"VLOOKUP($A104,#REF!,3,FALSE)","v":{"$error":"#REF!"}},"McDowell Named and Created"]
["SM1_r42",{"$f":"VLOOKUP($A105,#REF!,2,FALSE)","v":{"$error":"#REF!"}},{"$f":"VLOOKUP($A105,#REF!,3,FALSE)","v":{"$error":"#REF!"}},"McDowell Named and Created"]
["SM1_r43",{"$f":"VLOOKUP($A106,#REF!,2,FALSE)","v":{"$error":"#REF!"}},{"$f":"VLOOKUP($A106,#REF!,3,FALSE)","v":{"$error":"#REF!"}},"McDowell Named and Created"]
["SM1_r44",{"$f":"VLOOKUP($A107,#REF!,2,FALSE)","v":{"$error":"#REF!"}},{"$f":"VLOOKUP($A107,#REF!,3,FALSE)","v":{"$error":"#REF!"}},"McDowell Named and Created"]
["SM1_r45",{"$f":"VLOOKUP($A108,#REF!,2,FALSE)","v":{"$error":"#REF!"}},{"$f":"VLOOKUP($A108,#REF!,3,FALSE)","v":{"$error":"#REF!"}},"McDowell Named and Created"]
["SM1_r46",{"$f":"VLOOKUP($A109,#REF!,2,FALSE)","v":{"$error":"#REF!"}},{"$f":"VLOOKUP($A109,#REF!,3,FALSE)","v":{"$error":"#REF!"}},"McDowell Named and Created"]
["SM1_r47",{"$f":"VLOOKUP($A110,#REF!,2,FALSE)","v":{"$error":"#REF!"}},{"$f":"VLOOKUP($A110,#REF!,3,FALSE)","v":{"$error":"#REF!"}},"McDowell Named and Created"]
["SM1_r48",{"$f":"VLOOKUP($A111,#REF!,2,FALSE)","v":{"$error":"#REF!"}},{"$f":"VLOOKUP($A111,#REF!,3,FALSE)","v":{"$error":"#REF!"}},"McDowell Named and Created"]
["SM1_r49",{"$f":"VLOOKUP($A112,#REF!,2,FALSE)","v":{"$error":"#REF!"}},{"$f":"VLOOKUP($A112,#REF!,3,FALSE)","v":{"$error":"#REF!"}},"McDowell Named and Created"]
["SM1_r50",{"$f":"VLOOKUP($A113,#REF!,2,FALSE)","v":{"$error":"#REF!"}},{"$f":"VLOOKUP($A113,#REF!,3,FALSE)","v":{"$error":"#REF!"}},"McDowell Named and Created"]
["SM1_r51",{"$f":"VLOOKUP($A114,#REF!,2,FALSE)","v":{"$error":"#REF!"}},{"$f":"VLOOKUP($A114,#REF!,3,FALSE)","v":{"$error":"#REF!"}},"McDowell Named and Created"]
["SM1_r52",{"$f":"VLOOKUP($A115,#REF!,2,FALSE)","v":{"$error":"#REF!"}},{"$f":"VLOOKUP($A115,#REF!,3,FALSE)","v":{"$error":"#REF!"}},"McDowell Named and Created"]
["SM1_r53",{"$f":"VLOOKUP($A116,#REF!,2,FALSE)","v":{"$error":"#REF!"}},{"$f":"VLOOKUP($A116,#REF!,3,FALSE)","v":{"$error":"#REF!"}},"McDowell Named and Created"]
["SM1_r54",{"$f":"VLOOKUP($A117,#REF!,2,FALSE)","v":{"$error":"#REF!"}},{"$f":"VLOOKUP($A117,#REF!,3,FALSE)","v":{"$error":"#REF!"}},"McDowell Named and Created"]
["SM1_r55",{"$f":"VLOOKUP($A118,#REF!,2,FALSE)","v":{"$error":"#REF!"}},{"$f":"VLOOKUP($A118,#REF!,3,FALSE)","v":{"$error":"#REF!"}},"McDowell Named and Created"]
["SM1_r56",{"$f":"VLOOKUP($A119,#REF!,2,FALSE)","v":{"$error":"#REF!"}},{"$f":"VLOOKUP($A119,#REF!,3,FALSE)","v":{"$error":"#REF!"}},"McDowell Named and Created"]
["SM1_r57",{"$f":"VLOOKUP($A120,#REF!,2,FALSE)","v":{"$error":"#REF!"}},{"$f":"VLOOKUP($A120,#REF!,3,FALSE)","v":{"$error":"#REF!"}},"McDowell Named and Created"]
["SM1_r58",{"$f":"VLOOKUP($A121,#REF!,2,FALSE)","v":{"$error":"#REF!"}},{"$f":"VLOOKUP($A121,#REF!,3,FALSE)","v":{"$error":"#REF!"}},"McDowell Named and Created"]
["SM1_r59",{"$f":"VLOOKUP($A122,#REF!,2,FALSE)","v":{"$error":"#REF!"}},{"$f":"VLOOKUP($A122,#REF!,3,FALSE)","v":{"$error":"#REF!"}},"McDowell Named and Created"]
["SM1_r60",{"$f":"VLOOKUP($A123,#REF!,2,FALSE)","v":{"$error":"#REF!"}},{"$f":"VLOOKUP($A123,#REF!,3,FALSE)","v":{"$error":"#REF!"}},"McDowell Named and Created"]
["SM1_r61",{"$f":"VLOOKUP($A124,#REF!,2,FALSE)","v":{"$error":"#REF!"}},{"$f":"VLOOKUP($A124,#REF!,3,FALSE)","v":{"$error":"#REF!"}},"McDowell Named and Created"]
["SM1_r62",{"$f":"VLOOKUP($A125,#REF!,2,FALSE)","v":{"$error":"#REF!"}},{"$f":"VLOOKUP($A125,#REF!,3,FALSE)","v":{"$error":"#REF!"}},"McDowell Named and Created"]
["SM1_r63",{"$f":"VLOOKUP($A126,#REF!,2,FALSE)","v":{"$error":"#REF!"}},{"$f":"VLOOKUP($A126,#REF!,3,FALSE)","v":{"$error":"#REF!"}},"McDowell Named and Created"]
["SM1_r64",{"$f":"VLOOKUP($A127,#REF!,2,FALSE)","v":{"$error":"#REF!"}},{"$f":"VLOOKUP($A127,#REF!,3,FALSE)","v":{"$error":"#REF!"}},"McDowell Named and Created"]
["SM1_r65",{"$f":"VLOOKUP($A128,#REF!,2,FALSE)","v":{"$error":"#REF!"}},{"$f":"VLOOKUP($A128,#REF!,3,FALSE)","v":{"$error":"#REF!"}},"McDowell Named and Created"]
["SM1_r66",{"$f":"VLOOKUP($A129,#REF!,2,FALSE)","v":{"$error":"#REF!"}},{"$f":"VLOOKUP($A129,#REF!,3,FALSE)","v":{"$error":"#REF!"}},"McDowell Named and Created"]
["SM1_r67",{"$f":"VLOOKUP($A130,#REF!,2,FALSE)","v":{"$error":"#REF!"}},{"$f":"VLOOKUP($A130,#REF!,3,FALSE)","v":{"$error":"#REF!"}},"McDowell Named and Created"]
["SM1_r68",{"$f":"VLOOKUP($A131,#REF!,2,FALSE)","v":{"$error":"#REF!"}},{"$f":"VLOOKUP($A131,#REF!,3,FALSE)","v":{"$error":"#REF!"}},"McDowell Named and Created"]
["SM1_r69",{"$f":"VLOOKUP($A132,#REF!,2,FALSE)","v":{"$error":"#REF!"}},{"$f":"VLOOKUP($A132,#REF!,3,FALSE)","v":{"$error":"#REF!"}},"McDowell Named and Created"]
["SM1_r70",{"$f":"VLOOKUP($A133,#REF!,2,FALSE)","v":{"$error":"#REF!"}},{"$f":"VLOOKUP($A133,#REF!,3,FALSE)","v":{"$error":"#REF!"}},"McDowell Named and Created"]
["SM1_r71",{"$f":"VLOOKUP($A134,#REF!,2,FALSE)","v":{"$error":"#REF!"}},{"$f":"VLOOKUP($A134,#REF!,3,FALSE)","v":{"$error":"#REF!"}},"McDowell Named and Created"]
["SM1_r72",{"$f":"VLOOKUP($A135,#REF!,2,FALSE)","v":{"$error":"#REF!"}},{"$f":"VLOOKUP($A135,#REF!,3,FALSE)","v":{"$error":"#REF!"}},"McDowell Named and Created"]
["SM1_r73",{"$f":"VLOOKUP($A136,#REF!,2,FALSE)","v":{"$error":"#REF!"}},{"$f":"VLOOKUP($A136,#REF!,3,FALSE)","v":{"$error":"#REF!"}},"McDowell Named and Created"]
["SM1_r74",{"$f":"VLOOKUP($A137,#REF!,2,FALSE)","v":{"$error":"#REF!"}},{"$f":"VLOOKUP($A137,#REF!,3,FALSE)","v":{"$error":"#REF!"}},"McDowell Named and Created"]
["SM1_r75",{"$f":"VLOOKUP($A138,#REF!,2,FALSE)","v":{"$error":"#REF!"}},{"$f":"VLOOKUP($A138,#REF!,3,FALSE)","v":{"$error":"#REF!"}},"McDowell Named and Created"]
["SM1_r76",{"$f":"VLOOKUP($A139,#REF!,2,FALSE)","v":{"$error":"#REF!"}},{"$f":"VLOOKUP($A139,#REF!,3,FALSE)","v":{"$error":"#REF!"}},"McDowell Named and Created"]
["SM1_r77",{"$f":"VLOOKUP($A140,#REF!,2,FALSE)","v":{"$error":"#REF!"}},{"$f":"VLOOKUP($A140,#REF!,3,FALSE)","v":{"$error":"#REF!"}},"McDowell Named and Created"]
["SM1_r78",{"$f":"VLOOKUP($A141,#REF!,2,FALSE)","v":{"$error":"#REF!"}},{"$f":"VLOOKUP($A141,#REF!,3,FALSE)","v":{"$error":"#REF!"}},"McDowell Named and Created"]
["SM1_r79",{"$f":"VLOOKUP($A142,#REF!,2,FALSE)","v":{"$error":"#REF!"}},{"$f":"VLOOKUP($A142,#REF!,3,FALSE)","v":{"$error":"#REF!"}},"McDowell Named and Created"]
["SM1_r80",{"$f":"VLOOKUP($A143,#REF!,2,FALSE)","v":{"$error":"#REF!"}},{"$f":"VLOOKUP($A143,#REF!,3,FALSE)","v":{"$error":"#REF!"}},"McDowell Named and Created"]
["SM1_r81",{"$f":"VLOOKUP($A144,#REF!,2,FALSE)","v":{"$error":"#REF!"}},{"$f":"VLOOKUP($A144,#REF!,3,FALSE)","v":{"$error":"#REF!"}},"McDowell Named and Created"]
["SM1_r82",{"$f":"VLOOKUP($A145,#REF!,2,FALSE)","v":{"$error":"#REF!"}},{"$f":"VLOOKUP($A145,#REF!,3,FALSE)","v":{"$error":"#REF!"}},"McDowell Named and Created"]
["SM1_r83",{"$f":"VLOOKUP($A146,#REF!,2,FALSE)","v":{"$error":"#REF!"}},{"$f":"VLOOKUP($A146,#REF!,3,FALSE)","v":{"$error":"#REF!"}},"McDowell Named and Created"]
["SM1_r84",{"$f":"VLOOKUP($A147,#REF!,2,FALSE)","v":{"$error":"#REF!"}},{"$f":"VLOOKUP($A147,#REF!,3,FALSE)","v":{"$error":"#REF!"}},"McDowell Named and Created"]
["SM1_r85",{"$f":"VLOOKUP($A148,#REF!,2,FALSE)","v":{"$error":"#REF!"}},{"$f":"VLOOKUP($A148,#REF!,3,FALSE)","v":{"$error":"#REF!"}},"McDowell Named and Created"]
["SM1_r86",{"$f":"VLOOKUP($A149,#REF!,2,FALSE)","v":{"$error":"#REF!"}},{"$f":"VLOOKUP($A149,#REF!,3,FALSE)","v":{"$error":"#REF!"}},"McDowell Named and Created"]
["SM1_r87",{"$f":"VLOOKUP($A150,#REF!,2,FALSE)","v":{"$error":"#REF!"}},{"$f":"VLOOKUP($A150,#REF!,3,FALSE)","v":{"$error":"#REF!"}},"McDowell Named and Created"]
["SM1_r88",{"$f":"VLOOKUP($A151,#REF!,2,FALSE)","v":{"$error":"#REF!"}},{"$f":"VLOOKUP($A151,#REF!,3,FALSE)","v":{"$error":"#REF!"}},"McDowell Named and Created"]
["SM1_r89",{"$f":"VLOOKUP($A152,#REF!,2,FALSE)","v":{"$error":"#REF!"}},{"$f":"VLOOKUP($A152,#REF!,3,FALSE)","v":{"$error":"#REF!"}},"McDowell Named and Created"]
["SM1_r90",{"$f":"VLOOKUP($A153,#REF!,2,FALSE)","v":{"$error":"#REF!"}},{"$f":"VLOOKUP($A153,#REF!,3,FALSE)","v":{"$error":"#REF!"}},"McDowell Named and Created"]
["SM1_r91",{"$f":"VLOOKUP($A154,#REF!,2,FALSE)","v":{"$error":"#REF!"}},{"$f":"VLOOKUP($A154,#REF!,3,FALSE)","v":{"$error":"#REF!"}},"McDowell Named and Created"]
["SM1_r92",{"$f":"VLOOKUP($A155,#REF!,2,FALSE)","v":{"$error":"#REF!"}},{"$f":"VLOOKUP($A155,#REF!,3,FALSE)","v":{"$error":"#REF!"}},"McDowell Named and Created"]
["SM1_r93",{"$f":"VLOOKUP($A156,#REF!,2,FALSE)","v":{"$error":"#REF!"}},{"$f":"VLOOKUP($A156,#REF!,3,FALSE)","v":{"$error":"#REF!"}},"McDowell Named and Created"]
["SM1_r94",{"$f":"VLOOKUP($A157,#REF!,2,FALSE)","v":{"$error":"#REF!"}},{"$f":"VLOOKUP($A157,#REF!,3,FALSE)","v":{"$error":"#REF!"}},"McDowell Named and Created"]
["SM1_r95",{"$f":"VLOOKUP($A158,#REF!,2,FALSE)","v":{"$error":"#REF!"}},{"$f":"VLOOKUP($A158,#REF!,3,FALSE)","v":{"$error":"#REF!"}},"McDowell Named and Created"]
["SM1_r96",{"$f":"VLOOKUP($A159,#REF!,2,FALSE)","v":{"$error":"#REF!"}},{"$f":"VLOOKUP($A159,#REF!,3,FALSE)","v":{"$error":"#REF!"}},"McDowell Named and Created"]
["SM1_r97",{"$f":"VLOOKUP($A160,#REF!,2,FALSE)","v":{"$error":"#REF!"}},{"$f":"VLOOKUP($A160,#REF!,3,FALSE)","v":{"$error":"#REF!"}},"McDowell Named and Created"]
["SM1_r98",{"$f":"VLOOKUP($A161,#REF!,2,FALSE)","v":{"$error":"#REF!"}},{"$f":"VLOOKUP($A161,#REF!,3,FALSE)","v":{"$error":"#REF!"}},"McDowell Named and Created"]
["SM1_r99",{"$f":"VLOOKUP($A162,#REF!,2,FALSE)","v":{"$error":"#REF!"}},{"$f":"VLOOKUP($A162,#REF!,3,FALSE)","v":{"$error":"#REF!"}},"McDowell Named and Created"]
["SM1_r100",{"$f":"VLOOKUP($A163,#REF!,2,FALSE)","v":{"$error":"#REF!"}},{"$f":"VLOOKUP($A163,#REF!,3,FALSE)","v":{"$error":"#REF!"}},"McDowell Named and Created"]
["SM1_r101",{"$f":"VLOOKUP($A164,#REF!,2,FALSE)","v":{"$error":"#REF!"}},{"$f":"VLOOKUP($A164,#REF!,3,FALSE)","v":{"$error":"#REF!"}},"McDowell Named and Created"]
["SM1_r102",{"$f":"VLOOKUP($A165,#REF!,2,FALSE)","v":{"$error":"#REF!"}},{"$f":"VLOOKUP($A165,#REF!,3,FALSE)","v":{"$error":"#REF!"}},"McDowell Named and Created"]
["SM1_r103",{"$f":"VLOOKUP($A166,#REF!,2,FALSE)","v":{"$error":"#REF!"}},{"$f":"VLOOKUP($A166,#REF!,3,FALSE)","v":{"$error":"#REF!"}},"McDowell Named and Created"]
["SM1_r104",{"$f":"VLOOKUP($A167,#REF!,2,FALSE)","v":{"$error":"#REF!"}},{"$f":"VLOOKUP($A167,#REF!,3,FALSE)","v":{"$error":"#REF!"}},"McDowell Named and Created"]
["SM1_r105",{"$f":"VLOOKUP($A168,#REF!,2,FALSE)","v":{"$error":"#REF!"}},{"$f":"VLOOKUP($A168,#REF!,3,FALSE)","v":{"$error":"#REF!"}},"McDowell Named and Created"]
["SM1_r106",{"$f":"VLOOKUP($A169,#REF!,2,FALSE)","v":{"$error":"#REF!"}},{"$f":"VLOOKUP($A169,#REF!,3,FALSE)","v":{"$error":"#REF!"}},"McDowell Named and Created"]
["SM1_r107",{"$f":"VLOOKUP($A170,#REF!,2,FALSE)","v":{"$error":"#REF!"}},{"$f":"VLOOKUP($A170,#REF!,3,FALSE)","v":{"$error":"#REF!"}},"McDowell Named and Created"]
["SM1_r108",{"$f":"VLOOKUP($A171,#REF!,2,FALSE)","v":{"$error":"#REF!"}},{"$f":"VLOOKUP($A171,#REF!,3,FALSE)","v":{"$error":"#REF!"}},"McDowell Named and Created"]
["SM1_r109",{"$f":"VLOOKUP($A172,#REF!,2,FALSE)","v":{"$error":"#REF!"}},{"$f":"VLOOKUP($A172,#REF!,3,FALSE)","v":{"$error":"#REF!"}},"McDowell Named and Created"]
["SM1_r110",{"$f":"VLOOKUP($A173,#REF!,2,FALSE)","v":{"$error":"#REF!"}},{"$f":"VLOOKUP($A173,#REF!,3,FALSE)","v":{"$error":"#REF!"}},"McDowell Named and Created"]
["SM1_r111",{"$f":"VLOOKUP($A174,#REF!,2,FALSE)","v":{"$error":"#REF!"}},{"$f":"VLOOKUP($A174,#REF!,3,FALSE)","v":{"$error":"#REF!"}},"McDowell Named and Created"]
["SM1_r112",{"$f":"VLOOKUP($A175,#REF!,2,FALSE)","v":{"$error":"#REF!"}},{"$f":"VLOOKUP($A175,#REF!,3,FALSE)","v":{"$error":"#REF!"}},"McDowell Named and Created"]
["SM1_r113",{"$f":"VLOOKUP($A176,#REF!,2,FALSE)","v":{"$error":"#REF!"}},{"$f":"VLOOKUP($A176,#REF!,3,FALSE)","v":{"$error":"#REF!"}},"McDowell Named and Created"]
["SM1_r114",{"$f":"VLOOKUP($A177,#REF!,2,FALSE)","v":{"$error":"#REF!"}},{"$f":"VLOOKUP($A177,#REF!,3,FALSE)","v":{"$error":"#REF!"}},"McDowell Named and Created"]
["SM1_r115",{"$f":"VLOOKUP($A178,#REF!,2,FALSE)","v":{"$error":"#REF!"}},{"$f":"VLOOKUP($A178,#REF!,3,FALSE)","v":{"$error":"#REF!"}},"McDowell Named and Created"]
["SM1_r116",{"$f":"VLOOKUP($A179,#REF!,2,FALSE)","v":{"$error":"#REF!"}},{"$f":"VLOOKUP($A179,#REF!,3,FALSE)","v":{"$error":"#REF!"}},"McDowell Named and Created"]
["SM1_r117",{"$f":"VLOOKUP($A180,#REF!,2,FALSE)","v":{"$error":"#REF!"}},{"$f":"VLOOKUP($A180,#REF!,3,FALSE)","v":{"$error":"#REF!"}},"McDowell Named and Created"]
["SM1_r118",{"$f":"VLOOKUP($A181,#REF!,2,FALSE)","v":{"$error":"#REF!"}},{"$f":"VLOOKUP($A181,#REF!,3,FALSE)","v":{"$error":"#REF!"}},"McDowell Named and Created"]
["SM1_r119",{"$f":"VLOOKUP($A182,#REF!,2,FALSE)","v":{"$error":"#REF!"}},{"$f":"VLOOKUP($A182,#REF!,3,FALSE)","v":{"$error":"#REF!"}},"McDowell Named and Created"]
["SM1_r120",{"$f":"VLOOKUP($A183,#REF!,2,FALSE)","v":{"$error":"#REF!"}},{"$f":"VLOOKUP($A183,#REF!,3,FALSE)","v":{"$error":"#REF!"}},"McDowell Named and Created"]
["SM2_r1",{"$f":"VLOOKUP($A184,#REF!,2,FALSE)","v":{"$error":"#REF!"}},{"$f":"VLOOKUP($A184,#REF!,3,FALSE)","v":{"$error":"#REF!"}},"McDowell Named and Created"]
["SM2_r2",{"$f":"VLOOKUP($A185,#REF!,2,FALSE)","v":{"$error":"#REF!"}},{"$f":"VLOOKUP($A185,#REF!,3,FALSE)","v":{"$error":"#REF!"}},"McDowell Named and Created"]
["SM2_r3",{"$f":"VLOOKUP($A186,#REF!,2,FALSE)","v":{"$error":"#REF!"}},{"$f":"VLOOKUP($A186,#REF!,3,FALSE)","v":{"$error":"#REF!"}},"McDowell Named and Created"]
["SM2_r4",{"$f":"VLOOKUP($A187,#REF!,2,FALSE)","v":{"$error":"#REF!"}},{"$f":"VLOOKUP($A187,#REF!,3,FALSE)","v":{"$error":"#REF!"}},"McDowell Named and Created"]
["SM2_r5",{"$f":"VLOOKUP($A188,#REF!,2,FALSE)","v":{"$error":"#REF!"}},{"$f":"VLOOKUP($A188,#REF!,3,FALSE)","v":{"$error":"#REF!"}},"McDowell Named and Created"]
["SM2_r6",{"$f":"VLOOKUP($A189,#REF!,2,FALSE)","v":{"$error":"#REF!"}},{"$f":"VLOOKUP($A189,#REF!,3,FALSE)","v":{"$error":"#REF!"}},"McDowell Named and Created"]
["SM2_r7",{"$f":"VLOOKUP($A190,#REF!,2,FALSE)","v":{"$error":"#REF!"}},{"$f":"VLOOKUP($A190,#REF!,3,FALSE)","v":{"$error":"#REF!"}},"McDowell Named and Created"]
["SM2_r8",{"$f":"VLOOKUP($A191,#REF!,2,FALSE)","v":{"$error":"#REF!"}},{"$f":"VLOOKUP($A191,#REF!,3,FALSE)","v":{"$error":"#REF!"}},"McDowell Named and Created"]
["SM2_r9",{"$f":"VLOOKUP($A192,#REF!,2,FALSE)","v":{"$error":"#REF!"}},{"$f":"VLOOKUP($A192,#REF!,3,FALSE)","v":{"$error":"#REF!"}},"McDowell Named and Created"]
["SM2_r10",{"$f":"VLOOKUP($A193,#REF!,2,FALSE)","v":{"$error":"#REF!"}},{"$f":"VLOOKUP($A193,#REF!,3,FALSE)","v":{"$error":"#REF!"}},"McDowell Named and Created"]
["SM2_r11",{"$f":"VLOOKUP($A194,#REF!,2,FALSE)","v":{"$error":"#REF!"}},{"$f":"VLOOKUP($A194,#REF!,3,FALSE)","v":{"$error":"#REF!"}},"McDowell Named and Created"]
["SM2_r12",{"$f":"VLOOKUP($A195,#REF!,2,FALSE)","v":{"$error":"#REF!"}},{"$f":"VLOOKUP($A195,#REF!,3,FALSE)","v":{"$error":"#REF!"}},"McDowell Named and Created"]
["SM2_r13",{"$f":"VLOOKUP($A196,#REF!,2,FALSE)","v":{"$error":"#REF!"}},{"$f":"VLOOKUP($A196,#REF!,3,FALSE)","v":{"$error":"#REF!"}},"McDowell Named and Created"]
["SM2_r14",{"$f":"VLOOKUP($A197,#REF!,2,FALSE)","v":{"$error":"#REF!"}},{"$f":"VLOOKUP($A197,#REF!,3,FALSE)","v":{"$error":"#REF!"}},"McDowell Named and Created"]
["SM2_r15",{"$f":"VLOOKUP($A198,#REF!,2,FALSE)","v":{"$error":"#REF!"}},{"$f":"VLOOKUP($A198,#REF!,3,FALSE)","v":{"$error":"#REF!"}},"McDowell Named and Created"]
["SM2_r16",{"$f":"VLOOKUP($A199,#REF!,2,FALSE)","v":{"$error":"#REF!"}},{"$f":"VLOOKUP($A199,#REF!,3,FALSE)","v":{"$error":"#REF!"}},"McDowell Named and Created"]
["SM2_r17",{"$f":"VLOOKUP($A200,#REF!,2,FALSE)","v":{"$error":"#REF!"}},{"$f":"VLOOKUP($A200,#REF!,3,FALSE)","v":{"$error":"#REF!"}},"McDowell Named and Created"]
["SM2_r18",{"$f":"VLOOKUP($A201,#REF!,2,FALSE)","v":{"$error":"#REF!"}},{"$f":"VLOOKUP($A201,#REF!,3,FALSE)","v":{"$error":"#REF!"}},"McDowell Named and Created"]
["SM2_r19",{"$f":"VLOOKUP($A202,#REF!,2,FALSE)","v":{"$error":"#REF!"}},{"$f":"VLOOKUP($A202,#REF!,3,FALSE)","v":{"$error":"#REF!"}},"McDowell Named and Created"]
["SM2_r20",{"$f":"VLOOKUP($A203,#REF!,2,FALSE)","v":{"$error":"#REF!"}},{"$f":"VLOOKUP($A203,#REF!,3,FALSE)","v":{"$error":"#REF!"}},"McDowell Named and Created"]
["SM2_r21",{"$f":"VLOOKUP($A204,#REF!,2,FALSE)","v":{"$error":"#REF!"}},{"$f":"VLOOKUP($A204,#REF!,3,FALSE)","v":{"$error":"#REF!"}},"McDowell Named and Created"]
["SM2_r22",{"$f":"VLOOKUP($A205,#REF!,2,FALSE)","v":{"$error":"#REF!"}},{"$f":"VLOOKUP($A205,#REF!,3,FALSE)","v":{"$error":"#REF!"}},"McDowell Named and Created"]
["SM2_r23",{"$f":"VLOOKUP($A206,#REF!,2,FALSE)","v":{"$error":"#REF!"}},{"$f":"VLOOKUP($A206,#REF!,3,FALSE)","v":{"$error":"#REF!"}},"McDowell Named and Created"]
["SM2_r24",{"$f":"VLOOKUP($A207,#REF!,2,FALSE)","v":{"$error":"#REF!"}},{"$f":"VLOOKUP($A207,#REF!,3,FALSE)","v":{"$error":"#REF!"}},"McDowell Named and Created"]
["SM2_r25",{"$f":"VLOOKUP($A208,#REF!,2,FALSE)","v":{"$error":"#REF!"}},{"$f":"VLOOKUP($A208,#REF!,3,FALSE)","v":{"$error":"#REF!"}},"McDowell Named and Created"]
["SM2_r26",{"$f":"VLOOKUP($A209,#REF!,2,FALSE)","v":{"$error":"#REF!"}},{"$f":"VLOOKUP($A209,#REF!,3,FALSE)","v":{"$error":"#REF!"}},"McDowell Named and Created"]
["SM2_r27",{"$f":"VLOOKUP($A210,#REF!,2,FALSE)","v":{"$error":"#REF!"}},{"$f":"VLOOKUP($A210,#REF!,3,FALSE)","v":{"$error":"#REF!"}},"McDowell Named and Created"]
["SM2_r28",{"$f":"VLOOKUP($A211,#REF!,2,FALSE)","v":{"$error":"#REF!"}},{"$f":"VLOOKUP($A211,#REF!,3,FALSE)","v":{"$error":"#REF!"}},"McDowell Named and Created"]
["SM2_r29",{"$f":"VLOOKUP($A212,#REF!,2,FALSE)","v":{"$error":"#REF!"}},{"$f":"VLOOKUP($A212,#REF!,3,FALSE)","v":{"$error":"#REF!"}},"McDowell Named and Created"]
["SM2_r30",{"$f":"VLOOKUP($A213,#REF!,2,FALSE)","v":{"$error":"#REF!"}},{"$f":"VLOOKUP($A213,#REF!,3,FALSE)","v":{"$error":"#REF!"}},"McDowell Named and Created"]
["SM2_r31",{"$f":"VLOOKUP($A214,#REF!,2,FALSE)","v":{"$error":"#REF!"}},{"$f":"VLOOKUP($A214,#REF!,3,FALSE)","v":{"$error":"#REF!"}},"McDowell Named and Created"]
["SM2_r32",{"$f":"VLOOKUP($A215,#REF!,2,FALSE)","v":{"$error":"#REF!"}},{"$f":"VLOOKUP($A215,#REF!,3,FALSE)","v":{"$error":"#REF!"}},"McDowell Named and Created"]
["SM2_r33",{"$f":"VLOOKUP($A216,#REF!,2,FALSE)","v":{"$error":"#REF!"}},{"$f":"VLOOKUP($A216,#REF!,3,FALSE)","v":{"$error":"#REF!"}},"McDowell Named and Created"]
["SM2_r34",{"$f":"VLOOKUP($A217,#REF!,2,FALSE)","v":{"$error":"#REF!"}},{"$f":"VLOOKUP($A217,#REF!,3,FALSE)","v":{"$error":"#REF!"}},"McDowell Named and Created"]
["SM2_r35",{"$f":"VLOOKUP($A218,#REF!,2,FALSE)","v":{"$error":"#REF!"}},{"$f":"VLOOKUP($A218,#REF!,3,FALSE)","v":{"$error":"#REF!"}},"McDowell Named and Created"]
["SM2_r36",{"$f":"VLOOKUP($A219,#REF!,2,FALSE)","v":{"$error":"#REF!"}},{"$f":"VLOOKUP($A219,#REF!,3,FALSE)","v":{"$error":"#REF!"}},"McDowell Named and Created"]
["SM2_r37",{"$f":"VLOOKUP($A220,#REF!,2,FALSE)","v":{"$error":"#REF!"}},{"$f":"VLOOKUP($A220,#REF!,3,FALSE)","v":{"$error":"#REF!"}},"McDowell Named and Created"]
["SM2_r38",{"$f":"VLOOKUP($A221,#REF!,2,FALSE)","v":{"$error":"#REF!"}},{"$f":"VLOOKUP($A221,#REF!,3,FALSE)","v":{"$error":"#REF!"}},"McDowell Named and Created"]
["SM2_r39",{"$f":"VLOOKUP($A222,#REF!,2,FALSE)","v":{"$error":"#REF!"}},{"$f":"VLOOKUP($A222,#REF!,3,FALSE)","v":{"$error":"#REF!"}},"McDowell Named and Created"]
["SM2_r40",{"$f":"VLOOKUP($A223,#REF!,2,FALSE)","v":{"$error":"#REF!"}},{"$f":"VLOOKUP($A223,#REF!,3,FALSE)","v":{"$error":"#REF!"}},"McDowell Named and Created"]
["SM2_r41",{"$f":"VLOOKUP($A224,#REF!,2,FALSE)","v":{"$error":"#REF!"}},{"$f":"VLOOKUP($A224,#REF!,3,FALSE)","v":{"$error":"#REF!"}},"McDowell Named and Created"]
["SM2_r42",{"$f":"VLOOKUP($A225,#REF!,2,FALSE)","v":{"$error":"#REF!"}},{"$f":"VLOOKUP($A225,#REF!,3,FALSE)","v":{"$error":"#REF!"}},"McDowell Named and Created"]
["SM2_r43",{"$f":"VLOOKUP($A226,#REF!,2,FALSE)","v":{"$error":"#REF!"}},{"$f":"VLOOKUP($A226,#REF!,3,FALSE)","v":{"$error":"#REF!"}},"McDowell Named and Created"]
["SM2_r44",{"$f":"VLOOKUP($A227,#REF!,2,FALSE)","v":{"$error":"#REF!"}},{"$f":"VLOOKUP($A227,#REF!,3,FALSE)","v":{"$error":"#REF!"}},"McDowell Named and Created"]
["SM2_r45",{"$f":"VLOOKUP($A228,#REF!,2,FALSE)","v":{"$error":"#REF!"}},{"$f":"VLOOKUP($A228,#REF!,3,FALSE)","v":{"$error":"#REF!"}},"McDowell Named and Created"]
["SM2_r46",{"$f":"VLOOKUP($A229,#REF!,2,FALSE)","v":{"$error":"#REF!"}},{"$f":"VLOOKUP($A229,#REF!,3,FALSE)","v":{"$error":"#REF!"}},"McDowell Named and Created"]
["SM2_r47",{"$f":"VLOOKUP($A230,#REF!,2,FALSE)","v":{"$error":"#REF!"}},{"$f":"VLOOKUP($A230,#REF!,3,FALSE)","v":{"$error":"#REF!"}},"McDowell Named and Created"]
["SM2_r48",{"$f":"VLOOKUP($A231,#REF!,2,FALSE)","v":{"$error":"#REF!"}},{"$f":"VLOOKUP($A231,#REF!,3,FALSE)","v":{"$error":"#REF!"}},"McDowell Named and Created"]
["SM2_r49",{"$f":"VLOOKUP($A232,#REF!,2,FALSE)","v":{"$error":"#REF!"}},{"$f":"VLOOKUP($A232,#REF!,3,FALSE)","v":{"$error":"#REF!"}},"McDowell Named and Created"]
["SM2_r50",{"$f":"VLOOKUP($A233,#REF!,2,FALSE)","v":{"$error":"#REF!"}},{"$f":"VLOOKUP($A233,#REF!,3,FALSE)","v":{"$error":"#REF!"}},"McDowell Named and Created"]
["SM2_r51",{"$f":"VLOOKUP($A234,#REF!,2,FALSE)","v":{"$error":"#REF!"}},{"$f":"VLOOKUP($A234,#REF!,3,FALSE)","v":{"$error":"#REF!"}},"McDowell Named and Created"]
["SM2_r52",{"$f":"VLOOKUP($A235,#REF!,2,FALSE)","v":{"$error":"#REF!"}},{"$f":"VLOOKUP($A235,#REF!,3,FALSE)","v":{"$error":"#REF!"}},"McDowell Named and Created"]
["SM2_r53",{"$f":"VLOOKUP($A236,#REF!,2,FALSE)","v":{"$error":"#REF!"}},{"$f":"VLOOKUP($A236,#REF!,3,FALSE)","v":{"$error":"#REF!"}},"McDowell Named and Created"]
["SM2_r54",{"$f":"VLOOKUP($A237,#REF!,2,FALSE)","v":{"$error":"#REF!"}},{"$f":"VLOOKUP($A237,#REF!,3,FALSE)","v":{"$error":"#REF!"}},"McDowell Named and Created"]
["SM2_r55",{"$f":"VLOOKUP($A238,#REF!,2,FALSE)","v":{"$error":"#REF!"}},{"$f":"VLOOKUP($A238,#REF!,3,FALSE)","v":{"$error":"#REF!"}},"McDowell Named and Created"]
["SM2_r56",{"$f":"VLOOKUP($A239,#REF!,2,FALSE)","v":{"$error":"#REF!"}},{"$f":"VLOOKUP($A239,#REF!,3,FALSE)","v":{"$error":"#REF!"}},"McDowell Named and Created"]
["SM2_r57",{"$f":"VLOOKUP($A240,#REF!,2,FALSE)","v":{"$error":"#REF!"}},{"$f":"VLOOKUP($A240,#REF!,3,FALSE)","v":{"$error":"#REF!"}},"McDowell Named and Created"]
["SM2_r58",{"$f":"VLOOKUP($A241,#REF!,2,FALSE)","v":{"$error":"#REF!"}},{"$f":"VLOOKUP($A241,#REF!,3,FALSE)","v":{"$error":"#REF!"}},"McDowell Named and Created"]
["SM2_r59",{"$f":"VLOOKUP($A242,#REF!,2,FALSE)","v":{"$error":"#REF!"}},{"$f":"VLOOKUP($A242,#REF!,3,FALSE)","v":{"$error":"#REF!"}},"McDowell Named and Created"]
["SM2_r60",{"$f":"VLOOKUP($A243,#REF!,2,FALSE)","v":{"$error":"#REF!"}},{"$f":"VLOOKUP($A243,#REF!,3,FALSE)","v":{"$error":"#REF!"}},"McDowell Named and Created"]
["SM2_r61",{"$f":"VLOOKUP($A244,#REF!,2,FALSE)","v":{"$error":"#REF!"}},{"$f":"VLOOKUP($A244,#REF!,3,FALSE)","v":{"$error":"#REF!"}},"McDowell Named and Created"]
["SM2_r62",{"$f":"VLOOKUP($A245,#REF!,2,FALSE)","v":{"$error":"#REF!"}},{"$f":"VLOOKUP($A245,#REF!,3,FALSE)","v":{"$error":"#REF!"}},"McDowell Named and Created"]
["SM2_r63",{"$f":"VLOOKUP($A246,#REF!,2,FALSE)","v":{"$error":"#REF!"}},{"$f":"VLOOKUP($A246,#REF!,3,FALSE)","v":{"$error":"#REF!"}},"McDowell Named and Created"]
["SM2_r64",{"$f":"VLOOKUP($A247,#REF!,2,FALSE)","v":{"$error":"#REF!"}},{"$f":"VLOOKUP($A247,#REF!,3,FALSE)","v":{"$error":"#REF!"}},"McDowell Named and Created"]
["SM2_r65",{"$f":"VLOOKUP($A248,#REF!,2,FALSE)","v":{"$error":"#REF!"}},{"$f":"VLOOKUP($A248,#REF!,3,FALSE)","v":{"$error":"#REF!"}},"McDowell Named and Created"]
["SM2_r66",{"$f":"VLOOKUP($A249,#REF!,2,FALSE)","v":{"$error":"#REF!"}},{"$f":"VLOOKUP($A249,#REF!,3,FALSE)","v":{"$error":"#REF!"}},"McDowell Named and Created"]
["SM2_r67",{"$f":"VLOOKUP($A250,#REF!,2,FALSE)","v":{"$error":"#REF!"}},{"$f":"VLOOKUP($A250,#REF!,3,FALSE)","v":{"$error":"#REF!"}},"McDowell Named and Created"]
["SM2_r68",{"$f":"VLOOKUP($A251,#REF!,2,FALSE)","v":{"$error":"#REF!"}},{"$f":"VLOOKUP($A251,#REF!,3,FALSE)","v":{"$error":"#REF!"}},"McDowell Named and Created"]
["SM2_r69",{"$f":"VLOOKUP($A252,#REF!,2,FALSE)","v":{"$error":"#REF!"}},{"$f":"VLOOKUP($A252,#REF!,3,FALSE)","v":{"$error":"#REF!"}},"McDowell Named and Created"]
["SM2_r70",{"$f":"VLOOKUP($A253,#REF!,2,FALSE)","v":{"$error":"#REF!"}},{"$f":"VLOOKUP($A253,#REF!,3,FALSE)","v":{"$error":"#REF!"}},"McDowell Named and Created"]
["SM2_r71",{"$f":"VLOOKUP($A254,#REF!,2,FALSE)","v":{"$error":"#REF!"}},{"$f":"VLOOKUP($A254,#REF!,3,FALSE)","v":{"$error":"#REF!"}},"McDowell Named and Created"]
["SM2_r72",{"$f":"VLOOKUP($A255,#REF!,2,FALSE)","v":{"$error":"#REF!"}},{"$f":"VLOOKUP($A255,#REF!,3,FALSE)","v":{"$error":"#REF!"}},"McDowell Named and Created"]
["SM2_r73",{"$f":"VLOOKUP($A256,#REF!,2,FALSE)","v":{"$error":"#REF!"}},{"$f":"VLOOKUP($A256,#REF!,3,FALSE)","v":{"$error":"#REF!"}},"McDowell Named and Created"]
["SM2_r74",{"$f":"VLOOKUP($A257,#REF!,2,FALSE)","v":{"$error":"#REF!"}},{"$f":"VLOOKUP($A257,#REF!,3,FALSE)","v":{"$error":"#REF!"}},"McDowell Named and Created"]
["SM2_r75",{"$f":"VLOOKUP($A258,#REF!,2,FALSE)","v":{"$error":"#REF!"}},{"$f":"VLOOKUP($A258,#REF!,3,FALSE)","v":{"$error":"#REF!"}},"McDowell Named and Created"]
["SM2_r76",{"$f":"VLOOKUP($A259,#REF!,2,FALSE)","v":{"$error":"#REF!"}},{"$f":"VLOOKUP($A259,#REF!,3,FALSE)","v":{"$error":"#REF!"}},"McDowell Named and Created"]
["SM2_r77",{"$f":"VLOOKUP($A260,#REF!,2,FALSE)","v":{"$error":"#REF!"}},{"$f":"VLOOKUP($A260,#REF!,3,FALSE)","v":{"$error":"#REF!"}},"McDowell Named and Created"]
["SM2_r78",{"$f":"VLOOKUP($A261,#REF!,2,FALSE)","v":{"$error":"#REF!"}},{"$f":"VLOOKUP($A261,#REF!,3,FALSE)","v":{"$error":"#REF!"}},"McDowell Named and Created"]
["SM2_r79",{"$f":"VLOOKUP($A262,#REF!,2,FALSE)","v":{"$error":"#REF!"}},{"$f":"VLOOKUP($A262,#REF!,3,FALSE)","v":{"$error":"#REF!"}},"McDowell Named and Created"]
["SM2_r80",{"$f":"VLOOKUP($A263,#REF!,2,FALSE)","v":{"$error":"#REF!"}},{"$f":"VLOOKUP($A263,#REF!,3,FALSE)","v":{"$error":"#REF!"}},"McDowell Named and Created"]
["SM2_r81",{"$f":"VLOOKUP($A264,#REF!,2,FALSE)","v":{"$error":"#REF!"}},{"$f":"VLOOKUP($A264,#REF!,3,FALSE)","v":{"$error":"#REF!"}},"McDowell Named and Created"]
["SM2_r82",{"$f":"VLOOKUP($A265,#REF!,2,FALSE)","v":{"$error":"#REF!"}},{"$f":"VLOOKUP($A265,#REF!,3,FALSE)","v":{"$error":"#REF!"}},"McDowell Named and Created"]
["SM2_r83",{"$f":"VLOOKUP($A266,#REF!,2,FALSE)","v":{"$error":"#REF!"}},{"$f":"VLOOKUP($A266,#REF!,3,FALSE)","v":{"$error":"#REF!"}},"McDowell Named and Created"]
["SM2_r84",{"$f":"VLOOKUP($A267,#REF!,2,FALSE)","v":{"$error":"#REF!"}},{"$f":"VLOOKUP($A267,#REF!,3,FALSE)","v":{"$error":"#REF!"}},"McDowell Named and Created"]
["SM2_r85",{"$f":"VLOOKUP($A268,#REF!,2,FALSE)","v":{"$error":"#REF!"}},{"$f":"VLOOKUP($A268,#REF!,3,FALSE)","v":{"$error":"#REF!"}},"McDowell Named and Created"]
["SM2_r86",{"$f":"VLOOKUP($A269,#REF!,2,FALSE)","v":{"$error":"#REF!"}},{"$f":"VLOOKUP($A269,#REF!,3,FALSE)","v":{"$error":"#REF!"}},"McDowell Named and Created"]
["SM2_r87",{"$f":"VLOOKUP($A270,#REF!,2,FALSE)","v":{"$error":"#REF!"}},{"$f":"VLOOKUP($A270,#REF!,3,FALSE)","v":{"$error":"#REF!"}},"McDowell Named and Created"]
["SM2_r88",{"$f":"VLOOKUP($A271,#REF!,2,FALSE)","v":{"$error":"#REF!"}},{"$f":"VLOOKUP($A271,#REF!,3,FALSE)","v":{"$error":"#REF!"}},"McDowell Named and Created"]
["SM2_r89",{"$f":"VLOOKUP($A272,#REF!,2,FALSE)","v":{"$error":"#REF!"}},{"$f":"VLOOKUP($A272,#REF!,3,FALSE)","v":{"$error":"#REF!"}},"McDowell Named and Created"]
["SM2_r90",{"$f":"VLOOKUP($A273,#REF!,2,FALSE)","v":{"$error":"#REF!"}},{"$f":"VLOOKUP($A273,#REF!,3,FALSE)","v":{"$error":"#REF!"}},"McDowell Named and Created"]
["SM2_r91",{"$f":"VLOOKUP($A274,#REF!,2,FALSE)","v":{"$error":"#REF!"}},{"$f":"VLOOKUP($A274,#REF!,3,FALSE)","v":{"$error":"#REF!"}},"McDowell Named and Created"]
["SM2_r92",{"$f":"VLOOKUP($A275,#REF!,2,FALSE)","v":{"$error":"#REF!"}},{"$f":"VLOOKUP($A275,#REF!,3,FALSE)","v":{"$error":"#REF!"}},"McDowell Named and Created"]
["SM2_r93",{"$f":"VLOOKUP($A276,#REF!,2,FALSE)","v":{"$error":"#REF!"}},{"$f":"VLOOKUP($A276,#REF!,3,FALSE)","v":{"$error":"#REF!"}},"McDowell Named and Created"]
["SM2_r94",{"$f":"VLOOKUP($A277,#REF!,2,FALSE)","v":{"$error":"#REF!"}},{"$f":"VLOOKUP($A277,#REF!,3,FALSE)","v":{"$error":"#REF!"}},"McDowell Named and Created"]
["SM2_r95",{"$f":"VLOOKUP($A278,#REF!,2,FALSE)","v":{"$error":"#REF!"}},{"$f":"VLOOKUP($A278,#REF!,3,FALSE)","v":{"$error":"#REF!"}},"McDowell Named and Created"]
["SM2_r96",{"$f":"VLOOKUP($A279,#REF!,2,FALSE)","v":{"$error":"#REF!"}},{"$f":"VLOOKUP($A279,#REF!,3,FALSE)","v":{"$error":"#REF!"}},"McDowell Named and Created"]
["SM2_r97",{"$f":"VLOOKUP($A280,#REF!,2,FALSE)","v":{"$error":"#REF!"}},{"$f":"VLOOKUP($A280,#REF!,3,FALSE)","v":{"$error":"#REF!"}},"McDowell Named and Created"]
["SM2_r98",{"$f":"VLOOKUP($A281,#REF!,2,FALSE)","v":{"$error":"#REF!"}},{"$f":"VLOOKUP($A281,#REF!,3,FALSE)","v":{"$error":"#REF!"}},"McDowell Named and Created"]
["SM2_r99",{"$f":"VLOOKUP($A282,#REF!,2,FALSE)","v":{"$error":"#REF!"}},{"$f":"VLOOKUP($A282,#REF!,3,FALSE)","v":{"$error":"#REF!"}},"McDowell Named and Created"]
["SM2_r100",{"$f":"VLOOKUP($A283,#REF!,2,FALSE)","v":{"$error":"#REF!"}},{"$f":"VLOOKUP($A283,#REF!,3,FALSE)","v":{"$error":"#REF!"}},"McDowell Named and Created"]
["SM2_r101",{"$f":"VLOOKUP($A284,#REF!,2,FALSE)","v":{"$error":"#REF!"}},{"$f":"VLOOKUP($A284,#REF!,3,FALSE)","v":{"$error":"#REF!"}},"McDowell Named and Created"]
["SM2_r102",{"$f":"VLOOKUP($A285,#REF!,2,FALSE)","v":{"$error":"#REF!"}},{"$f":"VLOOKUP($A285,#REF!,3,FALSE)","v":{"$error":"#REF!"}},"McDowell Named and Created"]
["SM2_r103",{"$f":"VLOOKUP($A286,#REF!,2,FALSE)","v":{"$error":"#REF!"}},{"$f":"VLOOKUP($A286,#REF!,3,FALSE)","v":{"$error":"#REF!"}},"McDowell Named and Created"]
["SM2_r104",{"$f":"VLOOKUP($A287,#REF!,2,FALSE)","v":{"$error":"#REF!"}},{"$f":"VLOOKUP($A287,#REF!,3,FALSE)","v":{"$error":"#REF!"}},"McDowell Named and Created"]
["SM2_r105",{"$f":"VLOOKUP($A288,#REF!,2,FALSE)","v":{"$error":"#REF!"}},{"$f":"VLOOKUP($A288,#REF!,3,FALSE)","v":{"$error":"#REF!"}},"McDowell Named and Created"]
["SM2_r106",{"$f":"VLOOKUP($A289,#REF!,2,FALSE)","v":{"$error":"#REF!"}},{"$f":"VLOOKUP($A289,#REF!,3,FALSE)","v":{"$error":"#REF!"}},"McDowell Named and Created"]
["SM2_r107",{"$f":"VLOOKUP($A290,#REF!,2,FALSE)","v":{"$error":"#REF!"}},{"$f":"VLOOKUP($A290,#REF!,3,FALSE)","v":{"$error":"#REF!"}},"McDowell Named and Created"]
["SM2_r108",{"$f":"VLOOKUP($A291,#REF!,2,FALSE)","v":{"$error":"#REF!"}},{"$f":"VLOOKUP($A291,#REF!,3,FALSE)","v":{"$error":"#REF!"}},"McDowell Named and Created"]
["SM2_r109",{"$f":"VLOOKUP($A292,#REF!,2,FALSE)","v":{"$error":"#REF!"}},{"$f":"VLOOKUP($A292,#REF!,3,FALSE)","v":{"$error":"#REF!"}},"McDowell Named and Created"]
["SM2_r110",{"$f":"VLOOKUP($A293,#REF!,2,FALSE)","v":{"$error":"#REF!"}},{"$f":"VLOOKUP($A293,#REF!,3,FALSE)","v":{"$error":"#REF!"}},"McDowell Named and Created"]
["SM2_r111",{"$f":"VLOOKUP($A294,#REF!,2,FALSE)","v":{"$error":"#REF!"}},{"$f":"VLOOKUP($A294,#REF!,3,FALSE)","v":{"$error":"#REF!"}},"McDowell Named and Created"]
["SM2_r112",{"$f":"VLOOKUP($A295,#REF!,2,FALSE)","v":{"$error":"#REF!"}},{"$f":"VLOOKUP($A295,#REF!,3,FALSE)","v":{"$error":"#REF!"}},"McDowell Named and Created"]
["SM2_r113",{"$f":"VLOOKUP($A296,#REF!,2,FALSE)","v":{"$error":"#REF!"}},{"$f":"VLOOKUP($A296,#REF!,3,FALSE)","v":{"$error":"#REF!"}},"McDowell Named and Created"]
["SM2_r114",{"$f":"VLOOKUP($A297,#REF!,2,FALSE)","v":{"$error":"#REF!"}},{"$f":"VLOOKUP($A297,#REF!,3,FALSE)","v":{"$error":"#REF!"}},"McDowell Named and Created"]
["SM2_r115",{"$f":"VLOOKUP($A298,#REF!,2,FALSE)","v":{"$error":"#REF!"}},{"$f":"VLOOKUP($A298,#REF!,3,FALSE)","v":{"$error":"#REF!"}},"McDowell Named and Created"]
["SM2_r116",{"$f":"VLOOKUP($A299,#REF!,2,FALSE)","v":{"$error":"#REF!"}},{"$f":"VLOOKUP($A299,#REF!,3,FALSE)","v":{"$error":"#REF!"}},"McDowell Named and Created"]
["SM2_r117",{"$f":"VLOOKUP($A300,#REF!,2,FALSE)","v":{"$error":"#REF!"}},{"$f":"VLOOKUP($A300,#REF!,3,FALSE)","v":{"$error":"#REF!"}},"McDowell Named and Created"]
["SM2_r118",{"$f":"VLOOKUP($A301,#REF!,2,FALSE)","v":{"$error":"#REF!"}},{"$f":"VLOOKUP($A301,#REF!,3,FALSE)","v":{"$error":"#REF!"}},"McDowell Named and Created"]
["SM2_r119",{"$f":"VLOOKUP($A302,#REF!,2,FALSE)","v":{"$error":"#REF!"}},{"$f":"VLOOKUP($A302,#REF!,3,FALSE)","v":{"$error":"#REF!"}},"McDowell Named and Created"]
["SM2_r120",{"$f":"VLOOKUP($A303,#REF!,2,FALSE)","v":{"$error":"#REF!"}},{"$f":"VLOOKUP($A303,#REF!,3,FALSE)","v":{"$error":"#REF!"}},"McDowell Named and Created"]
["SM3_r1",{"$f":"VLOOKUP($A304,#REF!,2,FALSE)","v":{"$error":"#REF!"}},{"$f":"VLOOKUP($A304,#REF!,3,FALSE)","v":{"$error":"#REF!"}},"McDowell Named and Created"]
["SM3_r2",{"$f":"VLOOKUP($A305,#REF!,2,FALSE)","v":{"$error":"#REF!"}},{"$f":"VLOOKUP($A305,#REF!,3,FALSE)","v":{"$error":"#REF!"}},"McDowell Named and Created"]
["SM3_r3",{"$f":"VLOOKUP($A306,#REF!,2,FALSE)","v":{"$error":"#REF!"}},{"$f":"VLOOKUP($A306,#REF!,3,FALSE)","v":{"$error":"#REF!"}},"McDowell Named and Created"]
["SM3_r4",{"$f":"VLOOKUP($A307,#REF!,2,FALSE)","v":{"$error":"#REF!"}},{"$f":"VLOOKUP($A307,#REF!,3,FALSE)","v":{"$error":"#REF!"}},"McDowell Named and Created"]
["SM3_r5",{"$f":"VLOOKUP($A308,#REF!,2,FALSE)","v":{"$error":"#REF!"}},{"$f":"VLOOKUP($A308,#REF!,3,FALSE)","v":{"$error":"#REF!"}},"McDowell Named and Created"]
["SM3_r6",{"$f":"VLOOKUP($A309,#REF!,2,FALSE)","v":{"$error":"#REF!"}},{"$f":"VLOOKUP($A309,#REF!,3,FALSE)","v":{"$error":"#REF!"}},"McDowell Named and Created"]
["SM3_r7",{"$f":"VLOOKUP($A310,#REF!,2,FALSE)","v":{"$error":"#REF!"}},{"$f":"VLOOKUP($A310,#REF!,3,FALSE)","v":{"$error":"#REF!"}},"McDowell Named and Created"]
["SM3_r8",{"$f":"VLOOKUP($A311,#REF!,2,FALSE)","v":{"$error":"#REF!"}},{"$f":"VLOOKUP($A311,#REF!,3,FALSE)","v":{"$error":"#REF!"}},"McDowell Named and Created"]
["SM3_r9",{"$f":"VLOOKUP($A312,#REF!,2,FALSE)","v":{"$error":"#REF!"}},{"$f":"VLOOKUP($A312,#REF!,3,FALSE)","v":{"$error":"#REF!"}},"McDowell Named and Created"]
["SM3_r10",{"$f":"VLOOKUP($A313,#REF!,2,FALSE)","v":{"$error":"#REF!"}},{"$f":"VLOOKUP($A313,#REF!,3,FALSE)","v":{"$error":"#REF!"}},"McDowell Named and Created"]
["SM3_r11",{"$f":"VLOOKUP($A314,#REF!,2,FALSE)","v":{"$error":"#REF!"}},{"$f":"VLOOKUP($A314,#REF!,3,FALSE)","v":{"$error":"#REF!"}},"McDowell Named and Created"]
["SM3_r12",{"$f":"VLOOKUP($A315,#REF!,2,FALSE)","v":{"$error":"#REF!"}},{"$f":"VLOOKUP($A315,#REF!,3,FALSE)","v":{"$error":"#REF!"}},"McDowell Named and Created"]
["SM3_r13",{"$f":"VLOOKUP($A316,#REF!,2,FALSE)","v":{"$error":"#REF!"}},{"$f":"VLOOKUP($A316,#REF!,3,FALSE)","v":{"$error":"#REF!"}},"McDowell Named and Created"]
["SM3_r14",{"$f":"VLOOKUP($A317,#REF!,2,FALSE)","v":{"$error":"#REF!"}},{"$f":"VLOOKUP($A317,#REF!,3,FALSE)","v":{"$error":"#REF!"}},"McDowell Named and Created"]
["SM3_r15",{"$f":"VLOOKUP($A318,#REF!,2,FALSE)","v":{"$error":"#REF!"}},{"$f":"VLOOKUP($A318,#REF!,3,FALSE)","v":{"$error":"#REF!"}},"McDowell Named and Created"]
["SM3_r16",{"$f":"VLOOKUP($A319,#REF!,2,FALSE)","v":{"$error":"#REF!"}},{"$f":"VLOOKUP($A319,#REF!,3,FALSE)","v":{"$error":"#REF!"}},"McDowell Named and Created"]
["SM3_r17",{"$f":"VLOOKUP($A320,#REF!,2,FALSE)","v":{"$error":"#REF!"}},{"$f":"VLOOKUP($A320,#REF!,3,FALSE)","v":{"$error":"#REF!"}},"McDowell Named and Created"]
["SM3_r18",{"$f":"VLOOKUP($A321,#REF!,2,FALSE)","v":{"$error":"#REF!"}},{"$f":"VLOOKUP($A321,#REF!,3,FALSE)","v":{"$error":"#REF!"}},"McDowell Named and Created"]
["SM3_r19",{"$f":"VLOOKUP($A322,#REF!,2,FALSE)","v":{"$error":"#REF!"}},{"$f":"VLOOKUP($A322,#REF!,3,FALSE)","v":{"$error":"#REF!"}},"McDowell Named and Created"]
["SM3_r20",{"$f":"VLOOKUP($A323,#REF!,2,FALSE)","v":{"$error":"#REF!"}},{"$f":"VLOOKUP($A323,#REF!,3,FALSE)","v":{"$error":"#REF!"}},"McDowell Named and Created"]
["SM3_r21",{"$f":"VLOOKUP($A324,#REF!,2,FALSE)","v":{"$error":"#REF!"}},{"$f":"VLOOKUP($A324,#REF!,3,FALSE)","v":{"$error":"#REF!"}},"McDowell Named and Created"]
["SM3_r22",{"$f":"VLOOKUP($A325,#REF!,2,FALSE)","v":{"$error":"#REF!"}},{"$f":"VLOOKUP($A325,#REF!,3,FALSE)","v":{"$error":"#REF!"}},"McDowell Named and Created"]
["SM3_r23",{"$f":"VLOOKUP($A326,#REF!,2,FALSE)","v":{"$error":"#REF!"}},{"$f":"VLOOKUP($A326,#REF!,3,FALSE)","v":{"$error":"#REF!"}},"McDowell Named and Created"]
["SM3_r24",{"$f":"VLOOKUP($A327,#REF!,2,FALSE)","v":{"$error":"#REF!"}},{"$f":"VLOOKUP($A327,#REF!,3,FALSE)","v":{"$error":"#REF!"}},"McDowell Named and Created"]
["SM3_r25",{"$f":"VLOOKUP($A328,#REF!,2,FALSE)","v":{"$error":"#REF!"}},{"$f":"VLOOKUP($A328,#REF!,3,FALSE)","v":{"$error":"#REF!"}},"McDowell Named and Created"]
["SM3_r26",{"$f":"VLOOKUP($A329,#REF!,2,FALSE)","v":{"$error":"#REF!"}},{"$f":"VLOOKUP($A329,#REF!,3,FALSE)","v":{"$error":"#REF!"}},"McDowell Named and Created"]
["SM3_r27",{"$f":"VLOOKUP($A330,#REF!,2,FALSE)","v":{"$error":"#REF!"}},{"$f":"VLOOKUP($A330,#REF!,3,FALSE)","v":{"$error":"#REF!"}},"McDowell Named and Created"]
["SM3_r28",{"$f":"VLOOKUP($A331,#REF!,2,FALSE)","v":{"$error":"#REF!"}},{"$f":"VLOOKUP($A331,#REF!,3,FALSE)","v":{"$error":"#REF!"}},"McDowell Named and Created"]
["SM3_r29",{"$f":"VLOOKUP($A332,#REF!,2,FALSE)","v":{"$error":"#REF!"}},{"$f":"VLOOKUP($A332,#REF!,3,FALSE)","v":{"$error":"#REF!"}},"McDowell Named and Created"]
["SM3_r30",{"$f":"VLOOKUP($A333,#REF!,2,FALSE)","v":{"$error":"#REF!"}},{"$f":"VLOOKUP($A333,#REF!,3,FALSE)","v":{"$error":"#REF!"}},"McDowell Named and Created"]
["SM3_r31",{"$f":"VLOOKUP($A334,#REF!,2,FALSE)","v":{"$error":"#REF!"}},{"$f":"VLOOKUP($A334,#REF!,3,FALSE)","v":{"$error":"#REF!"}},"McDowell Named and Created"]
["SM3_r32",{"$f":"VLOOKUP($A335,#REF!,2,FALSE)","v":{"$error":"#REF!"}},{"$f":"VLOOKUP($A335,#REF!,3,FALSE)","v":{"$error":"#REF!"}},"McDowell Named and Created"]
["SM3_r33",{"$f":"VLOOKUP($A336,#REF!,2,FALSE)","v":{"$error":"#REF!"}},{"$f":"VLOOKUP($A336,#REF!,3,FALSE)","v":{"$error":"#REF!"}},"McDowell Named and Created"]
["SM3_r34",{"$f":"VLOOKUP($A337,#REF!,2,FALSE)","v":{"$error":"#REF!"}},{"$f":"VLOOKUP($A337,#REF!,3,FALSE)","v":{"$error":"#REF!"}},"McDowell Named and Created"]
["SM3_r35",{"$f":"VLOOKUP($A338,#REF!,2,FALSE)","v":{"$error":"#REF!"}},{"$f":"VLOOKUP($A338,#REF!,3,FALSE)","v":{"$error":"#REF!"}},"McDowell Named and Created"]
["SM3_r36",{"$f":"VLOOKUP($A339,#REF!,2,FALSE)","v":{"$error":"#REF!"}},{"$f":"VLOOKUP($A339,#REF!,3,FALSE)","v":{"$error":"#REF!"}},"McDowell Named and Created"]
["SM3_r37",{"$f":"VLOOKUP($A340,#REF!,2,FALSE)","v":{"$error":"#REF!"}},{"$f":"VLOOKUP($A340,#REF!,3,FALSE)","v":{"$error":"#REF!"}},"McDowell Named and Created"]
["SM3_r38",{"$f":"VLOOKUP($A341,#REF!,2,FALSE)","v":{"$error":"#REF!"}},{"$f":"VLOOKUP($A341,#REF!,3,FALSE)","v":{"$error":"#REF!"}},"McDowell Named and Created"]
["SM3_r39",{"$f":"VLOOKUP($A342,#REF!,2,FALSE)","v":{"$error":"#REF!"}},{"$f":"VLOOKUP($A342,#REF!,3,FALSE)","v":{"$error":"#REF!"}},"McDowell Named and Created"]
["SM3_r40",{"$f":"VLOOKUP($A343,#REF!,2,FALSE)","v":{"$error":"#REF!"}},{"$f":"VLOOKUP($A343,#REF!,3,FALSE)","v":{"$error":"#REF!"}},"McDowell Named and Created"]
["SM3_r41",{"$f":"VLOOKUP($A344,#REF!,2,FALSE)","v":{"$error":"#REF!"}},{"$f":"VLOOKUP($A344,#REF!,3,FALSE)","v":{"$error":"#REF!"}},"McDowell Named and Created"]
["SM3_r42",{"$f":"VLOOKUP($A345,#REF!,2,FALSE)","v":{"$error":"#REF!"}},{"$f":"VLOOKUP($A345,#REF!,3,FALSE)","v":{"$error":"#REF!"}},"McDowell Named and Created"]
["SM3_r43",{"$f":"VLOOKUP($A346,#REF!,2,FALSE)","v":{"$error":"#REF!"}},{"$f":"VLOOKUP($A346,#REF!,3,FALSE)","v":{"$error":"#REF!"}},"McDowell Named and Created"]
["SM3_r44",{"$f":"VLOOKUP($A347,#REF!,2,FALSE)","v":{"$error":"#REF!"}},{"$f":"VLOOKUP($A347,#REF!,3,FALSE)","v":{"$error":"#REF!"}},"McDowell Named and Created"]
["SM3_r45",{"$f":"VLOOKUP($A348,#REF!,2,FALSE)","v":{"$error":"#REF!"}},{"$f":"VLOOKUP($A348,#REF!,3,FALSE)","v":{"$error":"#REF!"}},"McDowell Named and Created"]
["SM3_r46",{"$f":"VLOOKUP($A349,#REF!,2,FALSE)","v":{"$error":"#REF!"}},{"$f":"VLOOKUP($A349,#REF!,3,FALSE)","v":{"$error":"#REF!"}},"McDowell Named and Created"]
["SM3_r47",{"$f":"VLOOKUP($A350,#REF!,2,FALSE)","v":{"$error":"#REF!"}},{"$f":"VLOOKUP($A350,#REF!,3,FALSE)","v":{"$error":"#REF!"}},"McDowell Named and Created"]
["SM3_r48",{"$f":"VLOOKUP($A351,#REF!,2,FALSE)","v":{"$error":"#REF!"}},{"$f":"VLOOKUP($A351,#REF!,3,FALSE)","v":{"$error":"#REF!"}},"McDowell Named and Created"]
["SM3_r49",{"$f":"VLOOKUP($A352,#REF!,2,FALSE)","v":{"$error":"#REF!"}},{"$f":"VLOOKUP($A352,#REF!,3,FALSE)","v":{"$error":"#REF!"}},"McDowell Named and Created"]
["SM3_r50",{"$f":"VLOOKUP($A353,#REF!,2,FALSE)","v":{"$error":"#REF!"}},{"$f":"VLOOKUP($A353,#REF!,3,FALSE)","v":{"$error":"#REF!"}},"McDowell Named and Created"]
["SM3_r51",{"$f":"VLOOKUP($A354,#REF!,2,FALSE)","v":{"$error":"#REF!"}},{"$f":"VLOOKUP($A354,#REF!,3,FALSE)","v":{"$error":"#REF!"}},"McDowell Named and Created"]
["SM3_r52",{"$f":"VLOOKUP($A355,#REF!,2,FALSE)","v":{"$error":"#REF!"}},{"$f":"VLOOKUP($A355,#REF!,3,FALSE)","v":{"$error":"#REF!"}},"McDowell Named and Created"]
["SM3_r53",{"$f":"VLOOKUP($A356,#REF!,2,FALSE)","v":{"$error":"#REF!"}},{"$f":"VLOOKUP($A356,#REF!,3,FALSE)","v":{"$error":"#REF!"}},"McDowell Named and Created"]
["SM3_r54",{"$f":"VLOOKUP($A357,#REF!,2,FALSE)","v":{"$error":"#REF!"}},{"$f":"VLOOKUP($A357,#REF!,3,FALSE)","v":{"$error":"#REF!"}},"McDowell Named and Created"]
["SM3_r55",{"$f":"VLOOKUP($A358,#REF!,2,FALSE)","v":{"$error":"#REF!"}},{"$f":"VLOOKUP($A358,#REF!,3,FALSE)","v":{"$error":"#REF!"}},"McDowell Named and Created"]
["SM3_r56",{"$f":"VLOOKUP($A359,#REF!,2,FALSE)","v":{"$error":"#REF!"}},{"$f":"VLOOKUP($A359,#REF!,3,FALSE)","v":{"$error":"#REF!"}},"McDowell Named and Created"]
["SM3_r57",{"$f":"VLOOKUP($A360,#REF!,2,FALSE)","v":{"$error":"#REF!"}},{"$f":"VLOOKUP($A360,#REF!,3,FALSE)","v":{"$error":"#REF!"}},"McDowell Named and Created"]
["SM3_r58",{"$f":"VLOOKUP($A361,#REF!,2,FALSE)","v":{"$error":"#REF!"}},{"$f":"VLOOKUP($A361,#REF!,3,FALSE)","v":{"$error":"#REF!"}},"McDowell Named and Created"]
["SM3_r59",{"$f":"VLOOKUP($A362,#REF!,2,FALSE)","v":{"$error":"#REF!"}},{"$f":"VLOOKUP($A362,#REF!,3,FALSE)","v":{"$error":"#REF!"}},"McDowell Named and Created"]
["SM3_r60",{"$f":"VLOOKUP($A363,#REF!,2,FALSE)","v":{"$error":"#REF!"}},{"$f":"VLOOKUP($A363,#REF!,3,FALSE)","v":{"$error":"#REF!"}},"McDowell Named and Created"]
["SM3_r61",{"$f":"VLOOKUP($A364,#REF!,2,FALSE)","v":{"$error":"#REF!"}},{"$f":"VLOOKUP($A364,#REF!,3,FALSE)","v":{"$error":"#REF!"}},"McDowell Named and Created"]
["SM3_r62",{"$f":"VLOOKUP($A365,#REF!,2,FALSE)","v":{"$error":"#REF!"}},{"$f":"VLOOKUP($A365,#REF!,3,FALSE)","v":{"$error":"#REF!"}},"McDowell Named and Created"]
["SM3_r63",{"$f":"VLOOKUP($A366,#REF!,2,FALSE)","v":{"$error":"#REF!"}},{"$f":"VLOOKUP($A366,#REF!,3,FALSE)","v":{"$error":"#REF!"}},"McDowell Named and Created"]
["SM3_r64",{"$f":"VLOOKUP($A367,#REF!,2,FALSE)","v":{"$error":"#REF!"}},{"$f":"VLOOKUP($A367,#REF!,3,FALSE)","v":{"$error":"#REF!"}},"McDowell Named and Created"]
["SM3_r65",{"$f":"VLOOKUP($A368,#REF!,2,FALSE)","v":{"$error":"#REF!"}},{"$f":"VLOOKUP($A368,#REF!,3,FALSE)","v":{"$error":"#REF!"}},"McDowell Named and Created"]
["SM3_r66",{"$f":"VLOOKUP($A369,#REF!,2,FALSE)","v":{"$error":"#REF!"}},{"$f":"VLOOKUP($A369,#REF!,3,FALSE)","v":{"$error":"#REF!"}},"McDowell Named and Created"]
["SM3_r67",{"$f":"VLOOKUP($A370,#REF!,2,FALSE)","v":{"$error":"#REF!"}},{"$f":"VLOOKUP($A370,#REF!,3,FALSE)","v":{"$error":"#REF!"}},"McDowell Named and Created"]
["SM3_r68",{"$f":"VLOOKUP($A371,#REF!,2,FALSE)","v":{"$error":"#REF!"}},{"$f":"VLOOKUP($A371,#REF!,3,FALSE)","v":{"$error":"#REF!"}},"McDowell Named and Created"]
["SM3_r69",{"$f":"VLOOKUP($A372,#REF!,2,FALSE)","v":{"$error":"#REF!"}},{"$f":"VLOOKUP($A372,#REF!,3,FALSE)","v":{"$error":"#REF!"}},"McDowell Named and Created"]
["SM3_r70",{"$f":"VLOOKUP($A373,#REF!,2,FALSE)","v":{"$error":"#REF!"}},{"$f":"VLOOKUP($A373,#REF!,3,FALSE)","v":{"$error":"#REF!"}},"McDowell Named and Created"]
["SM3_r71",{"$f":"VLOOKUP($A374,#REF!,2,FALSE)","v":{"$error":"#REF!"}},{"$f":"VLOOKUP($A374,#REF!,3,FALSE)","v":{"$error":"#REF!"}},"McDowell Named and Created"]
["SM3_r72",{"$f":"VLOOKUP($A375,#REF!,2,FALSE)","v":{"$error":"#REF!"}},{"$f":"VLOOKUP($A375,#REF!,3,FALSE)","v":{"$error":"#REF!"}},"McDowell Named and Created"]
["SM3_r73",{"$f":"VLOOKUP($A376,#REF!,2,FALSE)","v":{"$error":"#REF!"}},{"$f":"VLOOKUP($A376,#REF!,3,FALSE)","v":{"$error":"#REF!"}},"McDowell Named and Created"]
["SM3_r74",{"$f":"VLOOKUP($A377,#REF!,2,FALSE)","v":{"$error":"#REF!"}},{"$f":"VLOOKUP($A377,#REF!,3,FALSE)","v":{"$error":"#REF!"}},"McDowell Named and Created"]
["SM3_r75",{"$f":"VLOOKUP($A378,#REF!,2,FALSE)","v":{"$error":"#REF!"}},{"$f":"VLOOKUP($A378,#REF!,3,FALSE)","v":{"$error":"#REF!"}},"McDowell Named and Created"]
["SM3_r76",{"$f":"VLOOKUP($A379,#REF!,2,FALSE)","v":{"$error":"#REF!"}},{"$f":"VLOOKUP($A379,#REF!,3,FALSE)","v":{"$error":"#REF!"}},"McDowell Named and Created"]
["SM3_r77",{"$f":"VLOOKUP($A380,#REF!,2,FALSE)","v":{"$error":"#REF!"}},{"$f":"VLOOKUP($A380,#REF!,3,FALSE)","v":{"$error":"#REF!"}},"McDowell Named and Created"]
["SM3_r78",{"$f":"VLOOKUP($A381,#REF!,2,FALSE)","v":{"$error":"#REF!"}},{"$f":"VLOOKUP($A381,#REF!,3,FALSE)","v":{"$error":"#REF!"}},"McDowell Named and Created"]
["SM3_r79",{"$f":"VLOOKUP($A382,#REF!,2,FALSE)","v":{"$error":"#REF!"}},{"$f":"VLOOKUP($A382,#REF!,3,FALSE)","v":{"$error":"#REF!"}},"McDowell Named and Created"]
["SM3_r80",{"$f":"VLOOKUP($A383,#REF!,2,FALSE)","v":{"$error":"#REF!"}},{"$f":"VLOOKUP($A383,#REF!,3,FALSE)","v":{"$error":"#REF!"}},"McDowell Named and Created"]
["SM3_r81",{"$f":"VLOOKUP($A384,#REF!,2,FALSE)","v":{"$error":"#REF!"}},{"$f":"VLOOKUP($A384,#REF!,3,FALSE)","v":{"$error":"#REF!"}},"McDowell Named and Created"]
["SM3_r82",{"$f":"VLOOKUP($A385,#REF!,2,FALSE)","v":{"$error":"#REF!"}},{"$f":"VLOOKUP($A385,#REF!,3,FALSE)","v":{"$error":"#REF!"}},"McDowell Named and Created"]
["SM3_r83",{"$f":"VLOOKUP($A386,#REF!,2,FALSE)","v":{"$error":"#REF!"}},{"$f":"VLOOKUP($A386,#REF!,3,FALSE)","v":{"$error":"#REF!"}},"McDowell Named and Created"]
["SM3_r84",{"$f":"VLOOKUP($A387,#REF!,2,FALSE)","v":{"$error":"#REF!"}},{"$f":"VLOOKUP($A387,#REF!,3,FALSE)","v":{"$error":"#REF!"}},"McDowell Named and Created"]
["SM3_r85",{"$f":"VLOOKUP($A388,#REF!,2,FALSE)","v":{"$error":"#REF!"}},{"$f":"VLOOKUP($A388,#REF!,3,FALSE)","v":{"$error":"#REF!"}},"McDowell Named and Created"]
["SM3_r86",{"$f":"VLOOKUP($A389,#REF!,2,FALSE)","v":{"$error":"#REF!"}},{"$f":"VLOOKUP($A389,#REF!,3,FALSE)","v":{"$error":"#REF!"}},"McDowell Named and Created"]
["SM3_r87",{"$f":"VLOOKUP($A390,#REF!,2,FALSE)","v":{"$error":"#REF!"}},{"$f":"VLOOKUP($A390,#REF!,3,FALSE)","v":{"$error":"#REF!"}},"McDowell Named and Created"]
["SM3_r88",{"$f":"VLOOKUP($A391,#REF!,2,FALSE)","v":{"$error":"#REF!"}},{"$f":"VLOOKUP($A391,#REF!,3,FALSE)","v":{"$error":"#REF!"}},"McDowell Named and Created"]
["SM3_r89",{"$f":"VLOOKUP($A392,#REF!,2,FALSE)","v":{"$error":"#REF!"}},{"$f":"VLOOKUP($A392,#REF!,3,FALSE)","v":{"$error":"#REF!"}},"McDowell Named and Created"]
["SM3_r90",{"$f":"VLOOKUP($A393,#REF!,2,FALSE)","v":{"$error":"#REF!"}},{"$f":"VLOOKUP($A393,#REF!,3,FALSE)","v":{"$error":"#REF!"}},"McDowell Named and Created"]
["SM3_r91",{"$f":"VLOOKUP($A394,#REF!,2,FALSE)","v":{"$error":"#REF!"}},{"$f":"VLOOKUP($A394,#REF!,3,FALSE)","v":{"$error":"#REF!"}},"McDowell Named and Created"]
["SM3_r92",{"$f":"VLOOKUP($A395,#REF!,2,FALSE)","v":{"$error":"#REF!"}},{"$f":"VLOOKUP($A395,#REF!,3,FALSE)","v":{"$error":"#REF!"}},"McDowell Named and Created"]
["SM3_r93",{"$f":"VLOOKUP($A396,#REF!,2,FALSE)","v":{"$error":"#REF!"}},{"$f":"VLOOKUP($A396,#REF!,3,FALSE)","v":{"$error":"#REF!"}},"McDowell Named and Created"]
["SM3_r94",{"$f":"VLOOKUP($A397,#REF!,2,FALSE)","v":{"$error":"#REF!"}},{"$f":"VLOOKUP($A397,#REF!,3,FALSE)","v":{"$error":"#REF!"}},"McDowell Named and Created"]
["SM3_r95",{"$f":"VLOOKUP($A398,#REF!,2,FALSE)","v":{"$error":"#REF!"}},{"$f":"VLOOKUP($A398,#REF!,3,FALSE)","v":{"$error":"#REF!"}},"McDowell Named and Created"]
["SM3_r96",{"$f":"VLOOKUP($A399,#REF!,2,FALSE)","v":{"$error":"#REF!"}},{"$f":"VLOOKUP($A399,#REF!,3,FALSE)","v":{"$error":"#REF!"}},"McDowell Named and Created"]
["SM3_r97",{"$f":"VLOOKUP($A400,#REF!,2,FALSE)","v":{"$error":"#REF!"}},{"$f":"VLOOKUP($A400,#REF!,3,FALSE)","v":{"$error":"#REF!"}},"McDowell Named and Created"]
["SM3_r98",{"$f":"VLOOKUP($A401,#REF!,2,FALSE)","v":{"$error":"#REF!"}},{"$f":"VLOOKUP($A401,#REF!,3,FALSE)","v":{"$error":"#REF!"}},"McDowell Named and Created"]
["SM3_r99",{"$f":"VLOOKUP($A402,#REF!,2,FALSE)","v":{"$error":"#REF!"}},{"$f":"VLOOKUP($A402,#REF!,3,FALSE)","v":{"$error":"#REF!"}},"McDowell Named and Created"]
["SM3_r100",{"$f":"VLOOKUP($A403,#REF!,2,FALSE)","v":{"$error":"#REF!"}},{"$f":"VLOOKUP($A403,#REF!,3,FALSE)","v":{"$error":"#REF!"}},"McDowell Named and Created"]
["SM3_r101",{"$f":"VLOOKUP($A404,#REF!,2,FALSE)","v":{"$error":"#REF!"}},{"$f":"VLOOKUP($A404,#REF!,3,FALSE)","v":{"$error":"#REF!"}},"McDowell Named and Created"]
["SM3_r102",{"$f":"VLOOKUP($A405,#REF!,2,FALSE)","v":{"$error":"#REF!"}},{"$f":"VLOOKUP($A405,#REF!,3,FALSE)","v":{"$error":"#REF!"}},"McDowell Named and Created"]
["SM3_r103",{"$f":"VLOOKUP($A406,#REF!,2,FALSE)","v":{"$error":"#REF!"}},{"$f":"VLOOKUP($A406,#REF!,3,FALSE)","v":{"$error":"#REF!"}},"McDowell Named and Created"]
["SM3_r104",{"$f":"VLOOKUP($A407,#REF!,2,FALSE)","v":{"$error":"#REF!"}},{"$f":"VLOOKUP($A407,#REF!,3,FALSE)","v":{"$error":"#REF!"}},"McDowell Named and Created"]
["SM3_r105",{"$f":"VLOOKUP($A408,#REF!,2,FALSE)","v":{"$error":"#REF!"}},{"$f":"VLOOKUP($A408,#REF!,3,FALSE)","v":{"$error":"#REF!"}},"McDowell Named and Created"]
["SM3_r106",{"$f":"VLOOKUP($A409,#REF!,2,FALSE)","v":{"$error":"#REF!"}},{"$f":"VLOOKUP($A409,#REF!,3,FALSE)","v":{"$error":"#REF!"}},"McDowell Named and Created"]
["SM3_r107",{"$f":"VLOOKUP($A410,#REF!,2,FALSE)","v":{"$error":"#REF!"}},{"$f":"VLOOKUP($A410,#REF!,3,FALSE)","v":{"$error":"#REF!"}},"McDowell Named and Created"]
["SM3_r108",{"$f":"VLOOKUP($A411,#REF!,2,FALSE)","v":{"$error":"#REF!"}},{"$f":"VLOOKUP($A411,#REF!,3,FALSE)","v":{"$error":"#REF!"}},"McDowell Named and Created"]
["SM3_r109",{"$f":"VLOOKUP($A412,#REF!,2,FALSE)","v":{"$error":"#REF!"}},{"$f":"VLOOKUP($A412,#REF!,3,FALSE)","v":{"$error":"#REF!"}},"McDowell Named and Created"]
["SM3_r110",{"$f":"VLOOKUP($A413,#REF!,2,FALSE)","v":{"$error":"#REF!"}},{"$f":"VLOOKUP($A413,#REF!,3,FALSE)","v":{"$error":"#REF!"}},"McDowell Named and Created"]
["SM3_r111",{"$f":"VLOOKUP($A414,#REF!,2,FALSE)","v":{"$error":"#REF!"}},{"$f":"VLOOKUP($A414,#REF!,3,FALSE)","v":{"$error":"#REF!"}},"McDowell Named and Created"]
["SM3_r112",{"$f":"VLOOKUP($A415,#REF!,2,FALSE)","v":{"$error":"#REF!"}},{"$f":"VLOOKUP($A415,#REF!,3,FALSE)","v":{"$error":"#REF!"}},"McDowell Named and Created"]
["SM3_r113",{"$f":"VLOOKUP($A416,#REF!,2,FALSE)","v":{"$error":"#REF!"}},{"$f":"VLOOKUP($A416,#REF!,3,FALSE)","v":{"$error":"#REF!"}},"McDowell Named and Created"]
["SM3_r114",{"$f":"VLOOKUP($A417,#REF!,2,FALSE)","v":{"$error":"#REF!"}},{"$f":"VLOOKUP($A417,#REF!,3,FALSE)","v":{"$error":"#REF!"}},"McDowell Named and Created"]
["SM3_r115",{"$f":"VLOOKUP($A418,#REF!,2,FALSE)","v":{"$error":"#REF!"}},{"$f":"VLOOKUP($A418,#REF!,3,FALSE)","v":{"$error":"#REF!"}},"McDowell Named and Created"]
["SM3_r116",{"$f":"VLOOKUP($A419,#REF!,2,FALSE)","v":{"$error":"#REF!"}},{"$f":"VLOOKUP($A419,#REF!,3,FALSE)","v":{"$error":"#REF!"}},"McDowell Named and Created"]
["SM3_r117",{"$f":"VLOOKUP($A420,#REF!,2,FALSE)","v":{"$error":"#REF!"}},{"$f":"VLOOKUP($A420,#REF!,3,FALSE)","v":{"$error":"#REF!"}},"McDowell Named and Created"]
["SM3_r118",{"$f":"VLOOKUP($A421,#REF!,2,FALSE)","v":{"$error":"#REF!"}},{"$f":"VLOOKUP($A421,#REF!,3,FALSE)","v":{"$error":"#REF!"}},"McDowell Named and Created"]
["SM3_r119",{"$f":"VLOOKUP($A422,#REF!,2,FALSE)","v":{"$error":"#REF!"}},{"$f":"VLOOKUP($A422,#REF!,3,FALSE)","v":{"$error":"#REF!"}},"McDowell Named and Created"]
["SM3_r120",{"$f":"VLOOKUP($A423,#REF!,2,FALSE)","v":{"$error":"#REF!"}},{"$f":"VLOOKUP($A423,#REF!,3,FALSE)","v":{"$error":"#REF!"}},"McDowell Named and Created"]
["SM4_r1",{"$f":"VLOOKUP($A424,#REF!,2,FALSE)","v":{"$error":"#REF!"}},{"$f":"VLOOKUP($A424,#REF!,3,FALSE)","v":{"$error":"#REF!"}},"McDowell Named and Created"]
["SM4_r2",{"$f":"VLOOKUP($A425,#REF!,2,FALSE)","v":{"$error":"#REF!"}},{"$f":"VLOOKUP($A425,#REF!,3,FALSE)","v":{"$error":"#REF!"}},"McDowell Named and Created"]
["SM4_r3",{"$f":"VLOOKUP($A426,#REF!,2,FALSE)","v":{"$error":"#REF!"}},{"$f":"VLOOKUP($A426,#REF!,3,FALSE)","v":{"$error":"#REF!"}},"McDowell Named and Created"]
["SM4_r4",{"$f":"VLOOKUP($A427,#REF!,2,FALSE)","v":{"$error":"#REF!"}},{"$f":"VLOOKUP($A427,#REF!,3,FALSE)","v":{"$error":"#REF!"}},"McDowell Named and Created"]
["SM4_r5",{"$f":"VLOOKUP($A428,#REF!,2,FALSE)","v":{"$error":"#REF!"}},{"$f":"VLOOKUP($A428,#REF!,3,FALSE)","v":{"$error":"#REF!"}},"McDowell Named and Created"]
["SM4_r6",{"$f":"VLOOKUP($A429,#REF!,2,FALSE)","v":{"$error":"#REF!"}},{"$f":"VLOOKUP($A429,#REF!,3,FALSE)","v":{"$error":"#REF!"}},"McDowell Named and Created"]
["SM4_r7",{"$f":"VLOOKUP($A430,#REF!,2,FALSE)","v":{"$error":"#REF!"}},{"$f":"VLOOKUP($A430,#REF!,3,FALSE)","v":{"$error":"#REF!"}},"McDowell Named and Created"]
["SM4_r8",{"$f":"VLOOKUP($A431,#REF!,2,FALSE)","v":{"$error":"#REF!"}},{"$f":"VLOOKUP($A431,#REF!,3,FALSE)","v":{"$error":"#REF!"}},"McDowell Named and Created"]
["SM4_r9",{"$f":"VLOOKUP($A432,#REF!,2,FALSE)","v":{"$error":"#REF!"}},{"$f":"VLOOKUP($A432,#REF!,3,FALSE)","v":{"$error":"#REF!"}},"McDowell Named and Created"]
["SM4_r10",{"$f":"VLOOKUP($A433,#REF!,2,FALSE)","v":{"$error":"#REF!"}},{"$f":"VLOOKUP($A433,#REF!,3,FALSE)","v":{"$error":"#REF!"}},"McDowell Named and Created"]
["SM4_r11",{"$f":"VLOOKUP($A434,#REF!,2,FALSE)","v":{"$error":"#REF!"}},{"$f":"VLOOKUP($A434,#REF!,3,FALSE)","v":{"$error":"#REF!"}},"McDowell Named and Created"]
["SM4_r12",{"$f":"VLOOKUP($A435,#REF!,2,FALSE)","v":{"$error":"#REF!"}},{"$f":"VLOOKUP($A435,#REF!,3,FALSE)","v":{"$error":"#REF!"}},"McDowell Named and Created"]
["SM4_r13",{"$f":"VLOOKUP($A436,#REF!,2,FALSE)","v":{"$error":"#REF!"}},{"$f":"VLOOKUP($A436,#REF!,3,FALSE)","v":{"$error":"#REF!"}},"McDowell Named and Created"]
["SM4_r14",{"$f":"VLOOKUP($A437,#REF!,2,FALSE)","v":{"$error":"#REF!"}},{"$f":"VLOOKUP($A437,#REF!,3,FALSE)","v":{"$error":"#REF!"}},"McDowell Named and Created"]
["SM4_r15",{"$f":"VLOOKUP($A438,#REF!,2,FALSE)","v":{"$error":"#REF!"}},{"$f":"VLOOKUP($A438,#REF!,3,FALSE)","v":{"$error":"#REF!"}},"McDowell Named and Created"]
["SM4_r16",{"$f":"VLOOKUP($A439,#REF!,2,FALSE)","v":{"$error":"#REF!"}},{"$f":"VLOOKUP($A439,#REF!,3,FALSE)","v":{"$error":"#REF!"}},"McDowell Named and Created"]
["SM4_r17",{"$f":"VLOOKUP($A440,#REF!,2,FALSE)","v":{"$error":"#REF!"}},{"$f":"VLOOKUP($A440,#REF!,3,FALSE)","v":{"$error":"#REF!"}},"McDowell Named and Created"]
["SM4_r18",{"$f":"VLOOKUP($A441,#REF!,2,FALSE)","v":{"$error":"#REF!"}},{"$f":"VLOOKUP($A441,#REF!,3,FALSE)","v":{"$error":"#REF!"}},"McDowell Named and Created"]
["SM4_r19",{"$f":"VLOOKUP($A442,#REF!,2,FALSE)","v":{"$error":"#REF!"}},{"$f":"VLOOKUP($A442,#REF!,3,FALSE)","v":{"$error":"#REF!"}},"McDowell Named and Created"]
["SM4_r20",{"$f":"VLOOKUP($A443,#REF!,2,FALSE)","v":{"$error":"#REF!"}},{"$f":"VLOOKUP($A443,#REF!,3,FALSE)","v":{"$error":"#REF!"}},"McDowell Named and Created"]
["SM4_r21",{"$f":"VLOOKUP($A444,#REF!,2,FALSE)","v":{"$error":"#REF!"}},{"$f":"VLOOKUP($A444,#REF!,3,FALSE)","v":{"$error":"#REF!"}},"McDowell Named and Created"]
["SM4_r22",{"$f":"VLOOKUP($A445,#REF!,2,FALSE)","v":{"$error":"#REF!"}},{"$f":"VLOOKUP($A445,#REF!,3,FALSE)","v":{"$error":"#REF!"}},"McDowell Named and Created"]
["SM4_r23",{"$f":"VLOOKUP($A446,#REF!,2,FALSE)","v":{"$error":"#REF!"}},{"$f":"VLOOKUP($A446,#REF!,3,FALSE)","v":{"$error":"#REF!"}},"McDowell Named and Created"]
["SM4_r24",{"$f":"VLOOKUP($A447,#REF!,2,FALSE)","v":{"$error":"#REF!"}},{"$f":"VLOOKUP($A447,#REF!,3,FALSE)","v":{"$error":"#REF!"}},"McDowell Named and Created"]
["SM4_r25",{"$f":"VLOOKUP($A448,#REF!,2,FALSE)","v":{"$error":"#REF!"}},{"$f":"VLOOKUP($A448,#REF!,3,FALSE)","v":{"$error":"#REF!"}},"McDowell Named and Created"]
["SM4_r26",{"$f":"VLOOKUP($A449,#REF!,2,FALSE)","v":{"$error":"#REF!"}},{"$f":"VLOOKUP($A449,#REF!,3,FALSE)","v":{"$error":"#REF!"}},"McDowell Named and Created"]
["SM4_r27",{"$f":"VLOOKUP($A450,#REF!,2,FALSE)","v":{"$error":"#REF!"}},{"$f":"VLOOKUP($A450,#REF!,3,FALSE)","v":{"$error":"#REF!"}},"McDowell Named and Created"]
["SM4_r28",{"$f":"VLOOKUP($A451,#REF!,2,FALSE)","v":{"$error":"#REF!"}},{"$f":"VLOOKUP($A451,#REF!,3,FALSE)","v":{"$error":"#REF!"}},"McDowell Named and Created"]
["SM4_r29",{"$f":"VLOOKUP($A452,#REF!,2,FALSE)","v":{"$error":"#REF!"}},{"$f":"VLOOKUP($A452,#REF!,3,FALSE)","v":{"$error":"#REF!"}},"McDowell Named and Created"]
["SM4_r30",{"$f":"VLOOKUP($A453,#REF!,2,FALSE)","v":{"$error":"#REF!"}},{"$f":"VLOOKUP($A453,#REF!,3,FALSE)","v":{"$error":"#REF!"}},"McDowell Named and Created"]
["SM4_r31",{"$f":"VLOOKUP($A454,#REF!,2,FALSE)","v":{"$error":"#REF!"}},{"$f":"VLOOKUP($A454,#REF!,3,FALSE)","v":{"$error":"#REF!"}},"McDowell Named and Created"]
["SM4_r32",{"$f":"VLOOKUP($A455,#REF!,2,FALSE)","v":{"$error":"#REF!"}},{"$f":"VLOOKUP($A455,#REF!,3,FALSE)","v":{"$error":"#REF!"}},"McDowell Named and Created"]
["SM4_r33",{"$f":"VLOOKUP($A456,#REF!,2,FALSE)","v":{"$error":"#REF!"}},{"$f":"VLOOKUP($A456,#REF!,3,FALSE)","v":{"$error":"#REF!"}},"McDowell Named and Created"]
["SM4_r34",{"$f":"VLOOKUP($A457,#REF!,2,FALSE)","v":{"$error":"#REF!"}},{"$f":"VLOOKUP($A457,#REF!,3,FALSE)","v":{"$error":"#REF!"}},"McDowell Named and Created"]
["SM4_r35",{"$f":"VLOOKUP($A458,#REF!,2,FALSE)","v":{"$error":"#REF!"}},{"$f":"VLOOKUP($A458,#REF!,3,FALSE)","v":{"$error":"#REF!"}},"McDowell Named and Created"]
["SM4_r36",{"$f":"VLOOKUP($A459,#REF!,2,FALSE)","v":{"$error":"#REF!"}},{"$f":"VLOOKUP($A459,#REF!,3,FALSE)","v":{"$error":"#REF!"}},"McDowell Named and Created"]
["SM4_r37",{"$f":"VLOOKUP($A460,#REF!,2,FALSE)","v":{"$error":"#REF!"}},{"$f":"VLOOKUP($A460,#REF!,3,FALSE)","v":{"$error":"#REF!"}},"McDowell Named and Created"]
["SM4_r38",{"$f":"VLOOKUP($A461,#REF!,2,FALSE)","v":{"$error":"#REF!"}},{"$f":"VLOOKUP($A461,#REF!,3,FALSE)","v":{"$error":"#REF!"}},"McDowell Named and Created"]
["SM4_r39",{"$f":"VLOOKUP($A462,#REF!,2,FALSE)","v":{"$error":"#REF!"}},{"$f":"VLOOKUP($A462,#REF!,3,FALSE)","v":{"$error":"#REF!"}},"McDowell Named and Created"]
["SM4_r40",{"$f":"VLOOKUP($A463,#REF!,2,FALSE)","v":{"$error":"#REF!"}},{"$f":"VLOOKUP($A463,#REF!,3,FALSE)","v":{"$error":"#REF!"}},"McDowell Named and Created"]
["SM4_r41",{"$f":"VLOOKUP($A464,#REF!,2,FALSE)","v":{"$error":"#REF!"}},{"$f":"VLOOKUP($A464,#REF!,3,FALSE)","v":{"$error":"#REF!"}},"McDowell Named and Created"]
["SM4_r42",{"$f":"VLOOKUP($A465,#REF!,2,FALSE)","v":{"$error":"#REF!"}},{"$f":"VLOOKUP($A465,#REF!,3,FALSE)","v":{"$error":"#REF!"}},"McDowell Named and Created"]
["SM4_r43",{"$f":"VLOOKUP($A466,#REF!,2,FALSE)","v":{"$error":"#REF!"}},{"$f":"VLOOKUP($A466,#REF!,3,FALSE)","v":{"$error":"#REF!"}},"McDowell Named and Created"]
["SM4_r44",{"$f":"VLOOKUP($A467,#REF!,2,FALSE)","v":{"$error":"#REF!"}},{"$f":"VLOOKUP($A467,#REF!,3,FALSE)","v":{"$error":"#REF!"}},"McDowell Named and Created"]
["SM4_r45",{"$f":"VLOOKUP($A468,#REF!,2,FALSE)","v":{"$error":"#REF!"}},{"$f":"VLOOKUP($A468,#REF!,3,FALSE)","v":{"$error":"#REF!"}},"McDowell Named and Created"]
["SM4_r46",{"$f":"VLOOKUP($A469,#REF!,2,FALSE)","v":{"$error":"#REF!"}},{"$f":"VLOOKUP($A469,#REF!,3,FALSE)","v":{"$error":"#REF!"}},"McDowell Named and Created"]
["SM4_r47",{"$f":"VLOOKUP($A470,#REF!,2,FALSE)","v":{"$error":"#REF!"}},{"$f":"VLOOKUP($A470,#REF!,3,FALSE)","v":{"$error":"#REF!"}},"McDowell Named and Created"]
["SM4_r48",{"$f":"VLOOKUP($A471,#REF!,2,FALSE)","v":{"$error":"#REF!"}},{"$f":"VLOOKUP($A471,#REF!,3,FALSE)","v":{"$error":"#REF!"}},"McDowell Named and Created"]
["SM4_r49",{"$f":"VLOOKUP($A472,#REF!,2,FALSE)","v":{"$error":"#REF!"}},{"$f":"VLOOKUP($A472,#REF!,3,FALSE)","v":{"$error":"#REF!"}},"McDowell Named and Created"]
["SM4_r50",{"$f":"VLOOKUP($A473,#REF!,2,FALSE)","v":{"$error":"#REF!"}},{"$f":"VLOOKUP($A473,#REF!,3,FALSE)","v":{"$error":"#REF!"}},"McDowell Named and Created"]
["SM4_r51",{"$f":"VLOOKUP($A474,#REF!,2,FALSE)","v":{"$error":"#REF!"}},{"$f":"VLOOKUP($A474,#REF!,3,FALSE)","v":{"$error":"#REF!"}},"McDowell Named and Created"]
["SM4_r52",{"$f":"VLOOKUP($A475,#REF!,2,FALSE)","v":{"$error":"#REF!"}},{"$f":"VLOOKUP($A475,#REF!,3,FALSE)","v":{"$error":"#REF!"}},"McDowell Named and Created"]
["SM4_r53",{"$f":"VLOOKUP($A476,#REF!,2,FALSE)","v":{"$error":"#REF!"}},{"$f":"VLOOKUP($A476,#REF!,3,FALSE)","v":{"$error":"#REF!"}},"McDowell Named and Created"]
["SM4_r54",{"$f":"VLOOKUP($A477,#REF!,2,FALSE)","v":{"$error":"#REF!"}},{"$f":"VLOOKUP($A477,#REF!,3,FALSE)","v":{"$error":"#REF!"}},"McDowell Named and Created"]
["SM4_r55",{"$f":"VLOOKUP($A478,#REF!,2,FALSE)","v":{"$error":"#REF!"}},{"$f":"VLOOKUP($A478,#REF!,3,FALSE)","v":{"$error":"#REF!"}},"McDowell Named and Created"]
["SM4_r56",{"$f":"VLOOKUP($A479,#REF!,2,FALSE)","v":{"$error":"#REF!"}},{"$f":"VLOOKUP($A479,#REF!,3,FALSE)","v":{"$error":"#REF!"}},"McDowell Named and Created"]
["SM4_r57",{"$f":"VLOOKUP($A480,#REF!,2,FALSE)","v":{"$error":"#REF!"}},{"$f":"VLOOKUP($A480,#REF!,3,FALSE)","v":{"$error":"#REF!"}},"McDowell Named and Created"]
["SM4_r58",{"$f":"VLOOKUP($A481,#REF!,2,FALSE)","v":{"$error":"#REF!"}},{"$f":"VLOOKUP($A481,#REF!,3,FALSE)","v":{"$error":"#REF!"}},"McDowell Named and Created"]
["SM4_r59",{"$f":"VLOOKUP($A482,#REF!,2,FALSE)","v":{"$error":"#REF!"}},{"$f":"VLOOKUP($A482,#REF!,3,FALSE)","v":{"$error":"#REF!"}},"McDowell Named and Created"]
["SM4_r60",{"$f":"VLOOKUP($A483,#REF!,2,FALSE)","v":{"$error":"#REF!"}},{"$f":"VLOOKUP($A483,#REF!,3,FALSE)","v":{"$error":"#REF!"}},"McDowell Named and Created"]
["SM4_r61",{"$f":"VLOOKUP($A484,#REF!,2,FALSE)","v":{"$error":"#REF!"}},{"$f":"VLOOKUP($A484,#REF!,3,FALSE)","v":{"$error":"#REF!"}},"McDowell Named and Created"]
["SM4_r62",{"$f":"VLOOKUP($A485,#REF!,2,FALSE)","v":{"$error":"#REF!"}},{"$f":"VLOOKUP($A485,#REF!,3,FALSE)","v":{"$error":"#REF!"}},"McDowell Named and Created"]
["SM4_r63",{"$f":"VLOOKUP($A486,#REF!,2,FALSE)","v":{"$error":"#REF!"}},{"$f":"VLOOKUP($A486,#REF!,3,FALSE)","v":{"$error":"#REF!"}},"McDowell Named and Created"]
["SM4_r64",{"$f":"VLOOKUP($A487,#REF!,2,FALSE)","v":{"$error":"#REF!"}},{"$f":"VLOOKUP($A487,#REF!,3,FALSE)","v":{"$error":"#REF!"}},"McDowell Named and Created"]
["SM4_r65",{"$f":"VLOOKUP($A488,#REF!,2,FALSE)","v":{"$error":"#REF!"}},{"$f":"VLOOKUP($A488,#REF!,3,FALSE)","v":{"$error":"#REF!"}},"McDowell Named and Created"]
["SM4_r66",{"$f":"VLOOKUP($A489,#REF!,2,FALSE)","v":{"$error":"#REF!"}},{"$f":"VLOOKUP($A489,#REF!,3,FALSE)","v":{"$error":"#REF!"}},"McDowell Named and Created"]
["SM4_r67",{"$f":"VLOOKUP($A490,#REF!,2,FALSE)","v":{"$error":"#REF!"}},{"$f":"VLOOKUP($A490,#REF!,3,FALSE)","v":{"$error":"#REF!"}},"McDowell Named and Created"]
["SM4_r68",{"$f":"VLOOKUP($A491,#REF!,2,FALSE)","v":{"$error":"#REF!"}},{"$f":"VLOOKUP($A491,#REF!,3,FALSE)","v":{"$error":"#REF!"}},"McDowell Named and Created"]
["SM4_r69",{"$f":"VLOOKUP($A492,#REF!,2,FALSE)","v":{"$error":"#REF!"}},{"$f":"VLOOKUP($A492,#REF!,3,FALSE)","v":{"$error":"#REF!"}},"McDowell Named and Created"]
["SM4_r70",{"$f":"VLOOKUP($A493,#REF!,2,FALSE)","v":{"$error":"#REF!"}},{"$f":"VLOOKUP($A493,#REF!,3,FALSE)","v":{"$error":"#REF!"}},"McDowell Named and Created"]
["SM4_r71",{"$f":"VLOOKUP($A494,#REF!,2,FALSE)","v":{"$error":"#REF!"}},{"$f":"VLOOKUP($A494,#REF!,3,FALSE)","v":{"$error":"#REF!"}},"McDowell Named and Created"]
["SM4_r72",{"$f":"VLOOKUP($A495,#REF!,2,FALSE)","v":{"$error":"#REF!"}},{"$f":"VLOOKUP($A495,#REF!,3,FALSE)","v":{"$error":"#REF!"}},"McDowell Named and Created"]
["SM4_r73",{"$f":"VLOOKUP($A496,#REF!,2,FALSE)","v":{"$error":"#REF!"}},{"$f":"VLOOKUP($A496,#REF!,3,FALSE)","v":{"$error":"#REF!"}},"McDowell Named and Created"]
["SM4_r74",{"$f":"VLOOKUP($A497,#REF!,2,FALSE)","v":{"$error":"#REF!"}},{"$f":"VLOOKUP($A497,#REF!,3,FALSE)","v":{"$error":"#REF!"}},"McDowell Named and Created"]
["SM4_r75",{"$f":"VLOOKUP($A498,#REF!,2,FALSE)","v":{"$error":"#REF!"}},{"$f":"VLOOKUP($A498,#REF!,3,FALSE)","v":{"$error":"#REF!"}},"McDowell Named and Created"]
["SM4_r76",{"$f":"VLOOKUP($A499,#REF!,2,FALSE)","v":{"$error":"#REF!"}},{"$f":"VLOOKUP($A499,#REF!,3,FALSE)","v":{"$error":"#REF!"}},"McDowell Named and Created"]
["SM4_r77",{"$f":"VLOOKUP($A500,#REF!,2,FALSE)","v":{"$error":"#REF!"}},{"$f":"VLOOKUP($A500,#REF!,3,FALSE)","v":{"$error":"#REF!"}},"McDowell Named and Created"]
["SM4_r78",{"$f":"VLOOKUP($A501,#REF!,2,FALSE)","v":{"$error":"#REF!"}},{"$f":"VLOOKUP($A501,#REF!,3,FALSE)","v":{"$error":"#REF!"}},"McDowell Named and Created"]
["SM4_r79",{"$f":"VLOOKUP($A502,#REF!,2,FALSE)","v":{"$error":"#REF!"}},{"$f":"VLOOKUP($A502,#REF!,3,FALSE)","v":{"$error":"#REF!"}},"McDowell Named and Created"]
["SM4_r80",{"$f":"VLOOKUP($A503,#REF!,2,FALSE)","v":{"$error":"#REF!"}},{"$f":"VLOOKUP($A503,#REF!,3,FALSE)","v":{"$error":"#REF!"}},"McDowell Named and Created"]
["SM4_r81",{"$f":"VLOOKUP($A504,#REF!,2,FALSE)","v":{"$error":"#REF!"}},{"$f":"VLOOKUP($A504,#REF!,3,FALSE)","v":{"$error":"#REF!"}},"McDowell Named and Created"]
["SM4_r82",{"$f":"VLOOKUP($A505,#REF!,2,FALSE)","v":{"$error":"#REF!"}},{"$f":"VLOOKUP($A505,#REF!,3,FALSE)","v":{"$error":"#REF!"}},"McDowell Named and Created"]
["SM4_r83",{"$f":"VLOOKUP($A506,#REF!,2,FALSE)","v":{"$error":"#REF!"}},{"$f":"VLOOKUP($A506,#REF!,3,FALSE)","v":{"$error":"#REF!"}},"McDowell Named and Created"]
["SM4_r84",{"$f":"VLOOKUP($A507,#REF!,2,FALSE)","v":{"$error":"#REF!"}},{"$f":"VLOOKUP($A507,#REF!,3,FALSE)","v":{"$error":"#REF!"}},"McDowell Named and Created"]
["SM4_r85",{"$f":"VLOOKUP($A508,#REF!,2,FALSE)","v":{"$error":"#REF!"}},{"$f":"VLOOKUP($A508,#REF!,3,FALSE)","v":{"$error":"#REF!"}},"McDowell Named and Created"]
["SM4_r86",{"$f":"VLOOKUP($A509,#REF!,2,FALSE)","v":{"$error":"#REF!"}},{"$f":"VLOOKUP($A509,#REF!,3,FALSE)","v":{"$error":"#REF!"}},"McDowell Named and Created"]
["SM4_r87",{"$f":"VLOOKUP($A510,#REF!,2,FALSE)","v":{"$error":"#REF!"}},{"$f":"VLOOKUP($A510,#REF!,3,FALSE)","v":{"$error":"#REF!"}},"McDowell Named and Created"]
["SM4_r88",{"$f":"VLOOKUP($A511,#REF!,2,FALSE)","v":{"$error":"#REF!"}},{"$f":"VLOOKUP($A511,#REF!,3,FALSE)","v":{"$error":"#REF!"}},"McDowell Named and Created"]
["SM4_r89",{"$f":"VLOOKUP($A512,#REF!,2,FALSE)","v":{"$error":"#REF!"}},{"$f":"VLOOKUP($A512,#REF!,3,FALSE)","v":{"$error":"#REF!"}},"McDowell Named and Created"]
["SM4_r90",{"$f":"VLOOKUP($A513,#REF!,2,FALSE)","v":{"$error":"#REF!"}},{"$f":"VLOOKUP($A513,#REF!,3,FALSE)","v":{"$error":"#REF!"}},"McDowell Named and Created"]
["SM4_r91",{"$f":"VLOOKUP($A514,#REF!,2,FALSE)","v":{"$error":"#REF!"}},{"$f":"VLOOKUP($A514,#REF!,3,FALSE)","v":{"$error":"#REF!"}},"McDowell Named and Created"]
["SM4_r92",{"$f":"VLOOKUP($A515,#REF!,2,FALSE)","v":{"$error":"#REF!"}},{"$f":"VLOOKUP($A515,#REF!,3,FALSE)","v":{"$error":"#REF!"}},"McDowell Named and Created"]
["SM4_r93",{"$f":"VLOOKUP($A516,#REF!,2,FALSE)","v":{"$error":"#REF!"}},{"$f":"VLOOKUP($A516,#REF!,3,FALSE)","v":{"$error":"#REF!"}},"McDowell Named and Created"]
["SM4_r94",{"$f":"VLOOKUP($A517,#REF!,2,FALSE)","v":{"$error":"#REF!"}},{"$f":"VLOOKUP($A517,#REF!,3,FALSE)","v":{"$error":"#REF!"}},"McDowell Named and Created"]
["SM4_r95",{"$f":"VLOOKUP($A518,#REF!,2,FALSE)","v":{"$error":"#REF!"}},{"$f":"VLOOKUP($A518,#REF!,3,FALSE)","v":{"$error":"#REF!"}},"McDowell Named and Created"]
["SM4_r96",{"$f":"VLOOKUP($A519,#REF!,2,FALSE)","v":{"$error":"#REF!"}},{"$f":"VLOOKUP($A519,#REF!,3,FALSE)","v":{"$error":"#REF!"}},"McDowell Named and Created"]
["SM4_r97",{"$f":"VLOOKUP($A520,#REF!,2,FALSE)","v":{"$error":"#REF!"}},{"$f":"VLOOKUP($A520,#REF!,3,FALSE)","v":{"$error":"#REF!"}},"McDowell Named and Created"]
["SM4_r98",{"$f":"VLOOKUP($A521,#REF!,2,FALSE)","v":{"$error":"#REF!"}},{"$f":"VLOOKUP($A521,#REF!,3,FALSE)","v":{"$error":"#REF!"}},"McDowell Named and Created"]
["SM4_r99",{"$f":"VLOOKUP($A522,#REF!,2,FALSE)","v":{"$error":"#REF!"}},{"$f":"VLOOKUP($A522,#REF!,3,FALSE)","v":{"$error":"#REF!"}},"McDowell Named and Created"]
["SM4_r100",{"$f":"VLOOKUP($A523,#REF!,2,FALSE)","v":{"$error":"#REF!"}},{"$f":"VLOOKUP($A523,#REF!,3,FALSE)","v":{"$error":"#REF!"}},"McDowell Named and Created"]
["SM4_r101",{"$f":"VLOOKUP($A524,#REF!,2,FALSE)","v":{"$error":"#REF!"}},{"$f":"VLOOKUP($A524,#REF!,3,FALSE)","v":{"$error":"#REF!"}},"McDowell Named and Created"]
["SM4_r102",{"$f":"VLOOKUP($A525,#REF!,2,FALSE)","v":{"$error":"#REF!"}},{"$f":"VLOOKUP($A525,#REF!,3,FALSE)","v":{"$error":"#REF!"}},"McDowell Named and Created"]
["SM4_r103",{"$f":"VLOOKUP($A526,#REF!,2,FALSE)","v":{"$error":"#REF!"}},{"$f":"VLOOKUP($A526,#REF!,3,FALSE)","v":{"$error":"#REF!"}},"McDowell Named and Created"]
["SM4_r104",{"$f":"VLOOKUP($A527,#REF!,2,FALSE)","v":{"$error":"#REF!"}},{"$f":"VLOOKUP($A527,#REF!,3,FALSE)","v":{"$error":"#REF!"}},"McDowell Named and Created"]
["SM4_r105",{"$f":"VLOOKUP($A528,#REF!,2,FALSE)","v":{"$error":"#REF!"}},{"$f":"VLOOKUP($A528,#REF!,3,FALSE)","v":{"$error":"#REF!"}},"McDowell Named and Created"]
["SM4_r106",{"$f":"VLOOKUP($A529,#REF!,2,FALSE)","v":{"$error":"#REF!"}},{"$f":"VLOOKUP($A529,#REF!,3,FALSE)","v":{"$error":"#REF!"}},"McDowell Named and Created"]
["SM4_r107",{"$f":"VLOOKUP($A530,#REF!,2,FALSE)","v":{"$error":"#REF!"}},{"$f":"VLOOKUP($A530,#REF!,3,FALSE)","v":{"$error":"#REF!"}},"McDowell Named and Created"]
["SM4_r108",{"$f":"VLOOKUP($A531,#REF!,2,FALSE)","v":{"$error":"#REF!"}},{"$f":"VLOOKUP($A531,#REF!,3,FALSE)","v":{"$error":"#REF!"}},"McDowell Named and Created"]
["SM4_r109",{"$f":"VLOOKUP($A532,#REF!,2,FALSE)","v":{"$error":"#REF!"}},{"$f":"VLOOKUP($A532,#REF!,3,FALSE)","v":{"$error":"#REF!"}},"McDowell Named and Created"]
["SM4_r110",{"$f":"VLOOKUP($A533,#REF!,2,FALSE)","v":{"$error":"#REF!"}},{"$f":"VLOOKUP($A533,#REF!,3,FALSE)","v":{"$error":"#REF!"}},"McDowell Named and Created"]
["SM4_r111",{"$f":"VLOOKUP($A534,#REF!,2,FALSE)","v":{"$error":"#REF!"}},{"$f":"VLOOKUP($A534,#REF!,3,FALSE)","v":{"$error":"#REF!"}},"McDowell Named and Created"]
["SM4_r112",{"$f":"VLOOKUP($A535,#REF!,2,FALSE)","v":{"$error":"#REF!"}},{"$f":"VLOOKUP($A535,#REF!,3,FALSE)","v":{"$error":"#REF!"}},"McDowell Named and Created"]
["SM4_r113",{"$f":"VLOOKUP($A536,#REF!,2,FALSE)","v":{"$error":"#REF!"}},{"$f":"VLOOKUP($A536,#REF!,3,FALSE)","v":{"$error":"#REF!"}},"McDowell Named and Created"]
["SM4_r114",{"$f":"VLOOKUP($A537,#REF!,2,FALSE)","v":{"$error":"#REF!"}},{"$f":"VLOOKUP($A537,#REF!,3,FALSE)","v":{"$error":"#REF!"}},"McDowell Named and Created"]
["SM4_r115",{"$f":"VLOOKUP($A538,#REF!,2,FALSE)","v":{"$error":"#REF!"}},{"$f":"VLOOKUP($A538,#REF!,3,FALSE)","v":{"$error":"#REF!"}},"McDowell Named and Created"]
["SM4_r116",{"$f":"VLOOKUP($A539,#REF!,2,FALSE)","v":{"$error":"#REF!"}},{"$f":"VLOOKUP($A539,#REF!,3,FALSE)","v":{"$error":"#REF!"}},"McDowell Named and Created"]
["SM4_r117",{"$f":"VLOOKUP($A540,#REF!,2,FALSE)","v":{"$error":"#REF!"}},{"$f":"VLOOKUP($A540,#REF!,3,FALSE)","v":{"$error":"#REF!"}},"McDowell Named and Created"]
["SM4_r118",{"$f":"VLOOKUP($A541,#REF!,2,FALSE)","v":{"$error":"#REF!"}},{"$f":"VLOOKUP($A541,#REF!,3,FALSE)","v":{"$error":"#REF!"}},"McDowell Named and Created"]
["SM4_r119",{"$f":"VLOOKUP($A542,#REF!,2,FALSE)","v":{"$error":"#REF!"}},{"$f":"VLOOKUP($A542,#REF!,3,FALSE)","v":{"$error":"#REF!"}},"McDowell Named and Created"]
["SM4_r120",{"$f":"VLOOKUP($A543,#REF!,2,FALSE)","v":{"$error":"#REF!"}},{"$f":"VLOOKUP($A543,#REF!,3,FALSE)","v":{"$error":"#REF!"}},"McDowell Named and Created"]
["SM5_r1",{"$f":"VLOOKUP($A544,#REF!,2,FALSE)","v":{"$error":"#REF!"}},{"$f":"VLOOKUP($A544,#REF!,3,FALSE)","v":{"$error":"#REF!"}},"McDowell Named and Created"]
["SM5_r2",{"$f":"VLOOKUP($A545,#REF!,2,FALSE)","v":{"$error":"#REF!"}},{"$f":"VLOOKUP($A545,#REF!,3,FALSE)","v":{"$error":"#REF!"}},"McDowell Named and Created"]
["SM5_r3",{"$f":"VLOOKUP($A546,#REF!,2,FALSE)","v":{"$error":"#REF!"}},{"$f":"VLOOKUP($A546,#REF!,3,FALSE)","v":{"$error":"#REF!"}},"McDowell Named and Created"]
["SM5_r4",{"$f":"VLOOKUP($A547,#REF!,2,FALSE)","v":{"$error":"#REF!"}},{"$f":"VLOOKUP($A547,#REF!,3,FALSE)","v":{"$error":"#REF!"}},"McDowell Named and Created"]
["SM5_r5",{"$f":"VLOOKUP($A548,#REF!,2,FALSE)","v":{"$error":"#REF!"}},{"$f":"VLOOKUP($A548,#REF!,3,FALSE)","v":{"$error":"#REF!"}},"McDowell Named and Created"]
["SM5_r6",{"$f":"VLOOKUP($A549,#REF!,2,FALSE)","v":{"$error":"#REF!"}},{"$f":"VLOOKUP($A549,#REF!,3,FALSE)","v":{"$error":"#REF!"}},"McDowell Named and Created"]
["SM5_r7",{"$f":"VLOOKUP($A550,#REF!,2,FALSE)","v":{"$error":"#REF!"}},{"$f":"VLOOKUP($A550,#REF!,3,FALSE)","v":{"$error":"#REF!"}},"McDowell Named and Created"]
["SM5_r8",{"$f":"VLOOKUP($A551,#REF!,2,FALSE)","v":{"$error":"#REF!"}},{"$f":"VLOOKUP($A551,#REF!,3,FALSE)","v":{"$error":"#REF!"}},"McDowell Named and Created"]
["SM5_r9",{"$f":"VLOOKUP($A552,#REF!,2,FALSE)","v":{"$error":"#REF!"}},{"$f":"VLOOKUP($A552,#REF!,3,FALSE)","v":{"$error":"#REF!"}},"McDowell Named and Created"]
["SM5_r10",{"$f":"VLOOKUP($A553,#REF!,2,FALSE)","v":{"$error":"#REF!"}},{"$f":"VLOOKUP($A553,#REF!,3,FALSE)","v":{"$error":"#REF!"}},"McDowell Named and Created"]
["SM5_r11",{"$f":"VLOOKUP($A554,#REF!,2,FALSE)","v":{"$error":"#REF!"}},{"$f":"VLOOKUP($A554,#REF!,3,FALSE)","v":{"$error":"#REF!"}},"McDowell Named and Created"]
["SM5_r12",{"$f":"VLOOKUP($A555,#REF!,2,FALSE)","v":{"$error":"#REF!"}},{"$f":"VLOOKUP($A555,#REF!,3,FALSE)","v":{"$error":"#REF!"}},"McDowell Named and Created"]
["SM5_r13",{"$f":"VLOOKUP($A556,#REF!,2,FALSE)","v":{"$error":"#REF!"}},{"$f":"VLOOKUP($A556,#REF!,3,FALSE)","v":{"$error":"#REF!"}},"McDowell Named and Created"]
["SM5_r14",{"$f":"VLOOKUP($A557,#REF!,2,FALSE)","v":{"$error":"#REF!"}},{"$f":"VLOOKUP($A557,#REF!,3,FALSE)","v":{"$error":"#REF!"}},"McDowell Named and Created"]
["SM5_r15",{"$f":"VLOOKUP($A558,#REF!,2,FALSE)","v":{"$error":"#REF!"}},{"$f":"VLOOKUP($A558,#REF!,3,FALSE)","v":{"$error":"#REF!"}},"McDowell Named and Created"]
["SM5_r16",{"$f":"VLOOKUP($A559,#REF!,2,FALSE)","v":{"$error":"#REF!"}},{"$f":"VLOOKUP($A559,#REF!,3,FALSE)","v":{"$error":"#REF!"}},"McDowell Named and Created"]
["SM5_r17",{"$f":"VLOOKUP($A560,#REF!,2,FALSE)","v":{"$error":"#REF!"}},{"$f":"VLOOKUP($A560,#REF!,3,FALSE)","v":{"$error":"#REF!"}},"McDowell Named and Created"]
["SM5_r18",{"$f":"VLOOKUP($A561,#REF!,2,FALSE)","v":{"$error":"#REF!"}},{"$f":"VLOOKUP($A561,#REF!,3,FALSE)","v":{"$error":"#REF!"}},"McDowell Named and Created"]
["SM5_r19",{"$f":"VLOOKUP($A562,#REF!,2,FALSE)","v":{"$error":"#REF!"}},{"$f":"VLOOKUP($A562,#REF!,3,FALSE)","v":{"$error":"#REF!"}},"McDowell Named and Created"]
["SM5_r20",{"$f":"VLOOKUP($A563,#REF!,2,FALSE)","v":{"$error":"#REF!"}},{"$f":"VLOOKUP($A563,#REF!,3,FALSE)","v":{"$error":"#REF!"}},"McDowell Named and Created"]
["SM5_r21",{"$f":"VLOOKUP($A564,#REF!,2,FALSE)","v":{"$error":"#REF!"}},{"$f":"VLOOKUP($A564,#REF!,3,FALSE)","v":{"$error":"#REF!"}},"McDowell Named and Created"]
["SM5_r22",{"$f":"VLOOKUP($A565,#REF!,2,FALSE)","v":{"$error":"#REF!"}},{"$f":"VLOOKUP($A565,#REF!,3,FALSE)","v":{"$error":"#REF!"}},"McDowell Named and Created"]
["SM5_r23",{"$f":"VLOOKUP($A566,#REF!,2,FALSE)","v":{"$error":"#REF!"}},{"$f":"VLOOKUP($A566,#REF!,3,FALSE)","v":{"$error":"#REF!"}},"McDowell Named and Created"]
["SM5_r24",{"$f":"VLOOKUP($A567,#REF!,2,FALSE)","v":{"$error":"#REF!"}},{"$f":"VLOOKUP($A567,#REF!,3,FALSE)","v":{"$error":"#REF!"}},"McDowell Named and Created"]
["SM5_r25",{"$f":"VLOOKUP($A568,#REF!,2,FALSE)","v":{"$error":"#REF!"}},{"$f":"VLOOKUP($A568,#REF!,3,FALSE)","v":{"$error":"#REF!"}},"McDowell Named and Created"]
["SM5_r26",{"$f":"VLOOKUP($A569,#REF!,2,FALSE)","v":{"$error":"#REF!"}},{"$f":"VLOOKUP($A569,#REF!,3,FALSE)","v":{"$error":"#REF!"}},"McDowell Named and Created"]
["SM5_r27",{"$f":"VLOOKUP($A570,#REF!,2,FALSE)","v":{"$error":"#REF!"}},{"$f":"VLOOKUP($A570,#REF!,3,FALSE)","v":{"$error":"#REF!"}},"McDowell Named and Created"]
["SM5_r28",{"$f":"VLOOKUP($A571,#REF!,2,FALSE)","v":{"$error":"#REF!"}},{"$f":"VLOOKUP($A571,#REF!,3,FALSE)","v":{"$error":"#REF!"}},"McDowell Named and Created"]
["SM5_r29",{"$f":"VLOOKUP($A572,#REF!,2,FALSE)","v":{"$error":"#REF!"}},{"$f":"VLOOKUP($A572,#REF!,3,FALSE)","v":{"$error":"#REF!"}},"McDowell Named and Created"]
["SM5_r30",{"$f":"VLOOKUP($A573,#REF!,2,FALSE)","v":{"$error":"#REF!"}},{"$f":"VLOOKUP($A573,#REF!,3,FALSE)","v":{"$error":"#REF!"}},"McDowell Named and Created"]
["SM5_r31",{"$f":"VLOOKUP($A574,#REF!,2,FALSE)","v":{"$error":"#REF!"}},{"$f":"VLOOKUP($A574,#REF!,3,FALSE)","v":{"$error":"#REF!"}},"McDowell Named and Created"]
["SM5_r32",{"$f":"VLOOKUP($A575,#REF!,2,FALSE)","v":{"$error":"#REF!"}},{"$f":"VLOOKUP($A575,#REF!,3,FALSE)","v":{"$error":"#REF!"}},"McDowell Named and Created"]
["SM5_r33",{"$f":"VLOOKUP($A576,#REF!,2,FALSE)","v":{"$error":"#REF!"}},{"$f":"VLOOKUP($A576,#REF!,3,FALSE)","v":{"$error":"#REF!"}},"McDowell Named and Created"]
["SM5_r34",{"$f":"VLOOKUP($A577,#REF!,2,FALSE)","v":{"$error":"#REF!"}},{"$f":"VLOOKUP($A577,#REF!,3,FALSE)","v":{"$error":"#REF!"}},"McDowell Named and Created"]
["SM5_r35",{"$f":"VLOOKUP($A578,#REF!,2,FALSE)","v":{"$error":"#REF!"}},{"$f":"VLOOKUP($A578,#REF!,3,FALSE)","v":{"$error":"#REF!"}},"McDowell Named and Created"]
["SM5_r36",{"$f":"VLOOKUP($A579,#REF!,2,FALSE)","v":{"$error":"#REF!"}},{"$f":"VLOOKUP($A579,#REF!,3,FALSE)","v":{"$error":"#REF!"}},"McDowell Named and Created"]
["SM5_r37",{"$f":"VLOOKUP($A580,#REF!,2,FALSE)","v":{"$error":"#REF!"}},{"$f":"VLOOKUP($A580,#REF!,3,FALSE)","v":{"$error":"#REF!"}},"McDowell Named and Created"]
["SM5_r38",{"$f":"VLOOKUP($A581,#REF!,2,FALSE)","v":{"$error":"#REF!"}},{"$f":"VLOOKUP($A581,#REF!,3,FALSE)","v":{"$error":"#REF!"}},"McDowell Named and Created"]
["SM5_r39",{"$f":"VLOOKUP($A582,#REF!,2,FALSE)","v":{"$error":"#REF!"}},{"$f":"VLOOKUP($A582,#REF!,3,FALSE)","v":{"$error":"#REF!"}},"McDowell Named and Created"]
["SM5_r40",{"$f":"VLOOKUP($A583,#REF!,2,FALSE)","v":{"$error":"#REF!"}},{"$f":"VLOOKUP($A583,#REF!,3,FALSE)","v":{"$error":"#REF!"}},"McDowell Named and Created"]
["SM5_r41",{"$f":"VLOOKUP($A584,#REF!,2,FALSE)","v":{"$error":"#REF!"}},{"$f":"VLOOKUP($A584,#REF!,3,FALSE)","v":{"$error":"#REF!"}},"McDowell Named and Created"]
["SM5_r42",{"$f":"VLOOKUP($A585,#REF!,2,FALSE)","v":{"$error":"#REF!"}},{"$f":"VLOOKUP($A585,#REF!,3,FALSE)","v":{"$error":"#REF!"}},"McDowell Named and Created"]
["SM5_r43",{"$f":"VLOOKUP($A586,#REF!,2,FALSE)","v":{"$error":"#REF!"}},{"$f":"VLOOKUP($A586,#REF!,3,FALSE)","v":{"$error":"#REF!"}},"McDowell Named and Created"]
["SM5_r44",{"$f":"VLOOKUP($A587,#REF!,2,FALSE)","v":{"$error":"#REF!"}},{"$f":"VLOOKUP($A587,#REF!,3,FALSE)","v":{"$error":"#REF!"}},"McDowell Named and Created"]
["SM5_r45",{"$f":"VLOOKUP($A588,#REF!,2,FALSE)","v":{"$error":"#REF!"}},{"$f":"VLOOKUP($A588,#REF!,3,FALSE)","v":{"$error":"#REF!"}},"McDowell Named and Created"]
["SM5_r46",{"$f":"VLOOKUP($A589,#REF!,2,FALSE)","v":{"$error":"#REF!"}},{"$f":"VLOOKUP($A589,#REF!,3,FALSE)","v":{"$error":"#REF!"}},"McDowell Named and Created"]
["SM5_r47",{"$f":"VLOOKUP($A590,#REF!,2,FALSE)","v":{"$error":"#REF!"}},{"$f":"VLOOKUP($A590,#REF!,3,FALSE)","v":{"$error":"#REF!"}},"McDowell Named and Created"]
["SM5_r48",{"$f":"VLOOKUP($A591,#REF!,2,FALSE)","v":{"$error":"#REF!"}},{"$f":"VLOOKUP($A591,#REF!,3,FALSE)","v":{"$error":"#REF!"}},"McDowell Named and Created"]
["SM5_r49",{"$f":"VLOOKUP($A592,#REF!,2,FALSE)","v":{"$error":"#REF!"}},{"$f":"VLOOKUP($A592,#REF!,3,FALSE)","v":{"$error":"#REF!"}},"McDowell Named and Created"]
["SM5_r50",{"$f":"VLOOKUP($A593,#REF!,2,FALSE)","v":{"$error":"#REF!"}},{"$f":"VLOOKUP($A593,#REF!,3,FALSE)","v":{"$error":"#REF!"}},"McDowell Named and Created"]
["SM5_r51",{"$f":"VLOOKUP($A594,#REF!,2,FALSE)","v":{"$error":"#REF!"}},{"$f":"VLOOKUP($A594,#REF!,3,FALSE)","v":{"$error":"#REF!"}},"McDowell Named and Created"]
["SM5_r52",{"$f":"VLOOKUP($A595,#REF!,2,FALSE)","v":{"$error":"#REF!"}},{"$f":"VLOOKUP($A595,#REF!,3,FALSE)","v":{"$error":"#REF!"}},"McDowell Named and Created"]
["SM5_r53",{"$f":"VLOOKUP($A596,#REF!,2,FALSE)","v":{"$error":"#REF!"}},{"$f":"VLOOKUP($A596,#REF!,3,FALSE)","v":{"$error":"#REF!"}},"McDowell Named and Created"]
["SM5_r54",{"$f":"VLOOKUP($A597,#REF!,2,FALSE)","v":{"$error":"#REF!"}},{"$f":"VLOOKUP($A597,#REF!,3,FALSE)","v":{"$error":"#REF!"}},"McDowell Named and Created"]
["SM5_r55",{"$f":"VLOOKUP($A598,#REF!,2,FALSE)","v":{"$error":"#REF!"}},{"$f":"VLOOKUP($A598,#REF!,3,FALSE)","v":{"$error":"#REF!"}},"McDowell Named and Created"]
["SM5_r56",{"$f":"VLOOKUP($A599,#REF!,2,FALSE)","v":{"$error":"#REF!"}},{"$f":"VLOOKUP($A599,#REF!,3,FALSE)","v":{"$error":"#REF!"}},"McDowell Named and Created"]
["SM5_r57",{"$f":"VLOOKUP($A600,#REF!,2,FALSE)","v":{"$error":"#REF!"}},{"$f":"VLOOKUP($A600,#REF!,3,FALSE)","v":{"$error":"#REF!"}},"McDowell Named and Created"]
["SM5_r58",{"$f":"VLOOKUP($A601,#REF!,2,FALSE)","v":{"$error":"#REF!"}},{"$f":"VLOOKUP($A601,#REF!,3,FALSE)","v":{"$error":"#REF!"}},"McDowell Named and Created"]
["SM5_r59",{"$f":"VLOOKUP($A602,#REF!,2,FALSE)","v":{"$error":"#REF!"}},{"$f":"VLOOKUP($A602,#REF!,3,FALSE)","v":{"$error":"#REF!"}},"McDowell Named and Created"]
["SM5_r60",{"$f":"VLOOKUP($A603,#REF!,2,FALSE)","v":{"$error":"#REF!"}},{"$f":"VLOOKUP($A603,#REF!,3,FALSE)","v":{"$error":"#REF!"}},"McDowell Named and Created"]
["SM5_r61",{"$f":"VLOOKUP($A604,#REF!,2,FALSE)","v":{"$error":"#REF!"}},{"$f":"VLOOKUP($A604,#REF!,3,FALSE)","v":{"$error":"#REF!"}},"McDowell Named and Created"]
["SM5_r62",{"$f":"VLOOKUP($A605,#REF!,2,FALSE)","v":{"$error":"#REF!"}},{"$f":"VLOOKUP($A605,#REF!,3,FALSE)","v":{"$error":"#REF!"}},"McDowell Named and Created"]
["SM5_r63",{"$f":"VLOOKUP($A606,#REF!,2,FALSE)","v":{"$error":"#REF!"}},{"$f":"VLOOKUP($A606,#REF!,3,FALSE)","v":{"$error":"#REF!"}},"McDowell Named and Created"]
["SM5_r64",{"$f":"VLOOKUP($A607,#REF!,2,FALSE)","v":{"$error":"#REF!"}},{"$f":"VLOOKUP($A607,#REF!,3,FALSE)","v":{"$error":"#REF!"}},"McDowell Named and Created"]
["SM5_r65",{"$f":"VLOOKUP($A608,#REF!,2,FALSE)","v":{"$error":"#REF!"}},{"$f":"VLOOKUP($A608,#REF!,3,FALSE)","v":{"$error":"#REF!"}},"McDowell Named and Created"]
["SM5_r66",{"$f":"VLOOKUP($A609,#REF!,2,FALSE)","v":{"$error":"#REF!"}},{"$f":"VLOOKUP($A609,#REF!,3,FALSE)","v":{"$error":"#REF!"}},"McDowell Named and Created"]
["SM5_r67",{"$f":"VLOOKUP($A610,#REF!,2,FALSE)","v":{"$error":"#REF!"}},{"$f":"VLOOKUP($A610,#REF!,3,FALSE)","v":{"$error":"#REF!"}},"McDowell Named and Created"]
["SM5_r68",{"$f":"VLOOKUP($A611,#REF!,2,FALSE)","v":{"$error":"#REF!"}},{"$f":"VLOOKUP($A611,#REF!,3,FALSE)","v":{"$error":"#REF!"}},"McDowell Named and Created"]
["SM5_r69",{"$f":"VLOOKUP($A612,#REF!,2,FALSE)","v":{"$error":"#REF!"}},{"$f":"VLOOKUP($A612,#REF!,3,FALSE)","v":{"$error":"#REF!"}},"McDowell Named and Created"]
["SM5_r70",{"$f":"VLOOKUP($A613,#REF!,2,FALSE)","v":{"$error":"#REF!"}},{"$f":"VLOOKUP($A613,#REF!,3,FALSE)","v":{"$error":"#REF!"}},"McDowell Named and Created"]
["SM5_r71",{"$f":"VLOOKUP($A614,#REF!,2,FALSE)","v":{"$error":"#REF!"}},{"$f":"VLOOKUP($A614,#REF!,3,FALSE)","v":{"$error":"#REF!"}},"McDowell Named and Created"]
["SM5_r72",{"$f":"VLOOKUP($A615,#REF!,2,FALSE)","v":{"$error":"#REF!"}},{"$f":"VLOOKUP($A615,#REF!,3,FALSE)","v":{"$error":"#REF!"}},"McDowell Named and Created"]
["SM5_r73",{"$f":"VLOOKUP($A616,#REF!,2,FALSE)","v":{"$error":"#REF!"}},{"$f":"VLOOKUP($A616,#REF!,3,FALSE)","v":{"$error":"#REF!"}},"McDowell Named and Created"]
["SM5_r74",{"$f":"VLOOKUP($A617,#REF!,2,FALSE)","v":{"$error":"#REF!"}},{"$f":"VLOOKUP($A617,#REF!,3,FALSE)","v":{"$error":"#REF!"}},"McDowell Named and Created"]
["SM5_r75",{"$f":"VLOOKUP($A618,#REF!,2,FALSE)","v":{"$error":"#REF!"}},{"$f":"VLOOKUP($A618,#REF!,3,FALSE)","v":{"$error":"#REF!"}},"McDowell Named and Created"]
["SM5_r76",{"$f":"VLOOKUP($A619,#REF!,2,FALSE)","v":{"$error":"#REF!"}},{"$f":"VLOOKUP($A619,#REF!,3,FALSE)","v":{"$error":"#REF!"}},"McDowell Named and Created"]
["SM5_r77",{"$f":"VLOOKUP($A620,#REF!,2,FALSE)","v":{"$error":"#REF!"}},{"$f":"VLOOKUP($A620,#REF!,3,FALSE)","v":{"$error":"#REF!"}},"McDowell Named and Created"]
["SM5_r78",{"$f":"VLOOKUP($A621,#REF!,2,FALSE)","v":{"$error":"#REF!"}},{"$f":"VLOOKUP($A621,#REF!,3,FALSE)","v":{"$error":"#REF!"}},"McDowell Named and Created"]
["SM5_r79",{"$f":"VLOOKUP($A622,#REF!,2,FALSE)","v":{"$error":"#REF!"}},{"$f":"VLOOKUP($A622,#REF!,3,FALSE)","v":{"$error":"#REF!"}},"McDowell Named and Created"]
["SM5_r80",{"$f":"VLOOKUP($A623,#REF!,2,FALSE)","v":{"$error":"#REF!"}},{"$f":"VLOOKUP($A623,#REF!,3,FALSE)","v":{"$error":"#REF!"}},"McDowell Named and Created"]
["SM5_r81",{"$f":"VLOOKUP($A624,#REF!,2,FALSE)","v":{"$error":"#REF!"}},{"$f":"VLOOKUP($A624,#REF!,3,FALSE)","v":{"$error":"#REF!"}},"McDowell Named and Created"]
["SM5_r82",{"$f":"VLOOKUP($A625,#REF!,2,FALSE)","v":{"$error":"#REF!"}},{"$f":"VLOOKUP($A625,#REF!,3,FALSE)","v":{"$error":"#REF!"}},"McDowell Named and Created"]
["SM5_r83",{"$f":"VLOOKUP($A626,#REF!,2,FALSE)","v":{"$error":"#REF!"}},{"$f":"VLOOKUP($A626,#REF!,3,FALSE)","v":{"$error":"#REF!"}},"McDowell Named and Created"]
["SM5_r84",{"$f":"VLOOKUP($A627,#REF!,2,FALSE)","v":{"$error":"#REF!"}},{"$f":"VLOOKUP($A627,#REF!,3,FALSE)","v":{"$error":"#REF!"}},"McDowell Named and Created"]
["SM5_r85",{"$f":"VLOOKUP($A628,#REF!,2,FALSE)","v":{"$error":"#REF!"}},{"$f":"VLOOKUP($A628,#REF!,3,FALSE)","v":{"$error":"#REF!"}},"McDowell Named and Created"]
["SM5_r86",{"$f":"VLOOKUP($A629,#REF!,2,FALSE)","v":{"$error":"#REF!"}},{"$f":"VLOOKUP($A629,#REF!,3,FALSE)","v":{"$error":"#REF!"}},"McDowell Named and Created"]
["SM5_r87",{"$f":"VLOOKUP($A630,#REF!,2,FALSE)","v":{"$error":"#REF!"}},{"$f":"VLOOKUP($A630,#REF!,3,FALSE)","v":{"$error":"#REF!"}},"McDowell Named and Created"]
["SM5_r88",{"$f":"VLOOKUP($A631,#REF!,2,FALSE)","v":{"$error":"#REF!"}},{"$f":"VLOOKUP($A631,#REF!,3,FALSE)","v":{"$error":"#REF!"}},"McDowell Named and Created"]
["SM5_r89",{"$f":"VLOOKUP($A632,#REF!,2,FALSE)","v":{"$error":"#REF!"}},{"$f":"VLOOKUP($A632,#REF!,3,FALSE)","v":{"$error":"#REF!"}},"McDowell Named and Created"]
["SM5_r90",{"$f":"VLOOKUP($A633,#REF!,2,FALSE)","v":{"$error":"#REF!"}},{"$f":"VLOOKUP($A633,#REF!,3,FALSE)","v":{"$error":"#REF!"}},"McDowell Named and Created"]
["SM5_r91",{"$f":"VLOOKUP($A634,#REF!,2,FALSE)","v":{"$error":"#REF!"}},{"$f":"VLOOKUP($A634,#REF!,3,FALSE)","v":{"$error":"#REF!"}},"McDowell Named and Created"]
["SM5_r92",{"$f":"VLOOKUP($A635,#REF!,2,FALSE)","v":{"$error":"#REF!"}},{"$f":"VLOOKUP($A635,#REF!,3,FALSE)","v":{"$error":"#REF!"}},"McDowell Named and Created"]
["SM5_r93",{"$f":"VLOOKUP($A636,#REF!,2,FALSE)","v":{"$error":"#REF!"}},{"$f":"VLOOKUP($A636,#REF!,3,FALSE)","v":{"$error":"#REF!"}},"McDowell Named and Created"]
["SM5_r94",{"$f":"VLOOKUP($A637,#REF!,2,FALSE)","v":{"$error":"#REF!"}},{"$f":"VLOOKUP($A637,#REF!,3,FALSE)","v":{"$error":"#REF!"}},"McDowell Named and Created"]
["SM5_r95",{"$f":"VLOOKUP($A638,#REF!,2,FALSE)","v":{"$error":"#REF!"}},{"$f":"VLOOKUP($A638,#REF!,3,FALSE)","v":{"$error":"#REF!"}},"McDowell Named and Created"]
["SM5_r96",{"$f":"VLOOKUP($A639,#REF!,2,FALSE)","v":{"$error":"#REF!"}},{"$f":"VLOOKUP($A639,#REF!,3,FALSE)","v":{"$error":"#REF!"}},"McDowell Named and Created"]
["SM5_r97",{"$f":"VLOOKUP($A640,#REF!,2,FALSE)","v":{"$error":"#REF!"}},{"$f":"VLOOKUP($A640,#REF!,3,FALSE)","v":{"$error":"#REF!"}},"McDowell Named and Created"]
["SM5_r98",{"$f":"VLOOKUP($A641,#REF!,2,FALSE)","v":{"$error":"#REF!"}},{"$f":"VLOOKUP($A641,#REF!,3,FALSE)","v":{"$error":"#REF!"}},"McDowell Named and Created"]
["SM5_r99",{"$f":"VLOOKUP($A642,#REF!,2,FALSE)","v":{"$error":"#REF!"}},{"$f":"VLOOKUP($A642,#REF!,3,FALSE)","v":{"$error":"#REF!"}},"McDowell Named and Created"]
["SM5_r100",{"$f":"VLOOKUP($A643,#REF!,2,FALSE)","v":{"$error":"#REF!"}},{"$f":"VLOOKUP($A643,#REF!,3,FALSE)","v":{"$error":"#REF!"}},"McDowell Named and Created"]
["SM5_r101",{"$f":"VLOOKUP($A644,#REF!,2,FALSE)","v":{"$error":"#REF!"}},{"$f":"VLOOKUP($A644,#REF!,3,FALSE)","v":{"$error":"#REF!"}},"McDowell Named and Created"]
["SM5_r102",{"$f":"VLOOKUP($A645,#REF!,2,FALSE)","v":{"$error":"#REF!"}},{"$f":"VLOOKUP($A645,#REF!,3,FALSE)","v":{"$error":"#REF!"}},"McDowell Named and Created"]
["SM5_r103",{"$f":"VLOOKUP($A646,#REF!,2,FALSE)","v":{"$error":"#REF!"}},{"$f":"VLOOKUP($A646,#REF!,3,FALSE)","v":{"$error":"#REF!"}},"McDowell Named and Created"]
["SM5_r104",{"$f":"VLOOKUP($A647,#REF!,2,FALSE)","v":{"$error":"#REF!"}},{"$f":"VLOOKUP($A647,#REF!,3,FALSE)","v":{"$error":"#REF!"}},"McDowell Named and Created"]
["SM5_r105",{"$f":"VLOOKUP($A648,#REF!,2,FALSE)","v":{"$error":"#REF!"}},{"$f":"VLOOKUP($A648,#REF!,3,FALSE)","v":{"$error":"#REF!"}},"McDowell Named and Created"]
["SM5_r106",{"$f":"VLOOKUP($A649,#REF!,2,FALSE)","v":{"$error":"#REF!"}},{"$f":"VLOOKUP($A649,#REF!,3,FALSE)","v":{"$error":"#REF!"}},"McDowell Named and Created"]
["SM5_r107",{"$f":"VLOOKUP($A650,#REF!,2,FALSE)","v":{"$error":"#REF!"}},{"$f":"VLOOKUP($A650,#REF!,3,FALSE)","v":{"$error":"#REF!"}},"McDowell Named and Created"]
["SM5_r108",{"$f":"VLOOKUP($A651,#REF!,2,FALSE)","v":{"$error":"#REF!"}},{"$f":"VLOOKUP($A651,#REF!,3,FALSE)","v":{"$error":"#REF!"}},"McDowell Named and Created"]
["SM5_r109",{"$f":"VLOOKUP($A652,#REF!,2,FALSE)","v":{"$error":"#REF!"}},{"$f":"VLOOKUP($A652,#REF!,3,FALSE)","v":{"$error":"#REF!"}},"McDowell Named and Created"]
["SM5_r110",{"$f":"VLOOKUP($A653,#REF!,2,FALSE)","v":{"$error":"#REF!"}},{"$f":"VLOOKUP($A653,#REF!,3,FALSE)","v":{"$error":"#REF!"}},"McDowell Named and Created"]
["SM5_r111",{"$f":"VLOOKUP($A654,#REF!,2,FALSE)","v":{"$error":"#REF!"}},{"$f":"VLOOKUP($A654,#REF!,3,FALSE)","v":{"$error":"#REF!"}},"McDowell Named and Created"]
["SM5_r112",{"$f":"VLOOKUP($A655,#REF!,2,FALSE)","v":{"$error":"#REF!"}},{"$f":"VLOOKUP($A655,#REF!,3,FALSE)","v":{"$error":"#REF!"}},"McDowell Named and Created"]
["SM5_r113",{"$f":"VLOOKUP($A656,#REF!,2,FALSE)","v":{"$error":"#REF!"}},{"$f":"VLOOKUP($A656,#REF!,3,FALSE)","v":{"$error":"#REF!"}},"McDowell Named and Created"]
["SM5_r114",{"$f":"VLOOKUP($A657,#REF!,2,FALSE)","v":{"$error":"#REF!"}},{"$f":"VLOOKUP($A657,#REF!,3,FALSE)","v":{"$error":"#REF!"}},"McDowell Named and Created"]
["SM5_r115",{"$f":"VLOOKUP($A658,#REF!,2,FALSE)","v":{"$error":"#REF!"}},{"$f":"VLOOKUP($A658,#REF!,3,FALSE)","v":{"$error":"#REF!"}},"McDowell Named and Created"]
["SM5_r116",{"$f":"VLOOKUP($A659,#REF!,2,FALSE)","v":{"$error":"#REF!"}},{"$f":"VLOOKUP($A659,#REF!,3,FALSE)","v":{"$error":"#REF!"}},"McDowell Named and Created"]
["SM5_r117",{"$f":"VLOOKUP($A660,#REF!,2,FALSE)","v":{"$error":"#REF!"}},{"$f":"VLOOKUP($A660,#REF!,3,FALSE)","v":{"$error":"#REF!"}},"McDowell Named and Created"]
["SM5_r118",{"$f":"VLOOKUP($A661,#REF!,2,FALSE)","v":{"$error":"#REF!"}},{"$f":"VLOOKUP($A661,#REF!,3,FALSE)","v":{"$error":"#REF!"}},"McDowell Named and Created"]
["SM5_r119",{"$f":"VLOOKUP($A662,#REF!,2,FALSE)","v":{"$error":"#REF!"}},{"$f":"VLOOKUP($A662,#REF!,3,FALSE)","v":{"$error":"#REF!"}},"McDowell Named and Created"]
["SM5_r120",{"$f":"VLOOKUP($A663,#REF!,2,FALSE)","v":{"$error":"#REF!"}},{"$f":"VLOOKUP($A663,#REF!,3,FALSE)","v":{"$error":"#REF!"}},"McDowell Named and Created"]
["SM6_r1",{"$f":"VLOOKUP($A664,#REF!,2,FALSE)","v":{"$error":"#REF!"}},{"$f":"VLOOKUP($A664,#REF!,3,FALSE)","v":{"$error":"#REF!"}},"McDowell Named and Created"]
["SM6_r2",{"$f":"VLOOKUP($A665,#REF!,2,FALSE)","v":{"$error":"#REF!"}},{"$f":"VLOOKUP($A665,#REF!,3,FALSE)","v":{"$error":"#REF!"}},"McDowell Named and Created"]
["SM6_r3",{"$f":"VLOOKUP($A666,#REF!,2,FALSE)","v":{"$error":"#REF!"}},{"$f":"VLOOKUP($A666,#REF!,3,FALSE)","v":{"$error":"#REF!"}},"McDowell Named and Created"]
["SM6_r4",{"$f":"VLOOKUP($A667,#REF!,2,FALSE)","v":{"$error":"#REF!"}},{"$f":"VLOOKUP($A667,#REF!,3,FALSE)","v":{"$error":"#REF!"}},"McDowell Named and Created"]
["SM6_r5",{"$f":"VLOOKUP($A668,#REF!,2,FALSE)","v":{"$error":"#REF!"}},{"$f":"VLOOKUP($A668,#REF!,3,FALSE)","v":{"$error":"#REF!"}},"McDowell Named and Created"]
["SM6_r6",{"$f":"VLOOKUP($A669,#REF!,2,FALSE)","v":{"$error":"#REF!"}},{"$f":"VLOOKUP($A669,#REF!,3,FALSE)","v":{"$error":"#REF!"}},"McDowell Named and Created"]
["SM6_r7",{"$f":"VLOOKUP($A670,#REF!,2,FALSE)","v":{"$error":"#REF!"}},{"$f":"VLOOKUP($A670,#REF!,3,FALSE)","v":{"$error":"#REF!"}},"McDowell Named and Created"]
["SM6_r8",{"$f":"VLOOKUP($A671,#REF!,2,FALSE)","v":{"$error":"#REF!"}},{"$f":"VLOOKUP($A671,#REF!,3,FALSE)","v":{"$error":"#REF!"}},"McDowell Named and Created"]
["SM6_r9",{"$f":"VLOOKUP($A672,#REF!,2,FALSE)","v":{"$error":"#REF!"}},{"$f":"VLOOKUP($A672,#REF!,3,FALSE)","v":{"$error":"#REF!"}},"McDowell Named and Created"]
["SM6_r10",{"$f":"VLOOKUP($A673,#REF!,2,FALSE)","v":{"$error":"#REF!"}},{"$f":"VLOOKUP($A673,#REF!,3,FALSE)","v":{"$error":"#REF!"}},"McDowell Named and Created"]
["SM6_r11",{"$f":"VLOOKUP($A674,#REF!,2,FALSE)","v":{"$error":"#REF!"}},{"$f":"VLOOKUP($A674,#REF!,3,FALSE)","v":{"$error":"#REF!"}},"McDowell Named and Created"]
["SM6_r12",{"$f":"VLOOKUP($A675,#REF!,2,FALSE)","v":{"$error":"#REF!"}},{"$f":"VLOOKUP($A675,#REF!,3,FALSE)","v":{"$error":"#REF!"}},"McDowell Named and Created"]
["SM6_r13",{"$f":"VLOOKUP($A676,#REF!,2,FALSE)","v":{"$error":"#REF!"}},{"$f":"VLOOKUP($A676,#REF!,3,FALSE)","v":{"$error":"#REF!"}},"McDowell Named and Created"]
["SM6_r14",{"$f":"VLOOKUP($A677,#REF!,2,FALSE)","v":{"$error":"#REF!"}},{"$f":"VLOOKUP($A677,#REF!,3,FALSE)","v":{"$error":"#REF!"}},"McDowell Named and Created"]
["SM6_r15",{"$f":"VLOOKUP($A678,#REF!,2,FALSE)","v":{"$error":"#REF!"}},{"$f":"VLOOKUP($A678,#REF!,3,FALSE)","v":{"$error":"#REF!"}},"McDowell Named and Created"]
["SM6_r16",{"$f":"VLOOKUP($A679,#REF!,2,FALSE)","v":{"$error":"#REF!"}},{"$f":"VLOOKUP($A679,#REF!,3,FALSE)","v":{"$error":"#REF!"}},"McDowell Named and Created"]
["SM6_r17",{"$f":"VLOOKUP($A680,#REF!,2,FALSE)","v":{"$error":"#REF!"}},{"$f":"VLOOKUP($A680,#REF!,3,FALSE)","v":{"$error":"#REF!"}},"McDowell Named and Created"]
["SM6_r18",{"$f":"VLOOKUP($A681,#REF!,2,FALSE)","v":{"$error":"#REF!"}},{"$f":"VLOOKUP($A681,#REF!,3,FALSE)","v":{"$error":"#REF!"}},"McDowell Named and Created"]
["SM6_r19",{"$f":"VLOOKUP($A682,#REF!,2,FALSE)","v":{"$error":"#REF!"}},{"$f":"VLOOKUP($A682,#REF!,3,FALSE)","v":{"$error":"#REF!"}},"McDowell Named and Created"]
["SM6_r20",{"$f":"VLOOKUP($A683,#REF!,2,FALSE)","v":{"$error":"#REF!"}},{"$f":"VLOOKUP($A683,#REF!,3,FALSE)","v":{"$error":"#REF!"}},"McDowell Named and Created"]
["SM6_r21",{"$f":"VLOOKUP($A684,#REF!,2,FALSE)","v":{"$error":"#REF!"}},{"$f":"VLOOKUP($A684,#REF!,3,FALSE)","v":{"$error":"#REF!"}},"McDowell Named and Created"]
["SM6_r22",{"$f":"VLOOKUP($A685,#REF!,2,FALSE)","v":{"$error":"#REF!"}},{"$f":"VLOOKUP($A685,#REF!,3,FALSE)","v":{"$error":"#REF!"}},"McDowell Named and Created"]
["SM6_r23",{"$f":"VLOOKUP($A686,#REF!,2,FALSE)","v":{"$error":"#REF!"}},{"$f":"VLOOKUP($A686,#REF!,3,FALSE)","v":{"$error":"#REF!"}},"McDowell Named and Created"]
["SM6_r24",{"$f":"VLOOKUP($A687,#REF!,2,FALSE)","v":{"$error":"#REF!"}},{"$f":"VLOOKUP($A687,#REF!,3,FALSE)","v":{"$error":"#REF!"}},"McDowell Named and Created"]
["SM6_r25",{"$f":"VLOOKUP($A688,#REF!,2,FALSE)","v":{"$error":"#REF!"}},{"$f":"VLOOKUP($A688,#REF!,3,FALSE)","v":{"$error":"#REF!"}},"McDowell Named and Created"]
["SM6_r26",{"$f":"VLOOKUP($A689,#REF!,2,FALSE)","v":{"$error":"#REF!"}},{"$f":"VLOOKUP($A689,#REF!,3,FALSE)","v":{"$error":"#REF!"}},"McDowell Named and Created"]
["SM6_r27",{"$f":"VLOOKUP($A690,#REF!,2,FALSE)","v":{"$error":"#REF!"}},{"$f":"VLOOKUP($A690,#REF!,3,FALSE)","v":{"$error":"#REF!"}},"McDowell Named and Created"]
["SM6_r28",{"$f":"VLOOKUP($A691,#REF!,2,FALSE)","v":{"$error":"#REF!"}},{"$f":"VLOOKUP($A691,#REF!,3,FALSE)","v":{"$error":"#REF!"}},"McDowell Named and Created"]
["SM6_r29",{"$f":"VLOOKUP($A692,#REF!,2,FALSE)","v":{"$error":"#REF!"}},{"$f":"VLOOKUP($A692,#REF!,3,FALSE)","v":{"$error":"#REF!"}},"McDowell Named and Created"]
["SM6_r30",{"$f":"VLOOKUP($A693,#REF!,2,FALSE)","v":{"$error":"#REF!"}},{"$f":"VLOOKUP($A693,#REF!,3,FALSE)","v":{"$error":"#REF!"}},"McDowell Named and Created"]
["SM6_r31",{"$f":"VLOOKUP($A694,#REF!,2,FALSE)","v":{"$error":"#REF!"}},{"$f":"VLOOKUP($A694,#REF!,3,FALSE)","v":{"$error":"#REF!"}},"McDowell Named and Created"]
["SM6_r32",{"$f":"VLOOKUP($A695,#REF!,2,FALSE)","v":{"$error":"#REF!"}},{"$f":"VLOOKUP($A695,#REF!,3,FALSE)","v":{"$error":"#REF!"}},"McDowell Named and Created"]
["SM6_r33",{"$f":"VLOOKUP($A696,#REF!,2,FALSE)","v":{"$error":"#REF!"}},{"$f":"VLOOKUP($A696,#REF!,3,FALSE)","v":{"$error":"#REF!"}},"McDowell Named and Created"]
["SM6_r34",{"$f":"VLOOKUP($A697,#REF!,2,FALSE)","v":{"$error":"#REF!"}},{"$f":"VLOOKUP($A697,#REF!,3,FALSE)","v":{"$error":"#REF!"}},"McDowell Named and Created"]
["SM6_r35",{"$f":"VLOOKUP($A698,#REF!,2,FALSE)","v":{"$error":"#REF!"}},{"$f":"VLOOKUP($A698,#REF!,3,FALSE)","v":{"$error":"#REF!"}},"McDowell Named and Created"]
["SM6_r36",{"$f":"VLOOKUP($A699,#REF!,2,FALSE)","v":{"$error":"#REF!"}},{"$f":"VLOOKUP($A699,#REF!,3,FALSE)","v":{"$error":"#REF!"}},"McDowell Named and Created"]
["SM6_r37",{"$f":"VLOOKUP($A700,#REF!,2,FALSE)","v":{"$error":"#REF!"}},{"$f":"VLOOKUP($A700,#REF!,3,FALSE)","v":{"$error":"#REF!"}},"McDowell Named and Created"]
["SM6_r38",{"$f":"VLOOKUP($A701,#REF!,2,FALSE)","v":{"$error":"#REF!"}},{"$f":"VLOOKUP($A701,#REF!,3,FALSE)","v":{"$error":"#REF!"}},"McDowell Named and Created"]
["SM6_r39",{"$f":"VLOOKUP($A702,#REF!,2,FALSE)","v":{"$error":"#REF!"}},{"$f":"VLOOKUP($A702,#REF!,3,FALSE)","v":{"$error":"#REF!"}},"McDowell Named and Created"]
["SM6_r40",{"$f":"VLOOKUP($A703,#REF!,2,FALSE)","v":{"$error":"#REF!"}},{"$f":"VLOOKUP($A703,#REF!,3,FALSE)","v":{"$error":"#REF!"}},"McDowell Named and Created"]
["SM6_r41",{"$f":"VLOOKUP($A704,#REF!,2,FALSE)","v":{"$error":"#REF!"}},{"$f":"VLOOKUP($A704,#REF!,3,FALSE)","v":{"$error":"#REF!"}},"McDowell Named and Created"]
["SM6_r42",{"$f":"VLOOKUP($A705,#REF!,2,FALSE)","v":{"$error":"#REF!"}},{"$f":"VLOOKUP($A705,#REF!,3,FALSE)","v":{"$error":"#REF!"}},"McDowell Named and Created"]
["SM6_r43",{"$f":"VLOOKUP($A706,#REF!,2,FALSE)","v":{"$error":"#REF!"}},{"$f":"VLOOKUP($A706,#REF!,3,FALSE)","v":{"$error":"#REF!"}},"McDowell Named and Created"]
["SM6_r44",{"$f":"VLOOKUP($A707,#REF!,2,FALSE)","v":{"$error":"#REF!"}},{"$f":"VLOOKUP($A707,#REF!,3,FALSE)","v":{"$error":"#REF!"}},"McDowell Named and Created"]
["SM6_r45",{"$f":"VLOOKUP($A708,#REF!,2,FALSE)","v":{"$error":"#REF!"}},{"$f":"VLOOKUP($A708,#REF!,3,FALSE)","v":{"$error":"#REF!"}},"McDowell Named and Created"]
["SM6_r46",{"$f":"VLOOKUP($A709,#REF!,2,FALSE)","v":{"$error":"#REF!"}},{"$f":"VLOOKUP($A709,#REF!,3,FALSE)","v":{"$error":"#REF!"}},"McDowell Named and Created"]
["SM6_r47",{"$f":"VLOOKUP($A710,#REF!,2,FALSE)","v":{"$error":"#REF!"}},{"$f":"VLOOKUP($A710,#REF!,3,FALSE)","v":{"$error":"#REF!"}},"McDowell Named and Created"]
["SM6_r48",{"$f":"VLOOKUP($A711,#REF!,2,FALSE)","v":{"$error":"#REF!"}},{"$f":"VLOOKUP($A711,#REF!,3,FALSE)","v":{"$error":"#REF!"}},"McDowell Named and Created"]
["SM6_r49",{"$f":"VLOOKUP($A712,#REF!,2,FALSE)","v":{"$error":"#REF!"}},{"$f":"VLOOKUP($A712,#REF!,3,FALSE)","v":{"$error":"#REF!"}},"McDowell Named and Created"]
["SM6_r50",{"$f":"VLOOKUP($A713,#REF!,2,FALSE)","v":{"$error":"#REF!"}},{"$f":"VLOOKUP($A713,#REF!,3,FALSE)","v":{"$error":"#REF!"}},"McDowell Named and Created"]
["SM6_r51",{"$f":"VLOOKUP($A714,#REF!,2,FALSE)","v":{"$error":"#REF!"}},{"$f":"VLOOKUP($A714,#REF!,3,FALSE)","v":{"$error":"#REF!"}},"McDowell Named and Created"]
["SM6_r52",{"$f":"VLOOKUP($A715,#REF!,2,FALSE)","v":{"$error":"#REF!"}},{"$f":"VLOOKUP($A715,#REF!,3,FALSE)","v":{"$error":"#REF!"}},"McDowell Named and Created"]
["SM6_r53",{"$f":"VLOOKUP($A716,#REF!,2,FALSE)","v":{"$error":"#REF!"}},{"$f":"VLOOKUP($A716,#REF!,3,FALSE)","v":{"$error":"#REF!"}},"McDowell Named and Created"]
["SM6_r54",{"$f":"VLOOKUP($A717,#REF!,2,FALSE)","v":{"$error":"#REF!"}},{"$f":"VLOOKUP($A717,#REF!,3,FALSE)","v":{"$error":"#REF!"}},"McDowell Named and Created"]
["SM6_r55",{"$f":"VLOOKUP($A718,#REF!,2,FALSE)","v":{"$error":"#REF!"}},{"$f":"VLOOKUP($A718,#REF!,3,FALSE)","v":{"$error":"#REF!"}},"McDowell Named and Created"]
["SM6_r56",{"$f":"VLOOKUP($A719,#REF!,2,FALSE)","v":{"$error":"#REF!"}},{"$f":"VLOOKUP($A719,#REF!,3,FALSE)","v":{"$error":"#REF!"}},"McDowell Named and Created"]
["SM6_r57",{"$f":"VLOOKUP($A720,#REF!,2,FALSE)","v":{"$error":"#REF!"}},{"$f":"VLOOKUP($A720,#REF!,3,FALSE)","v":{"$error":"#REF!"}},"McDowell Named and Created"]
["SM6_r58",{"$f":"VLOOKUP($A721,#REF!,2,FALSE)","v":{"$error":"#REF!"}},{"$f":"VLOOKUP($A721,#REF!,3,FALSE)","v":{"$error":"#REF!"}},"McDowell Named and Created"]
["SM6_r59",{"$f":"VLOOKUP($A722,#REF!,2,FALSE)","v":{"$error":"#REF!"}},{"$f":"VLOOKUP($A722,#REF!,3,FALSE)","v":{"$error":"#REF!"}},"McDowell Named and Created"]
["SM6_r60",{"$f":"VLOOKUP($A723,#REF!,2,FALSE)","v":{"$error":"#REF!"}},{"$f":"VLOOKUP($A723,#REF!,3,FALSE)","v":{"$error":"#REF!"}},"McDowell Named and Created"]
["SM6_r61",{"$f":"VLOOKUP($A724,#REF!,2,FALSE)","v":{"$error":"#REF!"}},{"$f":"VLOOKUP($A724,#REF!,3,FALSE)","v":{"$error":"#REF!"}},"McDowell Named and Created"]
["SM6_r62",{"$f":"VLOOKUP($A725,#REF!,2,FALSE)","v":{"$error":"#REF!"}},{"$f":"VLOOKUP($A725,#REF!,3,FALSE)","v":{"$error":"#REF!"}},"McDowell Named and Created"]
["SM6_r63",{"$f":"VLOOKUP($A726,#REF!,2,FALSE)","v":{"$error":"#REF!"}},{"$f":"VLOOKUP($A726,#REF!,3,FALSE)","v":{"$error":"#REF!"}},"McDowell Named and Created"]
["SM6_r64",{"$f":"VLOOKUP($A727,#REF!,2,FALSE)","v":{"$error":"#REF!"}},{"$f":"VLOOKUP($A727,#REF!,3,FALSE)","v":{"$error":"#REF!"}},"McDowell Named and Created"]
["SM6_r65",{"$f":"VLOOKUP($A728,#REF!,2,FALSE)","v":{"$error":"#REF!"}},{"$f":"VLOOKUP($A728,#REF!,3,FALSE)","v":{"$error":"#REF!"}},"McDowell Named and Created"]
["SM6_r66",{"$f":"VLOOKUP($A729,#REF!,2,FALSE)","v":{"$error":"#REF!"}},{"$f":"VLOOKUP($A729,#REF!,3,FALSE)","v":{"$error":"#REF!"}},"McDowell Named and Created"]
["SM6_r67",{"$f":"VLOOKUP($A730,#REF!,2,FALSE)","v":{"$error":"#REF!"}},{"$f":"VLOOKUP($A730,#REF!,3,FALSE)","v":{"$error":"#REF!"}},"McDowell Named and Created"]
["SM6_r68",{"$f":"VLOOKUP($A731,#REF!,2,FALSE)","v":{"$error":"#REF!"}},{"$f":"VLOOKUP($A731,#REF!,3,FALSE)","v":{"$error":"#REF!"}},"McDowell Named and Created"]
["SM6_r69",{"$f":"VLOOKUP($A732,#REF!,2,FALSE)","v":{"$error":"#REF!"}},{"$f":"VLOOKUP($A732,#REF!,3,FALSE)","v":{"$error":"#REF!"}},"McDowell Named and Created"]
["SM6_r70",{"$f":"VLOOKUP($A733,#REF!,2,FALSE)","v":{"$error":"#REF!"}},{"$f":"VLOOKUP($A733,#REF!,3,FALSE)","v":{"$error":"#REF!"}},"McDowell Named and Created"]
["SM6_r71",{"$f":"VLOOKUP($A734,#REF!,2,FALSE)","v":{"$error":"#REF!"}},{"$f":"VLOOKUP($A734,#REF!,3,FALSE)","v":{"$error":"#REF!"}},"McDowell Named and Created"]
["SM6_r72",{"$f":"VLOOKUP($A735,#REF!,2,FALSE)","v":{"$error":"#REF!"}},{"$f":"VLOOKUP($A735,#REF!,3,FALSE)","v":{"$error":"#REF!"}},"McDowell Named and Created"]
["SM6_r73",{"$f":"VLOOKUP($A736,#REF!,2,FALSE)","v":{"$error":"#REF!"}},{"$f":"VLOOKUP($A736,#REF!,3,FALSE)","v":{"$error":"#REF!"}},"McDowell Named and Created"]
["SM6_r74",{"$f":"VLOOKUP($A737,#REF!,2,FALSE)","v":{"$error":"#REF!"}},{"$f":"VLOOKUP($A737,#REF!,3,FALSE)","v":{"$error":"#REF!"}},"McDowell Named and Created"]
["SM6_r75",{"$f":"VLOOKUP($A738,#REF!,2,FALSE)","v":{"$error":"#REF!"}},{"$f":"VLOOKUP($A738,#REF!,3,FALSE)","v":{"$error":"#REF!"}},"McDowell Named and Created"]
["SM6_r76",{"$f":"VLOOKUP($A739,#REF!,2,FALSE)","v":{"$error":"#REF!"}},{"$f":"VLOOKUP($A739,#REF!,3,FALSE)","v":{"$error":"#REF!"}},"McDowell Named and Created"]
["SM6_r77",{"$f":"VLOOKUP($A740,#REF!,2,FALSE)","v":{"$error":"#REF!"}},{"$f":"VLOOKUP($A740,#REF!,3,FALSE)","v":{"$error":"#REF!"}},"McDowell Named and Created"]
["SM6_r78",{"$f":"VLOOKUP($A741,#REF!,2,FALSE)","v":{"$error":"#REF!"}},{"$f":"VLOOKUP($A741,#REF!,3,FALSE)","v":{"$error":"#REF!"}},"McDowell Named and Created"]
["SM6_r79",{"$f":"VLOOKUP($A742,#REF!,2,FALSE)","v":{"$error":"#REF!"}},{"$f":"VLOOKUP($A742,#REF!,3,FALSE)","v":{"$error":"#REF!"}},"McDowell Named and Created"]
["SM6_r80",{"$f":"VLOOKUP($A743,#REF!,2,FALSE)","v":{"$error":"#REF!"}},{"$f":"VLOOKUP($A743,#REF!,3,FALSE)","v":{"$error":"#REF!"}},"McDowell Named and Created"]
["SM6_r81",{"$f":"VLOOKUP($A744,#REF!,2,FALSE)","v":{"$error":"#REF!"}},{"$f":"VLOOKUP($A744,#REF!,3,FALSE)","v":{"$error":"#REF!"}},"McDowell Named and Created"]
["SM6_r82",{"$f":"VLOOKUP($A745,#REF!,2,FALSE)","v":{"$error":"#REF!"}},{"$f":"VLOOKUP($A745,#REF!,3,FALSE)","v":{"$error":"#REF!"}},"McDowell Named and Created"]
["SM6_r83",{"$f":"VLOOKUP($A746,#REF!,2,FALSE)","v":{"$error":"#REF!"}},{"$f":"VLOOKUP($A746,#REF!,3,FALSE)","v":{"$error":"#REF!"}},"McDowell Named and Created"]
["SM6_r84",{"$f":"VLOOKUP($A747,#REF!,2,FALSE)","v":{"$error":"#REF!"}},{"$f":"VLOOKUP($A747,#REF!,3,FALSE)","v":{"$error":"#REF!"}},"McDowell Named and Created"]
["SM6_r85",{"$f":"VLOOKUP($A748,#REF!,2,FALSE)","v":{"$error":"#REF!"}},{"$f":"VLOOKUP($A748,#REF!,3,FALSE)","v":{"$error":"#REF!"}},"McDowell Named and Created"]
["SM6_r86",{"$f":"VLOOKUP($A749,#REF!,2,FALSE)","v":{"$error":"#REF!"}},{"$f":"VLOOKUP($A749,#REF!,3,FALSE)","v":{"$error":"#REF!"}},"McDowell Named and Created"]
["SM6_r87",{"$f":"VLOOKUP($A750,#REF!,2,FALSE)","v":{"$error":"#REF!"}},{"$f":"VLOOKUP($A750,#REF!,3,FALSE)","v":{"$error":"#REF!"}},"McDowell Named and Created"]
["SM6_r88",{"$f":"VLOOKUP($A751,#REF!,2,FALSE)","v":{"$error":"#REF!"}},{"$f":"VLOOKUP($A751,#REF!,3,FALSE)","v":{"$error":"#REF!"}},"McDowell Named and Created"]
["SM6_r89",{"$f":"VLOOKUP($A752,#REF!,2,FALSE)","v":{"$error":"#REF!"}},{"$f":"VLOOKUP($A752,#REF!,3,FALSE)","v":{"$error":"#REF!"}},"McDowell Named and Created"]
["SM6_r90",{"$f":"VLOOKUP($A753,#REF!,2,FALSE)","v":{"$error":"#REF!"}},{"$f":"VLOOKUP($A753,#REF!,3,FALSE)","v":{"$error":"#REF!"}},"McDowell Named and Created"]
["SM6_r91",{"$f":"VLOOKUP($A754,#REF!,2,FALSE)","v":{"$error":"#REF!"}},{"$f":"VLOOKUP($A754,#REF!,3,FALSE)","v":{"$error":"#REF!"}},"McDowell Named and Created"]
["SM6_r92",{"$f":"VLOOKUP($A755,#REF!,2,FALSE)","v":{"$error":"#REF!"}},{"$f":"VLOOKUP($A755,#REF!,3,FALSE)","v":{"$error":"#REF!"}},"McDowell Named and Created"]
["SM6_r93",{"$f":"VLOOKUP($A756,#REF!,2,FALSE)","v":{"$error":"#REF!"}},{"$f":"VLOOKUP($A756,#REF!,3,FALSE)","v":{"$error":"#REF!"}},"McDowell Named and Created"]
["SM6_r94",{"$f":"VLOOKUP($A757,#REF!,2,FALSE)","v":{"$error":"#REF!"}},{"$f":"VLOOKUP($A757,#REF!,3,FALSE)","v":{"$error":"#REF!"}},"McDowell Named and Created"]
["SM6_r95",{"$f":"VLOOKUP($A758,#REF!,2,FALSE)","v":{"$error":"#REF!"}},{"$f":"VLOOKUP($A758,#REF!,3,FALSE)","v":{"$error":"#REF!"}},"McDowell Named and Created"]
["SM6_r96",{"$f":"VLOOKUP($A759,#REF!,2,FALSE)","v":{"$error":"#REF!"}},{"$f":"VLOOKUP($A759,#REF!,3,FALSE)","v":{"$error":"#REF!"}},"McDowell Named and Created"]
["SM6_r97",{"$f":"VLOOKUP($A760,#REF!,2,FALSE)","v":{"$error":"#REF!"}},{"$f":"VLOOKUP($A760,#REF!,3,FALSE)","v":{"$error":"#REF!"}},"McDowell Named and Created"]
["SM6_r98",{"$f":"VLOOKUP($A761,#REF!,2,FALSE)","v":{"$error":"#REF!"}},{"$f":"VLOOKUP($A761,#REF!,3,FALSE)","v":{"$error":"#REF!"}},"McDowell Named and Created"]
["SM6_r99",{"$f":"VLOOKUP($A762,#REF!,2,FALSE)","v":{"$error":"#REF!"}},{"$f":"VLOOKUP($A762,#REF!,3,FALSE)","v":{"$error":"#REF!"}},"McDowell Named and Created"]
["SM6_r100",{"$f":"VLOOKUP($A763,#REF!,2,FALSE)","v":{"$error":"#REF!"}},{"$f":"VLOOKUP($A763,#REF!,3,FALSE)","v":{"$error":"#REF!"}},"McDowell Named and Created"]
["SM6_r101",{"$f":"VLOOKUP($A764,#REF!,2,FALSE)","v":{"$error":"#REF!"}},{"$f":"VLOOKUP($A764,#REF!,3,FALSE)","v":{"$error":"#REF!"}},"McDowell Named and Created"]
["SM6_r102",{"$f":"VLOOKUP($A765,#REF!,2,FALSE)","v":{"$error":"#REF!"}},{"$f":"VLOOKUP($A765,#REF!,3,FALSE)","v":{"$error":"#REF!"}},"McDowell Named and Created"]
["SM6_r103",{"$f":"VLOOKUP($A766,#REF!,2,FALSE)","v":{"$error":"#REF!"}},{"$f":"VLOOKUP($A766,#REF!,3,FALSE)","v":{"$error":"#REF!"}},"McDowell Named and Created"]
["SM6_r104",{"$f":"VLOOKUP($A767,#REF!,2,FALSE)","v":{"$error":"#REF!"}},{"$f":"VLOOKUP($A767,#REF!,3,FALSE)","v":{"$error":"#REF!"}},"McDowell Named and Created"]
["SM6_r105",{"$f":"VLOOKUP($A768,#REF!,2,FALSE)","v":{"$error":"#REF!"}},{"$f":"VLOOKUP($A768,#REF!,3,FALSE)","v":{"$error":"#REF!"}},"McDowell Named and Created"]
["SM6_r106",{"$f":"VLOOKUP($A769,#REF!,2,FALSE)","v":{"$error":"#REF!"}},{"$f":"VLOOKUP($A769,#REF!,3,FALSE)","v":{"$error":"#REF!"}},"McDowell Named and Created"]
["SM6_r107",{"$f":"VLOOKUP($A770,#REF!,2,FALSE)","v":{"$error":"#REF!"}},{"$f":"VLOOKUP($A770,#REF!,3,FALSE)","v":{"$error":"#REF!"}},"McDowell Named and Created"]
["SM6_r108",{"$f":"VLOOKUP($A771,#REF!,2,FALSE)","v":{"$error":"#REF!"}},{"$f":"VLOOKUP($A771,#REF!,3,FALSE)","v":{"$error":"#REF!"}},"McDowell Named and Created"]
["SM6_r109",{"$f":"VLOOKUP($A772,#REF!,2,FALSE)","v":{"$error":"#REF!"}},{"$f":"VLOOKUP($A772,#REF!,3,FALSE)","v":{"$error":"#REF!"}},"McDowell Named and Created"]
["SM6_r110",{"$f":"VLOOKUP($A773,#REF!,2,FALSE)","v":{"$error":"#REF!"}},{"$f":"VLOOKUP($A773,#REF!,3,FALSE)","v":{"$error":"#REF!"}},"McDowell Named and Created"]
["SM6_r111",{"$f":"VLOOKUP($A774,#REF!,2,FALSE)","v":{"$error":"#REF!"}},{"$f":"VLOOKUP($A774,#REF!,3,FALSE)","v":{"$error":"#REF!"}},"McDowell Named and Created"]
["SM6_r112",{"$f":"VLOOKUP($A775,#REF!,2,FALSE)","v":{"$error":"#REF!"}},{"$f":"VLOOKUP($A775,#REF!,3,FALSE)","v":{"$error":"#REF!"}},"McDowell Named and Created"]
["SM6_r113",{"$f":"VLOOKUP($A776,#REF!,2,FALSE)","v":{"$error":"#REF!"}},{"$f":"VLOOKUP($A776,#REF!,3,FALSE)","v":{"$error":"#REF!"}},"McDowell Named and Created"]
["SM6_r114",{"$f":"VLOOKUP($A777,#REF!,2,FALSE)","v":{"$error":"#REF!"}},{"$f":"VLOOKUP($A777,#REF!,3,FALSE)","v":{"$error":"#REF!"}},"McDowell Named and Created"]
["SM6_r115",{"$f":"VLOOKUP($A778,#REF!,2,FALSE)","v":{"$error":"#REF!"}},{"$f":"VLOOKUP($A778,#REF!,3,FALSE)","v":{"$error":"#REF!"}},"McDowell Named and Created"]
["SM6_r116",{"$f":"VLOOKUP($A779,#REF!,2,FALSE)","v":{"$error":"#REF!"}},{"$f":"VLOOKUP($A779,#REF!,3,FALSE)","v":{"$error":"#REF!"}},"McDowell Named and Created"]
["SM6_r117",{"$f":"VLOOKUP($A780,#REF!,2,FALSE)","v":{"$error":"#REF!"}},{"$f":"VLOOKUP($A780,#REF!,3,FALSE)","v":{"$error":"#REF!"}},"McDowell Named and Created"]
["SM6_r118",{"$f":"VLOOKUP($A781,#REF!,2,FALSE)","v":{"$error":"#REF!"}},{"$f":"VLOOKUP($A781,#REF!,3,FALSE)","v":{"$error":"#REF!"}},"McDowell Named and Created"]
["SM6_r119",{"$f":"VLOOKUP($A782,#REF!,2,FALSE)","v":{"$error":"#REF!"}},{"$f":"VLOOKUP($A782,#REF!,3,FALSE)","v":{"$error":"#REF!"}},"McDowell Named and Created"]
["SM6_r120",{"$f":"VLOOKUP($A783,#REF!,2,FALSE)","v":{"$error":"#REF!"}},{"$f":"VLOOKUP($A783,#REF!,3,FALSE)","v":{"$error":"#REF!"}},"McDowell Named and Created"]
["SM7_r1",{"$f":"VLOOKUP($A784,#REF!,2,FALSE)","v":{"$error":"#REF!"}},{"$f":"VLOOKUP($A784,#REF!,3,FALSE)","v":{"$error":"#REF!"}},"McDowell Named and Created"]
["SM7_r2",{"$f":"VLOOKUP($A785,#REF!,2,FALSE)","v":{"$error":"#REF!"}},{"$f":"VLOOKUP($A785,#REF!,3,FALSE)","v":{"$error":"#REF!"}},"McDowell Named and Created"]
["SM7_r3",{"$f":"VLOOKUP($A786,#REF!,2,FALSE)","v":{"$error":"#REF!"}},{"$f":"VLOOKUP($A786,#REF!,3,FALSE)","v":{"$error":"#REF!"}},"McDowell Named and Created"]
["SM7_r4",{"$f":"VLOOKUP($A787,#REF!,2,FALSE)","v":{"$error":"#REF!"}},{"$f":"VLOOKUP($A787,#REF!,3,FALSE)","v":{"$error":"#REF!"}},"McDowell Named and Created"]
["SM7_r5",{"$f":"VLOOKUP($A788,#REF!,2,FALSE)","v":{"$error":"#REF!"}},{"$f":"VLOOKUP($A788,#REF!,3,FALSE)","v":{"$error":"#REF!"}},"McDowell Named and Created"]
["SM7_r6",{"$f":"VLOOKUP($A789,#REF!,2,FALSE)","v":{"$error":"#REF!"}},{"$f":"VLOOKUP($A789,#REF!,3,FALSE)","v":{"$error":"#REF!"}},"McDowell Named and Created"]
["SM7_r7",{"$f":"VLOOKUP($A790,#REF!,2,FALSE)","v":{"$error":"#REF!"}},{"$f":"VLOOKUP($A790,#REF!,3,FALSE)","v":{"$error":"#REF!"}},"McDowell Named and Created"]
["SM7_r8",{"$f":"VLOOKUP($A791,#REF!,2,FALSE)","v":{"$error":"#REF!"}},{"$f":"VLOOKUP($A791,#REF!,3,FALSE)","v":{"$error":"#REF!"}},"McDowell Named and Created"]
["SM7_r9",{"$f":"VLOOKUP($A792,#REF!,2,FALSE)","v":{"$error":"#REF!"}},{"$f":"VLOOKUP($A792,#REF!,3,FALSE)","v":{"$error":"#REF!"}},"McDowell Named and Created"]
["SM7_r10",{"$f":"VLOOKUP($A793,#REF!,2,FALSE)","v":{"$error":"#REF!"}},{"$f":"VLOOKUP($A793,#REF!,3,FALSE)","v":{"$error":"#REF!"}},"McDowell Named and Created"]
["SM7_r11",{"$f":"VLOOKUP($A794,#REF!,2,FALSE)","v":{"$error":"#REF!"}},{"$f":"VLOOKUP($A794,#REF!,3,FALSE)","v":{"$error":"#REF!"}},"McDowell Named and Created"]
["SM7_r12",{"$f":"VLOOKUP($A795,#REF!,2,FALSE)","v":{"$error":"#REF!"}},{"$f":"VLOOKUP($A795,#REF!,3,FALSE)","v":{"$error":"#REF!"}},"McDowell Named and Created"]
["SM7_r13",{"$f":"VLOOKUP($A796,#REF!,2,FALSE)","v":{"$error":"#REF!"}},{"$f":"VLOOKUP($A796,#REF!,3,FALSE)","v":{"$error":"#REF!"}},"McDowell Named and Created"]
["SM7_r14",{"$f":"VLOOKUP($A797,#REF!,2,FALSE)","v":{"$error":"#REF!"}},{"$f":"VLOOKUP($A797,#REF!,3,FALSE)","v":{"$error":"#REF!"}},"McDowell Named and Created"]
["SM7_r15",{"$f":"VLOOKUP($A798,#REF!,2,FALSE)","v":{"$error":"#REF!"}},{"$f":"VLOOKUP($A798,#REF!,3,FALSE)","v":{"$error":"#REF!"}},"McDowell Named and Created"]
["SM7_r16",{"$f":"VLOOKUP($A799,#REF!,2,FALSE)","v":{"$error":"#REF!"}},{"$f":"VLOOKUP($A799,#REF!,3,FALSE)","v":{"$error":"#REF!"}},"McDowell Named and Created"]
["SM7_r17",{"$f":"VLOOKUP($A800,#REF!,2,FALSE)","v":{"$error":"#REF!"}},{"$f":"VLOOKUP($A800,#REF!,3,FALSE)","v":{"$error":"#REF!"}},"McDowell Named and Created"]
["SM7_r18",{"$f":"VLOOKUP($A801,#REF!,2,FALSE)","v":{"$error":"#REF!"}},{"$f":"VLOOKUP($A801,#REF!,3,FALSE)","v":{"$error":"#REF!"}},"McDowell Named and Created"]
["SM7_r19",{"$f":"VLOOKUP($A802,#REF!,2,FALSE)","v":{"$error":"#REF!"}},{"$f":"VLOOKUP($A802,#REF!,3,FALSE)","v":{"$error":"#REF!"}},"McDowell Named and Created"]
["SM7_r20",{"$f":"VLOOKUP($A803,#REF!,2,FALSE)","v":{"$error":"#REF!"}},{"$f":"VLOOKUP($A803,#REF!,3,FALSE)","v":{"$error":"#REF!"}},"McDowell Named and Created"]
["SM7_r21",{"$f":"VLOOKUP($A804,#REF!,2,FALSE)","v":{"$error":"#REF!"}},{"$f":"VLOOKUP($A804,#REF!,3,FALSE)","v":{"$error":"#REF!"}},"McDowell Named and Created"]
["SM7_r22",{"$f":"VLOOKUP($A805,#REF!,2,FALSE)","v":{"$error":"#REF!"}},{"$f":"VLOOKUP($A805,#REF!,3,FALSE)","v":{"$error":"#REF!"}},"McDowell Named and Created"]
["SM7_r23",{"$f":"VLOOKUP($A806,#REF!,2,FALSE)","v":{"$error":"#REF!"}},{"$f":"VLOOKUP($A806,#REF!,3,FALSE)","v":{"$error":"#REF!"}},"McDowell Named and Created"]
["SM7_r24",{"$f":"VLOOKUP($A807,#REF!,2,FALSE)","v":{"$error":"#REF!"}},{"$f":"VLOOKUP($A807,#REF!,3,FALSE)","v":{"$error":"#REF!"}},"McDowell Named and Created"]
["SM7_r25",{"$f":"VLOOKUP($A808,#REF!,2,FALSE)","v":{"$error":"#REF!"}},{"$f":"VLOOKUP($A808,#REF!,3,FALSE)","v":{"$error":"#REF!"}},"McDowell Named and Created"]
["SM7_r26",{"$f":"VLOOKUP($A809,#REF!,2,FALSE)","v":{"$error":"#REF!"}},{"$f":"VLOOKUP($A809,#REF!,3,FALSE)","v":{"$error":"#REF!"}},"McDowell Named and Created"]
["SM7_r27",{"$f":"VLOOKUP($A810,#REF!,2,FALSE)","v":{"$error":"#REF!"}},{"$f":"VLOOKUP($A810,#REF!,3,FALSE)","v":{"$error":"#REF!"}},"McDowell Named and Created"]
["SM7_r28",{"$f":"VLOOKUP($A811,#REF!,2,FALSE)","v":{"$error":"#REF!"}},{"$f":"VLOOKUP($A811,#REF!,3,FALSE)","v":{"$error":"#REF!"}},"McDowell Named and Created"]
["SM7_r29",{"$f":"VLOOKUP($A812,#REF!,2,FALSE)","v":{"$error":"#REF!"}},{"$f":"VLOOKUP($A812,#REF!,3,FALSE)","v":{"$error":"#REF!"}},"McDowell Named and Created"]
["SM7_r30",{"$f":"VLOOKUP($A813,#REF!,2,FALSE)","v":{"$error":"#REF!"}},{"$f":"VLOOKUP($A813,#REF!,3,FALSE)","v":{"$error":"#REF!"}},"McDowell Named and Created"]
["SM7_r31",{"$f":"VLOOKUP($A814,#REF!,2,FALSE)","v":{"$error":"#REF!"}},{"$f":"VLOOKUP($A814,#REF!,3,FALSE)","v":{"$error":"#REF!"}},"McDowell Named and Created"]
["SM7_r32",{"$f":"VLOOKUP($A815,#REF!,2,FALSE)","v":{"$error":"#REF!"}},{"$f":"VLOOKUP($A815,#REF!,3,FALSE)","v":{"$error":"#REF!"}},"McDowell Named and Created"]
["SM7_r33",{"$f":"VLOOKUP($A816,#REF!,2,FALSE)","v":{"$error":"#REF!"}},{"$f":"VLOOKUP($A816,#REF!,3,FALSE)","v":{"$error":"#REF!"}},"McDowell Named and Created"]
["SM7_r34",{"$f":"VLOOKUP($A817,#REF!,2,FALSE)","v":{"$error":"#REF!"}},{"$f":"VLOOKUP($A817,#REF!,3,FALSE)","v":{"$error":"#REF!"}},"McDowell Named and Created"]
["SM7_r35",{"$f":"VLOOKUP($A818,#REF!,2,FALSE)","v":{"$error":"#REF!"}},{"$f":"VLOOKUP($A818,#REF!,3,FALSE)","v":{"$error":"#REF!"}},"McDowell Named and Created"]
["SM7_r36",{"$f":"VLOOKUP($A819,#REF!,2,FALSE)","v":{"$error":"#REF!"}},{"$f":"VLOOKUP($A819,#REF!,3,FALSE)","v":{"$error":"#REF!"}},"McDowell Named and Created"]
["SM7_r37",{"$f":"VLOOKUP($A820,#REF!,2,FALSE)","v":{"$error":"#REF!"}},{"$f":"VLOOKUP($A820,#REF!,3,FALSE)","v":{"$error":"#REF!"}},"McDowell Named and Created"]
["SM7_r38",{"$f":"VLOOKUP($A821,#REF!,2,FALSE)","v":{"$error":"#REF!"}},{"$f":"VLOOKUP($A821,#REF!,3,FALSE)","v":{"$error":"#REF!"}},"McDowell Named and Created"]
["SM7_r39",{"$f":"VLOOKUP($A822,#REF!,2,FALSE)","v":{"$error":"#REF!"}},{"$f":"VLOOKUP($A822,#REF!,3,FALSE)","v":{"$error":"#REF!"}},"McDowell Named and Created"]
["SM7_r40",{"$f":"VLOOKUP($A823,#REF!,2,FALSE)","v":{"$error":"#REF!"}},{"$f":"VLOOKUP($A823,#REF!,3,FALSE)","v":{"$error":"#REF!"}},"McDowell Named and Created"]
["SM7_r41",{"$f":"VLOOKUP($A824,#REF!,2,FALSE)","v":{"$error":"#REF!"}},{"$f":"VLOOKUP($A824,#REF!,3,FALSE)","v":{"$error":"#REF!"}},"McDowell Named and Created"]
["SM7_r42",{"$f":"VLOOKUP($A825,#REF!,2,FALSE)","v":{"$error":"#REF!"}},{"$f":"VLOOKUP($A825,#REF!,3,FALSE)","v":{"$error":"#REF!"}},"McDowell Named and Created"]
["SM7_r43",{"$f":"VLOOKUP($A826,#REF!,2,FALSE)","v":{"$error":"#REF!"}},{"$f":"VLOOKUP($A826,#REF!,3,FALSE)","v":{"$error":"#REF!"}},"McDowell Named and Created"]
["SM7_r44",{"$f":"VLOOKUP($A827,#REF!,2,FALSE)","v":{"$error":"#REF!"}},{"$f":"VLOOKUP($A827,#REF!,3,FALSE)","v":{"$error":"#REF!"}},"McDowell Named and Created"]
["SM7_r45",{"$f":"VLOOKUP($A828,#REF!,2,FALSE)","v":{"$error":"#REF!"}},{"$f":"VLOOKUP($A828,#REF!,3,FALSE)","v":{"$error":"#REF!"}},"McDowell Named and Created"]
["SM7_r46",{"$f":"VLOOKUP($A829,#REF!,2,FALSE)","v":{"$error":"#REF!"}},{"$f":"VLOOKUP($A829,#REF!,3,FALSE)","v":{"$error":"#REF!"}},"McDowell Named and Created"]
["SM7_r47",{"$f":"VLOOKUP($A830,#REF!,2,FALSE)","v":{"$error":"#REF!"}},{"$f":"VLOOKUP($A830,#REF!,3,FALSE)","v":{"$error":"#REF!"}},"McDowell Named and Created"]
["SM7_r48",{"$f":"VLOOKUP($A831,#REF!,2,FALSE)","v":{"$error":"#REF!"}},{"$f":"VLOOKUP($A831,#REF!,3,FALSE)","v":{"$error":"#REF!"}},"McDowell Named and Created"]
["SM7_r49",{"$f":"VLOOKUP($A832,#REF!,2,FALSE)","v":{"$error":"#REF!"}},{"$f":"VLOOKUP($A832,#REF!,3,FALSE)","v":{"$error":"#REF!"}},"McDowell Named and Created"]
["SM7_r50",{"$f":"VLOOKUP($A833,#REF!,2,FALSE)","v":{"$error":"#REF!"}},{"$f":"VLOOKUP($A833,#REF!,3,FALSE)","v":{"$error":"#REF!"}},"McDowell Named and Created"]
["SM7_r51",{"$f":"VLOOKUP($A834,#REF!,2,FALSE)","v":{"$error":"#REF!"}},{"$f":"VLOOKUP($A834,#REF!,3,FALSE)","v":{"$error":"#REF!"}},"McDowell Named and Created"]
["SM7_r52",{"$f":"VLOOKUP($A835,#REF!,2,FALSE)","v":{"$error":"#REF!"}},{"$f":"VLOOKUP($A835,#REF!,3,FALSE)","v":{"$error":"#REF!"}},"McDowell Named and Created"]
["SM7_r53",{"$f":"VLOOKUP($A836,#REF!,2,FALSE)","v":{"$error":"#REF!"}},{"$f":"VLOOKUP($A836,#REF!,3,FALSE)","v":{"$error":"#REF!"}},"McDowell Named and Created"]
["SM7_r54",{"$f":"VLOOKUP($A837,#REF!,2,FALSE)","v":{"$error":"#REF!"}},{"$f":"VLOOKUP($A837,#REF!,3,FALSE)","v":{"$error":"#REF!"}},"McDowell Named and Created"]
["SM7_r55",{"$f":"VLOOKUP($A838,#REF!,2,FALSE)","v":{"$error":"#REF!"}},{"$f":"VLOOKUP($A838,#REF!,3,FALSE)","v":{"$error":"#REF!"}},"McDowell Named and Created"]
["SM7_r56",{"$f":"VLOOKUP($A839,#REF!,2,FALSE)","v":{"$error":"#REF!"}},{"$f":"VLOOKUP($A839,#REF!,3,FALSE)","v":{"$error":"#REF!"}},"McDowell Named and Created"]
["SM7_r57",{"$f":"VLOOKUP($A840,#REF!,2,FALSE)","v":{"$error":"#REF!"}},{"$f":"VLOOKUP($A840,#REF!,3,FALSE)","v":{"$error":"#REF!"}},"McDowell Named and Created"]
["SM7_r58",{"$f":"VLOOKUP($A841,#REF!,2,FALSE)","v":{"$error":"#REF!"}},{"$f":"VLOOKUP($A841,#REF!,3,FALSE)","v":{"$error":"#REF!"}},"McDowell Named and Created"]
["SM7_r59",{"$f":"VLOOKUP($A842,#REF!,2,FALSE)","v":{"$error":"#REF!"}},{"$f":"VLOOKUP($A842,#REF!,3,FALSE)","v":{"$error":"#REF!"}},"McDowell Named and Created"]
["SM7_r60",{"$f":"VLOOKUP($A843,#REF!,2,FALSE)","v":{"$error":"#REF!"}},{"$f":"VLOOKUP($A843,#REF!,3,FALSE)","v":{"$error":"#REF!"}},"McDowell Named and Created"]
["SM7_r61",{"$f":"VLOOKUP($A844,#REF!,2,FALSE)","v":{"$error":"#REF!"}},{"$f":"VLOOKUP($A844,#REF!,3,FALSE)","v":{"$error":"#REF!"}},"McDowell Named and Created"]
["SM7_r62",{"$f":"VLOOKUP($A845,#REF!,2,FALSE)","v":{"$error":"#REF!"}},{"$f":"VLOOKUP($A845,#REF!,3,FALSE)","v":{"$error":"#REF!"}},"McDowell Named and Created"]
["SM7_r63",{"$f":"VLOOKUP($A846,#REF!,2,FALSE)","v":{"$error":"#REF!"}},{"$f":"VLOOKUP($A846,#REF!,3,FALSE)","v":{"$error":"#REF!"}},"McDowell Named and Created"]
["SM7_r64",{"$f":"VLOOKUP($A847,#REF!,2,FALSE)","v":{"$error":"#REF!"}},{"$f":"VLOOKUP($A847,#REF!,3,FALSE)","v":{"$error":"#REF!"}},"McDowell Named and Created"]
["SM7_r65",{"$f":"VLOOKUP($A848,#REF!,2,FALSE)","v":{"$error":"#REF!"}},{"$f":"VLOOKUP($A848,#REF!,3,FALSE)","v":{"$error":"#REF!"}},"McDowell Named and Created"]
["SM7_r66",{"$f":"VLOOKUP($A849,#REF!,2,FALSE)","v":{"$error":"#REF!"}},{"$f":"VLOOKUP($A849,#REF!,3,FALSE)","v":{"$error":"#REF!"}},"McDowell Named and Created"]
["SM7_r67",{"$f":"VLOOKUP($A850,#REF!,2,FALSE)","v":{"$error":"#REF!"}},{"$f":"VLOOKUP($A850,#REF!,3,FALSE)","v":{"$error":"#REF!"}},"McDowell Named and Created"]
["SM7_r68",{"$f":"VLOOKUP($A851,#REF!,2,FALSE)","v":{"$error":"#REF!"}},{"$f":"VLOOKUP($A851,#REF!,3,FALSE)","v":{"$error":"#REF!"}},"McDowell Named and Created"]
["SM7_r69",{"$f":"VLOOKUP($A852,#REF!,2,FALSE)","v":{"$error":"#REF!"}},{"$f":"VLOOKUP($A852,#REF!,3,FALSE)","v":{"$error":"#REF!"}},"McDowell Named and Created"]
["SM7_r70",{"$f":"VLOOKUP($A853,#REF!,2,FALSE)","v":{"$error":"#REF!"}},{"$f":"VLOOKUP($A853,#REF!,3,FALSE)","v":{"$error":"#REF!"}},"McDowell Named and Created"]
["SM7_r71",{"$f":"VLOOKUP($A854,#REF!,2,FALSE)","v":{"$error":"#REF!"}},{"$f":"VLOOKUP($A854,#REF!,3,FALSE)","v":{"$error":"#REF!"}},"McDowell Named and Created"]
["SM7_r72",{"$f":"VLOOKUP($A855,#REF!,2,FALSE)","v":{"$error":"#REF!"}},{"$f":"VLOOKUP($A855,#REF!,3,FALSE)","v":{"$error":"#REF!"}},"McDowell Named and Created"]
["SM7_r73",{"$f":"VLOOKUP($A856,#REF!,2,FALSE)","v":{"$error":"#REF!"}},{"$f":"VLOOKUP($A856,#REF!,3,FALSE)","v":{"$error":"#REF!"}},"McDowell Named and Created"]
["SM7_r74",{"$f":"VLOOKUP($A857,#REF!,2,FALSE)","v":{"$error":"#REF!"}},{"$f":"VLOOKUP($A857,#REF!,3,FALSE)","v":{"$error":"#REF!"}},"McDowell Named and Created"]
["SM7_r75",{"$f":"VLOOKUP($A858,#REF!,2,FALSE)","v":{"$error":"#REF!"}},{"$f":"VLOOKUP($A858,#REF!,3,FALSE)","v":{"$error":"#REF!"}},"McDowell Named and Created"]
["SM7_r76",{"$f":"VLOOKUP($A859,#REF!,2,FALSE)","v":{"$error":"#REF!"}},{"$f":"VLOOKUP($A859,#REF!,3,FALSE)","v":{"$error":"#REF!"}},"McDowell Named and Created"]
["SM7_r77",{"$f":"VLOOKUP($A860,#REF!,2,FALSE)","v":{"$error":"#REF!"}},{"$f":"VLOOKUP($A860,#REF!,3,FALSE)","v":{"$error":"#REF!"}},"McDowell Named and Created"]
["SM7_r78",{"$f":"VLOOKUP($A861,#REF!,2,FALSE)","v":{"$error":"#REF!"}},{"$f":"VLOOKUP($A861,#REF!,3,FALSE)","v":{"$error":"#REF!"}},"McDowell Named and Created"]
["SM7_r79",{"$f":"VLOOKUP($A862,#REF!,2,FALSE)","v":{"$error":"#REF!"}},{"$f":"VLOOKUP($A862,#REF!,3,FALSE)","v":{"$error":"#REF!"}},"McDowell Named and Created"]
["SM7_r80",{"$f":"VLOOKUP($A863,#REF!,2,FALSE)","v":{"$error":"#REF!"}},{"$f":"VLOOKUP($A863,#REF!,3,FALSE)","v":{"$error":"#REF!"}},"McDowell Named and Created"]
["SM7_r81",{"$f":"VLOOKUP($A864,#REF!,2,FALSE)","v":{"$error":"#REF!"}},{"$f":"VLOOKUP($A864,#REF!,3,FALSE)","v":{"$error":"#REF!"}},"McDowell Named and Created"]
["SM7_r82",{"$f":"VLOOKUP($A865,#REF!,2,FALSE)","v":{"$error":"#REF!"}},{"$f":"VLOOKUP($A865,#REF!,3,FALSE)","v":{"$error":"#REF!"}},"McDowell Named and Created"]
["SM7_r83",{"$f":"VLOOKUP($A866,#REF!,2,FALSE)","v":{"$error":"#REF!"}},{"$f":"VLOOKUP($A866,#REF!,3,FALSE)","v":{"$error":"#REF!"}},"McDowell Named and Created"]
["SM7_r84",{"$f":"VLOOKUP($A867,#REF!,2,FALSE)","v":{"$error":"#REF!"}},{"$f":"VLOOKUP($A867,#REF!,3,FALSE)","v":{"$error":"#REF!"}},"McDowell Named and Created"]
["SM7_r85",{"$f":"VLOOKUP($A868,#REF!,2,FALSE)","v":{"$error":"#REF!"}},{"$f":"VLOOKUP($A868,#REF!,3,FALSE)","v":{"$error":"#REF!"}},"McDowell Named and Created"]
["SM7_r86",{"$f":"VLOOKUP($A869,#REF!,2,FALSE)","v":{"$error":"#REF!"}},{"$f":"VLOOKUP($A869,#REF!,3,FALSE)","v":{"$error":"#REF!"}},"McDowell Named and Created"]
["SM7_r87",{"$f":"VLOOKUP($A870,#REF!,2,FALSE)","v":{"$error":"#REF!"}},{"$f":"VLOOKUP($A870,#REF!,3,FALSE)","v":{"$error":"#REF!"}},"McDowell Named and Created"]
["SM7_r88",{"$f":"VLOOKUP($A871,#REF!,2,FALSE)","v":{"$error":"#REF!"}},{"$f":"VLOOKUP($A871,#REF!,3,FALSE)","v":{"$error":"#REF!"}},"McDowell Named and Created"]
["SM7_r89",{"$f":"VLOOKUP($A872,#REF!,2,FALSE)","v":{"$error":"#REF!"}},{"$f":"VLOOKUP($A872,#REF!,3,FALSE)","v":{"$error":"#REF!"}},"McDowell Named and Created"]
["SM7_r90",{"$f":"VLOOKUP($A873,#REF!,2,FALSE)","v":{"$error":"#REF!"}},{"$f":"VLOOKUP($A873,#REF!,3,FALSE)","v":{"$error":"#REF!"}},"McDowell Named and Created"]
["SM7_r91",{"$f":"VLOOKUP($A874,#REF!,2,FALSE)","v":{"$error":"#REF!"}},{"$f":"VLOOKUP($A874,#REF!,3,FALSE)","v":{"$error":"#REF!"}},"McDowell Named and Created"]
["SM7_r92",{"$f":"VLOOKUP($A875,#REF!,2,FALSE)","v":{"$error":"#REF!"}},{"$f":"VLOOKUP($A875,#REF!,3,FALSE)","v":{"$error":"#REF!"}},"McDowell Named and Created"]
["SM7_r93",{"$f":"VLOOKUP($A876,#REF!,2,FALSE)","v":{"$error":"#REF!"}},{"$f":"VLOOKUP($A876,#REF!,3,FALSE)","v":{"$error":"#REF!"}},"McDowell Named and Created"]
["SM7_r94",{"$f":"VLOOKUP($A877,#REF!,2,FALSE)","v":{"$error":"#REF!"}},{"$f":"VLOOKUP($A877,#REF!,3,FALSE)","v":{"$error":"#REF!"}},"McDowell Named and Created"]
["SM7_r95",{"$f":"VLOOKUP($A878,#REF!,2,FALSE)","v":{"$error":"#REF!"}},{"$f":"VLOOKUP($A878,#REF!,3,FALSE)","v":{"$error":"#REF!"}},"McDowell Named and Created"]
["SM7_r96",{"$f":"VLOOKUP($A879,#REF!,2,FALSE)","v":{"$error":"#REF!"}},{"$f":"VLOOKUP($A879,#REF!,3,FALSE)","v":{"$error":"#REF!"}},"McDowell Named and Created"]
["SM7_r97",{"$f":"VLOOKUP($A880,#REF!,2,FALSE)","v":{"$error":"#REF!"}},{"$f":"VLOOKUP($A880,#REF!,3,FALSE)","v":{"$error":"#REF!"}},"McDowell Named and Created"]
["SM7_r98",{"$f":"VLOOKUP($A881,#REF!,2,FALSE)","v":{"$error":"#REF!"}},{"$f":"VLOOKUP($A881,#REF!,3,FALSE)","v":{"$error":"#REF!"}},"McDowell Named and Created"]
["SM7_r99",{"$f":"VLOOKUP($A882,#REF!,2,FALSE)","v":{"$error":"#REF!"}},{"$f":"VLOOKUP($A882,#REF!,3,FALSE)","v":{"$error":"#REF!"}},"McDowell Named and Created"]
["SM7_r100",{"$f":"VLOOKUP($A883,#REF!,2,FALSE)","v":{"$error":"#REF!"}},{"$f":"VLOOKUP($A883,#REF!,3,FALSE)","v":{"$error":"#REF!"}},"McDowell Named and Created"]
["SM7_r101",{"$f":"VLOOKUP($A884,#REF!,2,FALSE)","v":{"$error":"#REF!"}},{"$f":"VLOOKUP($A884,#REF!,3,FALSE)","v":{"$error":"#REF!"}},"McDowell Named and Created"]
["SM7_r102",{"$f":"VLOOKUP($A885,#REF!,2,FALSE)","v":{"$error":"#REF!"}},{"$f":"VLOOKUP($A885,#REF!,3,FALSE)","v":{"$error":"#REF!"}},"McDowell Named and Created"]
["SM7_r103",{"$f":"VLOOKUP($A886,#REF!,2,FALSE)","v":{"$error":"#REF!"}},{"$f":"VLOOKUP($A886,#REF!,3,FALSE)","v":{"$error":"#REF!"}},"McDowell Named and Created"]
["SM7_r104",{"$f":"VLOOKUP($A887,#REF!,2,FALSE)","v":{"$error":"#REF!"}},{"$f":"VLOOKUP($A887,#REF!,3,FALSE)","v":{"$error":"#REF!"}},"McDowell Named and Created"]
["SM7_r105",{"$f":"VLOOKUP($A888,#REF!,2,FALSE)","v":{"$error":"#REF!"}},{"$f":"VLOOKUP($A888,#REF!,3,FALSE)","v":{"$error":"#REF!"}},"McDowell Named and Created"]
["SM7_r106",{"$f":"VLOOKUP($A889,#REF!,2,FALSE)","v":{"$error":"#REF!"}},{"$f":"VLOOKUP($A889,#REF!,3,FALSE)","v":{"$error":"#REF!"}},"McDowell Named and Created"]
["SM7_r107",{"$f":"VLOOKUP($A890,#REF!,2,FALSE)","v":{"$error":"#REF!"}},{"$f":"VLOOKUP($A890,#REF!,3,FALSE)","v":{"$error":"#REF!"}},"McDowell Named and Created"]
["SM7_r108",{"$f":"VLOOKUP($A891,#REF!,2,FALSE)","v":{"$error":"#REF!"}},{"$f":"VLOOKUP($A891,#REF!,3,FALSE)","v":{"$error":"#REF!"}},"McDowell Named and Created"]
["SM7_r109",{"$f":"VLOOKUP($A892,#REF!,2,FALSE)","v":{"$error":"#REF!"}},{"$f":"VLOOKUP($A892,#REF!,3,FALSE)","v":{"$error":"#REF!"}},"McDowell Named and Created"]
["SM7_r110",{"$f":"VLOOKUP($A893,#REF!,2,FALSE)","v":{"$error":"#REF!"}},{"$f":"VLOOKUP($A893,#REF!,3,FALSE)","v":{"$error":"#REF!"}},"McDowell Named and Created"]
["SM7_r111",{"$f":"VLOOKUP($A894,#REF!,2,FALSE)","v":{"$error":"#REF!"}},{"$f":"VLOOKUP($A894,#REF!,3,FALSE)","v":{"$error":"#REF!"}},"McDowell Named and Created"]
["SM7_r112",{"$f":"VLOOKUP($A895,#REF!,2,FALSE)","v":{"$error":"#REF!"}},{"$f":"VLOOKUP($A895,#REF!,3,FALSE)","v":{"$error":"#REF!"}},"McDowell Named and Created"]
["SM7_r113",{"$f":"VLOOKUP($A896,#REF!,2,FALSE)","v":{"$error":"#REF!"}},{"$f":"VLOOKUP($A896,#REF!,3,FALSE)","v":{"$error":"#REF!"}},"McDowell Named and Created"]
["SM7_r114",{"$f":"VLOOKUP($A897,#REF!,2,FALSE)","v":{"$error":"#REF!"}},{"$f":"VLOOKUP($A897,#REF!,3,FALSE)","v":{"$error":"#REF!"}},"McDowell Named and Created"]
["SM7_r115",{"$f":"VLOOKUP($A898,#REF!,2,FALSE)","v":{"$error":"#REF!"}},{"$f":"VLOOKUP($A898,#REF!,3,FALSE)","v":{"$error":"#REF!"}},"McDowell Named and Created"]
["SM7_r116",{"$f":"VLOOKUP($A899,#REF!,2,FALSE)","v":{"$error":"#REF!"}},{"$f":"VLOOKUP($A899,#REF!,3,FALSE)","v":{"$error":"#REF!"}},"McDowell Named and Created"]
["SM7_r117",{"$f":"VLOOKUP($A900,#REF!,2,FALSE)","v":{"$error":"#REF!"}},{"$f":"VLOOKUP($A900,#REF!,3,FALSE)","v":{"$error":"#REF!"}},"McDowell Named and Created"]
["SM7_r118",{"$f":"VLOOKUP($A901,#REF!,2,FALSE)","v":{"$error":"#REF!"}},{"$f":"VLOOKUP($A901,#REF!,3,FALSE)","v":{"$error":"#REF!"}},"McDowell Named and Created"]
["SM7_r119",{"$f":"VLOOKUP($A902,#REF!,2,FALSE)","v":{"$error":"#REF!"}},{"$f":"VLOOKUP($A902,#REF!,3,FALSE)","v":{"$error":"#REF!"}},"McDowell Named and Created"]
["SM7_r120",{"$f":"VLOOKUP($A903,#REF!,2,FALSE)","v":{"$error":"#REF!"}},{"$f":"VLOOKUP($A903,#REF!,3,FALSE)","v":{"$error":"#REF!"}},"McDowell Named and Created"]
["SM8_r1",{"$f":"VLOOKUP($A904,#REF!,2,FALSE)","v":{"$error":"#REF!"}},{"$f":"VLOOKUP($A904,#REF!,3,FALSE)","v":{"$error":"#REF!"}},"McDowell Named and Created"]
["SM8_r2",{"$f":"VLOOKUP($A905,#REF!,2,FALSE)","v":{"$error":"#REF!"}},{"$f":"VLOOKUP($A905,#REF!,3,FALSE)","v":{"$error":"#REF!"}},"McDowell Named and Created"]
["SM8_r3",{"$f":"VLOOKUP($A906,#REF!,2,FALSE)","v":{"$error":"#REF!"}},{"$f":"VLOOKUP($A906,#REF!,3,FALSE)","v":{"$error":"#REF!"}},"McDowell Named and Created"]
["SM8_r4",{"$f":"VLOOKUP($A907,#REF!,2,FALSE)","v":{"$error":"#REF!"}},{"$f":"VLOOKUP($A907,#REF!,3,FALSE)","v":{"$error":"#REF!"}},"McDowell Named and Created"]
["SM8_r5",{"$f":"VLOOKUP($A908,#REF!,2,FALSE)","v":{"$error":"#REF!"}},{"$f":"VLOOKUP($A908,#REF!,3,FALSE)","v":{"$error":"#REF!"}},"McDowell Named and Created"]
["SM8_r6",{"$f":"VLOOKUP($A909,#REF!,2,FALSE)","v":{"$error":"#REF!"}},{"$f":"VLOOKUP($A909,#REF!,3,FALSE)","v":{"$error":"#REF!"}},"McDowell Named and Created"]
["SM8_r7",{"$f":"VLOOKUP($A910,#REF!,2,FALSE)","v":{"$error":"#REF!"}},{"$f":"VLOOKUP($A910,#REF!,3,FALSE)","v":{"$error":"#REF!"}},"McDowell Named and Created"]
["SM8_r8",{"$f":"VLOOKUP($A911,#REF!,2,FALSE)","v":{"$error":"#REF!"}},{"$f":"VLOOKUP($A911,#REF!,3,FALSE)","v":{"$error":"#REF!"}},"McDowell Named and Created"]
["SM8_r9",{"$f":"VLOOKUP($A912,#REF!,2,FALSE)","v":{"$error":"#REF!"}},{"$f":"VLOOKUP($A912,#REF!,3,FALSE)","v":{"$error":"#REF!"}},"McDowell Named and Created"]
["SM8_r10",{"$f":"VLOOKUP($A913,#REF!,2,FALSE)","v":{"$error":"#REF!"}},{"$f":"VLOOKUP($A913,#REF!,3,FALSE)","v":{"$error":"#REF!"}},"McDowell Named and Created"]
["SM8_r11",{"$f":"VLOOKUP($A914,#REF!,2,FALSE)","v":{"$error":"#REF!"}},{"$f":"VLOOKUP($A914,#REF!,3,FALSE)","v":{"$error":"#REF!"}},"McDowell Named and Created"]
["SM8_r12",{"$f":"VLOOKUP($A915,#REF!,2,FALSE)","v":{"$error":"#REF!"}},{"$f":"VLOOKUP($A915,#REF!,3,FALSE)","v":{"$error":"#REF!"}},"McDowell Named and Created"]
["SM8_r13",{"$f":"VLOOKUP($A916,#REF!,2,FALSE)","v":{"$error":"#REF!"}},{"$f":"VLOOKUP($A916,#REF!,3,FALSE)","v":{"$error":"#REF!"}},"McDowell Named and Created"]
["SM8_r14",{"$f":"VLOOKUP($A917,#REF!,2,FALSE)","v":{"$error":"#REF!"}},{"$f":"VLOOKUP($A917,#REF!,3,FALSE)","v":{"$error":"#REF!"}},"McDowell Named and Created"]
["SM8_r15",{"$f":"VLOOKUP($A918,#REF!,2,FALSE)","v":{"$error":"#REF!"}},{"$f":"VLOOKUP($A918,#REF!,3,FALSE)","v":{"$error":"#REF!"}},"McDowell Named and Created"]
["SM8_r16",{"$f":"VLOOKUP($A919,#REF!,2,FALSE)","v":{"$error":"#REF!"}},{"$f":"VLOOKUP($A919,#REF!,3,FALSE)","v":{"$error":"#REF!"}},"McDowell Named and Created"]
["SM8_r17",{"$f":"VLOOKUP($A920,#REF!,2,FALSE)","v":{"$error":"#REF!"}},{"$f":"VLOOKUP($A920,#REF!,3,FALSE)","v":{"$error":"#REF!"}},"McDowell Named and Created"]
["SM8_r18",{"$f":"VLOOKUP($A921,#REF!,2,FALSE)","v":{"$error":"#REF!"}},{"$f":"VLOOKUP($A921,#REF!,3,FALSE)","v":{"$error":"#REF!"}},"McDowell Named and Created"]
["SM8_r19",{"$f":"VLOOKUP($A922,#REF!,2,FALSE)","v":{"$error":"#REF!"}},{"$f":"VLOOKUP($A922,#REF!,3,FALSE)","v":{"$error":"#REF!"}},"McDowell Named and Created"]
["SM8_r20",{"$f":"VLOOKUP($A923,#REF!,2,FALSE)","v":{"$error":"#REF!"}},{"$f":"VLOOKUP($A923,#REF!,3,FALSE)","v":{"$error":"#REF!"}},"McDowell Named and Created"]
["SM8_r21",{"$f":"VLOOKUP($A924,#REF!,2,FALSE)","v":{"$error":"#REF!"}},{"$f":"VLOOKUP($A924,#REF!,3,FALSE)","v":{"$error":"#REF!"}},"McDowell Named and Created"]
["SM8_r22",{"$f":"VLOOKUP($A925,#REF!,2,FALSE)","v":{"$error":"#REF!"}},{"$f":"VLOOKUP($A925,#REF!,3,FALSE)","v":{"$error":"#REF!"}},"McDowell Named and Created"]
["SM8_r23",{"$f":"VLOOKUP($A926,#REF!,2,FALSE)","v":{"$error":"#REF!"}},{"$f":"VLOOKUP($A926,#REF!,3,FALSE)","v":{"$error":"#REF!"}},"McDowell Named and Created"]
["SM8_r24",{"$f":"VLOOKUP($A927,#REF!,2,FALSE)","v":{"$error":"#REF!"}},{"$f":"VLOOKUP($A927,#REF!,3,FALSE)","v":{"$error":"#REF!"}},"McDowell Named and Created"]
["SM8_r25",{"$f":"VLOOKUP($A928,#REF!,2,FALSE)","v":{"$error":"#REF!"}},{"$f":"VLOOKUP($A928,#REF!,3,FALSE)","v":{"$error":"#REF!"}},"McDowell Named and Created"]
["SM8_r26",{"$f":"VLOOKUP($A929,#REF!,2,FALSE)","v":{"$error":"#REF!"}},{"$f":"VLOOKUP($A929,#REF!,3,FALSE)","v":{"$error":"#REF!"}},"McDowell Named and Created"]
["SM8_r27",{"$f":"VLOOKUP($A930,#REF!,2,FALSE)","v":{"$error":"#REF!"}},{"$f":"VLOOKUP($A930,#REF!,3,FALSE)","v":{"$error":"#REF!"}},"McDowell Named and Created"]
["SM8_r28",{"$f":"VLOOKUP($A931,#REF!,2,FALSE)","v":{"$error":"#REF!"}},{"$f":"VLOOKUP($A931,#REF!,3,FALSE)","v":{"$error":"#REF!"}},"McDowell Named and Created"]
["SM8_r29",{"$f":"VLOOKUP($A932,#REF!,2,FALSE)","v":{"$error":"#REF!"}},{"$f":"VLOOKUP($A932,#REF!,3,FALSE)","v":{"$error":"#REF!"}},"McDowell Named and Created"]
["SM8_r30",{"$f":"VLOOKUP($A933,#REF!,2,FALSE)","v":{"$error":"#REF!"}},{"$f":"VLOOKUP($A933,#REF!,3,FALSE)","v":{"$error":"#REF!"}},"McDowell Named and Created"]
["SM8_r31",{"$f":"VLOOKUP($A934,#REF!,2,FALSE)","v":{"$error":"#REF!"}},{"$f":"VLOOKUP($A934,#REF!,3,FALSE)","v":{"$error":"#REF!"}},"McDowell Named and Created"]
["SM8_r32",{"$f":"VLOOKUP($A935,#REF!,2,FALSE)","v":{"$error":"#REF!"}},{"$f":"VLOOKUP($A935,#REF!,3,FALSE)","v":{"$error":"#REF!"}},"McDowell Named and Created"]
["SM8_r33",{"$f":"VLOOKUP($A936,#REF!,2,FALSE)","v":{"$error":"#REF!"}},{"$f":"VLOOKUP($A936,#REF!,3,FALSE)","v":{"$error":"#REF!"}},"McDowell Named and Created"]
["SM8_r34",{"$f":"VLOOKUP($A937,#REF!,2,FALSE)","v":{"$error":"#REF!"}},{"$f":"VLOOKUP($A937,#REF!,3,FALSE)","v":{"$error":"#REF!"}},"McDowell Named and Created"]
["SM8_r35",{"$f":"VLOOKUP($A938,#REF!,2,FALSE)","v":{"$error":"#REF!"}},{"$f":"VLOOKUP($A938,#REF!,3,FALSE)","v":{"$error":"#REF!"}},"McDowell Named and Created"]
["SM8_r36",{"$f":"VLOOKUP($A939,#REF!,2,FALSE)","v":{"$error":"#REF!"}},{"$f":"VLOOKUP($A939,#REF!,3,FALSE)","v":{"$error":"#REF!"}},"McDowell Named and Created"]
["SM8_r37",{"$f":"VLOOKUP($A940,#REF!,2,FALSE)","v":{"$error":"#REF!"}},{"$f":"VLOOKUP($A940,#REF!,3,FALSE)","v":{"$error":"#REF!"}},"McDowell Named and Created"]
["SM8_r38",{"$f":"VLOOKUP($A941,#REF!,2,FALSE)","v":{"$error":"#REF!"}},{"$f":"VLOOKUP($A941,#REF!,3,FALSE)","v":{"$error":"#REF!"}},"McDowell Named and Created"]
["SM8_r39",{"$f":"VLOOKUP($A942,#REF!,2,FALSE)","v":{"$error":"#REF!"}},{"$f":"VLOOKUP($A942,#REF!,3,FALSE)","v":{"$error":"#REF!"}},"McDowell Named and Created"]
["SM8_r40",{"$f":"VLOOKUP($A943,#REF!,2,FALSE)","v":{"$error":"#REF!"}},{"$f":"VLOOKUP($A943,#REF!,3,FALSE)","v":{"$error":"#REF!"}},"McDowell Named and Created"]
["SM8_r41",{"$f":"VLOOKUP($A944,#REF!,2,FALSE)","v":{"$error":"#REF!"}},{"$f":"VLOOKUP($A944,#REF!,3,FALSE)","v":{"$error":"#REF!"}},"McDowell Named and Created"]
["SM8_r42",{"$f":"VLOOKUP($A945,#REF!,2,FALSE)","v":{"$error":"#REF!"}},{"$f":"VLOOKUP($A945,#REF!,3,FALSE)","v":{"$error":"#REF!"}},"McDowell Named and Created"]
["SM8_r43",{"$f":"VLOOKUP($A946,#REF!,2,FALSE)","v":{"$error":"#REF!"}},{"$f":"VLOOKUP($A946,#REF!,3,FALSE)","v":{"$error":"#REF!"}},"McDowell Named and Created"]
["SM8_r44",{"$f":"VLOOKUP($A947,#REF!,2,FALSE)","v":{"$error":"#REF!"}},{"$f":"VLOOKUP($A947,#REF!,3,FALSE)","v":{"$error":"#REF!"}},"McDowell Named and Created"]
["SM8_r45",{"$f":"VLOOKUP($A948,#REF!,2,FALSE)","v":{"$error":"#REF!"}},{"$f":"VLOOKUP($A948,#REF!,3,FALSE)","v":{"$error":"#REF!"}},"McDowell Named and Created"]
["SM8_r46",{"$f":"VLOOKUP($A949,#REF!,2,FALSE)","v":{"$error":"#REF!"}},{"$f":"VLOOKUP($A949,#REF!,3,FALSE)","v":{"$error":"#REF!"}},"McDowell Named and Created"]
["SM8_r47",{"$f":"VLOOKUP($A950,#REF!,2,FALSE)","v":{"$error":"#REF!"}},{"$f":"VLOOKUP($A950,#REF!,3,FALSE)","v":{"$error":"#REF!"}},"McDowell Named and Created"]
["SM8_r48",{"$f":"VLOOKUP($A951,#REF!,2,FALSE)","v":{"$error":"#REF!"}},{"$f":"VLOOKUP($A951,#REF!,3,FALSE)","v":{"$error":"#REF!"}},"McDowell Named and Created"]
["SM8_r49",{"$f":"VLOOKUP($A952,#REF!,2,FALSE)","v":{"$error":"#REF!"}},{"$f":"VLOOKUP($A952,#REF!,3,FALSE)","v":{"$error":"#REF!"}},"McDowell Named and Created"]
["SM8_r50",{"$f":"VLOOKUP($A953,#REF!,2,FALSE)","v":{"$error":"#REF!"}},{"$f":"VLOOKUP($A953,#REF!,3,FALSE)","v":{"$error":"#REF!"}},"McDowell Named and Created"]
["SM8_r51",{"$f":"VLOOKUP($A954,#REF!,2,FALSE)","v":{"$error":"#REF!"}},{"$f":"VLOOKUP($A954,#REF!,3,FALSE)","v":{"$error":"#REF!"}},"McDowell Named and Created"]
["SM8_r52",{"$f":"VLOOKUP($A955,#REF!,2,FALSE)","v":{"$error":"#REF!"}},{"$f":"VLOOKUP($A955,#REF!,3,FALSE)","v":{"$error":"#REF!"}},"McDowell Named and Created"]
["SM8_r53",{"$f":"VLOOKUP($A956,#REF!,2,FALSE)","v":{"$error":"#REF!"}},{"$f":"VLOOKUP($A956,#REF!,3,FALSE)","v":{"$error":"#REF!"}},"McDowell Named and Created"]
["SM8_r54",{"$f":"VLOOKUP($A957,#REF!,2,FALSE)","v":{"$error":"#REF!"}},{"$f":"VLOOKUP($A957,#REF!,3,FALSE)","v":{"$error":"#REF!"}},"McDowell Named and Created"]
["SM8_r55",{"$f":"VLOOKUP($A958,#REF!,2,FALSE)","v":{"$error":"#REF!"}},{"$f":"VLOOKUP($A958,#REF!,3,FALSE)","v":{"$error":"#REF!"}},"McDowell Named and Created"]
["SM8_r56",{"$f":"VLOOKUP($A959,#REF!,2,FALSE)","v":{"$error":"#REF!"}},{"$f":"VLOOKUP($A959,#REF!,3,FALSE)","v":{"$error":"#REF!"}},"McDowell Named and Created"]
["SM8_r57",{"$f":"VLOOKUP($A960,#REF!,2,FALSE)","v":{"$error":"#REF!"}},{"$f":"VLOOKUP($A960,#REF!,3,FALSE)","v":{"$error":"#REF!"}},"McDowell Named and Created"]
["SM8_r58",{"$f":"VLOOKUP($A961,#REF!,2,FALSE)","v":{"$error":"#REF!"}},{"$f":"VLOOKUP($A961,#REF!,3,FALSE)","v":{"$error":"#REF!"}},"McDowell Named and Created"]
["SM8_r59",{"$f":"VLOOKUP($A962,#REF!,2,FALSE)","v":{"$error":"#REF!"}},{"$f":"VLOOKUP($A962,#REF!,3,FALSE)","v":{"$error":"#REF!"}},"McDowell Named and Created"]
["SM8_r60",{"$f":"VLOOKUP($A963,#REF!,2,FALSE)","v":{"$error":"#REF!"}},{"$f":"VLOOKUP($A963,#REF!,3,FALSE)","v":{"$error":"#REF!"}},"McDowell Named and Created"]
["SM8_r61",{"$f":"VLOOKUP($A964,#REF!,2,FALSE)","v":{"$error":"#REF!"}},{"$f":"VLOOKUP($A964,#REF!,3,FALSE)","v":{"$error":"#REF!"}},"McDowell Named and Created"]
["SM8_r62",{"$f":"VLOOKUP($A965,#REF!,2,FALSE)","v":{"$error":"#REF!"}},{"$f":"VLOOKUP($A965,#REF!,3,FALSE)","v":{"$error":"#REF!"}},"McDowell Named and Created"]
["SM8_r63",{"$f":"VLOOKUP($A966,#REF!,2,FALSE)","v":{"$error":"#REF!"}},{"$f":"VLOOKUP($A966,#REF!,3,FALSE)","v":{"$error":"#REF!"}},"McDowell Named and Created"]
["SM8_r64",{"$f":"VLOOKUP($A967,#REF!,2,FALSE)","v":{"$error":"#REF!"}},{"$f":"VLOOKUP($A967,#REF!,3,FALSE)","v":{"$error":"#REF!"}},"McDowell Named and Created"]
["SM8_r65",{"$f":"VLOOKUP($A968,#REF!,2,FALSE)","v":{"$error":"#REF!"}},{"$f":"VLOOKUP($A968,#REF!,3,FALSE)","v":{"$error":"#REF!"}},"McDowell Named and Created"]
["SM8_r66",{"$f":"VLOOKUP($A969,#REF!,2,FALSE)","v":{"$error":"#REF!"}},{"$f":"VLOOKUP($A969,#REF!,3,FALSE)","v":{"$error":"#REF!"}},"McDowell Named and Created"]
["SM8_r67",{"$f":"VLOOKUP($A970,#REF!,2,FALSE)","v":{"$error":"#REF!"}},{"$f":"VLOOKUP($A970,#REF!,3,FALSE)","v":{"$error":"#REF!"}},"McDowell Named and Created"]
["SM8_r68",{"$f":"VLOOKUP($A971,#REF!,2,FALSE)","v":{"$error":"#REF!"}},{"$f":"VLOOKUP($A971,#REF!,3,FALSE)","v":{"$error":"#REF!"}},"McDowell Named and Created"]
["SM8_r69",{"$f":"VLOOKUP($A972,#REF!,2,FALSE)","v":{"$error":"#REF!"}},{"$f":"VLOOKUP($A972,#REF!,3,FALSE)","v":{"$error":"#REF!"}},"McDowell Named and Created"]
["SM8_r70",{"$f":"VLOOKUP($A973,#REF!,2,FALSE)","v":{"$error":"#REF!"}},{"$f":"VLOOKUP($A973,#REF!,3,FALSE)","v":{"$error":"#REF!"}},"McDowell Named and Created"]
["SM8_r71",{"$f":"VLOOKUP($A974,#REF!,2,FALSE)","v":{"$error":"#REF!"}},{"$f":"VLOOKUP($A974,#REF!,3,FALSE)","v":{"$error":"#REF!"}},"McDowell Named and Created"]
["SM8_r72",{"$f":"VLOOKUP($A975,#REF!,2,FALSE)","v":{"$error":"#REF!"}},{"$f":"VLOOKUP($A975,#REF!,3,FALSE)","v":{"$error":"#REF!"}},"McDowell Named and Created"]
["SM8_r73",{"$f":"VLOOKUP($A976,#REF!,2,FALSE)","v":{"$error":"#REF!"}},{"$f":"VLOOKUP($A976,#REF!,3,FALSE)","v":{"$error":"#REF!"}},"McDowell Named and Created"]
["SM8_r74",{"$f":"VLOOKUP($A977,#REF!,2,FALSE)","v":{"$error":"#REF!"}},{"$f":"VLOOKUP($A977,#REF!,3,FALSE)","v":{"$error":"#REF!"}},"McDowell Named and Created"]
["SM8_r75",{"$f":"VLOOKUP($A978,#REF!,2,FALSE)","v":{"$error":"#REF!"}},{"$f":"VLOOKUP($A978,#REF!,3,FALSE)","v":{"$error":"#REF!"}},"McDowell Named and Created"]
["SM8_r76",{"$f":"VLOOKUP($A979,#REF!,2,FALSE)","v":{"$error":"#REF!"}},{"$f":"VLOOKUP($A979,#REF!,3,FALSE)","v":{"$error":"#REF!"}},"McDowell Named and Created"]
["SM8_r77",{"$f":"VLOOKUP($A980,#REF!,2,FALSE)","v":{"$error":"#REF!"}},{"$f":"VLOOKUP($A980,#REF!,3,FALSE)","v":{"$error":"#REF!"}},"McDowell Named and Created"]
["SM8_r78",{"$f":"VLOOKUP($A981,#REF!,2,FALSE)","v":{"$error":"#REF!"}},{"$f":"VLOOKUP($A981,#REF!,3,FALSE)","v":{"$error":"#REF!"}},"McDowell Named and Created"]
["SM8_r79",{"$f":"VLOOKUP($A982,#REF!,2,FALSE)","v":{"$error":"#REF!"}},{"$f":"VLOOKUP($A982,#REF!,3,FALSE)","v":{"$error":"#REF!"}},"McDowell Named and Created"]
["SM8_r80",{"$f":"VLOOKUP($A983,#REF!,2,FALSE)","v":{"$error":"#REF!"}},{"$f":"VLOOKUP($A983,#REF!,3,FALSE)","v":{"$error":"#REF!"}},"McDowell Named and Created"]
["SM8_r81",{"$f":"VLOOKUP($A984,#REF!,2,FALSE)","v":{"$error":"#REF!"}},{"$f":"VLOOKUP($A984,#REF!,3,FALSE)","v":{"$error":"#REF!"}},"McDowell Named and Created"]
["SM8_r82",{"$f":"VLOOKUP($A985,#REF!,2,FALSE)","v":{"$error":"#REF!"}},{"$f":"VLOOKUP($A985,#REF!,3,FALSE)","v":{"$error":"#REF!"}},"McDowell Named and Created"]
["SM8_r83",{"$f":"VLOOKUP($A986,#REF!,2,FALSE)","v":{"$error":"#REF!"}},{"$f":"VLOOKUP($A986,#REF!,3,FALSE)","v":{"$error":"#REF!"}},"McDowell Named and Created"]
["SM8_r84",{"$f":"VLOOKUP($A987,#REF!,2,FALSE)","v":{"$error":"#REF!"}},{"$f":"VLOOKUP($A987,#REF!,3,FALSE)","v":{"$error":"#REF!"}},"McDowell Named and Created"]
["SM8_r85",{"$f":"VLOOKUP($A988,#REF!,2,FALSE)","v":{"$error":"#REF!"}},{"$f":"VLOOKUP($A988,#REF!,3,FALSE)","v":{"$error":"#REF!"}},"McDowell Named and Created"]
["SM8_r86",{"$f":"VLOOKUP($A989,#REF!,2,FALSE)","v":{"$error":"#REF!"}},{"$f":"VLOOKUP($A989,#REF!,3,FALSE)","v":{"$error":"#REF!"}},"McDowell Named and Created"]
["SM8_r87",{"$f":"VLOOKUP($A990,#REF!,2,FALSE)","v":{"$error":"#REF!"}},{"$f":"VLOOKUP($A990,#REF!,3,FALSE)","v":{"$error":"#REF!"}},"McDowell Named and Created"]
["SM8_r88",{"$f":"VLOOKUP($A991,#REF!,2,FALSE)","v":{"$error":"#REF!"}},{"$f":"VLOOKUP($A991,#REF!,3,FALSE)","v":{"$error":"#REF!"}},"McDowell Named and Created"]
["SM8_r89",{"$f":"VLOOKUP($A992,#REF!,2,FALSE)","v":{"$error":"#REF!"}},{"$f":"VLOOKUP($A992,#REF!,3,FALSE)","v":{"$error":"#REF!"}},"McDowell Named and Created"]
["SM8_r90",{"$f":"VLOOKUP($A993,#REF!,2,FALSE)","v":{"$error":"#REF!"}},{"$f":"VLOOKUP($A993,#REF!,3,FALSE)","v":{"$error":"#REF!"}},"McDowell Named and Created"]
["SM8_r91",{"$f":"VLOOKUP($A994,#REF!,2,FALSE)","v":{"$error":"#REF!"}},{"$f":"VLOOKUP($A994,#REF!,3,FALSE)","v":{"$error":"#REF!"}},"McDowell Named and Created"]
["SM8_r92",{"$f":"VLOOKUP($A995,#REF!,2,FALSE)","v":{"$error":"#REF!"}},{"$f":"VLOOKUP($A995,#REF!,3,FALSE)","v":{"$error":"#REF!"}},"McDowell Named and Created"]
["SM8_r93",{"$f":"VLOOKUP($A996,#REF!,2,FALSE)","v":{"$error":"#REF!"}},{"$f":"VLOOKUP($A996,#REF!,3,FALSE)","v":{"$error":"#REF!"}},"McDowell Named and Created"]
["SM8_r94",{"$f":"VLOOKUP($A997,#REF!,2,FALSE)","v":{"$error":"#REF!"}},{"$f":"VLOOKUP($A997,#REF!,3,FALSE)","v":{"$error":"#REF!"}},"McDowell Named and Created"]
["SM8_r95",{"$f":"VLOOKUP($A998,#REF!,2,FALSE)","v":{"$error":"#REF!"}},{"$f":"VLOOKUP($A998,#REF!,3,FALSE)","v":{"$error":"#REF!"}},"McDowell Named and Created"]
["SM8_r96",{"$f":"VLOOKUP($A999,#REF!,2,FALSE)","v":{"$error":"#REF!"}},{"$f":"VLOOKUP($A999,#REF!,3,FALSE)","v":{"$error":"#REF!"}},"McDowell Named and Created"]
["SM8_r97",{"$f":"VLOOKUP($A1000,#REF!,2,FALSE)","v":{"$error":"#REF!"}},{"$f":"VLOOKUP($A1000,#REF!,3,FALSE)","v":{"$error":"#REF!"}},"McDowell Named and Created"]
["SM8_r98",{"$f":"VLOOKUP($A1001,#REF!,2,FALSE)","v":{"$error":"#REF!"}},{"$f":"VLOOKUP($A1001,#REF!,3,FALSE)","v":{"$error":"#REF!"}},"McDowell Named and Created"]
["SM8_r99",{"$f":"VLOOKUP($A1002,#REF!,2,FALSE)","v":{"$error":"#REF!"}},{"$f":"VLOOKUP($A1002,#REF!,3,FALSE)","v":{"$error":"#REF!"}},"McDowell Named and Created"]
["SM8_r100",{"$f":"VLOOKUP($A1003,#REF!,2,FALSE)","v":{"$error":"#REF!"}},{"$f":"VLOOKUP($A1003,#REF!,3,FALSE)","v":{"$error":"#REF!"}},"McDowell Named and Created"]
["SM8_r101",{"$f":"VLOOKUP($A1004,#REF!,2,FALSE)","v":{"$error":"#REF!"}},{"$f":"VLOOKUP($A1004,#REF!,3,FALSE)","v":{"$error":"#REF!"}},"McDowell Named and Created"]
["SM8_r102",{"$f":"VLOOKUP($A1005,#REF!,2,FALSE)","v":{"$error":"#REF!"}},{"$f":"VLOOKUP($A1005,#REF!,3,FALSE)","v":{"$error":"#REF!"}},"McDowell Named and Created"]
["SM8_r103",{"$f":"VLOOKUP($A1006,#REF!,2,FALSE)","v":{"$error":"#REF!"}},{"$f":"VLOOKUP($A1006,#REF!,3,FALSE)","v":{"$error":"#REF!"}},"McDowell Named and Created"]
["SM8_r104",{"$f":"VLOOKUP($A1007,#REF!,2,FALSE)","v":{"$error":"#REF!"}},{"$f":"VLOOKUP($A1007,#REF!,3,FALSE)","v":{"$error":"#REF!"}},"McDowell Named and Created"]
["SM8_r105",{"$f":"VLOOKUP($A1008,#REF!,2,FALSE)","v":{"$error":"#REF!"}},{"$f":"VLOOKUP($A1008,#REF!,3,FALSE)","v":{"$error":"#REF!"}},"McDowell Named and Created"]
["SM8_r106",{"$f":"VLOOKUP($A1009,#REF!,2,FALSE)","v":{"$error":"#REF!"}},{"$f":"VLOOKUP($A1009,#REF!,3,FALSE)","v":{"$error":"#REF!"}},"McDowell Named and Created"]
["SM8_r107",{"$f":"VLOOKUP($A1010,#REF!,2,FALSE)","v":{"$error":"#REF!"}},{"$f":"VLOOKUP($A1010,#REF!,3,FALSE)","v":{"$error":"#REF!"}},"McDowell Named and Created"]
["SM8_r108",{"$f":"VLOOKUP($A1011,#REF!,2,FALSE)","v":{"$error":"#REF!"}},{"$f":"VLOOKUP($A1011,#REF!,3,FALSE)","v":{"$error":"#REF!"}},"McDowell Named and Created"]
["SM8_r109",{"$f":"VLOOKUP($A1012,#REF!,2,FALSE)","v":{"$error":"#REF!"}},{"$f":"VLOOKUP($A1012,#REF!,3,FALSE)","v":{"$error":"#REF!"}},"McDowell Named and Created"]
["SM8_r110",{"$f":"VLOOKUP($A1013,#REF!,2,FALSE)","v":{"$error":"#REF!"}},{"$f":"VLOOKUP($A1013,#REF!,3,FALSE)","v":{"$error":"#REF!"}},"McDowell Named and Created"]
["SM8_r111",{"$f":"VLOOKUP($A1014,#REF!,2,FALSE)","v":{"$error":"#REF!"}},{"$f":"VLOOKUP($A1014,#REF!,3,FALSE)","v":{"$error":"#REF!"}},"McDowell Named and Created"]
["SM8_r112",{"$f":"VLOOKUP($A1015,#REF!,2,FALSE)","v":{"$error":"#REF!"}},{"$f":"VLOOKUP($A1015,#REF!,3,FALSE)","v":{"$error":"#REF!"}},"McDowell Named and Created"]
["SM8_r113",{"$f":"VLOOKUP($A1016,#REF!,2,FALSE)","v":{"$error":"#REF!"}},{"$f":"VLOOKUP($A1016,#REF!,3,FALSE)","v":{"$error":"#REF!"}},"McDowell Named and Created"]
["SM8_r114",{"$f":"VLOOKUP($A1017,#REF!,2,FALSE)","v":{"$error":"#REF!"}},{"$f":"VLOOKUP($A1017,#REF!,3,FALSE)","v":{"$error":"#REF!"}},"McDowell Named and Created"]
["SM8_r115",{"$f":"VLOOKUP($A1018,#REF!,2,FALSE)","v":{"$error":"#REF!"}},{"$f":"VLOOKUP($A1018,#REF!,3,FALSE)","v":{"$error":"#REF!"}},"McDowell Named and Created"]
["SM8_r116",{"$f":"VLOOKUP($A1019,#REF!,2,FALSE)","v":{"$error":"#REF!"}},{"$f":"VLOOKUP($A1019,#REF!,3,FALSE)","v":{"$error":"#REF!"}},"McDowell Named and Created"]
["SM8_r117",{"$f":"VLOOKUP($A1020,#REF!,2,FALSE)","v":{"$error":"#REF!"}},{"$f":"VLOOKUP($A1020,#REF!,3,FALSE)","v":{"$error":"#REF!"}},"McDowell Named and Created"]
["SM8_r118",{"$f":"VLOOKUP($A1021,#REF!,2,FALSE)","v":{"$error":"#REF!"}},{"$f":"VLOOKUP($A1021,#REF!,3,FALSE)","v":{"$error":"#REF!"}},"McDowell Named and Created"]
["SM8_r119",{"$f":"VLOOKUP($A1022,#REF!,2,FALSE)","v":{"$error":"#REF!"}},{"$f":"VLOOKUP($A1022,#REF!,3,FALSE)","v":{"$error":"#REF!"}},"McDowell Named and Created"]
["SM8_r120",{"$f":"VLOOKUP($A1023,#REF!,2,FALSE)","v":{"$error":"#REF!"}},{"$f":"VLOOKUP($A1023,#REF!,3,FALSE)","v":{"$error":"#REF!"}},"McDowell Named and Created"]
["SM9_r1",{"$f":"VLOOKUP($A1024,#REF!,2,FALSE)","v":{"$error":"#REF!"}},{"$f":"VLOOKUP($A1024,#REF!,3,FALSE)","v":{"$error":"#REF!"}},"McDowell Named and Created"]
["SM9_r2",{"$f":"VLOOKUP($A1025,#REF!,2,FALSE)","v":{"$error":"#REF!"}},{"$f":"VLOOKUP($A1025,#REF!,3,FALSE)","v":{"$error":"#REF!"}},"McDowell Named and Created"]
["SM9_r3",{"$f":"VLOOKUP($A1026,#REF!,2,FALSE)","v":{"$error":"#REF!"}},{"$f":"VLOOKUP($A1026,#REF!,3,FALSE)","v":{"$error":"#REF!"}},"McDowell Named and Created"]
["SM9_r4",{"$f":"VLOOKUP($A1027,#REF!,2,FALSE)","v":{"$error":"#REF!"}},{"$f":"VLOOKUP($A1027,#REF!,3,FALSE)","v":{"$error":"#REF!"}},"McDowell Named and Created"]
["SM9_r5",{"$f":"VLOOKUP($A1028,#REF!,2,FALSE)","v":{"$error":"#REF!"}},{"$f":"VLOOKUP($A1028,#REF!,3,FALSE)","v":{"$error":"#REF!"}},"McDowell Named and Created"]
["SM9_r6",{"$f":"VLOOKUP($A1029,#REF!,2,FALSE)","v":{"$error":"#REF!"}},{"$f":"VLOOKUP($A1029,#REF!,3,FALSE)","v":{"$error":"#REF!"}},"McDowell Named and Created"]
["SM9_r7",{"$f":"VLOOKUP($A1030,#REF!,2,FALSE)","v":{"$error":"#REF!"}},{"$f":"VLOOKUP($A1030,#REF!,3,FALSE)","v":{"$error":"#REF!"}},"McDowell Named and Created"]
["SM9_r8",{"$f":"VLOOKUP($A1031,#REF!,2,FALSE)","v":{"$error":"#REF!"}},{"$f":"VLOOKUP($A1031,#REF!,3,FALSE)","v":{"$error":"#REF!"}},"McDowell Named and Created"]
["SM9_r9",{"$f":"VLOOKUP($A1032,#REF!,2,FALSE)","v":{"$error":"#REF!"}},{"$f":"VLOOKUP($A1032,#REF!,3,FALSE)","v":{"$error":"#REF!"}},"McDowell Named and Created"]
["SM9_r10",{"$f":"VLOOKUP($A1033,#REF!,2,FALSE)","v":{"$error":"#REF!"}},{"$f":"VLOOKUP($A1033,#REF!,3,FALSE)","v":{"$error":"#REF!"}},"McDowell Named and Created"]
["SM9_r11",{"$f":"VLOOKUP($A1034,#REF!,2,FALSE)","v":{"$error":"#REF!"}},{"$f":"VLOOKUP($A1034,#REF!,3,FALSE)","v":{"$error":"#REF!"}},"McDowell Named and Created"]
["SM9_r12",{"$f":"VLOOKUP($A1035,#REF!,2,FALSE)","v":{"$error":"#REF!"}},{"$f":"VLOOKUP($A1035,#REF!,3,FALSE)","v":{"$error":"#REF!"}},"McDowell Named and Created"]
["SM9_r13",{"$f":"VLOOKUP($A1036,#REF!,2,FALSE)","v":{"$error":"#REF!"}},{"$f":"VLOOKUP($A1036,#REF!,3,FALSE)","v":{"$error":"#REF!"}},"McDowell Named and Created"]
["SM9_r14",{"$f":"VLOOKUP($A1037,#REF!,2,FALSE)","v":{"$error":"#REF!"}},{"$f":"VLOOKUP($A1037,#REF!,3,FALSE)","v":{"$error":"#REF!"}},"McDowell Named and Created"]
["SM9_r15",{"$f":"VLOOKUP($A1038,#REF!,2,FALSE)","v":{"$error":"#REF!"}},{"$f":"VLOOKUP($A1038,#REF!,3,FALSE)","v":{"$error":"#REF!"}},"McDowell Named and Created"]
["SM9_r16",{"$f":"VLOOKUP($A1039,#REF!,2,FALSE)","v":{"$error":"#REF!"}},{"$f":"VLOOKUP($A1039,#REF!,3,FALSE)","v":{"$error":"#REF!"}},"McDowell Named and Created"]
["SM9_r17",{"$f":"VLOOKUP($A1040,#REF!,2,FALSE)","v":{"$error":"#REF!"}},{"$f":"VLOOKUP($A1040,#REF!,3,FALSE)","v":{"$error":"#REF!"}},"McDowell Named and Created"]
["SM9_r18",{"$f":"VLOOKUP($A1041,#REF!,2,FALSE)","v":{"$error":"#REF!"}},{"$f":"VLOOKUP($A1041,#REF!,3,FALSE)","v":{"$error":"#REF!"}},"McDowell Named and Created"]
["SM9_r19",{"$f":"VLOOKUP($A1042,#REF!,2,FALSE)","v":{"$error":"#REF!"}},{"$f":"VLOOKUP($A1042,#REF!,3,FALSE)","v":{"$error":"#REF!"}},"McDowell Named and Created"]
["SM9_r20",{"$f":"VLOOKUP($A1043,#REF!,2,FALSE)","v":{"$error":"#REF!"}},{"$f":"VLOOKUP($A1043,#REF!,3,FALSE)","v":{"$error":"#REF!"}},"McDowell Named and Created"]
["SM9_r21",{"$f":"VLOOKUP($A1044,#REF!,2,FALSE)","v":{"$error":"#REF!"}},{"$f":"VLOOKUP($A1044,#REF!,3,FALSE)","v":{"$error":"#REF!"}},"McDowell Named and Created"]
["SM9_r22",{"$f":"VLOOKUP($A1045,#REF!,2,FALSE)","v":{"$error":"#REF!"}},{"$f":"VLOOKUP($A1045,#REF!,3,FALSE)","v":{"$error":"#REF!"}},"McDowell Named and Created"]
["SM9_r23",{"$f":"VLOOKUP($A1046,#REF!,2,FALSE)","v":{"$error":"#REF!"}},{"$f":"VLOOKUP($A1046,#REF!,3,FALSE)","v":{"$error":"#REF!"}},"McDowell Named and Created"]
["SM9_r24",{"$f":"VLOOKUP($A1047,#REF!,2,FALSE)","v":{"$error":"#REF!"}},{"$f":"VLOOKUP($A1047,#REF!,3,FALSE)","v":{"$error":"#REF!"}},"McDowell Named and Created"]
["SM9_r25",{"$f":"VLOOKUP($A1048,#REF!,2,FALSE)","v":{"$error":"#REF!"}},{"$f":"VLOOKUP($A1048,#REF!,3,FALSE)","v":{"$error":"#REF!"}},"McDowell Named and Created"]
["SM9_r26",{"$f":"VLOOKUP($A1049,#REF!,2,FALSE)","v":{"$error":"#REF!"}},{"$f":"VLOOKUP($A1049,#REF!,3,FALSE)","v":{"$error":"#REF!"}},"McDowell Named and Created"]
["SM9_r27",{"$f":"VLOOKUP($A1050,#REF!,2,FALSE)","v":{"$error":"#REF!"}},{"$f":"VLOOKUP($A1050,#REF!,3,FALSE)","v":{"$error":"#REF!"}},"McDowell Named and Created"]
["SM9_r28",{"$f":"VLOOKUP($A1051,#REF!,2,FALSE)","v":{"$error":"#REF!"}},{"$f":"VLOOKUP($A1051,#REF!,3,FALSE)","v":{"$error":"#REF!"}},"McDowell Named and Created"]
["SM9_r29",{"$f":"VLOOKUP($A1052,#REF!,2,FALSE)","v":{"$error":"#REF!"}},{"$f":"VLOOKUP($A1052,#REF!,3,FALSE)","v":{"$error":"#REF!"}},"McDowell Named and Created"]
["SM9_r30",{"$f":"VLOOKUP($A1053,#REF!,2,FALSE)","v":{"$error":"#REF!"}},{"$f":"VLOOKUP($A1053,#REF!,3,FALSE)","v":{"$error":"#REF!"}},"McDowell Named and Created"]
["SM9_r31",{"$f":"VLOOKUP($A1054,#REF!,2,FALSE)","v":{"$error":"#REF!"}},{"$f":"VLOOKUP($A1054,#REF!,3,FALSE)","v":{"$error":"#REF!"}},"McDowell Named and Created"]
["SM9_r32",{"$f":"VLOOKUP($A1055,#REF!,2,FALSE)","v":{"$error":"#REF!"}},{"$f":"VLOOKUP($A1055,#REF!,3,FALSE)","v":{"$error":"#REF!"}},"McDowell Named and Created"]
["SM9_r33",{"$f":"VLOOKUP($A1056,#REF!,2,FALSE)","v":{"$error":"#REF!"}},{"$f":"VLOOKUP($A1056,#REF!,3,FALSE)","v":{"$error":"#REF!"}},"McDowell Named and Created"]
["SM9_r34",{"$f":"VLOOKUP($A1057,#REF!,2,FALSE)","v":{"$error":"#REF!"}},{"$f":"VLOOKUP($A1057,#REF!,3,FALSE)","v":{"$error":"#REF!"}},"McDowell Named and Created"]
["SM9_r35",{"$f":"VLOOKUP($A1058,#REF!,2,FALSE)","v":{"$error":"#REF!"}},{"$f":"VLOOKUP($A1058,#REF!,3,FALSE)","v":{"$error":"#REF!"}},"McDowell Named and Created"]
["SM9_r36",{"$f":"VLOOKUP($A1059,#REF!,2,FALSE)","v":{"$error":"#REF!"}},{"$f":"VLOOKUP($A1059,#REF!,3,FALSE)","v":{"$error":"#REF!"}},"McDowell Named and Created"]
["SM9_r37",{"$f":"VLOOKUP($A1060,#REF!,2,FALSE)","v":{"$error":"#REF!"}},{"$f":"VLOOKUP($A1060,#REF!,3,FALSE)","v":{"$error":"#REF!"}},"McDowell Named and Created"]
["SM9_r38",{"$f":"VLOOKUP($A1061,#REF!,2,FALSE)","v":{"$error":"#REF!"}},{"$f":"VLOOKUP($A1061,#REF!,3,FALSE)","v":{"$error":"#REF!"}},"McDowell Named and Created"]
["SM9_r39",{"$f":"VLOOKUP($A1062,#REF!,2,FALSE)","v":{"$error":"#REF!"}},{"$f":"VLOOKUP($A1062,#REF!,3,FALSE)","v":{"$error":"#REF!"}},"McDowell Named and Created"]
["SM9_r40",{"$f":"VLOOKUP($A1063,#REF!,2,FALSE)","v":{"$error":"#REF!"}},{"$f":"VLOOKUP($A1063,#REF!,3,FALSE)","v":{"$error":"#REF!"}},"McDowell Named and Created"]
["SM9_r41",{"$f":"VLOOKUP($A1064,#REF!,2,FALSE)","v":{"$error":"#REF!"}},{"$f":"VLOOKUP($A1064,#REF!,3,FALSE)","v":{"$error":"#REF!"}},"McDowell Named and Created"]
["SM9_r42",{"$f":"VLOOKUP($A1065,#REF!,2,FALSE)","v":{"$error":"#REF!"}},{"$f":"VLOOKUP($A1065,#REF!,3,FALSE)","v":{"$error":"#REF!"}},"McDowell Named and Created"]
["SM9_r43",{"$f":"VLOOKUP($A1066,#REF!,2,FALSE)","v":{"$error":"#REF!"}},{"$f":"VLOOKUP($A1066,#REF!,3,FALSE)","v":{"$error":"#REF!"}},"McDowell Named and Created"]
["SM9_r44",{"$f":"VLOOKUP($A1067,#REF!,2,FALSE)","v":{"$error":"#REF!"}},{"$f":"VLOOKUP($A1067,#REF!,3,FALSE)","v":{"$error":"#REF!"}},"McDowell Named and Created"]
["SM9_r45",{"$f":"VLOOKUP($A1068,#REF!,2,FALSE)","v":{"$error":"#REF!"}},{"$f":"VLOOKUP($A1068,#REF!,3,FALSE)","v":{"$error":"#REF!"}},"McDowell Named and Created"]
["SM9_r46",{"$f":"VLOOKUP($A1069,#REF!,2,FALSE)","v":{"$error":"#REF!"}},{"$f":"VLOOKUP($A1069,#REF!,3,FALSE)","v":{"$error":"#REF!"}},"McDowell Named and Created"]
["SM9_r47",{"$f":"VLOOKUP($A1070,#REF!,2,FALSE)","v":{"$error":"#REF!"}},{"$f":"VLOOKUP($A1070,#REF!,3,FALSE)","v":{"$error":"#REF!"}},"McDowell Named and Created"]
["SM9_r48",{"$f":"VLOOKUP($A1071,#REF!,2,FALSE)","v":{"$error":"#REF!"}},{"$f":"VLOOKUP($A1071,#REF!,3,FALSE)","v":{"$error":"#REF!"}},"McDowell Named and Created"]
["SM9_r49",{"$f":"VLOOKUP($A1072,#REF!,2,FALSE)","v":{"$error":"#REF!"}},{"$f":"VLOOKUP($A1072,#REF!,3,FALSE)","v":{"$error":"#REF!"}},"McDowell Named and Created"]
["SM9_r50",{"$f":"VLOOKUP($A1073,#REF!,2,FALSE)","v":{"$error":"#REF!"}},{"$f":"VLOOKUP($A1073,#REF!,3,FALSE)","v":{"$error":"#REF!"}},"McDowell Named and Created"]
["SM9_r51",{"$f":"VLOOKUP($A1074,#REF!,2,FALSE)","v":{"$error":"#REF!"}},{"$f":"VLOOKUP($A1074,#REF!,3,FALSE)","v":{"$error":"#REF!"}},"McDowell Named and Created"]
["SM9_r52",{"$f":"VLOOKUP($A1075,#REF!,2,FALSE)","v":{"$error":"#REF!"}},{"$f":"VLOOKUP($A1075,#REF!,3,FALSE)","v":{"$error":"#REF!"}},"McDowell Named and Created"]
["SM9_r53",{"$f":"VLOOKUP($A1076,#REF!,2,FALSE)","v":{"$error":"#REF!"}},{"$f":"VLOOKUP($A1076,#REF!,3,FALSE)","v":{"$error":"#REF!"}},"McDowell Named and Created"]
["SM9_r54",{"$f":"VLOOKUP($A1077,#REF!,2,FALSE)","v":{"$error":"#REF!"}},{"$f":"VLOOKUP($A1077,#REF!,3,FALSE)","v":{"$error":"#REF!"}},"McDowell Named and Created"]
["SM9_r55",{"$f":"VLOOKUP($A1078,#REF!,2,FALSE)","v":{"$error":"#REF!"}},{"$f":"VLOOKUP($A1078,#REF!,3,FALSE)","v":{"$error":"#REF!"}},"McDowell Named and Created"]
["SM9_r56",{"$f":"VLOOKUP($A1079,#REF!,2,FALSE)","v":{"$error":"#REF!"}},{"$f":"VLOOKUP($A1079,#REF!,3,FALSE)","v":{"$error":"#REF!"}},"McDowell Named and Created"]
["SM9_r57",{"$f":"VLOOKUP($A1080,#REF!,2,FALSE)","v":{"$error":"#REF!"}},{"$f":"VLOOKUP($A1080,#REF!,3,FALSE)","v":{"$error":"#REF!"}},"McDowell Named and Created"]
["SM9_r58",{"$f":"VLOOKUP($A1081,#REF!,2,FALSE)","v":{"$error":"#REF!"}},{"$f":"VLOOKUP($A1081,#REF!,3,FALSE)","v":{"$error":"#REF!"}},"McDowell Named and Created"]
["SM9_r59",{"$f":"VLOOKUP($A1082,#REF!,2,FALSE)","v":{"$error":"#REF!"}},{"$f":"VLOOKUP($A1082,#REF!,3,FALSE)","v":{"$error":"#REF!"}},"McDowell Named and Created"]
["SM9_r60",{"$f":"VLOOKUP($A1083,#REF!,2,FALSE)","v":{"$error":"#REF!"}},{"$f":"VLOOKUP($A1083,#REF!,3,FALSE)","v":{"$error":"#REF!"}},"McDowell Named and Created"]
["SM9_r61",{"$f":"VLOOKUP($A1084,#REF!,2,FALSE)","v":{"$error":"#REF!"}},{"$f":"VLOOKUP($A1084,#REF!,3,FALSE)","v":{"$error":"#REF!"}},"McDowell Named and Created"]
["SM9_r62",{"$f":"VLOOKUP($A1085,#REF!,2,FALSE)","v":{"$error":"#REF!"}},{"$f":"VLOOKUP($A1085,#REF!,3,FALSE)","v":{"$error":"#REF!"}},"McDowell Named and Created"]
["SM9_r63",{"$f":"VLOOKUP($A1086,#REF!,2,FALSE)","v":{"$error":"#REF!"}},{"$f":"VLOOKUP($A1086,#REF!,3,FALSE)","v":{"$error":"#REF!"}},"McDowell Named and Created"]
["SM9_r64",{"$f":"VLOOKUP($A1087,#REF!,2,FALSE)","v":{"$error":"#REF!"}},{"$f":"VLOOKUP($A1087,#REF!,3,FALSE)","v":{"$error":"#REF!"}},"McDowell Named and Created"]
["SM9_r65",{"$f":"VLOOKUP($A1088,#REF!,2,FALSE)","v":{"$error":"#REF!"}},{"$f":"VLOOKUP($A1088,#REF!,3,FALSE)","v":{"$error":"#REF!"}},"McDowell Named and Created"]
["SM9_r66",{"$f":"VLOOKUP($A1089,#REF!,2,FALSE)","v":{"$error":"#REF!"}},{"$f":"VLOOKUP($A1089,#REF!,3,FALSE)","v":{"$error":"#REF!"}},"McDowell Named and Created"]
["SM9_r67",{"$f":"VLOOKUP($A1090,#REF!,2,FALSE)","v":{"$error":"#REF!"}},{"$f":"VLOOKUP($A1090,#REF!,3,FALSE)","v":{"$error":"#REF!"}},"McDowell Named and Created"]
["SM9_r68",{"$f":"VLOOKUP($A1091,#REF!,2,FALSE)","v":{"$error":"#REF!"}},{"$f":"VLOOKUP($A1091,#REF!,3,FALSE)","v":{"$error":"#REF!"}},"McDowell Named and Created"]
["SM9_r69",{"$f":"VLOOKUP($A1092,#REF!,2,FALSE)","v":{"$error":"#REF!"}},{"$f":"VLOOKUP($A1092,#REF!,3,FALSE)","v":{"$error":"#REF!"}},"McDowell Named and Created"]
["SM9_r70",{"$f":"VLOOKUP($A1093,#REF!,2,FALSE)","v":{"$error":"#REF!"}},{"$f":"VLOOKUP($A1093,#REF!,3,FALSE)","v":{"$error":"#REF!"}},"McDowell Named and Created"]
["SM9_r71",{"$f":"VLOOKUP($A1094,#REF!,2,FALSE)","v":{"$error":"#REF!"}},{"$f":"VLOOKUP($A1094,#REF!,3,FALSE)","v":{"$error":"#REF!"}},"McDowell Named and Created"]
["SM9_r72",{"$f":"VLOOKUP($A1095,#REF!,2,FALSE)","v":{"$error":"#REF!"}},{"$f":"VLOOKUP($A1095,#REF!,3,FALSE)","v":{"$error":"#REF!"}},"McDowell Named and Created"]
["SM9_r73",{"$f":"VLOOKUP($A1096,#REF!,2,FALSE)","v":{"$error":"#REF!"}},{"$f":"VLOOKUP($A1096,#REF!,3,FALSE)","v":{"$error":"#REF!"}},"McDowell Named and Created"]
["SM9_r74",{"$f":"VLOOKUP($A1097,#REF!,2,FALSE)","v":{"$error":"#REF!"}},{"$f":"VLOOKUP($A1097,#REF!,3,FALSE)","v":{"$error":"#REF!"}},"McDowell Named and Created"]
["SM9_r75",{"$f":"VLOOKUP($A1098,#REF!,2,FALSE)","v":{"$error":"#REF!"}},{"$f":"VLOOKUP($A1098,#REF!,3,FALSE)","v":{"$error":"#REF!"}},"McDowell Named and Created"]
["SM9_r76",{"$f":"VLOOKUP($A1099,#REF!,2,FALSE)","v":{"$error":"#REF!"}},{"$f":"VLOOKUP($A1099,#REF!,3,FALSE)","v":{"$error":"#REF!"}},"McDowell Named and Created"]
["SM9_r77",{"$f":"VLOOKUP($A1100,#REF!,2,FALSE)","v":{"$error":"#REF!"}},{"$f":"VLOOKUP($A1100,#REF!,3,FALSE)","v":{"$error":"#REF!"}},"McDowell Named and Created"]
["SM9_r78",{"$f":"VLOOKUP($A1101,#REF!,2,FALSE)","v":{"$error":"#REF!"}},{"$f":"VLOOKUP($A1101,#REF!,3,FALSE)","v":{"$error":"#REF!"}},"McDowell Named and Created"]
["SM9_r79",{"$f":"VLOOKUP($A1102,#REF!,2,FALSE)","v":{"$error":"#REF!"}},{"$f":"VLOOKUP($A1102,#REF!,3,FALSE)","v":{"$error":"#REF!"}},"McDowell Named and Created"]
["SM9_r80",{"$f":"VLOOKUP($A1103,#REF!,2,FALSE)","v":{"$error":"#REF!"}},{"$f":"VLOOKUP($A1103,#REF!,3,FALSE)","v":{"$error":"#REF!"}},"McDowell Named and Created"]
["SM9_r81",{"$f":"VLOOKUP($A1104,#REF!,2,FALSE)","v":{"$error":"#REF!"}},{"$f":"VLOOKUP($A1104,#REF!,3,FALSE)","v":{"$error":"#REF!"}},"McDowell Named and Created"]
["SM9_r82",{"$f":"VLOOKUP($A1105,#REF!,2,FALSE)","v":{"$error":"#REF!"}},{"$f":"VLOOKUP($A1105,#REF!,3,FALSE)","v":{"$error":"#REF!"}},"McDowell Named and Created"]
["SM9_r83",{"$f":"VLOOKUP($A1106,#REF!,2,FALSE)","v":{"$error":"#REF!"}},{"$f":"VLOOKUP($A1106,#REF!,3,FALSE)","v":{"$error":"#REF!"}},"McDowell Named and Created"]
["SM9_r84",{"$f":"VLOOKUP($A1107,#REF!,2,FALSE)","v":{"$error":"#REF!"}},{"$f":"VLOOKUP($A1107,#REF!,3,FALSE)","v":{"$error":"#REF!"}},"McDowell Named and Created"]
["SM9_r85",{"$f":"VLOOKUP($A1108,#REF!,2,FALSE)","v":{"$error":"#REF!"}},{"$f":"VLOOKUP($A1108,#REF!,3,FALSE)","v":{"$error":"#REF!"}},"McDowell Named and Created"]
["SM9_r86",{"$f":"VLOOKUP($A1109,#REF!,2,FALSE)","v":{"$error":"#REF!"}},{"$f":"VLOOKUP($A1109,#REF!,3,FALSE)","v":{"$error":"#REF!"}},"McDowell Named and Created"]
["SM9_r87",{"$f":"VLOOKUP($A1110,#REF!,2,FALSE)","v":{"$error":"#REF!"}},{"$f":"VLOOKUP($A1110,#REF!,3,FALSE)","v":{"$error":"#REF!"}},"McDowell Named and Created"]
["SM9_r88",{"$f":"VLOOKUP($A1111,#REF!,2,FALSE)","v":{"$error":"#REF!"}},{"$f":"VLOOKUP($A1111,#REF!,3,FALSE)","v":{"$error":"#REF!"}},"McDowell Named and Created"]
["SM9_r89",{"$f":"VLOOKUP($A1112,#REF!,2,FALSE)","v":{"$error":"#REF!"}},{"$f":"VLOOKUP($A1112,#REF!,3,FALSE)","v":{"$error":"#REF!"}},"McDowell Named and Created"]
["SM9_r90",{"$f":"VLOOKUP($A1113,#REF!,2,FALSE)","v":{"$error":"#REF!"}},{"$f":"VLOOKUP($A1113,#REF!,3,FALSE)","v":{"$error":"#REF!"}},"McDowell Named and Created"]
["SM9_r91",{"$f":"VLOOKUP($A1114,#REF!,2,FALSE)","v":{"$error":"#REF!"}},{"$f":"VLOOKUP($A1114,#REF!,3,FALSE)","v":{"$error":"#REF!"}},"McDowell Named and Created"]
["SM9_r92",{"$f":"VLOOKUP($A1115,#REF!,2,FALSE)","v":{"$error":"#REF!"}},{"$f":"VLOOKUP($A1115,#REF!,3,FALSE)","v":{"$error":"#REF!"}},"McDowell Named and Created"]
["SM9_r93",{"$f":"VLOOKUP($A1116,#REF!,2,FALSE)","v":{"$error":"#REF!"}},{"$f":"VLOOKUP($A1116,#REF!,3,FALSE)","v":{"$error":"#REF!"}},"McDowell Named and Created"]
["SM9_r94",{"$f":"VLOOKUP($A1117,#REF!,2,FALSE)","v":{"$error":"#REF!"}},{"$f":"VLOOKUP($A1117,#REF!,3,FALSE)","v":{"$error":"#REF!"}},"McDowell Named and Created"]
["SM9_r95",{"$f":"VLOOKUP($A1118,#REF!,2,FALSE)","v":{"$error":"#REF!"}},{"$f":"VLOOKUP($A1118,#REF!,3,FALSE)","v":{"$error":"#REF!"}},"McDowell Named and Created"]
["SM9_r96",{"$f":"VLOOKUP($A1119,#REF!,2,FALSE)","v":{"$error":"#REF!"}},{"$f":"VLOOKUP($A1119,#REF!,3,FALSE)","v":{"$error":"#REF!"}},"McDowell Named and Created"]
["SM9_r97",{"$f":"VLOOKUP($A1120,#REF!,2,FALSE)","v":{"$error":"#REF!"}},{"$f":"VLOOKUP($A1120,#REF!,3,FALSE)","v":{"$error":"#REF!"}},"McDowell Named and Created"]
["SM9_r98",{"$f":"VLOOKUP($A1121,#REF!,2,FALSE)","v":{"$error":"#REF!"}},{"$f":"VLOOKUP($A1121,#REF!,3,FALSE)","v":{"$error":"#REF!"}},"McDowell Named and Created"]
["SM9_r99",{"$f":"VLOOKUP($A1122,#REF!,2,FALSE)","v":{"$error":"#REF!"}},{"$f":"VLOOKUP($A1122,#REF!,3,FALSE)","v":{"$error":"#REF!"}},"McDowell Named and Created"]
["SM9_r100",{"$f":"VLOOKUP($A1123,#REF!,2,FALSE)","v":{"$error":"#REF!"}},{"$f":"VLOOKUP($A1123,#REF!,3,FALSE)","v":{"$error":"#REF!"}},"McDowell Named and Created"]
["SM9_r101",{"$f":"VLOOKUP($A1124,#REF!,2,FALSE)","v":{"$error":"#REF!"}},{"$f":"VLOOKUP($A1124,#REF!,3,FALSE)","v":{"$error":"#REF!"}},"McDowell Named and Created"]
["SM9_r102",{"$f":"VLOOKUP($A1125,#REF!,2,FALSE)","v":{"$error":"#REF!"}},{"$f":"VLOOKUP($A1125,#REF!,3,FALSE)","v":{"$error":"#REF!"}},"McDowell Named and Created"]
["SM9_r103",{"$f":"VLOOKUP($A1126,#REF!,2,FALSE)","v":{"$error":"#REF!"}},{"$f":"VLOOKUP($A1126,#REF!,3,FALSE)","v":{"$error":"#REF!"}},"McDowell Named and Created"]
["SM9_r104",{"$f":"VLOOKUP($A1127,#REF!,2,FALSE)","v":{"$error":"#REF!"}},{"$f":"VLOOKUP($A1127,#REF!,3,FALSE)","v":{"$error":"#REF!"}},"McDowell Named and Created"]
["SM9_r105",{"$f":"VLOOKUP($A1128,#REF!,2,FALSE)","v":{"$error":"#REF!"}},{"$f":"VLOOKUP($A1128,#REF!,3,FALSE)","v":{"$error":"#REF!"}},"McDowell Named and Created"]
["SM9_r106",{"$f":"VLOOKUP($A1129,#REF!,2,FALSE)","v":{"$error":"#REF!"}},{"$f":"VLOOKUP($A1129,#REF!,3,FALSE)","v":{"$error":"#REF!"}},"McDowell Named and Created"]
["SM9_r107",{"$f":"VLOOKUP($A1130,#REF!,2,FALSE)","v":{"$error":"#REF!"}},{"$f":"VLOOKUP($A1130,#REF!,3,FALSE)","v":{"$error":"#REF!"}},"McDowell Named and Created"]
["SM9_r108",{"$f":"VLOOKUP($A1131,#REF!,2,FALSE)","v":{"$error":"#REF!"}},{"$f":"VLOOKUP($A1131,#REF!,3,FALSE)","v":{"$error":"#REF!"}},"McDowell Named and Created"]
["SM9_r109",{"$f":"VLOOKUP($A1132,#REF!,2,FALSE)","v":{"$error":"#REF!"}},{"$f":"VLOOKUP($A1132,#REF!,3,FALSE)","v":{"$error":"#REF!"}},"McDowell Named and Created"]
["SM9_r110",{"$f":"VLOOKUP($A1133,#REF!,2,FALSE)","v":{"$error":"#REF!"}},{"$f":"VLOOKUP($A1133,#REF!,3,FALSE)","v":{"$error":"#REF!"}},"McDowell Named and Created"]
["SM9_r111",{"$f":"VLOOKUP($A1134,#REF!,2,FALSE)","v":{"$error":"#REF!"}},{"$f":"VLOOKUP($A1134,#REF!,3,FALSE)","v":{"$error":"#REF!"}},"McDowell Named and Created"]
["SM9_r112",{"$f":"VLOOKUP($A1135,#REF!,2,FALSE)","v":{"$error":"#REF!"}},{"$f":"VLOOKUP($A1135,#REF!,3,FALSE)","v":{"$error":"#REF!"}},"McDowell Named and Created"]
["SM9_r113",{"$f":"VLOOKUP($A1136,#REF!,2,FALSE)","v":{"$error":"#REF!"}},{"$f":"VLOOKUP($A1136,#REF!,3,FALSE)","v":{"$error":"#REF!"}},"McDowell Named and Created"]
["SM9_r114",{"$f":"VLOOKUP($A1137,#REF!,2,FALSE)","v":{"$error":"#REF!"}},{"$f":"VLOOKUP($A1137,#REF!,3,FALSE)","v":{"$error":"#REF!"}},"McDowell Named and Created"]
["SM9_r115",{"$f":"VLOOKUP($A1138,#REF!,2,FALSE)","v":{"$error":"#REF!"}},{"$f":"VLOOKUP($A1138,#REF!,3,FALSE)","v":{"$error":"#REF!"}},"McDowell Named and Created"]
["SM9_r116",{"$f":"VLOOKUP($A1139,#REF!,2,FALSE)","v":{"$error":"#REF!"}},{"$f":"VLOOKUP($A1139,#REF!,3,FALSE)","v":{"$error":"#REF!"}},"McDowell Named and Created"]
["SM9_r117",{"$f":"VLOOKUP($A1140,#REF!,2,FALSE)","v":{"$error":"#REF!"}},{"$f":"VLOOKUP($A1140,#REF!,3,FALSE)","v":{"$error":"#REF!"}},"McDowell Named and Created"]
["SM9_r118",{"$f":"VLOOKUP($A1141,#REF!,2,FALSE)","v":{"$error":"#REF!"}},{"$f":"VLOOKUP($A1141,#REF!,3,FALSE)","v":{"$error":"#REF!"}},"McDowell Named and Created"]
["SM9_r119",{"$f":"VLOOKUP($A1142,#REF!,2,FALSE)","v":{"$error":"#REF!"}},{"$f":"VLOOKUP($A1142,#REF!,3,FALSE)","v":{"$error":"#REF!"}},"McDowell Named and Created"]
["SM9_r120",{"$f":"VLOOKUP($A1143,#REF!,2,FALSE)","v":{"$error":"#REF!"}},{"$f":"VLOOKUP($A1143,#REF!,3,FALSE)","v":{"$error":"#REF!"}},"McDowell Named and Created"]
["SM10_r1",{"$f":"VLOOKUP($A1144,#REF!,2,FALSE)","v":{"$error":"#REF!"}},{"$f":"VLOOKUP($A1144,#REF!,3,FALSE)","v":{"$error":"#REF!"}},"McDowell Named and Created"]
["SM10_r2",{"$f":"VLOOKUP($A1145,#REF!,2,FALSE)","v":{"$error":"#REF!"}},{"$f":"VLOOKUP($A1145,#REF!,3,FALSE)","v":{"$error":"#REF!"}},"McDowell Named and Created"]
["SM10_r3",{"$f":"VLOOKUP($A1146,#REF!,2,FALSE)","v":{"$error":"#REF!"}},{"$f":"VLOOKUP($A1146,#REF!,3,FALSE)","v":{"$error":"#REF!"}},"McDowell Named and Created"]
["SM10_r4",{"$f":"VLOOKUP($A1147,#REF!,2,FALSE)","v":{"$error":"#REF!"}},{"$f":"VLOOKUP($A1147,#REF!,3,FALSE)","v":{"$error":"#REF!"}},"McDowell Named and Created"]
["SM10_r5",{"$f":"VLOOKUP($A1148,#REF!,2,FALSE)","v":{"$error":"#REF!"}},{"$f":"VLOOKUP($A1148,#REF!,3,FALSE)","v":{"$error":"#REF!"}},"McDowell Named and Created"]
["SM10_r6",{"$f":"VLOOKUP($A1149,#REF!,2,FALSE)","v":{"$error":"#REF!"}},{"$f":"VLOOKUP($A1149,#REF!,3,FALSE)","v":{"$error":"#REF!"}},"McDowell Named and Created"]
["SM10_r7",{"$f":"VLOOKUP($A1150,#REF!,2,FALSE)","v":{"$error":"#REF!"}},{"$f":"VLOOKUP($A1150,#REF!,3,FALSE)","v":{"$error":"#REF!"}},"McDowell Named and Created"]
["SM10_r8",{"$f":"VLOOKUP($A1151,#REF!,2,FALSE)","v":{"$error":"#REF!"}},{"$f":"VLOOKUP($A1151,#REF!,3,FALSE)","v":{"$error":"#REF!"}},"McDowell Named and Created"]
["SM10_r9",{"$f":"VLOOKUP($A1152,#REF!,2,FALSE)","v":{"$error":"#REF!"}},{"$f":"VLOOKUP($A1152,#REF!,3,FALSE)","v":{"$error":"#REF!"}},"McDowell Named and Created"]
["SM10_r10",{"$f":"VLOOKUP($A1153,#REF!,2,FALSE)","v":{"$error":"#REF!"}},{"$f":"VLOOKUP($A1153,#REF!,3,FALSE)","v":{"$error":"#REF!"}},"McDowell Named and Created"]
["SM10_r11",{"$f":"VLOOKUP($A1154,#REF!,2,FALSE)","v":{"$error":"#REF!"}},{"$f":"VLOOKUP($A1154,#REF!,3,FALSE)","v":{"$error":"#REF!"}},"McDowell Named and Created"]
["SM10_r12",{"$f":"VLOOKUP($A1155,#REF!,2,FALSE)","v":{"$error":"#REF!"}},{"$f":"VLOOKUP($A1155,#REF!,3,FALSE)","v":{"$error":"#REF!"}},"McDowell Named and Created"]
["SM10_r13",{"$f":"VLOOKUP($A1156,#REF!,2,FALSE)","v":{"$error":"#REF!"}},{"$f":"VLOOKUP($A1156,#REF!,3,FALSE)","v":{"$error":"#REF!"}},"McDowell Named and Created"]
["SM10_r14",{"$f":"VLOOKUP($A1157,#REF!,2,FALSE)","v":{"$error":"#REF!"}},{"$f":"VLOOKUP($A1157,#REF!,3,FALSE)","v":{"$error":"#REF!"}},"McDowell Named and Created"]
["SM10_r15",{"$f":"VLOOKUP($A1158,#REF!,2,FALSE)","v":{"$error":"#REF!"}},{"$f":"VLOOKUP($A1158,#REF!,3,FALSE)","v":{"$error":"#REF!"}},"McDowell Named and Created"]
["SM10_r16",{"$f":"VLOOKUP($A1159,#REF!,2,FALSE)","v":{"$error":"#REF!"}},{"$f":"VLOOKUP($A1159,#REF!,3,FALSE)","v":{"$error":"#REF!"}},"McDowell Named and Created"]
["SM10_r17",{"$f":"VLOOKUP($A1160,#REF!,2,FALSE)","v":{"$error":"#REF!"}},{"$f":"VLOOKUP($A1160,#REF!,3,FALSE)","v":{"$error":"#REF!"}},"McDowell Named and Created"]
["SM10_r18",{"$f":"VLOOKUP($A1161,#REF!,2,FALSE)","v":{"$error":"#REF!"}},{"$f":"VLOOKUP($A1161,#REF!,3,FALSE)","v":{"$error":"#REF!"}},"McDowell Named and Created"]
["SM10_r19",{"$f":"VLOOKUP($A1162,#REF!,2,FALSE)","v":{"$error":"#REF!"}},{"$f":"VLOOKUP($A1162,#REF!,3,FALSE)","v":{"$error":"#REF!"}},"McDowell Named and Created"]
["SM10_r20",{"$f":"VLOOKUP($A1163,#REF!,2,FALSE)","v":{"$error":"#REF!"}},{"$f":"VLOOKUP($A1163,#REF!,3,FALSE)","v":{"$error":"#REF!"}},"McDowell Named and Created"]
["SM10_r21",{"$f":"VLOOKUP($A1164,#REF!,2,FALSE)","v":{"$error":"#REF!"}},{"$f":"VLOOKUP($A1164,#REF!,3,FALSE)","v":{"$error":"#REF!"}},"McDowell Named and Created"]
["SM10_r22",{"$f":"VLOOKUP($A1165,#REF!,2,FALSE)","v":{"$error":"#REF!"}},{"$f":"VLOOKUP($A1165,#REF!,3,FALSE)","v":{"$error":"#REF!"}},"McDowell Named and Created"]
["SM10_r23",{"$f":"VLOOKUP($A1166,#REF!,2,FALSE)","v":{"$error":"#REF!"}},{"$f":"VLOOKUP($A1166,#REF!,3,FALSE)","v":{"$error":"#REF!"}},"McDowell Named and Created"]
["SM10_r24",{"$f":"VLOOKUP($A1167,#REF!,2,FALSE)","v":{"$error":"#REF!"}},{"$f":"VLOOKUP($A1167,#REF!,3,FALSE)","v":{"$error":"#REF!"}},"McDowell Named and Created"]
["SM10_r25",{"$f":"VLOOKUP($A1168,#REF!,2,FALSE)","v":{"$error":"#REF!"}},{"$f":"VLOOKUP($A1168,#REF!,3,FALSE)","v":{"$error":"#REF!"}},"McDowell Named and Created"]
["SM10_r26",{"$f":"VLOOKUP($A1169,#REF!,2,FALSE)","v":{"$error":"#REF!"}},{"$f":"VLOOKUP($A1169,#REF!,3,FALSE)","v":{"$error":"#REF!"}},"McDowell Named and Created"]
["SM10_r27",{"$f":"VLOOKUP($A1170,#REF!,2,FALSE)","v":{"$error":"#REF!"}},{"$f":"VLOOKUP($A1170,#REF!,3,FALSE)","v":{"$error":"#REF!"}},"McDowell Named and Created"]
["SM10_r28",{"$f":"VLOOKUP($A1171,#REF!,2,FALSE)","v":{"$error":"#REF!"}},{"$f":"VLOOKUP($A1171,#REF!,3,FALSE)","v":{"$error":"#REF!"}},"McDowell Named and Created"]
["SM10_r29",{"$f":"VLOOKUP($A1172,#REF!,2,FALSE)","v":{"$error":"#REF!"}},{"$f":"VLOOKUP($A1172,#REF!,3,FALSE)","v":{"$error":"#REF!"}},"McDowell Named and Created"]
["SM10_r30",{"$f":"VLOOKUP($A1173,#REF!,2,FALSE)","v":{"$error":"#REF!"}},{"$f":"VLOOKUP($A1173,#REF!,3,FALSE)","v":{"$error":"#REF!"}},"McDowell Named and Created"]
["SM10_r31",{"$f":"VLOOKUP($A1174,#REF!,2,FALSE)","v":{"$error":"#REF!"}},{"$f":"VLOOKUP($A1174,#REF!,3,FALSE)","v":{"$error":"#REF!"}},"McDowell Named and Created"]
["SM10_r32",{"$f":"VLOOKUP($A1175,#REF!,2,FALSE)","v":{"$error":"#REF!"}},{"$f":"VLOOKUP($A1175,#REF!,3,FALSE)","v":{"$error":"#REF!"}},"McDowell Named and Created"]
["SM10_r33",{"$f":"VLOOKUP($A1176,#REF!,2,FALSE)","v":{"$error":"#REF!"}},{"$f":"VLOOKUP($A1176,#REF!,3,FALSE)","v":{"$error":"#REF!"}},"McDowell Named and Created"]
["SM10_r34",{"$f":"VLOOKUP($A1177,#REF!,2,FALSE)","v":{"$error":"#REF!"}},{"$f":"VLOOKUP($A1177,#REF!,3,FALSE)","v":{"$error":"#REF!"}},"McDowell Named and Created"]
["SM10_r35",{"$f":"VLOOKUP($A1178,#REF!,2,FALSE)","v":{"$error":"#REF!"}},{"$f":"VLOOKUP($A1178,#REF!,3,FALSE)","v":{"$error":"#REF!"}},"McDowell Named and Created"]
["SM10_r36",{"$f":"VLOOKUP($A1179,#REF!,2,FALSE)","v":{"$error":"#REF!"}},{"$f":"VLOOKUP($A1179,#REF!,3,FALSE)","v":{"$error":"#REF!"}},"McDowell Named and Created"]
["SM10_r37",{"$f":"VLOOKUP($A1180,#REF!,2,FALSE)","v":{"$error":"#REF!"}},{"$f":"VLOOKUP($A1180,#REF!,3,FALSE)","v":{"$error":"#REF!"}},"McDowell Named and Created"]
["SM10_r38",{"$f":"VLOOKUP($A1181,#REF!,2,FALSE)","v":{"$error":"#REF!"}},{"$f":"VLOOKUP($A1181,#REF!,3,FALSE)","v":{"$error":"#REF!"}},"McDowell Named and Created"]
["SM10_r39",{"$f":"VLOOKUP($A1182,#REF!,2,FALSE)","v":{"$error":"#REF!"}},{"$f":"VLOOKUP($A1182,#REF!,3,FALSE)","v":{"$error":"#REF!"}},"McDowell Named and Created"]
["SM10_r40",{"$f":"VLOOKUP($A1183,#REF!,2,FALSE)","v":{"$error":"#REF!"}},{"$f":"VLOOKUP($A1183,#REF!,3,FALSE)","v":{"$error":"#REF!"}},"McDowell Named and Created"]
["SM10_r41",{"$f":"VLOOKUP($A1184,#REF!,2,FALSE)","v":{"$error":"#REF!"}},{"$f":"VLOOKUP($A1184,#REF!,3,FALSE)","v":{"$error":"#REF!"}},"McDowell Named and Created"]
["SM10_r42",{"$f":"VLOOKUP($A1185,#REF!,2,FALSE)","v":{"$error":"#REF!"}},{"$f":"VLOOKUP($A1185,#REF!,3,FALSE)","v":{"$error":"#REF!"}},"McDowell Named and Created"]
["SM10_r43",{"$f":"VLOOKUP($A1186,#REF!,2,FALSE)","v":{"$error":"#REF!"}},{"$f":"VLOOKUP($A1186,#REF!,3,FALSE)","v":{"$error":"#REF!"}},"McDowell Named and Created"]
["SM10_r44",{"$f":"VLOOKUP($A1187,#REF!,2,FALSE)","v":{"$error":"#REF!"}},{"$f":"VLOOKUP($A1187,#REF!,3,FALSE)","v":{"$error":"#REF!"}},"McDowell Named and Created"]
["SM10_r45",{"$f":"VLOOKUP($A1188,#REF!,2,FALSE)","v":{"$error":"#REF!"}},{"$f":"VLOOKUP($A1188,#REF!,3,FALSE)","v":{"$error":"#REF!"}},"McDowell Named and Created"]
["SM10_r46",{"$f":"VLOOKUP($A1189,#REF!,2,FALSE)","v":{"$error":"#REF!"}},{"$f":"VLOOKUP($A1189,#REF!,3,FALSE)","v":{"$error":"#REF!"}},"McDowell Named and Created"]
["SM10_r47",{"$f":"VLOOKUP($A1190,#REF!,2,FALSE)","v":{"$error":"#REF!"}},{"$f":"VLOOKUP($A1190,#REF!,3,FALSE)","v":{"$error":"#REF!"}},"McDowell Named and Created"]
["SM10_r48",{"$f":"VLOOKUP($A1191,#REF!,2,FALSE)","v":{"$error":"#REF!"}},{"$f":"VLOOKUP($A1191,#REF!,3,FALSE)","v":{"$error":"#REF!"}},"McDowell Named and Created"]
["SM10_r49",{"$f":"VLOOKUP($A1192,#REF!,2,FALSE)","v":{"$error":"#REF!"}},{"$f":"VLOOKUP($A1192,#REF!,3,FALSE)","v":{"$error":"#REF!"}},"McDowell Named and Created"]
["SM10_r50",{"$f":"VLOOKUP($A1193,#REF!,2,FALSE)","v":{"$error":"#REF!"}},{"$f":"VLOOKUP($A1193,#REF!,3,FALSE)","v":{"$error":"#REF!"}},"McDowell Named and Created"]
["SM10_r51",{"$f":"VLOOKUP($A1194,#REF!,2,FALSE)","v":{"$error":"#REF!"}},{"$f":"VLOOKUP($A1194,#REF!,3,FALSE)","v":{"$error":"#REF!"}},"McDowell Named and Created"]
["SM10_r52",{"$f":"VLOOKUP($A1195,#REF!,2,FALSE)","v":{"$error":"#REF!"}},{"$f":"VLOOKUP($A1195,#REF!,3,FALSE)","v":{"$error":"#REF!"}},"McDowell Named and Created"]
["SM10_r53",{"$f":"VLOOKUP($A1196,#REF!,2,FALSE)","v":{"$error":"#REF!"}},{"$f":"VLOOKUP($A1196,#REF!,3,FALSE)","v":{"$error":"#REF!"}},"McDowell Named and Created"]
["SM10_r54",{"$f":"VLOOKUP($A1197,#REF!,2,FALSE)","v":{"$error":"#REF!"}},{"$f":"VLOOKUP($A1197,#REF!,3,FALSE)","v":{"$error":"#REF!"}},"McDowell Named and Created"]
["SM10_r55",{"$f":"VLOOKUP($A1198,#REF!,2,FALSE)","v":{"$error":"#REF!"}},{"$f":"VLOOKUP($A1198,#REF!,3,FALSE)","v":{"$error":"#REF!"}},"McDowell Named and Created"]
["SM10_r56",{"$f":"VLOOKUP($A1199,#REF!,2,FALSE)","v":{"$error":"#REF!"}},{"$f":"VLOOKUP($A1199,#REF!,3,FALSE)","v":{"$error":"#REF!"}},"McDowell Named and Created"]
["SM10_r57",{"$f":"VLOOKUP($A1200,#REF!,2,FALSE)","v":{"$error":"#REF!"}},{"$f":"VLOOKUP($A1200,#REF!,3,FALSE)","v":{"$error":"#REF!"}},"McDowell Named and Created"]
["SM10_r58",{"$f":"VLOOKUP($A1201,#REF!,2,FALSE)","v":{"$error":"#REF!"}},{"$f":"VLOOKUP($A1201,#REF!,3,FALSE)","v":{"$error":"#REF!"}},"McDowell Named and Created"]
["SM10_r59",{"$f":"VLOOKUP($A1202,#REF!,2,FALSE)","v":{"$error":"#REF!"}},{"$f":"VLOOKUP($A1202,#REF!,3,FALSE)","v":{"$error":"#REF!"}},"McDowell Named and Created"]
["SM10_r60",{"$f":"VLOOKUP($A1203,#REF!,2,FALSE)","v":{"$error":"#REF!"}},{"$f":"VLOOKUP($A1203,#REF!,3,FALSE)","v":{"$error":"#REF!"}},"McDowell Named and Created"]
["SM10_r61",{"$f":"VLOOKUP($A1204,#REF!,2,FALSE)","v":{"$error":"#REF!"}},{"$f":"VLOOKUP($A1204,#REF!,3,FALSE)","v":{"$error":"#REF!"}},"McDowell Named and Created"]
["SM10_r62",{"$f":"VLOOKUP($A1205,#REF!,2,FALSE)","v":{"$error":"#REF!"}},{"$f":"VLOOKUP($A1205,#REF!,3,FALSE)","v":{"$error":"#REF!"}},"McDowell Named and Created"]
["SM10_r63",{"$f":"VLOOKUP($A1206,#REF!,2,FALSE)","v":{"$error":"#REF!"}},{"$f":"VLOOKUP($A1206,#REF!,3,FALSE)","v":{"$error":"#REF!"}},"McDowell Named and Created"]
["SM10_r64",{"$f":"VLOOKUP($A1207,#REF!,2,FALSE)","v":{"$error":"#REF!"}},{"$f":"VLOOKUP($A1207,#REF!,3,FALSE)","v":{"$error":"#REF!"}},"McDowell Named and Created"]
["SM10_r65",{"$f":"VLOOKUP($A1208,#REF!,2,FALSE)","v":{"$error":"#REF!"}},{"$f":"VLOOKUP($A1208,#REF!,3,FALSE)","v":{"$error":"#REF!"}},"McDowell Named and Created"]
["SM10_r66",{"$f":"VLOOKUP($A1209,#REF!,2,FALSE)","v":{"$error":"#REF!"}},{"$f":"VLOOKUP($A1209,#REF!,3,FALSE)","v":{"$error":"#REF!"}},"McDowell Named and Created"]
["SM10_r67",{"$f":"VLOOKUP($A1210,#REF!,2,FALSE)","v":{"$error":"#REF!"}},{"$f":"VLOOKUP($A1210,#REF!,3,FALSE)","v":{"$error":"#REF!"}},"McDowell Named and Created"]
["SM10_r68",{"$f":"VLOOKUP($A1211,#REF!,2,FALSE)","v":{"$error":"#REF!"}},{"$f":"VLOOKUP($A1211,#REF!,3,FALSE)","v":{"$error":"#REF!"}},"McDowell Named and Created"]
["SM10_r69",{"$f":"VLOOKUP($A1212,#REF!,2,FALSE)","v":{"$error":"#REF!"}},{"$f":"VLOOKUP($A1212,#REF!,3,FALSE)","v":{"$error":"#REF!"}},"McDowell Named and Created"]
["SM10_r70",{"$f":"VLOOKUP($A1213,#REF!,2,FALSE)","v":{"$error":"#REF!"}},{"$f":"VLOOKUP($A1213,#REF!,3,FALSE)","v":{"$error":"#REF!"}},"McDowell Named and Created"]
["SM10_r71",{"$f":"VLOOKUP($A1214,#REF!,2,FALSE)","v":{"$error":"#REF!"}},{"$f":"VLOOKUP($A1214,#REF!,3,FALSE)","v":{"$error":"#REF!"}},"McDowell Named and Created"]
["SM10_r72",{"$f":"VLOOKUP($A1215,#REF!,2,FALSE)","v":{"$error":"#REF!"}},{"$f":"VLOOKUP($A1215,#REF!,3,FALSE)","v":{"$error":"#REF!"}},"McDowell Named and Created"]
["SM10_r73",{"$f":"VLOOKUP($A1216,#REF!,2,FALSE)","v":{"$error":"#REF!"}},{"$f":"VLOOKUP($A1216,#REF!,3,FALSE)","v":{"$error":"#REF!"}},"McDowell Named and Created"]
["SM10_r74",{"$f":"VLOOKUP($A1217,#REF!,2,FALSE)","v":{"$error":"#REF!"}},{"$f":"VLOOKUP($A1217,#REF!,3,FALSE)","v":{"$error":"#REF!"}},"McDowell Named and Created"]
["SM10_r75",{"$f":"VLOOKUP($A1218,#REF!,2,FALSE)","v":{"$error":"#REF!"}},{"$f":"VLOOKUP($A1218,#REF!,3,FALSE)","v":{"$error":"#REF!"}},"McDowell Named and Created"]
["SM10_r76",{"$f":"VLOOKUP($A1219,#REF!,2,FALSE)","v":{"$error":"#REF!"}},{"$f":"VLOOKUP($A1219,#REF!,3,FALSE)","v":{"$error":"#REF!"}},"McDowell Named and Created"]
["SM10_r77",{"$f":"VLOOKUP($A1220,#REF!,2,FALSE)","v":{"$error":"#REF!"}},{"$f":"VLOOKUP($A1220,#REF!,3,FALSE)","v":{"$error":"#REF!"}},"McDowell Named and Created"]
["SM10_r78",{"$f":"VLOOKUP($A1221,#REF!,2,FALSE)","v":{"$error":"#REF!"}},{"$f":"VLOOKUP($A1221,#REF!,3,FALSE)","v":{"$error":"#REF!"}},"McDowell Named and Created"]
["SM10_r79",{"$f":"VLOOKUP($A1222,#REF!,2,FALSE)","v":{"$error":"#REF!"}},{"$f":"VLOOKUP($A1222,#REF!,3,FALSE)","v":{"$error":"#REF!"}},"McDowell Named and Created"]
["SM10_r80",{"$f":"VLOOKUP($A1223,#REF!,2,FALSE)","v":{"$error":"#REF!"}},{"$f":"VLOOKUP($A1223,#REF!,3,FALSE)","v":{"$error":"#REF!"}},"McDowell Named and Created"]
["SM10_r81",{"$f":"VLOOKUP($A1224,#REF!,2,FALSE)","v":{"$error":"#REF!"}},{"$f":"VLOOKUP($A1224,#REF!,3,FALSE)","v":{"$error":"#REF!"}},"McDowell Named and Created"]
["SM10_r82",{"$f":"VLOOKUP($A1225,#REF!,2,FALSE)","v":{"$error":"#REF!"}},{"$f":"VLOOKUP($A1225,#REF!,3,FALSE)","v":{"$error":"#REF!"}},"McDowell Named and Created"]
["SM10_r83",{"$f":"VLOOKUP($A1226,#REF!,2,FALSE)","v":{"$error":"#REF!"}},{"$f":"VLOOKUP($A1226,#REF!,3,FALSE)","v":{"$error":"#REF!"}},"McDowell Named and Created"]
["SM10_r84",{"$f":"VLOOKUP($A1227,#REF!,2,FALSE)","v":{"$error":"#REF!"}},{"$f":"VLOOKUP($A1227,#REF!,3,FALSE)","v":{"$error":"#REF!"}},"McDowell Named and Created"]
["SM10_r85",{"$f":"VLOOKUP($A1228,#REF!,2,FALSE)","v":{"$error":"#REF!"}},{"$f":"VLOOKUP($A1228,#REF!,3,FALSE)","v":{"$error":"#REF!"}},"McDowell Named and Created"]
["SM10_r86",{"$f":"VLOOKUP($A1229,#REF!,2,FALSE)","v":{"$error":"#REF!"}},{"$f":"VLOOKUP($A1229,#REF!,3,FALSE)","v":{"$error":"#REF!"}},"McDowell Named and Created"]
["SM10_r87",{"$f":"VLOOKUP($A1230,#REF!,2,FALSE)","v":{"$error":"#REF!"}},{"$f":"VLOOKUP($A1230,#REF!,3,FALSE)","v":{"$error":"#REF!"}},"McDowell Named and Created"]
["SM10_r88",{"$f":"VLOOKUP($A1231,#REF!,2,FALSE)","v":{"$error":"#REF!"}},{"$f":"VLOOKUP($A1231,#REF!,3,FALSE)","v":{"$error":"#REF!"}},"McDowell Named and Created"]
["SM10_r89",{"$f":"VLOOKUP($A1232,#REF!,2,FALSE)","v":{"$error":"#REF!"}},{"$f":"VLOOKUP($A1232,#REF!,3,FALSE)","v":{"$error":"#REF!"}},"McDowell Named and Created"]
["SM10_r90",{"$f":"VLOOKUP($A1233,#REF!,2,FALSE)","v":{"$error":"#REF!"}},{"$f":"VLOOKUP($A1233,#REF!,3,FALSE)","v":{"$error":"#REF!"}},"McDowell Named and Created"]
["SM10_r91",{"$f":"VLOOKUP($A1234,#REF!,2,FALSE)","v":{"$error":"#REF!"}},{"$f":"VLOOKUP($A1234,#REF!,3,FALSE)","v":{"$error":"#REF!"}},"McDowell Named and Created"]
["SM10_r92",{"$f":"VLOOKUP($A1235,#REF!,2,FALSE)","v":{"$error":"#REF!"}},{"$f":"VLOOKUP($A1235,#REF!,3,FALSE)","v":{"$error":"#REF!"}},"McDowell Named and Created"]
["SM10_r93",{"$f":"VLOOKUP($A1236,#REF!,2,FALSE)","v":{"$error":"#REF!"}},{"$f":"VLOOKUP($A1236,#REF!,3,FALSE)","v":{"$error":"#REF!"}},"McDowell Named and Created"]
["SM10_r94",{"$f":"VLOOKUP($A1237,#REF!,2,FALSE)","v":{"$error":"#REF!"}},{"$f":"VLOOKUP($A1237,#REF!,3,FALSE)","v":{"$error":"#REF!"}},"McDowell Named and Created"]
["SM10_r95",{"$f":"VLOOKUP($A1238,#REF!,2,FALSE)","v":{"$error":"#REF!"}},{"$f":"VLOOKUP($A1238,#REF!,3,FALSE)","v":{"$error":"#REF!"}},"McDowell Named and Created"]
["SM10_r96",{"$f":"VLOOKUP($A1239,#REF!,2,FALSE)","v":{"$error":"#REF!"}},{"$f":"VLOOKUP($A1239,#REF!,3,FALSE)","v":{"$error":"#REF!"}},"McDowell Named and Created"]
["SM10_r97",{"$f":"VLOOKUP($A1240,#REF!,2,FALSE)","v":{"$error":"#REF!"}},{"$f":"VLOOKUP($A1240,#REF!,3,FALSE)","v":{"$error":"#REF!"}},"McDowell Named and Created"]
["SM10_r98",{"$f":"VLOOKUP($A1241,#REF!,2,FALSE)","v":{"$error":"#REF!"}},{"$f":"VLOOKUP($A1241,#REF!,3,FALSE)","v":{"$error":"#REF!"}},"McDowell Named and Created"]
["SM10_r99",{"$f":"VLOOKUP($A1242,#REF!,2,FALSE)","v":{"$error":"#REF!"}},{"$f":"VLOOKUP($A1242,#REF!,3,FALSE)","v":{"$error":"#REF!"}},"McDowell Named and Created"]
["SM10_r100",{"$f":"VLOOKUP($A1243,#REF!,2,FALSE)","v":{"$error":"#REF!"}},{"$f":"VLOOKUP($A1243,#REF!,3,FALSE)","v":{"$error":"#REF!"}},"McDowell Named and Created"]
["SM10_r101",{"$f":"VLOOKUP($A1244,#REF!,2,FALSE)","v":{"$error":"#REF!"}},{"$f":"VLOOKUP($A1244,#REF!,3,FALSE)","v":{"$error":"#REF!"}},"McDowell Named and Created"]
["SM10_r102",{"$f":"VLOOKUP($A1245,#REF!,2,FALSE)","v":{"$error":"#REF!"}},{"$f":"VLOOKUP($A1245,#REF!,3,FALSE)","v":{"$error":"#REF!"}},"McDowell Named and Created"]
["SM10_r103",{"$f":"VLOOKUP($A1246,#REF!,2,FALSE)","v":{"$error":"#REF!"}},{"$f":"VLOOKUP($A1246,#REF!,3,FALSE)","v":{"$error":"#REF!"}},"McDowell Named and Created"]
["SM10_r104",{"$f":"VLOOKUP($A1247,#REF!,2,FALSE)","v":{"$error":"#REF!"}},{"$f":"VLOOKUP($A1247,#REF!,3,FALSE)","v":{"$error":"#REF!"}},"McDowell Named and Created"]
["SM10_r105",{"$f":"VLOOKUP($A1248,#REF!,2,FALSE)","v":{"$error":"#REF!"}},{"$f":"VLOOKUP($A1248,#REF!,3,FALSE)","v":{"$error":"#REF!"}},"McDowell Named and Created"]
["SM10_r106",{"$f":"VLOOKUP($A1249,#REF!,2,FALSE)","v":{"$error":"#REF!"}},{"$f":"VLOOKUP($A1249,#REF!,3,FALSE)","v":{"$error":"#REF!"}},"McDowell Named and Created"]
["SM10_r107",{"$f":"VLOOKUP($A1250,#REF!,2,FALSE)","v":{"$error":"#REF!"}},{"$f":"VLOOKUP($A1250,#REF!,3,FALSE)","v":{"$error":"#REF!"}},"McDowell Named and Created"]
["SM10_r108",{"$f":"VLOOKUP($A1251,#REF!,2,FALSE)","v":{"$error":"#REF!"}},{"$f":"VLOOKUP($A1251,#REF!,3,FALSE)","v":{"$error":"#REF!"}},"McDowell Named and Created"]
["SM10_r109",{"$f":"VLOOKUP($A1252,#REF!,2,FALSE)","v":{"$error":"#REF!"}},{"$f":"VLOOKUP($A1252,#REF!,3,FALSE)","v":{"$error":"#REF!"}},"McDowell Named and Created"]
["SM10_r110",{"$f":"VLOOKUP($A1253,#REF!,2,FALSE)","v":{"$error":"#REF!"}},{"$f":"VLOOKUP($A1253,#REF!,3,FALSE)","v":{"$error":"#REF!"}},"McDowell Named and Created"]
["SM10_r111",{"$f":"VLOOKUP($A1254,#REF!,2,FALSE)","v":{"$error":"#REF!"}},{"$f":"VLOOKUP($A1254,#REF!,3,FALSE)","v":{"$error":"#REF!"}},"McDowell Named and Created"]
["SM10_r112",{"$f":"VLOOKUP($A1255,#REF!,2,FALSE)","v":{"$error":"#REF!"}},{"$f":"VLOOKUP($A1255,#REF!,3,FALSE)","v":{"$error":"#REF!"}},"McDowell Named and Created"]
["SM10_r113",{"$f":"VLOOKUP($A1256,#REF!,2,FALSE)","v":{"$error":"#REF!"}},{"$f":"VLOOKUP($A1256,#REF!,3,FALSE)","v":{"$error":"#REF!"}},"McDowell Named and Created"]
["SM10_r114",{"$f":"VLOOKUP($A1257,#REF!,2,FALSE)","v":{"$error":"#REF!"}},{"$f":"VLOOKUP($A1257,#REF!,3,FALSE)","v":{"$error":"#REF!"}},"McDowell Named and Created"]
["SM10_r115",{"$f":"VLOOKUP($A1258,#REF!,2,FALSE)","v":{"$error":"#REF!"}},{"$f":"VLOOKUP($A1258,#REF!,3,FALSE)","v":{"$error":"#REF!"}},"McDowell Named and Created"]
["SM10_r116",{"$f":"VLOOKUP($A1259,#REF!,2,FALSE)","v":{"$error":"#REF!"}},{"$f":"VLOOKUP($A1259,#REF!,3,FALSE)","v":{"$error":"#REF!"}},"McDowell Named and Created"]
["SM10_r117",{"$f":"VLOOKUP($A1260,#REF!,2,FALSE)","v":{"$error":"#REF!"}},{"$f":"VLOOKUP($A1260,#REF!,3,FALSE)","v":{"$error":"#REF!"}},"McDowell Named and Created"]
["SM10_r118",{"$f":"VLOOKUP($A1261,#REF!,2,FALSE)","v":{"$error":"#REF!"}},{"$f":"VLOOKUP($A1261,#REF!,3,FALSE)","v":{"$error":"#REF!"}},"McDowell Named and Created"]
["SM10_r119",{"$f":"VLOOKUP($A1262,#REF!,2,FALSE)","v":{"$error":"#REF!"}},{"$f":"VLOOKUP($A1262,#REF!,3,FALSE)","v":{"$error":"#REF!"}},"McDowell Named and Created"]
["SM10_r120",{"$f":"VLOOKUP($A1263,#REF!,2,FALSE)","v":{"$error":"#REF!"}},{"$f":"VLOOKUP($A1263,#REF!,3,FALSE)","v":{"$error":"#REF!"}},"McDowell Named and Created"]
["Q13",{"$f":"VLOOKUP($A1264,#REF!,2,FALSE)","v":{"$error":"#REF!"}},{"$f":"VLOOKUP($A1264,#REF!,3,FALSE)","v":{"$error":"#REF!"}},"McDowell Named and Created"]
["Q14",{"$f":"VLOOKUP($A1265,#REF!,2,FALSE)","v":{"$error":"#REF!"}},{"$f":"VLOOKUP($A1265,#REF!,3,FALSE)","v":{"$error":"#REF!"}},"McDowell Named and Created"]
["Q14a_1",{"$f":"VLOOKUP($A1266,#REF!,2,FALSE)","v":{"$error":"#REF!"}},{"$f":"VLOOKUP($A1266,#REF!,3,FALSE)","v":{"$error":"#REF!"}},"McDowell Named and Created"]
["Q14a_2",{"$f":"VLOOKUP($A1267,#REF!,2,FALSE)","v":{"$error":"#REF!"}},{"$f":"VLOOKUP($A1267,#REF!,3,FALSE)","v":{"$error":"#REF!"}},"McDowell Named and Created"]
["Q14a_3",{"$f":"VLOOKUP($A1268,#REF!,2,FALSE)","v":{"$error":"#REF!"}},{"$f":"VLOOKUP($A1268,#REF!,3,FALSE)","v":{"$error":"#REF!"}},"McDowell Named and Created"]
["Q14a_4",{"$f":"VLOOKUP($A1269,#REF!,2,FALSE)","v":{"$error":"#REF!"}},{"$f":"VLOOKUP($A1269,#REF!,3,FALSE)","v":{"$error":"#REF!"}},"McDowell Named and Created"]
["Q14a_5",{"$f":"VLOOKUP($A1270,#REF!,2,FALSE)","v":{"$error":"#REF!"}},{"$f":"VLOOKUP($A1270,#REF!,3,FALSE)","v":{"$error":"#REF!"}},"McDowell Named and Created"]
["Q14a_6",{"$f":"VLOOKUP($A1271,#REF!,2,FALSE)","v":{"$error":"#REF!"}},{"$f":"VLOOKUP($A1271,#REF!,3,FALSE)","v":{"$error":"#REF!"}},"McDowell Named and Created"]
["Q14a_7",{"$f":"VLOOKUP($A1272,#REF!,2,FALSE)","v":{"$error":"#REF!"}},{"$f":"VLOOKUP($A1272,#REF!,3,FALSE)","v":{"$error":"#REF!"}},"McDowell Named and Created"]
["Q14a_8",{"$f":"VLOOKUP($A1273,#REF!,2,FALSE)","v":{"$error":"#REF!"}},{"$f":"VLOOKUP($A1273,#REF!,3,FALSE)","v":{"$error":"#REF!"}},"McDowell Named and Created"]
["Q14a_9",{"$f":"VLOOKUP($A1274,#REF!,2,FALSE)","v":{"$error":"#REF!"}},{"$f":"VLOOKUP($A1274,#REF!,3,FALSE)","v":{"$error":"#REF!"}},"McDowell Named and Created"]
["Q14a_10",{"$f":"VLOOKUP($A1275,#REF!,2,FALSE)","v":{"$error":"#REF!"}},{"$f":"VLOOKUP($A1275,#REF!,3,FALSE)","v":{"$error":"#REF!"}},"McDowell Named and Created"]
["Q14a_11",{"$f":"VLOOKUP($A1276,#REF!,2,FALSE)","v":{"$error":"#REF!"}},{"$f":"VLOOKUP($A1276,#REF!,3,FALSE)","v":{"$error":"#REF!"}},"McDowell Named and Created"]
["Q14a_12",{"$f":"VLOOKUP($A1277,#REF!,2,FALSE)","v":{"$error":"#REF!"}},{"$f":"VLOOKUP($A1277,#REF!,3,FALSE)","v":{"$error":"#REF!"}},"McDowell Named and Created"]
["Q14a_13",{"$f":"VLOOKUP($A1278,#REF!,2,FALSE)","v":{"$error":"#REF!"}},{"$f":"VLOOKUP($A1278,#REF!,3,FALSE)","v":{"$error":"#REF!"}},"McDowell Named and Created"]
["Q14a_14",{"$f":"VLOOKUP($A1279,#REF!,2,FALSE)","v":{"$error":"#REF!"}},{"$f":"VLOOKUP($A1279,#REF!,3,FALSE)","v":{"$error":"#REF!"}},"McDowell Named and Created"]
["Q14a_15",{"$f":"VLOOKUP($A1280,#REF!,2,FALSE)","v":{"$error":"#REF!"}},{"$f":"VLOOKUP($A1280,#REF!,3,FALSE)","v":{"$error":"#REF!"}},"McDowell Named and Created"]
["Q14a_16",{"$f":"VLOOKUP($A1281,#REF!,2,FALSE)","v":{"$error":"#REF!"}},{"$f":"VLOOKUP($A1281,#REF!,3,FALSE)","v":{"$error":"#REF!"}},"McDowell Named and Created"]
["Q14a_17",{"$f":"VLOOKUP($A1282,#REF!,2,FALSE)","v":{"$error":"#REF!"}},{"$f":"VLOOKUP($A1282,#REF!,3,FALSE)","v":{"$error":"#REF!"}},"McDowell Named and Created"]
["Q14a_18",{"$f":"VLOOKUP($A1283,#REF!,2,FALSE)","v":{"$error":"#REF!"}},{"$f":"VLOOKUP($A1283,#REF!,3,FALSE)","v":{"$error":"#REF!"}},"McDowell Named and Created"]
["Q14a_19",{"$f":"VLOOKUP($A1284,#REF!,2,FALSE)","v":{"$error":"#REF!"}},{"$f":"VLOOKUP($A1284,#REF!,3,FALSE)","v":{"$error":"#REF!"}},"McDowell Named and Created"]
["Q14a_20",{"$f":"VLOOKUP($A1285,#REF!,2,FALSE)","v":{"$error":"#REF!"}},{"$f":"VLOOKUP($A1285,#REF!,3,FALSE)","v":{"$error":"#REF!"}},"McDowell Named and Created"]
["Q14a_21",{"$f":"VLOOKUP($A1286,#REF!,2,FALSE)","v":{"$error":"#REF!"}},{"$f":"VLOOKUP($A1286,#REF!,3,FALSE)","v":{"$error":"#REF!"}},"McDowell Named and Created"]
["Q14a_22",{"$f":"VLOOKUP($A1287,#REF!,2,FALSE)","v":{"$error":"#REF!"}},{"$f":"VLOOKUP($A1287,#REF!,3,FALSE)","v":{"$error":"#REF!"}},"McDowell Named and Created"]
["Q14a_23",{"$f":"VLOOKUP($A1288,#REF!,2,FALSE)","v":{"$error":"#REF!"}},{"$f":"VLOOKUP($A1288,#REF!,3,FALSE)","v":{"$error":"#REF!"}},"McDowell Named and Created"]
["Q14a_24",{"$f":"VLOOKUP($A1289,#REF!,2,FALSE)","v":{"$error":"#REF!"}},{"$f":"VLOOKUP($A1289,#REF!,3,FALSE)","v":{"$error":"#REF!"}},"McDowell Named and Created"]
["Q14a_21_other",{"$f":"VLOOKUP($A1290,#REF!,2,FALSE)","v":{"$error":"#REF!"}},{"$f":"VLOOKUP($A1290,#REF!,3,FALSE)","v":{"$error":"#REF!"}},"McDowell Named and Created"]
["Q14a_22_other",{"$f":"VLOOKUP($A1291,#REF!,2,FALSE)","v":{"$error":"#REF!"}},{"$f":"VLOOKUP($A1291,#REF!,3,FALSE)","v":{"$error":"#REF!"}},"McDowell Named and Created"]
["Q14a_23_other",{"$f":"VLOOKUP($A1292,#REF!,2,FALSE)","v":{"$error":"#REF!"}},{"$f":"VLOOKUP($A1292,#REF!,3,FALSE)","v":{"$error":"#REF!"}},"McDowell Named and Created"]
["Q14a_24_other",{"$f":"VLOOKUP($A1293,#REF!,2,FALSE)","v":{"$error":"#REF!"}},{"$f":"VLOOKUP($A1293,#REF!,3,FALSE)","v":{"$error":"#REF!"}},"McDowell Named and Created"]
["Q14b_r1_c1",{"$f":"VLOOKUP($A1294,#REF!,2,FALSE)","v":{"$error":"#REF!"}},{"$f":"VLOOKUP($A1294,#REF!,3,FALSE)","v":{"$error":"#REF!"}},"McDowell Named and Created"]
["Q14b_r2_c1",{"$f":"VLOOKUP($A1295,#REF!,2,FALSE)","v":{"$error":"#REF!"}},{"$f":"VLOOKUP($A1295,#REF!,3,FALSE)","v":{"$error":"#REF!"}},"McDowell Named and Created"]
["Q14b_r3_c1",{"$f":"VLOOKUP($A1296,#REF!,2,FALSE)","v":{"$error":"#REF!"}},{"$f":"VLOOKUP($A1296,#REF!,3,FALSE)","v":{"$error":"#REF!"}},"McDowell Named and Created"]
["Q14b_r4_c1",{"$f":"VLOOKUP($A1297,#REF!,2,FALSE)","v":{"$error":"#REF!"}},{"$f":"VLOOKUP($A1297,#REF!,3,FALSE)","v":{"$error":"#REF!"}},"McDowell Named and Created"]
["Q14b_r5_c1",{"$f":"VLOOKUP($A1298,#REF!,2,FALSE)","v":{"$error":"#REF!"}},{"$f":"VLOOKUP($A1298,#REF!,3,FALSE)","v":{"$error":"#REF!"}},"McDowell Named and Created"]
["Q14b_r6_c1",{"$f":"VLOOKUP($A1299,#REF!,2,FALSE)","v":{"$error":"#REF!"}},{"$f":"VLOOKUP($A1299,#REF!,3,FALSE)","v":{"$error":"#REF!"}},"McDowell Named and Created"]
["Q14b_r7_c1",{"$f":"VLOOKUP($A1300,#REF!,2,FALSE)","v":{"$error":"#REF!"}},{"$f":"VLOOKUP($A1300,#REF!,3,FALSE)","v":{"$error":"#REF!"}},"McDowell Named and Created"]
["Q14b_r8_c1",{"$f":"VLOOKUP($A1301,#REF!,2,FALSE)","v":{"$error":"#REF!"}},{"$f":"VLOOKUP($A1301,#REF!,3,FALSE)","v":{"$error":"#REF!"}},"McDowell Named and Created"]
["Q14b_r9_c1",{"$f":"VLOOKUP($A1302,#REF!,2,FALSE)","v":{"$error":"#REF!"}},{"$f":"VLOOKUP($A1302,#REF!,3,FALSE)","v":{"$error":"#REF!"}},"McDowell Named and Created"]
["Q14b_r10_c1",{"$f":"VLOOKUP($A1303,#REF!,2,FALSE)","v":{"$error":"#REF!"}},{"$f":"VLOOKUP($A1303,#REF!,3,FALSE)","v":{"$error":"#REF!"}},"McDowell Named and Created"]
["Q14b_r11_c1",{"$f":"VLOOKUP($A1304,#REF!,2,FALSE)","v":{"$error":"#REF!"}},{"$f":"VLOOKUP($A1304,#REF!,3,FALSE)","v":{"$error":"#REF!"}},"McDowell Named and Created"]
["Q14b_r12_c1",{"$f":"VLOOKUP($A1305,#REF!,2,FALSE)","v":{"$error":"#REF!"}},{"$f":"VLOOKUP($A1305,#REF!,3,FALSE)","v":{"$error":"#REF!"}},"McDowell Named and Created"]
["Q14b_r13_c1",{"$f":"VLOOKUP($A1306,#REF!,2,FALSE)","v":{"$error":"#REF!"}},{"$f":"VLOOKUP($A1306,#REF!,3,FALSE)","v":{"$error":"#REF!"}},"McDowell Named and Created"]
["Q14b_r14_c1",{"$f":"VLOOKUP($A1307,#REF!,2,FALSE)","v":{"$error":"#REF!"}},{"$f":"VLOOKUP($A1307,#REF!,3,FALSE)","v":{"$error":"#REF!"}},"McDowell Named and Created"]
["Q14b_r15_c1",{"$f":"VLOOKUP($A1308,#REF!,2,FALSE)","v":{"$error":"#REF!"}},{"$f":"VLOOKUP($A1308,#REF!,3,FALSE)","v":{"$error":"#REF!"}},"McDowell Named and Created"]
["Q14b_r16_c1",{"$f":"VLOOKUP($A1309,#REF!,2,FALSE)","v":{"$error":"#REF!"}},{"$f":"VLOOKUP($A1309,#REF!,3,FALSE)","v":{"$error":"#REF!"}},"McDowell Named and Created"]
["Q14b_r17_c1",{"$f":"VLOOKUP($A1310,#REF!,2,FALSE)","v":{"$error":"#REF!"}},{"$f":"VLOOKUP($A1310,#REF!,3,FALSE)","v":{"$error":"#REF!"}},"McDowell Named and Created"]
["Q14b_r18_c1",{"$f":"VLOOKUP($A1311,#REF!,2,FALSE)","v":{"$error":"#REF!"}},{"$f":"VLOOKUP($A1311,#REF!,3,FALSE)","v":{"$error":"#REF!"}},"McDowell Named and Created"]
["Q14b_r19_c1",{"$f":"VLOOKUP($A1312,#REF!,2,FALSE)","v":{"$error":"#REF!"}},{"$f":"VLOOKUP($A1312,#REF!,3,FALSE)","v":{"$error":"#REF!"}},"McDowell Named and Created"]
["Q14b_r20_c1",{"$f":"VLOOKUP($A1313,#REF!,2,FALSE)","v":{"$error":"#REF!"}},{"$f":"VLOOKUP($A1313,#REF!,3,FALSE)","v":{"$error":"#REF!"}},"McDowell Named and Created"]
["Q14b_r21_c1",{"$f":"VLOOKUP($A1314,#REF!,2,FALSE)","v":{"$error":"#REF!"}},{"$f":"VLOOKUP($A1314,#REF!,3,FALSE)","v":{"$error":"#REF!"}},"McDowell Named and Created"]
["Q14b_r22_c1",{"$f":"VLOOKUP($A1315,#REF!,2,FALSE)","v":{"$error":"#REF!"}},{"$f":"VLOOKUP($A1315,#REF!,3,FALSE)","v":{"$error":"#REF!"}},"McDowell Named and Created"]
["Q14b_r23_c1",{"$f":"VLOOKUP($A1316,#REF!,2,FALSE)","v":{"$error":"#REF!"}},{"$f":"VLOOKUP($A1316,#REF!,3,FALSE)","v":{"$error":"#REF!"}},"McDowell Named and Created"]
["Q14b_r24_c1",{"$f":"VLOOKUP($A1317,#REF!,2,FALSE)","v":{"$error":"#REF!"}},{"$f":"VLOOKUP($A1317,#REF!,3,FALSE)","v":{"$error":"#REF!"}},"McDowell Named and Created"]
["Q14b_r21_other",{"$f":"VLOOKUP($A1318,#REF!,2,FALSE)","v":{"$error":"#REF!"}},{"$f":"VLOOKUP($A1318,#REF!,3,FALSE)","v":{"$error":"#REF!"}},"McDowell Named and Created"]
["Q14b_r22_other",{"$f":"VLOOKUP($A1319,#REF!,2,FALSE)","v":{"$error":"#REF!"}},{"$f":"VLOOKUP($A1319,#REF!,3,FALSE)","v":{"$error":"#REF!"}},"McDowell Named and Created"]
["Q14b_r23_other",{"$f":"VLOOKUP($A1320,#REF!,2,FALSE)","v":{"$error":"#REF!"}},{"$f":"VLOOKUP($A1320,#REF!,3,FALSE)","v":{"$error":"#REF!"}},"McDowell Named and Created"]
["Q14b_r24_other",{"$f":"VLOOKUP($A1321,#REF!,2,FALSE)","v":{"$error":"#REF!"}},{"$f":"VLOOKUP($A1321,#REF!,3,FALSE)","v":{"$error":"#REF!"}},"McDowell Named and Created"]
["Q14c_1",{"$f":"VLOOKUP($A1322,#REF!,2,FALSE)","v":{"$error":"#REF!"}},{"$f":"VLOOKUP($A1322,#REF!,3,FALSE)","v":{"$error":"#REF!"}},"McDowell Named and Created"]
["Q14c_2",{"$f":"VLOOKUP($A1323,#REF!,2,FALSE)","v":{"$error":"#REF!"}},{"$f":"VLOOKUP($A1323,#REF!,3,FALSE)","v":{"$error":"#REF!"}},"McDowell Named and Created"]
["Q14c_3",{"$f":"VLOOKUP($A1324,#REF!,2,FALSE)","v":{"$error":"#REF!"}},{"$f":"VLOOKUP($A1324,#REF!,3,FALSE)","v":{"$error":"#REF!"}},"McDowell Named and Created"]
["Q14c_4",{"$f":"VLOOKUP($A1325,#REF!,2,FALSE)","v":{"$error":"#REF!"}},{"$f":"VLOOKUP($A1325,#REF!,3,FALSE)","v":{"$error":"#REF!"}},"McDowell Named and Created"]
["Q14c_5",{"$f":"VLOOKUP($A1326,#REF!,2,FALSE)","v":{"$error":"#REF!"}},{"$f":"VLOOKUP($A1326,#REF!,3,FALSE)","v":{"$error":"#REF!"}},"McDowell Named and Created"]
["Q14c_6",{"$f":"VLOOKUP($A1327,#REF!,2,FALSE)","v":{"$error":"#REF!"}},{"$f":"VLOOKUP($A1327,#REF!,3,FALSE)","v":{"$error":"#REF!"}},"McDowell Named and Created"]
["Q14c_7",{"$f":"VLOOKUP($A1328,#REF!,2,FALSE)","v":{"$error":"#REF!"}},{"$f":"VLOOKUP($A1328,#REF!,3,FALSE)","v":{"$error":"#REF!"}},"McDowell Named and Created"]
["Q14c_8",{"$f":"VLOOKUP($A1329,#REF!,2,FALSE)","v":{"$error":"#REF!"}},{"$f":"VLOOKUP($A1329,#REF!,3,FALSE)","v":{"$error":"#REF!"}},"McDowell Named and Created"]
["Q14c_9",{"$f":"VLOOKUP($A1330,#REF!,2,FALSE)","v":{"$error":"#REF!"}},{"$f":"VLOOKUP($A1330,#REF!,3,FALSE)","v":{"$error":"#REF!"}},"McDowell Named and Created"]
["Q14c_10",{"$f":"VLOOKUP($A1331,#REF!,2,FALSE)","v":{"$error":"#REF!"}},{"$f":"VLOOKUP($A1331,#REF!,3,FALSE)","v":{"$error":"#REF!"}},"McDowell Named and Created"]
["Q14c_11",{"$f":"VLOOKUP($A1332,#REF!,2,FALSE)","v":{"$error":"#REF!"}},{"$f":"VLOOKUP($A1332,#REF!,3,FALSE)","v":{"$error":"#REF!"}},"McDowell Named and Created"]
["Q14c_12",{"$f":"VLOOKUP($A1333,#REF!,2,FALSE)","v":{"$error":"#REF!"}},{"$f":"VLOOKUP($A1333,#REF!,3,FALSE)","v":{"$error":"#REF!"}},"McDowell Named and Created"]
["Q14c_13",{"$f":"VLOOKUP($A1334,#REF!,2,FALSE)","v":{"$error":"#REF!"}},{"$f":"VLOOKUP($A1334,#REF!,3,FALSE)","v":{"$error":"#REF!"}},"McDowell Named and Created"]
["Q14c_14",{"$f":"VLOOKUP($A1335,#REF!,2,FALSE)","v":{"$error":"#REF!"}},{"$f":"VLOOKUP($A1335,#REF!,3,FALSE)","v":{"$error":"#REF!"}},"McDowell Named and Created"]
["Q14c_15",{"$f":"VLOOKUP($A1336,#REF!,2,FALSE)","v":{"$error":"#REF!"}},{"$f":"VLOOKUP($A1336,#REF!,3,FALSE)","v":{"$error":"#REF!"}},"McDowell Named and Created"]
["Q14c_16",{"$f":"VLOOKUP($A1337,#REF!,2,FALSE)","v":{"$error":"#REF!"}},{"$f":"VLOOKUP($A1337,#REF!,3,FALSE)","v":{"$error":"#REF!"}},"McDowell Named and Created"]
["Q14c_17",{"$f":"VLOOKUP($A1338,#REF!,2,FALSE)","v":{"$error":"#REF!"}},{"$f":"VLOOKUP($A1338,#REF!,3,FALSE)","v":{"$error":"#REF!"}},"McDowell Named and Created"]
["Q14c_18",{"$f":"VLOOKUP($A1339,#REF!,2,FALSE)","v":{"$error":"#REF!"}},{"$f":"VLOOKUP($A1339,#REF!,3,FALSE)","v":{"$error":"#REF!"}},"McDowell Named and Created"]
["Q14c_19",{"$f":"VLOOKUP($A1340,#REF!,2,FALSE)","v":{"$error":"#REF!"}},{"$f":"VLOOKUP($A1340,#REF!,3,FALSE)","v":{"$error":"#REF!"}},"McDowell Named and Created"]
["Q14c_20",{"$f":"VLOOKUP($A1341,#REF!,2,FALSE)","v":{"$error":"#REF!"}},{"$f":"VLOOKUP($A1341,#REF!,3,FALSE)","v":{"$error":"#REF!"}},"McDowell Named and Created"]
["Q14c_21",{"$f":"VLOOKUP($A1342,#REF!,2,FALSE)","v":{"$error":"#REF!"}},{"$f":"VLOOKUP($A1342,#REF!,3,FALSE)","v":{"$error":"#REF!"}},"McDowell Named and Created"]
["Q14c_22",{"$f":"VLOOKUP($A1343,#REF!,2,FALSE)","v":{"$error":"#REF!"}},{"$f":"VLOOKUP($A1343,#REF!,3,FALSE)","v":{"$error":"#REF!"}},"McDowell Named and Created"]
["Q14c_23",{"$f":"VLOOKUP($A1344,#REF!,2,FALSE)","v":{"$error":"#REF!"}},{"$f":"VLOOKUP($A1344,#REF!,3,FALSE)","v":{"$error":"#REF!"}},"McDowell Named and Created"]
["Q14c_24",{"$f":"VLOOKUP($A1345,#REF!,2,FALSE)","v":{"$error":"#REF!"}},{"$f":"VLOOKUP($A1345,#REF!,3,FALSE)","v":{"$error":"#REF!"}},"McDowell Named and Created"]
["Q14c_21_other",{"$f":"VLOOKUP($A1346,#REF!,2,FALSE)","v":{"$error":"#REF!"}},{"$f":"VLOOKUP($A1346,#REF!,3,FALSE)","v":{"$error":"#REF!"}},"McDowell Named and Created"]
["Q14c_22_other",{"$f":"VLOOKUP($A1347,#REF!,2,FALSE)","v":{"$error":"#REF!"}},{"$f":"VLOOKUP($A1347,#REF!,3,FALSE)","v":{"$error":"#REF!"}},"McDowell Named and Created"]
["Q14c_23_other",{"$f":"VLOOKUP($A1348,#REF!,2,FALSE)","v":{"$error":"#REF!"}},{"$f":"VLOOKUP($A1348,#REF!,3,FALSE)","v":{"$error":"#REF!"}},"McDowell Named and Created"]
["Q14c_24_other",{"$f":"VLOOKUP($A1349,#REF!,2,FALSE)","v":{"$error":"#REF!"}},{"$f":"VLOOKUP($A1349,#REF!,3,FALSE)","v":{"$error":"#REF!"}},"McDowell Named and Created"]
["Q15",{"$f":"VLOOKUP($A1350,#REF!,2,FALSE)","v":{"$error":"#REF!"}},{"$f":"VLOOKUP($A1350,#REF!,3,FALSE)","v":{"$error":"#REF!"}},"McDowell Named and Created"]
["Q15_21_other",{"$f":"VLOOKUP($A1351,#REF!,2,FALSE)","v":{"$error":"#REF!"}},{"$f":"VLOOKUP($A1351,#REF!,3,FALSE)","v":{"$error":"#REF!"}},"McDowell Named and Created"]
["Q15_22_other",{"$f":"VLOOKUP($A1352,#REF!,2,FALSE)","v":{"$error":"#REF!"}},{"$f":"VLOOKUP($A1352,#REF!,3,FALSE)","v":{"$error":"#REF!"}},"McDowell Named and Created"]
["Q15_23_other",{"$f":"VLOOKUP($A1353,#REF!,2,FALSE)","v":{"$error":"#REF!"}},{"$f":"VLOOKUP($A1353,#REF!,3,FALSE)","v":{"$error":"#REF!"}},"McDowell Named and Created"]
["Q15_24_other",{"$f":"VLOOKUP($A1354,#REF!,2,FALSE)","v":{"$error":"#REF!"}},{"$f":"VLOOKUP($A1354,#REF!,3,FALSE)","v":{"$error":"#REF!"}},"McDowell Named and Created"]
["Q15a",{"$f":"VLOOKUP($A1355,#REF!,2,FALSE)","v":{"$error":"#REF!"}},{"$f":"VLOOKUP($A1355,#REF!,3,FALSE)","v":{"$error":"#REF!"}},"McDowell Named and Created"]
["Q15a_15_other",{"$f":"VLOOKUP($A1356,#REF!,2,FALSE)","v":{"$error":"#REF!"}},{"$f":"VLOOKUP($A1356,#REF!,3,FALSE)","v":{"$error":"#REF!"}},"McDowell Named and Created"]
["R1_r1",{"$f":"VLOOKUP($A1357,#REF!,2,FALSE)","v":{"$error":"#REF!"}},{"$f":"VLOOKUP($A1357,#REF!,3,FALSE)","v":{"$error":"#REF!"}},"McDowell Named and Created"]
["R1_r2",{"$f":"VLOOKUP($A1358,#REF!,2,FALSE)","v":{"$error":"#REF!"}},{"$f":"VLOOKUP($A1358,#REF!,3,FALSE)","v":{"$error":"#REF!"}},"McDowell Named and Created"]
["R1_r3",{"$f":"VLOOKUP($A1359,#REF!,2,FALSE)","v":{"$error":"#REF!"}},{"$f":"VLOOKUP($A1359,#REF!,3,FALSE)","v":{"$error":"#REF!"}},"McDowell Named and Created"]
["R1_r4",{"$f":"VLOOKUP($A1360,#REF!,2,FALSE)","v":{"$error":"#REF!"}},{"$f":"VLOOKUP($A1360,#REF!,3,FALSE)","v":{"$error":"#REF!"}},"McDowell Named and Created"]
["R1_r5",{"$f":"VLOOKUP($A1361,#REF!,2,FALSE)","v":{"$error":"#REF!"}},{"$f":"VLOOKUP($A1361,#REF!,3,FALSE)","v":{"$error":"#REF!"}},"McDowell Named and Created"]
["R1_r6",{"$f":"VLOOKUP($A1362,#REF!,2,FALSE)","v":{"$error":"#REF!"}},{"$f":"VLOOKUP($A1362,#REF!,3,FALSE)","v":{"$error":"#REF!"}},"McDowell Named and Created"]
["R1_r7",{"$f":"VLOOKUP($A1363,#REF!,2,FALSE)","v":{"$error":"#REF!"}},{"$f":"VLOOKUP($A1363,#REF!,3,FALSE)","v":{"$error":"#REF!"}},"McDowell Named and Created"]
["R1_r8",{"$f":"VLOOKUP($A1364,#REF!,2,FALSE)","v":{"$error":"#REF!"}},{"$f":"VLOOKUP($A1364,#REF!,3,FALSE)","v":{"$error":"#REF!"}},"McDowell Named and Created"]
["R1_r9",{"$f":"VLOOKUP($A1365,#REF!,2,FALSE)","v":{"$error":"#REF!"}},{"$f":"VLOOKUP($A1365,#REF!,3,FALSE)","v":{"$error":"#REF!"}},"McDowell Named and Created"]
["R1_r10",{"$f":"VLOOKUP($A1366,#REF!,2,FALSE)","v":{"$error":"#REF!"}},{"$f":"VLOOKUP($A1366,#REF!,3,FALSE)","v":{"$error":"#REF!"}},"McDowell Named and Created"]
["R1_r11",{"$f":"VLOOKUP($A1367,#REF!,2,FALSE)","v":{"$error":"#REF!"}},{"$f":"VLOOKUP($A1367,#REF!,3,FALSE)","v":{"$error":"#REF!"}},"McDowell Named and Created"]
["R1_r12",{"$f":"VLOOKUP($A1368,#REF!,2,FALSE)","v":{"$error":"#REF!"}},{"$f":"VLOOKUP($A1368,#REF!,3,FALSE)","v":{"$error":"#REF!"}},"McDowell Named and Created"]
["R1_r13",{"$f":"VLOOKUP($A1369,#REF!,2,FALSE)","v":{"$error":"#REF!"}},{"$f":"VLOOKUP($A1369,#REF!,3,FALSE)","v":{"$error":"#REF!"}},"McDowell Named and Created"]
["R1_r14",{"$f":"VLOOKUP($A1370,#REF!,2,FALSE)","v":{"$error":"#REF!"}},{"$f":"VLOOKUP($A1370,#REF!,3,FALSE)","v":{"$error":"#REF!"}},"McDowell Named and Created"]
["R1_r15",{"$f":"VLOOKUP($A1371,#REF!,2,FALSE)","v":{"$error":"#REF!"}},{"$f":"VLOOKUP($A1371,#REF!,3,FALSE)","v":{"$error":"#REF!"}},"McDowell Named and Created"]
["R1_r16",{"$f":"VLOOKUP($A1372,#REF!,2,FALSE)","v":{"$error":"#REF!"}},{"$f":"VLOOKUP($A1372,#REF!,3,FALSE)","v":{"$error":"#REF!"}},"McDowell Named and Created"]
["R1_r17",{"$f":"VLOOKUP($A1373,#REF!,2,FALSE)","v":{"$error":"#REF!"}},{"$f":"VLOOKUP($A1373,#REF!,3,FALSE)","v":{"$error":"#REF!"}},"McDowell Named and Created"]
["R1_r18",{"$f":"VLOOKUP($A1374,#REF!,2,FALSE)","v":{"$error":"#REF!"}},{"$f":"VLOOKUP($A1374,#REF!,3,FALSE)","v":{"$error":"#REF!"}},"McDowell Named and Created"]
["R1_r19",{"$f":"VLOOKUP($A1375,#REF!,2,FALSE)","v":{"$error":"#REF!"}},{"$f":"VLOOKUP($A1375,#REF!,3,FALSE)","v":{"$error":"#REF!"}},"McDowell Named and Created"]
["R1_r20",{"$f":"VLOOKUP($A1376,#REF!,2,FALSE)","v":{"$error":"#REF!"}},{"$f":"VLOOKUP($A1376,#REF!,3,FALSE)","v":{"$error":"#REF!"}},"McDowell Named and Created"]
["R1_r21",{"$f":"VLOOKUP($A1377,#REF!,2,FALSE)","v":{"$error":"#REF!"}},{"$f":"VLOOKUP($A1377,#REF!,3,FALSE)","v":{"$error":"#REF!"}},"McDowell Named and Created"]
["R1_r22",{"$f":"VLOOKUP($A1378,#REF!,2,FALSE)","v":{"$error":"#REF!"}},{"$f":"VLOOKUP($A1378,#REF!,3,FALSE)","v":{"$error":"#REF!"}},"McDowell Named and Created"]
["R1_r23",{"$f":"VLOOKUP($A1379,#REF!,2,FALSE)","v":{"$error":"#REF!"}},{"$f":"VLOOKUP($A1379,#REF!,3,FALSE)","v":{"$error":"#REF!"}},"McDowell Named and Created"]
["R1_r24",{"$f":"VLOOKUP($A1380,#REF!,2,FALSE)","v":{"$error":"#REF!"}},{"$f":"VLOOKUP($A1380,#REF!,3,FALSE)","v":{"$error":"#REF!"}},"McDowell Named and Created"]
["R1_r25",{"$f":"VLOOKUP($A1381,#REF!,2,FALSE)","v":{"$error":"#REF!"}},{"$f":"VLOOKUP($A1381,#REF!,3,FALSE)","v":{"$error":"#REF!"}},"McDowell Named and Created"]
["R1_r26",{"$f":"VLOOKUP($A1382,#REF!,2,FALSE)","v":{"$error":"#REF!"}},{"$f":"VLOOKUP($A1382,#REF!,3,FALSE)","v":{"$error":"#REF!"}},"McDowell Named and Created"]
["R1_r27",{"$f":"VLOOKUP($A1383,#REF!,2,FALSE)","v":{"$error":"#REF!"}},{"$f":"VLOOKUP($A1383,#REF!,3,FALSE)","v":{"$error":"#REF!"}},"McDowell Named and Created"]
["R1_r28",{"$f":"VLOOKUP($A1384,#REF!,2,FALSE)","v":{"$error":"#REF!"}},{"$f":"VLOOKUP($A1384,#REF!,3,FALSE)","v":{"$error":"#REF!"}},"McDowell Named and Created"]
["R1_r29",{"$f":"VLOOKUP($A1385,#REF!,2,FALSE)","v":{"$error":"#REF!"}},{"$f":"VLOOKUP($A1385,#REF!,3,FALSE)","v":{"$error":"#REF!"}},"McDowell Named and Created"]
["R1_r30",{"$f":"VLOOKUP($A1386,#REF!,2,FALSE)","v":{"$error":"#REF!"}},{"$f":"VLOOKUP($A1386,#REF!,3,FALSE)","v":{"$error":"#REF!"}},"McDowell Named and Created"]
["R1_r31",{"$f":"VLOOKUP($A1387,#REF!,2,FALSE)","v":{"$error":"#REF!"}},{"$f":"VLOOKUP($A1387,#REF!,3,FALSE)","v":{"$error":"#REF!"}},"McDowell Named and Created"]
["R1_r32",{"$f":"VLOOKUP($A1388,#REF!,2,FALSE)","v":{"$error":"#REF!"}},{"$f":"VLOOKUP($A1388,#REF!,3,FALSE)","v":{"$error":"#REF!"}},"McDowell Named and Created"]
["R1_r33",{"$f":"VLOOKUP($A1389,#REF!,2,FALSE)","v":{"$error":"#REF!"}},{"$f":"VLOOKUP($A1389,#REF!,3,FALSE)","v":{"$error":"#REF!"}},"McDowell Named and Created"]
["R1_r34",{"$f":"VLOOKUP($A1390,#REF!,2,FALSE)","v":{"$error":"#REF!"}},{"$f":"VLOOKUP($A1390,#REF!,3,FALSE)","v":{"$error":"#REF!"}},"McDowell Named and Created"]
["R1_r35",{"$f":"VLOOKUP($A1391,#REF!,2,FALSE)","v":{"$error":"#REF!"}},{"$f":"VLOOKUP($A1391,#REF!,3,FALSE)","v":{"$error":"#REF!"}},"McDowell Named and Created"]
["R1_r36",{"$f":"VLOOKUP($A1392,#REF!,2,FALSE)","v":{"$error":"#REF!"}},{"$f":"VLOOKUP($A1392,#REF!,3,FALSE)","v":{"$error":"#REF!"}},"McDowell Named and Created"]
["R1_r37",{"$f":"VLOOKUP($A1393,#REF!,2,FALSE)","v":{"$error":"#REF!"}},{"$f":"VLOOKUP($A1393,#REF!,3,FALSE)","v":{"$error":"#REF!"}},"McDowell Named and Created"]
["R1_r38",{"$f":"VLOOKUP($A1394,#REF!,2,FALSE)","v":{"$error":"#REF!"}},{"$f":"VLOOKUP($A1394,#REF!,3,FALSE)","v":{"$error":"#REF!"}},"McDowell Named and Created"]
["R1_r39",{"$f":"VLOOKUP($A1395,#REF!,2,FALSE)","v":{"$error":"#REF!"}},{"$f":"VLOOKUP($A1395,#REF!,3,FALSE)","v":{"$error":"#REF!"}},"McDowell Named and Created"]
["R1_r40",{"$f":"VLOOKUP($A1396,#REF!,2,FALSE)","v":{"$error":"#REF!"}},{"$f":"VLOOKUP($A1396,#REF!,3,FALSE)","v":{"$error":"#REF!"}},"McDowell Named and Created"]
["R1_r41",{"$f":"VLOOKUP($A1397,#REF!,2,FALSE)","v":{"$error":"#REF!"}},{"$f":"VLOOKUP($A1397,#REF!,3,FALSE)","v":{"$error":"#REF!"}},"McDowell Named and Created"]
["R1_r42",{"$f":"VLOOKUP($A1398,#REF!,2,FALSE)","v":{"$error":"#REF!"}},{"$f":"VLOOKUP($A1398,#REF!,3,FALSE)","v":{"$error":"#REF!"}},"McDowell Named and Created"]
["R1_r43",{"$f":"VLOOKUP($A1399,#REF!,2,FALSE)","v":{"$error":"#REF!"}},{"$f":"VLOOKUP($A1399,#REF!,3,FALSE)","v":{"$error":"#REF!"}},"McDowell Named and Created"]
["R1_r44",{"$f":"VLOOKUP($A1400,#REF!,2,FALSE)","v":{"$error":"#REF!"}},{"$f":"VLOOKUP($A1400,#REF!,3,FALSE)","v":{"$error":"#REF!"}},"McDowell Named and Created"]
["R1_r45",{"$f":"VLOOKUP($A1401,#REF!,2,FALSE)","v":{"$error":"#REF!"}},{"$f":"VLOOKUP($A1401,#REF!,3,FALSE)","v":{"$error":"#REF!"}},"McDowell Named and Created"]
["R1_r46",{"$f":"VLOOKUP($A1402,#REF!,2,FALSE)","v":{"$error":"#REF!"}},{"$f":"VLOOKUP($A1402,#REF!,3,FALSE)","v":{"$error":"#REF!"}},"McDowell Named and Created"]
["R1_r47",{"$f":"VLOOKUP($A1403,#REF!,2,FALSE)","v":{"$error":"#REF!"}},{"$f":"VLOOKUP($A1403,#REF!,3,FALSE)","v":{"$error":"#REF!"}},"McDowell Named and Created"]
["R1_r48",{"$f":"VLOOKUP($A1404,#REF!,2,FALSE)","v":{"$error":"#REF!"}},{"$f":"VLOOKUP($A1404,#REF!,3,FALSE)","v":{"$error":"#REF!"}},"McDowell Named and Created"]
["R1_r49",{"$f":"VLOOKUP($A1405,#REF!,2,FALSE)","v":{"$error":"#REF!"}},{"$f":"VLOOKUP($A1405,#REF!,3,FALSE)","v":{"$error":"#REF!"}},"McDowell Named and Created"]
["R1_r51",{"$f":"VLOOKUP($A1406,#REF!,2,FALSE)","v":{"$error":"#REF!"}},{"$f":"VLOOKUP($A1406,#REF!,3,FALSE)","v":{"$error":"#REF!"}},"McDowell Named and Created"]
["R1_r52",{"$f":"VLOOKUP($A1407,#REF!,2,FALSE)","v":{"$error":"#REF!"}},{"$f":"VLOOKUP($A1407,#REF!,3,FALSE)","v":{"$error":"#REF!"}},"McDowell Named and Created"]
["R1_r53",{"$f":"VLOOKUP($A1408,#REF!,2,FALSE)","v":{"$error":"#REF!"}},{"$f":"VLOOKUP($A1408,#REF!,3,FALSE)","v":{"$error":"#REF!"}},"McDowell Named and Created"]
["R1_r54",{"$f":"VLOOKUP($A1409,#REF!,2,FALSE)","v":{"$error":"#REF!"}},{"$f":"VLOOKUP($A1409,#REF!,3,FALSE)","v":{"$error":"#REF!"}},"McDowell Named and Created"]
["R1_r55",{"$f":"VLOOKUP($A1410,#REF!,2,FALSE)","v":{"$error":"#REF!"}},{"$f":"VLOOKUP($A1410,#REF!,3,FALSE)","v":{"$error":"#REF!"}},"McDowell Named and Created"]
["R1_r56",{"$f":"VLOOKUP($A1411,#REF!,2,FALSE)","v":{"$error":"#REF!"}},{"$f":"VLOOKUP($A1411,#REF!,3,FALSE)","v":{"$error":"#REF!"}},"McDowell Named and Created"]
["R1_r57",{"$f":"VLOOKUP($A1412,#REF!,2,FALSE)","v":{"$error":"#REF!"}},{"$f":"VLOOKUP($A1412,#REF!,3,FALSE)","v":{"$error":"#REF!"}},"McDowell Named and Created"]
["R1_r58",{"$f":"VLOOKUP($A1413,#REF!,2,FALSE)","v":{"$error":"#REF!"}},{"$f":"VLOOKUP($A1413,#REF!,3,FALSE)","v":{"$error":"#REF!"}},"McDowell Named and Created"]
["R1_r59",{"$f":"VLOOKUP($A1414,#REF!,2,FALSE)","v":{"$error":"#REF!"}},{"$f":"VLOOKUP($A1414,#REF!,3,FALSE)","v":{"$error":"#REF!"}},"McDowell Named and Created"]
["R1_r60",{"$f":"VLOOKUP($A1415,#REF!,2,FALSE)","v":{"$error":"#REF!"}},{"$f":"VLOOKUP($A1415,#REF!,3,FALSE)","v":{"$error":"#REF!"}},"McDowell Named and Created"]
["Q17",{"$f":"VLOOKUP($A1416,#REF!,2,FALSE)","v":{"$error":"#REF!"}},{"$f":"VLOOKUP($A1416,#REF!,3,FALSE)","v":{"$error":"#REF!"}},"McDowell Named and Created"]
["Q17a",{"$f":"VLOOKUP($A1417,#REF!,2,FALSE)","v":{"$error":"#REF!"}},{"$f":"VLOOKUP($A1417,#REF!,3,FALSE)","v":{"$error":"#REF!"}},"McDowell Named and Created"]
["Q17b",{"$f":"VLOOKUP($A1418,#REF!,2,FALSE)","v":{"$error":"#REF!"}},{"$f":"VLOOKUP($A1418,#REF!,3,FALSE)","v":{"$error":"#REF!"}},"McDowell Named and Created"]
["Q18",{"$f":"VLOOKUP($A1419,#REF!,2,FALSE)","v":{"$error":"#REF!"}},{"$f":"VLOOKUP($A1419,#REF!,3,FALSE)","v":{"$error":"#REF!"}},"McDowell Named and Created"]
["Q18a",{"$f":"VLOOKUP($A1420,#REF!,2,FALSE)","v":{"$error":"#REF!"}},{"$f":"VLOOKUP($A1420,#REF!,3,FALSE)","v":{"$error":"#REF!"}},"McDowell Named and Created"]
["Q19",{"$f":"VLOOKUP($A1421,#REF!,2,FALSE)","v":{"$error":"#REF!"}},{"$f":"VLOOKUP($A1421,#REF!,3,FALSE)","v":{"$error":"#REF!"}},"McDowell Named and Created"]
["Q20",{"$f":"VLOOKUP($A1422,#REF!,2,FALSE)","v":{"$error":"#REF!"}},{"$f":"VLOOKUP($A1422,#REF!,3,FALSE)","v":{"$error":"#REF!"}},"McDowell Named and Created"]
["Q21overnight_1",{"$f":"VLOOKUP($A1423,#REF!,2,FALSE)","v":{"$error":"#REF!"}},{"$f":"VLOOKUP($A1423,#REF!,3,FALSE)","v":{"$error":"#REF!"}},"McDowell Named and Created"]
["Q21overnight_2",{"$f":"VLOOKUP($A1424,#REF!,2,FALSE)","v":{"$error":"#REF!"}},{"$f":"VLOOKUP($A1424,#REF!,3,FALSE)","v":{"$error":"#REF!"}},"McDowell Named and Created"]
["Q21overnight_3",{"$f":"VLOOKUP($A1425,#REF!,2,FALSE)","v":{"$error":"#REF!"}},{"$f":"VLOOKUP($A1425,#REF!,3,FALSE)","v":{"$error":"#REF!"}},"McDowell Named and Created"]
["Q21overnight_4",{"$f":"VLOOKUP($A1426,#REF!,2,FALSE)","v":{"$error":"#REF!"}},{"$f":"VLOOKUP($A1426,#REF!,3,FALSE)","v":{"$error":"#REF!"}},"McDowell Named and Created"]
["Q21overnight_5",{"$f":"VLOOKUP($A1427,#REF!,2,FALSE)","v":{"$error":"#REF!"}},{"$f":"VLOOKUP($A1427,#REF!,3,FALSE)","v":{"$error":"#REF!"}},"McDowell Named and Created"]
["Q21overnight_6",{"$f":"VLOOKUP($A1428,#REF!,2,FALSE)","v":{"$error":"#REF!"}},{"$f":"VLOOKUP($A1428,#REF!,3,FALSE)","v":{"$error":"#REF!"}},"McDowell Named and Created"]
["Q21overnight_7",{"$f":"VLOOKUP($A1429,#REF!,2,FALSE)","v":{"$error":"#REF!"}},{"$f":"VLOOKUP($A1429,#REF!,3,FALSE)","v":{"$error":"#REF!"}},"McDowell Named and Created"]
["Q21overnight_8",{"$f":"VLOOKUP($A1430,#REF!,2,FALSE)","v":{"$error":"#REF!"}},{"$f":"VLOOKUP($A1430,#REF!,3,FALSE)","v":{"$error":"#REF!"}},"McDowell Named and Created"]
["Q21overnight_9",{"$f":"VLOOKUP($A1431,#REF!,2,FALSE)","v":{"$error":"#REF!"}},{"$f":"VLOOKUP($A1431,#REF!,3,FALSE)","v":{"$error":"#REF!"}},"McDowell Named and Created"]
["Q21overnight_10",{"$f":"VLOOKUP($A1432,#REF!,2,FALSE)","v":{"$error":"#REF!"}},{"$f":"VLOOKUP($A1432,#REF!,3,FALSE)","v":{"$error":"#REF!"}},"McDowell Named and Created"]
["Q21overnight_11",{"$f":"VLOOKUP($A1433,#REF!,2,FALSE)","v":{"$error":"#REF!"}},{"$f":"VLOOKUP($A1433,#REF!,3,FALSE)","v":{"$error":"#REF!"}},"McDowell Named and Created"]
["Q21overnight_12",{"$f":"VLOOKUP($A1434,#REF!,2,FALSE)","v":{"$error":"#REF!"}},{"$f":"VLOOKUP($A1434,#REF!,3,FALSE)","v":{"$error":"#REF!"}},"McDowell Named and Created"]
["Q21overnight_13",{"$f":"VLOOKUP($A1435,#REF!,2,FALSE)","v":{"$error":"#REF!"}},{"$f":"VLOOKUP($A1435,#REF!,3,FALSE)","v":{"$error":"#REF!"}},"McDowell Named and Created"]
["Q21overnight_14",{"$f":"VLOOKUP($A1436,#REF!,2,FALSE)","v":{"$error":"#REF!"}},{"$f":"VLOOKUP($A1436,#REF!,3,FALSE)","v":{"$error":"#REF!"}},"McDowell Named and Created"]
["Q21overnight_15",{"$f":"VLOOKUP($A1437,#REF!,2,FALSE)","v":{"$error":"#REF!"}},{"$f":"VLOOKUP($A1437,#REF!,3,FALSE)","v":{"$error":"#REF!"}},"McDowell Named and Created"]
["Q21overnight_16",{"$f":"VLOOKUP($A1438,#REF!,2,FALSE)","v":{"$error":"#REF!"}},{"$f":"VLOOKUP($A1438,#REF!,3,FALSE)","v":{"$error":"#REF!"}},"McDowell Named and Created"]
["Q21overnight_17",{"$f":"VLOOKUP($A1439,#REF!,2,FALSE)","v":{"$error":"#REF!"}},{"$f":"VLOOKUP($A1439,#REF!,3,FALSE)","v":{"$error":"#REF!"}},"McDowell Named and Created"]
["Q21overnight_18",{"$f":"VLOOKUP($A1440,#REF!,2,FALSE)","v":{"$error":"#REF!"}},{"$f":"VLOOKUP($A1440,#REF!,3,FALSE)","v":{"$error":"#REF!"}},"McDowell Named and Created"]
["Q21overnight_19",{"$f":"VLOOKUP($A1441,#REF!,2,FALSE)","v":{"$error":"#REF!"}},{"$f":"VLOOKUP($A1441,#REF!,3,FALSE)","v":{"$error":"#REF!"}},"McDowell Named and Created"]
["Q21overnight_20",{"$f":"VLOOKUP($A1442,#REF!,2,FALSE)","v":{"$error":"#REF!"}},{"$f":"VLOOKUP($A1442,#REF!,3,FALSE)","v":{"$error":"#REF!"}},"McDowell Named and Created"]
["Q21overnight_21",{"$f":"VLOOKUP($A1443,#REF!,2,FALSE)","v":{"$error":"#REF!"}},{"$f":"VLOOKUP($A1443,#REF!,3,FALSE)","v":{"$error":"#REF!"}},"McDowell Named and Created"]
["Q21overnight_22",{"$f":"VLOOKUP($A1444,#REF!,2,FALSE)","v":{"$error":"#REF!"}},{"$f":"VLOOKUP($A1444,#REF!,3,FALSE)","v":{"$error":"#REF!"}},"McDowell Named and Created"]
["Q21overnight_23",{"$f":"VLOOKUP($A1445,#REF!,2,FALSE)","v":{"$error":"#REF!"}},{"$f":"VLOOKUP($A1445,#REF!,3,FALSE)","v":{"$error":"#REF!"}},"McDowell Named and Created"]
["Q21overnight_24",{"$f":"VLOOKUP($A1446,#REF!,2,FALSE)","v":{"$error":"#REF!"}},{"$f":"VLOOKUP($A1446,#REF!,3,FALSE)","v":{"$error":"#REF!"}},"McDowell Named and Created"]
["Q21overnight_25",{"$f":"VLOOKUP($A1447,#REF!,2,FALSE)","v":{"$error":"#REF!"}},{"$f":"VLOOKUP($A1447,#REF!,3,FALSE)","v":{"$error":"#REF!"}},"McDowell Named and Created"]
["Q21overnight_26",{"$f":"VLOOKUP($A1448,#REF!,2,FALSE)","v":{"$error":"#REF!"}},{"$f":"VLOOKUP($A1448,#REF!,3,FALSE)","v":{"$error":"#REF!"}},"McDowell Named and Created"]
["Q21overnight_27",{"$f":"VLOOKUP($A1449,#REF!,2,FALSE)","v":{"$error":"#REF!"}},{"$f":"VLOOKUP($A1449,#REF!,3,FALSE)","v":{"$error":"#REF!"}},"McDowell Named and Created"]
["Q21overnight_28",{"$f":"VLOOKUP($A1450,#REF!,2,FALSE)","v":{"$error":"#REF!"}},{"$f":"VLOOKUP($A1450,#REF!,3,FALSE)","v":{"$error":"#REF!"}},"McDowell Named and Created"]
["Q21overnight_10_other",{"$f":"VLOOKUP($A1451,#REF!,2,FALSE)","v":{"$error":"#REF!"}},{"$f":"VLOOKUP($A1451,#REF!,3,FALSE)","v":{"$error":"#REF!"}},"McDowell Named and Created"]
["Q21overnight_11_other",{"$f":"VLOOKUP($A1452,#REF!,2,FALSE)","v":{"$error":"#REF!"}},{"$f":"VLOOKUP($A1452,#REF!,3,FALSE)","v":{"$error":"#REF!"}},"McDowell Named and Created"]
["Q21overnight_12_other",{"$f":"VLOOKUP($A1453,#REF!,2,FALSE)","v":{"$error":"#REF!"}},{"$f":"VLOOKUP($A1453,#REF!,3,FALSE)","v":{"$error":"#REF!"}},"McDowell Named and Created"]
["Q21overnight_13_other",{"$f":"VLOOKUP($A1454,#REF!,2,FALSE)","v":{"$error":"#REF!"}},{"$f":"VLOOKUP($A1454,#REF!,3,FALSE)","v":{"$error":"#REF!"}},"McDowell Named and Created"]
["Q21overnight_14_other",{"$f":"VLOOKUP($A1455,#REF!,2,FALSE)","v":{"$error":"#REF!"}},{"$f":"VLOOKUP($A1455,#REF!,3,FALSE)","v":{"$error":"#REF!"}},"McDowell Named and Created"]
["Q21overnight_15_other",{"$f":"VLOOKUP($A1456,#REF!,2,FALSE)","v":{"$error":"#REF!"}},{"$f":"VLOOKUP($A1456,#REF!,3,FALSE)","v":{"$error":"#REF!"}},"McDowell Named and Created"]
["Q21overnight_16_other",{"$f":"VLOOKUP($A1457,#REF!,2,FALSE)","v":{"$error":"#REF!"}},{"$f":"VLOOKUP($A1457,#REF!,3,FALSE)","v":{"$error":"#REF!"}},"McDowell Named and Created"]
["Q21overnight_17_other",{"$f":"VLOOKUP($A1458,#REF!,2,FALSE)","v":{"$error":"#REF!"}},{"$f":"VLOOKUP($A1458,#REF!,3,FALSE)","v":{"$error":"#REF!"}},"McDowell Named and Created"]
["Q21overnight_18_other",{"$f":"VLOOKUP($A1459,#REF!,2,FALSE)","v":{"$error":"#REF!"}},{"$f":"VLOOKUP($A1459,#REF!,3,FALSE)","v":{"$error":"#REF!"}},"McDowell Named and Created"]
["Q21other_r1_c1",{"$f":"VLOOKUP($A1460,#REF!,2,FALSE)","v":{"$error":"#REF!"}},{"$f":"VLOOKUP($A1460,#REF!,3,FALSE)","v":{"$error":"#REF!"}},"McDowell Named and Created"]
["Q21other_r2_c1",{"$f":"VLOOKUP($A1461,#REF!,2,FALSE)","v":{"$error":"#REF!"}},{"$f":"VLOOKUP($A1461,#REF!,3,FALSE)","v":{"$error":"#REF!"}},"McDowell Named and Created"]
["Q21other_r3_c1",{"$f":"VLOOKUP($A1462,#REF!,2,FALSE)","v":{"$error":"#REF!"}},{"$f":"VLOOKUP($A1462,#REF!,3,FALSE)","v":{"$error":"#REF!"}},"McDowell Named and Created"]
["Q21other_r4_c1",{"$f":"VLOOKUP($A1463,#REF!,2,FALSE)","v":{"$error":"#REF!"}},{"$f":"VLOOKUP($A1463,#REF!,3,FALSE)","v":{"$error":"#REF!"}},"McDowell Named and Created"]
["Q21other_r5_c1",{"$f":"VLOOKUP($A1464,#REF!,2,FALSE)","v":{"$error":"#REF!"}},{"$f":"VLOOKUP($A1464,#REF!,3,FALSE)","v":{"$error":"#REF!"}},"McDowell Named and Created"]
["Q21other_r6_c1",{"$f":"VLOOKUP($A1465,#REF!,2,FALSE)","v":{"$error":"#REF!"}},{"$f":"VLOOKUP($A1465,#REF!,3,FALSE)","v":{"$error":"#REF!"}},"McDowell Named and Created"]
["Q21other_r7_c1",{"$f":"VLOOKUP($A1466,#REF!,2,FALSE)","v":{"$error":"#REF!"}},{"$f":"VLOOKUP($A1466,#REF!,3,FALSE)","v":{"$error":"#REF!"}},"McDowell Named and Created"]
["Q21other_r8_c1",{"$f":"VLOOKUP($A1467,#REF!,2,FALSE)","v":{"$error":"#REF!"}},{"$f":"VLOOKUP($A1467,#REF!,3,FALSE)","v":{"$error":"#REF!"}},"McDowell Named and Created"]
["Q21other_r9_c1",{"$f":"VLOOKUP($A1468,#REF!,2,FALSE)","v":{"$error":"#REF!"}},{"$f":"VLOOKUP($A1468,#REF!,3,FALSE)","v":{"$error":"#REF!"}},"McDowell Named and Created"]
["Q21other_r10_c1",{"$f":"VLOOKUP($A1469,#REF!,2,FALSE)","v":{"$error":"#REF!"}},{"$f":"VLOOKUP($A1469,#REF!,3,FALSE)","v":{"$error":"#REF!"}},"McDowell Named and Created"]
["Q21other_r11_c1",{"$f":"VLOOKUP($A1470,#REF!,2,FALSE)","v":{"$error":"#REF!"}},{"$f":"VLOOKUP($A1470,#REF!,3,FALSE)","v":{"$error":"#REF!"}},"McDowell Named and Created"]
["Q21other_r12_c1",{"$f":"VLOOKUP($A1471,#REF!,2,FALSE)","v":{"$error":"#REF!"}},{"$f":"VLOOKUP($A1471,#REF!,3,FALSE)","v":{"$error":"#REF!"}},"McDowell Named and Created"]
["Q21other_r13_c1",{"$f":"VLOOKUP($A1472,#REF!,2,FALSE)","v":{"$error":"#REF!"}},{"$f":"VLOOKUP($A1472,#REF!,3,FALSE)","v":{"$error":"#REF!"}},"McDowell Named and Created"]
["Q21other_r14_c1",{"$f":"VLOOKUP($A1473,#REF!,2,FALSE)","v":{"$error":"#REF!"}},{"$f":"VLOOKUP($A1473,#REF!,3,FALSE)","v":{"$error":"#REF!"}},"McDowell Named and Created"]
["Q21other_r15_c1",{"$f":"VLOOKUP($A1474,#REF!,2,FALSE)","v":{"$error":"#REF!"}},{"$f":"VLOOKUP($A1474,#REF!,3,FALSE)","v":{"$error":"#REF!"}},"McDowell Named and Created"]
["Q21other_r16_c1",{"$f":"VLOOKUP($A1475,#REF!,2,FALSE)","v":{"$error":"#REF!"}},{"$f":"VLOOKUP($A1475,#REF!,3,FALSE)","v":{"$error":"#REF!"}},"McDowell Named and Created"]
["Q21other_r17_c1",{"$f":"VLOOKUP($A1476,#REF!,2,FALSE)","v":{"$error":"#REF!"}},{"$f":"VLOOKUP($A1476,#REF!,3,FALSE)","v":{"$error":"#REF!"}},"McDowell Named and Created"]
["Q21other_r18_c1",{"$f":"VLOOKUP($A1477,#REF!,2,FALSE)","v":{"$error":"#REF!"}},{"$f":"VLOOKUP($A1477,#REF!,3,FALSE)","v":{"$error":"#REF!"}},"McDowell Named and Created"]
["Q21other_r19_c1",{"$f":"VLOOKUP($A1478,#REF!,2,FALSE)","v":{"$error":"#REF!"}},{"$f":"VLOOKUP($A1478,#REF!,3,FALSE)","v":{"$error":"#REF!"}},"McDowell Named and Created"]
["Q21other_r20_c1",{"$f":"VLOOKUP($A1479,#REF!,2,FALSE)","v":{"$error":"#REF!"}},{"$f":"VLOOKUP($A1479,#REF!,3,FALSE)","v":{"$error":"#REF!"}},"McDowell Named and Created"]
["Q21other_r21_c1",{"$f":"VLOOKUP($A1480,#REF!,2,FALSE)","v":{"$error":"#REF!"}},{"$f":"VLOOKUP($A1480,#REF!,3,FALSE)","v":{"$error":"#REF!"}},"McDowell Named and Created"]
["Q21other_r22_c1",{"$f":"VLOOKUP($A1481,#REF!,2,FALSE)","v":{"$error":"#REF!"}},{"$f":"VLOOKUP($A1481,#REF!,3,FALSE)","v":{"$error":"#REF!"}},"McDowell Named and Created"]
["Q21other_r23_c1",{"$f":"VLOOKUP($A1482,#REF!,2,FALSE)","v":{"$error":"#REF!"}},{"$f":"VLOOKUP($A1482,#REF!,3,FALSE)","v":{"$error":"#REF!"}},"McDowell Named and Created"]
["Q21other_r24_c1",{"$f":"VLOOKUP($A1483,#REF!,2,FALSE)","v":{"$error":"#REF!"}},{"$f":"VLOOKUP($A1483,#REF!,3,FALSE)","v":{"$error":"#REF!"}},"McDowell Named and Created"]
["Q21other_r25_c1",{"$f":"VLOOKUP($A1484,#REF!,2,FALSE)","v":{"$error":"#REF!"}},{"$f":"VLOOKUP($A1484,#REF!,3,FALSE)","v":{"$error":"#REF!"}},"McDowell Named and Created"]
["Q21other_r26_c1",{"$f":"VLOOKUP($A1485,#REF!,2,FALSE)","v":{"$error":"#REF!"}},{"$f":"VLOOKUP($A1485,#REF!,3,FALSE)","v":{"$error":"#REF!"}},"McDowell Named and Created"]
["Q21other_r27_c1",{"$f":"VLOOKUP($A1486,#REF!,2,FALSE)","v":{"$error":"#REF!"}},{"$f":"VLOOKUP($A1486,#REF!,3,FALSE)","v":{"$error":"#REF!"}},"McDowell Named and Created"]
["Q21other_r28_c1",{"$f":"VLOOKUP($A1487,#REF!,2,FALSE)","v":{"$error":"#REF!"}},{"$f":"VLOOKUP($A1487,#REF!,3,FALSE)","v":{"$error":"#REF!"}},"McDowell Named and Created"]
["Q21other_r1_c2",{"$f":"VLOOKUP($A1488,#REF!,2,FALSE)","v":{"$error":"#REF!"}},{"$f":"VLOOKUP($A1488,#REF!,3,FALSE)","v":{"$error":"#REF!"}},"McDowell Named and Created"]
["Q21other_r2_c2",{"$f":"VLOOKUP($A1489,#REF!,2,FALSE)","v":{"$error":"#REF!"}},{"$f":"VLOOKUP($A1489,#REF!,3,FALSE)","v":{"$error":"#REF!"}},"McDowell Named and Created"]
["Q21other_r3_c2",{"$f":"VLOOKUP($A1490,#REF!,2,FALSE)","v":{"$error":"#REF!"}},{"$f":"VLOOKUP($A1490,#REF!,3,FALSE)","v":{"$error":"#REF!"}},"McDowell Named and Created"]
["Q21other_r4_c2",{"$f":"VLOOKUP($A1491,#REF!,2,FALSE)","v":{"$error":"#REF!"}},{"$f":"VLOOKUP($A1491,#REF!,3,FALSE)","v":{"$error":"#REF!"}},"McDowell Named and Created"]
["Q21other_r5_c2",{"$f":"VLOOKUP($A1492,#REF!,2,FALSE)","v":{"$error":"#REF!"}},{"$f":"VLOOKUP($A1492,#REF!,3,FALSE)","v":{"$error":"#REF!"}},"McDowell Named and Created"]
["Q21other_r6_c2",{"$f":"VLOOKUP($A1493,#REF!,2,FALSE)","v":{"$error":"#REF!"}},{"$f":"VLOOKUP($A1493,#REF!,3,FALSE)","v":{"$error":"#REF!"}},"McDowell Named and Created"]
["Q21other_r7_c2",{"$f":"VLOOKUP($A1494,#REF!,2,FALSE)","v":{"$error":"#REF!"}},{"$f":"VLOOKUP($A1494,#REF!,3,FALSE)","v":{"$error":"#REF!"}},"McDowell Named and Created"]
["Q21other_r8_c2",{"$f":"VLOOKUP($A1495,#REF!,2,FALSE)","v":{"$error":"#REF!"}},{"$f":"VLOOKUP($A1495,#REF!,3,FALSE)","v":{"$error":"#REF!"}},"McDowell Named and Created"]
["Q21other_r9_c2",{"$f":"VLOOKUP($A1496,#REF!,2,FALSE)","v":{"$error":"#REF!"}},{"$f":"VLOOKUP($A1496,#REF!,3,FALSE)","v":{"$error":"#REF!"}},"McDowell Named and Created"]
["Q21other_r10_c2",{"$f":"VLOOKUP($A1497,#REF!,2,FALSE)","v":{"$error":"#REF!"}},{"$f":"VLOOKUP($A1497,#REF!,3,FALSE)","v":{"$error":"#REF!"}},"McDowell Named and Created"]
["Q21other_r11_c2",{"$f":"VLOOKUP($A1498,#REF!,2,FALSE)","v":{"$error":"#REF!"}},{"$f":"VLOOKUP($A1498,#REF!,3,FALSE)","v":{"$error":"#REF!"}},"McDowell Named and Created"]
["Q21other_r12_c2",{"$f":"VLOOKUP($A1499,#REF!,2,FALSE)","v":{"$error":"#REF!"}},{"$f":"VLOOKUP($A1499,#REF!,3,FALSE)","v":{"$error":"#REF!"}},"McDowell Named and Created"]
["Q21other_r13_c2",{"$f":"VLOOKUP($A1500,#REF!,2,FALSE)","v":{"$error":"#REF!"}},{"$f":"VLOOKUP($A1500,#REF!,3,FALSE)","v":{"$error":"#REF!"}},"McDowell Named and Created"]
["Q21other_r14_c2",{"$f":"VLOOKUP($A1501,#REF!,2,FALSE)","v":{"$error":"#REF!"}},{"$f":"VLOOKUP($A1501,#REF!,3,FALSE)","v":{"$error":"#REF!"}},"McDowell Named and Created"]
["Q21other_r15_c2",{"$f":"VLOOKUP($A1502,#REF!,2,FALSE)","v":{"$error":"#REF!"}},{"$f":"VLOOKUP($A1502,#REF!,3,FALSE)","v":{"$error":"#REF!"}},"McDowell Named and Created"]
["Q21other_r16_c2",{"$f":"VLOOKUP($A1503,#REF!,2,FALSE)","v":{"$error":"#REF!"}},{"$f":"VLOOKUP($A1503,#REF!,3,FALSE)","v":{"$error":"#REF!"}},"McDowell Named and Created"]
["Q21other_r17_c2",{"$f":"VLOOKUP($A1504,#REF!,2,FALSE)","v":{"$error":"#REF!"}},{"$f":"VLOOKUP($A1504,#REF!,3,FALSE)","v":{"$error":"#REF!"}},"McDowell Named and Created"]
["Q21other_r18_c2",{"$f":"VLOOKUP($A1505,#REF!,2,FALSE)","v":{"$error":"#REF!"}},{"$f":"VLOOKUP($A1505,#REF!,3,FALSE)","v":{"$error":"#REF!"}},"McDowell Named and Created"]
["Q21other_r19_c2",{"$f":"VLOOKUP($A1506,#REF!,2,FALSE)","v":{"$error":"#REF!"}},{"$f":"VLOOKUP($A1506,#REF!,3,FALSE)","v":{"$error":"#REF!"}},"McDowell Named and Created"]
["Q21other_r20_c2",{"$f":"VLOOKUP($A1507,#REF!,2,FALSE)","v":{"$error":"#REF!"}},{"$f":"VLOOKUP($A1507,#REF!,3,FALSE)","v":{"$error":"#REF!"}},"McDowell Named and Created"]
["Q21other_r21_c2",{"$f":"VLOOKUP($A1508,#REF!,2,FALSE)","v":{"$error":"#REF!"}},{"$f":"VLOOKUP($A1508,#REF!,3,FALSE)","v":{"$error":"#REF!"}},"McDowell Named and Created"]
["Q21other_r22_c2",{"$f":"VLOOKUP($A1509,#REF!,2,FALSE)","v":{"$error":"#REF!"}},{"$f":"VLOOKUP($A1509,#REF!,3,FALSE)","v":{"$error":"#REF!"}},"McDowell Named and Created"]
["Q21other_r23_c2",{"$f":"VLOOKUP($A1510,#REF!,2,FALSE)","v":{"$error":"#REF!"}},{"$f":"VLOOKUP($A1510,#REF!,3,FALSE)","v":{"$error":"#REF!"}},"McDowell Named and Created"]
["Q21other_r24_c2",{"$f":"VLOOKUP($A1511,#REF!,2,FALSE)","v":{"$error":"#REF!"}},{"$f":"VLOOKUP($A1511,#REF!,3,FALSE)","v":{"$error":"#REF!"}},"McDowell Named and Created"]
["Q21other_r25_c2",{"$f":"VLOOKUP($A1512,#REF!,2,FALSE)","v":{"$error":"#REF!"}},{"$f":"VLOOKUP($A1512,#REF!,3,FALSE)","v":{"$error":"#REF!"}},"McDowell Named and Created"]
["Q21other_r26_c2",{"$f":"VLOOKUP($A1513,#REF!,2,FALSE)","v":{"$error":"#REF!"}},{"$f":"VLOOKUP($A1513,#REF!,3,FALSE)","v":{"$error":"#REF!"}},"McDowell Named and Created"]
["Q21other_r27_c2",{"$f":"VLOOKUP($A1514,#REF!,2,FALSE)","v":{"$error":"#REF!"}},{"$f":"VLOOKUP($A1514,#REF!,3,FALSE)","v":{"$error":"#REF!"}},"McDowell Named and Created"]
["Q21other_r28_c2",{"$f":"VLOOKUP($A1515,#REF!,2,FALSE)","v":{"$error":"#REF!"}},{"$f":"VLOOKUP($A1515,#REF!,3,FALSE)","v":{"$error":"#REF!"}},"McDowell Named and Created"]
["Q21other_r10_other",{"$f":"VLOOKUP($A1516,#REF!,2,FALSE)","v":{"$error":"#REF!"}},{"$f":"VLOOKUP($A1516,#REF!,3,FALSE)","v":{"$error":"#REF!"}},"McDowell Named and Created"]
["Q21other_r11_other",{"$f":"VLOOKUP($A1517,#REF!,2,FALSE)","v":{"$error":"#REF!"}},{"$f":"VLOOKUP($A1517,#REF!,3,FALSE)","v":{"$error":"#REF!"}},"McDowell Named and Created"]
["Q21other_r12_other",{"$f":"VLOOKUP($A1518,#REF!,2,FALSE)","v":{"$error":"#REF!"}},{"$f":"VLOOKUP($A1518,#REF!,3,FALSE)","v":{"$error":"#REF!"}},"McDowell Named and Created"]
["Q21other_r13_other",{"$f":"VLOOKUP($A1519,#REF!,2,FALSE)","v":{"$error":"#REF!"}},{"$f":"VLOOKUP($A1519,#REF!,3,FALSE)","v":{"$error":"#REF!"}},"McDowell Named and Created"]
["Q21other_r14_other",{"$f":"VLOOKUP($A1520,#REF!,2,FALSE)","v":{"$error":"#REF!"}},{"$f":"VLOOKUP($A1520,#REF!,3,FALSE)","v":{"$error":"#REF!"}},"McDowell Named and Created"]
["Q21other_r15_other",{"$f":"VLOOKUP($A1521,#REF!,2,FALSE)","v":{"$error":"#REF!"}},{"$f":"VLOOKUP($A1521,#REF!,3,FALSE)","v":{"$error":"#REF!"}},"McDowell Named and Created"]
["Q21other_r16_other",{"$f":"VLOOKUP($A1522,#REF!,2,FALSE)","v":{"$error":"#REF!"}},{"$f":"VLOOKUP($A1522,#REF!,3,FALSE)","v":{"$error":"#REF!"}},"McDowell Named and Created"]
["Q21other_r17_other",{"$f":"VLOOKUP($A1523,#REF!,2,FALSE)","v":{"$error":"#REF!"}},{"$f":"VLOOKUP($A1523,#REF!,3,FALSE)","v":{"$error":"#REF!"}},"McDowell Named and Created"]
["Q21other_r18_other",{"$f":"VLOOKUP($A1524,#REF!,2,FALSE)","v":{"$error":"#REF!"}},{"$f":"VLOOKUP($A1524,#REF!,3,FALSE)","v":{"$error":"#REF!"}},"McDowell Named and Created"]
["Q21none_1",{"$f":"VLOOKUP($A1525,#REF!,2,FALSE)","v":{"$error":"#REF!"}},{"$f":"VLOOKUP($A1525,#REF!,3,FALSE)","v":{"$error":"#REF!"}},"McDowell Named and Created"]
["Q21_r1_c1",{"$f":"VLOOKUP($A1526,#REF!,2,FALSE)","v":{"$error":"#REF!"}},{"$f":"VLOOKUP($A1526,#REF!,3,FALSE)","v":{"$error":"#REF!"}},"McDowell Named and Created"]
["Q21_r1_c2",{"$f":"VLOOKUP($A1527,#REF!,2,FALSE)","v":{"$error":"#REF!"}},{"$f":"VLOOKUP($A1527,#REF!,3,FALSE)","v":{"$error":"#REF!"}},"McDowell Named and Created"]
["Q21_r1_c3",{"$f":"VLOOKUP($A1528,#REF!,2,FALSE)","v":{"$error":"#REF!"}},{"$f":"VLOOKUP($A1528,#REF!,3,FALSE)","v":{"$error":"#REF!"}},"McDowell Named and Created"]
["Q21_r1_c4",{"$f":"VLOOKUP($A1529,#REF!,2,FALSE)","v":{"$error":"#REF!"}},{"$f":"VLOOKUP($A1529,#REF!,3,FALSE)","v":{"$error":"#REF!"}},"McDowell Named and Created"]
["Q21_r1_c5",{"$f":"VLOOKUP($A1530,#REF!,2,FALSE)","v":{"$error":"#REF!"}},{"$f":"VLOOKUP($A1530,#REF!,3,FALSE)","v":{"$error":"#REF!"}},"McDowell Named and Created"]
["Q21_r1_c6",{"$f":"VLOOKUP($A1531,#REF!,2,FALSE)","v":{"$error":"#REF!"}},{"$f":"VLOOKUP($A1531,#REF!,3,FALSE)","v":{"$error":"#REF!"}},"McDowell Named and Created"]
["Q21_r1_c7",{"$f":"VLOOKUP($A1532,#REF!,2,FALSE)","v":{"$error":"#REF!"}},{"$f":"VLOOKUP($A1532,#REF!,3,FALSE)","v":{"$error":"#REF!"}},"McDowell Named and Created"]
["Q21_r2_c1",{"$f":"VLOOKUP($A1533,#REF!,2,FALSE)","v":{"$error":"#REF!"}},{"$f":"VLOOKUP($A1533,#REF!,3,FALSE)","v":{"$error":"#REF!"}},"McDowell Named and Created"]
["Q21_r2_c2",{"$f":"VLOOKUP($A1534,#REF!,2,FALSE)","v":{"$error":"#REF!"}},{"$f":"VLOOKUP($A1534,#REF!,3,FALSE)","v":{"$error":"#REF!"}},"McDowell Named and Created"]
["Q21_r2_c3",{"$f":"VLOOKUP($A1535,#REF!,2,FALSE)","v":{"$error":"#REF!"}},{"$f":"VLOOKUP($A1535,#REF!,3,FALSE)","v":{"$error":"#REF!"}},"McDowell Named and Created"]
["Q21_r2_c4",{"$f":"VLOOKUP($A1536,#REF!,2,FALSE)","v":{"$error":"#REF!"}},{"$f":"VLOOKUP($A1536,#REF!,3,FALSE)","v":{"$error":"#REF!"}},"McDowell Named and Created"]
["Q21_r2_c5",{"$f":"VLOOKUP($A1537,#REF!,2,FALSE)","v":{"$error":"#REF!"}},{"$f":"VLOOKUP($A1537,#REF!,3,FALSE)","v":{"$error":"#REF!"}},"McDowell Named and Created"]
["Q21_r2_c6",{"$f":"VLOOKUP($A1538,#REF!,2,FALSE)","v":{"$error":"#REF!"}},{"$f":"VLOOKUP($A1538,#REF!,3,FALSE)","v":{"$error":"#REF!"}},"McDowell Named and Created"]
["Q21_r2_c7",{"$f":"VLOOKUP($A1539,#REF!,2,FALSE)","v":{"$error":"#REF!"}},{"$f":"VLOOKUP($A1539,#REF!,3,FALSE)","v":{"$error":"#REF!"}},"McDowell Named and Created"]
["Q21_r3_c1",{"$f":"VLOOKUP($A1540,#REF!,2,FALSE)","v":{"$error":"#REF!"}},{"$f":"VLOOKUP($A1540,#REF!,3,FALSE)","v":{"$error":"#REF!"}},"McDowell Named and Created"]
["Q21_r3_c2",{"$f":"VLOOKUP($A1541,#REF!,2,FALSE)","v":{"$error":"#REF!"}},{"$f":"VLOOKUP($A1541,#REF!,3,FALSE)","v":{"$error":"#REF!"}},"McDowell Named and Created"]
["Q21_r3_c3",{"$f":"VLOOKUP($A1542,#REF!,2,FALSE)","v":{"$error":"#REF!"}},{"$f":"VLOOKUP($A1542,#REF!,3,FALSE)","v":{"$error":"#REF!"}},"McDowell Named and Created"]
["Q21_r3_c4",{"$f":"VLOOKUP($A1543,#REF!,2,FALSE)","v":{"$error":"#REF!"}},{"$f":"VLOOKUP($A1543,#REF!,3,FALSE)","v":{"$error":"#REF!"}},"McDowell Named and Created"]
["Q21_r3_c5",{"$f":"VLOOKUP($A1544,#REF!,2,FALSE)","v":{"$error":"#REF!"}},{"$f":"VLOOKUP($A1544,#REF!,3,FALSE)","v":{"$error":"#REF!"}},"McDowell Named and Created"]
["Q21_r3_c6",{"$f":"VLOOKUP($A1545,#REF!,2,FALSE)","v":{"$error":"#REF!"}},{"$f":"VLOOKUP($A1545,#REF!,3,FALSE)","v":{"$error":"#REF!"}},"McDowell Named and Created"]
["Q21_r3_c7",{"$f":"VLOOKUP($A1546,#REF!,2,FALSE)","v":{"$error":"#REF!"}},{"$f":"VLOOKUP($A1546,#REF!,3,FALSE)","v":{"$error":"#REF!"}},"McDowell Named and Created"]
["Q21_r4_c1",{"$f":"VLOOKUP($A1547,#REF!,2,FALSE)","v":{"$error":"#REF!"}},{"$f":"VLOOKUP($A1547,#REF!,3,FALSE)","v":{"$error":"#REF!"}},"McDowell Named and Created"]
["Q21_r4_c2",{"$f":"VLOOKUP($A1548,#REF!,2,FALSE)","v":{"$error":"#REF!"}},{"$f":"VLOOKUP($A1548,#REF!,3,FALSE)","v":{"$error":"#REF!"}},"McDowell Named and Created"]
["Q21_r4_c3",{"$f":"VLOOKUP($A1549,#REF!,2,FALSE)","v":{"$error":"#REF!"}},{"$f":"VLOOKUP($A1549,#REF!,3,FALSE)","v":{"$error":"#REF!"}},"McDowell Named and Created"]
["Q21_r4_c4",{"$f":"VLOOKUP($A1550,#REF!,2,FALSE)","v":{"$error":"#REF!"}},{"$f":"VLOOKUP($A1550,#REF!,3,FALSE)","v":{"$error":"#REF!"}},"McDowell Named and Created"]
["Q21_r4_c5",{"$f":"VLOOKUP($A1551,#REF!,2,FALSE)","v":{"$error":"#REF!"}},{"$f":"VLOOKUP($A1551,#REF!,3,FALSE)","v":{"$error":"#REF!"}},"McDowell Named and Created"]
["Q21_r4_c6",{"$f":"VLOOKUP($A1552,#REF!,2,FALSE)","v":{"$error":"#REF!"}},{"$f":"VLOOKUP($A1552,#REF!,3,FALSE)","v":{"$error":"#REF!"}},"McDowell Named and Created"]
["Q21_r4_c7",{"$f":"VLOOKUP($A1553,#REF!,2,FALSE)","v":{"$error":"#REF!"}},{"$f":"VLOOKUP($A1553,#REF!,3,FALSE)","v":{"$error":"#REF!"}},"McDowell Named and Created"]
["Q21_r5_c1",{"$f":"VLOOKUP($A1554,#REF!,2,FALSE)","v":{"$error":"#REF!"}},{"$f":"VLOOKUP($A1554,#REF!,3,FALSE)","v":{"$error":"#REF!"}},"McDowell Named and Created"]
["Q21_r5_c2",{"$f":"VLOOKUP($A1555,#REF!,2,FALSE)","v":{"$error":"#REF!"}},{"$f":"VLOOKUP($A1555,#REF!,3,FALSE)","v":{"$error":"#REF!"}},"McDowell Named and Created"]
["Q21_r5_c3",{"$f":"VLOOKUP($A1556,#REF!,2,FALSE)","v":{"$error":"#REF!"}},{"$f":"VLOOKUP($A1556,#REF!,3,FALSE)","v":{"$error":"#REF!"}},"McDowell Named and Created"]
["Q21_r5_c4",{"$f":"VLOOKUP($A1557,#REF!,2,FALSE)","v":{"$error":"#REF!"}},{"$f":"VLOOKUP($A1557,#REF!,3,FALSE)","v":{"$error":"#REF!"}},"McDowell Named and Created"]
["Q21_r5_c5",{"$f":"VLOOKUP($A1558,#REF!,2,FALSE)","v":{"$error":"#REF!"}},{"$f":"VLOOKUP($A1558,#REF!,3,FALSE)","v":{"$error":"#REF!"}},"McDowell Named and Created"]
["Q21_r5_c6",{"$f":"VLOOKUP($A1559,#REF!,2,FALSE)","v":{"$error":"#REF!"}},{"$f":"VLOOKUP($A1559,#REF!,3,FALSE)","v":{"$error":"#REF!"}},"McDowell Named and Created"]
["Q21_r5_c7",{"$f":"VLOOKUP($A1560,#REF!,2,FALSE)","v":{"$error":"#REF!"}},{"$f":"VLOOKUP($A1560,#REF!,3,FALSE)","v":{"$error":"#REF!"}},"McDowell Named and Created"]
["Q21_r6_c1",{"$f":"VLOOKUP($A1561,#REF!,2,FALSE)","v":{"$error":"#REF!"}},{"$f":"VLOOKUP($A1561,#REF!,3,FALSE)","v":{"$error":"#REF!"}},"McDowell Named and Created"]
["Q21_r6_c2",{"$f":"VLOOKUP($A1562,#REF!,2,FALSE)","v":{"$error":"#REF!"}},{"$f":"VLOOKUP($A1562,#REF!,3,FALSE)","v":{"$error":"#REF!"}},"McDowell Named and Created"]
["Q21_r6_c3",{"$f":"VLOOKUP($A1563,#REF!,2,FALSE)","v":{"$error":"#REF!"}},{"$f":"VLOOKUP($A1563,#REF!,3,FALSE)","v":{"$error":"#REF!"}},"McDowell Named and Created"]
["Q21_r6_c4",{"$f":"VLOOKUP($A1564,#REF!,2,FALSE)","v":{"$error":"#REF!"}},{"$f":"VLOOKUP($A1564,#REF!,3,FALSE)","v":{"$error":"#REF!"}},"McDowell Named and Created"]
["Q21_r6_c5",{"$f":"VLOOKUP($A1565,#REF!,2,FALSE)","v":{"$error":"#REF!"}},{"$f":"VLOOKUP($A1565,#REF!,3,FALSE)","v":{"$error":"#REF!"}},"McDowell Named and Created"]
["Q21_r6_c6",{"$f":"VLOOKUP($A1566,#REF!,2,FALSE)","v":{"$error":"#REF!"}},{"$f":"VLOOKUP($A1566,#REF!,3,FALSE)","v":{"$error":"#REF!"}},"McDowell Named and Created"]
["Q21_r6_c7",{"$f":"VLOOKUP($A1567,#REF!,2,FALSE)","v":{"$error":"#REF!"}},{"$f":"VLOOKUP($A1567,#REF!,3,FALSE)","v":{"$error":"#REF!"}},"McDowell Named and Created"]
["Q21_r7_c1",{"$f":"VLOOKUP($A1568,#REF!,2,FALSE)","v":{"$error":"#REF!"}},{"$f":"VLOOKUP($A1568,#REF!,3,FALSE)","v":{"$error":"#REF!"}},"McDowell Named and Created"]
["Q21_r7_c2",{"$f":"VLOOKUP($A1569,#REF!,2,FALSE)","v":{"$error":"#REF!"}},{"$f":"VLOOKUP($A1569,#REF!,3,FALSE)","v":{"$error":"#REF!"}},"McDowell Named and Created"]
["Q21_r7_c3",{"$f":"VLOOKUP($A1570,#REF!,2,FALSE)","v":{"$error":"#REF!"}},{"$f":"VLOOKUP($A1570,#REF!,3,FALSE)","v":{"$error":"#REF!"}},"McDowell Named and Created"]
["Q21_r7_c4",{"$f":"VLOOKUP($A1571,#REF!,2,FALSE)","v":{"$error":"#REF!"}},{"$f":"VLOOKUP($A1571,#REF!,3,FALSE)","v":{"$error":"#REF!"}},"McDowell Named and Created"]
["Q21_r7_c5",{"$f":"VLOOKUP($A1572,#REF!,2,FALSE)","v":{"$error":"#REF!"}},{"$f":"VLOOKUP($A1572,#REF!,3,FALSE)","v":{"$error":"#REF!"}},"McDowell Named and Created"]
["Q21_r7_c6",{"$f":"VLOOKUP($A1573,#REF!,2,FALSE)","v":{"$error":"#REF!"}},{"$f":"VLOOKUP($A1573,#REF!,3,FALSE)","v":{"$error":"#REF!"}},"McDowell Named and Created"]
["Q21_r7_c7",{"$f":"VLOOKUP($A1574,#REF!,2,FALSE)","v":{"$error":"#REF!"}},{"$f":"VLOOKUP($A1574,#REF!,3,FALSE)","v":{"$error":"#REF!"}},"McDowell Named and Created"]
["Q21_r8_c1",{"$f":"VLOOKUP($A1575,#REF!,2,FALSE)","v":{"$error":"#REF!"}},{"$f":"VLOOKUP($A1575,#REF!,3,FALSE)","v":{"$error":"#REF!"}},"McDowell Named and Created"]
["Q21_r8_c2",{"$f":"VLOOKUP($A1576,#REF!,2,FALSE)","v":{"$error":"#REF!"}},{"$f":"VLOOKUP($A1576,#REF!,3,FALSE)","v":{"$error":"#REF!"}},"McDowell Named and Created"]
["Q21_r8_c3",{"$f":"VLOOKUP($A1577,#REF!,2,FALSE)","v":{"$error":"#REF!"}},{"$f":"VLOOKUP($A1577,#REF!,3,FALSE)","v":{"$error":"#REF!"}},"McDowell Named and Created"]
["Q21_r8_c4",{"$f":"VLOOKUP($A1578,#REF!,2,FALSE)","v":{"$error":"#REF!"}},{"$f":"VLOOKUP($A1578,#REF!,3,FALSE)","v":{"$error":"#REF!"}},"McDowell Named and Created"]
["Q21_r8_c5",{"$f":"VLOOKUP($A1579,#REF!,2,FALSE)","v":{"$error":"#REF!"}},{"$f":"VLOOKUP($A1579,#REF!,3,FALSE)","v":{"$error":"#REF!"}},"McDowell Named and Created"]
["Q21_r8_c6",{"$f":"VLOOKUP($A1580,#REF!,2,FALSE)","v":{"$error":"#REF!"}},{"$f":"VLOOKUP($A1580,#REF!,3,FALSE)","v":{"$error":"#REF!"}},"McDowell Named and Created"]
["Q21_r8_c7",{"$f":"VLOOKUP($A1581,#REF!,2,FALSE)","v":{"$error":"#REF!"}},{"$f":"VLOOKUP($A1581,#REF!,3,FALSE)","v":{"$error":"#REF!"}},"McDowell Named and Created"]
["Q21_r9_c1",{"$f":"VLOOKUP($A1582,#REF!,2,FALSE)","v":{"$error":"#REF!"}},{"$f":"VLOOKUP($A1582,#REF!,3,FALSE)","v":{"$error":"#REF!"}},"McDowell Named and Created"]
["Q21_r9_c2",{"$f":"VLOOKUP($A1583,#REF!,2,FALSE)","v":{"$error":"#REF!"}},{"$f":"VLOOKUP($A1583,#REF!,3,FALSE)","v":{"$error":"#REF!"}},"McDowell Named and Created"]
["Q21_r9_c3",{"$f":"VLOOKUP($A1584,#REF!,2,FALSE)","v":{"$error":"#REF!"}},{"$f":"VLOOKUP($A1584,#REF!,3,FALSE)","v":{"$error":"#REF!"}},"McDowell Named and Created"]
["Q21_r9_c4",{"$f":"VLOOKUP($A1585,#REF!,2,FALSE)","v":{"$error":"#REF!"}},{"$f":"VLOOKUP($A1585,#REF!,3,FALSE)","v":{"$error":"#REF!"}},"McDowell Named and Created"]
["Q21_r9_c5",{"$f":"VLOOKUP($A1586,#REF!,2,FALSE)","v":{"$error":"#REF!"}},{"$f":"VLOOKUP($A1586,#REF!,3,FALSE)","v":{"$error":"#REF!"}},"McDowell Named and Created"]
["Q21_r9_c6",{"$f":"VLOOKUP($A1587,#REF!,2,FALSE)","v":{"$error":"#REF!"}},{"$f":"VLOOKUP($A1587,#REF!,3,FALSE)","v":{"$error":"#REF!"}},"McDowell Named and Created"]
["Q21_r9_c7",{"$f":"VLOOKUP($A1588,#REF!,2,FALSE)","v":{"$error":"#REF!"}},{"$f":"VLOOKUP($A1588,#REF!,3,FALSE)","v":{"$error":"#REF!"}},"McDowell Named and Created"]
["Q21_r10_c1",{"$f":"VLOOKUP($A1589,#REF!,2,FALSE)","v":{"$error":"#REF!"}},{"$f":"VLOOKUP($A1589,#REF!,3,FALSE)","v":{"$error":"#REF!"}},"McDowell Named and Created"]
["Q21_r10_c2",{"$f":"VLOOKUP($A1590,#REF!,2,FALSE)","v":{"$error":"#REF!"}},{"$f":"VLOOKUP($A1590,#REF!,3,FALSE)","v":{"$error":"#REF!"}},"McDowell Named and Created"]
["Q21_r10_c3",{"$f":"VLOOKUP($A1591,#REF!,2,FALSE)","v":{"$error":"#REF!"}},{"$f":"VLOOKUP($A1591,#REF!,3,FALSE)","v":{"$error":"#REF!"}},"McDowell Named and Created"]
["Q21_r10_c4",{"$f":"VLOOKUP($A1592,#REF!,2,FALSE)","v":{"$error":"#REF!"}},{"$f":"VLOOKUP($A1592,#REF!,3,FALSE)","v":{"$error":"#REF!"}},"McDowell Named and Created"]
["Q21_r10_c5",{"$f":"VLOOKUP($A1593,#REF!,2,FALSE)","v":{"$error":"#REF!"}},{"$f":"VLOOKUP($A1593,#REF!,3,FALSE)","v":{"$error":"#REF!"}},"McDowell Named and Created"]
["Q21_r10_c6",{"$f":"VLOOKUP($A1594,#REF!,2,FALSE)","v":{"$error":"#REF!"}},{"$f":"VLOOKUP($A1594,#REF!,3,FALSE)","v":{"$error":"#REF!"}},"McDowell Named and Created"]
["Q21_r10_c7",{"$f":"VLOOKUP($A1595,#REF!,2,FALSE)","v":{"$error":"#REF!"}},{"$f":"VLOOKUP($A1595,#REF!,3,FALSE)","v":{"$error":"#REF!"}},"McDowell Named and Created"]
["Q21_r11_c1",{"$f":"VLOOKUP($A1596,#REF!,2,FALSE)","v":{"$error":"#REF!"}},{"$f":"VLOOKUP($A1596,#REF!,3,FALSE)","v":{"$error":"#REF!"}},"McDowell Named and Created"]
["Q21_r11_c2",{"$f":"VLOOKUP($A1597,#REF!,2,FALSE)","v":{"$error":"#REF!"}},{"$f":"VLOOKUP($A1597,#REF!,3,FALSE)","v":{"$error":"#REF!"}},"McDowell Named and Created"]
["Q21_r11_c3",{"$f":"VLOOKUP($A1598,#REF!,2,FALSE)","v":{"$error":"#REF!"}},{"$f":"VLOOKUP($A1598,#REF!,3,FALSE)","v":{"$error":"#REF!"}},"McDowell Named and Created"]
["Q21_r11_c4",{"$f":"VLOOKUP($A1599,#REF!,2,FALSE)","v":{"$error":"#REF!"}},{"$f":"VLOOKUP($A1599,#REF!,3,FALSE)","v":{"$error":"#REF!"}},"McDowell Named and Created"]
["Q21_r11_c5",{"$f":"VLOOKUP($A1600,#REF!,2,FALSE)","v":{"$error":"#REF!"}},{"$f":"VLOOKUP($A1600,#REF!,3,FALSE)","v":{"$error":"#REF!"}},"McDowell Named and Created"]
["Q21_r11_c6",{"$f":"VLOOKUP($A1601,#REF!,2,FALSE)","v":{"$error":"#REF!"}},{"$f":"VLOOKUP($A1601,#REF!,3,FALSE)","v":{"$error":"#REF!"}},"McDowell Named and Created"]
["Q21_r11_c7",{"$f":"VLOOKUP($A1602,#REF!,2,FALSE)","v":{"$error":"#REF!"}},{"$f":"VLOOKUP($A1602,#REF!,3,FALSE)","v":{"$error":"#REF!"}},"McDowell Named and Created"]
["Q21_r12_c1",{"$f":"VLOOKUP($A1603,#REF!,2,FALSE)","v":{"$error":"#REF!"}},{"$f":"VLOOKUP($A1603,#REF!,3,FALSE)","v":{"$error":"#REF!"}},"McDowell Named and Created"]
["Q21_r12_c2",{"$f":"VLOOKUP($A1604,#REF!,2,FALSE)","v":{"$error":"#REF!"}},{"$f":"VLOOKUP($A1604,#REF!,3,FALSE)","v":{"$error":"#REF!"}},"McDowell Named and Created"]
["Q21_r12_c3",{"$f":"VLOOKUP($A1605,#REF!,2,FALSE)","v":{"$error":"#REF!"}},{"$f":"VLOOKUP($A1605,#REF!,3,FALSE)","v":{"$error":"#REF!"}},"McDowell Named and Created"]
["Q21_r12_c4",{"$f":"VLOOKUP($A1606,#REF!,2,FALSE)","v":{"$error":"#REF!"}},{"$f":"VLOOKUP($A1606,#REF!,3,FALSE)","v":{"$error":"#REF!"}},"McDowell Named and Created"]
["Q21_r12_c5",{"$f":"VLOOKUP($A1607,#REF!,2,FALSE)","v":{"$error":"#REF!"}},{"$f":"VLOOKUP($A1607,#REF!,3,FALSE)","v":{"$error":"#REF!"}},"McDowell Named and Created"]
["Q21_r12_c6",{"$f":"VLOOKUP($A1608,#REF!,2,FALSE)","v":{"$error":"#REF!"}},{"$f":"VLOOKUP($A1608,#REF!,3,FALSE)","v":{"$error":"#REF!"}},"McDowell Named and Created"]
["Q21_r12_c7",{"$f":"VLOOKUP($A1609,#REF!,2,FALSE)","v":{"$error":"#REF!"}},{"$f":"VLOOKUP($A1609,#REF!,3,FALSE)","v":{"$error":"#REF!"}},"McDowell Named and Created"]
["Q21_r13_c1",{"$f":"VLOOKUP($A1610,#REF!,2,FALSE)","v":{"$error":"#REF!"}},{"$f":"VLOOKUP($A1610,#REF!,3,FALSE)","v":{"$error":"#REF!"}},"McDowell Named and Created"]
["Q21_r13_c2",{"$f":"VLOOKUP($A1611,#REF!,2,FALSE)","v":{"$error":"#REF!"}},{"$f":"VLOOKUP($A1611,#REF!,3,FALSE)","v":{"$error":"#REF!"}},"McDowell Named and Created"]
["Q21_r13_c3",{"$f":"VLOOKUP($A1612,#REF!,2,FALSE)","v":{"$error":"#REF!"}},{"$f":"VLOOKUP($A1612,#REF!,3,FALSE)","v":{"$error":"#REF!"}},"McDowell Named and Created"]
["Q21_r13_c4",{"$f":"VLOOKUP($A1613,#REF!,2,FALSE)","v":{"$error":"#REF!"}},{"$f":"VLOOKUP($A1613,#REF!,3,FALSE)","v":{"$error":"#REF!"}},"McDowell Named and Created"]
["Q21_r13_c5",{"$f":"VLOOKUP($A1614,#REF!,2,FALSE)","v":{"$error":"#REF!"}},{"$f":"VLOOKUP($A1614,#REF!,3,FALSE)","v":{"$error":"#REF!"}},"McDowell Named and Created"]
["Q21_r13_c6",{"$f":"VLOOKUP($A1615,#REF!,2,FALSE)","v":{"$error":"#REF!"}},{"$f":"VLOOKUP($A1615,#REF!,3,FALSE)","v":{"$error":"#REF!"}},"McDowell Named and Created"]
["Q21_r13_c7",{"$f":"VLOOKUP($A1616,#REF!,2,FALSE)","v":{"$error":"#REF!"}},{"$f":"VLOOKUP($A1616,#REF!,3,FALSE)","v":{"$error":"#REF!"}},"McDowell Named and Created"]
["Q21_r14_c1",{"$f":"VLOOKUP($A1617,#REF!,2,FALSE)","v":{"$error":"#REF!"}},{"$f":"VLOOKUP($A1617,#REF!,3,FALSE)","v":{"$error":"#REF!"}},"McDowell Named and Created"]
["Q21_r14_c2",{"$f":"VLOOKUP($A1618,#REF!,2,FALSE)","v":{"$error":"#REF!"}},{"$f":"VLOOKUP($A1618,#REF!,3,FALSE)","v":{"$error":"#REF!"}},"McDowell Named and Created"]
["Q21_r14_c3",{"$f":"VLOOKUP($A1619,#REF!,2,FALSE)","v":{"$error":"#REF!"}},{"$f":"VLOOKUP($A1619,#REF!,3,FALSE)","v":{"$error":"#REF!"}},"McDowell Named and Created"]
["Q21_r14_c4",{"$f":"VLOOKUP($A1620,#REF!,2,FALSE)","v":{"$error":"#REF!"}},{"$f":"VLOOKUP($A1620,#REF!,3,FALSE)","v":{"$error":"#REF!"}},"McDowell Named and Created"]
["Q21_r14_c5",{"$f":"VLOOKUP($A1621,#REF!,2,FALSE)","v":{"$error":"#REF!"}},{"$f":"VLOOKUP($A1621,#REF!,3,FALSE)","v":{"$error":"#REF!"}},"McDowell Named and Created"]
["Q21_r14_c6",{"$f":"VLOOKUP($A1622,#REF!,2,FALSE)","v":{"$error":"#REF!"}},{"$f":"VLOOKUP($A1622,#REF!,3,FALSE)","v":{"$error":"#REF!"}},"McDowell Named and Created"]
["Q21_r14_c7",{"$f":"VLOOKUP($A1623,#REF!,2,FALSE)","v":{"$error":"#REF!"}},{"$f":"VLOOKUP($A1623,#REF!,3,FALSE)","v":{"$error":"#REF!"}},"McDowell Named and Created"]
["Q21_r15_c1",{"$f":"VLOOKUP($A1624,#REF!,2,FALSE)","v":{"$error":"#REF!"}},{"$f":"VLOOKUP($A1624,#REF!,3,FALSE)","v":{"$error":"#REF!"}},"McDowell Named and Created"]
["Q21_r15_c2",{"$f":"VLOOKUP($A1625,#REF!,2,FALSE)","v":{"$error":"#REF!"}},{"$f":"VLOOKUP($A1625,#REF!,3,FALSE)","v":{"$error":"#REF!"}},"McDowell Named and Created"]
["Q21_r15_c3",{"$f":"VLOOKUP($A1626,#REF!,2,FALSE)","v":{"$error":"#REF!"}},{"$f":"VLOOKUP($A1626,#REF!,3,FALSE)","v":{"$error":"#REF!"}},"McDowell Named and Created"]
["Q21_r15_c4",{"$f":"VLOOKUP($A1627,#REF!,2,FALSE)","v":{"$error":"#REF!"}},{"$f":"VLOOKUP($A1627,#REF!,3,FALSE)","v":{"$error":"#REF!"}},"McDowell Named and Created"]
["Q21_r15_c5",{"$f":"VLOOKUP($A1628,#REF!,2,FALSE)","v":{"$error":"#REF!"}},{"$f":"VLOOKUP($A1628,#REF!,3,FALSE)","v":{"$error":"#REF!"}},"McDowell Named and Created"]
["Q21_r15_c6",{"$f":"VLOOKUP($A1629,#REF!,2,FALSE)","v":{"$error":"#REF!"}},{"$f":"VLOOKUP($A1629,#REF!,3,FALSE)","v":{"$error":"#REF!"}},"McDowell Named and Created"]
["Q21_r15_c7",{"$f":"VLOOKUP($A1630,#REF!,2,FALSE)","v":{"$error":"#REF!"}},{"$f":"VLOOKUP($A1630,#REF!,3,FALSE)","v":{"$error":"#REF!"}},"McDowell Named and Created"]
["Q21_r16_c1",{"$f":"VLOOKUP($A1631,#REF!,2,FALSE)","v":{"$error":"#REF!"}},{"$f":"VLOOKUP($A1631,#REF!,3,FALSE)","v":{"$error":"#REF!"}},"McDowell Named and Created"]
["Q21_r16_c2",{"$f":"VLOOKUP($A1632,#REF!,2,FALSE)","v":{"$error":"#REF!"}},{"$f":"VLOOKUP($A1632,#REF!,3,FALSE)","v":{"$error":"#REF!"}},"McDowell Named and Created"]
["Q21_r16_c3",{"$f":"VLOOKUP($A1633,#REF!,2,FALSE)","v":{"$error":"#REF!"}},{"$f":"VLOOKUP($A1633,#REF!,3,FALSE)","v":{"$error":"#REF!"}},"McDowell Named and Created"]
["Q21_r16_c4",{"$f":"VLOOKUP($A1634,#REF!,2,FALSE)","v":{"$error":"#REF!"}},{"$f":"VLOOKUP($A1634,#REF!,3,FALSE)","v":{"$error":"#REF!"}},"McDowell Named and Created"]
["Q21_r16_c5",{"$f":"VLOOKUP($A1635,#REF!,2,FALSE)","v":{"$error":"#REF!"}},{"$f":"VLOOKUP($A1635,#REF!,3,FALSE)","v":{"$error":"#REF!"}},"McDowell Named and Created"]
["Q21_r16_c6",{"$f":"VLOOKUP($A1636,#REF!,2,FALSE)","v":{"$error":"#REF!"}},{"$f":"VLOOKUP($A1636,#REF!,3,FALSE)","v":{"$error":"#REF!"}},"McDowell Named and Created"]
["Q21_r16_c7",{"$f":"VLOOKUP($A1637,#REF!,2,FALSE)","v":{"$error":"#REF!"}},{"$f":"VLOOKUP($A1637,#REF!,3,FALSE)","v":{"$error":"#REF!"}},"McDowell Named and Created"]
["Q21_r17_c1",{"$f":"VLOOKUP($A1638,#REF!,2,FALSE)","v":{"$error":"#REF!"}},{"$f":"VLOOKUP($A1638,#REF!,3,FALSE)","v":{"$error":"#REF!"}},"McDowell Named and Created"]
["Q21_r17_c2",{"$f":"VLOOKUP($A1639,#REF!,2,FALSE)","v":{"$error":"#REF!"}},{"$f":"VLOOKUP($A1639,#REF!,3,FALSE)","v":{"$error":"#REF!"}},"McDowell Named and Created"]
["Q21_r17_c3",{"$f":"VLOOKUP($A1640,#REF!,2,FALSE)","v":{"$error":"#REF!"}},{"$f":"VLOOKUP($A1640,#REF!,3,FALSE)","v":{"$error":"#REF!"}},"McDowell Named and Created"]
["Q21_r17_c4",{"$f":"VLOOKUP($A1641,#REF!,2,FALSE)","v":{"$error":"#REF!"}},{"$f":"VLOOKUP($A1641,#REF!,3,FALSE)","v":{"$error":"#REF!"}},"McDowell Named and Created"]
["Q21_r17_c5",{"$f":"VLOOKUP($A1642,#REF!,2,FALSE)","v":{"$error":"#REF!"}},{"$f":"VLOOKUP($A1642,#REF!,3,FALSE)","v":{"$error":"#REF!"}},"McDowell Named and Created"]
["Q21_r17_c6",{"$f":"VLOOKUP($A1643,#REF!,2,FALSE)","v":{"$error":"#REF!"}},{"$f":"VLOOKUP($A1643,#REF!,3,FALSE)","v":{"$error":"#REF!"}},"McDowell Named and Created"]
["Q21_r17_c7",{"$f":"VLOOKUP($A1644,#REF!,2,FALSE)","v":{"$error":"#REF!"}},{"$f":"VLOOKUP($A1644,#REF!,3,FALSE)","v":{"$error":"#REF!"}},"McDowell Named and Created"]
["Q21_r18_c1",{"$f":"VLOOKUP($A1645,#REF!,2,FALSE)","v":{"$error":"#REF!"}},{"$f":"VLOOKUP($A1645,#REF!,3,FALSE)","v":{"$error":"#REF!"}},"McDowell Named and Created"]
["Q21_r18_c2",{"$f":"VLOOKUP($A1646,#REF!,2,FALSE)","v":{"$error":"#REF!"}},{"$f":"VLOOKUP($A1646,#REF!,3,FALSE)","v":{"$error":"#REF!"}},"McDowell Named and Created"]
["Q21_r18_c3",{"$f":"VLOOKUP($A1647,#REF!,2,FALSE)","v":{"$error":"#REF!"}},{"$f":"VLOOKUP($A1647,#REF!,3,FALSE)","v":{"$error":"#REF!"}},"McDowell Named and Created"]
["Q21_r18_c4",{"$f":"VLOOKUP($A1648,#REF!,2,FALSE)","v":{"$error":"#REF!"}},{"$f":"VLOOKUP($A1648,#REF!,3,FALSE)","v":{"$error":"#REF!"}},"McDowell Named and Created"]
["Q21_r18_c5",{"$f":"VLOOKUP($A1649,#REF!,2,FALSE)","v":{"$error":"#REF!"}},{"$f":"VLOOKUP($A1649,#REF!,3,FALSE)","v":{"$error":"#REF!"}},"McDowell Named and Created"]
["Q21_r18_c6",{"$f":"VLOOKUP($A1650,#REF!,2,FALSE)","v":{"$error":"#REF!"}},{"$f":"VLOOKUP($A1650,#REF!,3,FALSE)","v":{"$error":"#REF!"}},"McDowell Named and Created"]
["Q21_r18_c7",{"$f":"VLOOKUP($A1651,#REF!,2,FALSE)","v":{"$error":"#REF!"}},{"$f":"VLOOKUP($A1651,#REF!,3,FALSE)","v":{"$error":"#REF!"}},"McDowell Named and Created"]
["Q22",{"$f":"VLOOKUP($A1652,#REF!,2,FALSE)","v":{"$error":"#REF!"}},{"$f":"VLOOKUP($A1652,#REF!,3,FALSE)","v":{"$error":"#REF!"}},"McDowell Named and Created"]
["Q23",{"$f":"VLOOKUP($A1653,#REF!,2,FALSE)","v":{"$error":"#REF!"}},{"$f":"VLOOKUP($A1653,#REF!,3,FALSE)","v":{"$error":"#REF!"}},"McDowell Named and Created"]
["Q24",{"$f":"VLOOKUP($A1654,#REF!,2,FALSE)","v":{"$error":"#REF!"}},{"$f":"VLOOKUP($A1654,#REF!,3,FALSE)","v":{"$error":"#REF!"}},"McDowell Named and Created"]
["Q24a_1",{"$f":"VLOOKUP($A1655,#REF!,2,FALSE)","v":{"$error":"#REF!"}},{"$f":"VLOOKUP($A1655,#REF!,3,FALSE)","v":{"$error":"#REF!"}},"McDowell Named and Created"]
["Q24a_2",{"$f":"VLOOKUP($A1656,#REF!,2,FALSE)","v":{"$error":"#REF!"}},{"$f":"VLOOKUP($A1656,#REF!,3,FALSE)","v":{"$error":"#REF!"}},"McDowell Named and Created"]
["Q24a_3",{"$f":"VLOOKUP($A1657,#REF!,2,FALSE)","v":{"$error":"#REF!"}},{"$f":"VLOOKUP($A1657,#REF!,3,FALSE)","v":{"$error":"#REF!"}},"McDowell Named and Created"]
["Q24a_3_other",{"$f":"VLOOKUP($A1658,#REF!,2,FALSE)","v":{"$error":"#REF!"}},{"$f":"VLOOKUP($A1658,#REF!,3,FALSE)","v":{"$error":"#REF!"}},"McDowell Named and Created"]
["Q25",{"$f":"VLOOKUP($A1659,#REF!,2,FALSE)","v":{"$error":"#REF!"}},{"$f":"VLOOKUP($A1659,#REF!,3,FALSE)","v":{"$error":"#REF!"}},"McDowell Named and Created"]
["Q25a",{"$f":"VLOOKUP($A1660,#REF!,2,FALSE)","v":{"$error":"#REF!"}},{"$f":"VLOOKUP($A1660,#REF!,3,FALSE)","v":{"$error":"#REF!"}},"McDowell Named and Created"]
["Q25b_r1_c1",{"$f":"VLOOKUP($A1661,#REF!,2,FALSE)","v":{"$error":"#REF!"}},{"$f":"VLOOKUP($A1661,#REF!,3,FALSE)","v":{"$error":"#REF!"}},"McDowell Named and Created"]
["Q25b_r2_c1",{"$f":"VLOOKUP($A1662,#REF!,2,FALSE)","v":{"$error":"#REF!"}},{"$f":"VLOOKUP($A1662,#REF!,3,FALSE)","v":{"$error":"#REF!"}},"McDowell Named and Created"]
["Q25b_r3_c1",{"$f":"VLOOKUP($A1663,#REF!,2,FALSE)","v":{"$error":"#REF!"}},{"$f":"VLOOKUP($A1663,#REF!,3,FALSE)","v":{"$error":"#REF!"}},"McDowell Named and Created"]
["Q25b_r1_c2",{"$f":"VLOOKUP($A1664,#REF!,2,FALSE)","v":{"$error":"#REF!"}},{"$f":"VLOOKUP($A1664,#REF!,3,FALSE)","v":{"$error":"#REF!"}},"McDowell Named and Created"]
["Q25b_r2_c2",{"$f":"VLOOKUP($A1665,#REF!,2,FALSE)","v":{"$error":"#REF!"}},{"$f":"VLOOKUP($A1665,#REF!,3,FALSE)","v":{"$error":"#REF!"}},"McDowell Named and Created"]
["Q25b_r3_c2",{"$f":"VLOOKUP($A1666,#REF!,2,FALSE)","v":{"$error":"#REF!"}},{"$f":"VLOOKUP($A1666,#REF!,3,FALSE)","v":{"$error":"#REF!"}},"McDowell Named and Created"]
["Q26",{"$f":"VLOOKUP($A1667,#REF!,2,FALSE)","v":{"$error":"#REF!"}},{"$f":"VLOOKUP($A1667,#REF!,3,FALSE)","v":{"$error":"#REF!"}},"McDowell Named and Created"]
["Q26a",{"$f":"VLOOKUP($A1668,#REF!,2,FALSE)","v":{"$error":"#REF!"}},{"$f":"VLOOKUP($A1668,#REF!,3,FALSE)","v":{"$error":"#REF!"}},"McDowell Named and Created"]
["Q26b",{"$f":"VLOOKUP($A1669,#REF!,2,FALSE)","v":{"$error":"#REF!"}},{"$f":"VLOOKUP($A1669,#REF!,3,FALSE)","v":{"$error":"#REF!"}},"McDowell Named and Created"]
["Q27_1",{"$f":"VLOOKUP($A1670,#REF!,2,FALSE)","v":{"$error":"#REF!"}},{"$f":"VLOOKUP($A1670,#REF!,3,FALSE)","v":{"$error":"#REF!"}},"McDowell Named and Created"]
["Q27_2",{"$f":"VLOOKUP($A1671,#REF!,2,FALSE)","v":{"$error":"#REF!"}},{"$f":"VLOOKUP($A1671,#REF!,3,FALSE)","v":{"$error":"#REF!"}},"McDowell Named and Created"]
["Q27_3",{"$f":"VLOOKUP($A1672,#REF!,2,FALSE)","v":{"$error":"#REF!"}},{"$f":"VLOOKUP($A1672,#REF!,3,FALSE)","v":{"$error":"#REF!"}},"McDowell Named and Created"]
["Q27_4",{"$f":"VLOOKUP($A1673,#REF!,2,FALSE)","v":{"$error":"#REF!"}},{"$f":"VLOOKUP($A1673,#REF!,3,FALSE)","v":{"$error":"#REF!"}},"McDowell Named and Created"]
["Q27_5",{"$f":"VLOOKUP($A1674,#REF!,2,FALSE)","v":{"$error":"#REF!"}},{"$f":"VLOOKUP($A1674,#REF!,3,FALSE)","v":{"$error":"#REF!"}},"McDowell Named and Created"]
["Q27_6",{"$f":"VLOOKUP($A1675,#REF!,2,FALSE)","v":{"$error":"#REF!"}},{"$f":"VLOOKUP($A1675,#REF!,3,FALSE)","v":{"$error":"#REF!"}},"McDowell Named and Created"]
["Q27_7",{"$f":"VLOOKUP($A1676,#REF!,2,FALSE)","v":{"$error":"#REF!"}},{"$f":"VLOOKUP($A1676,#REF!,3,FALSE)","v":{"$error":"#REF!"}},"McDowell Named and Created"]
["Q27_8",{"$f":"VLOOKUP($A1677,#REF!,2,FALSE)","v":{"$error":"#REF!"}},{"$f":"VLOOKUP($A1677,#REF!,3,FALSE)","v":{"$error":"#REF!"}},"McDowell Named and Created"]
["Q27_9",{"$f":"VLOOKUP($A1678,#REF!,2,FALSE)","v":{"$error":"#REF!"}},{"$f":"VLOOKUP($A1678,#REF!,3,FALSE)","v":{"$error":"#REF!"}},"McDowell Named and Created"]
["Q27_10",{"$f":"VLOOKUP($A1679,#REF!,2,FALSE)","v":{"$error":"#REF!"}},{"$f":"VLOOKUP($A1679,#REF!,3,FALSE)","v":{"$error":"#REF!"}},"McDowell Named and Created"]
["Q27_11",{"$f":"VLOOKUP($A1680,#REF!,2,FALSE)","v":{"$error":"#REF!"}},{"$f":"VLOOKUP($A1680,#REF!,3,FALSE)","v":{"$error":"#REF!"}},"McDowell Named and Created"]
["Q27_11_other",{"$f":"VLOOKUP($A1681,#REF!,2,FALSE)","v":{"$error":"#REF!"}},{"$f":"VLOOKUP($A1681,#REF!,3,FALSE)","v":{"$error":"#REF!"}},"McDowell Named and Created"]
["Q28_1",{"$f":"VLOOKUP($A1682,#REF!,2,FALSE)","v":{"$error":"#REF!"}},{"$f":"VLOOKUP($A1682,#REF!,3,FALSE)","v":{"$error":"#REF!"}},"McDowell Named and Created"]
["Q28_2",{"$f":"VLOOKUP($A1683,#REF!,2,FALSE)","v":{"$error":"#REF!"}},{"$f":"VLOOKUP($A1683,#REF!,3,FALSE)","v":{"$error":"#REF!"}},"McDowell Named and Created"]
["Q28_3",{"$f":"VLOOKUP($A1684,#REF!,2,FALSE)","v":{"$error":"#REF!"}},{"$f":"VLOOKUP($A1684,#REF!,3,FALSE)","v":{"$error":"#REF!"}},"McDowell Named and Created"]
["Q28_4",{"$f":"VLOOKUP($A1685,#REF!,2,FALSE)","v":{"$error":"#REF!"}},{"$f":"VLOOKUP($A1685,#REF!,3,FALSE)","v":{"$error":"#REF!"}},"McDowell Named and Created"]
["Q28_5",{"$f":"VLOOKUP($A1686,#REF!,2,FALSE)","v":{"$error":"#REF!"}},{"$f":"VLOOKUP($A1686,#REF!,3,FALSE)","v":{"$error":"#REF!"}},"McDowell Named and Created"]
["Q28_6",{"$f":"VLOOKUP($A1687,#REF!,2,FALSE)","v":{"$error":"#REF!"}},{"$f":"VLOOKUP($A1687,#REF!,3,FALSE)","v":{"$error":"#REF!"}},"McDowell Named and Created"]
["Q28_7",{"$f":"VLOOKUP($A1688,#REF!,2,FALSE)","v":{"$error":"#REF!"}},{"$f":"VLOOKUP($A1688,#REF!,3,FALSE)","v":{"$error":"#REF!"}},"McDowell Named and Created"]
["Q28_8",{"$f":"VLOOKUP($A1689,#REF!,2,FALSE)","v":{"$error":"#REF!"}},{"$f":"VLOOKUP($A1689,#REF!,3,FALSE)","v":{"$error":"#REF!"}},"McDowell Named and Created"]
["Q28_9",{"$f":"VLOOKUP($A1690,#REF!,2,FALSE)","v":{"$error":"#REF!"}},{"$f":"VLOOKUP($A1690,#REF!,3,FALSE)","v":{"$error":"#REF!"}},"McDowell Named and Created"]
["Q28_10",{"$f":"VLOOKUP($A1691,#REF!,2,FALSE)","v":{"$error":"#REF!"}},{"$f":"VLOOKUP($A1691,#REF!,3,FALSE)","v":{"$error":"#REF!"}},"McDowell Named and Created"]
["Q28_11",{"$f":"VLOOKUP($A1692,#REF!,2,FALSE)","v":{"$error":"#REF!"}},{"$f":"VLOOKUP($A1692,#REF!,3,FALSE)","v":{"$error":"#REF!"}},"McDowell Named and Created"]
["Q28_12",{"$f":"VLOOKUP($A1693,#REF!,2,FALSE)","v":{"$error":"#REF!"}},{"$f":"VLOOKUP($A1693,#REF!,3,FALSE)","v":{"$error":"#REF!"}},"McDowell Named and Created"]
["Q28_13",{"$f":"VLOOKUP($A1694,#REF!,2,FALSE)","v":{"$error":"#REF!"}},{"$f":"VLOOKUP($A1694,#REF!,3,FALSE)","v":{"$error":"#REF!"}},"McDowell Named and Created"]
["Q28_13_other",{"$f":"VLOOKUP($A1695,#REF!,2,FALSE)","v":{"$error":"#REF!"}},{"$f":"VLOOKUP($A1695,#REF!,3,FALSE)","v":{"$error":"#REF!"}},"McDowell Named and Created"]
["Q29",{"$f":"VLOOKUP($A1696,#REF!,2,FALSE)","v":{"$error":"#REF!"}},{"$f":"VLOOKUP($A1696,#REF!,3,FALSE)","v":{"$error":"#REF!"}},"McDowell Named and Created"]
["Q29a_1",{"$f":"VLOOKUP($A1697,#REF!,2,FALSE)","v":{"$error":"#REF!"}},{"$f":"VLOOKUP($A1697,#REF!,3,FALSE)","v":{"$error":"#REF!"}},"McDowell Named and Created"]
["Q29a_2",{"$f":"VLOOKUP($A1698,#REF!,2,FALSE)","v":{"$error":"#REF!"}},{"$f":"VLOOKUP($A1698,#REF!,3,FALSE)","v":{"$error":"#REF!"}},"McDowell Named and Created"]
["Q29a_3",{"$f":"VLOOKUP($A1699,#REF!,2,FALSE)","v":{"$error":"#REF!"}},{"$f":"VLOOKUP($A1699,#REF!,3,FALSE)","v":{"$error":"#REF!"}},"McDowell Named and Created"]
["Q29a_4",{"$f":"VLOOKUP($A1700,#REF!,2,FALSE)","v":{"$error":"#REF!"}},{"$f":"VLOOKUP($A1700,#REF!,3,FALSE)","v":{"$error":"#REF!"}},"McDowell Named and Created"]
["Q29a_5",{"$f":"VLOOKUP($A1701,#REF!,2,FALSE)","v":{"$error":"#REF!"}},{"$f":"VLOOKUP($A1701,#REF!,3,FALSE)","v":{"$error":"#REF!"}},"McDowell Named and Created"]
["Q29a_6",{"$f":"VLOOKUP($A1702,#REF!,2,FALSE)","v":{"$error":"#REF!"}},{"$f":"VLOOKUP($A1702,#REF!,3,FALSE)","v":{"$error":"#REF!"}},"McDowell Named and Created"]
["Q29a_7",{"$f":"VLOOKUP($A1703,#REF!,2,FALSE)","v":{"$error":"#REF!"}},{"$f":"VLOOKUP($A1703,#REF!,3,FALSE)","v":{"$error":"#REF!"}},"McDowell Named and Created"]
["Q29a_8",{"$f":"VLOOKUP($A1704,#REF!,2,FALSE)","v":{"$error":"#REF!"}},{"$f":"VLOOKUP($A1704,#REF!,3,FALSE)","v":{"$error":"#REF!"}},"McDowell Named and Created"]
["Q29a_9",{"$f":"VLOOKUP($A1705,#REF!,2,FALSE)","v":{"$error":"#REF!"}},{"$f":"VLOOKUP($A1705,#REF!,3,FALSE)","v":{"$error":"#REF!"}},"McDowell Named and Created"]
["Q29a_9_other",{"$f":"VLOOKUP($A1706,#REF!,2,FALSE)","v":{"$error":"#REF!"}},{"$f":"VLOOKUP($A1706,#REF!,3,FALSE)","v":{"$error":"#REF!"}},"McDowell Named and Created"]
["Q29b",{"$f":"VLOOKUP($A1707,#REF!,2,FALSE)","v":{"$error":"#REF!"}},{"$f":"VLOOKUP($A1707,#REF!,3,FALSE)","v":{"$error":"#REF!"}},"McDowell Named and Created"]
["Q29c",{"$f":"VLOOKUP($A1708,#REF!,2,FALSE)","v":{"$error":"#REF!"}},{"$f":"VLOOKUP($A1708,#REF!,3,FALSE)","v":{"$error":"#REF!"}},"McDowell Named and Created"]
["Q30_r1",{"$f":"VLOOKUP($A1709,#REF!,2,FALSE)","v":{"$error":"#REF!"}},{"$f":"VLOOKUP($A1709,#REF!,3,FALSE)","v":{"$error":"#REF!"}},"McDowell Named and Created"]
["Q30_r2",{"$f":"VLOOKUP($A1710,#REF!,2,FALSE)","v":{"$error":"#REF!"}},{"$f":"VLOOKUP($A1710,#REF!,3,FALSE)","v":{"$error":"#REF!"}},"McDowell Named and Created"]
["Q30_r3",{"$f":"VLOOKUP($A1711,#REF!,2,FALSE)","v":{"$error":"#REF!"}},{"$f":"VLOOKUP($A1711,#REF!,3,FALSE)","v":{"$error":"#REF!"}},"McDowell Named and Created"]
["Q30_r4",{"$f":"VLOOKUP($A1712,#REF!,2,FALSE)","v":{"$error":"#REF!"}},{"$f":"VLOOKUP($A1712,#REF!,3,FALSE)","v":{"$error":"#REF!"}},"McDowell Named and Created"]
["Q30_r5",{"$f":"VLOOKUP($A1713,#REF!,2,FALSE)","v":{"$error":"#REF!"}},{"$f":"VLOOKUP($A1713,#REF!,3,FALSE)","v":{"$error":"#REF!"}},"McDowell Named and Created"]
["Q30_r6",{"$f":"VLOOKUP($A1714,#REF!,2,FALSE)","v":{"$error":"#REF!"}},{"$f":"VLOOKUP($A1714,#REF!,3,FALSE)","v":{"$error":"#REF!"}},"McDowell Named and Created"]
["Q30_r7",{"$f":"VLOOKUP($A1715,#REF!,2,FALSE)","v":{"$error":"#REF!"}},{"$f":"VLOOKUP($A1715,#REF!,3,FALSE)","v":{"$error":"#REF!"}},"McDowell Named and Created"]
["Q31_r1",{"$f":"VLOOKUP($A1716,#REF!,2,FALSE)","v":{"$error":"#REF!"}},{"$f":"VLOOKUP($A1716,#REF!,3,FALSE)","v":{"$error":"#REF!"}},"McDowell Named and Created"]
["Q31_r2",{"$f":"VLOOKUP($A1717,#REF!,2,FALSE)","v":{"$error":"#REF!"}},{"$f":"VLOOKUP($A1717,#REF!,3,FALSE)","v":{"$error":"#REF!"}},"McDowell Named and Created"]
["Q31_r3",{"$f":"VLOOKUP($A1718,#REF!,2,FALSE)","v":{"$error":"#REF!"}},{"$f":"VLOOKUP($A1718,#REF!,3,FALSE)","v":{"$error":"#REF!"}},"McDowell Named and Created"]
["Q31_r4",{"$f":"VLOOKUP($A1719,#REF!,2,FALSE)","v":{"$error":"#REF!"}},{"$f":"VLOOKUP($A1719,#REF!,3,FALSE)","v":{"$error":"#REF!"}},"McDowell Named and Created"]
["Q31_r5",{"$f":"VLOOKUP($A1720,#REF!,2,FALSE)","v":{"$error":"#REF!"}},{"$f":"VLOOKUP($A1720,#REF!,3,FALSE)","v":{"$error":"#REF!"}},"McDowell Named and Created"]
["Q32_r1",{"$f":"VLOOKUP($A1721,#REF!,2,FALSE)","v":{"$error":"#REF!"}},{"$f":"VLOOKUP($A1721,#REF!,3,FALSE)","v":{"$error":"#REF!"}},"McDowell Named and Created"]
["Q32_r2",{"$f":"VLOOKUP($A1722,#REF!,2,FALSE)","v":{"$error":"#REF!"}},{"$f":"VLOOKUP($A1722,#REF!,3,FALSE)","v":{"$error":"#REF!"}},"McDowell Named and Created"]
["Q32_r3",{"$f":"VLOOKUP($A1723,#REF!,2,FALSE)","v":{"$error":"#REF!"}},{"$f":"VLOOKUP($A1723,#REF!,3,FALSE)","v":{"$error":"#REF!"}},"McDowell Named and Created"]
["Q32_r4",{"$f":"VLOOKUP($A1724,#REF!,2,FALSE)","v":{"$error":"#REF!"}},{"$f":"VLOOKUP($A1724,#REF!,3,FALSE)","v":{"$error":"#REF!"}},"McDowell Named and Created"]
["Q32_r5",{"$f":"VLOOKUP($A1725,#REF!,2,FALSE)","v":{"$error":"#REF!"}},{"$f":"VLOOKUP($A1725,#REF!,3,FALSE)","v":{"$error":"#REF!"}},"McDowell Named and Created"]
["Q32_r6",{"$f":"VLOOKUP($A1726,#REF!,2,FALSE)","v":{"$error":"#REF!"}},{"$f":"VLOOKUP($A1726,#REF!,3,FALSE)","v":{"$error":"#REF!"}},"McDowell Named and Created"]
["Q32_r7",{"$f":"VLOOKUP($A1727,#REF!,2,FALSE)","v":{"$error":"#REF!"}},{"$f":"VLOOKUP($A1727,#REF!,3,FALSE)","v":{"$error":"#REF!"}},"McDowell Named and Created"]
["Q32_r8",{"$f":"VLOOKUP($A1728,#REF!,2,FALSE)","v":{"$error":"#REF!"}},{"$f":"VLOOKUP($A1728,#REF!,3,FALSE)","v":{"$error":"#REF!"}},"McDowell Named and Created"]
["Q32_r9",{"$f":"VLOOKUP($A1729,#REF!,2,FALSE)","v":{"$error":"#REF!"}},{"$f":"VLOOKUP($A1729,#REF!,3,FALSE)","v":{"$error":"#REF!"}},"McDowell Named and Created"]
["Q32_r10",{"$f":"VLOOKUP($A1730,#REF!,2,FALSE)","v":{"$error":"#REF!"}},{"$f":"VLOOKUP($A1730,#REF!,3,FALSE)","v":{"$error":"#REF!"}},"McDowell Named and Created"]
["Q32_r11",{"$f":"VLOOKUP($A1731,#REF!,2,FALSE)","v":{"$error":"#REF!"}},{"$f":"VLOOKUP($A1731,#REF!,3,FALSE)","v":{"$error":"#REF!"}},"McDowell Named and Created"]
["Q32_r12",{"$f":"VLOOKUP($A1732,#REF!,2,FALSE)","v":{"$error":"#REF!"}},{"$f":"VLOOKUP($A1732,#REF!,3,FALSE)","v":{"$error":"#REF!"}},"McDowell Named and Created"]
["Q32_r13",{"$f":"VLOOKUP($A1733,#REF!,2,FALSE)","v":{"$error":"#REF!"}},{"$f":"VLOOKUP($A1733,#REF!,3,FALSE)","v":{"$error":"#REF!"}},"McDowell Named and Created"]
["Q33",{"$f":"VLOOKUP($A1734,#REF!,2,FALSE)","v":{"$error":"#REF!"}},{"$f":"VLOOKUP($A1734,#REF!,3,FALSE)","v":{"$error":"#REF!"}},"McDowell Named and Created"]
["Q34",{"$f":"VLOOKUP($A1735,#REF!,2,FALSE)","v":{"$error":"#REF!"}},{"$f":"VLOOKUP($A1735,#REF!,3,FALSE)","v":{"$error":"#REF!"}},"McDowell Named and Created"]
["Q35",{"$f":"VLOOKUP($A1736,#REF!,2,FALSE)","v":{"$error":"#REF!"}},{"$f":"VLOOKUP($A1736,#REF!,3,FALSE)","v":{"$error":"#REF!"}},"McDowell Named and Created"]
["Q36",{"$f":"VLOOKUP($A1737,#REF!,2,FALSE)","v":{"$error":"#REF!"}},{"$f":"VLOOKUP($A1737,#REF!,3,FALSE)","v":{"$error":"#REF!"}},"McDowell Named and Created"]
["Q37",{"$f":"VLOOKUP($A1738,#REF!,2,FALSE)","v":{"$error":"#REF!"}},{"$f":"VLOOKUP($A1738,#REF!,3,FALSE)","v":{"$error":"#REF!"}},"McDowell Named and Created"]
["Q38",{"$f":"VLOOKUP($A1739,#REF!,2,FALSE)","v":{"$error":"#REF!"}},{"$f":"VLOOKUP($A1739,#REF!,3,FALSE)","v":{"$error":"#REF!"}},"McDowell Named and Created"]
["Q39_1",{"$f":"VLOOKUP($A1740,#REF!,2,FALSE)","v":{"$error":"#REF!"}},{"$f":"VLOOKUP($A1740,#REF!,3,FALSE)","v":{"$error":"#REF!"}},"McDowell Named and Created"]
["Q39_2",{"$f":"VLOOKUP($A1741,#REF!,2,FALSE)","v":{"$error":"#REF!"}},{"$f":"VLOOKUP($A1741,#REF!,3,FALSE)","v":{"$error":"#REF!"}},"McDowell Named and Created"]
["Q39_3",{"$f":"VLOOKUP($A1742,#REF!,2,FALSE)","v":{"$error":"#REF!"}},{"$f":"VLOOKUP($A1742,#REF!,3,FALSE)","v":{"$error":"#REF!"}},"McDowell Named and Created"]
["Q39_4",{"$f":"VLOOKUP($A1743,#REF!,2,FALSE)","v":{"$error":"#REF!"}},{"$f":"VLOOKUP($A1743,#REF!,3,FALSE)","v":{"$error":"#REF!"}},"McDowell Named and Created"]
["Q39_5",{"$f":"VLOOKUP($A1744,#REF!,2,FALSE)","v":{"$error":"#REF!"}},{"$f":"VLOOKUP($A1744,#REF!,3,FALSE)","v":{"$error":"#REF!"}},"McDowell Named and Created"]
["Q39_6",{"$f":"VLOOKUP($A1745,#REF!,2,FALSE)","v":{"$error":"#REF!"}},{"$f":"VLOOKUP($A1745,#REF!,3,FALSE)","v":{"$error":"#REF!"}},"McDowell Named and Created"]
["Q39_7",{"$f":"VLOOKUP($A1746,#REF!,2,FALSE)","v":{"$error":"#REF!"}},{"$f":"VLOOKUP($A1746,#REF!,3,FALSE)","v":{"$error":"#REF!"}},"McDowell Named and Created"]
["Q40",{"$f":"VLOOKUP($A1747,#REF!,2,FALSE)","v":{"$error":"#REF!"}},{"$f":"VLOOKUP($A1747,#REF!,3,FALSE)","v":{"$error":"#REF!"}},"McDowell Named and Created"]
["Q41",{"$f":"VLOOKUP($A1748,#REF!,2,FALSE)","v":{"$error":"#REF!"}},{"$f":"VLOOKUP($A1748,#REF!,3,FALSE)","v":{"$error":"#REF!"}},"McDowell Named and Created"]
["Q41a_1",{"$f":"VLOOKUP($A1749,#REF!,2,FALSE)","v":{"$error":"#REF!"}},{"$f":"VLOOKUP($A1749,#REF!,3,FALSE)","v":{"$error":"#REF!"}},"McDowell Named and Created"]
["Q41a_2",{"$f":"VLOOKUP($A1750,#REF!,2,FALSE)","v":{"$error":"#REF!"}},{"$f":"VLOOKUP($A1750,#REF!,3,FALSE)","v":{"$error":"#REF!"}},"McDowell Named and Created"]
["Q41a_3",{"$f":"VLOOKUP($A1751,#REF!,2,FALSE)","v":{"$error":"#REF!"}},{"$f":"VLOOKUP($A1751,#REF!,3,FALSE)","v":{"$error":"#REF!"}},"McDowell Named and Created"]
["Q41a_4",{"$f":"VLOOKUP($A1752,#REF!,2,FALSE)","v":{"$error":"#REF!"}},{"$f":"VLOOKUP($A1752,#REF!,3,FALSE)","v":{"$error":"#REF!"}},"McDowell Named and Created"]
["Q41a_5",{"$f":"VLOOKUP($A1753,#REF!,2,FALSE)","v":{"$error":"#REF!"}},{"$f":"VLOOKUP($A1753,#REF!,3,FALSE)","v":{"$error":"#REF!"}},"McDowell Named and Created"]
["Q41a_5_other",{"$f":"VLOOKUP($A1754,#REF!,2,FALSE)","v":{"$error":"#REF!"}},{"$f":"VLOOKUP($A1754,#REF!,3,FALSE)","v":{"$error":"#REF!"}},"McDowell Named and Created"]
["Q42",{"$f":"VLOOKUP($A1755,#REF!,2,FALSE)","v":{"$error":"#REF!"}},{"$f":"VLOOKUP($A1755,#REF!,3,FALSE)","v":{"$error":"#REF!"}},"McDowell Named and Created"]
["Q42a",{"$f":"VLOOKUP($A1756,#REF!,2,FALSE)","v":{"$error":"#REF!"}},{"$f":"VLOOKUP($A1756,#REF!,3,FALSE)","v":{"$error":"#REF!"}},"McDowell Named and Created"]
[null,null,null,"McDowell Named and Created"]

{"sheet":"Raw Data","index":3,"n_rows":2281,"n_cols":2540,"rows_kept":33,"cut":true,"hidden":false,"merged":[],"bounds":{"rows_first":15,"rows_last":3,"rows_between":15,"halvings":7}}
[]
[]
["sys_SequentialRespondentNumber","password","Mail (1)/ Online (2)","MGinfo_r1_c1","Q1","Q2dk_1","Q3_r1_c1","Q2_r1_c1","Q2_r2_c1","Q2_r3_c1","Q2_r4_c1","Q2_r5_c1","Q2_r6_c1","Q2_r7_c1","Q2_r8_c1","Q2_r9_c1","Q2_r10_c1","Q2_r1_c2","Q2_r2_c2","Q2_r3_c2","Q2_r4_c2","Q2_r5_c2","Q2_r6_c2","Q2_r7_c2","Q2_r8_c2","Q2_r9_c2","Q2_r10_c2","Q2_r1_c3","Q2_r2_c3","Q2_r3_c3","Q2_r4_c3","Q2_r5_c3","Q2_r6_c3","Q2_r7_c3","Q2_r8_c3","Q2_r9_c3","Q2_r10_c3","SM1_r1","SM1_r2","SM1_r3","SM1_r4","SM1_r5","SM1_r6","SM1_r7","SM1_r8","SM1_r9","SM1_r10","SM1_r11","SM1_r12","SM1_r13","SM1_r14","SM1_r15","SM1_r16","SM1_r17","SM1_r18","SM1_r19","SM1_r20","SM1_r21","SM1_r22","SM1_r23","SM1_r24","SM1_r25","SM1_r26","SM1_r27","SM1_r28","SM1_r29","SM1_r30","SM1_r31","SM1_r32","SM1_r33","SM1_r34","SM1_r35","SM1_r36","SM1_r37","SM1_r38","SM1_r39","SM1_r40","SM1_r41","SM1_r42","SM1_r43","SM1_r44","SM1_r45","SM1_r46","SM1_r47","SM1_r48","SM1_r49","SM1_r50","SM1_r51","SM1_r52","SM1_r53","SM1_r54","SM1_r55","SM1_r56","SM1_r57","SM1_r58","SM1_r59","SM1_r60","SM1_r61","SM1_r62","SM1_r63","SM1_r64","SM1_r65","SM1_r66","SM1_r67","SM1_r68","SM1_r69","SM1_r70","SM1_r71","SM1_r72","SM1_r73","SM1_r74","SM1_r75","SM1_r76","SM1_r77","SM1_r78","SM1_r79","SM1_r80","SM1_r81","SM1_r82","SM1_r83","SM1_r84","SM1_r85","SM1_r86","SM1_r87","SM1_r88","SM1_r89","SM1_r90","SM1_r91","SM1_r92","SM1_r93","SM1_r94","SM1_r95","SM1_r96","SM1_r97","SM1_r98","SM1_r99","SM1_r100","SM1_r101","SM1_r102","SM1_r103","SM1_r104","SM1_r105","SM1_r106","SM1_r107","SM1_r108","SM1_r109","SM1_r110","SM1_r111","SM1_r112","SM1_r113","SM1_r114","SM1_r115","SM1_r116","SM1_r117","SM1_r118","SM1_r119","SM1_r120","SM1_r121","SM1_r122","SM1_r123","SM1_r124","SM1_r125","SM1_r126","SM1_r127","SM1_r128","SM1_r129","SM1_r130","SM1_r131","SM1_r132","SM1_r133","SM1_r134","SM1_r135","SM1_r136","SM1_r137","SM1_r138","SM1_r139","SM1_r140","SM1_r141","SM1_r142","SM1_r143","SM1_r144","SM1_r145","SM1_r146","SM1_r147","SM1_r148","SM1_r149","SM1_r150","SM1_r151","SM1_r152","SM1_r153","SM1_r154","SM1_r155","SM1_r156","SM1_r157","SM1_r158","SM1_r159","SM1_r160","SM1_r161","SM1_r162","SM1_r163","SM1_r164","SM1_r165","SM1_r166","SM1_r167","SM1_r168","SM1_r169","SM1_r170","SM1_r171","SM1_r172","SM1_r173","SM1_r174","SM1_r175","SM1_r176","SM1_r177","SM1_r178","SM1_r179","SM1_r180","SM1_r181","SM1_r182","SM1_r183","SM1_r184","SM2_r1","SM2_r2","SM2_r3","SM2_r4","SM2_r5","SM2_r6","SM2_r7","SM2_r8","SM2_r9","SM2_r10","SM2_r11","SM2_r12","SM2_r13","SM2_r14","SM2_r15","SM2_r16","SM2_r17","SM2_r18","SM2_r19","SM2_r20","SM2_r21","SM2_r22","SM2_r23","SM2_r24","SM2_r25","SM2_r26","SM2_r27","SM2_r28","SM2_r29","SM2_r30","SM2_r31","SM2_r32","SM2_r33","SM2_r34","SM2_r35","SM2_r36","SM2_r37","SM2_r38","SM2_r39","SM2_r40","SM2_r41","SM2_r42","SM2_r43","SM2_r44","SM2_r45","SM2_r46","SM2_r47","SM2_r48","SM2_r49","SM2_r50","SM2_r51","SM2_r52","SM2_r53","SM2_r54","SM2_r55","SM2_r56","SM2_r57","SM2_r58","SM2_r59","SM2_r60","SM2_r61","SM2_r62","SM2_r63","SM2_r64","SM2_r65","SM2_r66","SM2_r67","SM2_r68","SM2_r69","SM2_r70","SM2_r71","SM2_r72","SM2_r73","SM2_r74","SM2_r75","SM2_r76","SM2_r77","SM2_r78","SM2_r79","SM2_r80","SM2_r81","SM2_r82","SM2_r83","SM2_r84","SM2_r85","SM2_r86","SM2_r87","SM2_r88","SM2_r89","SM2_r90","SM2_r91","SM2_r92","SM2_r93","SM2_r94","SM2_r95","SM2_r96","SM2_r97","SM2_r98","SM2_r99","SM2_r100","SM2_r101","SM2_r102","SM2_r103","SM2_r104","SM2_r105","SM2_r106","SM2_r107","SM2_r108","SM2_r109","SM2_r110","SM2_r111","SM2_r112","SM2_r113","SM2_r114","SM2_r115","SM2_r116","SM2_r117","SM2_r118","SM2_r119","SM2_r120","SM2_r121","SM2_r122","SM2_r123","SM2_r124","SM2_r125","SM2_r126","SM2_r127","SM2_r128","SM2_r129","SM2_r130","SM2_r131","SM2_r132","SM2_r133","SM2_r134","SM2_r135","SM2_r136","SM2_r137","SM2_r138","SM2_r139","SM2_r140","SM2_r141","SM2_r142","SM2_r143","SM2_r144","SM2_r145","SM2_r146","SM2_r147","SM2_r148","SM2_r149","SM2_r150","SM2_r151","SM2_r152","SM2_r153","SM2_r154","SM2_r155","SM2_r156","SM2_r157","SM2_r158","SM2_r159","SM2_r160","SM2_r161","SM2_r162","SM2_r163","SM2_r164","SM2_r165","SM2_r166","SM2_r167","SM2_r168","SM2_r169","SM2_r170","SM2_r171","SM2_r172","SM2_r173","SM2_r174","SM2_r175","SM2_r176","SM2_r177","SM2_r178","SM2_r179","SM2_r180","SM2_r181","SM2_r182","SM2_r183","SM2_r184","SM3_r1","SM3_r2","SM3_r3","SM3_r4","SM3_r5","SM3_r6","SM3_r7","SM3_r8","SM3_r9","SM3_r10","SM3_r11","SM3_r12","SM3_r13","SM3_r14","SM3_r15","SM3_r16","SM3_r17","SM3_r18","SM3_r19","SM3_r20","SM3_r21","SM3_r22","SM3_r23","SM3_r24","SM3_r25","SM3_r26","SM3_r27","SM3_r28","SM3_r29","SM3_r30","SM3_r31","SM3_r32","SM3_r33","SM3_r34","SM3_r35","SM3_r36","SM3_r37","SM3_r38","SM3_r39","SM3_r40","SM3_r41","SM3_r42","SM3_r43","SM3_r44","SM3_r45","SM3_r46","SM3_r47","SM3_r48","SM3_r49","SM3_r50","SM3_r51","SM3_r52","SM3_r53","SM3_r54","SM3_r55","SM3_r56","SM3_r57","SM3_r58","SM3_r59","SM3_r60","SM3_r61","SM3_r62","SM3_r63","SM3_r64","SM3_r65","SM3_r66","SM3_r67","SM3_r68","SM3_r69","SM3_r70","SM3_r71","SM3_r72","SM3_r73","SM3_r74","SM3_r75","SM3_r76","SM3_r77","SM3_r78","SM3_r79","SM3_r80","SM3_r81","SM3_r82","SM3_r83","SM3_r84","SM3_r85","SM3_r86","SM3_r87","SM3_r88","SM3_r89","SM3_r90","SM3_r91","SM3_r92","SM3_r93","SM3_r94","SM3_r95","SM3_r96","SM3_r97","SM3_r98","SM3_r99","SM3_r100","SM3_r101","SM3_r102","SM3_r103","SM3_r104","SM3_r105","SM3_r106","SM3_r107","SM3_r108","SM3_r109","SM3_r110","SM3_r111","SM3_r112","SM3_r113","SM3_r114","SM3_r115","SM3_r116","SM3_r117","SM3_r118","SM3_r119","SM3_r120","SM3_r121","SM3_r122","SM3_r123","SM3_r124","SM3_r125","SM3_r126","SM3_r127","SM3_r128","SM3_r129","SM3_r130","SM3_r131","SM3_r132","SM3_r133","SM3_r134","SM3_r135","SM3_r136","SM3_r137","SM3_r138","SM3_r139","SM3_r140","SM3_r141","SM3_r142","SM3_r143","SM3_r144","SM3_r145","SM3_r146","SM3_r147","SM3_r148","SM3_r149","SM3_r150","SM3_r151","SM3_r152","SM3_r153","SM3_r154","SM3_r155","SM3_r156","SM3_r157","SM3_r158","SM3_r159","SM3_r160","SM3_r161","SM3_r162","SM3_r163","SM3_r164","SM3_r165","SM3_r166","SM3_r167","SM3_r168","SM3_r169","SM3_r170","SM3_r171","SM3_r172","SM3_r173","SM3_r174","SM3_r175","SM3_r176","SM3_r177","SM3_r178","SM3_r179","SM3_r180","SM3_r181","SM3_r182","SM3_r183","SM3_r184","SM4_r1","SM4_r2","SM4_r3","SM4_r4","SM4_r5","SM4_r6","SM4_r7","SM4_r8","SM4_r9","SM4_r10","SM4_r11","SM4_r12","SM4_r13","SM4_r14","SM4_r15","SM4_r16","SM4_r17","SM4_r18","SM4_r19","SM4_r20","SM4_r21","SM4_r22","SM4_r23","SM4_r24","SM4_r25","SM4_r26","SM4_r27","SM4_r28","SM4_r29","SM4_r30","SM4_r31","SM4_r32","SM4_r33","SM4_r34","SM4_r35","SM4_r36","SM4_r37","SM4_r38","SM4_r39","SM4_r40","SM4_r41","SM4_r42","SM4_r43","SM4_r44","SM4_r45","SM4_r46","SM4_r47","SM4_r48","SM4_r49","SM4_r50","SM4_r51","SM4_r52","SM4_r53","SM4_r54","SM4_r55","SM4_r56","SM4_r57","SM4_r58","SM4_r59","SM4_r60","SM4_r61","SM4_r62","SM4_r63","SM4_r64","SM4_r65","SM4_r66","SM4_r67","SM4_r68","SM4_r69","SM4_r70","SM4_r71","SM4_r72","SM4_r73","SM4_r74","SM4_r75","SM4_r76","SM4_r77","SM4_r78","SM4_r79","SM4_r80","SM4_r81","SM4_r82","SM4_r83","SM4_r84","SM4_r85","SM4_r86","SM4_r87","SM4_r88","SM4_r89","SM4_r90","SM4_r91","SM4_r92","SM4_r93","SM4_r94","SM4_r95","SM4_r96","SM4_r97","SM4_r98","SM4_r99","SM4_r100","SM4_r101","SM4_r102","SM4_r103","SM4_r104","SM4_r105","SM4_r106","SM4_r107","SM4_r108","SM4_r109","SM4_r110","SM4_r111","SM4_r112","SM4_r113","SM4_r114","SM4_r115","SM4_r116","SM4_r117","SM4_r118","SM4_r119","SM4_r120","SM4_r121","SM4_r122","SM4_r123","SM4_r124","SM4_r125","SM4_r126","SM4_r127","SM4_r128","SM4_r129","SM4_r130","SM4_r131","SM4_r132","SM4_r133","SM4_r134","SM4_r135","SM4_r136","SM4_r137","SM4_r138","SM4_r139","SM4_r140","SM4_r141","SM4_r142","SM4_r143","SM4_r144","SM4_r145","SM4_r146","SM4_r147","SM4_r148","SM4_r149","SM4_r150","SM4_r151","SM4_r152","SM4_r153","SM4_r154","SM4_r155","SM4_r156","SM4_r157","SM4_r158","SM4_r159","SM4_r160","SM4_r161","SM4_r162","SM4_r163","SM4_r164","SM4_r165","SM4_r166","SM4_r167","SM4_r168","SM4_r169","SM4_r170","SM4_r171","SM4_r172","SM4_r173","SM4_r174","SM4_r175","SM4_r176","SM4_r177","SM4_r178","SM4_r179","SM4_r180","SM4_r181","SM4_r182","SM4_r183","SM4_r184","SM5_r1","SM5_r2","SM5_r3","SM5_r4","SM5_r5","SM5_r6","SM5_r7","SM5_r8","SM5_r9","SM5_r10","SM5_r11","SM5_r12","SM5_r13","SM5_r14","SM5_r15","SM5_r16","SM5_r17","SM5_r18","SM5_r19","SM5_r20","SM5_r21","SM5_r22","SM5_r23","SM5_r24","SM5_r25","SM5_r26","SM5_r27","SM5_r28","SM5_r29","SM5_r30","SM5_r31","SM5_r32","SM5_r33","SM5_r34","SM5_r35","SM5_r36","SM5_r37","SM5_r38","SM5_r39","SM5_r40","SM5_r41","SM5_r42","SM5_r43","SM5_r44","SM5_r45","SM5_r46","SM5_r47","SM5_r48","SM5_r49","SM5_r50","SM5_r51","SM5_r52","SM5_r53","SM5_r54","SM5_r55","SM5_r56","SM5_r57","SM5_r58","SM5_r59","SM5_r60","SM5_r61","SM5_r62","SM5_r63","SM5_r64","SM5_r65","SM5_r66","SM5_r67","SM5_r68","SM5_r69","SM5_r70","SM5_r71","SM5_r72","SM5_r73","SM5_r74","SM5_r75","SM5_r76","SM5_r77","SM5_r78","SM5_r79","SM5_r80","SM5_r81","SM5_r82","SM5_r83","SM5_r84","SM5_r85","SM5_r86","SM5_r87","SM5_r88","SM5_r89","SM5_r90","SM5_r91","SM5_r92","SM5_r93","SM5_r94","SM5_r95","SM5_r96","SM5_r97","SM5_r98","SM5_r99","SM5_r100","SM5_r101","SM5_r102","SM5_r103","SM5_r104","SM5_r105","SM5_r106","SM5_r107","SM5_r108","SM5_r109","SM5_r110","SM5_r111","SM5_r112","SM5_r113","SM5_r114","SM5_r115","SM5_r116","SM5_r117","SM5_r118","SM5_r119","SM5_r120","SM5_r121","SM5_r122","SM5_r123","SM5_r124","SM5_r125","SM5_r126","SM5_r127","SM5_r128","SM5_r129","SM5_r130","SM5_r131","SM5_r132","SM5_r133","SM5_r134","SM5_r135","SM5_r136","SM5_r137","SM5_r138","SM5_r139","SM5_r140","SM5_r141","SM5_r142","SM5_r143","SM5_r144","SM5_r145","SM5_r146","SM5_r147","SM5_r148","SM5_r149","SM5_r150","SM5_r151","SM5_r152","SM5_r153","SM5_r154","SM5_r155","SM5_r156","SM5_r157","SM5_r158","SM5_r159","SM5_r160","SM5_r161","SM5_r162","SM5_r163","SM5_r164","SM5_r165","SM5_r166","SM5_r167","SM5_r168","SM5_r169","SM5_r170","SM5_r171","SM5_r172","SM5_r173","SM5_r174","SM5_r175","SM5_r176","SM5_r177","SM5_r178","SM5_r179","SM5_r180","SM5_r181","SM5_r182","SM5_r183","SM5_r184","SM6_r1","SM6_r2","SM6_r3","SM6_r4","SM6_r5","SM6_r6","SM6_r7","SM6_r8","SM6_r9","SM6_r10","SM6_r11","SM6_r12","SM6_r13","SM6_r14","SM6_r15","SM6_r16","SM6_r17","SM6_r18","SM6_r19","SM6_r20","SM6_r21","SM6_r22","SM6_r23","SM6_r24","SM6_r25","SM6_r26","SM6_r27","SM6_r28","SM6_r29","SM6_r30","SM6_r31","SM6_r32","SM6_r33","SM6_r34","SM6_r35","SM6_r36","SM6_r37","SM6_r38","SM6_r39","SM6_r40","SM6_r41","SM6_r42","SM6_r43","SM6_r44","SM6_r45","SM6_r46","SM6_r47","SM6_r48","SM6_r49","SM6_r50","SM6_r51","SM6_r52","SM6_r53","SM6_r54","SM6_r55","SM6_r56","SM6_r57","SM6_r58","SM6_r59","SM6_r60","SM6_r61","SM6_r62","SM6_r63","SM6_r64","SM6_r65","SM6_r66","SM6_r67","SM6_r68","SM6_r69","SM6_r70","SM6_r71","SM6_r72","SM6_r73","SM6_r74","SM6_r75","SM6_r76","SM6_r77","SM6_r78","SM6_r79","SM6_r80","SM6_r81","SM6_r82","SM6_r83","SM6_r84","SM6_r85","SM6_r86","SM6_r87","SM6_r88","SM6_r89","SM6_r90","SM6_r91","SM6_r92","SM6_r93","SM6_r94","SM6_r95","SM6_r96","SM6_r97","SM6_r98","SM6_r99","SM6_r100","SM6_r101","SM6_r102","SM6_r103","SM6_r104","SM6_r105","SM6_r106","SM6_r107","SM6_r108","SM6_r109","SM6_r110","SM6_r111","SM6_r112","SM6_r113","SM6_r114","SM6_r115","SM6_r116","SM6_r117","SM6_r118","SM6_r119","SM6_r120","SM6_r121","SM6_r122","SM6_r123","SM6_r124","SM6_r125","SM6_r126","SM6_r127","SM6_r128","SM6_r129","SM6_r130","SM6_r131","SM6_r132","SM6_r133","SM6_r134","SM6_r135","SM6_r136","SM6_r137","SM6_r138","SM6_r139","SM6_r140","SM6_r141","SM6_r142","SM6_r143","SM6_r144","SM6_r145","SM6_r146","SM6_r147","SM6_r148","SM6_r149","SM6_r150","SM6_r151","SM6_r152","SM6_r153","SM6_r154","SM6_r155","SM6_r156","SM6_r157","SM6_r158","SM6_r159","SM6_r160","SM6_r161","SM6_r162","SM6_r163","SM6_r164","SM6_r165","SM6_r166","SM6_r167","SM6_r168","SM6_r169","SM6_r170","SM6_r171","SM6_r172","SM6_r173","SM6_r174","SM6_r175","SM6_r176","SM6_r177","SM6_r178","SM6_r179","SM6_r180","SM6_r181","SM6_r182","SM6_r183","SM6_r184","SM7_r1","SM7_r2","SM7_r3","SM7_r4","SM7_r5","SM7_r6","SM7_r7","SM7_r8","SM7_r9","SM7_r10","SM7_r11","SM7_r12","SM7_r13","SM7_r14","SM7_r15","SM7_r16","SM7_r17","SM7_r18","SM7_r19","SM7_r20","SM7_r21","SM7_r22","SM7_r23","SM7_r24","SM7_r25","SM7_r26","SM7_r27","SM7_r28","SM7_r29","SM7_r30","SM7_r31","SM7_r32","SM7_r33","SM7_r34","SM7_r35","SM7_r36","SM7_r37","SM7_r38","SM7_r39","SM7_r40","SM7_r41","SM7_r42","SM7_r43","SM7_r44","SM7_r45","SM7_r46","SM7_r47","SM7_r48","SM7_r49","SM7_r50","SM7_r51","SM7_r52","SM7_r53","SM7_r54","SM7_r55","SM7_r56","SM7_r57","SM7_r58","SM7_r59","SM7_r60","SM7_r61","SM7_r62","SM7_r63","SM7_r64","SM7_r65","SM7_r66","SM7_r67","SM7_r68","SM7_r69","SM7_r70","SM7_r71","SM7_r72","SM7_r73","SM7_r74","SM7_r75","SM7_r76","SM7_r77","SM7_r78","SM7_r79","SM7_r80","SM7_r81","SM7_r82","SM7_r83","SM7_r84","SM7_r85","SM7_r86","SM7_r87","SM7_r88","SM7_r89","SM7_r90","SM7_r91","SM7_r92","SM7_r93","SM7_r94","SM7_r95","SM7_r96","SM7_r97","SM7_r98","SM7_r99","SM7_r100","SM7_r101","SM7_r102","SM7_r103","SM7_r104","SM7_r105","SM7_r106","SM7_r107","SM7_r108","SM7_r109","SM7_r110","SM7_r111","SM7_r112","SM7_r113","SM7_r114","SM7_r115","SM7_r116","SM7_r117","SM7_r118","SM7_r119","SM7_r120","SM7_r121","SM7_r122","SM7_r123","SM7_r124","SM7_r125","SM7_r126","SM7_r127","SM7_r128","SM7_r129","SM7_r130","SM7_r131","SM7_r132","SM7_r133","SM7_r134","SM7_r135","SM7_r136","SM7_r137","SM7_r138","SM7_r139","SM7_r140","SM7_r141","SM7_r142","SM7_r143","SM7_r144","SM7_r145","SM7_r146","SM7_r147","SM7_r148","SM7_r149","SM7_r150","SM7_r151","SM7_r152","SM7_r153","SM7_r154","SM7_r155","SM7_r156","SM7_r157","SM7_r158","SM7_r159","SM7_r160","SM7_r161","SM7_r162","SM7_r163","SM7_r164","SM7_r165","SM7_r166","SM7_r167","SM7_r168","SM7_r169","SM7_r170","SM7_r171","SM7_r172","SM7_r173","SM7_r174","SM7_r175","SM7_r176","SM7_r177","SM7_r178","SM7_r179","SM7_r180","SM7_r181","SM7_r182","SM7_r183","SM7_r184","SM8_r1","SM8_r2","SM8_r3","SM8_r4","SM8_r5","SM8_r6","SM8_r7","SM8_r8","SM8_r9","SM8_r10","SM8_r11","SM8_r12","SM8_r13","SM8_r14","SM8_r15","SM8_r16","SM8_r17","SM8_r18","SM8_r19","SM8_r20","SM8_r21","SM8_r22","SM8_r23","SM8_r24","SM8_r25","SM8_r26","SM8_r27","SM8_r28","SM8_r29","SM8_r30","SM8_r31","SM8_r32","SM8_r33","SM8_r34","SM8_r35","SM8_r36","SM8_r37","SM8_r38","SM8_r39","SM8_r40","SM8_r41","SM8_r42","SM8_r43","SM8_r44","SM8_r45","SM8_r46","SM8_r47","SM8_r48","SM8_r49","SM8_r50","SM8_r51","SM8_r52","SM8_r53","SM8_r54","SM8_r55","SM8_r56","SM8_r57","SM8_r58","SM8_r59","SM8_r60","SM8_r61","SM8_r62","SM8_r63","SM8_r64","SM8_r65","SM8_r66","SM8_r67","SM8_r68","SM8_r69","SM8_r70","SM8_r71","SM8_r72","SM8_r73","SM8_r74","SM8_r75","SM8_r76","SM8_r77","SM8_r78","SM8_r79","SM8_r80","SM8_r81","SM8_r82","SM8_r83","SM8_r84","SM8_r85","SM8_r86","SM8_r87","SM8_r88","SM8_r89","SM8_r90","SM8_r91","SM8_r92","SM8_r93","SM8_r94","SM8_r95","SM8_r96","SM8_r97","SM8_r98","SM8_r99","SM8_r100","SM8_r101","SM8_r102","SM8_r103","SM8_r104","SM8_r105","SM8_r106","SM8_r107","SM8_r108","SM8_r109","SM8_r110","SM8_r111","SM8_r112","SM8_r113","SM8_r114","SM8_r115","SM8_r116","SM8_r117","SM8_r118","SM8_r119","SM8_r120","SM8_r121","SM8_r122","SM8_r123","SM8_r124","SM8_r125","SM8_r126","SM8_r127","SM8_r128","SM8_r129","SM8_r130","SM8_r131","SM8_r132","SM8_r133","SM8_r134","SM8_r135","SM8_r136","SM8_r137","SM8_r138","SM8_r139","SM8_r140","SM8_r141","SM8_r142","SM8_r143","SM8_r144","SM8_r145","SM8_r146","SM8_r147","SM8_r148","SM8_r149","SM8_r150","SM8_r151","SM8_r152","SM8_r153","SM8_r154","SM8_r155","SM8_r156","SM8_r157","SM8_r158","SM8_r159","SM8_r160","SM8_r161","SM8_r162","SM8_r163","SM8_r164","SM8_r165","SM8_r166","SM8_r167","SM8_r168","SM8_r169","SM8_r170","SM8_r171","SM8_r172","SM8_r173","SM8_r174","SM8_r175","SM8_r176","SM8_r177","SM8_r178","SM8_r179","SM8_r180","SM8_r181","SM8_r182","SM8_r183","SM8_r184","SM9_r1","SM9_r2","SM9_r3","SM9_r4","SM9_r5","SM9_r6","SM9_r7","SM9_r8","SM9_r9","SM9_r10","SM9_r11","SM9_r12","SM9_r13","SM9_r14","SM9_r15","SM9_r16","SM9_r17","SM9_r18","SM9_r19","SM9_r20","SM9_r21","SM9_r22","SM9_r23","SM9_r24","SM9_r25","SM9_r26","SM9_r27","SM9_r28","SM9_r29","SM9_r30","SM9_r31","SM9_r32","SM9_r33","SM9_r34","SM9_r35","SM9_r36","SM9_r37","SM9_r38","SM9_r39","SM9_r40","SM9_r41","SM9_r42","SM9_r43","SM9_r44","SM9_r45","SM9_r46","SM9_r47","SM9_r48","SM9_r49","SM9_r50","SM9_r51","SM9_r52","SM9_r53","SM9_r54","SM9_r55","SM9_r56","SM9_r57","SM9_r58","SM9_r59","SM9_r60","SM9_r61","SM9_r62","SM9_r63","SM9_r64","SM9_r65","SM9_r66","SM9_r67","SM9_r68","SM9_r69","SM9_r70","SM9_r71","SM9_r72","SM9_r73","SM9_r74","SM9_r75","SM9_r76","SM9_r77","SM9_r78","SM9_r79","SM9_r80","SM9_r81","SM9_r82","SM9_r83","SM9_r84","SM9_r85","SM9_r86","SM9_r87","SM9_r88","SM9_r89","SM9_r90","SM9_r91","SM9_r92","SM9_r93","SM9_r94","SM9_r95","SM9_r96","SM9_r97","SM9_r98","SM9_r99","SM9_r100","SM9_r101","SM9_r102","SM9_r103","SM9_r104","SM9_r105","SM9_r106","SM9_r107","SM9_r108","SM9_r109","SM9_r110","SM9_r111","SM9_r112","SM9_r113","SM9_r114","SM9_r115","SM9_r116","SM9_r117","SM9_r118","SM9_r119","SM9_r120","SM9_r121","SM9_r122","SM9_r123","SM9_r124","SM9_r125","SM9_r126","SM9_r127","SM9_r128","SM9_r129","SM9_r130","SM9_r131","SM9_r132","SM9_r133","SM9_r134","SM9_r135","SM9_r136","SM9_r137","SM9_r138","SM9_r139","SM9_r140","SM9_r141","SM9_r142","SM9_r143","SM9_r144","SM9_r145","SM9_r146","SM9_r147","SM9_r148","SM9_r149","SM9_r150","SM9_r151","SM9_r152","SM9_r153","SM9_r154","SM9_r155","SM9_r156","SM9_r157","SM9_r158","SM9_r159","SM9_r160","SM9_r161","SM9_r162","SM9_r163","SM9_r164","SM9_r165","SM9_r166","SM9_r167","SM9_r168","SM9_r169","SM9_r170","SM9_r171","SM9_r172","SM9_r173","SM9_r174","SM9_r175","SM9_r176","SM9_r177","SM9_r178","SM9_r179","SM9_r180","SM9_r181","SM9_r182","SM9_r183","SM9_r184","SM10_r1","SM10_r2","SM10_r3","SM10_r4","SM10_r5","SM10_r6","SM10_r7","SM10_r8","SM10_r9","SM10_r10","SM10_r11","SM10_r12","SM10_r13","SM10_r14","SM10_r15","SM10_r16","SM10_r17","SM10_r18","SM10_r19","SM10_r20","SM10_r21","SM10_r22","SM10_r23","SM10_r24","SM10_r25","SM10_r26","SM10_r27","SM10_r28","SM10_r29","SM10_r30","SM10_r31","SM10_r32","SM10_r33","SM10_r34","SM10_r35","SM10_r36","SM10_r37","SM10_r38","SM10_r39","SM10_r40","SM10_r41","SM10_r42","SM10_r43","SM10_r44","SM10_r45","SM10_r46","SM10_r47","SM10_r48","SM10_r49","SM10_r50","SM10_r51","SM10_r52","SM10_r53","SM10_r54","SM10_r55","SM10_r56","SM10_r57","SM10_r58","SM10_r59","SM10_r60","SM10_r61","SM10_r62","SM10_r63","SM10_r64","SM10_r65","SM10_r66","SM10_r67","SM10_r68","SM10_r69","SM10_r70","SM10_r71","SM10_r72","SM10_r73","SM10_r74","SM10_r75","SM10_r76","SM10_r77","SM10_r78","SM10_r79","SM10_r80","SM10_r81","SM10_r82","SM10_r83","SM10_r84","SM10_r85","SM10_r86","SM10_r87","SM10_r88","SM10_r89","SM10_r90","SM10_r91","SM10_r92","SM10_r93","SM10_r94","SM10_r95","SM10_r96","SM10_r97","SM10_r98","SM10_r99","SM10_r100","SM10_r101","SM10_r102","SM10_r103","SM10_r104","SM10_r105","SM10_r106","SM10_r107","SM10_r108","SM10_r109","SM10_r110","SM10_r111","SM10_r112","SM10_r113","SM10_r114","SM10_r115","SM10_r116","SM10_r117","SM10_r118","SM10_r119","SM10_r120","SM10_r121","SM10_r122","SM10_r123","SM10_r124","SM10_r125","SM10_r126","SM10_r127","SM10_r128","SM10_r129","SM10_r130","SM10_r131","SM10_r132","SM10_r133","SM10_r134","SM10_r135","SM10_r136","SM10_r137","SM10_r138","SM10_r139","SM10_r140","SM10_r141","SM10_r142","SM10_r143","SM10_r144","SM10_r145","SM10_r146","SM10_r147","SM10_r148","SM10_r149","SM10_r150","SM10_r151","SM10_r152","SM10_r153","SM10_r154","SM10_r155","SM10_r156","SM10_r157","SM10_r158","SM10_r159","SM10_r160","SM10_r161","SM10_r162","SM10_r163","SM10_r164","SM10_r165","SM10_r166","SM10_r167","SM10_r168","SM10_r169","SM10_r170","SM10_r171","SM10_r172","SM10_r173","SM10_r174","SM10_r175","SM10_r176","SM10_r177","SM10_r178","SM10_r179","SM10_r180","SM10_r181","SM10_r182","SM10_r183","SM10_r184","Q13","Q14","Q14_1_other","Q14a_1","Q14a_2","Q14a_3","Q14a_4","Q14a_5","Q14a_6","Q14a_7","Q14a_8","Q14a_9","Q14a_10","Q14a_11","Q14a_12","Q14a_13","Q14a_14","Q14a_15","Q14a_16","Q14a_17","Q14a_18","Q14a_19","Q14a_20","Q14a_21","Q14a_22","Q14a_21_other","Q14a_22_other","Q14b_r1_c1","Q14b_r2_c1","Q14b_r3_c1","Q14b_r4_c1","Q14b_r5_c1","Q14b_r6_c1","Q14b_r7_c1","Q14b_r8_c1","Q14b_r9_c1","Q14b_r10_c1","Q14b_r11_c1","Q14b_r12_c1","Q14b_r13_c1","Q14b_r14_c1","Q14b_r15_c1","Q14b_r16_c1","Q14b_r17_c1","Q14b_r18_c1","Q14b_r19_c1","Q14b_r20_c1","Q14b_r21_c1","Q14b_r22_c1","Q14b_r21_other","Q14b_r22_other","Q14c_1","Q14c_2","Q14c_3","Q14c_4","Q14c_5","Q14c_6","Q14c_7","Q14c_8","Q14c_9","Q14c_10","Q14c_11","Q14c_12","Q14c_13","Q14c_14","Q14c_15","Q14c_16","Q14c_17","Q14c_18","Q14c_19","Q14c_20","Q14c_21","Q14c_22","Q14c_21_other","Q14c_22_other","Q15","Q15_21_other","Q15_22_other","Q15a","Q15a_15_other","R1_r1","R1_r2","R1_r3","R1_r4","R1_r5","R1_r6","R1_r7","R1_r8","R1_r9","R1_r10","R1_r11","R1_r12","R1_r13","R1_r14","R1_r15","R1_r16","R1_r17","R1_r18","R1_r19","R1_r20","R1_r21","R1_r22","R1_r23","R1_r24","R1_r25","R1_r26","R1_r27","R1_r28","R1_r29","R1_r30","R1_r31","R1_r32","R1_r33","R1_r34","R1_r35","R1_r36","R1_r37","R1_r38","R1_r39","R1_r40","R1_r41","R1_r42","R1_r43","R1_r44","R1_r45","R1_r46","R1_r47","R1_r48","R1_r49","R1_r51","R1_r52","R1_r53","R1_r54","R1_r55","R1_r56","R1_r57","R1_r58","R1_r59","R1_r60","Q17","Q17a","Q17b","Q18","Q18a","Q19","Q20","Q21overnight_1","Q21overnight_2","Q21overnight_3","Q21overnight_4","Q21overnight_5","Q21overnight_6","Q21overnight_7","Q21overnight_8","Q21overnight_9","Q21overnight_10","Q21overnight_11","Q21overnight_12","Q21overnight_13","Q21overnight_14","Q21overnight_15","Q21overnight_16","Q21overnight_17","Q21overnight_18","Q21overnight_19","Q21overnight_20","Q21overnight_21","Q21overnight_22","Q21overnight_23","Q21overnight_24","Q21overnight_25","Q21overnight_26","Q21overnight_27","Q21overnight_28","Q21overnight_10_other","Q21overnight_11_other","Q21overnight_12_other","Q21overnight_13_other","Q21overnight_14_other","Q21overnight_15_other","Q21overnight_16_other","Q21overnight_17_other","Q21overnight_18_other","Q21other_r1_c1","Q21other_r2_c1","Q21other_r3_c1","Q21other_r4_c1","Q21other_r5_c1","Q21other_r6_c1","Q21other_r7_c1","Q21other_r8_c1","Q21other_r9_c1","Q21other_r10_c1","Q21other_r11_c1","Q21other_r12_c1","Q21other_r13_c1","Q21other_r14_c1","Q21other_r15_c1","Q21other_r16_c1","Q21other_r17_c1","Q21other_r18_c1","Q21other_r19_c1","Q21other_r20_c1","Q21other_r21_c1","Q21other_r22_c1","Q21other_r23_c1","Q21other_r24_c1","Q21other_r25_c1","Q21other_r26_c1","Q21other_r27_c1","Q21other_r28_c1","Q21other_r1_c2","Q21other_r2_c2","Q21other_r3_c2","Q21other_r4_c2","Q21other_r5_c2","Q21other_r6_c2","Q21other_r7_c2","Q21other_r8_c2","Q21other_r9_c2","Q21other_r10_c2","Q21other_r11_c2","Q21other_r12_c2","Q21other_r13_c2","Q21other_r14_c2","Q21other_r15_c2","Q21other_r16_c2","Q21other_r17_c2","Q21other_r18_c2","Q21other_r19_c2","Q21other_r20_c2","Q21other_r21_c2","Q21other_r22_c2","Q21other_r23_c2","Q21other_r24_c2","Q21other_r25_c2","Q21other_r26_c2","Q21other_r27_c2","Q21other_r28_c2","Q21other_r10_other","Q21other_r11_other","Q21other_r12_other","Q21other_r13_other","Q21other_r14_other","Q21other_r15_other","Q21other_r16_other","Q21other_r17_other","Q21other_r18_other","Q21none_1","Q21_r1_c1","Q21_r1_c2","Q21_r1_c3","Q21_r1_c4","Q21_r1_c5","Q21_r1_c6","Q21_r1_c7","Q21_r2_c1","Q21_r2_c2","Q21_r2_c3","Q21_r2_c4","Q21_r2_c5","Q21_r2_c6","Q21_r2_c7","Q21_r3_c1","Q21_r3_c2","Q21_r3_c3","Q21_r3_c4","Q21_r3_c5","Q21_r3_c6","Q21_r3_c7","Q21_r4_c1","Q21_r4_c2","Q21_r4_c3","Q21_r4_c4","Q21_r4_c5","Q21_r4_c6","Q21_r4_c7","Q21_r5_c1","Q21_r5_c2","Q21_r5_c3","Q21_r5_c4","Q21_r5_c5","Q21_r5_c6","Q21_r5_c7","Q21_r6_c1","Q21_r6_c2","Q21_r6_c3","Q21_r6_c4","Q21_r6_c5","Q21_r6_c6","Q21_r6_c7","Q21_r7_c1","Q21_r7_c2","Q21_r7_c3","Q21_r7_c4","Q21_r7_c5","Q21_r7_c6","Q21_r7_c7","Q21_r8_c1","Q21_r8_c2","Q21_r8_c3","Q21_r8_c4","Q21_r8_c5","Q21_r8_c6","Q21_r8_c7","Q21_r9_c1","Q21_r9_c2","Q21_r9_c3","Q21_r9_c4","Q21_r9_c5","Q21_r9_c6","Q21_r9_c7","Q21_r10_c1","Q21_r10_c2","Q21_r10_c3","Q21_r10_c4","Q21_r10_c5","Q21_r10_c6","Q21_r10_c7","Q21_r11_c1","Q21_r11_c2","Q21_r11_c3","Q21_r11_c4","Q21_r11_c5","Q21_r11_c6","Q21_r11_c7","Q21_r12_c1","Q21_r12_c2","Q21_r12_c3","Q21_r12_c4","Q21_r12_c5","Q21_r12_c6","Q21_r12_c7","Q21_r13_c1","Q21_r13_c2","Q21_r13_c3","Q21_r13_c4","Q21_r13_c5","Q21_r13_c6","Q21_r13_c7","Q21_r14_c1","Q21_r14_c2","Q21_r14_c3","Q21_r14_c4","Q21_r14_c5","Q21_r14_c6","Q21_r14_c7","Q21_r15_c1","Q21_r15_c2","Q21_r15_c3","Q21_r15_c4","Q21_r15_c5","Q21_r15_c6","Q21_r15_c7","Q21_r16_c1","Q21_r16_c2","Q21_r16_c3","Q21_r16_c4","Q21_r16_c5","Q21_r16_c6","Q21_r16_c7","Q21_r17_c1","Q21_r17_c2","Q21_r17_c3","Q21_r17_c4","Q21_r17_c5","Q21_r17_c6","Q21_r17_c7","Q21_r18_c1","Q21_r18_c2","Q21_r18_c3","Q21_r18_c4","Q21_r18_c5","Q21_r18_c6","Q21_r18_c7","Q22","Q22a","Q22b","Q23","Q24","Q24a_1","Q24a_2","Q24a_3","Q24a_3_other","Q25","Q25a","Q25b_r1_c1","Q25b_r2_c1","Q25b_r3_c1","Q25b_r1_c2","Q25b_r2_c2","Q25b_r3_c2","Q26","Q26a","Q26b","Q27_1","Q27_2","Q27_3","Q27_4","Q27_5","Q27_6","Q27_7","Q27_8","Q27_9","Q27_10","Q27_11","Q27_11_other","Q28_1","Q28_2","Q28_3","Q28_4","Q28_5","Q28_6","Q28_7","Q28_8","Q28_9","Q28_10","Q28_11","Q28_12","Q28_13","Q28_13_other","Q29","Q29a_1","Q29a_2","Q29a_3","Q29a_4","Q29a_5","Q29a_6","Q29a_7","Q29a_8","Q29a_9","Q29a_9_other","Q29b","Q29c","Q30_r1","Q30_r2","Q30_r3","Q30_r4","Q30_r5","Q30_r6","Q30_r7","Q31_r1","Q31_r2","Q31_r3","Q31_r4","Q31_r5","Q32_r1","Q32_r2","Q32_r3","Q32_r4","Q32_r5","Q32_r6","Q32_r7","Q32_r8","Q32_r9","Q32_r10","Q32_r11","Q32_r12","Q32_r13","Q33","Q34","Q35","Q36","Q37","Q38","Q39_1","Q39_2","Q39_3","Q39_4","Q39_5","Q39_6","Q39_7","Q40","Q41","Q41a_1","Q41a_2","Q41a_3","Q41a_4","Q41a_5","Q41a_5_other","Q42","Q42a","Q43","FF4us_EMAIL","FF4us_PHONE1","sys_StartTime","sys_EndTime","A","sys_InternalRespNum","sys_RespStatus","sys_Browser","sys_OperatingSystem","sys_IPAddress","Q14bConstructed_1","Q14bConstructed_2","Q14bConstructed_3","Q14bConstructed_4","Q14bConstructed_5","Q14bConstructed_6","Q14bConstructed_7","Q14bConstructed_8","Q14bConstructed_9","Q14bConstructed_10","Q14bConstructed_11","Q14bConstructed_12","Q14bConstructed_13","Q14bConstructed_14","Q14bConstructed_15","Q14bConstructed_16","Q14bConstructed_17","Q14bConstructed_18","Q14bConstructed_19","Q14bConstructed_20","Q14bConstructed_21","Q14bConstructed_22","Q14bConstructed_23","Q14bConstructed_24","Q15Constructed_1","Q15Constructed_2","Q15Constructed_3","Q15Constructed_4","Q15Constructed_5","Q15Constructed_6","Q15Constructed_7","Q15Constructed_8","Q15Constructed_9","Q15Constructed_10","Q15Constructed_11","Q15Constructed_12","Q15Constructed_13","Q15Constructed_14","Q15Constructed_15","Q15Constructed_16","Q15Constructed_17","Q15Constructed_18","Q15Constructed_19","Q15Constructed_20","Q15Constructed_21","Q15Constructed_22","Q15Constructed_23","Q15Constructed_24","R1activity_1","R1activity_2","R1activity_3","R1activity_4","R1activity_5","R1activity_6","R1activity_7","R1activity_8","R1activity_9","R1activity_10","R1activity_11","R1activity_12","R1activity_13","R1activity_14","R1activity_15","R1activity_16","R1activity_17","R1activity_18","R1activity_19","R1activity_20","R1activity_21","R1activity_22","R1activity_23","R1activity_24","QR1const_1","QR1const_2","QR1const_3","QR1const_4","QR1const_5","QR1const_6","QR1const_7","QR1const_8","QR1const_9","QR1const_10","QR1const_11","QR1const_12","QR1const_13","QR1const_14","QR1const_15","QR1const_16","QR1const_17","QR1const_18","QR1const_19","QR1const_20","QR1const_21","QR1const_22","QR1const_23","QR1const_24","Q2const_1","Q2const_2","Q2const_3","Q2const_4","Q2const_5","Q2const_6","Q2const_7","Q2const_8","Q2const_9","Q2const_10","Q2const_11","Q2const_12","Q2const_13","Q2const_14","Q2const_15","Q2const_16","Q2const_17","Q2const_18","Q2const_19","Q2const_20","Q2const_21","Q2const_22","Q2const_23","Q2const_24","Q2const_25","Q2const_26","Q2const_27","Q2const_28","Q2otherconst_1","Q2otherconst_2","Q2otherconst_3","Q2otherconst_4","Q2otherconst_5","Q2otherconst_6","Q2otherconst_7","Q2otherconst_8","Q2otherconst_9","Q2otherconst_10","Q2otherconst_11","Q2otherconst_12","Q2otherconst_13","Q2otherconst_14","Q2otherconst_15","Q2otherconst_16","Q2otherconst_17","Q2otherconst_18","Q2otherconst_19","Q2otherconst_20","Q2otherconst_21","Q2otherconst_22","Q2otherconst_23","Q2otherconst_24","Q2otherconst_25","Q2otherconst_26","Q2otherconst_27","Q2otherconst_28","Q3newConst_1","Q3newConst_2","Q3newConst_3","Q3newConst_4","Q3newConst_5","Q3newConst_6","Q3newConst_7","Q3newConst_8","Q3newConst_9","Q3newConst_10","Q3newConst_11","Q3newConst_12","Q3newConst_13","Q3newConst_14","Q3newConst_15","Q3newConst_16","Q3newConst_17","Q3newConst_18"]
[1664,10011,1,"ce",2,null,null,null,null,null,null,null,null,null,null,null,null,null,null,null,null,null,null,null,null,null,null,null,null,null,null,null,null,null,null,null,null,null,null,null,null,null,null,null,null,null,null,null,null,null,null,null,null,null,null,null,null,null,null,null,null,null,null,null,null,null,null,null,null,null,null,null,null,null,null,null,null,null,null,null,null,null,null,null,null,null,null,null,null,null,null,null,null,null,null,null,null,null,null,null,null,null,null,null,null,null,null,null,null,null,null,null,null,null,null,null,null,null,null,null,null,null,null,null,null,null,null,null,null,null,null,null,null,null,null,null,null,null,null,null,null,null,null,null,null,null,null,null,null,null,null,null,null,null,null,null,null,null,null,null,null,null,null,null,null,null,null,null,null,null,null,null,null,null,null,null,null,null,null,null,null,null,null,null,null,null,null,null,null,null,null,null,null,null,null,null,null,null,null,null,null,null,null,null,null,null,null,null,null,null,null,null,null,null,null,null,null,null,null,null,null,null,null,null,null,null,null,null,null,null,null,null,null,null,null,null,null,null,null,null,null,null,null,null,null,null,null,null,null,null,null,null,null,null,null,null,null,null,null,null,null,null,null,null,null,null,null,null,null,null,null,null,null,null,null,null,null,null,null,null,null,null,null,null,null,null,null,null,null,null,null,null,null,null,null,null,null,null,null,null,null,null,null,null,null,null,null,null,null,null,null,null,null,null,null,null,null,null,null,null,null,null,null,null,null,null,null,null,null,null,null,null,null,null,null,null,null,null,null,null,null,null,null,null,null,null,null,null,null,null,null,null,null,null,null,null,null,null,null,null,null,null,null,null,null,null,null,null,null,null,null,null,null,null,null,null,null,null,null,null,null,null,null,null,null,null,null,null,null,null,null,null,null,null,null,null,null,null,null,null,null,null,null,null,null,null,null,null,null,null,null,null,null,null,null,null,null,null,null,null,null,null,null,null,null,null,null,null,null,null,null,null,null,null,null,null,null,null,null,null,null,null,null,null,null,null,null,null,null,null,null,null,null,null,null,null,null,null,null,null,null,null,null,null,null,null,null,null,null,null,null,null,null,null,null,null,null,null,null,null,null,null,null,null,null,null,null,null,null,null,null,null,null,null,null,null,null,null,null,null,null,null,null,null,null,null,null,null,null,null,null,null,null,null,null,null,null,null,null,null,null,null,null,null,null,null,null,null,null,null,null,null,null,null,null,null,null,null,null,null,null,null,null,null,null,null,null,null,null,null,null,null,null,null,null,null,null,null,null,null,null,null,null,null,null,null,null,null,null,null,null,null,null,null,null,null,null,null,null,null,null,null,null,null,null,null,null,null,null,null,null,null,null,null,null,null,null,null,null,null,null,null,null,null,null,null,null,null,null,null,null,null,null,null,null,null,null,null,null,null,null,null,null,null,null,null,null,null,null,null,null,null,null,null,null,null,null,null,null,null,null,null,null,null,null,null,null,null,null,null,null,null,null,null,null,null,null,null,null,null,null,null,null,null,null,null,null,null,null,null,null,null,null,null,null,null,null,null,null,null,null,null,null,null,null,null,null,null,null,null,null,null,null,null,null,null,null,null,null,null,null,null,null,null,null,null,null,null,null,null,null,null,null,null,null,null,null,null,null,null,null,null,null,null,null,null,null,null,null,null,null,null,null,null,null,null,null,null,null,null,null,null,null,null,null,null,null,null,null,null,null,null,null,null,null,null,null,null,null,null,null,null,null,null,null,null,null,null,null,null,null,null,null,null,null,null,null,null,null,null,null,null,null,null,null,null,null,null,null,null,null,null,null,null,null,null,null,null,null,null,null,null,null,null,null,null,null,null,null,null,null,null,null,null,null,null,null,null,null,null,null,null,null,null,null,null,null,null,null,null,null,null,null,null,null,null,null,null,null,null,null,null,null,null,null,null,null,null,null,null,null,null,null,null,null,null,null,null,null,null,null,null,null,null,null,null,null,null,null,null,null,null,null,null,null,null,null,null,null,null,null,null,null,null,null,null,null,null,null,null,null,null,null,null,null,null,null,null,null,null,null,null,null,null,null,null,null,null,null,null,null,null,null,null,null,null,null,null,null,null,null,null,null,null,null,null,null,null,null,null,null,null,null,null,null,null,null,null,null,null,null,null,null,null,null,null,null,null,null,null,null,null,null,null,null,null,null,null,null,null,null,null,null,null,null,null,null,null,null,null,null,null,null,null,null,null,null,null,null,null,null,null,null,null,null,null,null,null,null,null,null,null,null,null,null,null,null,null,null,null,null,null,null,null,null,null,null,null,null,null,null,null,null,null,null,null,null,null,null,null,null,null,null,null,null,null,null,null,null,null,null,null,null,null,null,null,null,null,null,null,null,null,null,null,null,null,null,null,null,null,null,null,null,null,null,null,null,null,null,null,null,null,null,null,null,null,null,null,null,null,null,null,null,null,null,null,null,null,null,null,null,null,null,null,null,null,null,null,null,null,null,null,null,null,null,null,null,null,null,null,null,null,null,null,null,null,null,null,null,null,null,null,null,null,null,null,null,null,null,null,null,null,null,null,null,null,null,null,null,null,null,null,null,null,null,null,null,null,null,null,null,null,null,null,null,null,null,null,null,null,null,null,null,null,null,null,null,null,null,null,null,null,null,null,null,null,null,null,null,null,null,null,null,null,null,null,null,null,null,null,null,null,null,null,null,null,null,null,null,null,null,null,null,null,null,null,null,null,null,null,null,null,null,null,null,null,null,null,null,null,null,null,null,null,null,null,null,null,null,null,null,null,null,null,null,null,null,null,null,null,null,null,null,null,null,null,null,null,null,null,null,null,null,null,null,null,null,null,null,null,null,null,null,null,null,null,null,null,null,null,null,null,null,null,null,null,null,null,null,null,null,null,null,null,null,null,null,null,null,null,null,null,null,null,null,null,null,null,null,null,null,null,null,null,null,null,null,null,null,null,null,null,null,null,null,null,null,null,null,null,null,null,null,null,null,null,null,null,null,null,null,null,null,null,null,null,null,null,null,null,null,null,null,null,null,null,null,null,null,null,null,null,null,null,null,null,null,null,null,null,null,null,null,null,null,null,null,null,null,null,null,null,null,null,null,null,null,null,null,null,null,null,null,null,null,null,null,null,null,null,null,null,null,null,null,null,null,null,null,null,null,null,null,null,null,null,null,null,null,null,null,null,null,null,null,null,null,null,null,null,null,null,null,null,null,null,null,null,null,null,null,null,null,null,null,null,null,null,null,null,null,null,null,null,null,null,null,null,null,null,null,null,null,null,null,null,null,null,null,null,null,null,null,null,null,null,null,null,null,null,null,null,null,null,null,null,null,null,null,null,null,null,null,null,null,null,null,null,null,null,null,null,null,null,null,null,null,null,null,null,null,null,null,null,null,null,null,null,null,null,null,null,null,null,null,null,null,null,null,null,null,null,null,null,null,null,null,null,null,null,null,null,null,null,null,null,null,null,null,null,null,null,null,null,null,null,null,null,null,null,null,null,null,null,null,null,null,null,null,null,null,null,null,null,null,null,null,null,null,null,null,null,null,null,null,null,null,null,null,null,null,null,null,null,null,null,null,null,null,null,null,null,null,null,null,null,null,null,null,null,null,null,null,null,null,null,null,null,null,null,null,null,null,null,null,null,null,null,null,null,null,null,null,null,null,null,null,null,null,null,null,null,null,null,null,null,null,null,null,null,null,null,null,null,null,null,null,null,null,null,null,null,null,null,null,null,null,null,null,null,null,null,null,null,null,null,null,null,null,null,null,null,null,null,null,null,null,null,null,null,null,null,null,null,null,null,null,null,null,null,null,null,null,null,null,null,null,null,null,null,null,null,null,null,null,null,null,null,null,null,null,null,null,null,null,null,null,null,null,null,null,null,null,null,null,null,null,null,null,null,null,null,null,null,null,null,null,null,null,null,null,null,null,null,null,null,null,null,null,null,null,null,null,null,null,null,null,null,null,null,null,null,null,null,null,null,null,null,null,null,null,null,null,null,null,null,null,null,null,null,null,null,null,null,null,null,null,null,null,null,null,null,null,null,null,null,null,null,null,null,null,null,null,null,null,null,null,null,null,null,null,null,null,null,null,null,null,null,null,null,null,null,null,null,null,null,null,null,null,null,null,null,null,null,null,null,null,null,null,null,null,null,null,null,null,null,null,null,null,null,null,null,null,null,null,null,null,null,null,null,null,null,null,null,null,null,null,null,null,null,null,null,null,null,null,null,null,null,null,null,null,null,null,null,null,null,null,2,2,null,null,null,null,null,null,null,null,null,null,null,null,null,null,null,null,null,null,null,null,null,null,null,null,null,null,null,null,null,null,null,null,null,null,null,null,null,null,null,null,null,null,null,null,null,null,null,null,null,null,null,null,null,null,null,null,null,null,null,null,null,null,null,null,null,null,null,null,null,null,null,null,null,null,null,null,null,null,null,null,null,null,null,null,null,null,null,null,null,null,null,null,null,null,null,null,null,null,null,null,null,null,null,null,null,null,null,null,null,null,null,null,null,null,null,null,null,null,null,null,null,null,null,null,null,null,null,null,null,null,null,null,null,null,null,null,null,null,null,null,null,null,null,null,null,null,null,null,null,null,null,null,null,null,null,null,null,null,null,null,null,null,null,null,null,null,null,null,null,null,null,null,null,null,null,null,null,null,null,null,null,null,null,null,null,null,null,null,null,null,null,null,null,null,null,null,null,null,null,null,null,null,null,null,null,null,null,null,null,null,null,null,null,null,null,null,null,null,null,null,null,null,null,null,null,null,null,null,null,null,null,null,null,null,null,null,null,null,null,null,null,null,null,null,null,null,null,null,null,null,null,null,null,null,null,null,null,null,null,null,null,null,null,null,null,null,null,null,null,null,null,null,null,null,null,null,null,null,null,null,null,null,null,null,null,null,null,null,null,null,null,null,null,null,null,null,null,null,null,null,null,null,null,null,null,null,null,null,null,null,null,null,null,null,null,null,null,null,null,null,null,null,null,null,null,null,null,null,null,null,null,null,null,null,null,null,null,null,null,null,null,null,null,null,null,null,null,null,null,null,null,null,null,null,null,null,null,null,null,null,null,null,null,null,null,null,null,null,null,null,null,null,null,null,null,null,null,null,null,null,null,null,null,null,null,null,null,null,null,null,null,null,null,null,null,null,null,null,null,null,null,null,null,null,null,null,null,null,null,null,null,null,null,null,null,null,null,null,null,null,null,null,null,null,null,null,null,null,null,null,null,null,null,null,null,null,null,null,null,null,null,null,null,null,null,null,null,null,null,null,null,null,null,null,null,null,null,48,1,1,2,2,null,0,0,0,0,0,0,0,7,2,null,null,null,null,null,null,2,null,1,"clark9310@aol.com",null,"2014-01-15T03:50:00","2014-01-15T03:51:00",null,15214,5,"Firefox 23.0","Windows XP","209.112.172.118"]
[338,10171,2,null,2,null,null,null,null,null,null,null,null,null,null,null,null,null,null,null,null,null,null,null,null,null,null,null,null,null,null,null,null,null,null,null,null,null,null,null,null,null,null,null,null,null,null,null,null,null,null,null,null,null,null,null,null,null,null,null,null,null,null,null,null,null,null,null,null,null,null,null,null,null,null,null,null,null,null,null,null,null,null,null,null,null,null,null,null,null,null,null,null,null,null,null,null,null,null,null,null,null,null,null,null,null,null,null,null,null,null,null,null,null,null,null,null,null,null,null,null,null,null,null,null,null,null,null,null,null,null,null,null,null,null,null,null,null,null,null,null,null,null,null,null,null,null,null,null,null,null,null,null,null,null,null,null,null,null,null,null,null,null,null,null,null,null,null,null,null,null,null,null,null,null,null,null,null,null,null,null,null,null,null,null,null,null,null,null,null,null,null,null,null,null,null,null,null,null,null,null,null,null,null,null,null,null,null,null,null,null,null,null,null,null,null,null,null,null,null,null,null,null,null,null,null,null,null,null,null,null,null,null,null,null,null,null,null,null,null,null,null,null,null,null,null,null,null,null,null,null,null,null,null,null,null,null,null,null,null,null,null,null,null,null,null,null,null,null,null,null,null,null,null,null,null,null,null,null,null,null,null,null,null,null,null,null,null,null,null,null,null,null,null,null,null,null,null,null,null,null,null,null,null,null,null,null,null,null,null,null,null,null,null,null,null,null,null,null,null,null,null,null,null,null,null,null,null,null,null,null,null,null,null,null,null,null,null,null,null,null,null,null,null,null,null,null,null,null,null,null,null,null,null,null,null,null,null,null,null,null,null,null,null,null,null,null,null,null,null,null,null,null,null,null,null,null,null,null,null,null,null,null,null,null,null,null,null,null,null,null,null,null,null,null,null,null,null,null,null,null,null,null,null,null,null,null,null,null,null,null,null,null,null,null,null,null,null,null,null,null,null,null,null,null,null,null,null,null,null,null,null,null,null,null,null,null,null,null,null,null,null,null,null,null,null,null,null,null,null,null,null,null,null,null,null,null,null,null,null,null,null,null,null,null,null,null,null,null,null,null,null,null,null,null,null,null,null,null,null,null,null,null,null,null,null,null,null,null,null,null,null,null,null,null,null,null,null,null,null,null,null,null,null,null,null,null,null,null,null,null,null,null,null,null,null,null,null,null,null,null,null,null,null,null,null,null,null,null,null,null,null,null,null,null,null,null,null,null,null,null,null,null,null,null,null,null,null,null,null,null,null,null,null,null,null,null,null,null,null,null,null,null,null,null,null,null,null,null,null,null,null,null,null,null,null,null,null,null,null,null,null,null,null,null,null,null,null,null,null,null,null,null,null,null,null,null,null,null,null,null,null,null,null,null,null,null,null,null,null,null,null,null,null,null,null,null,null,null,null,null,null,null,null,null,null,null,null,null,null,null,null,null,null,null,null,null,null,null,null,null,null,null,null,null,null,null,null,null,null,null,null,null,null,null,null,null,null,null,null,null,null,null,null,null,null,null,null,null,null,null,null,null,null,null,null,null,null,null,null,null,null,null,null,null,null,null,null,null,null,null,null,null,null,null,null,null,null,null,null,null,null,null,null,null,null,null,null,null,null,null,null,null,null,null,null,null,null,null,null,null,null,null,null,null,null,null,null,null,null,null,null,null,null,null,null,null,null,null,null,null,null,null,null,null,null,null,null,null,null,null,null,null,null,null,null,null,null,null,null,null,null,null,null,null,null,null,null,null,null,null,null,null,null,null,null,null,null,null,null,null,null,null,null,null,null,null,null,null,null,null,null,null,null,null,null,null,null,null,null,null,null,null,null,null,null,null,null,null,null,null,null,null,null,null,null,null,null,null,null,null,null,null,null,null,null,null,null,null,null,null,null,null,null,null,null,null,null,null,null,null,null,null,null,null,null,null,null,null,null,null,null,null,null,null,null,null,null,null,null,null,null,null,null,null,null,null,null,null,null,null,null,null,null,null,null,null,null,null,null,null,null,null,null,null,null,null,null,null,null,null,null,null,null,null,null,null,null,null,null,null,null,null,null,null,null,null,null,null,null,null,null,null,null,null,null,null,null,null,null,null,null,null,null,null,null,null,null,null,null,null,null,null,null,null,null,null,null,null,null,null,null,null,null,null,null,null,null,null,null,null,null,null,null,null,null,null,null,null,null,null,null,null,null,null,null,null,null,null,null,null,null,null,null,null,null,null,null,null,null,null,null,null,null,null,null,null,null,null,null,null,null,null,null,null,null,null,null,null,null,null,null,null,null,null,null,null,null,null,null,null,null,null,null,null,null,null,null,null,null,null,null,null,null,null,null,null,null,null,null,null,null,null,null,null,null,null,null,null,null,null,null,null,null,null,null,null,null,null,null,null,null,null,null,null,null,null,null,null,null,null,null,null,null,null,null,null,null,null,null,null,null,null,null,null,null,null,null,null,null,null,null,null,null,null,null,null,null,null,null,null,null,null,null,null,null,null,null,null,null,null,null,null,null,null,null,null,null,null,null,null,null,null,null,null,null,null,null,null,null,null,null,null,null,null,null,null,null,null,null,null,null,null,null,null,null,null,null,null,null,null,null,null,null,null,null,null,null,null,null,null,null,null,null,null,null,null,null,null,null,null,null,null,null,null,null,null,null,null,null,null,null,null,null,null,null,null,null,null,null,null,null,null,null,null,null,null,null,null,null,null,null,null,null,null,null,null,null,null,null,null,null,null,null,null,null,null,null,null,null,null,null,null,null,null,null,null,null,null,null,null,null,null,null,null,null,null,null,null,null,null,null,null,null,null,null,null,null,null,null,null,null,null,null,null,null,null,null,null,null,null,null,null,null,null,null,null,null,null,null,null,null,null,null,null,null,null,null,null,null,null,null,null,null,null,null,null,null,null,null,null,null,null,null,null,null,null,null,null,null,null,null,null,null,null,null,null,null,null,null,null,null,null,null,null,null,null,null,null,null,null,null,null,null,null,null,null,null,null,null,null,null,null,null,null,null,null,null,null,null,null,null,null,null,null,null,null,null,null,null,null,null,null,null,null,null,null,null,null,null,null,null,null,null,null,null,null,null,null,null,null,null,null,null,null,null,null,null,null,null,null,null,null,null,null,null,null,null,null,null,null,null,null,null,null,null,null,null,null,null,null,null,null,null,null,null,null,null,null,null,null,null,null,null,null,null,null,null,null,null,null,null,null,null,null,null,null,null,null,null,null,null,null,null,null,null,null,null,null,null,null,null,null,null,null,null,null,null,null,null,null,null,null,null,null,null,null,null,null,null,null,null,null,null,null,null,null,null,null,null,null,null,null,null,null,null,null,null,null,null,null,null,null,null,null,null,null,null,null,null,null,null,null,null,null,null,null,null,null,null,null,null,null,null,null,null,null,null,null,null,null,null,null,null,null,null,null,null,null,null,null,null,null,null,null,null,null,null,null,null,null,null,null,null,null,null,null,null,null,null,null,null,null,null,null,null,null,null,null,null,null,null,null,null,null,null,null,null,null,null,null,null,null,null,null,null,null,null,null,null,null,null,null,null,null,null,null,null,null,null,null,null,null,null,null,null,null,null,null,null,null,null,null,null,null,null,null,null,null,null,null,null,null,null,null,null,null,null,null,null,null,null,null,null,null,null,null,null,null,null,null,null,null,null,null,null,null,null,null,null,null,null,null,null,null,null,null,null,null,null,null,null,null,null,null,null,null,null,null,null,null,null,null,null,null,null,null,null,null,null,null,null,null,null,null,null,null,null,null,null,null,null,null,null,null,null,null,null,null,null,null,null,null,null,null,null,null,null,null,null,null,null,null,null,null,null,null,null,null,null,null,null,null,null,null,null,null,null,null,null,null,null,null,null,null,null,null,null,null,null,null,null,null,null,null,null,null,null,null,null,null,null,null,null,null,null,null,null,null,null,null,null,null,null,null,null,null,null,null,null,null,null,null,null,null,null,null,null,null,null,null,null,null,null,null,null,null,null,null,null,null,null,null,null,null,null,null,null,null,null,null,null,null,null,null,null,null,null,null,null,null,null,null,null,null,null,null,null,null,null,null,null,null,null,null,null,null,null,null,null,null,null,null,null,null,null,null,null,null,null,null,null,null,null,null,null,null,null,null,null,null,null,null,null,null,null,null,null,null,null,null,null,null,null,null,null,null,null,null,null,null,null,null,null,null,null,null,null,null,null,null,null,null,null,null,null,null,null,null,null,null,null,null,null,null,null,null,null,null,null,null,null,null,null,null,null,null,2,2,null,null,null,null,null,null,null,null,null,null,null,null,null,null,null,null,null,null,null,null,null,null,null,null,null,null,null,null,null,null,null,null,null,null,null,null,null,null,null,null,null,null,null,null,null,null,null,null,null,null,null,null,null,null,null,null,null,null,null,null,null,null,null,null,null,null,null,null,null,null,null,null,null,null,null,null,null,null,null,null,null,null,null,null,null,null,null,null,null,null,null,null,null,null,null,null,null,null,null,null,null,null,null,null,null,null,null,null,null,null,null,null,null,null,null,null,null,null,null,null,null,null,null,null,null,null,null,null,null,null,null,null,null,null,null,null,null,null,null,null,null,null,null,null,null,null,null,null,null,null,null,null,null,null,null,null,null,null,null,null,null,null,null,null,null,null,null,null,null,null,null,null,null,null,null,null,null,null,null,null,null,null,null,null,null,null,null,null,null,null,null,null,null,null,null,null,null,null,null,null,null,null,null,null,null,null,null,null,null,null,null,null,null,null,null,null,null,null,null,null,null,null,null,null,null,null,null,null,null,null,null,null,null,null,null,null,null,null,null,null,null,null,null,null,null,null,null,null,null,null,null,null,null,null,null,null,null,null,null,null,null,null,null,null,null,null,null,null,null,null,null,null,null,null,null,null,null,null,null,null,null,null,null,null,null,null,null,null,null,null,null,null,null,null,null,null,null,null,null,null,null,null,null,null,null,null,null,null,null,null,null,null,null,null,null,null,null,null,null,null,null,null,null,null,null,null,null,null,null,null,null,null,null,null,null,null,null,null,null,null,null,null,null,null,null,null,null,null,null,null,null,null,null,null,null,null,null,null,null,null,null,null,null,null,null,null,null,null,null,null,null,null,null,null,null,null,null,null,null,null,null,null,null,null,null,null,null,null,null,null,null,null,null,null,null,null,null,null,null,null,null,null,null,null,null,null,null,null,null,null,null,null,null,null,null,null,null,null,null,null,null,null,null,null,null,null,null,null,null,null,null,null,null,null,null,null,null,null,null,null,null,null,null,null,null,null,null,null,null,null,null,null,null,null,null,null,null,49,2,2,1,2,1,1,0,0,0,0,0,0,4,2,null,null,null,null,null,null,2,null,2,null,null,"2013-11-23T22:20:00","2013-11-23T22:25:00",null,802,5,"Chrome 31.0.1650.57","Windows NT 6.3","66.58.135.85"]
[272,10256,2,null,1,1,null,null,null,null,null,null,null,null,null,null,null,null,null,null,null,null,null,null,null,null,null,null,null,null,null,null,null,null,null,null,null,null,null,null,null,null,null,null,null,null,null,null,null,null,null,null,null,null,null,null,null,null,null,null,null,null,null,null,null,null,null,null,null,null,null,null,null,null,null,null,null,null,null,null,null,null,null,null,null,null,null,null,null,null,null,null,null,null,null,null,null,null,null,null,null,null,null,null,null,null,null,null,null,null,null,null,null,null,null,null,null,null,null,null,null,null,null,null,null,null,null,null,null,null,null,null,null,null,null,null,null,null,null,null,null,null,null,null,null,null,null,null,null,null,null,null,null,null,null,null,null,null,null,null,null,null,null,null,null,null,null,null,null,null,null,null,null,null,null,null,null,null,null,null,null,null,null,null,null,null,null,null,null,null,null,null,null,null,null,null,null,null,null,null,null,null,null,null,null,null,null,null,null,null,null,null,null,null,null,null,null,null,null,null,null,null,null,null,null,null,null,null,null,null,null,null,null,null,null,null,null,null,null,null,null,null,null,null,null,null,null,null,null,null,null,null,null,null,null,null,null,null,null,null,null,null,null,null,null,null,null,null,null,null,null,null,null,null,null,null,null,null,null,null,null,null,null,null,null,null,null,null,null,null,null,null,null,null,null,null,null,null,null,null,null,null,null,null,null,null,null,null,null,null,null,null,null,null,null,null,null,null,null,null,null,null,null,null,null,null,null,null,null,null,null,null,null,null,null,null,null,null,null,null,null,null,null,null,null,null,null,null,null,null,null,null,null,null,null,null,null,null,null,null,null,null,null,null,null,null,null,null,null,null,null,null,null,null,null,null,null,null,null,null,null,null,null,null,null,null,null,null,null,null,null,null,null,null,null,null,null,null,null,null,null,null,null,null,null,null,null,null,null,null,null,null,null,null,null,null,null,null,null,null,null,null,null,null,null,null,null,null,null,null,null,null,null,null,null,null,null,null,null,null,null,null,null,null,null,null,null,null,null,null,null,null,null,null,null,null,null,null,null,null,null,null,null,null,null,null,null,null,null,null,null,null,null,null,null,null,null,null,null,null,null,null,null,null,null,null,null,null,null,null,null,null,null,null,null,null,null,null,null,null,null,null,null,null,null,null,null,null,null,null,null,null,null,null,null,null,null,null,null,null,null,null,null,null,null,null,null,null,null,null,null,null,null,null,null,null,null,null,null,null,null,null,null,null,null,null,null,null,null,null,null,null,null,null,null,null,null,null,null,null,null,null,null,null,null,null,null,null,null,null,null,null,null,null,null,null,null,null,null,null,null,null,null,null,null,null,null,null,null,null,null,null,null,null,null,null,null,null,null,null,null,null,null,null,null,null,null,null,null,null,null,null,null,null,null,null,null,null,null,null,null,null,null,null,null,null,null,null,null,null,null,null,null,null,null,null,null,null,null,null,null,null,null,null,null,null,null,null,null,null,null,null,null,null,null,null,null,null,null,null,null,null,null,null,null,null,null,null,null,null,null,null,null,null,null,null,null,null,null,null,null,null,null,null,null,null,null,null,null,null,null,null,null,null,null,null,null,null,null,null,null,null,null,null,null,null,null,null,null,null,null,null,null,null,null,null,null,null,null,null,null,null,null,null,null,null,null,null,null,null,null,null,null,null,null,null,null,null,null,null,null,null,null,null,null,null,null,null,null,null,null,null,null,null,null,null,null,null,null,null,null,null,null,null,null,null,null,null,null,null,null,null,null,null,null,null,null,null,null,null,null,null,null,null,null,null,null,null,null,null,null,null,null,null,null,null,null,null,null,null,null,null,null,null,null,null,null,null,null,null,null,null,null,null,null,null,null,null,null,null,null,null,null,null,null,null,null,null,null,null,null,null,null,null,null,null,null,null,null,null,null,null,null,null,null,null,null,null,null,null,null,null,null,null,null,null,null,null,null,null,null,null,null,null,null,null,null,null,null,null,null,null,null,null,null,null,null,null,null,null,null,null,null,null,null,null,null,null,null,null,null,null,null,null,null,null,null,null,null,null,null,null,null,null,null,null,null,null,null,null,null,null,null,null,null,null,null,null,null,null,null,null,null,null,null,null,null,null,null,null,null,null,null,null,null,null,null,null,null,null,null,null,null,null,null,null,null,null,null,null,null,null,null,null,null,null,null,null,null,null,null,null,null,null,null,null,null,null,null,null,null,null,null,null,null,null,null,null,null,null,null,null,null,null,null,null,null,null,null,null,null,null,null,null,null,null,null,null,null,null,null,null,null,null,null,null,null,null,null,null,null,null,null,null,null,null,null,null,null,null,null,null,null,null,null,null,null,null,null,null,null,null,null,null,null,null,null,null,null,null,null,null,null,null,null,null,null,null,null,null,null,null,null,null,null,null,null,null,null,null,null,null,null,null,null,null,null,null,null,null,null,null,null,null,null,null,null,null,null,null,null,null,null,null,null,null,null,null,null,null,null,null,null,null,null,null,null,null,null,null,null,null,null,null,null,null,null,null,null,null,null,null,null,null,null,null,null,null,null,null,null,null,null,null,null,null,null,null,null,null,null,null,null,null,null,null,null,null,null,null,null,null,null,null,null,null,null,null,null,null,null,null,null,null,null,null,null,null,null,null,null,null,null,null,null,null,null,null,null,null,null,null,null,null,null,null,null,null,null,null,null,null,null,null,null,null,null,null,null,null,null,null,null,null,null,null,null,null,null,null,null,null,null,null,null,null,null,null,null,null,null,null,null,null,null,null,null,null,null,null,null,null,null,null,null,null,null,null,null,null,null,null,null,null,null,null,null,null,null,null,null,null,null,null,null,null,null,null,null,null,null,null,null,null,null,null,null,null,null,null,null,null,null,null,null,null,null,null,null,null,null,null,null,null,null,null,null,null,null,null,null,null,null,null,null,null,null,null,null,null,null,null,null,null,null,null,null,null,null,null,null,null,null,null,null,null,null,null,null,null,null,null,null,null,null,null,null,null,null,null,null,null,null,null,null,null,null,null,null,null,null,null,null,null,null,null,null,null,null,null,null,null,null,null,null,null,null,null,null,null,null,null,null,null,null,null,null,null,null,null,null,null,null,null,null,null,null,null,null,null,null,null,null,null,null,null,null,null,null,null,null,null,null,null,null,null,null,null,null,null,null,null,null,null,null,null,null,null,null,null,null,null,null,null,null,null,null,null,null,null,null,null,null,null,null,null,null,null,null,null,null,null,null,null,null,null,null,null,null,null,null,null,null,null,null,null,null,null,null,null,null,null,null,null,null,null,null,null,null,null,null,null,null,null,null,null,null,null,null,null,null,null,null,null,null,null,null,null,null,null,null,null,null,null,null,null,null,null,null,null,null,null,null,null,null,null,null,null,null,null,null,null,null,null,null,null,null,null,null,null,null,null,null,null,null,null,null,null,null,null,null,null,null,null,null,null,null,null,null,null,null,null,null,null,null,null,null,null,null,null,null,null,null,null,null,null,null,null,null,null,null,null,null,null,null,null,null,null,null,null,null,null,null,null,null,null,null,null,null,null,null,null,null,null,null,null,null,null,null,null,null,null,null,null,null,null,null,null,null,null,null,null,null,null,null,null,null,null,null,null,null,null,null,null,null,null,null,null,null,null,null,null,null,null,null,null,null,null,null,null,null,null,null,null,null,null,null,null,null,null,null,null,null,null,null,null,null,null,null,null,null,null,null,null,null,null,null,null,null,null,null,null,null,null,null,null,null,null,null,null,null,null,null,null,null,null,null,null,null,null,null,null,null,null,null,null,null,null,null,null,null,null,null,null,null,null,null,null,null,null,null,null,null,null,null,null,null,null,null,null,null,null,null,null,null,null,null,null,null,null,null,null,null,null,null,null,null,null,null,null,null,null,null,null,null,null,null,null,null,null,null,null,null,null,null,null,null,null,null,null,null,null,null,null,null,null,null,null,null,null,null,null,null,null,null,null,null,null,null,null,null,null,null,null,null,null,null,null,null,null,null,null,null,null,null,null,null,null,null,null,null,null,null,null,null,null,null,null,null,null,null,null,null,null,null,null,null,null,null,null,null,null,null,null,null,null,null,null,null,null,null,null,null,null,null,null,null,null,null,null,null,null,null,null,null,null,null,null,null,null,null,null,null,null,null,null,null,null,null,null,null,null,null,null,null,null,null,null,null,null,null,null,null,null,null,null,null,null,null,null,null,null,null,null,null,null,null,null,null,null,null,null,null,null,null,null,null,null,null,null,null,null,null,null,null,null,null,2,2,null,null,null,null,null,null,null,null,null,null,null,null,null,null,null,null,null,null,null,null,null,null,null,null,null,null,null,null,null,null,null,null,null,null,null,null,null,null,null,null,null,null,null,null,null,null,null,null,null,null,null,null,null,null,null,null,null,null,null,null,null,null,null,null,null,null,null,null,null,null,null,null,null,null,null,null,null,null,null,null,null,null,null,null,null,null,null,null,null,null,null,null,null,null,null,null,null,null,null,null,null,null,null,null,null,null,null,null,null,null,null,null,null,null,null,null,null,null,null,null,null,null,null,null,null,null,null,null,null,null,null,null,null,null,null,null,null,null,null,null,null,null,null,null,null,null,null,null,null,null,null,null,null,null,null,null,null,null,null,null,null,null,null,null,null,null,null,null,null,null,null,null,null,null,null,null,null,null,null,null,null,null,null,null,null,null,null,null,null,null,null,null,null,null,null,null,null,null,null,null,null,null,null,null,null,null,null,null,null,null,null,null,null,null,null,null,null,null,null,null,null,null,null,null,null,null,null,null,null,null,null,null,null,null,null,null,null,null,null,null,null,null,null,null,null,null,null,null,null,null,null,null,null,null,null,null,null,null,null,null,null,null,null,null,null,null,null,null,null,null,null,null,null,null,null,null,null,null,null,null,null,null,null,null,null,null,null,null,null,null,null,null,null,null,null,null,null,null,null,null,null,null,null,null,null,null,null,null,null,null,null,null,null,null,null,null,null,null,null,null,null,null,null,null,null,null,null,null,null,null,null,null,null,null,null,null,null,null,null,null,null,null,null,null,null,null,null,null,null,null,null,null,null,null,null,null,null,null,null,null,null,null,null,null,null,null,null,null,null,null,null,null,null,null,null,null,null,null,null,null,null,null,null,null,null,null,null,null,null,null,null,null,null,null,null,null,null,null,null,null,null,null,null,null,null,null,null,null,null,null,null,null,null,null,null,null,null,null,null,null,null,null,null,null,null,null,null,null,null,null,null,null,null,null,null,null,null,null,null,null,null,null,null,null,null,null,null,null,null,null,null,null,null,null,null,null,null,59,1,1,4,1,5,1,0,0,0,0,0,0,6,2,null,null,null,null,null,null,2,null,1,"leejenkins.cpa@gmail.com","907-360-2459","2013-11-29T18:14:00","2013-11-29T18:22:00",null,841,5,"Chrome 31.0.1650.57","Windows NT 6.1","24.237.41.239"]
[628,10591,1,"ce",null,0,null,null,null,null,null,null,null,null,null,null,null,null,null,null,null,null,null,null,null,null,null,null,null,null,null,null,null,null,null,null,null,null,null,null,null,null,null,null,null,null,null,null,null,null,null,null,null,null,null,null,null,null,null,null,null,null,null,null,null,null,null,null,null,null,null,null,null,null,null,null,null,null,null,null,null,null,null,null,null,null,null,null,null,null,null,null,null,null,null,null,null,null,null,null,null,null,null,null,null,null,null,null,null,null,null,null,null,null,null,null,null,null,null,null,null,null,null,null,null,null,null,null,null,null,null,null,null,null,null,null,null,null,null,null,null,null,null,null,null,null,null,null,null,null,null,null,null,null,null,null,null,null,null,null,null,null,null,null,null,null,null,null,null,null,null,null,null,null,null,null,null,null,null,null,null,null,null,null,null,null,null,null,null,null,null,null,null,null,null,null,null,null,null,null,null,null,null,null,null,null,null,null,null,null,null,null,null,null,null,null,null,null,null,null,null,null,null,null,null,null,null,null,null,null,null,null,null,null,null,null,null,null,null,null,null,null,null,null,null,null,null,null,null,null,null,null,null,null,null,null,null,null,null,null,null,null,null,null,null,null,null,null,null,null,null,null,null,null,null,null,null,null,null,null,null,null,null,null,null,null,null,null,null,null,null,null,null,null,null,null,null,null,null,null,null,null,null,null,null,null,null,null,null,null,null,null,null,null,null,null,null,null,null,null,null,null,null,null,null,null,null,null,null,null,null,null,null,null,null,null,null,null,null,null,null,null,null,null,null,null,null,null,null,null,null,null,null,null,null,null,null,null,null,null,null,null,null,null,null,null,null,null,null,null,null,null,null,null,null,null,null,null,null,null,null,null,null,null,null,null,null,null,null,null,null,null,null,null,null,null,null,null,null,null,null,null,null,null,null,null,null,null,null,null,null,null,null,null,null,null,null,null,null,null,null,null,null,null,null,null,null,null,null,null,null,null,null,null,null,null,null,null,null,null,null,null,null,null,null,null,null,null,null,null,null,null,null,null,null,null,null,null,null,null,null,null,null,null,null,null,null,null,null,null,null,null,null,null,null,null,null,null,null,null,null,null,null,null,null,null,null,null,null,null,null,null,null,null,null,null,null,null,null,null,null,null,null,null,null,null,null,null,null,null,null,null,null,null,null,null,null,null,null,null,null,null,null,null,null,null,null,null,null,null,null,null,null,null,null,null,null,null,null,null,null,null,null,null,null,null,null,null,null,null,null,null,null,null,null,null,null,null,null,null,null,null,null,null,null,null,null,null,null,null,null,null,null,null,null,null,null,null,null,null,null,null,null,null,null,null,null,null,null,null,null,null,null,null,null,null,null,null,null,null,null,null,null,null,null,null,null,null,null,null,null,null,null,null,null,null,null,null,null,null,null,null,null,null,null,null,null,null,null,null,null,null,null,null,null,null,null,null,null,null,null,null,null,null,null,null,null,null,null,null,null,null,null,null,null,null,null,null,null,null,null,null,null,null,null,null,null,null,null,null,null,null,null,null,null,null,null,null,null,null,null,null,null,null,null,null,null,null,null,null,null,null,null,null,null,null,null,null,null,null,null,null,null,null,null,null,null,null,null,null,null,null,null,null,null,null,null,null,null,null,null,null,null,null,null,null,null,null,null,null,null,null,null,null,null,null,null,null,null,null,null,null,null,null,null,null,null,null,null,null,null,null,null,null,null,null,null,null,null,null,null,null,null,null,null,null,null,null,null,null,null,null,null,null,null,null,null,null,null,null,null,null,null,null,null,null,null,null,null,null,null,null,null,null,null,null,null,null,null,null,null,null,null,null,null,null,null,null,null,null,null,null,null,null,null,null,null,null,null,null,null,null,null,null,null,null,null,null,null,null,null,null,null,null,null,null,null,null,null,null,null,null,null,null,null,null,null,null,null,null,null,null,null,null,null,null,null,null,null,null,null,null,null,null,null,null,null,null,null,null,null,null,null,null,null,null,null,null,null,null,null,null,null,null,null,null,null,null,null,null,null,null,null,null,null,null,null,null,null,null,null,null,null,null,null,null,null,null,null,null,null,null,null,null,null,null,null,null,null,null,null,null,null,null,null,null,null,null,null,null,null,null,null,null,null,null,null,null,null,null,null,null,null,null,null,null,null,null,null,null,null,null,null,null,null,null,null,null,null,null,null,null,null,null,null,null,null,null,null,null,null,null,null,null,null,null,null,null,null,null,null,null,null,null,null,null,null,null,null,null,null,null,null,null,null,null,null,null,null,null,null,null,null,null,null,null,null,null,null,null,null,null,null,null,null,null,null,null,null,null,null,null,null,null,null,null,null,null,null,null,null,null,null,null,null,null,null,null,null,null,null,null,null,null,null,null,null,null,null,null,null,null,null,null,null,null,null,null,null,null,null,null,null,null,null,null,null,null,null,null,null,null,null,null,null,null,null,null,null,null,null,null,null,null,null,null,null,null,null,null,null,null,null,null,null,null,null,null,null,null,null,null,null,null,null,null,null,null,null,null,null,null,null,null,null,null,null,null,null,null,null,null,null,null,null,null,null,null,null,null,null,null,null,null,null,null,null,null,null,null,null,null,null,null,null,null,null,null,null,null,null,null,null,null,null,null,null,null,null,null,null,null,null,null,null,null,null,null,null,null,null,null,null,null,null,null,null,null,null,null,null,null,null,null,null,null,null,null,null,null,null,null,null,null,null,null,null,null,null,null,null,null,null,null,null,null,null,null,null,null,null,null,null,null,null,null,null,null,null,null,null,null,null,null,null,null,null,null,null,null,null,null,null,null,null,null,null,null,null,null,null,null,null,null,null,null,null,null,null,null,null,null,null,null,null,null,null,null,null,null,null,null,null,null,null,null,null,null,null,null,null,null,null,null,null,null,null,null,null,null,null,null,null,null,null,null,null,null,null,null,null,null,null,null,null,null,null,null,null,null,null,null,null,null,null,null,null,null,null,null,null,null,null,null,null,null,null,null,null,null,null,null,null,null,null,null,null,null,null,null,null,null,null,null,null,null,null,null,null,null,null,null,null,null,null,null,null,null,null,null,null,null,null,null,null,null,null,null,null,null,null,null,null,null,null,null,null,null,null,null,null,null,null,null,null,null,null,null,null,null,null,null,null,null,null,null,null,null,null,null,null,null,null,null,null,null,null,null,null,null,null,null,null,null,null,null,null,null,null,null,null,null,null,null,null,null,null,null,null,null,null,null,null,null,null,null,null,null,null,null,null,null,null,null,null,null,null,null,null,null,null,null,null,null,null,null,null,null,null,null,null,null,null,null,null,null,null,null,null,null,null,null,null,null,null,null,null,null,null,null,null,null,null,null,null,null,null,null,null,null,null,null,null,null,null,null,null,null,null,null,null,null,null,null,null,null,null,null,null,null,null,null,null,null,null,null,null,null,null,null,null,null,null,null,null,null,null,null,null,null,null,null,null,null,null,null,null,null,null,null,null,null,null,null,null,null,null,null,null,null,null,null,null,null,null,null,null,null,null,null,null,null,null,null,null,null,null,null,null,null,null,null,null,null,null,null,null,null,null,null,null,null,null,null,null,null,null,null,null,null,null,null,null,null,null,null,null,null,null,null,null,null,null,null,null,null,null,null,null,null,null,null,null,null,null,null,null,null,null,null,null,null,null,null,null,null,null,null,null,null,null,null,null,null,null,null,null,null,null,null,null,null,null,null,null,null,null,null,null,null,null,null,null,null,null,null,null,null,null,null,null,null,null,null,null,null,null,null,null,null,null,null,null,null,null,null,null,null,null,null,null,null,null,null,null,null,null,null,null,null,null,null,null,null,null,null,null,null,null,null,null,null,null,null,null,null,null,null,null,null,null,null,null,null,null,null,null,null,null,null,null,null,null,null,null,null,null,null,null,null,null,null,null,null,null,null,null,null,null,null,null,null,null,null,null,null,null,null,null,null,null,null,null,null,null,null,null,null,null,null,null,null,null,null,null,null,null,null,null,null,null,null,null,null,null,null,null,null,null,null,null,null,null,null,null,null,null,null,null,null,null,null,null,null,null,null,null,null,null,null,null,null,null,null,null,null,null,null,null,null,null,null,null,null,null,null,null,null,null,null,null,null,null,null,null,null,null,null,null,null,null,null,null,null,null,null,null,null,null,null,null,null,null,null,null,null,null,null,null,null,null,null,null,null,null,null,null,null,null,null,null,null,null,null,null,null,null,null,null,null,null,null,null,null,null,null,null,null,null,null,null,null,null,null,null,null,null,2,2,null,null,null,null,null,null,null,null,null,null,null,null,null,null,null,null,null,null,null,null,null,null,null,null,null,null,null,null,null,null,null,null,null,null,null,null,null,null,null,null,null,null,null,null,null,null,null,null,null,null,null,null,null,null,null,null,null,null,null,null,null,null,null,null,null,null,null,null,null,null,null,null,null,null,null,null,null,null,null,null,null,null,null,null,null,null,null,null,null,null,null,null,null,null,null,null,null,null,null,null,null,null,null,null,null,null,null,null,null,null,null,null,null,null,null,null,null,null,null,null,null,null,null,null,null,null,null,null,null,null,null,null,null,null,null,null,null,null,null,null,null,null,null,null,null,null,null,null,null,null,null,null,null,null,null,null,null,null,null,null,null,null,null,null,null,null,null,null,null,null,null,null,null,null,null,null,null,null,null,null,null,null,null,null,null,null,null,null,null,null,null,null,null,null,null,null,null,null,null,null,null,null,null,null,null,null,null,null,null,null,null,null,null,null,null,null,null,null,null,null,null,null,null,null,null,null,null,null,null,null,null,null,null,null,null,null,null,null,null,null,null,null,null,null,null,null,null,null,null,null,null,null,null,null,null,null,null,null,null,null,null,null,null,null,null,null,null,null,null,null,null,null,null,null,null,null,null,null,null,null,null,null,null,null,null,null,null,null,null,null,null,null,null,null,null,null,null,null,null,null,null,null,null,null,null,null,null,null,null,null,null,null,null,null,null,null,null,null,null,null,null,null,null,null,null,null,null,null,null,null,null,null,null,null,null,null,null,null,null,null,null,null,null,null,null,null,null,null,null,null,null,null,null,null,null,null,null,null,null,null,null,null,null,null,null,null,null,null,null,null,null,null,null,null,null,null,null,null,null,null,null,null,null,null,null,null,null,null,null,null,null,null,null,null,null,null,null,null,null,null,null,null,null,null,null,null,null,null,null,null,null,null,null,null,null,null,null,null,null,null,null,null,null,null,null,null,null,null,null,null,null,null,null,null,null,null,null,null,null,null,null,null,null,null,null,null,null,null,null,null,null,null,null,null,null,null,null,82,2,1,2,2,5,0,0,0,1,0,0,0,4,2,null,null,null,null,null,null,2,null,2,null,null,"2014-01-15T02:41:00","2014-01-15T02:43:00",null,15139,5,"Firefox 23.0","Windows XP","209.112.172.118"]
[878,10611,1,"ce",2,null,null,null,null,null,null,null,null,null,null,null,null,null,null,null,null,null,null,null,null,null,null,null,null,null,null,null,null,null,null,null,null,null,null,null,null,null,null,null,null,null,null,null,null,null,null,null,null,null,null,null,null,null,null,null,null,null,null,null,null,null,null,null,null,null,null,null,null,null,null,null,null,null,null,null,null,null,null,null,null,null,null,null,null,null,null,null,null,null,null,null,null,null,null,null,null,null,null,null,null,null,null,null,null,null,null,null,null,null,null,null,null,null,null,null,null,null,null,null,null,null,null,null,null,null,null,null,null,null,null,null,null,null,null,null,null,null,null,null,null,null,null,null,null,null,null,null,null,null,null,null,null,null,null,null,null,null,null,null,null,null,null,null,null,null,null,null,null,null,null,null,null,null,null,null,null,null,null,null,null,null,null,null,null,null,null,null,null,null,null,null,null,null,null,null,null,null,null,null,null,null,null,null,null,null,null,null,null,null,null,null,null,null,null,null,null,null,null,null,null,null,null,null,null,null,null,null,null,null,null,null,null,null,null,null,null,null,null,null,null,null,null,null,null,null,null,null,null,null,null,null,null,null,null,null,null,null,null,null,null,null,null,null,null,null,null,null,null,null,null,null,null,null,null,null,null,null,null,null,null,null,null,null,null,null,null,null,null,null,null,null,null,null,null,null,null,null,null,null,null,null,null,null,null,null,null,null,null,null,null,null,null,null,null,null,null,null,null,null,null,null,null,null,null,null,null,null,null,null,null,null,null,null,null,null,null,null,null,null,null,null,null,null,null,null,null,null,null,null,null,null,null,null,null,null,null,null,null,null,null,null,null,null,null,null,null,null,null,null,null,null,null,null,null,null,null,null,null,null,null,null,null,null,null,null,null,null,null,null,null,null,null,null,null,null,null,null,null,null,null,null,null,null,null,null,null,null,null,null,null,null,null,null,null,null,null,null,null,null,null,null,null,null,null,null,null,null,null,null,null,null,null,null,null,null,null,null,null,null,null,null,null,null,null,null,null,null,null,null,null,null,null,null,null,null,null,null,null,null,null,null,null,null,null,null,null,null,null,null,null,null,null,null,null,null,null,null,null,null,null,null,null,null,null,null,null,null,null,null,null,null,null,null,null,null,null,null,null,null,null,null,null,null,null,null,null,null,null,null,null,null,null,null,null,null,null,null,null,null,null,null,null,null,null,null,null,null,null,null,null,null,null,null,null,null,null,null,null,null,null,null,null,null,null,null,null,null,null,null,null,null,null,null,null,null,null,null,null,null,null,null,null,null,null,null,null,null,null,null,null,null,null,null,null,null,null,null,null,null,null,null,null,null,null,null,null,null,null,null,null,null,null,null,null,null,null,null,null,null,null,null,null,null,null,null,null,null,null,null,null,null,null,null,null,null,null,null,null,null,null,null,null,null,null,null,null,null,null,null,null,null,null,null,null,null,null,null,null,null,null,null,null,null,null,null,null,null,null,null,null,null,null,null,null,null,null,null,null,null,null,null,null,null,null,null,null,null,null,null,null,null,null,null,null,null,null,null,null,null,null,null,null,null,null,null,null,null,null,null,null,null,null,null,null,null,null,null,null,null,null,null,null,null,null,null,null,null,null,null,null,null,null,null,null,null,null,null,null,null,null,null,null,null,null,null,null,null,null,null,null,null,null,null,null,null,null,null,null,null,null,null,null,null,null,null,null,null,null,null,null,null,null,null,null,null,null,null,null,null,null,null,null,null,null,null,null,null,null,null,null,null,null,null,null,null,null,null,null,null,null,null,null,null,null,null,null,null,null,null,null,null,null,null,null,null,null,null,null,null,null,null,null,null,null,null,null,null,null,null,null,null,null,null,null,null,null,null,null,null,null,null,null,null,null,null,null,null,null,null,null,null,null,null,null,null,null,null,null,null,null,null,null,null,null,null,null,null,null,null,null,null,null,null,null,null,null,null,null,null,null,null,null,null,null,null,null,null,null,null,null,null,null,null,null,null,null,null,null,null,null,null,null,null,null,null,null,null,null,null,null,null,null,null,null,null,null,null,null,null,null,null,null,null,null,null,null,null,null,null,null,null,null,null,null,null,null,null,null,null,null,null,null,null,null,null,null,null,null,null,null,null,null,null,null,null,null,null,null,null,null,null,null,null,null,null,null,null,null,null,null,null,null,null,null,null,null,null,null,null,null,null,null,null,null,null,null,null,null,null,null,null,null,null,null,null,null,null,null,null,null,null,null,null,null,null,null,null,null,null,null,null,null,null,null,null,null,null,null,null,null,null,null,null,null,null,null,null,null,null,null,null,null,null,null,null,null,null,null,null,null,null,null,null,null,null,null,null,null,null,null,null,null,null,null,null,null,null,null,null,null,null,null,null,null,null,null,null,null,null,null,null,null,null,null,null,null,null,null,null,null,null,null,null,null,null,null,null,null,null,null,null,null,null,null,null,null,null,null,null,null,null,null,null,null,null,null,null,null,null,null,null,null,null,null,null,null,null,null,null,null,null,null,null,null,null,null,null,null,null,null,null,null,null,null,null,null,null,null,null,null,null,null,null,null,null,null,null,null,null,null,null,null,null,null,null,null,null,null,null,null,null,null,null,null,null,null,null,null,null,null,null,null,null,null,null,null,null,null,null,null,null,null,null,null,null,null,null,null,null,null,null,null,null,null,null,null,null,null,null,null,null,null,null,null,null,null,null,null,null,null,null,null,null,null,null,null,null,null,null,null,null,null,null,null,null,null,null,null,null,null,null,null,null,null,null,null,null,null,null,null,null,null,null,null,null,null,null,null,null,null,null,null,null,null,null,null,null,null,null,null,null,null,null,null,null,null,null,null,null,null,null,null,null,null,null,null,null,null,null,null,null,null,null,null,null,null,null,null,null,null,null,null,null,null,null,null,null,null,null,null,null,null,null,null,null,null,null,null,null,null,null,null,null,null,null,null,null,null,null,null,null,null,null,null,null,null,null,null,null,null,null,null,null,null,null,null,null,null,null,null,null,null,null,null,null,null,null,null,null,null,null,null,null,null,null,null,null,null,null,null,null,null,null,null,null,null,null,null,null,null,null,null,null,null,null,null,null,null,null,null,null,null,null,null,null,null,null,null,null,null,null,null,null,null,null,null,null,null,null,null,null,null,null,null,null,null,null,null,null,null,null,null,null,null,null,null,null,null,null,null,null,null,null,null,null,null,null,null,null,null,null,null,null,null,null,null,null,null,null,null,null,null,null,null,null,null,null,null,null,null,null,null,null,null,null,null,null,null,null,null,null,null,null,null,null,null,null,null,null,null,null,null,null,null,null,null,null,null,null,null,null,null,null,null,null,null,null,null,null,null,null,null,null,null,null,null,null,null,null,null,null,null,null,null,null,null,null,null,null,null,null,null,null,null,null,null,null,null,null,null,null,null,null,null,null,null,null,null,null,null,null,null,null,null,null,null,null,null,null,null,null,null,null,null,null,null,null,null,null,null,null,null,null,null,null,null,null,null,null,null,null,null,null,null,null,null,null,null,null,null,null,null,null,null,null,null,null,null,null,null,null,null,null,null,null,null,null,null,null,null,null,null,null,null,null,null,null,null,null,null,null,null,null,null,null,null,null,null,null,null,null,null,null,null,null,null,null,null,null,null,null,null,null,null,null,null,null,null,null,null,null,null,null,null,null,null,null,null,null,null,null,null,null,null,null,null,null,null,null,null,null,null,null,null,null,null,null,null,null,null,null,null,null,null,null,null,null,null,null,null,null,null,null,null,null,null,null,null,null,null,null,null,null,null,null,null,null,null,null,null,null,null,null,null,null,null,null,null,null,null,null,null,null,null,null,null,null,null,null,null,null,null,null,null,null,null,null,null,null,null,null,null,null,null,null,null,null,null,null,null,null,null,null,null,null,null,null,null,null,null,null,null,null,null,null,null,null,null,null,null,null,null,null,null,null,null,null,null,null,null,null,null,null,null,null,null,null,null,null,null,null,null,null,null,null,null,null,null,null,null,null,null,null,null,null,null,null,null,null,null,null,null,null,null,null,null,null,null,null,null,null,null,null,null,null,null,null,null,null,null,null,null,null,null,null,null,null,null,null,null,null,null,null,null,null,null,null,null,null,null,null,null,null,null,null,null,null,null,null,null,null,null,null,null,null,null,null,null,null,null,null,null,null,null,null,null,null,null,null,null,null,null,null,null,null,null,null,null,null,null,null,null,null,null,null,null,null,null,null,null,null,null,null,null,null,null,null,null,null,null,null,null,2,2,null,null,null,null,null,null,null,null,null,null,null,null,null,null,null,null,null,null,null,null,null,null,null,null,null,null,null,null,null,null,null,null,null,null,null,null,null,null,null,null,null,null,null,null,null,null,null,null,null,null,null,null,null,null,null,null,null,null,null,null,null,null,null,null,null,null,null,null,null,null,null,null,null,null,null,null,null,null,null,null,null,null,null,null,null,null,null,null,null,null,null,null,null,null,null,null,null,null,null,null,null,null,null,null,null,null,null,null,null,null,null,null,null,null,null,null,null,null,null,null,null,null,null,null,null,null,null,null,null,null,null,null,null,null,null,null,null,null,null,null,null,null,null,null,null,null,null,null,null,null,null,null,null,null,null,null,null,null,null,null,null,null,null,null,null,null,null,null,null,null,null,null,null,null,null,null,null,null,null,null,null,null,null,null,null,null,null,null,null,null,null,null,null,null,null,null,null,null,null,null,null,null,null,null,null,null,null,null,null,null,null,null,null,null,null,null,null,null,null,null,null,null,null,null,null,null,null,null,null,null,null,null,null,null,null,null,null,null,null,null,null,null,null,null,null,null,null,null,null,null,null,null,null,null,null,null,null,null,null,null,null,null,null,null,null,null,null,null,null,null,null,null,null,null,null,null,null,null,null,null,null,null,null,null,null,null,null,null,null,null,null,null,null,null,null,null,null,null,null,null,null,null,null,null,null,null,null,null,null,null,null,null,null,null,null,null,null,null,null,null,null,null,null,null,null,null,null,null,null,null,null,null,null,null,null,null,null,null,null,null,null,null,null,null,null,null,null,null,null,null,null,null,null,null,null,null,null,null,null,null,null,null,null,null,null,null,null,null,null,null,null,null,null,null,null,null,null,null,null,null,null,null,null,null,null,null,null,null,null,null,null,null,null,null,null,null,null,null,null,null,null,null,null,null,null,null,null,null,null,null,null,null,null,null,null,null,null,null,null,null,null,null,null,null,null,null,null,null,null,null,null,null,null,null,null,null,null,null,null,null,null,null,null,null,null,null,null,null,null,null,null,null,null,null,null,null,null,59,1,2,2,2,4,1,0,0,0,0,0,0,6,2,null,null,null,null,null,null,2,null,2,null,null,"2014-01-15T02:23:00","2014-01-15T02:24:00",null,15111,5,"Firefox 23.0","Windows XP","209.112.172.118"]
[1077,10631,1,"ce",2,null,null,null,null,null,null,null,null,null,null,null,null,null,null,null,null,null,null,null,null,null,null,null,null,null,null,null,null,null,null,null,null,null,null,null,null,null,null,null,null,null,null,null,null,null,null,null,null,null,null,null,null,null,null,null,null,null,null,null,null,null,null,null,null,null,null,null,null,null,null,null,null,null,null,null,null,null,null,null,null,null,null,null,null,null,null,null,null,null,null,null,null,null,null,null,null,null,null,null,null,null,null,null,null,null,null,null,null,null,null,null,null,null,null,null,null,null,null,null,null,null,null,null,null,null,null,null,null,null,null,null,null,null,null,null,null,null,null,null,null,null,null,null,null,null,null,null,null,null,null,null,null,null,null,null,null,null,null,null,null,null,null,null,null,null,null,null,null,null,null,null,null,null,null,null,null,null,null,null,null,null,null,null,null,null,null,null,null,null,null,null,null,null,null,null,null,null,null,null,null,null,null,null,null,null,null,null,null,null,null,null,null,null,null,null,null,null,null,null,null,null,null,null,null,null,null,null,null,null,null,null,null,null,null,null,null,null,null,null,null,null,null,null,null,null,null,null,null,null,null,null,null,null,null,null,null,null,null,null,null,null,null,null,null,null,null,null,null,null,null,null,null,null,null,null,null,null,null,null,null,null,null,null,null,null,null,null,null,null,null,null,null,null,null,null,null,null,null,null,null,null,null,null,null,null,null,null,null,null,null,null,null,null,null,null,null,null,null,null,null,null,null,null,null,null,null,null,null,null,null,null,null,null,null,null,null,null,null,null,null,null,null,null,null,null,null,null,null,null,null,null,null,null,null,null,null,null,null,null,null,null,null,null,null,null,null,null,null,null,null,null,null,null,null,null,null,null,null,null,null,null,null,null,null,null,null,null,null,null,null,null,null,null,null,null,null,null,null,null,null,null,null,null,null,null,null,null,null,null,null,null,null,null,null,null,null,null,null,null,null,null,null,null,null,null,null,null,null,null,null,null,null,null,null,null,null,null,null,null,null,null,null,null,null,null,null,null,null,null,null,null,null,null,null,null,null,null,null,null,null,null,null,null,null,null,null,null,null,null,null,null,null,null,null,null,null,null,null,null,null,null,null,null,null,null,null,null,null,null,null,null,null,null,null,null,null,null,null,null,null,null,null,null,null,null,null,null,null,null,null,null,null,null,null,null,null,null,null,null,null,null,null,null,null,null,null,null,null,null,null,null,null,null,null,null,null,null,null,null,null,null,null,null,null,null,null,null,null,null,null,null,null,null,null,null,null,null,null,null,null,null,null,null,null,null,null,null,null,null,null,null,null,null,null,null,null,null,null,null,null,null,null,null,null,null,null,null,null,null,null,null,null,null,null,null,null,null,null,null,null,null,null,null,null,null,null,null,null,null,null,null,null,null,null,null,null,null,null,null,null,null,null,null,null,null,null,null,null,null,null,null,null,null,null,null,null,null,null,null,null,null,null,null,null,null,null,null,null,null,null,null,null,null,null,null,null,null,null,null,null,null,null,null,null,null,null,null,null,null,null,null,null,null,null,null,null,null,null,null,null,null,null,null,null,null,null,null,null,null,null,null,null,null,null,null,null,null,null,null,null,null,null,null,null,null,null,null,null,null,null,null,null,null,null,null,null,null,null,null,null,null,null,null,null,null,null,null,null,null,null,null,null,null,null,null,null,null,null,null,null,null,null,null,null,null,null,null,null,null,null,null,null,null,null,null,null,null,null,null,null,null,null,null,null,null,null,null,null,null,null,null,null,null,null,null,null,null,null,null,null,null,null,null,null,null,null,null,null,null,null,null,null,null,null,null,null,null,null,null,null,null,null,null,null,null,null,null,null,null,null,null,null,null,null,null,null,null,null,null,null,null,null,null,null,null,null,null,null,null,null,null,null,null,null,null,null,null,null,null,null,null,null,null,null,null,null,null,null,null,null,null,null,null,null,null,null,null,null,null,null,null,null,null,null,null,null,null,null,null,null,null,null,null,null,null,null,null,null,null,null,null,null,null,null,null,null,null,null,null,null,null,null,null,null,null,null,null,null,null,null,null,null,null,null,null,null,null,null,null,null,null,null,null,null,null,null,null,null,null,null,null,null,null,null,null,null,null,null,null,null,null,null,null,null,null,null,null,null,null,null,null,null,null,null,null,null,null,null,null,null,null,null,null,null,null,null,null,null,null,null,null,null,null,null,null,null,null,null,null,null,null,null,null,null,null,null,null,null,null,null,null,null,null,null,null,null,null,null,null,null,null,null,null,null,null,null,null,null,null,null,null,null,null,null,null,null,null,null,null,null,null,null,null,null,null,null,null,null,null,null,null,null,null,null,null,null,null,null,null,null,null,null,null,null,null,null,null,null,null,null,null,null,null,null,null,null,null,null,null,null,null,null,null,null,null,null,null,null,null,null,null,null,null,null,null,null,null,null,null,null,null,null,null,null,null,null,null,null,null,null,null,null,null,null,null,null,null,null,null,null,null,null,null,null,null,null,null,null,null,null,null,null,null,null,null,null,null,null,null,null,null,null,null,null,null,null,null,null,null,null,null,null,null,null,null,null,null,null,null,null,null,null,null,null,null,null,null,null,null,null,null,null,null,null,null,null,null,null,null,null,null,null,null,null,null,null,null,null,null,null,null,null,null,null,null,null,null,null,null,null,null,null,null,null,null,null,null,null,null,null,null,null,null,null,null,null,null,null,null,null,null,null,null,null,null,null,null,null,null,null,null,null,null,null,null,null,null,null,null,null,null,null,null,null,null,null,null,null,null,null,null,null,null,null,null,null,null,null,null,null,null,null,null,null,null,null,null,null,null,null,null,null,null,null,null,null,null,null,null,null,null,null,null,null,null,null,null,null,null,null,null,null,null,null,null,null,null,null,null,null,null,null,null,null,null,null,null,null,null,null,null,null,null,null,null,null,null,null,null,null,null,null,null,null,null,null,null,null,null,null,null,null,null,null,null,null,null,null,null,null,null,null,null,null,null,null,null,null,null,null,null,null,null,null,null,null,null,null,null,null,null,null,null,null,null,null,null,null,null,null,null,null,null,null,null,null,null,null,null,null,null,null,null,null,null,null,null,null,null,null,null,null,null,null,null,null,null,null,null,null,null,null,null,null,null,null,null,null,null,null,null,null,null,null,null,null,null,null,null,null,null,null,null,null,null,null,null,null,null,null,null,null,null,null,null,null,null,null,null,null,null,null,null,null,null,null,null,null,null,null,null,null,null,null,null,null,null,null,null,null,null,null,null,null,null,null,null,null,null,null,null,null,null,null,null,null,null,null,null,null,null,null,null,null,null,null,null,null,null,null,null,null,null,null,null,null,null,null,null,null,null,null,null,null,null,null,null,null,null,null,null,null,null,null,null,null,null,null,null,null,null,null,null,null,null,null,null,null,null,null,null,null,null,null,null,null,null,null,null,null,null,null,null,null,null,null,null,null,null,null,null,null,null,null,null,null,null,null,null,null,null,null,null,null,null,null,null,null,null,null,null,null,null,null,null,null,null,null,null,null,null,null,null,null,null,null,null,null,null,null,null,null,null,null,null,null,null,null,null,null,null,null,null,null,null,null,null,null,null,null,null,null,null,null,null,null,null,null,null,null,null,null,null,null,null,null,null,null,null,null,null,null,null,null,null,null,null,null,null,null,null,null,null,null,null,null,null,null,null,null,null,null,null,null,null,null,null,null,null,null,null,null,null,null,null,null,null,null,null,null,null,null,null,null,null,null,null,null,null,null,null,null,null,null,null,null,null,null,null,null,null,null,null,null,null,null,null,null,null,null,null,null,null,null,null,null,null,null,null,null,null,null,null,null,null,null,null,null,null,null,null,null,null,null,null,null,null,null,null,null,null,null,null,null,null,null,null,null,null,null,null,null,null,null,null,null,null,null,null,null,null,null,null,null,null,null,null,null,null,null,null,null,null,null,null,null,null,null,null,null,null,null,null,null,null,null,null,null,null,null,null,null,null,null,null,null,null,null,null,null,null,null,null,null,null,null,null,null,null,null,null,null,null,null,null,null,null,null,null,null,null,null,null,null,null,null,null,null,null,null,null,null,null,null,null,null,null,null,null,null,null,null,null,null,null,null,null,null,null,null,null,null,null,null,null,null,null,null,null,null,null,null,null,null,null,null,null,null,null,null,null,null,null,null,null,null,null,null,null,null,null,null,null,null,null,null,null,null,null,null,null,null,null,null,null,null,null,null,null,null,null,null,null,null,null,null,null,null,null,null,null,null,2,2,null,null,null,null,null,null,null,null,null,null,null,null,null,null,null,null,null,null,null,null,null,null,null,null,null,null,null,null,null,null,null,null,null,null,null,null,null,null,null,null,null,null,null,null,null,null,null,null,null,null,null,null,null,null,null,null,null,null,null,null,null,null,null,null,null,null,null,null,null,null,null,null,null,null,null,null,null,null,null,null,null,null,null,null,null,null,null,null,null,null,null,null,null,null,null,null,null,null,null,null,null,null,null,null,null,null,null,null,null,null,null,null,null,null,null,null,null,null,null,null,null,null,null,null,null,null,null,null,null,null,null,null,null,null,null,null,null,null,null,null,null,null,null,null,null,null,null,null,null,null,null,null,null,null,null,null,null,null,null,null,null,null,null,null,null,null,null,null,null,null,null,null,null,null,null,null,null,null,null,null,null,null,null,null,null,null,null,null,null,null,null,null,null,null,null,null,null,null,null,null,null,null,null,null,null,null,null,null,null,null,null,null,null,null,null,null,null,null,null,null,null,null,null,null,null,null,null,null,null,null,null,null,null,null,null,null,null,null,null,null,null,null,null,null,null,null,null,null,null,null,null,null,null,null,null,null,null,null,null,null,null,null,null,null,null,null,null,null,null,null,null,null,null,null,null,null,null,null,null,null,null,null,null,null,null,null,null,null,null,null,null,null,null,null,null,null,null,null,null,null,null,null,null,null,null,null,null,null,null,null,null,null,null,null,null,null,null,null,null,null,null,null,null,null,null,null,null,null,null,null,null,null,null,null,null,null,null,null,null,null,null,null,null,null,null,null,null,null,null,null,null,null,null,null,null,null,null,null,null,null,null,null,null,null,null,null,null,null,null,null,null,null,null,null,null,null,null,null,null,null,null,null,null,null,null,null,null,null,null,null,null,null,null,null,null,null,null,null,null,null,null,null,null,null,null,null,null,null,null,null,null,null,null,null,null,null,null,null,null,null,null,null,null,null,null,null,null,null,null,null,null,null,null,null,null,null,null,null,null,null,null,null,null,null,null,null,null,null,null,null,null,null,null,null,null,null,null,null,1,null,null,null,null,0,0,0,0,0,0,0,null,null,0,0,0,0,0,null,null,null,2,null,null,"2014-01-15T02:57:00","2014-01-15T03:00:00",null,15153,5,"Firefox 23.0","Windows XP","209.112.172.118"]
[1057,10771,1,"ms",1,1,null,null,null,null,null,null,null,null,null,null,null,null,null,null,null,null,null,null,null,null,null,null,null,null,null,null,null,null,null,null,null,null,null,null,null,null,null,null,null,null,null,null,null,null,null,null,null,null,null,null,null,null,null,null,null,null,null,null,null,null,null,null,null,null,null,null,null,null,null,null,null,null,null,null,null,null,null,null,null,null,null,null,null,null,null,null,null,null,null,null,null,null,null,null,null,null,null,null,null,null,null,null,null,null,null,null,null,null,null,null,null,null,null,null,null,null,null,null,null,null,null,null,null,null,null,null,null,null,null,null,null,null,null,null,null,null,null,null,null,null,null,null,null,null,null,null,null,null,null,null,null,null,null,null,null,null,null,null,null,null,null,null,null,null,null,null,null,null,null,null,null,null,null,null,null,null,null,null,null,null,null,null,null,null,null,null,null,null,null,null,null,null,null,null,null,null,null,null,null,null,null,null,null,null,null,null,null,null,null,null,null,null,null,null,null,null,null,null,null,null,null,null,null,null,null,null,null,null,null,null,null,null,null,null,null,null,null,null,null,null,null,null,null,null,null,null,null,null,null,null,null,null,null,null,null,null,null,null,null,null,null,null,null,null,null,null,null,null,null,null,null,null,null,null,null,null,null,null,null,null,null,null,null,null,null,null,null,null,null,null,null,null,null,null,null,null,null,null,null,null,null,null,null,null,null,null,null,null,null,null,null,null,null,null,null,null,null,null,null,null,null,null,null,null,null,null,null,null,null,null,null,null,null,null,null,null,null,null,null,null,null,null,null,null,null,null,null,null,null,null,null,null,null,null,null,null,null,null,null,null,null,null,null,null,null,null,null,null,null,null,null,null,null,null,null,null,null,null,null,null,null,null,null,null,null,null,null,null,null,null,null,null,null,null,null,null,null,null,null,null,null,null,null,null,null,null,null,null,null,null,null,null,null,null,null,null,null,null,null,null,null,null,null,null,null,null,null,null,null,null,null,null,null,null,null,null,null,null,null,null,null,null,null,null,null,null,null,null,null,null,null,null,null,null,null,null,null,null,null,null,null,null,null,null,null,null,null,null,null,null,null,null,null,null,null,null,null,null,null,null,null,null,null,null,null,null,null,null,null,null,null,null,null,null,null,null,null,null,null,null,null,null,null,null,null,null,null,null,null,null,null,null,null,null,null,null,null,null,null,null,null,null,null,null,null,null,null,null,null,null,null,null,null,null,null,null,null,null,null,null,null,null,null,null,null,null,null,null,null,null,null,null,null,null,null,null,null,null,null,null,null,null,null,null,null,null,null,null,null,null,null,null,null,null,null,null,null,null,null,null,null,null,null,null,null,null,null,null,null,null,null,null,null,null,null,null,null,null,null,null,null,null,null,null,null,null,null,null,null,null,null,null,null,null,null,null,null,null,null,null,null,null,null,null,null,null,null,null,null,null,null,null,null,null,null,null,null,null,null,null,null,null,null,null,null,null,null,null,null,null,null,null,null,null,null,null,null,null,null,null,null,null,null,null,null,null,null,null,null,null,null,null,null,null,null,null,null,null,null,null,null,null,null,null,null,null,null,null,null,null,null,null,null,null,null,null,null,null,null,null,null,null,null,null,null,null,null,null,null,null,null,null,null,null,null,null,null,null,null,null,null,null,null,null,null,null,null,null,null,null,null,null,null,null,null,null,null,null,null,null,null,null,null,null,null,null,null,null,null,null,null,null,null,null,null,null,null,null,null,null,null,null,null,null,null,null,null,null,null,null,null,null,null,null,null,null,null,null,null,null,null,null,null,null,null,null,null,null,null,null,null,null,null,null,null,null,null,null,null,null,null,null,null,null,null,null,null,null,null,null,null,null,null,null,null,null,null,null,null,null,null,null,null,null,null,null,null,null,null,null,null,null,null,null,null,null,null,null,null,null,null,null,null,null,null,null,null,null,null,null,null,null,null,null,null,null,null,null,null,null,null,null,null,null,null,null,null,null,null,null,null,null,null,null,null,null,null,null,null,null,null,null,null,null,null,null,null,null,null,null,null,null,null,null,null,null,null,null,null,null,null,null,null,null,null,null,null,null,null,null,null,null,null,null,null,null,null,null,null,null,null,null,null,null,null,null,null,null,null,null,null,null,null,null,null,null,null,null,null,null,null,null,null,null,null,null,null,null,null,null,null,null,null,null,null,null,null,null,null,null,null,null,null,null,null,null,null,null,null,null,null,null,null,null,null,null,null,null,null,null,null,null,null,null,null,null,null,null,null,null,null,null,null,null,null,null,null,null,null,null,null,null,null,null,null,null,null,null,null,null,null,null,null,null,null,null,null,null,null,null,null,null,null,null,null,null,null,null,null,null,null,null,null,null,null,null,null,null,null,null,null,null,null,null,null,null,null,null,null,null,null,null,null,null,null,null,null,null,null,null,null,null,null,null,null,null,null,null,null,null,null,null,null,null,null,null,null,null,null,null,null,null,null,null,null,null,null,null,null,null,null,null,null,null,null,null,null,null,null,null,null,null,null,null,null,null,null,null,null,null,null,null,null,null,null,null,null,null,null,null,null,null,null,null,null,null,null,null,null,null,null,null,null,null,null,null,null,null,null,null,null,null,null,null,null,null,null,null,null,null,null,null,null,null,null,null,null,null,null,null,null,null,null,null,null,null,null,null,null,null,null,null,null,null,null,null,null,null,null,null,null,null,null,null,null,null,null,null,null,null,null,null,null,null,null,null,null,null,null,null,null,null,null,null,null,null,null,null,null,null,null,null,null,null,null,null,null,null,null,null,null,null,null,null,null,null,null,null,null,null,null,null,null,null,null,null,null,null,null,null,null,null,null,null,null,null,null,null,null,null,null,null,null,null,null,null,null,null,null,null,null,null,null,null,null,null,null,null,null,null,null,null,null,null,null,null,null,null,null,null,null,null,null,null,null,null,null,null,null,null,null,null,null,null,null,null,null,null,null,null,null,null,null,null,null,null,null,null,null,null,null,null,null,null,null,null,null,null,null,null,null,null,null,null,null,null,null,null,null,null,null,null,null,null,null,null,null,null,null,null,null,null,null,null,null,null,null,null,null,null,null,null,null,null,null,null,null,null,null,null,null,null,null,null,null,null,null,null,null,null,null,null,null,null,null,null,null,null,null,null,null,null,null,null,null,null,null,null,null,null,null,null,null,null,null,null,null,null,null,null,null,null,null,null,null,null,null,null,null,null,null,null,null,null,null,null,null,null,null,null,null,null,null,null,null,null,null,null,null,null,null,null,null,null,null,null,null,null,null,null,null,null,null,null,null,null,null,null,null,null,null,null,null,null,null,null,null,null,null,null,null,null,null,null,null,null,null,null,null,null,null,null,null,null,null,null,null,null,null,null,null,null,null,null,null,null,null,null,null,null,null,null,null,null,null,null,null,null,null,null,null,null,null,null,null,null,null,null,null,null,null,null,null,null,null,null,null,null,null,null,null,null,null,null,null,null,null,null,null,null,null,null,null,null,null,null,null,null,null,null,null,null,null,null,null,null,null,null,null,null,null,null,null,null,null,null,null,null,null,null,null,null,null,null,null,null,null,null,null,null,null,null,null,null,null,null,null,null,null,null,null,null,null,null,null,null,null,null,null,null,null,null,null,null,null,null,null,null,null,null,null,null,null,null,null,null,null,null,null,null,null,null,null,null,null,null,null,null,null,null,null,null,null,null,null,null,null,null,null,null,null,null,null,null,null,null,null,null,null,null,null,null,null,null,null,null,null,null,null,null,null,null,null,null,null,null,null,null,null,null,null,null,null,null,null,null,null,null,null,null,null,null,null,null,null,null,null,null,null,null,null,null,null,null,null,null,null,null,null,null,null,null,null,null,null,null,null,null,null,null,null,null,null,null,null,null,null,null,null,null,null,null,null,null,null,null,null,null,null,null,null,null,null,null,null,null,null,null,null,null,null,null,null,null,null,null,null,null,null,null,null,null,null,null,null,null,null,null,null,null,null,null,null,null,null,null,null,null,null,null,null,null,null,null,null,null,null,null,null,null,null,null,null,null,null,null,null,null,null,null,null,null,null,null,null,null,null,null,null,null,null,null,null,null,null,null,null,null,null,null,null,null,null,null,null,null,null,null,null,null,null,null,null,null,null,null,null,null,null,null,null,null,null,null,null,null,null,null,null,null,null,null,null,null,null,null,null,null,null,null,null,null,null,null,null,null,null,null,null,null,null,null,null,null,null,null,null,null,null,null,null,null,null,null,null,null,null,null,null,null,null,2,2,null,null,null,null,null,null,null,null,null,null,null,null,null,null,null,null,null,null,null,null,null,null,null,null,null,null,null,null,null,null,null,null,null,null,null,null,null,null,null,null,null,null,null,null,null,null,null,null,null,null,null,null,null,null,null,null,null,null,null,null,null,null,null,null,null,null,null,null,null,null,null,null,null,null,null,null,null,null,null,null,null,null,null,null,null,null,null,null,null,null,null,null,null,null,null,null,null,null,null,null,null,null,null,null,null,null,null,null,null,null,null,null,null,null,null,null,null,null,null,null,null,null,null,null,null,null,null,null,null,null,null,null,null,null,null,null,null,null,null,null,null,null,null,null,null,null,null,null,null,null,null,null,null,null,null,null,null,null,null,null,null,null,null,null,null,null,null,null,null,null,null,null,null,null,null,null,null,null,null,null,null,null,null,null,null,null,null,null,null,null,null,null,null,null,null,null,null,null,null,null,null,null,null,null,null,null,null,null,null,null,null,null,null,null,null,null,null,null,null,null,null,null,null,null,null,null,null,null,null,null,null,null,null,null,null,null,null,null,null,null,null,null,null,null,null,null,null,null,null,null,null,null,null,null,null,null,null,null,null,null,null,null,null,null,null,null,null,null,null,null,null,null,null,null,null,null,null,null,null,null,null,null,null,null,null,null,null,null,null,null,null,null,null,null,null,null,null,null,null,null,null,null,null,null,null,null,null,null,null,null,null,null,null,null,null,null,null,null,null,null,null,null,null,null,null,null,null,null,null,null,null,null,null,null,null,null,null,null,null,null,null,null,null,null,null,null,null,null,null,null,null,null,null,null,null,null,null,null,null,null,null,null,null,null,null,null,null,null,null,null,null,null,null,null,null,null,null,null,null,null,null,null,null,null,null,null,null,null,null,null,null,null,null,null,null,null,null,null,null,null,null,null,null,null,null,null,null,null,null,null,null,null,null,null,null,null,null,null,null,null,null,null,null,null,null,null,null,null,null,null,null,null,null,null,null,null,null,null,null,null,null,null,null,null,null,null,null,null,null,null,null,null,null,null,null,null,null,30,1,2,1,2,5,1,0,0,0,0,0,0,4,2,null,null,null,null,null,null,2,null,2,null,null,"2014-01-15T02:55:00","2014-01-15T02:57:00",null,15151,5,"Firefox 23.0","Windows XP","209.112.172.118"]
[1371,10901,1,"sb",1,1,null,null,null,null,null,null,null,null,null,null,null,null,null,null,null,null,null,null,null,null,null,null,null,null,null,null,null,null,null,null,null,null,null,null,null,null,null,null,null,null,null,null,null,null,null,null,null,null,null,null,null,null,null,null,null,null,null,null,null,null,null,null,null,null,null,null,null,null,null,null,null,null,null,null,null,null,null,null,null,null,null,null,null,null,null,null,null,null,null,null,null,null,null,null,null,null,null,null,null,null,null,null,null,null,null,null,null,null,null,null,null,null,null,null,null,null,null,null,null,null,null,null,null,null,null,null,null,null,null,null,null,null,null,null,null,null,null,null,null,null,null,null,null,null,null,null,null,null,null,null,null,null,null,null,null,null,null,null,null,null,null,null,null,null,null,null,null,null,null,null,null,null,null,null,null,null,null,null,null,null,null,null,null,null,null,null,null,null,null,null,null,null,null,null,null,null,null,null,null,null,null,null,null,null,null,null,null,null,null,null,null,null,null,null,null,null,null,null,null,null,null,null,null,null,null,null,null,null,null,null,null,null,null,null,null,null,null,null,null,null,null,null,null,null,null,null,null,null,null,null,null,null,null,null,null,null,null,null,null,null,null,null,null,null,null,null,null,null,null,null,null,null,null,null,null,null,null,null,null,null,null,null,null,null,null,null,null,null,null,null,null,null,null,null,null,null,null,null,null,null,null,null,null,null,null,null,null,null,null,null,null,null,null,null,null,null,null,null,null,null,null,null,null,null,null,null,null,null,null,null,null,null,null,null,null,null,null,null,null,null,null,null,null,null,null,null,null,null,null,null,null,null,null,null,null,null,null,null,null,null,null,null,null,null,null,null,null,null,null,null,null,null,null,null,null,null,null,null,null,null,null,null,null,null,null,null,null,null,null,null,null,null,null,null,null,null,null,null,null,null,null,null,null,null,null,null,null,null,null,null,null,null,null,null,null,null,null,null,null,null,null,null,null,null,null,null,null,null,null,null,null,null,null,null,null,null,null,null,null,null,null,null,null,null,null,null,null,null,null,null,null,null,null,null,null,null,null,null,null,null,null,null,null,null,null,null,null,null,null,null,null,null,null,null,null,null,null,null,null,null,null,null,null,null,null,null,null,null,null,null,null,null,null,null,null,null,null,null,null,null,null,null,null,null,null,null,null,null,null,null,null,null,null,null,null,null,null,null,null,null,null,null,null,null,null,null,null,null,null,null,null,null,null,null,null,null,null,null,null,null,null,null,null,null,null,null,null,null,null,null,null,null,null,null,null,null,null,null,null,null,null,null,null,null,null,null,null,null,null,null,null,null,null,null,null,null,null,null,null,null,null,null,null,null,null,null,null,null,null,null,null,null,null,null,null,null,null,null,null,null,null,null,null,null,null,null,null,null,null,null,null,null,null,null,null,null,null,null,null,null,null,null,null,null,null,null,null,null,null,null,null,null,null,null,null,null,null,null,null,null,null,null,null,null,null,null,null,null,null,null,null,null,null,null,null,null,null,null,null,null,null,null,null,null,null,null,null,null,null,null,null,null,null,null,null,null,null,null,null,null,null,null,null,null,null,null,null,null,null,null,null,null,null,null,null,null,null,null,null,null,null,null,null,null,null,null,null,null,null,null,null,null,null,null,null,null,null,null,null,null,null,null,null,null,null,null,null,null,null,null,null,null,null,null,null,null,null,null,null,null,null,null,null,null,null,null,null,null,null,null,null,null,null,null,null,null,null,null,null,null,null,null,null,null,null,null,null,null,null,null,null,null,null,null,null,null,null,null,null,null,null,null,null,null,null,null,null,null,null,null,null,null,null,null,null,null,null,null,null,null,null,null,null,null,null,null,null,null,null,null,null,null,null,null,null,null,null,null,null,null,null,null,null,null,null,null,null,null,null,null,null,null,null,null,null,null,null,null,null,null,null,null,null,null,null,null,null,null,null,null,null,null,null,null,null,null,null,null,null,null,null,null,null,null,null,null,null,null,null,null,null,null,null,null,null,null,null,null,null,null,null,null,null,null,null,null,null,null,null,null,null,null,null,null,null,null,null,null,null,null,null,null,null,null,null,null,null,null,null,null,null,null,null,null,null,null,null,null,null,null,null,null,null,null,null,null,null,null,null,null,null,null,null,null,null,null,null,null,null,null,null,null,null,null,null,null,null,null,null,null,null,null,null,null,null,null,null,null,null,null,null,null,null,null,null,null,null,null,null,null,null,null,null,null,null,null,null,null,null,null,null,null,null,null,null,null,null,null,null,null,null,null,null,null,null,null,null,null,null,null,null,null,null,null,null,null,null,null,null,null,null,null,null,null,null,null,null,null,null,null,null,null,null,null,null,null,null,null,null,null,null,null,null,null,null,null,null,null,null,null,null,null,null,null,null,null,null,null,null,null,null,null,null,null,null,null,null,null,null,null,null,null,null,null,null,null,null,null,null,null,null,null,null,null,null,null,null,null,null,null,null,null,null,null,null,null,null,null,null,null,null,null,null,null,null,null,null,null,null,null,null,null,null,null,null,null,null,null,null,null,null,null,null,null,null,null,null,null,null,null,null,null,null,null,null,null,null,null,null,null,null,null,null,null,null,null,null,null,null,null,null,null,null,null,null,null,null,null,null,null,null,null,null,null,null,null,null,null,null,null,null,null,null,null,null,null,null,null,null,null,null,null,null,null,null,null,null,null,null,null,null,null,null,null,null,null,null,null,null,null,null,null,null,null,null,null,null,null,null,null,null,null,null,null,null,null,null,null,null,null,null,null,null,null,null,null,null,null,null,null,null,null,null,null,null,null,null,null,null,null,null,null,null,null,null,null,null,null,null,null,null,null,null,null,null,null,null,null,null,null,null,null,null,null,null,null,null,null,null,null,null,null,null,null,null,null,null,null,null,null,null,null,null,null,null,null,null,null,null,null,null,null,null,null,null,null,null,null,null,null,null,null,null,null,null,null,null,null,null,null,null,null,null,null,null,null,null,null,null,null,null,null,null,null,null,null,null,null,null,null,null,null,null,null,null,null,null,null,null,null,null,null,null,null,null,null,null,null,null,null,null,null,null,null,null,null,null,null,null,null,null,null,null,null,null,null,null,null,null,null,null,null,null,null,null,null,null,null,null,null,null,null,null,null,null,null,null,null,null,null,null,null,null,null,null,null,null,null,null,null,null,null,null,null,null,null,null,null,null,null,null,null,null,null,null,null,null,null,null,null,null,null,null,null,null,null,null,null,null,null,null,null,null,null,null,null,null,null,null,null,null,null,null,null,null,null,null,null,null,null,null,null,null,null,null,null,null,null,null,null,null,null,null,null,null,null,null,null,null,null,null,null,null,null,null,null,null,null,null,null,null,null,null,null,null,null,null,null,null,null,null,null,null,null,null,null,null,null,null,null,null,null,null,null,null,null,null,null,null,null,null,null,null,null,null,null,null,null,null,null,null,null,null,null,null,null,null,null,null,null,null,null,null,null,null,null,null,null,null,null,null,null,null,null,null,null,null,null,null,null,null,null,null,null,null,null,null,null,null,null,null,null,null,null,null,null,null,null,null,null,null,null,null,null,null,null,null,null,null,null,null,null,null,null,null,null,null,null,null,null,null,null,null,null,null,null,null,null,null,null,null,null,null,null,null,null,null,null,null,null,null,null,null,null,null,null,null,null,null,null,null,null,null,null,null,null,null,null,null,null,null,null,null,null,null,null,null,null,null,null,null,null,null,null,null,null,null,null,null,null,null,null,null,null,null,null,null,null,null,null,null,null,null,null,null,null,null,null,null,null,null,null,null,null,null,null,null,null,null,null,null,null,null,null,null,null,null,null,null,null,null,null,null,null,null,null,null,null,null,null,null,null,null,null,null,null,null,null,null,null,null,null,null,null,null,null,null,null,null,null,null,null,null,null,null,null,null,null,null,null,null,null,null,null,null,null,null,null,null,null,null,null,null,null,null,null,null,null,null,null,null,null,null,null,null,null,null,null,null,null,null,null,null,null,null,null,null,null,null,null,null,null,null,null,null,null,null,null,null,null,null,null,null,null,null,null,null,null,null,null,null,null,null,null,null,null,null,null,null,null,null,null,null,null,null,null,null,null,null,null,null,null,null,null,null,null,null,null,null,null,null,null,null,null,null,null,null,null,null,null,null,null,null,null,null,null,null,null,null,null,null,null,null,null,null,null,null,null,null,null,null,null,null,null,null,null,null,null,null,null,null,null,null,null,null,null,null,null,null,null,null,null,null,null,null,null,null,null,null,null,null,2,2,null,null,null,null,null,null,null,null,null,null,null,null,null,null,null,null,null,null,null,null,null,null,null,null,null,null,null,null,null,null,null,null,null,null,null,null,null,null,null,null,null,null,null,null,null,null,null,null,null,null,null,null,null,null,null,null,null,null,null,null,null,null,null,null,null,null,null,null,null,null,null,null,null,null,null,null,null,null,null,null,null,null,null,null,null,null,null,null,null,null,null,null,null,null,null,null,null,null,null,null,null,null,null,null,null,null,null,null,null,null,null,null,null,null,null,null,null,null,null,null,null,null,null,null,null,null,null,null,null,null,null,null,null,null,null,null,null,null,null,null,null,null,null,null,null,null,null,null,null,null,null,null,null,null,null,null,null,null,null,null,null,null,null,null,null,null,null,null,null,null,null,null,null,null,null,null,null,null,null,null,null,null,null,null,null,null,null,null,null,null,null,null,null,null,null,null,null,null,null,null,null,null,null,null,null,null,null,null,null,null,null,null,null,null,null,null,null,null,null,null,null,null,null,null,null,null,null,null,null,null,null,null,null,null,null,null,null,null,null,null,null,null,null,null,null,null,null,null,null,null,null,null,null,null,null,null,null,null,null,null,null,null,null,null,null,null,null,null,null,null,null,null,null,null,null,null,null,null,null,null,null,null,null,null,null,null,null,null,null,null,null,null,null,null,null,null,null,null,null,null,null,null,null,null,null,null,null,null,null,null,null,null,null,null,null,null,null,null,null,null,null,null,null,null,null,null,null,null,null,null,null,null,null,null,null,null,null,null,null,null,null,null,null,null,null,null,null,null,null,null,null,null,null,null,null,null,null,null,null,null,null,null,null,null,null,null,null,null,null,null,null,null,null,null,null,null,null,null,null,null,null,null,null,null,null,null,null,null,null,null,null,null,null,null,null,null,null,null,null,null,null,null,null,null,null,null,null,null,null,null,null,null,null,null,null,null,null,null,null,null,null,null,null,null,null,null,null,null,null,null,null,null,null,null,null,null,null,null,null,null,null,null,null,null,null,null,null,null,null,null,null,null,null,null,null,null,null,null,1,1,3,1,null,1,0,0,0,0,0,0,null,2,null,null,null,null,null,null,1,"Willow",2,null,null,"2014-01-15T04:19:00","2014-01-15T04:20:00",null,15255,5,"Firefox 26.0","Windows NT 6.1","209.112.172.118"]
[210,11191,2,null,2,null,null,null,null,null,null,null,null,null,null,null,null,null,null,null,null,null,null,null,null,null,null,null,null,null,null,null,null,null,null,null,null,null,null,null,null,null,null,null,null,null,null,null,null,null,null,null,null,null,null,null,null,null,null,null,null,null,null,null,null,null,null,null,null,null,null,null,null,null,null,null,null,null,null,null,null,null,null,null,null,null,null,null,null,null,null,null,null,null,null,null,null,null,null,null,null,null,null,null,null,null,null,null,null,null,null,null,null,null,null,null,null,null,null,null,null,null,null,null,null,null,null,null,null,null,null,null,null,null,null,null,null,null,null,null,null,null,null,null,null,null,null,null,null,null,null,null,null,null,null,null,null,null,null,null,null,null,null,null,null,null,null,null,null,null,null,null,null,null,null,null,null,null,null,null,null,null,null,null,null,null,null,null,null,null,null,null,null,null,null,null,null,null,null,null,null,null,null,null,null,null,null,null,null,null,null,null,null,null,null,null,null,null,null,null,null,null,null,null,null,null,null,null,null,null,null,null,null,null,null,null,null,null,null,null,null,null,null,null,null,null,null,null,null,null,null,null,null,null,null,null,null,null,null,null,null,null,null,null,null,null,null,null,null,null,null,null,null,null,null,null,null,null,null,null,null,null,null,null,null,null,null,null,null,null,null,null,null,null,null,null,null,null,null,null,null,null,null,null,null,null,null,null,null,null,null,null,null,null,null,null,null,null,null,null,null,null,null,null,null,null,null,null,null,null,null,null,null,null,null,null,null,null,null,null,null,null,null,null,null,null,null,null,null,null,null,null,null,null,null,null,null,null,null,null,null,null,null,null,null,null,null,null,null,null,null,null,null,null,null,null,null,null,null,null,null,null,null,null,null,null,null,null,null,null,null,null,null,null,null,null,null,null,null,null,null,null,null,null,null,null,null,null,null,null,null,null,null,null,null,null,null,null,null,null,null,null,null,null,null,null,null,null,null,null,null,null,null,null,null,null,null,null,null,null,null,null,null,null,null,null,null,null,null,null,null,null,null,null,null,null,null,null,null,null,null,null,null,null,null,null,null,null,null,null,null,null,null,null,null,null,null,null,null,null,null,null,null,null,null,null,null,null,null,null,null,null,null,null,null,null,null,null,null,null,null,null,null,null,null,null,null,null,null,null,null,null,null,null,null,null,null,null,null,null,null,null,null,null,null,null,null,null,null,null,null,null,null,null,null,null,null,null,null,null,null,null,null,null,null,null,null,null,null,null,null,null,null,null,null,null,null,null,null,null,null,null,null,null,null,null,null,null,null,null,null,null,null,null,null,null,null,null,null,null,null,null,null,null,null,null,null,null,null,null,null,null,null,null,null,null,null,null,null,null,null,null,null,null,null,null,null,null,null,null,null,null,null,null,null,null,null,null,null,null,null,null,null,null,null,null,null,null,null,null,null,null,null,null,null,null,null,null,null,null,null,null,null,null,null,null,null,null,null,null,null,null,null,null,null,null,null,null,null,null,null,null,null,null,null,null,null,null,null,null,null,null,null,null,null,null,null,null,null,null,null,null,null,null,null,null,null,null,null,null,null,null,null,null,null,null,null,null,null,null,null,null,null,null,null,null,null,null,null,null,null,null,null,null,null,null,null,null,null,null,null,null,null,null,null,null,null,null,null,null,null,null,null,null,null,null,null,null,null,null,null,null,null,null,null,null,null,null,null,null,null,null,null,null,null,null,null,null,null,null,null,null,null,null,null,null,null,null,null,null,null,null,null,null,null,null,null,null,null,null,null,null,null,null,null,null,null,null,null,null,null,null,null,null,null,null,null,null,null,null,null,null,null,null,null,null,null,null,null,null,null,null,null,null,null,null,null,null,null,null,null,null,null,null,null,null,null,null,null,null,null,null,null,null,null,null,null,null,null,null,null,null,null,null,null,null,null,null,null,null,null,null,null,null,null,null,null,null,null,null,null,null,null,null,null,null,null,null,null,null,null,null,null,null,null,null,null,null,null,null,null,null,null,null,null,null,null,null,null,null,null,null,null,null,null,null,null,null,null,null,null,null,null,null,null,null,null,null,null,null,null,null,null,null,null,null,null,null,null,null,null,null,null,null,null,null,null,null,null,null,null,null,null,null,null,null,null,null,null,null,null,null,null,null,null,null,null,null,null,null,null,null,null,null,null,null,null,null,null,null,null,null,null,null,null,null,null,null,null,null,null,null,null,null,null,null,null,null,null,null,null,null,null,null,null,null,null,null,null,null,null,null,null,null,null,null,null,null,null,null,null,null,null,null,null,null,null,null,null,null,null,null,null,null,null,null,null,null,null,null,null,null,null,null,null,null,null,null,null,null,null,null,null,null,null,null,null,null,null,null,null,null,null,null,null,null,null,null,null,null,null,null,null,null,null,null,null,null,null,null,null,null,null,null,null,null,null,null,null,null,null,null,null,null,null,null,null,null,null,null,null,null,null,null,null,null,null,null,null,null,null,null,null,null,null,null,null,null,null,null,null,null,null,null,null,null,null,null,null,null,null,null,null,null,null,null,null,null,null,null,null,null,null,null,null,null,null,null,null,null,null,null,null,null,null,null,null,null,null,null,null,null,null,null,null,null,null,null,null,null,null,null,null,null,null,null,null,null,null,null,null,null,null,null,null,null,null,null,null,null,null,null,null,null,null,null,null,null,null,null,null,null,null,null,null,null,null,null,null,null,null,null,null,null,null,null,null,null,null,null,null,null,null,null,null,null,null,null,null,null,null,null,null,null,null,null,null,null,null,null,null,null,null,null,null,null,null,null,null,null,null,null,null,null,null,null,null,null,null,null,null,null,null,null,null,null,null,null,null,null,null,null,null,null,null,null,null,null,null,null,null,null,null,null,null,null,null,null,null,null,null,null,null,null,null,null,null,null,null,null,null,null,null,null,null,null,null,null,null,null,null,null,null,null,null,null,null,null,null,null,null,null,null,null,null,null,null,null,null,null,null,null,null,null,null,null,null,null,null,null,null,null,null,null,null,null,null,null,null,null,null,null,null,null,null,null,null,null,null,null,null,null,null,null,null,null,null,null,null,null,null,null,null,null,null,null,null,null,null,null,null,null,null,null,null,null,null,null,null,null,null,null,null,null,null,null,null,null,null,null,null,null,null,null,null,null,null,null,null,null,null,null,null,null,null,null,null,null,null,null,null,null,null,null,null,null,null,null,null,null,null,null,null,null,null,null,null,null,null,null,null,null,null,null,null,null,null,null,null,null,null,null,null,null,null,null,null,null,null,null,null,null,null,null,null,null,null,null,null,null,null,null,null,null,null,null,null,null,null,null,null,null,null,null,null,null,null,null,null,null,null,null,null,null,null,null,null,null,null,null,null,null,null,null,null,null,null,null,null,null,null,null,null,null,null,null,null,null,null,null,null,null,null,null,null,null,null,null,null,null,null,null,null,null,null,null,null,null,null,null,null,null,null,null,null,null,null,null,null,null,null,null,null,null,null,null,null,null,null,null,null,null,null,null,null,null,null,null,null,null,null,null,null,null,null,null,null,null,null,null,null,null,null,null,null,null,null,null,null,null,null,null,null,null,null,null,null,null,null,null,null,null,null,null,null,null,null,null,null,null,null,null,null,null,null,null,null,null,null,null,null,null,null,null,null,null,null,null,null,null,null,null,null,null,null,null,null,null,null,null,null,null,null,null,null,null,null,null,null,null,null,null,null,null,null,null,null,null,null,null,null,null,null,null,null,null,null,null,null,null,null,null,null,null,null,null,null,null,null,null,null,null,null,null,null,null,null,null,null,null,null,null,null,null,null,null,null,null,null,null,null,null,null,null,null,null,null,null,null,null,null,null,null,null,null,null,null,null,null,null,null,null,null,null,null,null,null,null,null,null,null,null,null,null,null,null,null,null,null,null,null,null,null,null,null,null,null,null,null,null,null,null,null,null,null,null,null,null,null,null,null,null,null,null,null,null,null,null,null,null,null,null,null,null,null,null,null,null,null,null,null,null,null,null,null,null,null,null,null,null,null,null,null,null,null,null,null,null,null,null,null,null,null,null,null,null,null,null,null,null,null,null,null,null,null,null,null,null,null,null,null,null,null,null,null,null,null,null,null,null,null,null,null,null,null,null,null,null,null,null,null,null,null,null,null,null,null,null,null,null,null,null,null,null,null,null,null,null,null,null,null,null,null,null,null,null,null,null,null,null,null,null,null,null,null,null,null,null,null,null,null,null,null,null,null,null,null,null,null,null,null,null,null,null,null,null,null,2,2,null,null,null,null,null,null,null,null,null,null,null,null,null,null,null,null,null,null,null,null,null,null,null,null,null,null,null,null,null,null,null,null,null,null,null,null,null,null,null,null,null,null,null,null,null,null,null,null,null,null,null,null,null,null,null,null,null,null,null,null,null,null,null,null,null,null,null,null,null,null,null,null,null,null,null,null,null,null,null,null,null,null,null,null,null,null,null,null,null,null,null,null,null,null,null,null,null,null,null,null,null,null,null,null,null,null,null,null,null,null,null,null,null,null,null,null,null,null,null,null,null,null,null,null,null,null,null,null,null,null,null,null,null,null,null,null,null,null,null,null,null,null,null,null,null,null,null,null,null,null,null,null,null,null,null,null,null,null,null,null,null,null,null,null,null,null,null,null,null,null,null,null,null,null,null,null,null,null,null,null,null,null,null,null,null,null,null,null,null,null,null,null,null,null,null,null,null,null,null,null,null,null,null,null,null,null,null,null,null,null,null,null,null,null,null,null,null,null,null,null,null,null,null,null,null,null,null,null,null,null,null,null,null,null,null,null,null,null,null,null,null,null,null,null,null,null,null,null,null,null,null,null,null,null,null,null,null,null,null,null,null,null,null,null,null,null,null,null,null,null,null,null,null,null,null,null,null,null,null,null,null,null,null,null,null,null,null,null,null,null,null,null,null,null,null,null,null,null,null,null,null,null,null,null,null,null,null,null,null,null,null,null,null,null,null,null,null,null,null,null,null,null,null,null,null,null,null,null,null,null,null,null,null,null,null,null,null,null,null,null,null,null,null,null,null,null,null,null,null,null,null,null,null,null,null,null,null,null,null,null,null,null,null,null,null,null,null,null,null,null,null,null,null,null,null,null,null,null,null,null,null,null,null,null,null,null,null,null,null,null,null,null,null,null,null,null,null,null,null,null,null,null,null,null,null,null,null,null,null,null,null,null,null,null,null,null,null,null,null,null,null,null,null,null,null,null,null,null,null,null,null,null,null,null,null,null,null,null,null,null,null,null,null,null,null,null,null,null,null,null,null,null,null,null,null,null,null,50,1,1,2,2,5,1,0,0,0,0,0,0,4,2,null,null,null,null,null,null,2,null,2,null,null,"2013-11-25T17:47:00","2013-11-25T17:49:00",null,811,5,"MSIE 10.0","Windows NT 6.1","72.42.184.48"]
[1794,11226,1,"ms",2,null,null,null,null,null,null,null,null,null,null,null,null,null,null,null,null,null,null,null,null,null,null,null,null,null,null,null,null,null,null,null,null,null,null,null,null,null,null,null,null,null,null,null,null,null,null,null,null,null,null,null,null,null,null,null,null,null,null,null,null,null,null,null,null,null,null,null,null,null,null,null,null,null,null,null,null,null,null,null,null,null,null,null,null,null,null,null,null,null,null,null,null,null,null,null,null,null,null,null,null,null,null,null,null,null,null,null,null,null,null,null,null,null,null,null,null,null,null,null,null,null,null,null,null,null,null,null,null,null,null,null,null,null,null,null,null,null,null,null,null,null,null,null,null,null,null,null,null,null,null,null,null,null,null,null,null,null,null,null,null,null,null,null,null,null,null,null,null,null,null,null,null,null,null,null,null,null,null,null,null,null,null,null,null,null,null,null,null,null,null,null,null,null,null,null,null,null,null,null,null,null,null,null,null,null,null,null,null,null,null,null,null,null,null,null,null,null,null,null,null,null,null,null,null,null,null,null,null,null,null,null,null,null,null,null,null,null,null,null,null,null,null,null,null,null,null,null,null,null,null,null,null,null,null,null,null,null,null,null,null,null,null,null,null,null,null,null,null,null,null,null,null,null,null,null,null,null,null,null,null,null,null,null,null,null,null,null,null,null,null,null,null,null,null,null,null,null,null,null,null,null,null,null,null,null,null,null,null,null,null,null,null,null,null,null,null,null,null,null,null,null,null,null,null,null,null,null,null,null,null,null,null,null,null,null,null,null,null,null,null,null,null,null,null,null,null,null,null,null,null,null,null,null,null,null,null,null,null,null,null,null,null,null,null,null,null,null,null,null,null,null,null,null,null,null,null,null,null,null,null,null,null,null,null,null,null,null,null,null,null,null,null,null,null,null,null,null,null,null,null,null,null,null,null,null,null,null,null,null,null,null,null,null,null,null,null,null,null,null,null,null,null,null,null,null,null,null,null,null,null,null,null,null,null,null,null,null,null,null,null,null,null,null,null,null,null,null,null,null,null,null,null,null,null,null,null,null,null,null,null,null,null,null,null,null,null,null,null,null,null,null,null,null,null,null,null,null,null,null,null,null,null,null,null,null,null,null,null,null,null,null,null,null,null,null,null,null,null,null,null,null,null,null,null,null,null,null,null,null,null,null,null,null,null,null,null,null,null,null,null,null,null,null,null,null,null,null,null,null,null,null,null,null,null,null,null,null,null,null,null,null,null,null,null,null,null,null,null,null,null,null,null,null,null,null,null,null,null,null,null,null,null,null,null,null,null,null,null,null,null,null,null,null,null,null,null,null,null,null,null,null,null,null,null,null,null,null,null,null,null,null,null,null,null,null,null,null,null,null,null,null,null,null,null,null,null,null,null,null,null,null,null,null,null,null,null,null,null,null,null,null,null,null,null,null,null,null,null,null,null,null,null,null,null,null,null,null,null,null,null,null,null,null,null,null,null,null,null,null,null,null,null,null,null,null,null,null,null,null,null,null,null,null,null,null,null,null,null,null,null,null,null,null,null,null,null,null,null,null,null,null,null,null,null,null,null,null,null,null,null,null,null,null,null,null,null,null,null,null,null,null,null,null,null,null,null,null,null,null,null,null,null,null,null,null,null,null,null,null,null,null,null,null,null,null,null,null,null,null,null,null,null,null,null,null,null,null,null,null,null,null,null,null,null,null,null,null,null,null,null,null,null,null,null,null,null,null,null,null,null,null,null,null,null,null,null,null,null,null,null,null,null,null,null,null,null,null,null,null,null,null,null,null,null,null,null,null,null,null,null,null,null,null,null,null,null,null,null,null,null,null,null,null,null,null,null,null,null,null,null,null,null,null,null,null,null,null,null,null,null,null,null,null,null,null,null,null,null,null,null,null,null,null,null,null,null,null,null,null,null,null,null,null,null,null,null,null,null,null,null,null,null,null,null,null,null,null,null,null,null,null,null,null,null,null,null,null,null,null,null,null,null,null,null,null,null,null,null,null,null,null,null,null,null,null,null,null,null,null,null,null,null,null,null,null,null,null,null,null,null,null,null,null,null,null,null,null,null,null,null,null,null,null,null,null,null,null,null,null,null,null,null,null,null,null,null,null,null,null,null,null,null,null,null,null,null,null,null,null,null,null,null,null,null,null,null,null,null,null,null,null,null,null,null,null,null,null,null,null,null,null,null,null,null,null,null,null,null,null,null,null,null,null,null,null,null,null,null,null,null,null,null,null,null,null,null,null,null,null,null,null,null,null,null,null,null,null,null,null,null,null,null,null,null,null,null,null,null,null,null,null,null,null,null,null,null,null,null,null,null,null,null,null,null,null,null,null,null,null,null,null,null,null,null,null,null,null,null,null,null,null,null,null,null,null,null,null,null,null,null,null,null,null,null,null,null,null,null,null,null,null,null,null,null,null,null,null,null,null,null,null,null,null,null,null,null,null,null,null,null,null,null,null,null,null,null,null,null,null,null,null,null,null,null,null,null,null,null,null,null,null,null,null,null,null,null,null,null,null,null,null,null,null,null,null,null,null,null,null,null,null,null,null,null,null,null,null,null,null,null,null,null,null,null,null,null,null,null,null,null,null,null,null,null,null,null,null,null,null,null,null,null,null,null,null,null,null,null,null,null,null,null,null,null,null,null,null,null,null,null,null,null,null,null,null,null,null,null,null,null,null,null,null,null,null,null,null,null,null,null,null,null,null,null,null,null,null,null,null,null,null,null,null,null,null,null,null,null,null,null,null,null,null,null,null,null,null,null,null,null,null,null,null,null,null,null,null,null,null,null,null,null,null,null,null,null,null,null,null,null,null,null,null,null,null,null,null,null,null,null,null,null,null,null,null,null,null,null,null,null,null,null,null,null,null,null,null,null,null,null,null,null,null,null,null,null,null,null,null,null,null,null,null,null,null,null,null,null,null,null,null,null,null,null,null,null,null,null,null,null,null,null,null,null,null,null,null,null,null,null,null,null,null,null,null,null,null,null,null,null,null,null,null,null,null,null,null,null,null,null,null,null,null,null,null,null,null,null,null,null,null,null,null,null,null,null,null,null,null,null,null,null,null,null,null,null,null,null,null,null,null,null,null,null,null,null,null,null,null,null,null,null,null,null,null,null,null,null,null,null,null,null,null,null,null,null,null,null,null,null,null,null,null,null,null,null,null,null,null,null,null,null,null,null,null,null,null,null,null,null,null,null,null,null,null,null,null,null,null,null,null,null,null,null,null,null,null,null,null,null,null,null,null,null,null,null,null,null,null,null,null,null,null,null,null,null,null,null,null,null,null,null,null,null,null,null,null,null,null,null,null,null,null,null,null,null,null,null,null,null,null,null,null,null,null,null,null,null,null,null,null,null,null,null,null,null,null,null,null,null,null,null,null,null,null,null,null,null,null,null,null,null,null,null,null,null,null,null,null,null,null,null,null,null,null,null,null,null,null,null,null,null,null,null,null,null,null,null,null,null,null,null,null,null,null,null,null,null,null,null,null,null,null,null,null,null,null,null,null,null,null,null,null,null,null,null,null,null,null,null,null,null,null,null,null,null,null,null,null,null,null,null,null,null,null,null,null,null,null,null,null,null,null,null,null,null,null,null,null,null,null,null,null,null,null,null,null,null,null,null,null,null,null,null,null,null,null,null,null,null,null,null,null,null,null,null,null,null,null,null,null,null,null,null,null,null,null,null,null,null,null,null,null,null,null,null,null,null,null,null,null,null,null,null,null,null,null,null,null,null,null,null,null,null,null,null,null,null,null,null,null,null,null,null,null,null,null,null,null,null,null,null,null,null,null,null,null,null,null,null,null,null,null,null,null,null,null,null,null,null,null,null,null,null,null,null,null,null,null,null,null,null,null,null,null,null,null,null,null,null,null,null,null,null,null,null,null,null,null,null,null,null,null,null,null,null,null,null,null,null,null,null,null,null,null,null,null,null,null,null,null,null,null,null,null,null,null,null,null,null,null,null,null,null,null,null,null,null,null,null,null,null,null,null,null,null,null,null,null,null,null,null,null,null,null,null,null,null,null,null,null,null,null,null,null,null,null,null,null,null,null,null,null,null,null,null,null,null,null,null,null,null,null,null,null,null,null,null,null,null,null,null,null,null,null,null,null,null,null,null,null,null,null,null,null,null,null,null,null,null,null,null,null,null,null,null,null,null,null,null,null,null,null,null,null,null,null,null,null,null,null,null,null,null,null,null,null,null,null,null,null,null,null,null,null,null,null,null,null,null,null,null,2,1,5,0,0,1,0,0,0,0,0,0,0,0,1,0,0,0,1,0,0,0,0,0,0,null,null,null,null,2,null,null,null,null,null,null,null,null,1,null,null,null,2,null,null,null,null,null,null,null,null,null,null,0,null,null,null,null,null,null,null,null,0,null,null,null,1,null,null,null,null,null,null,null,null,16,null,null,null,null,0,0,0,0,0,0,0,0,0,0,0,0,0,0,0,0,0,0,0,0,0,0,0,0,0,0,0,0,0,0,0,0,0,0,0,0,0,0,0,0,0,0,0,0,0,0,0,0,0,1,0,0,0,0,0,0,0,0,0,1,2006,2,2,null,2,null,null,null,null,null,null,null,null,null,null,null,null,null,null,null,null,null,null,null,null,null,null,null,null,null,null,null,null,null,null,null,null,null,null,null,null,null,null,null,null,null,null,null,null,null,null,null,null,null,null,null,null,null,null,null,null,null,null,null,null,null,null,null,null,null,null,null,null,null,null,null,null,null,null,null,null,null,null,null,null,null,null,null,null,null,null,null,null,null,null,null,null,null,null,null,null,null,null,null,null,null,null,null,null,null,null,null,null,null,null,null,null,null,null,null,null,null,null,null,null,null,null,null,null,null,null,null,null,null,null,null,null,null,null,null,null,null,null,null,null,null,null,null,null,null,null,null,null,null,null,null,null,null,null,null,null,null,null,null,null,null,null,null,null,null,null,null,null,null,null,null,null,null,null,null,null,null,null,null,null,null,null,null,null,null,null,null,null,null,null,null,null,null,null,null,null,null,null,null,null,null,null,null,null,null,null,null,null,null,null,null,null,null,null,null,null,null,null,null,null,null,null,null,null,null,null,null,null,null,null,3,2,2,3,2,null,null,null,null,3,null,null,null,null,null,null,null,2,null,null,1,0,0,0,0,0,0,0,0,0,0,null,1,0,0,0,0,0,0,0,0,0,0,0,0,null,2,null,null,null,null,null,null,null,null,null,null,null,null,2,3,3,1,1,2,1,2,3,3,3,3,2,3,2,2,2,2,4,3,3,3,3,3,3,63,2,1,3,1,7,1,0,0,0,0,0,0,6,2,null,null,null,null,null,null,2,null,1,"kenning_ak@yahoo.com",null,"2014-01-15T04:15:00","2014-01-15T04:20:00",null,15252,5,"Firefox 23.0","Windows XP","209.112.172.118",3,12,16,null,null,null,null,null,null,null,null,null,null,null,null,null,null,null,null,null,null,null,null,null,16,null,null,null,null,null,null,null,null,null,null,null,null,null,null,null,null,null,null,null,null,null,null,null,null,null,null,null,null,null,null,null,null,null,null,null,null,null,null,null,null,null,null,null,null,null,null,null,16]
[1354,11686,1,"ce",2,null,null,null,null,null,null,null,null,null,null,null,null,null,null,null,null,null,null,null,null,null,null,null,null,null,null,null,null,null,null,null,null,null,null,null,null,null,null,null,null,null,null,null,null,null,null,null,null,null,null,null,null,null,null,null,null,null,null,null,null,null,null,null,null,null,null,null,null,null,null,null,null,null,null,null,null,null,null,null,null,null,null,null,null,null,null,null,null,null,null,null,null,null,null,null,null,null,null,null,null,null,null,null,null,null,null,null,null,null,null,null,null,null,null,null,null,null,null,null,null,null,null,null,null,null,null,null,null,null,null,null,null,null,null,null,null,null,null,null,null,null,null,null,null,null,null,null,null,null,null,null,null,null,null,null,null,null,null,null,null,null,null,null,null,null,null,null,null,null,null,null,null,null,null,null,null,null,null,null,null,null,null,null,null,null,null,null,null,null,null,null,null,null,null,null,null,null,null,null,null,null,null,null,null,null,null,null,null,null,null,null,null,null,null,null,null,null,null,null,null,null,null,null,null,null,null,null,null,null,null,null,null,null,null,null,null,null,null,null,null,null,null,null,null,null,null,null,null,null,null,null,null,null,null,null,null,null,null,null,null,null,null,null,null,null,null,null,null,null,null,null,null,null,null,null,null,null,null,null,null,null,null,null,null,null,null,null,null,null,null,null,null,null,null,null,null,null,null,null,null,null,null,null,null,null,null,null,null,null,null,null,null,null,null,null,null,null,null,null,null,null,null,null,null,null,null,null,null,null,null,null,null,null,null,null,null,null,null,null,null,null,null,null,null,null,null,null,null,null,null,null,null,null,null,null,null,null,null,null,null,null,null,null,null,null,null,null,null,null,null,null,null,null,null,null,null,null,null,null,null,null,null,null,null,null,null,null,null,null,null,null,null,null,null,null,null,null,null,null,null,null,null,null,null,null,null,null,null,null,null,null,null,null,null,null,null,null,null,null,null,null,null,null,null,null,null,null,null,null,null,null,null,null,null,null,null,null,null,null,null,null,null,null,null,null,null,null,null,null,null,null,null,null,null,null,null,null,null,null,null,null,null,null,null,null,null,null,null,null,null,null,null,null,null,null,null,null,null,null,null,null,null,null,null,null,null,null,null,null,null,null,null,null,null,null,null,null,null,null,null,null,null,null,null,null,null,null,null,null,null,null,null,null,null,null,null,null,null,null,null,null,null,null,null,null,null,null,null,null,null,null,null,null,null,null,null,null,null,null,null,null,null,null,null,null,null,null,null,null,null,null,null,null,null,null,null,null,null,null,null,null,null,null,null,null,null,null,null,null,null,null,null,null,null,null,null,null,null,null,null,null,null,null,null,null,null,null,null,null,null,null,null,null,null,null,null,null,null,null,null,null,null,null,null,null,null,null,null,null,null,null,null,null,null,null,null,null,null,null,null,null,null,null,null,null,null,null,null,null,null,null,null,null,null,null,null,null,null,null,null,null,null,null,null,null,null,null,null,null,null,null,null,null,null,null,null,null,null,null,null,null,null,null,null,null,null,null,null,null,null,null,null,null,null,null,null,null,null,null,null,null,null,null,null,null,null,null,null,null,null,null,null,null,null,null,null,null,null,null,null,null,null,null,null,null,null,null,null,null,null,null,null,null,null,null,null,null,null,null,null,null,null,null,null,null,null,null,null,null,null,null,null,null,null,null,null,null,null,null,null,null,null,null,null,null,null,null,null,null,null,null,null,null,null,null,null,null,null,null,null,null,null,null,null,null,null,null,null,null,null,null,null,null,null,null,null,null,null,null,null,null,null,null,null,null,null,null,null,null,null,null,null,null,null,null,null,null,null,null,null,null,null,null,null,null,null,null,null,null,null,null,null,null,null,null,null,null,null,null,null,null,null,null,null,null,null,null,null,null,null,null,null,null,null,null,null,null,null,null,null,null,null,null,null,null,null,null,null,null,null,null,null,null,null,null,null,null,null,null,null,null,null,null,null,null,null,null,null,null,null,null,null,null,null,null,null,null,null,null,null,null,null,null,null,null,null,null,null,null,null,null,null,null,null,null,null,null,null,null,null,null,null,null,null,null,null,null,null,null,null,null,null,null,null,null,null,null,null,null,null,null,null,null,null,null,null,null,null,null,null,null,null,null,null,null,null,null,null,null,null,null,null,null,null,null,null,null,null,null,null,null,null,null,null,null,null,null,null,null,null,null,null,null,null,null,null,null,null,null,null,null,null,null,null,null,null,null,null,null,null,null,null,null,null,null,null,null,null,null,null,null,null,null,null,null,null,null,null,null,null,null,null,null,null,null,null,null,null,null,null,null,null,null,null,null,null,null,null,null,null,null,null,null,null,null,null,null,null,null,null,null,null,null,null,null,null,null,null,null,null,null,null,null,null,null,null,null,null,null,null,null,null,null,null,null,null,null,null,null,null,null,null,null,null,null,null,null,null,null,null,null,null,null,null,null,null,null,null,null,null,null,null,null,null,null,null,null,null,null,null,null,null,null,null,null,null,null,null,null,null,null,null,null,null,null,null,null,null,null,null,null,null,null,null,null,null,null,null,null,null,null,null,null,null,null,null,null,null,null,null,null,null,null,null,null,null,null,null,null,null,null,null,null,null,null,null,null,null,null,null,null,null,null,null,null,null,null,null,null,null,null,null,null,null,null,null,null,null,null,null,null,null,null,null,null,null,null,null,null,null,null,null,null,null,null,null,null,null,null,null,null,null,null,null,null,null,null,null,null,null,null,null,null,null,null,null,null,null,null,null,null,null,null,null,null,null,null,null,null,null,null,null,null,null,null,null,null,null,null,null,null,null,null,null,null,null,null,null,null,null,null,null,null,null,null,null,null,null,null,null,null,null,null,null,null,null,null,null,null,null,null,null,null,null,null,null,null,null,null,null,null,null,null,null,null,null,null,null,null,null,null,null,null,null,null,null,null,null,null,null,null,null,null,null,null,null,null,null,null,null,null,null,null,null,null,null,null,null,null,null,null,null,null,null,null,null,null,null,null,null,null,null,null,null,null,null,null,null,null,null,null,null,null,null,null,null,null,null,null,null,null,null,null,null,null,null,null,null,null,null,null,null,null,null,null,null,null,null,null,null,null,null,null,null,null,null,null,null,null,null,null,null,null,null,null,null,null,null,null,null,null,null,null,null,null,null,null,null,null,null,null,null,null,null,null,null,null,null,null,null,null,null,null,null,null,null,null,null,null,null,null,null,null,null,null,null,null,null,null,null,null,null,null,null,null,null,null,null,null,null,null,null,null,null,null,null,null,null,null,null,null,null,null,null,null,null,null,null,null,null,null,null,null,null,null,null,null,null,null,null,null,null,null,null,null,null,null,null,null,null,null,null,null,null,null,null,null,null,null,null,null,null,null,null,null,null,null,null,null,null,null,null,null,null,null,null,null,null,null,null,null,null,null,null,null,null,null,null,null,null,null,null,null,null,null,null,null,null,null,null,null,null,null,null,null,null,null,null,null,null,null,null,null,null,null,null,null,null,null,null,null,null,null,null,null,null,null,null,null,null,null,null,null,null,null,null,null,null,null,null,null,null,null,null,null,null,null,null,null,null,null,null,null,null,null,null,null,null,null,null,null,null,null,null,null,null,null,null,null,null,null,null,null,null,null,null,null,null,null,null,null,null,null,null,null,null,null,null,null,null,null,null,null,null,null,null,null,null,null,null,null,null,null,null,null,null,null,null,null,null,null,null,null,null,null,null,null,null,null,null,null,null,null,null,null,null,null,null,null,null,null,null,null,null,null,null,null,null,null,null,null,null,null,null,null,null,null,null,null,null,null,null,null,null,null,null,null,null,null,null,null,null,null,null,null,null,null,null,null,null,null,null,null,null,null,null,null,null,null,null,null,null,null,null,null,null,null,null,null,null,null,null,null,null,null,null,null,null,null,null,null,null,null,null,null,null,null,null,null,null,null,null,null,null,null,null,null,null,null,null,null,null,null,null,null,null,null,null,null,null,null,null,null,null,null,null,null,null,null,null,null,null,null,null,null,null,null,null,null,null,null,null,null,null,null,null,null,null,null,null,null,null,null,null,null,null,null,null,null,null,null,null,null,null,null,null,null,null,null,null,null,null,null,null,null,null,null,null,null,null,null,null,null,null,null,null,null,null,null,null,null,null,null,null,null,null,null,null,null,null,null,null,null,null,null,null,null,null,null,null,null,null,null,null,null,null,null,null,null,null,null,null,null,null,null,null,null,null,null,null,null,null,null,null,null,null,null,null,null,null,null,null,2,2,null,null,null,null,null,null,null,null,null,null,null,null,null,null,null,null,null,null,null,null,null,null,null,null,null,null,null,null,null,null,null,null,null,null,null,null,null,null,null,null,null,null,null,null,null,null,null,null,null,null,null,null,null,null,null,null,null,null,null,null,null,null,null,null,null,null,null,null,null,null,null,null,null,null,null,null,null,null,null,null,null,null,null,null,null,null,null,null,null,null,null,null,null,null,null,null,null,null,null,null,null,null,null,null,null,null,null,null,null,null,null,null,null,null,null,null,null,null,null,null,null,null,null,null,null,null,null,null,null,null,null,null,null,null,null,null,null,null,null,null,null,null,null,null,null,null,null,null,null,null,null,null,null,null,null,null,null,null,null,null,null,null,null,null,null,null,null,null,null,null,null,null,null,null,null,null,null,null,null,null,null,null,null,null,null,null,null,null,null,null,null,null,null,null,null,null,null,null,null,null,null,null,null,null,null,null,null,null,null,null,null,null,null,null,null,null,null,null,null,null,null,null,null,null,null,null,null,null,null,null,null,null,null,null,null,null,null,null,null,null,null,null,null,null,null,null,null,null,null,null,null,null,null,null,null,null,null,null,null,null,null,null,null,null,null,null,null,null,null,null,null,null,null,null,null,null,null,null,null,null,null,null,null,null,null,null,null,null,null,null,null,null,null,null,null,null,null,null,null,null,null,null,null,null,null,null,null,null,null,null,null,null,null,null,null,null,null,null,null,null,null,null,null,null,null,null,null,null,null,null,null,null,null,null,null,null,null,null,null,null,null,null,null,null,null,null,null,null,null,null,null,null,null,null,null,null,null,null,null,null,null,null,null,null,null,null,null,null,null,null,null,null,null,null,null,null,null,null,null,null,null,null,null,null,null,null,null,null,null,null,null,null,null,null,null,null,null,null,null,null,null,null,null,null,null,null,null,null,null,null,null,null,null,null,null,null,null,null,null,null,null,null,null,null,null,null,null,null,null,null,null,null,null,null,null,null,null,null,null,null,null,null,null,null,null,null,null,null,null,null,null,null,null,null,null,null,null,21,2,2,null,2,null,0,0,0,0,0,0,0,null,2,null,null,null,null,null,null,null,null,2,null,null,"2014-01-15T02:30:00","2014-01-15T02:30:00",null,15116,5,"Firefox 23.0","Windows XP","209.112.172.118"]
[1177,11991,1,"sb",2,null,null,null,null,null,null,null,null,null,null,null,null,null,null,null,null,null,null,null,null,null,null,null,null,null,null,null,null,null,null,null,null,null,null,null,null,null,null,null,null,null,null,null,null,null,null,null,null,null,null,null,null,null,null,null,null,null,null,null,null,null,null,null,null,null,null,null,null,null,null,null,null,null,null,null,null,null,null,null,null,null,null,null,null,null,null,null,null,null,null,null,null,null,null,null,null,null,null,null,null,null,null,null,null,null,null,null,null,null,null,null,null,null,null,null,null,null,null,null,null,null,null,null,null,null,null,null,null,null,null,null,null,null,null,null,null,null,null,null,null,null,null,null,null,null,null,null,null,null,null,null,null,null,null,null,null,null,null,null,null,null,null,null,null,null,null,null,null,null,null,null,null,null,null,null,null,null,null,null,null,null,null,null,null,null,null,null,null,null,null,null,null,null,null,null,null,null,null,null,null,null,null,null,null,null,null,null,null,null,null,null,null,null,null,null,null,null,null,null,null,null,null,null,null,null,null,null,null,null,null,null,null,null,null,null,null,null,null,null,null,null,null,null,null,null,null,null,null,null,null,null,null,null,null,null,null,null,null,null,null,null,null,null,null,null,null,null,null,null,null,null,null,null,null,null,null,null,null,null,null,null,null,null,null,null,null,null,null,null,null,null,null,null,null,null,null,null,null,null,null,null,null,null,null,null,null,null,null,null,null,null,null,null,null,null,null,null,null,null,null,null,null,null,null,null,null,null,null,null,null,null,null,null,null,null,null,null,null,null,null,null,null,null,null,null,null,null,null,null,null,null,null,null,null,null,null,null,null,null,null,null,null,null,null,null,null,null,null,null,null,null,null,null,null,null,null,null,null,null,null,null,null,null,null,null,null,null,null,null,null,null,null,null,null,null,null,null,null,null,null,null,null,null,null,null,null,null,null,null,null,null,null,null,null,null,null,null,null,null,null,null,null,null,null,null,null,null,null,null,null,null,null,null,null,null,null,null,null,null,null,null,null,null,null,null,null,null,null,null,null,null,null,null,null,null,null,null,null,null,null,null,null,null,null,null,null,null,null,null,null,null,null,null,null,null,null,null,null,null,null,null,null,null,null,null,null,null,null,null,null,null,null,null,null,null,null,null,null,null,null,null,null,null,null,null,null,null,null,null,null,null,null,null,null,null,null,null,null,null,null,null,null,null,null,null,null,null,null,null,null,null,null,null,null,null,null,null,null,null,null,null,null,null,null,null,null,null,null,null,null,null,null,null,null,null,null,null,null,null,null,null,null,null,null,null,null,null,null,null,null,null,null,null,null,null,null,null,null,null,null,null,null,null,null,null,null,null,null,null,null,null,null,null,null,null,null,null,null,null,null,null,null,null,null,null,null,null,null,null,null,null,null,null,null,null,null,null,null,null,null,null,null,null,null,null,null,null,null,null,null,null,null,null,null,null,null,null,null,null,null,null,null,null,null,null,null,null,null,null,null,null,null,null,null,null,null,null,null,null,null,null,null,null,null,null,null,null,null,null,null,null,null,null,null,null,null,null,null,null,null,null,null,null,null,null,null,null,null,null,null,null,null,null,null,null,null,null,null,null,null,null,null,null,null,null,null,null,null,null,null,null,null,null,null,null,null,null,null,null,null,null,null,null,null,null,null,null,null,null,null,null,null,null,null,null,null,null,null,null,null,null,null,null,null,null,null,null,null,null,null,null,null,null,null,null,null,null,null,null,null,null,null,null,null,null,null,null,null,null,null,null,null,null,null,null,null,null,null,null,null,null,null,null,null,null,null,null,null,null,null,null,null,null,null,null,null,null,null,null,null,null,null,null,null,null,null,null,null,null,null,null,null,null,null,null,null,null,null,null,null,null,null,null,null,null,null,null,null,null,null,null,null,null,null,null,null,null,null,null,null,null,null,null,null,null,null,null,null,null,null,null,null,null,null,null,null,null,null,null,null,null,null,null,null,null,null,null,null,null,null,null,null,null,null,null,null,null,null,null,null,null,null,null,null,null,null,null,null,null,null,null,null,null,null,null,null,null,null,null,null,null,null,null,null,null,null,null,null,null,null,null,null,null,null,null,null,null,null,null,null,null,null,null,null,null,null,null,null,null,null,null,null,null,null,null,null,null,null,null,null,null,null,null,null,null,null,null,null,null,null,null,null,null,null,null,null,null,null,null,null,null,null,null,null,null,null,null,null,null,null,null,null,null,null,null,null,null,null,null,null,null,null,null,null,null,null,null,null,null,null,null,null,null,null,null,null,null,null,null,null,null,null,null,null,null,null,null,null,null,null,null,null,null,null,null,null,null,null,null,null,null,null,null,null,null,null,null,null,null,null,null,null,null,null,null,null,null,null,null,null,null,null,null,null,null,null,null,null,null,null,null,null,null,null,null,null,null,null,null,null,null,null,null,null,null,null,null,null,null,null,null,null,null,null,null,null,null,null,null,null,null,null,null,null,null,null,null,null,null,null,null,null,null,null,null,null,null,null,null,null,null,null,null,null,null,null,null,null,null,null,null,null,null,null,null,null,null,null,null,null,null,null,null,null,null,null,null,null,null,null,null,null,null,null,null,null,null,null,null,null,null,null,null,null,null,null,null,null,null,null,null,null,null,null,null,null,null,null,null,null,null,null,null,null,null,null,null,null,null,null,null,null,null,null,null,null,null,null,null,null,null,null,null,null,null,null,null,null,null,null,null,null,null,null,null,null,null,null,null,null,null,null,null,null,null,null,null,null,null,null,null,null,null,null,null,null,null,null,null,null,null,null,null,null,null,null,null,null,null,null,null,null,null,null,null,null,null,null,null,null,null,null,null,null,null,null,null,null,null,null,null,null,null,null,null,null,null,null,null,null,null,null,null,null,null,null,null,null,null,null,null,null,null,null,null,null,null,null,null,null,null,null,null,null,null,null,null,null,null,null,null,null,null,null,null,null,null,null,null,null,null,null,null,null,null,null,null,null,null,null,null,null,null,null,null,null,null,null,null,null,null,null,null,null,null,null,null,null,null,null,null,null,null,null,null,null,null,null,null,null,null,null,null,null,null,null,null,null,null,null,null,null,null,null,null,null,null,null,null,null,null,null,null,null,null,null,null,null,null,null,null,null,null,null,null,null,null,null,null,null,null,null,null,null,null,null,null,null,null,null,null,null,null,null,null,null,null,null,null,null,null,null,null,null,null,null,null,null,null,null,null,null,null,null,null,null,null,null,null,null,null,null,null,null,null,null,null,null,null,null,null,null,null,null,null,null,null,null,null,null,null,null,null,null,null,null,null,null,null,null,null,null,null,null,null,null,null,null,null,null,null,null,null,null,null,null,null,null,null,null,null,null,null,null,null,null,null,null,null,null,null,null,null,null,null,null,null,null,null,null,null,null,null,null,null,null,null,null,null,null,null,null,null,null,null,null,null,null,null,null,null,null,null,null,null,null,null,null,null,null,null,null,null,null,null,null,null,null,null,null,null,null,null,null,null,null,null,null,null,null,null,null,null,null,null,null,null,null,null,null,null,null,null,null,null,null,null,null,null,null,null,null,null,null,null,null,null,null,null,null,null,null,null,null,null,null,null,null,null,null,null,null,null,null,null,null,null,null,null,null,null,null,null,null,null,null,null,null,null,null,null,null,null,null,null,null,null,null,null,null,null,null,null,null,null,null,null,null,null,null,null,null,null,null,null,null,null,null,null,null,null,null,null,null,null,null,null,null,null,null,null,null,null,null,null,null,null,null,null,null,null,null,null,null,null,null,null,null,null,null,null,null,null,null,null,null,null,null,null,null,null,null,null,null,null,null,null,null,null,null,null,null,null,null,null,null,null,null,null,null,null,null,null,null,null,null,null,null,null,null,null,null,null,null,null,null,null,null,null,null,null,null,null,null,null,null,null,null,null,null,null,null,null,null,null,null,null,null,null,null,null,null,null,null,null,null,null,null,null,null,null,null,null,null,null,null,null,null,null,null,null,null,null,null,null,null,null,null,null,null,null,null,null,null,null,null,null,null,null,null,null,null,null,null,null,null,null,null,null,null,null,null,null,null,null,null,null,null,null,null,null,null,null,null,null,null,null,null,null,null,null,null,null,null,null,null,null,null,null,null,null,null,null,null,null,null,null,null,null,null,null,null,null,null,null,null,null,null,null,null,null,null,null,null,null,null,null,null,null,null,null,null,null,null,null,null,null,null,null,null,null,null,null,null,null,null,null,null,null,null,null,null,null,null,null,null,null,null,null,null,null,null,2,2,null,null,null,null,null,null,null,null,null,null,null,null,null,null,null,null,null,null,null,null,null,null,null,null,null,null,null,null,null,null,null,null,null,null,null,null,null,null,null,null,null,null,null,null,null,null,null,null,null,null,null,null,null,null,null,null,null,null,null,null,null,null,null,null,null,null,null,null,null,null,null,null,null,null,null,null,null,null,null,null,null,null,null,null,null,null,null,null,null,null,null,null,null,null,null,null,null,null,null,null,null,null,null,null,null,null,null,null,null,null,null,null,null,null,null,null,null,null,null,null,null,null,null,null,null,null,null,null,null,null,null,null,null,null,null,null,null,null,null,null,null,null,null,null,null,null,null,null,null,null,null,null,null,null,null,null,null,null,null,null,null,null,null,null,null,null,null,null,null,null,null,null,null,null,null,null,null,null,null,null,null,null,null,null,null,null,null,null,null,null,null,null,null,null,null,null,null,null,null,null,null,null,null,null,null,null,null,null,null,null,null,null,null,null,null,null,null,null,null,null,null,null,null,null,null,null,null,null,null,null,null,null,null,null,null,null,null,null,null,null,null,null,null,null,null,null,null,null,null,null,null,null,null,null,null,null,null,null,null,null,null,null,null,null,null,null,null,null,null,null,null,null,null,null,null,null,null,null,null,null,null,null,null,null,null,null,null,null,null,null,null,null,null,null,null,null,null,null,null,null,null,null,null,null,null,null,null,null,null,null,null,null,null,null,null,null,null,null,null,null,null,null,null,null,null,null,null,null,null,null,null,null,null,null,null,null,null,null,null,null,null,null,null,null,null,null,null,null,null,null,null,null,null,null,null,null,null,null,null,null,null,null,null,null,null,null,null,null,null,null,null,null,null,null,null,null,null,null,null,null,null,null,null,null,null,null,null,null,null,null,null,null,null,null,null,null,null,null,null,null,null,null,null,null,null,null,null,null,null,null,null,null,null,null,null,null,null,null,null,null,null,null,null,null,null,null,null,null,null,null,null,null,null,null,null,null,null,null,null,null,null,null,null,null,null,null,null,null,null,null,null,null,null,null,null,null,null,64,1,1,3,1,2,0,0,0,0,1,0,0,3,2,null,null,null,null,null,null,2,null,2,null,null,"2014-01-15T04:37:00","2014-01-15T04:38:00",null,15277,5,"Firefox 26.0","Windows NT 6.1","209.112.172.118"]
[1261,22521,1,"sb",2,null,null,null,null,null,null,null,null,null,null,null,null,null,null,null,null,null,null,null,null,null,null,null,null,null,null,null,null,null,null,null,null,null,null,null,null,null,null,null,null,null,null,null,null,null,null,null,null,null,null,null,null,null,null,null,null,null,null,null,null,null,null,null,null,null,null,null,null,null,null,null,null,null,null,null,null,null,null,null,null,null,null,null,null,null,null,null,null,null,null,null,null,null,null,null,null,null,null,null,null,null,null,null,null,null,null,null,null,null,null,null,null,null,null,null,null,null,null,null,null,null,null,null,null,null,null,null,null,null,null,null,null,null,null,null,null,null,null,null,null,null,null,null,null,null,null,null,null,null,null,null,null,null,null,null,null,null,null,null,null,null,null,null,null,null,null,null,null,null,null,null,null,null,null,null,null,null,null,null,null,null,null,null,null,null,null,null,null,null,null,null,null,null,null,null,null,null,null,null,null,null,null,null,null,null,null,null,null,null,null,null,null,null,null,null,null,null,null,null,null,null,null,null,null,null,null,null,null,null,null,null,null,null,null,null,null,null,null,null,null,null,null,null,null,null,null,null,null,null,null,null,null,null,null,null,null,null,null,null,null,null,null,null,null,null,null,null,null,null,null,null,null,null,null,null,null,null,null,null,null,null,null,null,null,null,null,null,null,null,null,null,null,null,null,null,null,null,null,null,null,null,null,null,null,null,null,null,null,null,null,null,null,null,null,null,null,null,null,null,null,null,null,null,null,null,null,null,null,null,null,null,null,null,null,null,null,null,null,null,null,null,null,null,null,null,null,null,null,null,null,null,null,null,null,null,null,null,null,null,null,null,null,null,null,null,null,null,null,null,null,null,null,null,null,null,null,null,null,null,null,null,null,null,null,null,null,null,null,null,null,null,null,null,null,null,null,null,null,null,null,null,null,null,null,null,null,null,null,null,null,null,null,null,null,null,null,null,null,null,null,null,null,null,null,null,null,null,null,null,null,null,null,null,null,null,null,null,null,null,null,null,null,null,null,null,null,null,null,null,null,null,null,null,null,null,null,null,null,null,null,null,null,null,null,null,null,null,null,null,null,null,null,null,null,null,null,null,null,null,null,null,null,null,null,null,null,null,null,null,null,null,null,null,null,null,null,null,null,null,null,null,null,null,null,null,null,null,null,null,null,null,null,null,null,null,null,null,null,null,null,null,null,null,null,null,null,null,null,null,null,null,null,null,null,null,null,null,null,null,null,null,null,null,null,null,null,null,null,null,null,null,null,null,null,null,null,null,null,null,null,null,null,null,null,null,null,null,null,null,null,null,null,null,null,null,null,null,null,null,null,null,null,null,null,null,null,null,null,null,null,null,null,null,null,null,null,null,null,null,null,null,null,null,null,null,null,null,null,null,null,null,null,null,null,null,null,null,null,null,null,null,null,null,null,null,null,null,null,null,null,null,null,null,null,null,null,null,null,null,null,null,null,null,null,null,null,null,null,null,null,null,null,null,null,null,null,null,null,null,null,null,null,null,null,null,null,null,null,null,null,null,null,null,null,null,null,null,null,null,null,null,null,null,null,null,null,null,null,null,null,null,null,null,null,null,null,null,null,null,null,null,null,null,null,null,null,null,null,null,null,null,null,null,null,null,null,null,null,null,null,null,null,null,null,null,null,null,null,null,null,null,null,null,null,null,null,null,null,null,null,null,null,null,null,null,null,null,null,null,null,null,null,null,null,null,null,null,null,null,null,null,null,null,null,null,null,null,null,null,null,null,null,null,null,null,null,null,null,null,null,null,null,null,null,null,null,null,null,null,null,null,null,null,null,null,null,null,null,null,null,null,null,null,null,null,null,null,null,null,null,null,null,null,null,null,null,null,null,null,null,null,null,null,null,null,null,null,null,null,null,null,null,null,null,null,null,null,null,null,null,null,null,null,null,null,null,null,null,null,null,null,null,null,null,null,null,null,null,null,null,null,null,null,null,null,null,null,null,null,null,null,null,null,null,null,null,null,null,null,null,null,null,null,null,null,null,null,null,null,null,null,null,null,null,null,null,null,null,null,null,null,null,null,null,null,null,null,null,null,null,null,null,null,null,null,null,null,null,null,null,null,null,null,null,null,null,null,null,null,null,null,null,null,null,null,null,null,null,null,null,null,null,null,null,null,null,null,null,null,null,null,null,null,null,null,null,null,null,null,null,null,null,null,null,null,null,null,null,null,null,null,null,null,null,null,null,null,null,null,null,null,null,null,null,null,null,null,null,null,null,null,null,null,null,null,null,null,null,null,null,null,null,null,null,null,null,null,null,null,null,null,null,null,null,null,null,null,null,null,null,null,null,null,null,null,null,null,null,null,null,null,null,null,null,null,null,null,null,null,null,null,null,null,null,null,null,null,null,null,null,null,null,null,null,null,null,null,null,null,null,null,null,null,null,null,null,null,null,null,null,null,null,null,null,null,null,null,null,null,null,null,null,null,null,null,null,null,null,null,null,null,null,null,null,null,null,null,null,null,null,null,null,null,null,null,null,null,null,null,null,null,null,null,null,null,null,null,null,null,null,null,null,null,null,null,null,null,null,null,null,null,null,null,null,null,null,null,null,null,null,null,null,null,null,null,null,null,null,null,null,null,null,null,null,null,null,null,null,null,null,null,null,null,null,null,null,null,null,null,null,null,null,null,null,null,null,null,null,null,null,null,null,null,null,null,null,null,null,null,null,null,null,null,null,null,null,null,null,null,null,null,null,null,null,null,null,null,null,null,null,null,null,null,null,null,null,null,null,null,null,null,null,null,null,null,null,null,null,null,null,null,null,null,null,null,null,null,null,null,null,null,null,null,null,null,null,null,null,null,null,null,null,null,null,null,null,null,null,null,null,null,null,null,null,null,null,null,null,null,null,null,null,null,null,null,null,null,null,null,null,null,null,null,null,null,null,null,null,null,null,null,null,null,null,null,null,null,null,null,null,null,null,null,null,null,null,null,null,null,null,null,null,null,null,null,null,null,null,null,null,null,null,null,null,null,null,null,null,null,null,null,null,null,null,null,null,null,null,null,null,null,null,null,null,null,null,null,null,null,null,null,null,null,null,null,null,null,null,null,null,null,null,null,null,null,null,null,null,null,null,null,null,null,null,null,null,null,null,null,null,null,null,null,null,null,null,null,null,null,null,null,null,null,null,null,null,null,null,null,null,null,null,null,null,null,null,null,null,null,null,null,null,null,null,null,null,null,null,null,null,null,null,null,null,null,null,null,null,null,null,null,null,null,null,null,null,null,null,null,null,null,null,null,null,null,null,null,null,null,null,null,null,null,null,null,null,null,null,null,null,null,null,null,null,null,null,null,null,null,null,null,null,null,null,null,null,null,null,null,null,null,null,null,null,null,null,null,null,null,null,null,null,null,null,null,null,null,null,null,null,null,null,null,null,null,null,null,null,null,null,null,null,null,null,null,null,null,null,null,null,null,null,null,null,null,null,null,null,null,null,null,null,null,null,null,null,null,null,null,null,null,null,null,null,null,null,null,null,null,null,null,null,null,null,null,null,null,null,null,null,null,null,null,null,null,null,null,null,null,null,null,null,null,null,null,null,null,null,null,null,null,null,null,null,null,null,null,null,null,null,null,null,null,null,null,null,null,null,null,null,null,null,null,null,null,null,null,null,null,null,null,null,null,null,null,null,null,null,null,null,null,null,null,null,null,null,null,null,null,null,null,null,null,null,null,null,null,null,null,null,null,null,null,null,null,null,null,null,null,null,null,null,null,null,null,null,null,null,null,null,null,null,null,null,null,null,null,null,null,null,null,null,null,null,null,null,null,null,null,null,null,null,null,null,null,null,null,null,null,null,null,null,null,null,null,null,null,null,null,null,null,null,null,null,null,null,null,null,null,null,null,null,null,null,null,null,null,null,null,null,null,null,null,null,null,null,null,null,null,null,null,null,null,null,null,null,null,null,null,null,null,null,null,null,null,null,null,null,null,null,null,null,null,null,null,null,null,null,null,null,null,null,null,null,null,null,null,null,null,null,null,null,null,null,null,null,null,null,null,null,null,null,null,null,null,null,null,null,null,null,null,null,null,null,null,null,null,null,null,null,null,null,null,null,null,null,null,null,null,null,null,null,null,null,null,null,null,null,null,null,null,null,null,null,null,null,null,null,null,null,null,null,null,null,null,null,null,null,null,null,null,null,null,null,null,null,null,null,null,null,null,null,null,null,null,null,null,null,null,null,null,null,null,null,null,null,null,null,null,null,null,null,2,2,null,null,null,null,null,null,null,null,null,null,null,null,null,null,null,null,null,null,null,null,null,null,null,null,null,null,null,null,null,null,null,null,null,null,null,null,null,null,null,null,null,null,null,null,null,null,null,null,null,null,null,null,null,null,null,null,null,null,null,null,null,null,null,null,null,null,null,null,null,null,null,null,null,null,null,null,null,null,null,null,null,null,null,null,null,null,null,null,null,null,null,null,null,null,null,null,null,null,null,null,null,null,null,null,null,null,null,null,null,null,null,null,null,null,null,null,null,null,null,null,null,null,null,null,null,null,null,null,null,null,null,null,null,null,null,null,null,null,null,null,null,null,null,null,null,null,null,null,null,null,null,null,null,null,null,null,null,null,null,null,null,null,null,null,null,null,null,null,null,null,null,null,null,null,null,null,null,null,null,null,null,null,null,null,null,null,null,null,null,null,null,null,null,null,null,null,null,null,null,null,null,null,null,null,null,null,null,null,null,null,null,null,null,null,null,null,null,null,null,null,null,null,null,null,null,null,null,null,null,null,null,null,null,null,null,null,null,null,null,null,null,null,null,null,null,null,null,null,null,null,null,null,null,null,null,null,null,null,null,null,null,null,null,null,null,null,null,null,null,null,null,null,null,null,null,null,null,null,null,null,null,null,null,null,null,null,null,null,null,null,null,null,null,null,null,null,null,null,null,null,null,null,null,null,null,null,null,null,null,null,null,null,null,null,null,null,null,null,null,null,null,null,null,null,null,null,null,null,null,null,null,null,null,null,null,null,null,null,null,null,null,null,null,null,null,null,null,null,null,null,null,null,null,null,null,null,null,null,null,null,null,null,null,null,null,null,null,null,null,null,null,null,null,null,null,null,null,null,null,null,null,null,null,null,null,null,null,null,null,null,null,null,null,null,null,null,null,null,null,null,null,null,null,null,null,null,null,null,null,null,null,null,null,null,null,null,null,null,null,null,null,null,null,null,null,null,null,null,null,null,null,null,null,null,null,null,null,null,null,null,null,null,null,null,null,null,null,null,null,null,null,null,null,null,null,null,null,52,2,2,1,2,null,0,0,0,0,0,0,0,4,2,null,null,null,null,null,null,2,null,2,null,null,"2014-01-15T04:04:00","2014-01-15T04:05:00",null,15242,5,"Firefox 26.0","Windows NT 6.1","209.112.172.118"]
[1713,51205,1,"sb",2,null,null,null,null,null,null,null,null,null,null,null,null,null,null,null,null,null,null,null,null,null,null,null,null,null,null,null,null,null,null,null,null,null,null,null,null,null,null,null,null,null,null,null,null,null,null,null,null,null,null,null,null,null,null,null,null,null,null,null,null,null,null,null,null,null,null,null,null,null,null,null,null,null,null,null,null,null,null,null,null,null,null,null,null,null,null,null,null,null,null,null,null,null,null,null,null,null,null,null,null,null,null,null,null,null,null,null,null,null,null,null,null,null,null,null,null,null,null,null,null,null,null,null,null,null,null,null,null,null,null,null,null,null,null,null,null,null,null,null,null,null,null,null,null,null,null,null,null,null,null,null,null,null,null,null,null,null,null,null,null,null,null,null,null,null,null,null,null,null,null,null,null,null,null,null,null,null,null,null,null,null,null,null,null,null,null,null,null,null,null,null,null,null,null,null,null,null,null,null,null,null,null,null,null,null,null,null,null,null,null,null,null,null,null,null,null,null,null,null,null,null,null,null,null,null,null,null,null,null,null,null,null,null,null,null,null,null,null,null,null,null,null,null,null,null,null,null,null,null,null,null,null,null,null,null,null,null,null,null,null,null,null,null,null,null,null,null,null,null,null,null,null,null,null,null,null,null,null,null,null,null,null,null,null,null,null,null,null,null,null,null,null,null,null,null,null,null,null,null,null,null,null,null,null,null,null,null,null,null,null,null,null,null,null,null,null,null,null,null,null,null,null,null,null,null,null,null,null,null,null,null,null,null,null,null,null,null,null,null,null,null,null,null,null,null,null,null,null,null,null,null,null,null,null,null,null,null,null,null,null,null,null,null,null,null,null,null,null,null,null,null,null,null,null,null,null,null,null,null,null,null,null,null,null,null,null,null,null,null,null,null,null,null,null,null,null,null,null,null,null,null,null,null,null,null,null,null,null,null,null,null,null,null,null,null,null,null,null,null,null,null,null,null,null,null,null,null,null,null,null,null,null,null,null,null,null,null,null,null,null,null,null,null,null,null,null,null,null,null,null,null,null,null,null,null,null,null,null,null,null,null,null,null,null,null,null,null,null,null,null,null,null,null,null,null,null,null,null,null,null,null,null,null,null,null,null,null,null,null,null,null,null,null,null,null,null,null,null,null,null,null,null,null,null,null,null,null,null,null,null,null,null,null,null,null,null,null,null,null,null,null,null,null,null,null,null,null,null,null,null,null,null,null,null,null,null,null,null,null,null,null,null,null,null,null,null,null,null,null,null,null,null,null,null,null,null,null,null,null,null,null,null,null,null,null,null,null,null,null,null,null,null,null,null,null,null,null,null,null,null,null,null,null,null,null,null,null,null,null,null,null,null,null,null,null,null,null,null,null,null,null,null,null,null,null,null,null,null,null,null,null,null,null,null,null,null,null,null,null,null,null,null,null,null,null,null,null,null,null,null,null,null,null,null,null,null,null,null,null,null,null,null,null,null,null,null,null,null,null,null,null,null,null,null,null,null,null,null,null,null,null,null,null,null,null,null,null,null,null,null,null,null,null,null,null,null,null,null,null,null,null,null,null,null,null,null,null,null,null,null,null,null,null,null,null,null,null,null,null,null,null,null,null,null,null,null,null,null,null,null,null,null,null,null,null,null,null,null,null,null,null,null,null,null,null,null,null,null,null,null,null,null,null,null,null,null,null,null,null,null,null,null,null,null,null,null,null,null,null,null,null,null,null,null,null,null,null,null,null,null,null,null,null,null,null,null,null,null,null,null,null,null,null,null,null,null,null,null,null,null,null,null,null,null,null,null,null,null,null,null,null,null,null,null,null,null,null,null,null,null,null,null,null,null,null,null,null,null,null,null,null,null,null,null,null,null,null,null,null,null,null,null,null,null,null,null,null,null,null,null,null,null,null,null,null,null,null,null,null,null,null,null,null,null,null,null,null,null,null,null,null,null,null,null,null,null,null,null,null,null,null,null,null,null,null,null,null,null,null,null,null,null,null,null,null,null,null,null,null,null,null,null,null,null,null,null,null,null,null,null,null,null,null,null,null,null,null,null,null,null,null,null,null,null,null,null,null,null,null,null,null,null,null,null,null,null,null,null,null,null,null,null,null,null,null,null,null,null,null,null,null,null,null,null,null,null,null,null,null,null,null,null,null,null,null,null,null,null,null,null,null,null,null,null,null,null,null,null,null,null,null,null,null,null,null,null,null,null,null,null,null,null,null,null,null,null,null,null,null,null,null,null,null,null,null,null,null,null,null,null,null,null,null,null,null,null,null,null,null,null,null,null,null,null,null,null,null,null,null,null,null,null,null,null,null,null,null,null,null,null,null,null,null,null,null,null,null,null,null,null,null,null,null,null,null,null,null,null,null,null,null,null,null,null,null,null,null,null,null,null,null,null,null,null,null,null,null,null,null,null,null,null,null,null,null,null,null,null,null,null,null,null,null,null,null,null,null,null,null,null,null,null,null,null,null,null,null,null,null,null,null,null,null,null,null,null,null,null,null,null,null,null,null,null,null,null,null,null,null,null,null,null,null,null,null,null,null,null,null,null,null,null,null,null,null,null,null,null,null,null,null,null,null,null,null,null,null,null,null,null,null,null,null,null,null,null,null,null,null,null,null,null,null,null,null,null,null,null,null,null,null,null,null,null,null,null,null,null,null,null,null,null,null,null,null,null,null,null,null,null,null,null,null,null,null,null,null,null,null,null,null,null,null,null,null,null,null,null,null,null,null,null,null,null,null,null,null,null,null,null,null,null,null,null,null,null,null,null,null,null,null,null,null,null,null,null,null,null,null,null,null,null,null,null,null,null,null,null,null,null,null,null,null,null,null,null,null,null,null,null,null,null,null,null,null,null,null,null,null,null,null,null,null,null,null,null,null,null,null,null,null,null,null,null,null,null,null,null,null,null,null,null,null,null,null,null,null,null,null,null,null,null,null,null,null,null,null,null,null,null,null,null,null,null,null,null,null,null,null,null,null,null,null,null,null,null,null,null,null,null,null,null,null,null,null,null,null,null,null,null,null,null,null,null,null,null,null,null,null,null,null,null,null,null,null,null,null,null,null,null,null,null,null,null,null,null,null,null,null,null,null,null,null,null,null,null,null,null,null,null,null,null,null,null,null,null,null,null,null,null,null,null,null,null,null,null,null,null,null,null,null,null,null,null,null,null,null,null,null,null,null,null,null,null,null,null,null,null,null,null,null,null,null,null,null,null,null,null,null,null,null,null,null,null,null,null,null,null,null,null,null,null,null,null,null,null,null,null,null,null,null,null,null,null,null,null,null,null,null,null,null,null,null,null,null,null,null,null,null,null,null,null,null,null,null,null,null,null,null,null,null,null,null,null,null,null,null,null,null,null,null,null,null,null,null,null,null,null,null,null,null,null,null,null,null,null,null,null,null,null,null,null,null,null,null,null,null,null,null,null,null,null,null,null,null,null,null,null,null,null,null,null,null,null,null,null,null,null,null,null,null,null,null,null,null,null,null,null,null,null,null,null,null,null,null,null,null,null,null,null,null,null,null,null,null,null,null,null,null,null,null,null,null,null,null,null,null,null,null,null,null,null,null,null,null,null,null,null,null,null,null,null,null,null,null,null,null,null,null,null,null,null,null,null,null,null,null,null,null,null,null,null,null,null,null,null,null,null,null,null,null,null,null,null,null,null,null,null,null,null,null,null,null,null,null,null,null,null,null,null,null,null,null,null,null,null,null,null,null,null,null,null,null,null,null,null,null,null,null,null,null,null,null,null,null,null,null,null,null,null,null,null,null,null,null,null,null,null,null,null,null,null,null,null,null,null,null,null,null,null,null,null,null,null,null,null,null,null,null,null,null,null,null,null,null,null,null,null,null,null,null,null,null,null,null,null,null,null,null,null,null,null,null,null,null,null,null,null,null,null,null,null,null,null,null,null,null,null,null,null,null,null,null,null,null,null,null,null,null,null,null,null,null,null,null,null,null,null,null,null,null,null,null,null,null,null,null,null,null,null,null,null,null,null,null,null,null,null,null,null,null,null,null,null,null,null,null,null,null,null,null,null,null,null,null,null,null,null,null,null,null,null,null,null,null,null,null,null,null,null,null,null,null,null,null,null,null,null,null,null,null,null,null,null,null,null,null,null,null,null,null,null,null,null,null,null,null,null,null,null,null,null,null,null,null,null,null,null,null,null,null,null,null,null,null,null,null,null,null,null,null,null,null,null,null,null,null,null,null,null,null,null,null,null,null,null,null,null,null,null,null,null,2,2,null,null,null,null,null,null,null,null,null,null,null,null,null,null,null,null,null,null,null,null,null,null,null,null,null,null,null,null,null,null,null,null,null,null,null,null,null,null,null,null,null,null,null,null,null,null,null,null,null,null,null,null,null,null,null,null,null,null,null,null,null,null,null,null,null,null,null,null,null,null,null,null,null,null,null,null,null,null,null,null,null,null,null,null,null,null,null,null,null,null,null,null,null,null,null,null,null,null,null,null,null,null,null,null,null,null,null,null,null,null,null,null,null,null,null,null,null,null,null,null,null,null,null,null,null,null,null,null,null,null,null,null,null,null,null,null,null,null,null,null,null,null,null,null,null,null,null,null,null,null,null,null,null,null,null,null,null,null,null,null,null,null,null,null,null,null,null,null,null,null,null,null,null,null,null,null,null,null,null,null,null,null,null,null,null,null,null,null,null,null,null,null,null,null,null,null,null,null,null,null,null,null,null,null,null,null,null,null,null,null,null,null,null,null,null,null,null,null,null,null,null,null,null,null,null,null,null,null,null,null,null,null,null,null,null,null,null,null,null,null,null,null,null,null,null,null,null,null,null,null,null,null,null,null,null,null,null,null,null,null,null,null,null,null,null,null,null,null,null,null,null,null,null,null,null,null,null,null,null,null,null,null,null,null,null,null,null,null,null,null,null,null,null,null,null,null,null,null,null,null,null,null,null,null,null,null,null,null,null,null,null,null,null,null,null,null,null,null,null,null,null,null,null,null,null,null,null,null,null,null,null,null,null,null,null,null,null,null,null,null,null,null,null,null,null,null,null,null,null,null,null,null,null,null,null,null,null,null,null,null,null,null,null,null,null,null,null,null,null,null,null,null,null,null,null,null,null,null,null,null,null,null,null,null,null,null,null,null,null,null,null,null,null,null,null,null,null,null,null,null,null,null,null,null,null,null,null,null,null,null,null,null,null,null,null,null,null,null,null,null,null,null,null,null,null,null,null,null,null,null,null,null,null,null,null,null,null,null,null,null,null,null,null,null,null,null,null,null,null,null,null,null,null,null,null,null,null,59,2,2,3,1,4,1,0,0,0,0,0,0,5,2,null,null,null,null,null,null,2,null,2,null,null,"2014-01-10T02:19:00","2014-01-10T02:20:00",null,14135,5,"Firefox 23.0","Windows XP","209.112.172.118"]
[1507,53275,1,"KS",1,1,null,null,null,null,null,null,null,null,null,null,null,null,null,null,null,null,null,null,null,null,null,null,null,null,null,null,null,null,null,null,null,null,null,null,null,null,null,null,null,null,null,null,null,null,null,null,null,null,null,null,null,null,null,null,null,null,null,null,null,null,null,null,null,null,null,null,null,null,null,null,null,null,null,null,null,null,null,null,null,null,null,null,null,null,null,null,null,null,null,null,null,null,null,null,null,null,null,null,null,null,null,null,null,null,null,null,null,null,null,null,null,null,null,null,null,null,null,null,null,null,null,null,null,null,null,null,null,null,null,null,null,null,null,null,null,null,null,null,null,null,null,null,null,null,null,null,null,null,null,null,null,null,null,null,null,null,null,null,null,null,null,null,null,null,null,null,null,null,null,null,null,null,null,null,null,null,null,null,null,null,null,null,null,null,null,null,null,null,null,null,null,null,null,null,null,null,null,null,null,null,null,null,null,null,null,null,null,null,null,null,null,null,null,null,null,null,null,null,null,null,null,null,null,null,null,null,null,null,null,null,null,null,null,null,null,null,null,null,null,null,null,null,null,null,null,null,null,null,null,null,null,null,null,null,null,null,null,null,null,null,null,null,null,null,null,null,null,null,null,null,null,null,null,null,null,null,null,null,null,null,null,null,null,null,null,null,null,null,null,null,null,null,null,null,null,null,null,null,null,null,null,null,null,null,null,null,null,null,null,null,null,null,null,null,null,null,null,null,null,null,null,null,null,null,null,null,null,null,null,null,null,null,null,null,null,null,null,null,null,null,null,null,null,null,null,null,null,null,null,null,null,null,null,null,null,null,null,null,null,null,null,null,null,null,null,null,null,null,null,null,null,null,null,null,null,null,null,null,null,null,null,null,null,null,null,null,null,null,null,null,null,null,null,null,null,null,null,null,null,null,null,null,null,null,null,null,null,null,null,null,null,null,null,null,null,null,null,null,null,null,null,null,null,null,null,null,null,null,null,null,null,null,null,null,null,null,null,null,null,null,null,null,null,null,null,null,null,null,null,null,null,null,null,null,null,null,null,null,null,null,null,null,null,null,null,null,null,null,null,null,null,null,null,null,null,null,null,null,null,null,null,null,null,null,null,null,null,null,null,null,null,null,null,null,null,null,null,null,null,null,null,null,null,null,null,null,null,null,null,null,null,null,null,null,null,null,null,null,null,null,null,null,null,null,null,null,null,null,null,null,null,null,null,null,null,null,null,null,null,null,null,null,null,null,null,null,null,null,null,null,null,null,null,null,null,null,null,null,null,null,null,null,null,null,null,null,null,null,null,null,null,null,null,null,null,null,null,null,null,null,null,null,null,null,null,null,null,null,null,null,null,null,null,null,null,null,null,null,null,null,null,null,null,null,null,null,null,null,null,null,null,null,null,null,null,null,null,null,null,null,null,null,null,null,null,null,null,null,null,null,null,null,null,null,null,null,null,null,null,null,null,null,null,null,null,null,null,null,null,null,null,null,null,null,null,null,null,null,null,null,null,null,null,null,null,null,null,null,null,null,null,null,null,null,null,null,null,null,null,null,null,null,null,null,null,null,null,null,null,null,null,null,null,null,null,null,null,null,null,null,null,null,null,null,null,null,null,null,null,null,null,null,null,null,null,null,null,null,null,null,null,null,null,null,null,null,null,null,null,null,null,null,null,null,null,null,null,null,null,null,null,null,null,null,null,null,null,null,null,null,null,null,null,null,null,null,null,null,null,null,null,null,null,null,null,null,null,null,null,null,null,null,null,null,null,null,null,null,null,null,null,null,null,null,null,null,null,null,null,null,null,null,null,null,null,null,null,null,null,null,null,null,null,null,null,null,null,null,null,null,null,null,null,null,null,null,null,null,null,null,null,null,null,null,null,null,null,null,null,null,null,null,null,null,null,null,null,null,null,null,null,null,null,null,null,null,null,null,null,null,null,null,null,null,null,null,null,null,null,null,null,null,null,null,null,null,null,null,null,null,null,null,null,null,null,null,null,null,null,null,null,null,null,null,null,null,null,null,null,null,null,null,null,null,null,null,null,null,null,null,null,null,null,null,null,null,null,null,null,null,null,null,null,null,null,null,null,null,null,null,null,null,null,null,null,null,null,null,null,null,null,null,null,null,null,null,null,null,null,null,null,null,null,null,null,null,null,null,null,null,null,null,null,null,null,null,null,null,null,null,null,null,null,null,null,null,null,null,null,null,null,null,null,null,null,null,null,null,null,null,null,null,null,null,null,null,null,null,null,null,null,null,null,null,null,null,null,null,null,null,null,null,null,null,null,null,null,null,null,null,null,null,null,null,null,null,null,null,null,null,null,null,null,null,null,null,null,null,null,null,null,null,null,null,null,null,null,null,null,null,null,null,null,null,null,null,null,null,null,null,null,null,null,null,null,null,null,null,null,null,null,null,null,null,null,null,null,null,null,null,null,null,null,null,null,null,null,null,null,null,null,null,null,null,null,null,null,null,null,null,null,null,null,null,null,null,null,null,null,null,null,null,null,null,null,null,null,null,null,null,null,null,null,null,null,null,null,null,null,null,null,null,null,null,null,null,null,null,null,null,null,null,null,null,null,null,null,null,null,null,null,null,null,null,null,null,null,null,null,null,null,null,null,null,null,null,null,null,null,null,null,null,null,null,null,null,null,null,null,null,null,null,null,null,null,null,null,null,null,null,null,null,null,null,null,null,null,null,null,null,null,null,null,null,null,null,null,null,null,null,null,null,null,null,null,null,null,null,null,null,null,null,null,null,null,null,null,null,null,null,null,null,null,null,null,null,null,null,null,null,null,null,null,null,null,null,null,null,null,null,null,null,null,null,null,null,null,null,null,null,null,null,null,null,null,null,null,null,null,null,null,null,null,null,null,null,null,null,null,null,null,null,null,null,null,null,null,null,null,null,null,null,null,null,null,null,null,null,null,null,null,null,null,null,null,null,null,null,null,null,null,null,null,null,null,null,null,null,null,null,null,null,null,null,null,null,null,null,null,null,null,null,null,null,null,null,null,null,null,null,null,null,null,null,null,null,null,null,null,null,null,null,null,null,null,null,null,null,null,null,null,null,null,null,null,null,null,null,null,null,null,null,null,null,null,null,null,null,null,null,null,null,null,null,null,null,null,null,null,null,null,null,null,null,null,null,null,null,null,null,null,null,null,null,null,null,null,null,null,null,null,null,null,null,null,null,null,null,null,null,null,null,null,null,null,null,null,null,null,null,null,null,null,null,null,null,null,null,null,null,null,null,null,null,null,null,null,null,null,null,null,null,null,null,null,null,null,null,null,null,null,null,null,null,null,null,null,null,null,null,null,null,null,null,null,null,null,null,null,null,null,null,null,null,null,null,null,null,null,null,null,null,null,null,null,null,null,null,null,null,null,null,null,null,null,null,null,null,null,null,null,null,null,null,null,null,null,null,null,null,null,null,null,null,null,null,null,null,null,null,null,null,null,null,null,null,null,null,null,null,null,null,null,null,null,null,null,null,null,null,null,null,null,null,null,null,null,null,null,null,null,null,null,null,null,null,null,null,null,null,null,null,null,null,null,null,null,null,null,null,null,null,null,null,null,null,null,null,null,null,null,null,null,null,null,null,null,null,null,null,null,null,null,null,null,null,null,null,null,null,null,null,null,null,null,null,null,null,null,null,null,null,null,null,null,null,null,null,null,null,null,null,null,null,null,null,null,null,null,null,null,null,null,null,null,null,null,null,null,null,null,null,null,null,null,null,null,null,null,null,null,null,null,null,null,null,null,null,null,null,null,null,null,null,null,null,null,null,null,null,null,null,null,null,null,null,null,null,null,null,null,null,null,null,null,null,null,null,null,null,null,null,null,null,null,null,null,null,null,null,null,null,null,null,null,null,null,null,null,null,null,null,null,null,null,null,null,null,null,null,null,null,null,null,null,null,null,null,null,null,null,null,null,null,null,null,null,null,null,null,null,null,null,null,null,null,null,null,null,null,null,null,null,null,null,null,null,null,null,null,null,null,null,null,null,null,null,null,null,null,null,null,null,null,null,null,null,null,null,null,null,null,null,null,null,null,null,null,null,null,null,null,null,null,null,null,null,null,null,null,null,null,null,null,null,null,null,null,null,null,null,null,null,null,null,null,null,null,null,null,null,null,null,null,null,null,null,null,null,null,null,null,null,null,null,null,null,null,null,null,null,null,null,null,null,null,null,null,null,null,null,null,null,null,null,null,null,null,null,null,null,null,null,null,null,null,null,null,null,null,null,1,1,84,0,1,1,0,0,1,0,0,1,1,1,0,1,0,0,0,0,0,1,1,0,0,null,null,null,84,7,null,null,2,null,null,3,6,8,null,2,null,null,null,null,null,84,84,null,null,null,null,null,1,0,null,null,0,null,null,0,0,1,null,0,null,null,null,null,null,1,1,null,null,null,null,20,null,null,null,null,0,0,0,0,0,0,0,0,0,0,0,0,0,0,0,0,0,0,0,0,0,0,1,0,0,0,0,0,0,0,0,0,0,0,0,0,0,0,0,0,0,0,0,0,0,0,0,0,0,0,0,0,0,0,0,0,0,0,0,3,1992,1,2,null,1,84,0,null,0,null,0,0,0,0,0,null,null,null,null,null,null,null,null,null,null,null,null,null,null,null,null,null,null,1,null,null,null,null,null,null,null,null,null,null,null,null,null,null,null,null,null,null,null,null,null,null,null,null,null,null,null,"High Lake",null,null,null,null,null,null,null,null,null,null,null,null,null,null,null,null,null,null,null,null,null,null,null,null,null,null,null,23,null,null,null,null,null,null,null,null,null,null,null,null,null,null,null,null,null,null,1,null,null,null,null,null,null,null,null,null,null,null,null,null,null,null,null,null,null,null,null,null,null,null,null,null,null,null,null,null,null,null,null,null,null,null,null,null,null,null,null,null,null,null,null,null,null,null,null,null,null,null,null,null,null,null,null,null,null,null,null,null,null,null,null,84,null,null,null,null,null,null,null,null,null,null,null,null,null,null,null,null,null,null,null,null,null,null,null,null,null,null,null,null,null,null,null,null,null,null,null,null,null,null,null,null,null,null,null,null,null,null,null,null,null,null,null,null,null,null,null,null,null,null,null,null,null,2,1,2,5,2,null,null,null,null,3,null,null,null,null,null,null,null,2,null,null,1,0,0,0,0,0,0,0,0,0,0,null,0,0,0,1,1,0,0,0,0,0,0,0,0,null,1,0,0,0,1,0,0,0,0,0,null,null,2,1,1,2,1,1,1,1,1,1,1,2,2,3,3,1,3,3,3,2,3,3,3,3,3,1,61,2,1,2,2,null,1,0,0,0,0,0,0,6,2,null,null,null,null,null,null,1,"High Lake subdivision",1,"hilkldge@mtaonline.net",null,"2014-01-07T23:03:00","2014-01-07T23:19:00",null,13921,5,"Firefox 23.0","Windows XP","209.112.172.118",2,3,6,9,10,11,13,19,20,null,null,null,null,null,null,null,null,null,null,null,null,null,null,null,2,11,19,20,null,null,null,null,null,null,null,null,null,null,null,null,null,null,null,null,null,null,null,null,null,null,null,null,null,null,null,null,null,null,null,null,null,null,null,null,null,null,null,null,null,null,null,null,20,null,null,null,null,null,null,null,null,null,null,null,null,null,null,null,null,null,null,null,null,null,null,null,1,3,5,6,7,8,9,28,null,null,null,null,null,null,null,null,null,null,null,null,null,null,null,null,null,null,null,null,19,20,21,22,23,24,25,26,27,null,null,null,null,null,null,null,null,null,null,null,null,null,null,null,null,null,null,null,10]
[14,55630,1,"ce",2,null,null,null,null,null,null,null,null,null,null,null,null,null,null,null,null,null,null,null,null,null,null,null,null,null,null,null,null,null,null,null,null,null,null,null,null,null,null,null,null,null,null,null,null,null,null,null,null,null,null,null,null,null,null,null,null,null,null,null,null,null,null,null,null,null,null,null,null,null,null,null,null,null,null,null,null,null,null,null,null,null,null,null,null,null,null,null,null,null,null,null,null,null,null,null,null,null,null,null,null,null,null,null,null,null,null,null,null,null,null,null,null,null,null,null,null,null,null,null,null,null,null,null,null,null,null,null,null,null,null,null,null,null,null,null,null,null,null,null,null,null,null,null,null,null,null,null,null,null,null,null,null,null,null,null,null,null,null,null,null,null,null,null,null,null,null,null,null,null,null,null,null,null,null,null,null,null,null,null,null,null,null,null,null,null,null,null,null,null,null,null,null,null,null,null,null,null,null,null,null,null,null,null,null,null,null,null,null,null,null,null,null,null,null,null,null,null,null,null,null,null,null,null,null,null,null,null,null,null,null,null,null,null,null,null,null,null,null,null,null,null,null,null,null,null,null,null,null,null,null,null,null,null,null,null,null,null,null,null,null,null,null,null,null,null,null,null,null,null,null,null,null,null,null,null,null,null,null,null,null,null,null,null,null,null,null,null,null,null,null,null,null,null,null,null,null,null,null,null,null,null,null,null,null,null,null,null,null,null,null,null,null,null,null,null,null,null,null,null,null,null,null,null,null,null,null,null,null,null,null,null,null,null,null,null,null,null,null,null,null,null,null,null,null,null,null,null,null,null,null,null,null,null,null,null,null,null,null,null,null,null,null,null,null,null,null,null,null,null,null,null,null,null,null,null,null,null,null,null,null,null,null,null,null,null,null,null,null,null,null,null,null,null,null,null,null,null,null,null,null,null,null,null,null,null,null,null,null,null,null,null,null,null,null,null,null,null,null,null,null,null,null,null,null,null,null,null,null,null,null,null,null,null,null,null,null,null,null,null,null,null,null,null,null,null,null,null,null,null,null,null,null,null,null,null,null,null,null,null,null,null,null,null,null,null,null,null,null,null,null,null,null,null,null,null,null,null,null,null,null,null,null,null,null,null,null,null,null,null,null,null,null,null,null,null,null,null,null,null,null,null,null,null,null,null,null,null,null,null,null,null,null,null,null,null,null,null,null,null,null,null,null,null,null,null,null,null,null,null,null,null,null,null,null,null,null,null,null,null,null,null,null,null,null,null,null,null,null,null,null,null,null,null,null,null,null,null,null,null,null,null,null,null,null,null,null,null,null,null,null,null,null,null,null,null,null,null,null,null,null,null,null,null,null,null,null,null,null,null,null,null,null,null,null,null,null,null,null,null,null,null,null,null,null,null,null,null,null,null,null,null,null,null,null,null,null,null,null,null,null,null,null,null,null,null,null,null,null,null,null,null,null,null,null,null,null,null,null,null,null,null,null,null,null,null,null,null,null,null,null,null,null,null,null,null,null,null,null,null,null,null,null,null,null,null,null,null,null,null,null,null,null,null,null,null,null,null,null,null,null,null,null,null,null,null,null,null,null,null,null,null,null,null,null,null,null,null,null,null,null,null,null,null,null,null,null,null,null,null,null,null,null,null,null,null,null,null,null,null,null,null,null,null,null,null,null,null,null,null,null,null,null,null,null,null,null,null,null,null,null,null,null,null,null,null,null,null,null,null,null,null,null,null,null,null,null,null,null,null,null,null,null,null,null,null,null,null,null,null,null,null,null,null,null,null,null,null,null,null,null,null,null,null,null,null,null,null,null,null,null,null,null,null,null,null,null,null,null,null,null,null,null,null,null,null,null,null,null,null,null,null,null,null,null,null,null,null,null,null,null,null,null,null,null,null,null,null,null,null,null,null,null,null,null,null,null,null,null,null,null,null,null,null,null,null,null,null,null,null,null,null,null,null,null,null,null,null,null,null,null,null,null,null,null,null,null,null,null,null,null,null,null,null,null,null,null,null,null,null,null,null,null,null,null,null,null,null,null,null,null,null,null,null,null,null,null,null,null,null,null,null,null,null,null,null,null,null,null,null,null,null,null,null,null,null,null,null,null,null,null,null,null,null,null,null,null,null,null,null,null,null,null,null,null,null,null,null,null,null,null,null,null,null,null,null,null,null,null,null,null,null,null,null,null,null,null,null,null,null,null,null,null,null,null,null,null,null,null,null,null,null,null,null,null,null,null,null,null,null,null,null,null,null,null,null,null,null,null,null,null,null,null,null,null,null,null,null,null,null,null,null,null,null,null,null,null,null,null,null,null,null,null,null,null,null,null,null,null,null,null,null,null,null,null,null,null,null,null,null,null,null,null,null,null,null,null,null,null,null,null,null,null,null,null,null,null,null,null,null,null,null,null,null,null,null,null,null,null,null,null,null,null,null,null,null,null,null,null,null,null,null,null,null,null,null,null,null,null,null,null,null,null,null,null,null,null,null,null,null,null,null,null,null,null,null,null,null,null,null,null,null,null,null,null,null,null,null,null,null,null,null,null,null,null,null,null,null,null,null,null,null,null,null,null,null,null,null,null,null,null,null,null,null,null,null,null,null,null,null,null,null,null,null,null,null,null,null,null,null,null,null,null,null,null,null,null,null,null,null,null,null,null,null,null,null,null,null,null,null,null,null,null,null,null,null,null,null,null,null,null,null,null,null,null,null,null,null,null,null,null,null,null,null,null,null,null,null,null,null,null,null,null,null,null,null,null,null,null,null,null,null,null,null,null,null,null,null,null,null,null,null,null,null,null,null,null,null,null,null,null,null,null,null,null,null,null,null,null,null,null,null,null,null,null,null,null,null,null,null,null,null,null,null,null,null,null,null,null,null,null,null,null,null,null,null,null,null,null,null,null,null,null,null,null,null,null,null,null,null,null,null,null,null,null,null,null,null,null,null,null,null,null,null,null,null,null,null,null,null,null,null,null,null,null,null,null,null,null,null,null,null,null,null,null,null,null,null,null,null,null,null,null,null,null,null,null,null,null,null,null,null,null,null,null,null,null,null,null,null,null,null,null,null,null,null,null,null,null,null,null,null,null,null,null,null,null,null,null,null,null,null,null,null,null,null,null,null,null,null,null,null,null,null,null,null,null,null,null,null,null,null,null,null,null,null,null,null,null,null,null,null,null,null,null,null,null,null,null,null,null,null,null,null,null,null,null,null,null,null,null,null,null,null,null,null,null,null,null,null,null,null,null,null,null,null,null,null,null,null,null,null,null,null,null,null,null,null,null,null,null,null,null,null,null,null,null,null,null,null,null,null,null,null,null,null,null,null,null,null,null,null,null,null,null,null,null,null,null,null,null,null,null,null,null,null,null,null,null,null,null,null,null,null,null,null,null,null,null,null,null,null,null,null,null,null,null,null,null,null,null,null,null,null,null,null,null,null,null,null,null,null,null,null,null,null,null,null,null,null,null,null,null,null,null,null,null,null,null,null,null,null,null,null,null,null,null,null,null,null,null,null,null,null,null,null,null,null,null,null,null,null,null,null,null,null,null,null,null,null,null,null,null,null,null,null,null,null,null,null,null,null,null,null,null,null,null,null,null,null,null,null,null,null,null,null,null,null,null,null,null,null,null,null,null,null,null,null,null,null,null,null,null,null,null,null,null,null,null,null,null,null,null,null,null,null,null,null,null,null,null,null,null,null,null,null,null,null,null,null,null,null,null,null,null,null,null,null,null,null,null,null,null,null,null,null,null,null,null,null,null,null,null,null,null,null,null,null,null,null,null,null,null,null,null,null,null,null,null,null,null,null,null,null,null,null,null,null,null,null,null,null,null,null,null,null,null,null,null,null,null,null,null,null,null,null,null,null,null,null,null,null,null,null,null,null,null,null,null,null,null,null,null,null,null,null,null,null,null,null,null,null,null,null,null,null,null,null,null,null,null,null,null,null,null,null,null,null,null,null,null,null,null,null,null,null,null,null,null,null,null,null,null,null,null,null,null,null,null,null,null,null,null,null,null,null,null,null,null,null,null,null,null,null,null,null,null,null,null,null,null,null,null,null,null,null,null,null,null,null,null,null,null,null,null,null,null,null,null,null,null,null,null,null,null,null,null,null,null,null,null,null,null,null,null,null,null,null,null,null,null,null,null,null,null,null,null,null,null,null,null,null,null,null,null,null,null,null,null,null,null,null,null,null,null,null,null,null,null,null,null,null,null,null,null,null,null,null,null,null,null,null,null,null,null,null,null,null,null,null,null,null,null,2,2,null,null,null,null,null,null,null,null,null,null,null,null,null,null,null,null,null,null,null,null,null,null,null,null,null,null,null,null,null,null,null,null,null,null,null,null,null,null,null,null,null,null,null,null,null,null,null,null,null,null,null,null,null,null,null,null,null,null,null,null,null,null,null,null,null,null,null,null,null,null,null,null,null,null,null,null,null,null,null,null,null,null,null,null,null,null,null,null,null,null,null,null,null,null,null,null,null,null,null,null,null,null,null,null,null,null,null,null,null,null,null,null,null,null,null,null,null,null,null,null,null,null,null,null,null,null,null,null,null,null,null,null,null,null,null,null,null,null,null,null,null,null,null,null,null,null,null,null,null,null,null,null,null,null,null,null,null,null,null,null,null,null,null,null,null,null,null,null,null,null,null,null,null,null,null,null,null,null,null,null,null,null,null,null,null,null,null,null,null,null,null,null,null,null,null,null,null,null,null,null,null,null,null,null,null,null,null,null,null,null,null,null,null,null,null,null,null,null,null,null,null,null,null,null,null,null,null,null,null,null,null,null,null,null,null,null,null,null,null,null,null,null,null,null,null,null,null,null,null,null,null,null,null,null,null,null,null,null,null,null,null,null,null,null,null,null,null,null,null,null,null,null,null,null,null,null,null,null,null,null,null,null,null,null,null,null,null,null,null,null,null,null,null,null,null,null,null,null,null,null,null,null,null,null,null,null,null,null,null,null,null,null,null,null,null,null,null,null,null,null,null,null,null,null,null,null,null,null,null,null,null,null,null,null,null,null,null,null,null,null,null,null,null,null,null,null,null,null,null,null,null,null,null,null,null,null,null,null,null,null,null,null,null,null,null,null,null,null,null,null,null,null,null,null,null,null,null,null,null,null,null,null,null,null,null,null,null,null,null,null,null,null,null,null,null,null,null,null,null,null,null,null,null,null,null,null,null,null,null,null,null,null,null,null,null,null,null,null,null,null,null,null,null,null,null,null,null,null,null,null,null,null,null,null,null,null,null,null,null,null,null,null,null,null,null,null,null,null,null,null,null,null,null,null,null,null,null,67,1,1,4,1,7,1,0,0,0,0,0,0,6,2,null,null,null,null,null,null,2,null,1,"leeallen@ak.net",null,"2013-11-13T03:40:00","2013-11-13T03:41:00",null,414,5,"Firefox 23.0","Windows XP","209.112.172.118"]
[274,60815,1,"ce",1,1,null,null,null,null,null,null,null,null,null,null,null,null,null,null,null,null,null,null,null,null,null,null,null,null,null,null,null,null,null,null,null,null,null,null,null,null,null,null,null,null,null,null,null,null,null,null,null,null,null,null,null,null,null,null,null,null,null,null,null,null,null,null,null,null,null,null,null,null,null,null,null,null,null,null,null,null,null,null,null,null,null,null,null,null,null,null,null,null,null,null,null,null,null,null,null,null,null,null,null,null,null,null,null,null,null,null,null,null,null,null,null,null,null,null,null,null,null,null,null,null,null,null,null,null,null,null,null,null,null,null,null,null,null,null,null,null,null,null,null,null,null,null,null,null,null,null,null,null,null,null,null,null,null,null,null,null,null,null,null,null,null,null,null,null,null,null,null,null,null,null,null,null,null,null,null,null,null,null,null,null,null,null,null,null,null,null,null,null,null,null,null,null,null,null,null,null,null,null,null,null,null,null,null,null,null,null,null,null,null,null,null,null,null,null,null,null,null,null,null,null,null,null,null,null,null,null,null,null,null,null,null,null,null,null,null,null,null,null,null,null,null,null,null,null,null,null,null,null,null,null,null,null,null,null,null,null,null,null,null,null,null,null,null,null,null,null,null,null,null,null,null,null,null,null,null,null,null,null,null,null,null,null,null,null,null,null,null,null,null,null,null,null,null,null,null,null,null,null,null,null,null,null,null,null,null,null,null,null,null,null,null,null,null,null,null,null,null,null,null,null,null,null,null,null,null,null,null,null,null,null,null,null,null,null,null,null,null,null,null,null,null,null,null,null,null,null,null,null,null,null,null,null,null,null,null,null,null,null,null,null,null,null,null,null,null,null,null,null,null,null,null,null,null,null,null,null,null,null,null,null,null,null,null,null,null,null,null,null,null,null,null,null,null,null,null,null,null,null,null,null,null,null,null,null,null,null,null,null,null,null,null,null,null,null,null,null,null,null,null,null,null,null,null,null,null,null,null,null,null,null,null,null,null,null,null,null,null,null,null,null,null,null,null,null,null,null,null,null,null,null,null,null,null,null,null,null,null,null,null,null,null,null,null,null,null,null,null,null,null,null,null,null,null,null,null,null,null,null,null,null,null,null,null,null,null,null,null,null,null,null,null,null,null,null,null,null,null,null,null,null,null,null,null,null,null,null,null,null,null,null,null,null,null,null,null,null,null,null,null,null,null,null,null,null,null,null,null,null,null,null,null,null,null,null,null,null,null,null,null,null,null,null,null,null,null,null,null,null,null,null,null,null,null,null,null,null,null,null,null,null,null,null,null,null,null,null,null,null,null,null,null,null,null,null,null,null,null,null,null,null,null,null,null,null,null,null,null,null,null,null,null,null,null,null,null,null,null,null,null,null,null,null,null,null,null,null,null,null,null,null,null,null,null,null,null,null,null,null,null,null,null,null,null,null,null,null,null,null,null,null,null,null,null,null,null,null,null,null,null,null,null,null,null,null,null,null,null,null,null,null,null,null,null,null,null,null,null,null,null,null,null,null,null,null,null,null,null,null,null,null,null,null,null,null,null,null,null,null,null,null,null,null,null,null,null,null,null,null,null,null,null,null,null,null,null,null,null,null,null,null,null,null,null,null,null,null,null,null,null,null,null,null,null,null,null,null,null,null,null,null,null,null,null,null,null,null,null,null,null,null,null,null,null,null,null,null,null,null,null,null,null,null,null,null,null,null,null,null,null,null,null,null,null,null,null,null,null,null,null,null,null,null,null,null,null,null,null,null,null,null,null,null,null,null,null,null,null,null,null,null,null,null,null,null,null,null,null,null,null,null,null,null,null,null,null,null,null,null,null,null,null,null,null,null,null,null,null,null,null,null,null,null,null,null,null,null,null,null,null,null,null,null,null,null,null,null,null,null,null,null,null,null,null,null,null,null,null,null,null,null,null,null,null,null,null,null,null,null,null,null,null,null,null,null,null,null,null,null,null,null,null,null,null,null,null,null,null,null,null,null,null,null,null,null,null,null,null,null,null,null,null,null,null,null,null,null,null,null,null,null,null,null,null,null,null,null,null,null,null,null,null,null,null,null,null,null,null,null,null,null,null,null,null,null,null,null,null,null,null,null,null,null,null,null,null,null,null,null,null,null,null,null,null,null,null,null,null,null,null,null,null,null,null,null,null,null,null,null,null,null,null,null,null,null,null,null,null,null,null,null,null,null,null,null,null,null,null,null,null,null,null,null,null,null,null,null,null,null,null,null,null,null,null,null,null,null,null,null,null,null,null,null,null,null,null,null,null,null,null,null,null,null,null,null,null,null,null,null,null,null,null,null,null,null,null,null,null,null,null,null,null,null,null,null,null,null,null,null,null,null,null,null,null,null,null,null,null,null,null,null,null,null,null,null,null,null,null,null,null,null,null,null,null,null,null,null,null,null,null,null,null,null,null,null,null,null,null,null,null,null,null,null,null,null,null,null,null,null,null,null,null,null,null,null,null,null,null,null,null,null,null,null,null,null,null,null,null,null,null,null,null,null,null,null,null,null,null,null,null,null,null,null,null,null,null,null,null,null,null,null,null,null,null,null,null,null,null,null,null,null,null,null,null,null,null,null,null,null,null,null,null,null,null,null,null,null,null,null,null,null,null,null,null,null,null,null,null,null,null,null,null,null,null,null,null,null,null,null,null,null,null,null,null,null,null,null,null,null,null,null,null,null,null,null,null,null,null,null,null,null,null,null,null,null,null,null,null,null,null,null,null,null,null,null,null,null,null,null,null,null,null,null,null,null,null,null,null,null,null,null,null,null,null,null,null,null,null,null,null,null,null,null,null,null,null,null,null,null,null,null,null,null,null,null,null,null,null,null,null,null,null,null,null,null,null,null,null,null,null,null,null,null,null,null,null,null,null,null,null,null,null,null,null,null,null,null,null,null,null,null,null,null,null,null,null,null,null,null,null,null,null,null,null,null,null,null,null,null,null,null,null,null,null,null,null,null,null,null,null,null,null,null,null,null,null,null,null,null,null,null,null,null,null,null,null,null,null,null,null,null,null,null,null,null,null,null,null,null,null,null,null,null,null,null,null,null,null,null,null,null,null,null,null,null,null,null,null,null,null,null,null,null,null,null,null,null,null,null,null,null,null,null,null,null,null,null,null,null,null,null,null,null,null,null,null,null,null,null,null,null,null,null,null,null,null,null,null,null,null,null,null,null,null,null,null,null,null,null,null,null,null,null,null,null,null,null,null,null,null,null,null,null,null,null,null,null,null,null,null,null,null,null,null,null,null,null,null,null,null,null,null,null,null,null,null,null,null,null,null,null,null,null,null,null,null,null,null,null,null,null,null,null,null,null,null,null,null,null,null,null,null,null,null,null,null,null,null,null,null,null,null,null,null,null,null,null,null,null,null,null,null,null,null,null,null,null,null,null,null,null,null,null,null,null,null,null,null,null,null,null,null,null,null,null,null,null,null,null,null,null,null,null,null,null,null,null,null,null,null,null,null,null,null,null,null,null,null,null,null,null,null,null,null,null,null,null,null,null,null,null,null,null,null,null,null,null,null,null,null,null,null,null,null,null,null,null,null,null,null,null,null,null,null,null,null,null,null,null,null,null,null,null,null,null,null,null,null,null,null,null,null,null,null,null,null,null,null,null,null,null,null,null,null,null,null,null,null,null,null,null,null,null,null,null,null,null,null,null,null,null,null,null,null,null,null,null,null,null,null,null,null,null,null,null,null,null,null,null,null,null,null,null,null,null,null,null,null,null,null,null,null,null,null,null,null,null,null,null,null,null,null,null,null,null,null,null,null,null,null,null,null,null,null,null,null,null,null,null,null,null,null,null,null,null,null,null,null,null,null,null,null,null,null,null,null,null,null,null,null,null,null,null,null,null,null,null,null,null,null,null,null,null,null,null,null,null,null,null,null,null,null,null,null,null,null,null,null,null,null,null,null,null,null,null,null,null,null,null,null,null,null,null,null,null,null,null,null,null,null,null,null,null,null,null,null,null,null,null,null,null,null,null,null,null,null,null,null,null,null,null,null,null,null,null,null,null,null,null,null,null,null,null,null,null,null,null,null,null,null,null,null,null,null,null,null,null,null,null,null,null,null,null,null,null,null,null,null,null,null,null,null,null,null,null,null,null,null,null,null,null,null,null,null,null,null,null,null,null,null,null,null,null,null,null,null,null,null,null,null,null,null,null,null,null,null,null,null,null,null,null,null,null,null,null,null,null,null,null,null,null,null,null,null,null,null,null,null,null,null,null,null,2,2,null,null,null,null,null,null,null,null,null,null,null,null,null,null,null,null,null,null,null,null,null,null,null,null,null,null,null,null,null,null,null,null,null,null,null,null,null,null,null,null,null,null,null,null,null,null,null,null,null,null,null,null,null,null,null,null,null,null,null,null,null,null,null,null,null,null,null,null,null,null,null,null,null,null,null,null,null,null,null,null,null,null,null,null,null,null,null,null,null,null,null,null,null,null,null,null,null,null,null,null,null,null,null,null,null,null,null,null,null,null,null,null,null,null,null,null,null,null,null,null,null,null,null,null,null,null,null,null,null,null,null,null,null,null,null,null,null,null,null,null,null,null,null,null,null,null,null,null,null,null,null,null,null,null,null,null,null,null,null,null,null,null,null,null,null,null,null,null,null,null,null,null,null,null,null,null,null,null,null,null,null,null,null,null,null,null,null,null,null,null,null,null,null,null,null,null,null,null,null,null,null,null,null,null,null,null,null,null,null,null,null,null,null,null,null,null,null,null,null,null,null,null,null,null,null,null,null,null,null,null,null,null,null,null,null,null,null,null,null,null,null,null,null,null,null,null,null,null,null,null,null,null,null,null,null,null,null,null,null,null,null,null,null,null,null,null,null,null,null,null,null,null,null,null,null,null,null,null,null,null,null,null,null,null,null,null,null,null,null,null,null,null,null,null,null,null,null,null,null,null,null,null,null,null,null,null,null,null,null,null,null,null,null,null,null,null,null,null,null,null,null,null,null,null,null,null,null,null,null,null,null,null,null,null,null,null,null,null,null,null,null,null,null,null,null,null,null,null,null,null,null,null,null,null,null,null,null,null,null,null,null,null,null,null,null,null,null,null,null,null,null,null,null,null,null,null,null,null,null,null,null,null,null,null,null,null,null,null,null,null,null,null,null,null,null,null,null,null,null,null,null,null,null,null,null,null,null,null,null,null,null,null,null,null,null,null,null,null,null,null,null,null,null,null,null,null,null,null,null,null,null,null,null,null,null,null,null,null,null,null,null,null,null,null,null,null,null,null,null,null,null,null,null,null,null,null,null,32,2,1,2,2,null,1,0,0,0,0,0,0,4,2,null,null,null,null,null,null,2,null,2,null,null,"2013-12-02T01:34:00","2013-12-02T01:37:00",null,675,5,"Firefox 23.0","Windows XP","209.112.172.118"]
[294,62875,2,null,1,1,null,null,null,null,null,null,null,null,null,null,null,null,null,null,null,null,null,null,null,null,null,null,null,null,null,null,null,null,null,null,null,null,null,null,null,null,null,null,null,null,null,null,null,null,null,null,null,null,null,null,null,null,null,null,null,null,null,null,null,null,null,null,null,null,null,null,null,null,null,null,null,null,null,null,null,null,null,null,null,null,null,null,null,null,null,null,null,null,null,null,null,null,null,null,null,null,null,null,null,null,null,null,null,null,null,null,null,null,null,null,null,null,null,null,null,null,null,null,null,null,null,null,null,null,null,null,null,null,null,null,null,null,null,null,null,null,null,null,null,null,null,null,null,null,null,null,null,null,null,null,null,null,null,null,null,null,null,null,null,null,null,null,null,null,null,null,null,null,null,null,null,null,null,null,null,null,null,null,null,null,null,null,null,null,null,null,null,null,null,null,null,null,null,null,null,null,null,null,null,null,null,null,null,null,null,null,null,null,null,null,null,null,null,null,null,null,null,null,null,null,null,null,null,null,null,null,null,null,null,null,null,null,null,null,null,null,null,null,null,null,null,null,null,null,null,null,null,null,null,null,null,null,null,null,null,null,null,null,null,null,null,null,null,null,null,null,null,null,null,null,null,null,null,null,null,null,null,null,null,null,null,null,null,null,null,null,null,null,null,null,null,null,null,null,null,null,null,null,null,null,null,null,null,null,null,null,null,null,null,null,null,null,null,null,null,null,null,null,null,null,null,null,null,null,null,null,null,null,null,null,null,null,null,null,null,null,null,null,null,null,null,null,null,null,null,null,null,null,null,null,null,null,null,null,null,null,null,null,null,null,null,null,null,null,null,null,null,null,null,null,null,null,null,null,null,null,null,null,null,null,null,null,null,null,null,null,null,null,null,null,null,null,null,null,null,null,null,null,null,null,null,null,null,null,null,null,null,null,null,null,null,null,null,null,null,null,null,null,null,null,null,null,null,null,null,null,null,null,null,null,null,null,null,null,null,null,null,null,null,null,null,null,null,null,null,null,null,null,null,null,null,null,null,null,null,null,null,null,null,null,null,null,null,null,null,null,null,null,null,null,null,null,null,null,null,null,null,null,null,null,null,null,null,null,null,null,null,null,null,null,null,null,null,null,null,null,null,null,null,null,null,null,null,null,null,null,null,null,null,null,null,null,null,null,null,null,null,null,null,null,null,null,null,null,null,null,null,null,null,null,null,null,null,null,null,null,null,null,null,null,null,null,null,null,null,null,null,null,null,null,null,null,null,null,null,null,null,null,null,null,null,null,null,null,null,null,null,null,null,null,null,null,null,null,null,null,null,null,null,null,null,null,null,null,null,null,null,null,null,null,null,null,null,null,null,null,null,null,null,null,null,null,null,null,null,null,null,null,null,null,null,null,null,null,null,null,null,null,null,null,null,null,null,null,null,null,null,null,null,null,null,null,null,null,null,null,null,null,null,null,null,null,null,null,null,null,null,null,null,null,null,null,null,null,null,null,null,null,null,null,null,null,null,null,null,null,null,null,null,null,null,null,null,null,null,null,null,null,null,null,null,null,null,null,null,null,null,null,null,null,null,null,null,null,null,null,null,null,null,null,null,null,null,null,null,null,null,null,null,null,null,null,null,null,null,null,null,null,null,null,null,null,null,null,null,null,null,null,null,null,null,null,null,null,null,null,null,null,null,null,null,null,null,null,null,null,null,null,null,null,null,null,null,null,null,null,null,null,null,null,null,null,null,null,null,null,null,null,null,null,null,null,null,null,null,null,null,null,null,null,null,null,null,null,null,null,null,null,null,null,null,null,null,null,null,null,null,null,null,null,null,null,null,null,null,null,null,null,null,null,null,null,null,null,null,null,null,null,null,null,null,null,null,null,null,null,null,null,null,null,null,null,null,null,null,null,null,null,null,null,null,null,null,null,null,null,null,null,null,null,null,null,null,null,null,null,null,null,null,null,null,null,null,null,null,null,null,null,null,null,null,null,null,null,null,null,null,null,null,null,null,null,null,null,null,null,null,null,null,null,null,null,null,null,null,null,null,null,null,null,null,null,null,null,null,null,null,null,null,null,null,null,null,null,null,null,null,null,null,null,null,null,null,null,null,null,null,null,null,null,null,null,null,null,null,null,null,null,null,null,null,null,null,null,null,null,null,null,null,null,null,null,null,null,null,null,null,null,null,null,null,null,null,null,null,null,null,null,null,null,null,null,null,null,null,null,null,null,null,null,null,null,null,null,null,null,null,null,null,null,null,null,null,null,null,null,null,null,null,null,null,null,null,null,null,null,null,null,null,null,null,null,null,null,null,null,null,null,null,null,null,null,null,null,null,null,null,null,null,null,null,null,null,null,null,null,null,null,null,null,null,null,null,null,null,null,null,null,null,null,null,null,null,null,null,null,null,null,null,null,null,null,null,null,null,null,null,null,null,null,null,null,null,null,null,null,null,null,null,null,null,null,null,null,null,null,null,null,null,null,null,null,null,null,null,null,null,null,null,null,null,null,null,null,null,null,null,null,null,null,null,null,null,null,null,null,null,null,null,null,null,null,null,null,null,null,null,null,null,null,null,null,null,null,null,null,null,null,null,null,null,null,null,null,null,null,null,null,null,null,null,null,null,null,null,null,null,null,null,null,null,null,null,null,null,null,null,null,null,null,null,null,null,null,null,null,null,null,null,null,null,null,null,null,null,null,null,null,null,null,null,null,null,null,null,null,null,null,null,null,null,null,null,null,null,null,null,null,null,null,null,null,null,null,null,null,null,null,null,null,null,null,null,null,null,null,null,null,null,null,null,null,null,null,null,null,null,null,null,null,null,null,null,null,null,null,null,null,null,null,null,null,null,null,null,null,null,null,null,null,null,null,null,null,null,null,null,null,null,null,null,null,null,null,null,null,null,null,null,null,null,null,null,null,null,null,null,null,null,null,null,null,null,null,null,null,null,null,null,null,null,null,null,null,null,null,null,null,null,null,null,null,null,null,null,null,null,null,null,null,null,null,null,null,null,null,null,null,null,null,null,null,null,null,null,null,null,null,null,null,null,null,null,null,null,null,null,null,null,null,null,null,null,null,null,null,null,null,null,null,null,null,null,null,null,null,null,null,null,null,null,null,null,null,null,null,null,null,null,null,null,null,null,null,null,null,null,null,null,null,null,null,null,null,null,null,null,null,null,null,null,null,null,null,null,null,null,null,null,null,null,null,null,null,null,null,null,null,null,null,null,null,null,null,null,null,null,null,null,null,null,null,null,null,null,null,null,null,null,null,null,null,null,null,null,null,null,null,null,null,null,null,null,null,null,null,null,null,null,null,null,null,null,null,null,null,null,null,null,null,null,null,null,null,null,null,null,null,null,null,null,null,null,null,null,null,null,null,null,null,null,null,null,null,null,null,null,null,null,null,null,null,null,null,null,null,null,null,null,null,null,null,null,null,null,null,null,null,null,null,null,null,null,null,null,null,null,null,null,null,null,null,null,null,null,null,null,null,null,null,null,null,null,null,null,null,null,null,null,null,null,null,null,null,null,null,null,null,null,null,null,null,null,null,null,null,null,null,null,null,null,null,null,null,null,null,null,null,null,null,null,null,null,null,null,null,null,null,null,null,null,null,null,null,null,null,null,null,null,null,null,null,null,null,null,null,null,null,null,null,null,null,null,null,null,null,null,null,null,null,null,null,null,null,null,null,null,null,null,null,null,null,null,null,null,null,null,null,null,null,null,null,null,null,null,null,null,null,null,null,null,null,null,null,null,null,null,null,null,null,null,null,null,null,null,null,null,null,null,null,null,null,null,null,null,null,null,null,null,null,null,null,null,null,null,null,null,null,null,null,null,null,null,null,null,null,null,null,null,null,null,null,null,null,null,null,null,null,null,null,null,null,null,null,null,null,null,null,null,null,null,null,null,null,null,null,null,null,null,null,null,null,null,null,null,null,null,null,null,null,null,null,null,null,null,null,null,null,null,null,null,null,null,null,null,null,null,null,null,null,null,null,null,null,null,null,null,null,null,null,null,null,null,null,null,null,null,null,null,null,null,null,null,null,null,null,null,null,null,null,null,null,null,null,null,null,null,null,null,null,null,null,null,null,null,null,null,null,null,null,null,null,null,null,null,null,null,null,null,null,null,null,null,null,null,null,null,null,null,null,null,null,null,null,null,null,null,null,null,null,null,null,null,null,null,null,null,null,null,null,null,null,null,null,null,null,null,null,null,null,null,null,null,null,null,null,null,null,null,null,null,2,1,25,1,0,1,0,1,0,0,1,0,1,0,1,1,1,1,0,1,0,1,0,0,0,null,null,2,null,25,null,6,null,null,4,null,26,null,12,15,4,13,null,6,null,25,null,null,null,null,null,0,null,0,null,0,null,null,0,null,1,null,0,0,0,0,null,0,null,1,null,null,null,null,null,10,null,null,null,null,0,0,0,0,0,0,0,0,0,0,0,0,0,0,0,0,0,0,0,0,0,0,1,1,1,1,0,0,0,0,0,0,0,1,0,0,0,1,1,0,0,1,1,1,0,0,0,0,1,1,0,0,0,0,0,0,0,0,1,1,1986,1,2,null,1,6,1,null,1,null,0,0,0,0,1,null,null,null,null,null,null,null,null,null,null,null,null,null,null,null,null,null,null,0,null,null,null,null,null,null,null,null,null,null,null,null,null,null,null,null,null,null,null,null,null,null,null,null,null,null,null,null,null,null,null,null,null,null,null,null,null,null,null,null,null,null,null,null,null,null,null,null,null,null,null,null,null,null,null,null,null,null,null,null,null,null,null,null,null,null,null,null,null,null,null,null,null,null,1,null,null,2,null,null,null,null,null,null,null,null,null,null,null,null,null,2,null,null,null,null,null,null,null,null,null,null,null,null,null,null,null,null,null,null,null,null,null,null,null,null,null,null,null,null,null,null,null,null,null,null,null,null,null,null,null,null,null,2,null,null,null,null,null,null,null,null,null,null,null,null,null,null,null,null,null,null,null,null,null,null,null,null,null,null,null,null,null,null,null,null,null,null,null,null,null,null,null,null,null,null,null,null,null,null,null,null,null,null,null,null,null,null,null,null,null,null,null,null,null,null,null,null,null,null,null,4,1,3,4,2,null,null,null,null,2,2,null,null,null,null,null,null,2,null,null,0,1,1,0,1,0,0,0,0,0,0,null,0,0,0,0,0,0,0,0,0,1,0,0,0,null,1,0,0,0,0,0,0,0,1,0,null,3,2,1,3,2,1,1,1,1,1,1,3,3,5,2,2,2,2,2,2,2,2,2,2,2,2,2,57,2,2,3,1,7,1,0,0,0,0,0,0,6,2,null,null,null,null,null,null,2,null,2,null,null,"2013-11-05T16:25:00","2013-11-05T16:37:00",null,631,5,"Firefox 25.0","Mac OS X 10.6","66.58.244.47",1,3,5,8,10,12,13,14,15,17,19,null,null,null,null,null,null,null,null,null,null,null,10,19,null,null,null,null,null,null,null,null,null,null,null,null,null,null,null,null,null,null,null,null,null,null,null,null,null,null,null,null,null,null,null,null,null,null,null,null,null,null,null,null,null,null,10,null,null,null,null,null,null,null,null,null,null,null,null,null,null,null,null,null,null,null,null,null,1,3,5,6,7,8,9,28,null,null,null,null,null,null,null,null,null,null,null,null,null,null,null,null,null,null,null,null,19,20,21,22,23,24,25,26,27,null,null,null,null,null,null,null,null,null,null,null,null,null,null,null,null,null,null,null,1,3,9]
[815,65285,1,"sb",2,null,null,null,null,null,null,null,null,null,null,null,null,null,null,null,null,null,null,null,null,null,null,null,null,null,null,null,null,null,null,null,null,null,null,null,null,null,null,null,null,null,null,null,null,null,null,null,null,null,null,null,null,null,null,null,null,null,null,null,null,null,null,null,null,null,null,null,null,null,null,null,null,null,null,null,null,null,null,null,null,null,null,null,null,null,null,null,null,null,null,null,null,null,null,null,null,null,null,null,null,null,null,null,null,null,null,null,null,null,null,null,null,null,null,null,null,null,null,null,null,null,null,null,null,null,null,null,null,null,null,null,null,null,null,null,null,null,null,null,null,null,null,null,null,null,null,null,null,null,null,null,null,null,null,null,null,null,null,null,null,null,null,null,null,null,null,null,null,null,null,null,null,null,null,null,null,null,null,null,null,null,null,null,null,null,null,null,null,null,null,null,null,null,null,null,null,null,null,null,null,null,null,null,null,null,null,null,null,null,null,null,null,null,null,null,null,null,null,null,null,null,null,null,null,null,null,null,null,null,null,null,null,null,null,null,null,null,null,null,null,null,null,null,null,null,null,null,null,null,null,null,null,null,null,null,null,null,null,null,null,null,null,null,null,null,null,null,null,null,null,null,null,null,null,null,null,null,null,null,null,null,null,null,null,null,null,null,null,null,null,null,null,null,null,null,null,null,null,null,null,null,null,null,null,null,null,null,null,null,null,null,null,null,null,null,null,null,null,null,null,null,null,null,null,null,null,null,null,null,null,null,null,null,null,null,null,null,null,null,null,null,null,null,null,null,null,null,null,null,null,null,null,null,null,null,null,null,null,null,null,null,null,null,null,null,null,null,null,null,null,null,null,null,null,null,null,null,null,null,null,null,null,null,null,null,null,null,null,null,null,null,null,null,null,null,null,null,null,null,null,null,null,null,null,null,null,null,null,null,null,null,null,null,null,null,null,null,null,null,null,null,null,null,null,null,null,null,null,null,null,null,null,null,null,null,null,null,null,null,null,null,null,null,null,null,null,null,null,null,null,null,null,null,null,null,null,null,null,null,null,null,null,null,null,null,null,null,null,null,null,null,null,null,null,null,null,null,null,null,null,null,null,null,null,null,null,null,null,null,null,null,null,null,null,null,null,null,null,null,null,null,null,null,null,null,null,null,null,null,null,null,null,null,null,null,null,null,null,null,null,null,null,null,null,null,null,null,null,null,null,null,null,null,null,null,null,null,null,null,null,null,null,null,null,null,null,null,null,null,null,null,null,null,null,null,null,null,null,null,null,null,null,null,null,null,null,null,null,null,null,null,null,null,null,null,null,null,null,null,null,null,null,null,null,null,null,null,null,null,null,null,null,null,null,null,null,null,null,null,null,null,null,null,null,null,null,null,null,null,null,null,null,null,null,null,null,null,null,null,null,null,null,null,null,null,null,null,null,null,null,null,null,null,null,null,null,null,null,null,null,null,null,null,null,null,null,null,null,null,null,null,null,null,null,null,null,null,null,null,null,null,null,null,null,null,null,null,null,null,null,null,null,null,null,null,null,null,null,null,null,null,null,null,null,null,null,null,null,null,null,null,null,null,null,null,null,null,null,null,null,null,null,null,null,null,null,null,null,null,null,null,null,null,null,null,null,null,null,null,null,null,null,null,null,null,null,null,null,null,null,null,null,null,null,null,null,null,null,null,null,null,null,null,null,null,null,null,null,null,null,null,null,null,null,null,null,null,null,null,null,null,null,null,null,null,null,null,null,null,null,null,null,null,null,null,null,null,null,null,null,null,null,null,null,null,null,null,null,null,null,null,null,null,null,null,null,null,null,null,null,null,null,null,null,null,null,null,null,null,null,null,null,null,null,null,null,null,null,null,null,null,null,null,null,null,null,null,null,null,null,null,null,null,null,null,null,null,null,null,null,null,null,null,null,null,null,null,null,null,null,null,null,null,null,null,null,null,null,null,null,null,null,null,null,null,null,null,null,null,null,null,null,null,null,null,null,null,null,null,null,null,null,null,null,null,null,null,null,null,null,null,null,null,null,null,null,null,null,null,null,null,null,null,null,null,null,null,null,null,null,null,null,null,null,null,null,null,null,null,null,null,null,null,null,null,null,null,null,null,null,null,null,null,null,null,null,null,null,null,null,null,null,null,null,null,null,null,null,null,null,null,null,null,null,null,null,null,null,null,null,null,null,null,null,null,null,null,null,null,null,null,null,null,null,null,null,null,null,null,null,null,null,null,null,null,null,null,null,null,null,null,null,null,null,null,null,null,null,null,null,null,null,null,null,null,null,null,null,null,null,null,null,null,null,null,null,null,null,null,null,null,null,null,null,null,null,null,null,null,null,null,null,null,null,null,null,null,null,null,null,null,null,null,null,null,null,null,null,null,null,null,null,null,null,null,null,null,null,null,null,null,null,null,null,null,null,null,null,null,null,null,null,null,null,null,null,null,null,null,null,null,null,null,null,null,null,null,null,null,null,null,null,null,null,null,null,null,null,null,null,null,null,null,null,null,null,null,null,null,null,null,null,null,null,null,null,null,null,null,null,null,null,null,null,null,null,null,null,null,null,null,null,null,null,null,null,null,null,null,null,null,null,null,null,null,null,null,null,null,null,null,null,null,null,null,null,null,null,null,null,null,null,null,null,null,null,null,null,null,null,null,null,null,null,null,null,null,null,null,null,null,null,null,null,null,null,null,null,null,null,null,null,null,null,null,null,null,null,null,null,null,null,null,null,null,null,null,null,null,null,null,null,null,null,null,null,null,null,null,null,null,null,null,null,null,null,null,null,null,null,null,null,null,null,null,null,null,null,null,null,null,null,null,null,null,null,null,null,null,null,null,null,null,null,null,null,null,null,null,null,null,null,null,null,null,null,null,null,null,null,null,null,null,null,null,null,null,null,null,null,null,null,null,null,null,null,null,null,null,null,null,null,null,null,null,null,null,null,null,null,null,null,null,null,null,null,null,null,null,null,null,null,null,null,null,null,null,null,null,null,null,null,null,null,null,null,null,null,null,null,null,null,null,null,null,null,null,null,null,null,null,null,null,null,null,null,null,null,null,null,null,null,null,null,null,null,null,null,null,null,null,null,null,null,null,null,null,null,null,null,null,null,null,null,null,null,null,null,null,null,null,null,null,null,null,null,null,null,null,null,null,null,null,null,null,null,null,null,null,null,null,null,null,null,null,null,null,null,null,null,null,null,null,null,null,null,null,null,null,null,null,null,null,null,null,null,null,null,null,null,null,null,null,null,null,null,null,null,null,null,null,null,null,null,null,null,null,null,null,null,null,null,null,null,null,null,null,null,null,null,null,null,null,null,null,null,null,null,null,null,null,null,null,null,null,null,null,null,null,null,null,null,null,null,null,null,null,null,null,null,null,null,null,null,null,null,null,null,null,null,null,null,null,null,null,null,null,null,null,null,null,null,null,null,null,null,null,null,null,null,null,null,null,null,null,null,null,null,null,null,null,null,null,null,null,null,null,null,null,null,null,null,null,null,null,null,null,null,null,null,null,null,null,null,null,null,null,null,null,null,null,null,null,null,null,null,null,null,null,null,null,null,null,null,null,null,null,null,null,null,null,null,null,null,null,null,null,null,null,null,null,null,null,null,null,null,null,null,null,null,null,null,null,null,null,null,null,null,null,null,null,null,null,null,null,null,null,null,null,null,null,null,null,null,null,null,null,null,null,null,null,null,null,null,null,null,null,null,null,null,null,null,null,null,null,null,null,null,null,null,null,null,null,null,null,null,null,null,null,null,null,null,null,null,null,null,null,null,null,null,null,null,null,null,null,null,null,null,null,null,null,null,null,null,null,null,null,null,null,null,null,null,null,null,null,null,null,null,null,null,null,null,null,null,null,null,null,null,null,null,null,null,null,null,null,null,null,null,null,null,null,null,null,null,null,null,null,null,null,null,null,null,null,null,null,null,null,null,null,null,null,null,null,null,null,null,null,null,null,null,null,null,null,null,null,null,null,null,null,null,null,null,null,null,null,null,null,null,null,null,null,null,null,null,null,null,null,null,null,null,null,null,null,null,null,null,null,null,null,null,null,null,null,null,null,null,null,null,null,null,null,null,null,null,null,null,null,null,null,null,null,null,null,null,null,null,null,null,null,null,null,null,null,null,null,null,null,null,null,null,null,null,null,null,null,null,null,null,null,null,null,null,null,null,null,null,null,null,null,null,null,null,null,null,null,null,null,null,null,null,null,null,null,null,null,null,null,null,null,null,null,null,2,2,null,null,null,null,null,null,null,null,null,null,null,null,null,null,null,null,null,null,null,null,null,null,null,null,null,null,null,null,null,null,null,null,null,null,null,null,null,null,null,null,null,null,null,null,null,null,null,null,null,null,null,null,null,null,null,null,null,null,null,null,null,null,null,null,null,null,null,null,null,null,null,null,null,null,null,null,null,null,null,null,null,null,null,null,null,null,null,null,null,null,null,null,null,null,null,null,null,null,null,null,null,null,null,null,null,null,null,null,null,null,null,null,null,null,null,null,null,null,null,null,null,null,null,null,null,null,null,null,null,null,null,null,null,null,null,null,null,null,null,null,null,null,null,null,null,null,null,null,null,null,null,null,null,null,null,null,null,null,null,null,null,null,null,null,null,null,null,null,null,null,null,null,null,null,null,null,null,null,null,null,null,null,null,null,null,null,null,null,null,null,null,null,null,null,null,null,null,null,null,null,null,null,null,null,null,null,null,null,null,null,null,null,null,null,null,null,null,null,null,null,null,null,null,null,null,null,null,null,null,null,null,null,null,null,null,null,null,null,null,null,null,null,null,null,null,null,null,null,null,null,null,null,null,null,null,null,null,null,null,null,null,null,null,null,null,null,null,null,null,null,null,null,null,null,null,null,null,null,null,null,null,null,null,null,null,null,null,null,null,null,null,null,null,null,null,null,null,null,null,null,null,null,null,null,null,null,null,null,null,null,null,null,null,null,null,null,null,null,null,null,null,null,null,null,null,null,null,null,null,null,null,null,null,null,null,null,null,null,null,null,null,null,null,null,null,null,null,null,null,null,null,null,null,null,null,null,null,null,null,null,null,null,null,null,null,null,null,null,null,null,null,null,null,null,null,null,null,null,null,null,null,null,null,null,null,null,null,null,null,null,null,null,null,null,null,null,null,null,null,null,null,null,null,null,null,null,null,null,null,null,null,null,null,null,null,null,null,null,null,null,null,null,null,null,null,null,null,null,null,null,null,null,null,null,null,null,null,null,null,null,null,null,null,null,null,null,null,null,null,null,null,null,null,null,null,null,null,52,2,2,1,null,1,1,0,0,0,0,0,0,4,2,null,null,null,null,null,null,2,null,null,null,"907-279-0092","2014-01-09T02:33:00","2014-01-09T02:37:00",null,14032,5,"Firefox 23.0","Windows XP","209.112.172.118"]
[130,70270,1,"sb",2,null,null,null,null,null,null,null,null,null,null,null,null,null,null,null,null,null,null,null,null,null,null,null,null,null,null,null,null,null,null,null,null,null,null,null,null,null,null,null,null,null,null,null,null,null,null,null,null,null,null,null,null,null,null,null,null,null,null,null,null,null,null,null,null,null,null,null,null,null,null,null,null,null,null,null,null,null,null,null,null,null,null,null,null,null,null,null,null,null,null,null,null,null,null,null,null,null,null,null,null,null,null,null,null,null,null,null,null,null,null,null,null,null,null,null,null,null,null,null,null,null,null,null,null,null,null,null,null,null,null,null,null,null,null,null,null,null,null,null,null,null,null,null,null,null,null,null,null,null,null,null,null,null,null,null,null,null,null,null,null,null,null,null,null,null,null,null,null,null,null,null,null,null,null,null,null,null,null,null,null,null,null,null,null,null,null,null,null,null,null,null,null,null,null,null,null,null,null,null,null,null,null,null,null,null,null,null,null,null,null,null,null,null,null,null,null,null,null,null,null,null,null,null,null,null,null,null,null,null,null,null,null,null,null,null,null,null,null,null,null,null,null,null,null,null,null,null,null,null,null,null,null,null,null,null,null,null,null,null,null,null,null,null,null,null,null,null,null,null,null,null,null,null,null,null,null,null,null,null,null,null,null,null,null,null,null,null,null,null,null,null,null,null,null,null,null,null,null,null,null,null,null,null,null,null,null,null,null,null,null,null,null,null,null,null,null,null,null,null,null,null,null,null,null,null,null,null,null,null,null,null,null,null,null,null,null,null,null,null,null,null,null,null,null,null,null,null,null,null,null,null,null,null,null,null,null,null,null,null,null,null,null,null,null,null,null,null,null,null,null,null,null,null,null,null,null,null,null,null,null,null,null,null,null,null,null,null,null,null,null,null,null,null,null,null,null,null,null,null,null,null,null,null,null,null,null,null,null,null,null,null,null,null,null,null,null,null,null,null,null,null,null,null,null,null,null,null,null,null,null,null,null,null,null,null,null,null,null,null,null,null,null,null,null,null,null,null,null,null,null,null,null,null,null,null,null,null,null,null,null,null,null,null,null,null,null,null,null,null,null,null,null,null,null,null,null,null,null,null,null,null,null,null,null,null,null,null,null,null,null,null,null,null,null,null,null,null,null,null,null,null,null,null,null,null,null,null,null,null,null,null,null,null,null,null,null,null,null,null,null,null,null,null,null,null,null,null,null,null,null,null,null,null,null,null,null,null,null,null,null,null,null,null,null,null,null,null,null,null,null,null,null,null,null,null,null,null,null,null,null,null,null,null,null,null,null,null,null,null,null,null,null,null,null,null,null,null,null,null,null,null,null,null,null,null,null,null,null,null,null,null,null,null,null,null,null,null,null,null,null,null,null,null,null,null,null,null,null,null,null,null,null,null,null,null,null,null,null,null,null,null,null,null,null,null,null,null,null,null,null,null,null,null,null,null,null,null,null,null,null,null,null,null,null,null,null,null,null,null,null,null,null,null,null,null,null,null,null,null,null,null,null,null,null,null,null,null,null,null,null,null,null,null,null,null,null,null,null,null,null,null,null,null,null,null,null,null,null,null,null,null,null,null,null,null,null,null,null,null,null,null,null,null,null,null,null,null,null,null,null,null,null,null,null,null,null,null,null,null,null,null,null,null,null,null,null,null,null,null,null,null,null,null,null,null,null,null,null,null,null,null,null,null,null,null,null,null,null,null,null,null,null,null,null,null,null,null,null,null,null,null,null,null,null,null,null,null,null,null,null,null,null,null,null,null,null,null,null,null,null,null,null,null,null,null,null,null,null,null,null,null,null,null,null,null,null,null,null,null,null,null,null,null,null,null,null,null,null,null,null,null,null,null,null,null,null,null,null,null,null,null,null,null,null,null,null,null,null,null,null,null,null,null,null,null,null,null,null,null,null,null,null,null,null,null,null,null,null,null,null,null,null,null,null,null,null,null,null,null,null,null,null,null,null,null,null,null,null,null,null,null,null,null,null,null,null,null,null,null,null,null,null,null,null,null,null,null,null,null,null,null,null,null,null,null,null,null,null,null,null,null,null,null,null,null,null,null,null,null,null,null,null,null,null,null,null,null,null,null,null,null,null,null,null,null,null,null,null,null,null,null,null,null,null,null,null,null,null,null,null,null,null,null,null,null,null,null,null,null,null,null,null,null,null,null,null,null,null,null,null,null,null,null,null,null,null,null,null,null,null,null,null,null,null,null,null,null,null,null,null,null,null,null,null,null,null,null,null,null,null,null,null,null,null,null,null,null,null,null,null,null,null,null,null,null,null,null,null,null,null,null,null,null,null,null,null,null,null,null,null,null,null,null,null,null,null,null,null,null,null,null,null,null,null,null,null,null,null,null,null,null,null,null,null,null,null,null,null,null,null,null,null,null,null,null,null,null,null,null,null,null,null,null,null,null,null,null,null,null,null,null,null,null,null,null,null,null,null,null,null,null,null,null,null,null,null,null,null,null,null,null,null,null,null,null,null,null,null,null,null,null,null,null,null,null,null,null,null,null,null,null,null,null,null,null,null,null,null,null,null,null,null,null,null,null,null,null,null,null,null,null,null,null,null,null,null,null,null,null,null,null,null,null,null,null,null,null,null,null,null,null,null,null,null,null,null,null,null,null,null,null,null,null,null,null,null,null,null,null,null,null,null,null,null,null,null,null,null,null,null,null,null,null,null,null,null,null,null,null,null,null,null,null,null,null,null,null,null,null,null,null,null,null,null,null,null,null,null,null,null,null,null,null,null,null,null,null,null,null,null,null,null,null,null,null,null,null,null,null,null,null,null,null,null,null,null,null,null,null,null,null,null,null,null,null,null,null,null,null,null,null,null,null,null,null,null,null,null,null,null,null,null,null,null,null,null,null,null,null,null,null,null,null,null,null,null,null,null,null,null,null,null,null,null,null,null,null,null,null,null,null,null,null,null,null,null,null,null,null,null,null,null,null,null,null,null,null,null,null,null,null,null,null,null,null,null,null,null,null,null,null,null,null,null,null,null,null,null,null,null,null,null,null,null,null,null,null,null,null,null,null,null,null,null,null,null,null,null,null,null,null,null,null,null,null,null,null,null,null,null,null,null,null,null,null,null,null,null,null,null,null,null,null,null,null,null,null,null,null,null,null,null,null,null,null,null,null,null,null,null,null,null,null,null,null,null,null,null,null,null,null,null,null,null,null,null,null,null,null,null,null,null,null,null,null,null,null,null,null,null,null,null,null,null,null,null,null,null,null,null,null,null,null,null,null,null,null,null,null,null,null,null,null,null,null,null,null,null,null,null,null,null,null,null,null,null,null,null,null,null,null,null,null,null,null,null,null,null,null,null,null,null,null,null,null,null,null,null,null,null,null,null,null,null,null,null,null,null,null,null,null,null,null,null,null,null,null,null,null,null,null,null,null,null,null,null,null,null,null,null,null,null,null,null,null,null,null,null,null,null,null,null,null,null,null,null,null,null,null,null,null,null,null,null,null,null,null,null,null,null,null,null,null,null,null,null,null,null,null,null,null,null,null,null,null,null,null,null,null,null,null,null,null,null,null,null,null,null,null,null,null,null,null,null,null,null,null,null,null,null,null,null,null,null,null,null,null,null,null,null,null,null,null,null,null,null,null,null,null,null,null,null,null,null,null,null,null,null,null,null,null,null,null,null,null,null,null,null,null,null,null,null,null,null,null,null,null,null,null,null,null,null,null,null,null,null,null,null,null,null,null,null,null,null,null,null,null,null,null,null,null,null,null,null,null,null,null,null,null,null,null,null,null,null,null,null,null,null,null,null,null,null,null,null,null,null,null,null,null,null,null,null,null,null,null,null,null,null,null,null,null,null,null,null,null,null,null,null,null,null,null,null,null,null,null,null,null,null,null,null,null,null,null,null,null,null,null,null,null,null,null,null,null,null,null,null,null,null,null,null,null,null,null,null,null,null,null,null,null,null,null,null,null,null,null,null,null,null,null,null,null,null,null,null,null,null,null,null,null,null,null,null,null,null,null,null,null,null,null,null,null,null,null,null,null,null,null,null,null,null,null,null,null,null,null,null,null,null,null,null,null,null,null,null,null,null,null,null,null,null,null,null,null,null,null,null,null,null,null,null,null,null,null,null,null,null,null,null,null,null,null,null,null,null,null,null,null,null,null,null,null,null,null,null,null,null,null,null,null,null,null,null,null,null,null,null,null,null,null,null,null,null,null,null,null,null,null,null,null,null,null,null,null,null,null,null,null,null,null,null,null,null,2,1,2,0,0,0,0,0,0,0,0,0,0,0,1,0,0,0,0,0,0,0,1,0,0,null,null,null,null,null,null,null,null,null,null,null,null,null,1,null,null,null,null,null,null,null,2,null,null,null,null,null,null,null,null,null,null,null,null,null,null,null,1,null,null,null,null,null,null,null,1,null,null,null,null,20,null,null,null,null,0,0,0,0,0,0,0,0,0,0,0,0,0,0,0,0,0,0,0,0,1,0,0,0,0,0,0,0,0,0,0,0,0,0,0,0,0,0,0,0,0,0,0,0,0,0,0,0,0,0,0,0,0,0,0,0,0,0,0,2,null,null,null,null,2,null,null,null,null,null,null,null,null,null,null,null,null,null,null,null,null,null,null,null,null,null,null,null,null,null,null,null,null,null,null,null,null,null,null,null,null,null,null,null,null,null,null,null,null,null,null,null,null,null,null,null,null,null,null,null,null,null,null,null,null,null,null,null,null,null,null,null,null,null,null,null,null,null,null,null,null,null,null,null,null,null,null,null,null,null,null,null,null,null,null,null,null,null,null,null,null,null,null,null,null,null,null,null,null,null,null,null,null,null,null,null,null,null,null,null,null,null,null,null,null,null,null,null,null,null,null,null,null,null,null,null,null,null,null,null,null,null,null,null,null,null,null,null,null,null,null,null,null,null,null,null,null,null,null,null,null,null,null,null,null,null,null,null,null,null,null,null,null,null,null,null,null,null,null,null,null,null,null,null,null,null,null,null,null,null,null,null,null,null,null,null,null,null,null,null,null,null,null,null,null,null,null,null,null,null,null,null,null,null,null,null,null,null,null,null,null,null,null,null,null,null,null,null,null,null,null,null,null,null,null,3,0,null,5,2,null,null,null,null,3,null,null,null,null,null,null,null,2,null,null,1,0,0,0,0,0,0,0,0,0,0,null,1,0,0,0,0,0,0,0,0,0,0,0,0,null,2,null,null,null,null,null,null,null,null,null,null,null,null,null,3,3,2,2,3,1,3,3,4,4,5,3,3,2,3,2,2,3,2,2,3,2,3,3,45,2,1,2,2,null,1,0,0,0,0,0,0,6,2,null,null,null,null,null,null,2,null,2,null,null,"2013-12-04T03:51:00","2013-12-04T03:55:00",null,750,5,"Firefox 23.0","Windows XP","209.112.172.118",12,20,null,null,null,null,null,null,null,null,null,null,null,null,null,null,null,null,null,null,null,null,null,null,12,20,null,null,null,null,null,null,null,null,null,null,null,null,null,null,null,null,null,null,null,null,null,null,null,null,null,null,null,null,null,null,null,null,null,null,null,null,null,null,null,null,null,null,null,null,null,null,20]
[1387,73630,1,"ms",2,null,null,null,null,null,null,null,null,null,null,null,null,null,null,null,null,null,null,null,null,null,null,null,null,null,null,null,null,null,null,null,null,null,null,null,null,null,null,null,null,null,null,null,null,null,null,null,null,null,null,null,null,null,null,null,null,null,null,null,null,null,null,null,null,null,null,null,null,null,null,null,null,null,null,null,null,null,null,null,null,null,null,null,null,null,null,null,null,null,null,null,null,null,null,null,null,null,null,null,null,null,null,null,null,null,null,null,null,null,null,null,null,null,null,null,null,null,null,null,null,null,null,null,null,null,null,null,null,null,null,null,null,null,null,null,null,null,null,null,null,null,null,null,null,null,null,null,null,null,null,null,null,null,null,null,null,null,null,null,null,null,null,null,null,null,null,null,null,null,null,null,null,null,null,null,null,null,null,null,null,null,null,null,null,null,null,null,null,null,null,null,null,null,null,null,null,null,null,null,null,null,null,null,null,null,null,null,null,null,null,null,null,null,null,null,null,null,null,null,null,null,null,null,null,null,null,null,null,null,null,null,null,null,null,null,null,null,null,null,null,null,null,null,null,null,null,null,null,null,null,null,null,null,null,null,null,null,null,null,null,null,null,null,null,null,null,null,null,null,null,null,null,null,null,null,null,null,null,null,null,null,null,null,null,null,null,null,null,null,null,null,null,null,null,null,null,null,null,null,null,null,null,null,null,null,null,null,null,null,null,null,null,null,null,null,null,null,null,null,null,null,null,null,null,null,null,null,null,null,null,null,null,null,null,null,null,null,null,null,null,null,null,null,null,null,null,null,null,null,null,null,null,null,null,null,null,null,null,null,null,null,null,null,null,null,null,null,null,null,null,null,null,null,null,null,null,null,null,null,null,null,null,null,null,null,null,null,null,null,null,null,null,null,null,null,null,null,null,null,null,null,null,null,null,null,null,null,null,null,null,null,null,null,null,null,null,null,null,null,null,null,null,null,null,null,null,null,null,null,null,null,null,null,null,null,null,null,null,null,null,null,null,null,null,null,null,null,null,null,null,null,null,null,null,null,null,null,null,null,null,null,null,null,null,null,null,null,null,null,null,null,null,null,null,null,null,null,null,null,null,null,null,null,null,null,null,null,null,null,null,null,null,null,null,null,null,null,null,null,null,null,null,null,null,null,null,null,null,null,null,null,null,null,null,null,null,null,null,null,null,null,null,null,null,null,null,null,null,null,null,null,null,null,null,null,null,null,null,null,null,null,null,null,null,null,null,null,null,null,null,null,null,null,null,null,null,null,null,null,null,null,null,null,null,null,null,null,null,null,null,null,null,null,null,null,null,null,null,null,null,null,null,null,null,null,null,null,null,null,null,null,null,null,null,null,null,null,null,null,null,null,null,null,null,null,null,null,null,null,null,null,null,null,null,null,null,null,null,null,null,null,null,null,null,null,null,null,null,null,null,null,null,null,null,null,null,null,null,null,null,null,null,null,null,null,null,null,null,null,null,null,null,null,null,null,null,null,null,null,null,null,null,null,null,null,null,null,null,null,null,null,null,null,null,null,null,null,null,null,null,null,null,null,null,null,null,null,null,null,null,null,null,null,null,null,null,null,null,null,null,null,null,null,null,null,null,null,null,null,null,null,null,null,null,null,null,null,null,null,null,null,null,null,null,null,null,null,null,null,null,null,null,null,null,null,null,null,null,null,null,null,null,null,null,null,null,null,null,null,null,null,null,null,null,null,null,null,null,null,null,null,null,null,null,null,null,null,null,null,null,null,null,null,null,null,null,null,null,null,null,null,null,null,null,null,null,null,null,null,null,null,null,null,null,null,null,null,null,null,null,null,null,null,null,null,null,null,null,null,null,null,null,null,null,null,null,null,null,null,null,null,null,null,null,null,null,null,null,null,null,null,null,null,null,null,null,null,null,null,null,null,null,null,null,null,null,null,null,null,null,null,null,null,null,null,null,null,null,null,null,null,null,null,null,null,null,null,null,null,null,null,null,null,null,null,null,null,null,null,null,null,null,null,null,null,null,null,null,null,null,null,null,null,null,null,null,null,null,null,null,null,null,null,null,null,null,null,null,null,null,null,null,null,null,null,null,null,null,null,null,null,null,null,null,null,null,null,null,null,null,null,null,null,null,null,null,null,null,null,null,null,null,null,null,null,null,null,null,null,null,null,null,null,null,null,null,null,null,null,null,null,null,null,null,null,null,null,null,null,null,null,null,null,null,null,null,null,null,null,null,null,null,null,null,null,null,null,null,null,null,null,null,null,null,null,null,null,null,null,null,null,null,null,null,null,null,null,null,null,null,null,null,null,null,null,null,null,null,null,null,null,null,null,null,null,null,null,null,null,null,null,null,null,null,null,null,null,null,null,null,null,null,null,null,null,null,null,null,null,null,null,null,null,null,null,null,null,null,null,null,null,null,null,null,null,null,null,null,null,null,null,null,null,null,null,null,null,null,null,null,null,null,null,null,null,null,null,null,null,null,null,null,null,null,null,null,null,null,null,null,null,null,null,null,null,null,null,null,null,null,null,null,null,null,null,null,null,null,null,null,null,null,null,null,null,null,null,null,null,null,null,null,null,null,null,null,null,null,null,null,null,null,null,null,null,null,null,null,null,null,null,null,null,null,null,null,null,null,null,null,null,null,null,null,null,null,null,null,null,null,null,null,null,null,null,null,null,null,null,null,null,null,null,null,null,null,null,null,null,null,null,null,null,null,null,null,null,null,null,null,null,null,null,null,null,null,null,null,null,null,null,null,null,null,null,null,null,null,null,null,null,null,null,null,null,null,null,null,null,null,null,null,null,null,null,null,null,null,null,null,null,null,null,null,null,null,null,null,null,null,null,null,null,null,null,null,null,null,null,null,null,null,null,null,null,null,null,null,null,null,null,null,null,null,null,null,null,null,null,null,null,null,null,null,null,null,null,null,null,null,null,null,null,null,null,null,null,null,null,null,null,null,null,null,null,null,null,null,null,null,null,null,null,null,null,null,null,null,null,null,null,null,null,null,null,null,null,null,null,null,null,null,null,null,null,null,null,null,null,null,null,null,null,null,null,null,null,null,null,null,null,null,null,null,null,null,null,null,null,null,null,null,null,null,null,null,null,null,null,null,null,null,null,null,null,null,null,null,null,null,null,null,null,null,null,null,null,null,null,null,null,null,null,null,null,null,null,null,null,null,null,null,null,null,null,null,null,null,null,null,null,null,null,null,null,null,null,null,null,null,null,null,null,null,null,null,null,null,null,null,null,null,null,null,null,null,null,null,null,null,null,null,null,null,null,null,null,null,null,null,null,null,null,null,null,null,null,null,null,null,null,null,null,null,null,null,null,null,null,null,null,null,null,null,null,null,null,null,null,null,null,null,null,null,null,null,null,null,null,null,null,null,null,null,null,null,null,null,null,null,null,null,null,null,null,null,null,null,null,null,null,null,null,null,null,null,null,null,null,null,null,null,null,null,null,null,null,null,null,null,null,null,null,null,null,null,null,null,null,null,null,null,null,null,null,null,null,null,null,null,null,null,null,null,null,null,null,null,null,null,null,null,null,null,null,null,null,null,null,null,null,null,null,null,null,null,null,null,null,null,null,null,null,null,null,null,null,null,null,null,null,null,null,null,null,null,null,null,null,null,null,null,null,null,null,null,null,null,null,null,null,null,null,null,null,null,null,null,null,null,null,null,null,null,null,null,null,null,null,null,null,null,null,null,null,null,null,null,null,null,null,null,null,null,null,null,null,null,null,null,null,null,null,null,null,null,null,null,null,null,null,null,null,null,null,null,null,null,null,null,null,null,null,null,null,null,null,null,null,null,null,null,null,null,null,null,null,null,null,null,null,null,null,null,null,null,null,null,null,null,null,null,null,null,null,null,null,null,null,null,null,null,null,null,null,null,null,null,null,null,null,null,null,null,null,null,null,null,null,null,null,null,null,null,null,null,null,null,null,null,null,null,null,null,null,null,null,null,null,null,null,null,null,null,null,null,null,null,null,null,null,null,null,null,null,null,null,null,null,null,null,null,null,null,null,null,null,null,null,null,null,null,null,null,null,null,null,null,null,null,null,null,null,null,null,null,null,null,null,null,null,null,null,null,null,null,null,null,null,null,null,null,null,null,null,null,null,null,null,null,null,null,null,null,null,null,null,null,null,null,null,null,null,null,null,null,null,null,null,null,null,null,null,null,null,null,null,null,null,null,null,null,null,null,null,null,null,null,null,null,null,null,null,null,null,null,null,null,null,null,null,null,2,2,null,null,null,null,null,null,null,null,null,null,null,null,null,null,null,null,null,null,null,null,null,null,null,null,null,null,null,null,null,null,null,null,null,null,null,null,null,null,null,null,null,null,null,null,null,null,null,null,null,null,null,null,null,null,null,null,null,null,null,null,null,null,null,null,null,null,null,null,null,null,null,null,null,null,null,null,null,null,null,null,null,null,null,null,null,null,null,null,null,null,null,null,null,null,null,null,null,null,null,null,null,null,null,null,null,null,null,null,null,null,null,null,null,null,null,null,null,null,null,null,null,null,null,null,null,null,null,null,null,null,null,null,null,null,null,null,null,null,null,null,null,null,null,null,null,null,null,null,null,null,null,null,null,null,null,null,null,null,null,null,null,null,null,null,null,null,null,null,null,null,null,null,null,null,null,null,null,null,null,null,null,null,null,null,null,null,null,null,null,null,null,null,null,null,null,null,null,null,null,null,null,null,null,null,null,null,null,null,null,null,null,null,null,null,null,null,null,null,null,null,null,null,null,null,null,null,null,null,null,null,null,null,null,null,null,null,null,null,null,null,null,null,null,null,null,null,null,null,null,null,null,null,null,null,null,null,null,null,null,null,null,null,null,null,null,null,null,null,null,null,null,null,null,null,null,null,null,null,null,null,null,null,null,null,null,null,null,null,null,null,null,null,null,null,null,null,null,null,null,null,null,null,null,null,null,null,null,null,null,null,null,null,null,null,null,null,null,null,null,null,null,null,null,null,null,null,null,null,null,null,null,null,null,null,null,null,null,null,null,null,null,null,null,null,null,null,null,null,null,null,null,null,null,null,null,null,null,null,null,null,null,null,null,null,null,null,null,null,null,null,null,null,null,null,null,null,null,null,null,null,null,null,null,null,null,null,null,null,null,null,null,null,null,null,null,null,null,null,null,null,null,null,null,null,null,null,null,null,null,null,null,null,null,null,null,null,null,null,null,null,null,null,null,null,null,null,null,null,null,null,null,null,null,null,null,null,null,null,null,null,null,null,null,null,null,null,null,null,null,null,null,null,null,null,null,null,null,86,1,2,4,2,2,0,0,0,0,0,0,1,4,2,null,null,null,null,null,null,2,null,2,null,null,"2014-01-10T20:27:00","2014-01-11T04:45:00",null,14250,5,"Firefox 23.0","Windows XP","209.112.172.118"]
[369,76375,2,null,2,null,null,null,null,null,null,null,null,null,null,null,null,null,null,null,null,null,null,null,null,null,null,null,null,null,null,null,null,null,null,null,null,null,null,null,null,null,null,null,null,null,null,null,null,null,null,null,null,null,null,null,null,null,null,null,null,null,null,null,null,null,null,null,null,null,null,null,null,null,null,null,null,null,null,null,null,null,null,null,null,null,null,null,null,null,null,null,null,null,null,null,null,null,null,null,null,null,null,null,null,null,null,null,null,null,null,null,null,null,null,null,null,null,null,null,null,null,null,null,null,null,null,null,null,null,null,null,null,null,null,null,null,null,null,null,null,null,null,null,null,null,null,null,null,null,null,null,null,null,null,null,null,null,null,null,null,null,null,null,null,null,null,null,null,null,null,null,null,null,null,null,null,null,null,null,null,null,null,null,null,null,null,null,null,null,null,null,null,null,null,null,null,null,null,null,null,null,null,null,null,null,null,null,null,null,null,null,null,null,null,null,null,null,null,null,null,null,null,null,null,null,null,null,null,null,null,null,null,null,null,null,null,null,null,null,null,null,null,null,null,null,null,null,null,null,null,null,null,null,null,null,null,null,null,null,null,null,null,null,null,null,null,null,null,null,null,null,null,null,null,null,null,null,null,null,null,null,null,null,null,null,null,null,null,null,null,null,null,null,null,null,null,null,null,null,null,null,null,null,null,null,null,null,null,null,null,null,null,null,null,null,null,null,null,null,null,null,null,null,null,null,null,null,null,null,null,null,null,null,null,null,null,null,null,null,null,null,null,null,null,null,null,null,null,null,null,null,null,null,null,null,null,null,null,null,null,null,null,null,null,null,null,null,null,null,null,null,null,null,null,null,null,null,null,null,null,null,null,null,null,null,null,null,null,null,null,null,null,null,null,null,null,null,null,null,null,null,null,null,null,null,null,null,null,null,null,null,null,null,null,null,null,null,null,null,null,null,null,null,null,null,null,null,null,null,null,null,null,null,null,null,null,null,null,null,null,null,null,null,null,null,null,null,null,null,null,null,null,null,null,null,null,null,null,null,null,null,null,null,null,null,null,null,null,null,null,null,null,null,null,null,null,null,null,null,null,null,null,null,null,null,null,null,null,null,null,null,null,null,null,null,null,null,null,null,null,null,null,null,null,null,null,null,null,null,null,null,null,null,null,null,null,null,null,null,null,null,null,null,null,null,null,null,null,null,null,null,null,null,null,null,null,null,null,null,null,null,null,null,null,null,null,null,null,null,null,null,null,null,null,null,null,null,null,null,null,null,null,null,null,null,null,null,null,null,null,null,null,null,null,null,null,null,null,null,null,null,null,null,null,null,null,null,null,null,null,null,null,null,null,null,null,null,null,null,null,null,null,null,null,null,null,null,null,null,null,null,null,null,null,null,null,null,null,null,null,null,null,null,null,null,null,null,null,null,null,null,null,null,null,null,null,null,null,null,null,null,null,null,null,null,null,null,null,null,null,null,null,null,null,null,null,null,null,null,null,null,null,null,null,null,null,null,null,null,null,null,null,null,null,null,null,null,null,null,null,null,null,null,null,null,null,null,null,null,null,null,null,null,null,null,null,null,null,null,null,null,null,null,null,null,null,null,null,null,null,null,null,null,null,null,null,null,null,null,null,null,null,null,null,null,null,null,null,null,null,null,null,null,null,null,null,null,null,null,null,null,null,null,null,null,null,null,null,null,null,null,null,null,null,null,null,null,null,null,null,null,null,null,null,null,null,null,null,null,null,null,null,null,null,null,null,null,null,null,null,null,null,null,null,null,null,null,null,null,null,null,null,null,null,null,null,null,null,null,null,null,null,null,null,null,null,null,null,null,null,null,null,null,null,null,null,null,null,null,null,null,null,null,null,null,null,null,null,null,null,null,null,null,null,null,null,null,null,null,null,null,null,null,null,null,null,null,null,null,null,null,null,null,null,null,null,null,null,null,null,null,null,null,null,null,null,null,null,null,null,null,null,null,null,null,null,null,null,null,null,null,null,null,null,null,null,null,null,null,null,null,null,null,null,null,null,null,null,null,null,null,null,null,null,null,null,null,null,null,null,null,null,null,null,null,null,null,null,null,null,null,null,null,null,null,null,null,null,null,null,null,null,null,null,null,null,null,null,null,null,null,null,null,null,null,null,null,null,null,null,null,null,null,null,null,null,null,null,null,null,null,null,null,null,null,null,null,null,null,null,null,null,null,null,null,null,null,null,null,null,null,null,null,null,null,null,null,null,null,null,null,null,null,null,null,null,null,null,null,null,null,null,null,null,null,null,null,null,null,null,null,null,null,null,null,null,null,null,null,null,null,null,null,null,null,null,null,null,null,null,null,null,null,null,null,null,null,null,null,null,null,null,null,null,null,null,null,null,null,null,null,null,null,null,null,null,null,null,null,null,null,null,null,null,null,null,null,null,null,null,null,null,null,null,null,null,null,null,null,null,null,null,null,null,null,null,null,null,null,null,null,null,null,null,null,null,null,null,null,null,null,null,null,null,null,null,null,null,null,null,null,null,null,null,null,null,null,null,null,null,null,null,null,null,null,null,null,null,null,null,null,null,null,null,null,null,null,null,null,null,null,null,null,null,null,null,null,null,null,null,null,null,null,null,null,null,null,null,null,null,null,null,null,null,null,null,null,null,null,null,null,null,null,null,null,null,null,null,null,null,null,null,null,null,null,null,null,null,null,null,null,null,null,null,null,null,null,null,null,null,null,null,null,null,null,null,null,null,null,null,null,null,null,null,null,null,null,null,null,null,null,null,null,null,null,null,null,null,null,null,null,null,null,null,null,null,null,null,null,null,null,null,null,null,null,null,null,null,null,null,null,null,null,null,null,null,null,null,null,null,null,null,null,null,null,null,null,null,null,null,null,null,null,null,null,null,null,null,null,null,null,null,null,null,null,null,null,null,null,null,null,null,null,null,null,null,null,null,null,null,null,null,null,null,null,null,null,null,null,null,null,null,null,null,null,null,null,null,null,null,null,null,null,null,null,null,null,null,null,null,null,null,null,null,null,null,null,null,null,null,null,null,null,null,null,null,null,null,null,null,null,null,null,null,null,null,null,null,null,null,null,null,null,null,null,null,null,null,null,null,null,null,null,null,null,null,null,null,null,null,null,null,null,null,null,null,null,null,null,null,null,null,null,null,null,null,null,null,null,null,null,null,null,null,null,null,null,null,null,null,null,null,null,null,null,null,null,null,null,null,null,null,null,null,null,null,null,null,null,null,null,null,null,null,null,null,null,null,null,null,null,null,null,null,null,null,null,null,null,null,null,null,null,null,null,null,null,null,null,null,null,null,null,null,null,null,null,null,null,null,null,null,null,null,null,null,null,null,null,null,null,null,null,null,null,null,null,null,null,null,null,null,null,null,null,null,null,null,null,null,null,null,null,null,null,null,null,null,null,null,null,null,null,null,null,null,null,null,null,null,null,null,null,null,null,null,null,null,null,null,null,null,null,null,null,null,null,null,null,null,null,null,null,null,null,null,null,null,null,null,null,null,null,null,null,null,null,null,null,null,null,null,null,null,null,null,null,null,null,null,null,null,null,null,null,null,null,null,null,null,null,null,null,null,null,null,null,null,null,null,null,null,null,null,null,null,null,null,null,null,null,null,null,null,null,null,null,null,null,null,null,null,null,null,null,null,null,null,null,null,null,null,null,null,null,null,null,null,null,null,null,null,null,null,null,null,null,null,null,null,null,null,null,null,null,null,null,null,null,null,null,null,null,null,null,null,null,null,null,null,null,null,null,null,null,null,null,null,null,null,null,null,null,null,null,null,null,null,null,null,null,null,null,null,null,null,null,null,null,null,null,null,null,null,null,null,null,null,null,null,null,null,null,null,null,null,null,null,null,null,null,null,null,null,null,null,null,null,null,null,null,null,null,null,null,null,null,null,null,null,null,null,null,null,null,null,null,null,null,null,null,null,null,null,null,null,null,null,null,null,null,null,null,null,null,null,null,null,null,null,null,null,null,null,null,null,null,null,null,null,null,null,null,null,null,null,null,null,null,null,null,null,null,null,null,null,null,null,null,null,null,null,null,null,null,null,null,null,null,null,null,null,null,null,null,null,null,null,null,null,null,null,null,null,null,null,null,null,null,null,null,null,null,null,null,null,null,null,null,null,null,null,null,null,null,null,null,null,null,null,null,null,null,null,null,null,null,null,null,null,null,null,null,null,null,null,null,null,null,null,null,null,null,null,null,null,null,null,null,null,null,null,null,null,null,null,2,1,3,0,0,0,0,1,0,0,0,0,0,0,0,0,0,0,0,0,0,0,0,0,0,null,null,null,null,null,null,3,null,null,null,null,null,null,null,null,null,null,null,null,null,null,null,null,null,null,null,null,null,null,null,1,null,null,null,null,null,null,null,null,null,null,null,null,null,null,null,null,null,null,null,5,null,null,null,null,0,0,0,0,0,0,0,0,0,0,0,0,0,0,0,0,0,0,0,0,0,0,0,0,0,0,0,0,0,0,0,0,0,0,0,0,0,0,0,0,0,0,0,0,0,0,0,0,0,1,0,0,0,0,0,0,0,0,0,1,2000,3,2,null,1,2,0,null,0,null,1,0,0,0,0,null,null,null,null,null,null,null,null,null,null,null,null,null,null,null,null,null,null,0,null,null,null,null,null,null,null,null,null,null,null,null,null,null,null,null,null,null,null,null,null,null,null,null,null,null,null,null,null,null,null,null,null,null,null,null,null,null,null,null,null,null,null,null,null,null,null,null,null,null,null,null,null,null,null,null,null,null,null,null,null,null,null,null,null,null,null,null,null,null,null,null,null,null,1,null,null,null,null,null,null,null,null,null,null,null,null,null,null,null,null,null,null,null,null,null,null,null,null,null,null,null,null,null,null,null,2,null,null,null,null,null,null,null,null,null,null,null,null,null,null,null,null,null,null,null,null,null,null,null,null,null,null,null,null,null,null,null,null,null,null,null,null,null,null,null,null,null,null,null,null,null,null,null,null,null,null,null,null,null,null,null,null,null,null,null,null,null,null,null,null,null,null,null,null,null,null,null,null,null,null,null,null,null,null,null,null,null,null,null,null,null,null,null,null,null,null,null,null,null,null,3,1,3,3,2,null,null,null,null,3,null,null,null,null,null,null,null,2,null,null,1,0,0,0,0,0,0,0,0,0,0,null,1,0,0,0,0,0,0,0,0,0,0,0,0,null,2,null,null,null,null,null,null,null,null,null,null,null,null,1,3,3,3,3,3,1,3,3,3,2,5,3,2,4,3,3,3,2,5,4,2,2,2,5,69,1,1,3,1,5,1,0,0,0,0,0,0,6,2,null,null,null,null,null,null,2,null,1,"saberna3592002@yahoo.com",9073731050,"2013-11-15T02:13:00","2013-11-15T02:40:00",null,740,5,"Chrome 30.0.1599.101","Windows NT 6.2","72.35.119.236",5,null,null,null,null,null,null,null,null,null,null,null,null,null,null,null,null,null,null,null,null,null,5,null,null,null,null,null,null,null,null,null,null,null,null,null,null,null,null,null,null,null,null,null,null,null,null,null,null,null,null,null,null,null,null,null,null,null,null,null,null,null,null,null,null,null,5,null,null,null,null,null,null,null,null,null,null,null,null,null,null,null,null,null,null,null,null,null,1,3,5,6,7,8,9,28,null,null,null,null,null,null,null,null,null,null,null,null,null,null,null,null,null,null,null,null,19,20,21,22,23,24,25,26,27,null,null,null,null,null,null,null,null,null,null,null,null,null,null,null,null,null,null,null,5]
[1331,78855,1,"ce",2,null,null,null,null,null,null,null,null,null,null,null,null,null,null,null,null,null,null,null,null,null,null,null,null,null,null,null,null,null,null,null,null,null,null,null,null,null,null,null,null,null,null,null,null,null,null,null,null,null,null,null,null,null,null,null,null,null,null,null,null,null,null,null,null,null,null,null,null,null,null,null,null,null,null,null,null,null,null,null,null,null,null,null,null,null,null,null,null,null,null,null,null,null,null,null,null,null,null,null,null,null,null,null,null,null,null,null,null,null,null,null,null,null,null,null,null,null,null,null,null,null,null,null,null,null,null,null,null,null,null,null,null,null,null,null,null,null,null,null,null,null,null,null,null,null,null,null,null,null,null,null,null,null,null,null,null,null,null,null,null,null,null,null,null,null,null,null,null,null,null,null,null,null,null,null,null,null,null,null,null,null,null,null,null,null,null,null,null,null,null,null,null,null,null,null,null,null,null,null,null,null,null,null,null,null,null,null,null,null,null,null,null,null,null,null,null,null,null,null,null,null,null,null,null,null,null,null,null,null,null,null,null,null,null,null,null,null,null,null,null,null,null,null,null,null,null,null,null,null,null,null,null,null,null,null,null,null,null,null,null,null,null,null,null,null,null,null,null,null,null,null,null,null,null,null,null,null,null,null,null,null,null,null,null,null,null,null,null,null,null,null,null,null,null,null,null,null,null,null,null,null,null,null,null,null,null,null,null,null,null,null,null,null,null,null,null,null,null,null,null,null,null,null,null,null,null,null,null,null,null,null,null,null,null,null,null,null,null,null,null,null,null,null,null,null,null,null,null,null,null,null,null,null,null,null,null,null,null,null,null,null,null,null,null,null,null,null,null,null,null,null,null,null,null,null,null,null,null,null,null,null,null,null,null,null,null,null,null,null,null,null,null,null,null,null,null,null,null,null,null,null,null,null,null,null,null,null,null,null,null,null,null,null,null,null,null,null,null,null,null,null,null,null,null,null,null,null,null,null,null,null,null,null,null,null,null,null,null,null,null,null,null,null,null,null,null,null,null,null,null,null,null,null,null,null,null,null,null,null,null,null,null,null,null,null,null,null,null,null,null,null,null,null,null,null,null,null,null,null,null,null,null,null,null,null,null,null,null,null,null,null,null,null,null,null,null,null,null,null,null,null,null,null,null,null,null,null,null,null,null,null,null,null,null,null,null,null,null,null,null,null,null,null,null,null,null,null,null,null,null,null,null,null,null,null,null,null,null,null,null,null,null,null,null,null,null,null,null,null,null,null,null,null,null,null,null,null,null,null,null,null,null,null,null,null,null,null,null,null,null,null,null,null,null,null,null,null,null,null,null,null,null,null,null,null,null,null,null,null,null,null,null,null,null,null,null,null,null,null,null,null,null,null,null,null,null,null,null,null,null,null,null,null,null,null,null,null,null,null,null,null,null,null,null,null,null,null,null,null,null,null,null,null,null,null,null,null,null,null,null,null,null,null,null,null,null,null,null,null,null,null,null,null,null,null,null,null,null,null,null,null,null,null,null,null,null,null,null,null,null,null,null,null,null,null,null,null,null,null,null,null,null,null,null,null,null,null,null,null,null,null,null,null,null,null,null,null,null,null,null,null,null,null,null,null,null,null,null,null,null,null,null,null,null,null,null,null,null,null,null,null,null,null,null,null,null,null,null,null,null,null,null,null,null,null,null,null,null,null,null,null,null,null,null,null,null,null,null,null,null,null,null,null,null,null,null,null,null,null,null,null,null,null,null,null,null,null,null,null,null,null,null,null,null,null,null,null,null,null,null,null,null,null,null,null,null,null,null,null,null,null,null,null,null,null,null,null,null,null,null,null,null,null,null,null,null,null,null,null,null,null,null,null,null,null,null,null,null,null,null,null,null,null,null,null,null,null,null,null,null,null,null,null,null,null,null,null,null,null,null,null,null,null,null,null,null,null,null,null,null,null,null,null,null,null,null,null,null,null,null,null,null,null,null,null,null,null,null,null,null,null,null,null,null,null,null,null,null,null,null,null,null,null,null,null,null,null,null,null,null,null,null,null,null,null,null,null,null,null,null,null,null,null,null,null,null,null,null,null,null,null,null,null,null,null,null,null,null,null,null,null,null,null,null,null,null,null,null,null,null,null,null,null,null,null,null,null,null,null,null,null,null,null,null,null,null,null,null,null,null,null,null,null,null,null,null,null,null,null,null,null,null,null,null,null,null,null,null,null,null,null,null,null,null,null,null,null,null,null,null,null,null,null,null,null,null,null,null,null,null,null,null,null,null,null,null,null,null,null,null,null,null,null,null,null,null,null,null,null,null,null,null,null,null,null,null,null,null,null,null,null,null,null,null,null,null,null,null,null,null,null,null,null,null,null,null,null,null,null,null,null,null,null,null,null,null,null,null,null,null,null,null,null,null,null,null,null,null,null,null,null,null,null,null,null,null,null,null,null,null,null,null,null,null,null,null,null,null,null,null,null,null,null,null,null,null,null,null,null,null,null,null,null,null,null,null,null,null,null,null,null,null,null,null,null,null,null,null,null,null,null,null,null,null,null,null,null,null,null,null,null,null,null,null,null,null,null,null,null,null,null,null,null,null,null,null,null,null,null,null,null,null,null,null,null,null,null,null,null,null,null,null,null,null,null,null,null,null,null,null,null,null,null,null,null,null,null,null,null,null,null,null,null,null,null,null,null,null,null,null,null,null,null,null,null,null,null,null,null,null,null,null,null,null,null,null,null,null,null,null,null,null,null,null,null,null,null,null,null,null,null,null,null,null,null,null,null,null,null,null,null,null,null,null,null,null,null,null,null,null,null,null,null,null,null,null,null,null,null,null,null,null,null,null,null,null,null,null,null,null,null,null,null,null,null,null,null,null,null,null,null,null,null,null,null,null,null,null,null,null,null,null,null,null,null,null,null,null,null,null,null,null,null,null,null,null,null,null,null,null,null,null,null,null,null,null,null,null,null,null,null,null,null,null,null,null,null,null,null,null,null,null,null,null,null,null,null,null,null,null,null,null,null,null,null,null,null,null,null,null,null,null,null,null,null,null,null,null,null,null,null,null,null,null,null,null,null,null,null,null,null,null,null,null,null,null,null,null,null,null,null,null,null,null,null,null,null,null,null,null,null,null,null,null,null,null,null,null,null,null,null,null,null,null,null,null,null,null,null,null,null,null,null,null,null,null,null,null,null,null,null,null,null,null,null,null,null,null,null,null,null,null,null,null,null,null,null,null,null,null,null,null,null,null,null,null,null,null,null,null,null,null,null,null,null,null,null,null,null,null,null,null,null,null,null,null,null,null,null,null,null,null,null,null,null,null,null,null,null,null,null,null,null,null,null,null,null,null,null,null,null,null,null,null,null,null,null,null,null,null,null,null,null,null,null,null,null,null,null,null,null,null,null,null,null,null,null,null,null,null,null,null,null,null,null,null,null,null,null,null,null,null,null,null,null,null,null,null,null,null,null,null,null,null,null,null,null,null,null,null,null,null,null,null,null,null,null,null,null,null,null,null,null,null,null,null,null,null,null,null,null,null,null,null,null,null,null,null,null,null,null,null,null,null,null,null,null,null,null,null,null,null,null,null,null,null,null,null,null,null,null,null,null,null,null,null,null,null,null,null,null,null,null,null,null,null,null,null,null,null,null,null,null,null,null,null,null,null,null,null,null,null,null,null,null,null,null,null,null,null,null,null,null,null,null,null,null,null,null,null,null,null,null,null,null,null,null,null,null,null,null,null,null,null,null,null,null,null,null,null,null,null,null,null,null,null,null,null,null,null,null,null,null,null,null,null,null,null,null,null,null,null,null,null,null,null,null,null,null,null,null,null,null,null,null,null,null,null,null,null,null,null,null,null,null,null,null,null,null,null,null,null,null,null,null,null,null,null,null,null,null,null,null,null,null,null,null,null,null,null,null,null,null,null,null,null,null,null,null,null,null,null,null,null,null,null,null,null,null,null,null,null,null,null,null,null,null,null,null,null,null,null,null,null,null,null,null,null,null,null,null,null,null,null,null,null,null,null,null,null,null,null,null,null,null,null,null,null,null,null,null,null,null,null,null,null,null,null,null,null,null,null,null,null,null,null,null,null,null,null,null,null,null,null,null,null,null,null,null,null,null,null,null,null,null,null,null,null,null,null,null,null,null,null,null,null,null,null,null,null,null,null,null,null,null,null,null,null,null,null,null,null,null,null,null,null,null,null,null,null,null,null,null,null,null,null,null,null,null,null,null,null,null,null,null,null,null,null,null,null,null,null,2,2,null,null,null,null,null,null,null,null,null,null,null,null,null,null,null,null,null,null,null,null,null,null,null,null,null,null,null,null,null,null,null,null,null,null,null,null,null,null,null,null,null,null,null,null,null,null,null,null,null,null,null,null,null,null,null,null,null,null,null,null,null,null,null,null,null,null,null,null,null,null,null,null,null,null,null,null,null,null,null,null,null,null,null,null,null,null,null,null,null,null,null,null,null,null,null,null,null,null,null,null,null,null,null,null,null,null,null,null,null,null,null,null,null,null,null,null,null,null,null,null,null,null,null,null,null,null,null,null,null,null,null,null,null,null,null,null,null,null,null,null,null,null,null,null,null,null,null,null,null,null,null,null,null,null,null,null,null,null,null,null,null,null,null,null,null,null,null,null,null,null,null,null,null,null,null,null,null,null,null,null,null,null,null,null,null,null,null,null,null,null,null,null,null,null,null,null,null,null,null,null,null,null,null,null,null,null,null,null,null,null,null,null,null,null,null,null,null,null,null,null,null,null,null,null,null,null,null,null,null,null,null,null,null,null,null,null,null,null,null,null,null,null,null,null,null,null,null,null,null,null,null,null,null,null,null,null,null,null,null,null,null,null,null,null,null,null,null,null,null,null,null,null,null,null,null,null,null,null,null,null,null,null,null,null,null,null,null,null,null,null,null,null,null,null,null,null,null,null,null,null,null,null,null,null,null,null,null,null,null,null,null,null,null,null,null,null,null,null,null,null,null,null,null,null,null,null,null,null,null,null,null,null,null,null,null,null,null,null,null,null,null,null,null,null,null,null,null,null,null,null,null,null,null,null,null,null,null,null,null,null,null,null,null,null,null,null,null,null,null,null,null,null,null,null,null,null,null,null,null,null,null,null,null,null,null,null,null,null,null,null,null,null,null,null,null,null,null,null,null,null,null,null,null,null,null,null,null,null,null,null,null,null,null,null,null,null,null,null,null,null,null,null,null,null,null,null,null,null,null,null,null,null,null,null,null,null,null,null,null,null,null,null,null,null,null,null,null,null,null,null,null,null,null,null,null,null,null,46,1,1,3,2,6,1,0,0,0,0,0,0,6,2,null,null,null,null,null,null,2,null,1,"cwplcwd@alaska.net",null,"2014-01-12T21:56:00","2014-01-12T21:58:00",null,14893,5,"Firefox 23.0","Windows XP","209.112.172.118"]
[1508,81035,1,"ce",1,1,null,null,null,null,null,null,null,null,null,null,null,null,null,null,null,null,null,null,null,null,null,null,null,null,null,null,null,null,null,null,null,null,null,null,null,null,null,null,null,null,null,null,null,null,null,null,null,null,null,null,null,null,null,null,null,null,null,null,null,null,null,null,null,null,null,null,null,null,null,null,null,null,null,null,null,null,null,null,null,null,null,null,null,null,null,null,null,null,null,null,null,null,null,null,null,null,null,null,null,null,null,null,null,null,null,null,null,null,null,null,null,null,null,null,null,null,null,null,null,null,null,null,null,null,null,null,null,null,null,null,null,null,null,null,null,null,null,null,null,null,null,null,null,null,null,null,null,null,null,null,null,null,null,null,null,null,null,null,null,null,null,null,null,null,null,null,null,null,null,null,null,null,null,null,null,null,null,null,null,null,null,null,null,null,null,null,null,null,null,null,null,null,null,null,null,null,null,null,null,null,null,null,null,null,null,null,null,null,null,null,null,null,null,null,null,null,null,null,null,null,null,null,null,null,null,null,null,null,null,null,null,null,null,null,null,null,null,null,null,null,null,null,null,null,null,null,null,null,null,null,null,null,null,null,null,null,null,null,null,null,null,null,null,null,null,null,null,null,null,null,null,null,null,null,null,null,null,null,null,null,null,null,null,null,null,null,null,null,null,null,null,null,null,null,null,null,null,null,null,null,null,null,null,null,null,null,null,null,null,null,null,null,null,null,null,null,null,null,null,null,null,null,null,null,null,null,null,null,null,null,null,null,null,null,null,null,null,null,null,null,null,null,null,null,null,null,null,null,null,null,null,null,null,null,null,null,null,null,null,null,null,null,null,null,null,null,null,null,null,null,null,null,null,null,null,null,null,null,null,null,null,null,null,null,null,null,null,null,null,null,null,null,null,null,null,null,null,null,null,null,null,null,null,null,null,null,null,null,null,null,null,null,null,null,null,null,null,null,null,null,null,null,null,null,null,null,null,null,null,null,null,null,null,null,null,null,null,null,null,null,null,null,null,null,null,null,null,null,null,null,null,null,null,null,null,null,null,null,null,null,null,null,null,null,null,null,null,null,null,null,null,null,null,null,null,null,null,null,null,null,null,null,null,null,null,null,null,null,null,null,null,null,null,null,null,null,null,null,null,null,null,null,null,null,null,null,null,null,null,null,null,null,null,null,null,null,null,null,null,null,null,null,null,null,null,null,null,null,null,null,null,null,null,null,null,null,null,null,null,null,null,null,null,null,null,null,null,null,null,null,null,null,null,null,null,null,null,null,null,null,null,null,null,null,null,null,null,null,null,null,null,null,null,null,null,null,null,null,null,null,null,null,null,null,null,null,null,null,null,null,null,null,null,null,null,null,null,null,null,null,null,null,null,null,null,null,null,null,null,null,null,null,null,null,null,null,null,null,null,null,null,null,null,null,null,null,null,null,null,null,null,null,null,null,null,null,null,null,null,null,null,null,null,null,null,null,null,null,null,null,null,null,null,null,null,null,null,null,null,null,null,null,null,null,null,null,null,null,null,null,null,null,null,null,null,null,null,null,null,null,null,null,null,null,null,null,null,null,null,null,null,null,null,null,null,null,null,null,null,null,null,null,null,null,null,null,null,null,null,null,null,null,null,null,null,null,null,null,null,null,null,null,null,null,null,null,null,null,null,null,null,null,null,null,null,null,null,null,null,null,null,null,null,null,null,null,null,null,null,null,null,null,null,null,null,null,null,null,null,null,null,null,null,null,null,null,null,null,null,null,null,null,null,null,null,null,null,null,null,null,null,null,null,null,null,null,null,null,null,null,null,null,null,null,null,null,null,null,null,null,null,null,null,null,null,null,null,null,null,null,null,null,null,null,null,null,null,null,null,null,null,null,null,null,null,null,null,null,null,null,null,null,null,null,null,null,null,null,null,null,null,null,null,null,null,null,null,null,null,null,null,null,null,null,null,null,null,null,null,null,null,null,null,null,null,null,null,null,null,null,null,null,null,null,null,null,null,null,null,null,null,null,null,null,null,null,null,null,null,null,null,null,null,null,null,null,null,null,null,null,null,null,null,null,null,null,null,null,null,null,null,null,null,null,null,null,null,null,null,null,null,null,null,null,null,null,null,null,null,null,null,null,null,null,null,null,null,null,null,null,null,null,null,null,null,null,null,null,null,null,null,null,null,null,null,null,null,null,null,null,null,null,null,null,null,null,null,null,null,null,null,null,null,null,null,null,null,null,null,null,null,null,null,null,null,null,null,null,null,null,null,null,null,null,null,null,null,null,null,null,null,null,null,null,null,null,null,null,null,null,null,null,null,null,null,null,null,null,null,null,null,null,null,null,null,null,null,null,null,null,null,null,null,null,null,null,null,null,null,null,null,null,null,null,null,null,null,null,null,null,null,null,null,null,null,null,null,null,null,null,null,null,null,null,null,null,null,null,null,null,null,null,null,null,null,null,null,null,null,null,null,null,null,null,null,null,null,null,null,null,null,null,null,null,null,null,null,null,null,null,null,null,null,null,null,null,null,null,null,null,null,null,null,null,null,null,null,null,null,null,null,null,null,null,null,null,null,null,null,null,null,null,null,null,null,null,null,null,null,null,null,null,null,null,null,null,null,null,null,null,null,null,null,null,null,null,null,null,null,null,null,null,null,null,null,null,null,null,null,null,null,null,null,null,null,null,null,null,null,null,null,null,null,null,null,null,null,null,null,null,null,null,null,null,null,null,null,null,null,null,null,null,null,null,null,null,null,null,null,null,null,null,null,null,null,null,null,null,null,null,null,null,null,null,null,null,null,null,null,null,null,null,null,null,null,null,null,null,null,null,null,null,null,null,null,null,null,null,null,null,null,null,null,null,null,null,null,null,null,null,null,null,null,null,null,null,null,null,null,null,null,null,null,null,null,null,null,null,null,null,null,null,null,null,null,null,null,null,null,null,null,null,null,null,null,null,null,null,null,null,null,null,null,null,null,null,null,null,null,null,null,null,null,null,null,null,null,null,null,null,null,null,null,null,null,null,null,null,null,null,null,null,null,null,null,null,null,null,null,null,null,null,null,null,null,null,null,null,null,null,null,null,null,null,null,null,null,null,null,null,null,null,null,null,null,null,null,null,null,null,null,null,null,null,null,null,null,null,null,null,null,null,null,null,null,null,null,null,null,null,null,null,null,null,null,null,null,null,null,null,null,null,null,null,null,null,null,null,null,null,null,null,null,null,null,null,null,null,null,null,null,null,null,null,null,null,null,null,null,null,null,null,null,null,null,null,null,null,null,null,null,null,null,null,null,null,null,null,null,null,null,null,null,null,null,null,null,null,null,null,null,null,null,null,null,null,null,null,null,null,null,null,null,null,null,null,null,null,null,null,null,null,null,null,null,null,null,null,null,null,null,null,null,null,null,null,null,null,null,null,null,null,null,null,null,null,null,null,null,null,null,null,null,null,null,null,null,null,null,null,null,null,null,null,null,null,null,null,null,null,null,null,null,null,null,null,null,null,null,null,null,null,null,null,null,null,null,null,null,null,null,null,null,null,null,null,null,null,null,null,null,null,null,null,null,null,null,null,null,null,null,null,null,null,null,null,null,null,null,null,null,null,null,null,null,null,null,null,null,null,null,null,null,null,null,null,null,null,null,null,null,null,null,null,null,null,null,null,null,null,null,null,null,null,null,null,null,null,null,null,null,null,null,null,null,null,null,null,null,null,null,null,null,null,null,null,null,null,null,null,null,null,null,null,null,null,null,null,null,null,null,null,null,null,null,null,null,null,null,null,null,null,null,null,null,null,null,null,null,null,null,null,null,null,null,null,null,null,null,null,null,null,null,null,null,null,null,null,null,null,null,null,null,null,null,null,null,null,null,null,null,null,null,null,null,null,null,null,null,null,null,null,null,null,null,null,null,null,null,null,null,null,null,null,null,null,null,null,null,null,null,null,null,null,null,null,null,null,null,null,null,null,null,null,null,null,null,null,null,null,null,null,null,null,null,null,null,null,null,null,null,null,null,null,null,null,null,null,null,null,null,null,null,null,null,null,null,null,null,null,null,null,null,null,null,null,null,null,null,null,null,null,null,null,null,null,null,null,null,null,null,null,null,null,null,null,null,null,null,null,null,null,null,null,null,null,null,null,null,null,null,null,null,null,null,null,null,null,null,null,null,null,null,null,null,null,null,null,null,null,null,null,null,null,null,null,null,null,null,null,null,null,null,null,null,null,null,null,null,null,null,null,null,null,null,null,null,null,null,null,null,1,1,6,0,1,0,1,0,0,0,0,0,1,0,0,0,0,0,0,0,0,1,1,0,0,null,null,null,10,null,6,null,null,null,null,null,1,null,null,null,null,null,null,null,null,30,30,null,null,null,null,null,1,null,1,null,null,null,null,null,0,null,null,null,null,null,null,null,null,1,1,null,null,null,null,19,null,null,null,null,0,0,0,0,0,0,0,0,0,0,0,0,0,0,0,0,0,0,0,0,0,0,0,0,0,0,0,0,0,0,0,0,0,0,0,0,0,0,0,0,0,0,0,0,0,0,0,0,0,1,0,0,0,0,0,0,0,0,0,1,1998,1,2,null,1,10,1,null,0,null,0,0,0,0,0,null,null,null,null,null,null,null,null,null,null,null,null,null,null,null,null,null,null,0,null,null,null,null,null,null,null,null,null,null,null,null,null,null,null,null,null,null,null,null,null,null,null,null,null,null,null,null,null,null,null,null,null,null,null,null,null,null,null,null,null,null,null,null,null,null,null,null,null,null,null,null,null,null,null,null,null,null,null,null,null,null,null,null,null,null,null,null,null,null,null,null,null,null,0,null,null,null,null,null,4,null,null,null,null,null,null,null,null,null,null,null,null,null,null,null,null,null,null,null,null,null,null,null,null,null,null,null,null,null,null,null,null,null,null,null,null,null,null,null,null,null,null,null,null,null,null,null,null,null,null,null,null,null,null,null,null,null,null,null,null,null,null,null,null,null,null,null,null,null,null,null,null,null,null,null,null,null,null,null,null,null,null,null,null,null,null,null,null,null,null,null,null,null,null,null,null,null,null,null,null,null,null,null,null,null,null,null,null,null,null,null,null,null,null,null,null,null,null,null,null,2,0,1,2,2,null,null,null,null,3,null,null,null,null,null,null,null,2,null,null,1,0,0,0,0,0,0,0,0,0,0,null,1,0,0,0,0,0,0,0,0,0,0,0,0,null,1,1,0,0,0,0,0,0,0,0,null,1,1,1,3,3,1,1,2,1,1,1,1,1,3,3,3,3,5,2,3,4,4,5,5,5,5,5,41,2,2,1,null,2,1,0,0,0,0,0,0,5,2,null,null,null,null,null,null,2,null,1,"graminalaska@yahoo.com",null,"2014-01-05T22:06:00","2014-01-05T22:09:00",null,13729,5,"Firefox 23.0","Windows XP","209.112.172.118",2,4,10,19,20,null,null,null,null,null,null,null,null,null,null,null,null,null,null,null,null,null,null,null,2,4,19,20,null,null,null,null,null,null,null,null,null,null,null,null,null,null,null,null,null,null,null,null,null,null,null,null,null,null,null,null,null,null,null,null,null,null,null,null,null,null,null,null,null,null,null,null,19,null,null,null,null,null,null,null,null,null,null,null,null,null,null,null,null,null,null,null,null,null,null,null,1,3,5,6,7,8,9,28,null,null,null,null,null,null,null,null,null,null,null,null,null,null,null,null,null,null,null,null,19,20,21,22,23,24,25,26,27,null,null,null,null,null,null,null,null,null,null,null,null,null,null,null,null,null,null,null,1]
[288,86240,2,null,1,1,null,null,null,null,null,null,null,null,null,null,null,null,null,null,null,null,null,null,null,null,null,null,null,null,null,null,null,null,null,null,null,null,null,null,null,null,null,null,null,null,null,null,null,null,null,null,null,null,null,null,null,null,null,null,null,null,null,null,null,null,null,null,null,null,null,null,null,null,null,null,null,null,null,null,null,null,null,null,null,null,null,null,null,null,null,null,null,null,null,null,null,null,null,null,null,null,null,null,null,null,null,null,null,null,null,null,null,null,null,null,null,null,null,null,null,null,null,null,null,null,null,null,null,null,null,null,null,null,null,null,null,null,null,null,null,null,null,null,null,null,null,null,null,null,null,null,null,null,null,null,null,null,null,null,null,null,null,null,null,null,null,null,null,null,null,null,null,null,null,null,null,null,null,null,null,null,null,null,null,null,null,null,null,null,null,null,null,null,null,null,null,null,null,null,null,null,null,null,null,null,null,null,null,null,null,null,null,null,null,null,null,null,null,null,null,null,null,null,null,null,null,null,null,null,null,null,null,null,null,null,null,null,null,null,null,null,null,null,null,null,null,null,null,null,null,null,null,null,null,null,null,null,null,null,null,null,null,null,null,null,null,null,null,null,null,null,null,null,null,null,null,null,null,null,null,null,null,null,null,null,null,null,null,null,null,null,null,null,null,null,null,null,null,null,null,null,null,null,null,null,null,null,null,null,null,null,null,null,null,null,null,null,null,null,null,null,null,null,null,null,null,null,null,null,null,null,null,null,null,null,null,null,null,null,null,null,null,null,null,null,null,null,null,null,null,null,null,null,null,null,null,null,null,null,null,null,null,null,null,null,null,null,null,null,null,null,null,null,null,null,null,null,null,null,null,null,null,null,null,null,null,null,null,null,null,null,null,null,null,null,null,null,null,null,null,null,null,null,null,null,null,null,null,null,null,null,null,null,null,null,null,null,null,null,null,null,null,null,null,null,null,null,null,null,null,null,null,null,null,null,null,null,null,null,null,null,null,null,null,null,null,null,null,null,null,null,null,null,null,null,null,null,null,null,null,null,null,null,null,null,null,null,null,null,null,null,null,null,null,null,null,null,null,null,null,null,null,null,null,null,null,null,null,null,null,null,null,null,null,null,null,null,null,null,null,null,null,null,null,null,null,null,null,null,null,null,null,null,null,null,null,null,null,null,null,null,null,null,null,null,null,null,null,null,null,null,null,null,null,null,null,null,null,null,null,null,null,null,null,null,null,null,null,null,null,null,null,null,null,null,null,null,null,null,null,null,null,null,null,null,null,null,null,null,null,null,null,null,null,null,null,null,null,null,null,null,null,null,null,null,null,null,null,null,null,null,null,null,null,null,null,null,null,null,null,null,null,null,null,null,null,null,null,null,null,null,null,null,null,null,null,null,null,null,null,null,null,null,null,null,null,null,null,null,null,null,null,null,null,null,null,null,null,null,null,null,null,null,null,null,null,null,null,null,null,null,null,null,null,null,null,null,null,null,null,null,null,null,null,null,null,null,null,null,null,null,null,null,null,null,null,null,null,null,null,null,null,null,null,null,null,null,null,null,null,null,null,null,null,null,null,null,null,null,null,null,null,null,null,null,null,null,null,null,null,null,null,null,null,null,null,null,null,null,null,null,null,null,null,null,null,null,null,null,null,null,null,null,null,null,null,null,null,null,null,null,null,null,null,null,null,null,null,null,null,null,null,null,null,null,null,null,null,null,null,null,null,null,null,null,null,null,null,null,null,null,null,null,null,null,null,null,null,null,null,null,null,null,null,null,null,null,null,null,null,null,null,null,null,null,null,null,null,null,null,null,null,null,null,null,null,null,null,null,null,null,null,null,null,null,null,null,null,null,null,null,null,null,null,null,null,null,null,null,null,null,null,null,null,null,null,null,null,null,null,null,null,null,null,null,null,null,null,null,null,null,null,null,null,null,null,null,null,null,null,null,null,null,null,null,null,null,null,null,null,null,null,null,null,null,null,null,null,null,null,null,null,null,null,null,null,null,null,null,null,null,null,null,null,null,null,null,null,null,null,null,null,null,null,null,null,null,null,null,null,null,null,null,null,null,null,null,null,null,null,null,null,null,null,null,null,null,null,null,null,null,null,null,null,null,null,null,null,null,null,null,null,null,null,null,null,null,null,null,null,null,null,null,null,null,null,null,null,null,null,null,null,null,null,null,null,null,null,null,null,null,null,null,null,null,null,null,null,null,null,null,null,null,null,null,null,null,null,null,null,null,null,null,null,null,null,null,null,null,null,null,null,null,null,null,null,null,null,null,null,null,null,null,null,null,null,null,null,null,null,null,null,null,null,null,null,null,null,null,null,null,null,null,null,null,null,null,null,null,null,null,null,null,null,null,null,null,null,null,null,null,null,null,null,null,null,null,null,null,null,null,null,null,null,null,null,null,null,null,null,null,null,null,null,null,null,null,null,null,null,null,null,null,null,null,null,null,null,null,null,null,null,null,null,null,null,null,null,null,null,null,null,null,null,null,null,null,null,null,null,null,null,null,null,null,null,null,null,null,null,null,null,null,null,null,null,null,null,null,null,null,null,null,null,null,null,null,null,null,null,null,null,null,null,null,null,null,null,null,null,null,null,null,null,null,null,null,null,null,null,null,null,null,null,null,null,null,null,null,null,null,null,null,null,null,null,null,null,null,null,null,null,null,null,null,null,null,null,null,null,null,null,null,null,null,null,null,null,null,null,null,null,null,null,null,null,null,null,null,null,null,null,null,null,null,null,null,null,null,null,null,null,null,null,null,null,null,null,null,null,null,null,null,null,null,null,null,null,null,null,null,null,null,null,null,null,null,null,null,null,null,null,null,null,null,null,null,null,null,null,null,null,null,null,null,null,null,null,null,null,null,null,null,null,null,null,null,null,null,null,null,null,null,null,null,null,null,null,null,null,null,null,null,null,null,null,null,null,null,null,null,null,null,null,null,null,null,null,null,null,null,null,null,null,null,null,null,null,null,null,null,null,null,null,null,null,null,null,null,null,null,null,null,null,null,null,null,null,null,null,null,null,null,null,null,null,null,null,null,null,null,null,null,null,null,null,null,null,null,null,null,null,null,null,null,null,null,null,null,null,null,null,null,null,null,null,null,null,null,null,null,null,null,null,null,null,null,null,null,null,null,null,null,null,null,null,null,null,null,null,null,null,null,null,null,null,null,null,null,null,null,null,null,null,null,null,null,null,null,null,null,null,null,null,null,null,null,null,null,null,null,null,null,null,null,null,null,null,null,null,null,null,null,null,null,null,null,null,null,null,null,null,null,null,null,null,null,null,null,null,null,null,null,null,null,null,null,null,null,null,null,null,null,null,null,null,null,null,null,null,null,null,null,null,null,null,null,null,null,null,null,null,null,null,null,null,null,null,null,null,null,null,null,null,null,null,null,null,null,null,null,null,null,null,null,null,null,null,null,null,null,null,null,null,null,null,null,null,null,null,null,null,null,null,null,null,null,null,null,null,null,null,null,null,null,null,null,null,null,null,null,null,null,null,null,null,null,null,null,null,null,null,null,null,null,null,null,null,null,null,null,null,null,null,null,null,null,null,null,null,null,null,null,null,null,null,null,null,null,null,null,null,null,null,null,null,null,null,null,null,null,null,null,null,null,null,null,null,null,null,null,null,null,null,null,null,null,null,null,null,null,null,null,null,null,null,null,null,null,null,null,null,null,null,null,null,null,null,null,null,null,null,null,null,null,null,null,null,null,null,null,null,null,null,null,null,null,null,null,null,null,null,null,null,null,null,null,null,null,null,null,null,null,null,null,null,null,null,null,null,null,null,null,null,null,null,null,null,null,null,null,null,null,null,null,null,null,null,null,null,null,null,null,null,null,null,null,null,null,null,null,null,null,null,null,null,null,null,null,null,null,null,null,null,null,null,null,null,null,null,null,null,null,null,null,null,null,null,null,null,null,null,null,null,null,null,null,null,null,null,null,null,null,null,null,null,null,null,null,null,null,null,null,null,null,null,null,null,null,null,null,null,null,null,null,null,null,null,null,null,null,null,null,null,null,null,null,null,null,null,null,null,null,null,null,null,null,null,null,null,null,null,null,null,null,null,null,null,null,null,null,null,null,null,null,null,null,null,null,null,null,null,null,null,null,null,null,null,null,null,null,null,null,null,null,null,null,null,null,null,null,null,null,null,null,null,null,null,null,null,null,null,null,null,null,null,null,null,null,null,null,null,null,null,null,null,null,null,null,null,null,null,null,null,null,null,2,2,null,null,null,null,null,null,null,null,null,null,null,null,null,null,null,null,null,null,null,null,null,null,null,null,null,null,null,null,null,null,null,null,null,null,null,null,null,null,null,null,null,null,null,null,null,null,null,null,null,null,null,null,null,null,null,null,null,null,null,null,null,null,null,null,null,null,null,null,null,null,null,null,null,null,null,null,null,null,null,null,null,null,null,null,null,null,null,null,null,null,null,null,null,null,null,null,null,null,null,null,null,null,null,null,null,null,null,null,null,null,null,null,null,null,null,null,null,null,null,null,null,null,null,null,null,null,null,null,null,null,null,null,null,null,null,null,null,null,null,null,null,null,null,null,null,null,null,null,null,null,null,null,null,null,null,null,null,null,null,null,null,null,null,null,null,null,null,null,null,null,null,null,null,null,null,null,null,null,null,null,null,null,null,null,null,null,null,null,null,null,null,null,null,null,null,null,null,null,null,null,null,null,null,null,null,null,null,null,null,null,null,null,null,null,null,null,null,null,null,null,null,null,null,null,null,null,null,null,null,null,null,null,null,null,null,null,null,null,null,null,null,null,null,null,null,null,null,null,null,null,null,null,null,null,null,null,null,null,null,null,null,null,null,null,null,null,null,null,null,null,null,null,null,null,null,null,null,null,null,null,null,null,null,null,null,null,null,null,null,null,null,null,null,null,null,null,null,null,null,null,null,null,null,null,null,null,null,null,null,null,null,null,null,null,null,null,null,null,null,null,null,null,null,null,null,null,null,null,null,null,null,null,null,null,null,null,null,null,null,null,null,null,null,null,null,null,null,null,null,null,null,null,null,null,null,null,null,null,null,null,null,null,null,null,null,null,null,null,null,null,null,null,null,null,null,null,null,null,null,null,null,null,null,null,null,null,null,null,null,null,null,null,null,null,null,null,null,null,null,null,null,null,null,null,null,null,null,null,null,null,null,null,null,null,null,null,null,null,null,null,null,null,null,null,null,null,null,null,null,null,null,null,null,null,null,null,null,null,null,null,null,null,null,null,null,null,null,null,null,null,null,null,null,null,null,null,null,82,2,1,4,1,5,1,0,0,0,0,0,0,6,2,null,null,null,null,null,null,2,null,2,null,null,"2013-11-06T20:53:00","2013-11-06T20:57:00",null,645,5,"MSIE 8.0","Windows XP","209.161.162.189"]
[1584,88225,1,"ms",2,null,null,null,null,null,null,null,null,null,null,null,null,null,null,null,null,null,null,null,null,null,null,null,null,null,null,null,null,null,null,null,null,null,null,null,null,null,null,null,null,null,null,null,null,null,null,null,null,null,null,null,null,null,null,null,null,null,null,null,null,null,null,null,null,null,null,null,null,null,null,null,null,null,null,null,null,null,null,null,null,null,null,null,null,null,null,null,null,null,null,null,null,null,null,null,null,null,null,null,null,null,null,null,null,null,null,null,null,null,null,null,null,null,null,null,null,null,null,null,null,null,null,null,null,null,null,null,null,null,null,null,null,null,null,null,null,null,null,null,null,null,null,null,null,null,null,null,null,null,null,null,null,null,null,null,null,null,null,null,null,null,null,null,null,null,null,null,null,null,null,null,null,null,null,null,null,null,null,null,null,null,null,null,null,null,null,null,null,null,null,null,null,null,null,null,null,null,null,null,null,null,null,null,null,null,null,null,null,null,null,null,null,null,null,null,null,null,null,null,null,null,null,null,null,null,null,null,null,null,null,null,null,null,null,null,null,null,null,null,null,null,null,null,null,null,null,null,null,null,null,null,null,null,null,null,null,null,null,null,null,null,null,null,null,null,null,null,null,null,null,null,null,null,null,null,null,null,null,null,null,null,null,null,null,null,null,null,null,null,null,null,null,null,null,null,null,null,null,null,null,null,null,null,null,null,null,null,null,null,null,null,null,null,null,null,null,null,null,null,null,null,null,null,null,null,null,null,null,null,null,null,null,null,null,null,null,null,null,null,null,null,null,null,null,null,null,null,null,null,null,null,null,null,null,null,null,null,null,null,null,null,null,null,null,null,null,null,null,null,null,null,null,null,null,null,null,null,null,null,null,null,null,null,null,null,null,null,null,null,null,null,null,null,null,null,null,null,null,null,null,null,null,null,null,null,null,null,null,null,null,null,null,null,null,null,null,null,null,null,null,null,null,null,null,null,null,null,null,null,null,null,null,null,null,null,null,null,null,null,null,null,null,null,null,null,null,null,null,null,null,null,null,null,null,null,null,null,null,null,null,null,null,null,null,null,null,null,null,null,null,null,null,null,null,null,null,null,null,null,null,null,null,null,null,null,null,null,null,null,null,null,null,null,null,null,null,null,null,null,null,null,null,null,null,null,null,null,null,null,null,null,null,null,null,null,null,null,null,null,null,null,null,null,null,null,null,null,null,null,null,null,null,null,null,null,null,null,null,null,null,null,null,null,null,null,null,null,null,null,null,null,null,null,null,null,null,null,null,null,null,null,null,null,null,null,null,null,null,null,null,null,null,null,null,null,null,null,null,null,null,null,null,null,null,null,null,null,null,null,null,null,null,null,null,null,null,null,null,null,null,null,null,null,null,null,null,null,null,null,null,null,null,null,null,null,null,null,null,null,null,null,null,null,null,null,null,null,null,null,null,null,null,null,null,null,null,null,null,null,null,null,null,null,null,null,null,null,null,null,null,null,null,null,null,null,null,null,null,null,null,null,null,null,null,null,null,null,null,null,null,null,null,null,null,null,null,null,null,null,null,null,null,null,null,null,null,null,null,null,null,null,null,null,null,null,null,null,null,null,null,null,null,null,null,null,null,null,null,null,null,null,null,null,null,null,null,null,null,null,null,null,null,null,null,null,null,null,null,null,null,null,null,null,null,null,null,null,null,null,null,null,null,null,null,null,null,null,null,null,null,null,null,null,null,null,null,null,null,null,null,null,null,null,null,null,null,null,null,null,null,null,null,null,null,null,null,null,null,null,null,null,null,null,null,null,null,null,null,null,null,null,null,null,null,null,null,null,null,null,null,null,null,null,null,null,null,null,null,null,null,null,null,null,null,null,null,null,null,null,null,null,null,null,null,null,null,null,null,null,null,null,null,null,null,null,null,null,null,null,null,null,null,null,null,null,null,null,null,null,null,null,null,null,null,null,null,null,null,null,null,null,null,null,null,null,null,null,null,null,null,null,null,null,null,null,null,null,null,null,null,null,null,null,null,null,null,null,null,null,null,null,null,null,null,null,null,null,null,null,null,null,null,null,null,null,null,null,null,null,null,null,null,null,null,null,null,null,null,null,null,null,null,null,null,null,null,null,null,null,null,null,null,null,null,null,null,null,null,null,null,null,null,null,null,null,null,null,null,null,null,null,null,null,null,null,null,null,null,null,null,null,null,null,null,null,null,null,null,null,null,null,null,null,null,null,null,null,null,null,null,null,null,null,null,null,null,null,null,null,null,null,null,null,null,null,null,null,null,null,null,null,null,null,null,null,null,null,null,null,null,null,null,null,null,null,null,null,null,null,null,null,null,null,null,null,null,null,null,null,null,null,null,null,null,null,null,null,null,null,null,null,null,null,null,null,null,null,null,null,null,null,null,null,null,null,null,null,null,null,null,null,null,null,null,null,null,null,null,null,null,null,null,null,null,null,null,null,null,null,null,null,null,null,null,null,null,null,null,null,null,null,null,null,null,null,null,null,null,null,null,null,null,null,null,null,null,null,null,null,null,null,null,null,null,null,null,null,null,null,null,null,null,null,null,null,null,null,null,null,null,null,null,null,null,null,null,null,null,null,null,null,null,null,null,null,null,null,null,null,null,null,null,null,null,null,null,null,null,null,null,null,null,null,null,null,null,null,null,null,null,null,null,null,null,null,null,null,null,null,null,null,null,null,null,null,null,null,null,null,null,null,null,null,null,null,null,null,null,null,null,null,null,null,null,null,null,null,null,null,null,null,null,null,null,null,null,null,null,null,null,null,null,null,null,null,null,null,null,null,null,null,null,null,null,null,null,null,null,null,null,null,null,null,null,null,null,null,null,null,null,null,null,null,null,null,null,null,null,null,null,null,null,null,null,null,null,null,null,null,null,null,null,null,null,null,null,null,null,null,null,null,null,null,null,null,null,null,null,null,null,null,null,null,null,null,null,null,null,null,null,null,null,null,null,null,null,null,null,null,null,null,null,null,null,null,null,null,null,null,null,null,null,null,null,null,null,null,null,null,null,null,null,null,null,null,null,null,null,null,null,null,null,null,null,null,null,null,null,null,null,null,null,null,null,null,null,null,null,null,null,null,null,null,null,null,null,null,null,null,null,null,null,null,null,null,null,null,null,null,null,null,null,null,null,null,null,null,null,null,null,null,null,null,null,null,null,null,null,null,null,null,null,null,null,null,null,null,null,null,null,null,null,null,null,null,null,null,null,null,null,null,null,null,null,null,null,null,null,null,null,null,null,null,null,null,null,null,null,null,null,null,null,null,null,null,null,null,null,null,null,null,null,null,null,null,null,null,null,null,null,null,null,null,null,null,null,null,null,null,null,null,null,null,null,null,null,null,null,null,null,null,null,null,null,null,null,null,null,null,null,null,null,null,null,null,null,null,null,null,null,null,null,null,null,null,null,null,null,null,null,null,null,null,null,null,null,null,null,null,null,null,null,null,null,null,null,null,null,null,null,null,null,null,null,null,null,null,null,null,null,null,null,null,null,null,null,null,null,null,null,null,null,null,null,null,null,null,null,null,null,null,null,null,null,null,null,null,null,null,null,null,null,null,null,null,null,null,null,null,null,null,null,null,null,null,null,null,null,null,null,null,null,null,null,null,null,null,null,null,null,null,null,null,null,null,null,null,null,null,null,null,null,null,null,null,null,null,null,null,null,null,null,null,null,null,null,null,null,null,null,null,null,null,null,null,null,null,null,null,null,null,null,null,null,null,null,null,null,null,null,null,null,null,null,null,null,null,null,null,null,null,null,null,null,null,null,null,null,null,null,null,null,null,null,null,null,null,null,null,null,null,null,null,null,null,null,null,null,null,null,null,null,null,null,null,null,null,null,null,null,null,null,null,null,null,null,null,null,null,null,null,null,null,null,null,null,null,null,null,null,null,null,null,null,null,null,null,null,null,null,null,null,null,null,null,null,null,null,null,null,null,null,null,null,null,null,null,null,null,null,null,null,null,null,null,null,null,null,null,null,null,null,null,null,null,null,null,null,null,null,null,null,null,null,null,null,null,null,null,null,null,null,null,null,null,null,null,null,null,null,null,null,null,null,null,null,null,null,null,null,null,null,null,null,null,null,null,null,null,null,null,null,null,null,null,null,null,null,null,null,null,null,null,null,null,null,null,null,null,null,null,null,null,null,null,null,null,null,null,null,null,null,null,null,null,null,null,null,null,null,null,null,null,null,null,null,null,null,null,null,null,null,null,null,null,null,null,null,null,null,null,null,2,1,3,0,0,0,0,0,1,0,0,1,0,0,0,0,0,0,0,0,0,0,0,0,0,null,null,null,null,null,null,null,3,null,null,2,null,null,null,null,null,null,null,null,null,null,null,null,null,null,null,null,null,null,null,null,1,null,null,0,null,null,null,null,null,null,null,null,null,null,null,null,null,null,null,6,null,null,null,null,0,0,0,0,0,0,0,0,0,0,0,0,0,0,0,0,0,0,1,0,0,0,0,0,0,0,0,0,0,0,0,0,0,0,0,0,0,0,0,0,0,0,0,0,0,0,0,0,0,0,0,0,0,0,0,0,0,0,0,1,2006,2,2,null,2,null,null,null,null,null,null,null,null,null,null,null,null,null,null,null,null,null,null,null,null,null,null,null,null,null,null,null,null,null,null,null,null,null,null,null,null,null,null,null,null,null,null,null,null,null,null,null,null,null,null,null,null,null,null,null,null,null,null,null,null,null,null,null,null,null,null,null,null,null,null,null,null,null,null,null,null,null,null,null,null,null,null,null,null,null,null,null,null,null,null,null,null,null,null,null,null,null,null,null,null,null,null,null,null,null,null,null,null,null,null,null,null,null,null,null,null,null,null,null,null,null,null,null,null,null,null,null,null,null,null,null,null,null,null,null,null,null,null,null,null,null,null,null,null,null,null,null,null,null,null,null,null,null,null,null,null,null,null,null,null,null,null,null,null,null,null,null,null,null,null,null,null,null,null,null,null,null,null,null,null,null,null,null,null,null,null,null,null,null,null,null,null,null,null,null,null,null,null,null,null,null,null,null,null,null,null,null,null,null,null,null,null,null,null,null,null,null,null,null,null,null,null,null,null,null,null,null,null,null,null,4,0,3,4,2,null,null,null,null,3,null,null,null,null,null,null,null,2,null,null,1,0,0,0,0,0,0,0,0,0,0,null,1,0,0,0,0,0,0,0,0,0,0,0,0,null,2,null,null,null,null,null,null,null,null,null,null,null,null,2,3,1,1,1,3,2,3,1,1,2,5,3,3,3,5,3,2,4,3,5,5,2,3,3,83,1,1,3,2,2,1,0,0,0,0,0,0,6,2,null,null,null,null,null,null,2,null,1,null,null,"2014-01-11T21:32:00","2014-01-11T21:44:00",null,14722,5,"Firefox 23.0","Windows XP","209.112.172.118",6,9,null,null,null,null,null,null,null,null,null,null,null,null,null,null,null,null,null,null,null,null,null,null,6,null,null,null,null,null,null,null,null,null,null,null,null,null,null,null,null,null,null,null,null,null,null,null,null,null,null,null,null,null,null,null,null,null,null,null,null,null,null,null,null,null,null,null,null,null,null,null,6]
[111,90360,2,null,1,1,null,null,null,null,null,null,null,null,null,null,null,null,null,null,null,null,null,null,null,null,null,null,null,null,null,null,null,null,null,null,null,null,null,null,null,null,null,null,null,null,null,null,null,null,null,null,null,null,null,null,null,null,null,null,null,null,null,null,null,null,null,null,null,null,null,null,null,null,null,null,null,null,null,null,null,null,null,null,null,null,null,null,null,null,null,null,null,null,null,null,null,null,null,null,null,null,null,null,null,null,null,null,null,null,null,null,null,null,null,null,null,null,null,null,null,null,null,null,null,null,null,null,null,null,null,null,null,null,null,null,null,null,null,null,null,null,null,null,null,null,null,null,null,null,null,null,null,null,null,null,null,null,null,null,null,null,null,null,null,null,null,null,null,null,null,null,null,null,null,null,null,null,null,null,null,null,null,null,null,null,null,null,null,null,null,null,null,null,null,null,null,null,null,null,null,null,null,null,null,null,null,null,null,null,null,null,null,null,null,null,null,null,null,null,null,null,null,null,null,null,null,null,null,null,null,null,null,null,null,null,null,null,null,null,null,null,null,null,null,null,null,null,null,null,null,null,null,null,null,null,null,null,null,null,null,null,null,null,null,null,null,null,null,null,null,null,null,null,null,null,null,null,null,null,null,null,null,null,null,null,null,null,null,null,null,null,null,null,null,null,null,null,null,null,null,null,null,null,null,null,null,null,null,null,null,null,null,null,null,null,null,null,null,null,null,null,null,null,null,null,null,null,null,null,null,null,null,null,null,null,null,null,null,null,null,null,null,null,null,null,null,null,null,null,null,null,null,null,null,null,null,null,null,null,null,null,null,null,null,null,null,null,null,null,null,null,null,null,null,null,null,null,null,null,null,null,null,null,null,null,null,null,null,null,null,null,null,null,null,null,null,null,null,null,null,null,null,null,null,null,null,null,null,null,null,null,null,null,null,null,null,null,null,null,null,null,null,null,null,null,null,null,null,null,null,null,null,null,null,null,null,null,null,null,null,null,null,null,null,null,null,null,null,null,null,null,null,null,null,null,null,null,null,null,null,null,null,null,null,null,null,null,null,null,null,null,null,null,null,null,null,null,null,null,null,null,null,null,null,null,null,null,null,null,null,null,null,null,null,null,null,null,null,null,null,null,null,null,null,null,null,null,null,null,null,null,null,null,null,null,null,null,null,null,null,null,null,null,null,null,null,null,null,null,null,null,null,null,null,null,null,null,null,null,null,null,null,null,null,null,null,null,null,null,null,null,null,null,null,null,null,null,null,null,null,null,null,null,null,null,null,null,null,null,null,null,null,null,null,null,null,null,null,null,null,null,null,null,null,null,null,null,null,null,null,null,null,null,null,null,null,null,null,null,null,null,null,null,null,null,null,null,null,null,null,null,null,null,null,null,null,null,null,null,null,null,null,null,null,null,null,null,null,null,null,null,null,null,null,null,null,null,null,null,null,null,null,null,null,null,null,null,null,null,null,null,null,null,null,null,null,null,null,null,null,null,null,null,null,null,null,null,null,null,null,null,null,null,null,null,null,null,null,null,null,null,null,null,null,null,null,null,null,null,null,null,null,null,null,null,null,null,null,null,null,null,null,null,null,null,null,null,null,null,null,null,null,null,null,null,null,null,null,null,null,null,null,null,null,null,null,null,null,null,null,null,null,null,null,null,null,null,null,null,null,null,null,null,null,null,null,null,null,null,null,null,null,null,null,null,null,null,null,null,null,null,null,null,null,null,null,null,null,null,null,null,null,null,null,null,null,null,null,null,null,null,null,null,null,null,null,null,null,null,null,null,null,null,null,null,null,null,null,null,null,null,null,null,null,null,null,null,null,null,null,null,null,null,null,null,null,null,null,null,null,null,null,null,null,null,null,null,null,null,null,null,null,null,null,null,null,null,null,null,null,null,null,null,null,null,null,null,null,null,null,null,null,null,null,null,null,null,null,null,null,null,null,null,null,null,null,null,null,null,null,null,null,null,null,null,null,null,null,null,null,null,null,null,null,null,null,null,null,null,null,null,null,null,null,null,null,null,null,null,null,null,null,null,null,null,null,null,null,null,null,null,null,null,null,null,null,null,null,null,null,null,null,null,null,null,null,null,null,null,null,null,null,null,null,null,null,null,null,null,null,null,null,null,null,null,null,null,null,null,null,null,null,null,null,null,null,null,null,null,null,null,null,null,null,null,null,null,null,null,null,null,null,null,null,null,null,null,null,null,null,null,null,null,null,null,null,null,null,null,null,null,null,null,null,null,null,null,null,null,null,null,null,null,null,null,null,null,null,null,null,null,null,null,null,null,null,null,null,null,null,null,null,null,null,null,null,null,null,null,null,null,null,null,null,null,null,null,null,null,null,null,null,null,null,null,null,null,null,null,null,null,null,null,null,null,null,null,null,null,null,null,null,null,null,null,null,null,null,null,null,null,null,null,null,null,null,null,null,null,null,null,null,null,null,null,null,null,null,null,null,null,null,null,null,null,null,null,null,null,null,null,null,null,null,null,null,null,null,null,null,null,null,null,null,null,null,null,null,null,null,null,null,null,null,null,null,null,null,null,null,null,null,null,null,null,null,null,null,null,null,null,null,null,null,null,null,null,null,null,null,null,null,null,null,null,null,null,null,null,null,null,null,null,null,null,null,null,null,null,null,null,null,null,null,null,null,null,null,null,null,null,null,null,null,null,null,null,null,null,null,null,null,null,null,null,null,null,null,null,null,null,null,null,null,null,null,null,null,null,null,null,null,null,null,null,null,null,null,null,null,null,null,null,null,null,null,null,null,null,null,null,null,null,null,null,null,null,null,null,null,null,null,null,null,null,null,null,null,null,null,null,null,null,null,null,null,null,null,null,null,null,null,null,null,null,null,null,null,null,null,null,null,null,null,null,null,null,null,null,null,null,null,null,null,null,null,null,null,null,null,null,null,null,null,null,null,null,null,null,null,null,null,null,null,null,null,null,null,null,null,null,null,null,null,null,null,null,null,null,null,null,null,null,null,null,null,null,null,null,null,null,null,null,null,null,null,null,null,null,null,null,null,null,null,null,null,null,null,null,null,null,null,null,null,null,null,null,null,null,null,null,null,null,null,null,null,null,null,null,null,null,null,null,null,null,null,null,null,null,null,null,null,null,null,null,null,null,null,null,null,null,null,null,null,null,null,null,null,null,null,null,null,null,null,null,null,null,null,null,null,null,null,null,null,null,null,null,null,null,null,null,null,null,null,null,null,null,null,null,null,null,null,null,null,null,null,null,null,null,null,null,null,null,null,null,null,null,null,null,null,null,null,null,null,null,null,null,null,null,null,null,null,null,null,null,null,null,null,null,null,null,null,null,null,null,null,null,null,null,null,null,null,null,null,null,null,null,null,null,null,null,null,null,null,null,null,null,null,null,null,null,null,null,null,null,null,null,null,null,null,null,null,null,null,null,null,null,null,null,null,null,null,null,null,null,null,null,null,null,null,null,null,null,null,null,null,null,null,null,null,null,null,null,null,null,null,null,null,null,null,null,null,null,null,null,null,null,null,null,null,null,null,null,null,null,null,null,null,null,null,null,null,null,null,null,null,null,null,null,null,null,null,null,null,null,null,null,null,null,null,null,null,null,null,null,null,null,null,null,null,null,null,null,null,null,null,null,null,null,null,null,null,null,null,null,null,null,null,null,null,null,null,null,null,null,null,null,null,null,null,null,null,null,null,null,null,null,null,null,null,null,null,null,null,null,null,null,null,null,null,null,null,null,null,null,null,null,null,null,null,null,null,null,null,null,null,null,null,null,null,null,null,null,null,null,null,null,null,null,null,null,null,null,null,null,null,null,null,null,null,null,null,null,null,null,null,null,null,null,null,null,null,null,null,null,null,null,null,null,null,null,null,null,null,null,null,null,null,null,null,null,null,null,null,null,null,null,null,null,null,null,null,null,null,null,null,null,null,null,null,null,null,null,null,null,null,null,null,null,null,null,null,null,null,null,null,null,null,null,null,null,null,null,null,null,null,null,null,null,null,null,null,null,null,null,null,null,null,null,null,null,null,null,null,null,null,null,null,null,null,null,null,null,null,null,null,null,null,null,null,null,null,null,null,null,null,null,null,null,null,null,null,null,null,null,null,null,null,null,null,null,null,null,null,null,null,null,null,null,null,null,null,null,null,null,null,null,null,null,null,null,null,null,null,null,null,null,null,null,null,null,null,null,null,null,null,null,null,null,null,null,null,null,null,null,null,null,null,null,null,null,null,null,null,null,null,2,2,null,null,null,null,null,null,null,null,null,null,null,null,null,null,null,null,null,null,null,null,null,null,null,null,null,null,null,null,null,null,null,null,null,null,null,null,null,null,null,null,null,null,null,null,null,null,null,null,null,null,null,null,null,null,null,null,null,null,null,null,null,null,null,null,null,null,null,null,null,null,null,null,null,null,null,null,null,null,null,null,null,null,null,null,null,null,null,null,null,null,null,null,null,null,null,null,null,null,null,null,null,null,null,null,null,null,null,null,null,null,null,null,null,null,null,null,null,null,null,null,null,null,null,null,null,null,null,null,null,null,null,null,null,null,null,null,null,null,null,null,null,null,null,null,null,null,null,null,null,null,null,null,null,null,null,null,null,null,null,null,null,null,null,null,null,null,null,null,null,null,null,null,null,null,null,null,null,null,null,null,null,null,null,null,null,null,null,null,null,null,null,null,null,null,null,null,null,null,null,null,null,null,null,null,null,null,null,null,null,null,null,null,null,null,null,null,null,null,null,null,null,null,null,null,null,null,null,null,null,null,null,null,null,null,null,null,null,null,null,null,null,null,null,null,null,null,null,null,null,null,null,null,null,null,null,null,null,null,null,null,null,null,null,null,null,null,null,null,null,null,null,null,null,null,null,null,null,null,null,null,null,null,null,null,null,null,null,null,null,null,null,null,null,null,null,null,null,null,null,null,null,null,null,null,null,null,null,null,null,null,null,null,null,null,null,null,null,null,null,null,null,null,null,null,null,null,null,null,null,null,null,null,null,null,null,null,null,null,null,null,null,null,null,null,null,null,null,null,null,null,null,null,null,null,null,null,null,null,null,null,null,null,null,null,null,null,null,null,null,null,null,null,null,null,null,null,null,null,null,null,null,null,null,null,null,null,null,null,null,null,null,null,null,null,null,null,null,null,null,null,null,null,null,null,null,null,null,null,null,null,null,null,null,null,null,null,null,null,null,null,null,null,null,null,null,null,null,null,null,null,null,null,null,null,null,null,null,null,null,null,null,null,null,null,null,null,null,null,null,null,null,null,null,null,null,null,null,62,2,1,3,1,6,1,0,0,1,0,0,0,7,2,null,null,null,null,null,null,2,null,2,null,null,"2013-11-02T18:53:00","2013-11-02T18:56:00",null,538,5,"Safari 537.71","Macintosh","24.237.33.182"]
[115,92115,2,null,1,1,null,null,null,null,null,null,null,null,null,null,null,null,null,null,null,null,null,null,null,null,null,null,null,null,null,null,null,null,null,null,null,null,null,null,null,null,null,null,null,null,null,null,null,null,null,null,null,null,null,null,null,null,null,null,null,null,null,null,null,null,null,null,null,null,null,null,null,null,null,null,null,null,null,null,null,null,null,null,null,null,null,null,null,null,null,null,null,null,null,null,null,null,null,null,null,null,null,null,null,null,null,null,null,null,null,null,null,null,null,null,null,null,null,null,null,null,null,null,null,null,null,null,null,null,null,null,null,null,null,null,null,null,null,null,null,null,null,null,null,null,null,null,null,null,null,null,null,null,null,null,null,null,null,null,null,null,null,null,null,null,null,null,null,null,null,null,null,null,null,null,null,null,null,null,null,null,null,null,null,null,null,null,null,null,null,null,null,null,null,null,null,null,null,null,null,null,null,null,null,null,null,null,null,null,null,null,null,null,null,null,null,null,null,null,null,null,null,null,null,null,null,null,null,null,null,null,null,null,null,null,null,null,null,null,null,null,null,null,null,null,null,null,null,null,null,null,null,null,null,null,null,null,null,null,null,null,null,null,null,null,null,null,null,null,null,null,null,null,null,null,null,null,null,null,null,null,null,null,null,null,null,null,null,null,null,null,null,null,null,null,null,null,null,null,null,null,null,null,null,null,null,null,null,null,null,null,null,null,null,null,null,null,null,null,null,null,null,null,null,null,null,null,null,null,null,null,null,null,null,null,null,null,null,null,null,null,null,null,null,null,null,null,null,null,null,null,null,null,null,null,null,null,null,null,null,null,null,null,null,null,null,null,null,null,null,null,null,null,null,null,null,null,null,null,null,null,null,null,null,null,null,null,null,null,null,null,null,null,null,null,null,null,null,null,null,null,null,null,null,null,null,null,null,null,null,null,null,null,null,null,null,null,null,null,null,null,null,null,null,null,null,null,null,null,null,null,null,null,null,null,null,null,null,null,null,null,null,null,null,null,null,null,null,null,null,null,null,null,null,null,null,null,null,null,null,null,null,null,null,null,null,null,null,null,null,null,null,null,null,null,null,null,null,null,null,null,null,null,null,null,null,null,null,null,null,null,null,null,null,null,null,null,null,null,null,null,null,null,null,null,null,null,null,null,null,null,null,null,null,null,null,null,null,null,null,null,null,null,null,null,null,null,null,null,null,null,null,null,null,null,null,null,null,null,null,null,null,null,null,null,null,null,null,null,null,null,null,null,null,null,null,null,null,null,null,null,null,null,null,null,null,null,null,null,null,null,null,null,null,null,null,null,null,null,null,null,null,null,null,null,null,null,null,null,null,null,null,null,null,null,null,null,null,null,null,null,null,null,null,null,null,null,null,null,null,null,null,null,null,null,null,null,null,null,null,null,null,null,null,null,null,null,null,null,null,null,null,null,null,null,null,null,null,null,null,null,null,null,null,null,null,null,null,null,null,null,null,null,null,null,null,null,null,null,null,null,null,null,null,null,null,null,null,null,null,null,null,null,null,null,null,null,null,null,null,null,null,null,null,null,null,null,null,null,null,null,null,null,null,null,null,null,null,null,null,null,null,null,null,null,null,null,null,null,null,null,null,null,null,null,null,null,null,null,null,null,null,null,null,null,null,null,null,null,null,null,null,null,null,null,null,null,null,null,null,null,null,null,null,null,null,null,null,null,null,null,null,null,null,null,null,null,null,null,null,null,null,null,null,null,null,null,null,null,null,null,null,null,null,null,null,null,null,null,null,null,null,null,null,null,null,null,null,null,null,null,null,null,null,null,null,null,null,null,null,null,null,null,null,null,null,null,null,null,null,null,null,null,null,null,null,null,null,null,null,null,null,null,null,null,null,null,null,null,null,null,null,null,null,null,null,null,null,null,null,null,null,null,null,null,null,null,null,null,null,null,null,null,null,null,null,null,null,null,null,null,null,null,null,null,null,null,null,null,null,null,null,null,null,null,null,null,null,null,null,null,null,null,null,null,null,null,null,null,null,null,null,null,null,null,null,null,null,null,null,null,null,null,null,null,null,null,null,null,null,null,null,null,null,null,null,null,null,null,null,null,null,null,null,null,null,null,null,null,null,null,null,null,null,null,null,null,null,null,null,null,null,null,null,null,null,null,null,null,null,null,null,null,null,null,null,null,null,null,null,null,null,null,null,null,null,null,null,null,null,null,null,null,null,null,null,null,null,null,null,null,null,null,null,null,null,null,null,null,null,null,null,null,null,null,null,null,null,null,null,null,null,null,null,null,null,null,null,null,null,null,null,null,null,null,null,null,null,null,null,null,null,null,null,null,null,null,null,null,null,null,null,null,null,null,null,null,null,null,null,null,null,null,null,null,null,null,null,null,null,null,null,null,null,null,null,null,null,null,null,null,null,null,null,null,null,null,null,null,null,null,null,null,null,null,null,null,null,null,null,null,null,null,null,null,null,null,null,null,null,null,null,null,null,null,null,null,null,null,null,null,null,null,null,null,null,null,null,null,null,null,null,null,null,null,null,null,null,null,null,null,null,null,null,null,null,null,null,null,null,null,null,null,null,null,null,null,null,null,null,null,null,null,null,null,null,null,null,null,null,null,null,null,null,null,null,null,null,null,null,null,null,null,null,null,null,null,null,null,null,null,null,null,null,null,null,null,null,null,null,null,null,null,null,null,null,null,null,null,null,null,null,null,null,null,null,null,null,null,null,null,null,null,null,null,null,null,null,null,null,null,null,null,null,null,null,null,null,null,null,null,null,null,null,null,null,null,null,null,null,null,null,null,null,null,null,null,null,null,null,null,null,null,null,null,null,null,null,null,null,null,null,null,null,null,null,null,null,null,null,null,null,null,null,null,null,null,null,null,null,null,null,null,null,null,null,null,null,null,null,null,null,null,null,null,null,null,null,null,null,null,null,null,null,null,null,null,null,null,null,null,null,null,null,null,null,null,null,null,null,null,null,null,null,null,null,null,null,null,null,null,null,null,null,null,null,null,null,null,null,null,null,null,null,null,null,null,null,null,null,null,null,null,null,null,null,null,null,null,null,null,null,null,null,null,null,null,null,null,null,null,null,null,null,null,null,null,null,null,null,null,null,null,null,null,null,null,null,null,null,null,null,null,null,null,null,null,null,null,null,null,null,null,null,null,null,null,null,null,null,null,null,null,null,null,null,null,null,null,null,null,null,null,null,null,null,null,null,null,null,null,null,null,null,null,null,null,null,null,null,null,null,null,null,null,null,null,null,null,null,null,null,null,null,null,null,null,null,null,null,null,null,null,null,null,null,null,null,null,null,null,null,null,null,null,null,null,null,null,null,null,null,null,null,null,null,null,null,null,null,null,null,null,null,null,null,null,null,null,null,null,null,null,null,null,null,null,null,null,null,null,null,null,null,null,null,null,null,null,null,null,null,null,null,null,null,null,null,null,null,null,null,null,null,null,null,null,null,null,null,null,null,null,null,null,null,null,null,null,null,null,null,null,null,null,null,null,null,null,null,null,null,null,null,null,null,null,null,null,null,null,null,null,null,null,null,null,null,null,null,null,null,null,null,null,null,null,null,null,null,null,null,null,null,null,null,null,null,null,null,null,null,null,null,null,null,null,null,null,null,null,null,null,null,null,null,null,null,null,null,null,null,null,null,null,null,null,null,null,null,null,null,null,null,null,null,null,null,null,null,null,null,null,null,null,null,null,null,null,null,null,null,null,null,null,null,null,null,null,null,null,null,null,null,null,null,null,null,null,null,null,null,null,null,null,null,null,null,null,null,null,null,null,null,null,null,null,null,null,null,null,null,null,null,null,null,null,null,null,null,null,null,null,null,null,null,null,null,null,null,null,null,null,null,null,null,null,null,null,null,null,null,null,null,null,null,null,null,null,null,null,null,null,null,null,null,null,null,null,null,null,null,null,null,null,null,null,null,null,null,null,null,null,null,null,null,null,null,null,null,null,null,null,null,null,null,null,null,null,null,null,null,null,null,null,null,null,null,null,null,null,null,null,null,null,null,null,null,null,null,null,null,null,null,null,null,null,null,null,null,null,null,null,null,null,null,null,null,null,null,null,null,null,null,null,null,null,null,null,null,null,null,null,null,null,null,null,null,null,null,null,null,null,null,null,null,null,null,null,null,null,null,null,null,null,null,null,null,null,null,null,null,null,null,null,null,null,null,null,null,null,null,null,null,null,null,null,null,null,null,null,null,null,null,null,null,null,null,null,null,null,null,null,null,null,null,2,1,45,0,1,1,1,1,1,0,0,1,0,1,1,1,1,1,1,1,0,0,1,0,0,null,null,null,2,1,6,6,4,null,null,3,null,25,3,2,3,7,3,4,null,null,2,null,null,null,null,null,0,0,0,0,0,null,null,0,null,1,1,0,0,0,0,0,null,null,1,null,null,null,null,11,null,null,1,null,0,0,0,0,0,0,0,0,0,0,0,0,0,0,0,0,0,0,1,0,0,0,0,0,0,0,0,0,0,0,0,0,0,0,0,0,0,0,0,0,0,0,0,0,0,0,0,0,0,0,0,0,0,0,0,0,0,0,0,1,2006,1,2,null,1,2,0,null,0,null,0,0,0,1,0,null,null,null,null,null,null,null,null,null,null,null,null,null,null,null,null,null,null,0,null,null,null,null,null,null,null,null,null,null,null,null,null,null,null,null,null,null,null,null,null,null,null,null,null,null,null,"Octopus Lake","Seattle Creek","McLaren Summit","Seattle Creek",null,null,null,null,null,null,null,null,null,null,null,null,null,null,null,null,null,null,null,null,null,null,null,null,20,7,18,2,null,null,null,null,null,null,null,null,null,null,null,null,null,null,null,0,null,null,null,null,null,null,null,null,null,null,null,null,null,null,null,null,null,null,null,null,null,null,null,null,null,null,null,null,null,null,null,null,null,null,null,null,null,null,null,null,null,null,null,null,null,null,null,null,null,null,null,null,3,null,null,null,null,null,null,null,null,null,null,null,null,null,null,3,null,null,null,null,null,null,1,1,null,null,null,null,null,2,null,null,null,null,null,null,2,null,null,null,null,null,null,null,null,null,null,null,null,null,null,null,null,null,null,null,null,null,null,null,null,null,null,null,null,null,null,null,null,null,null,null,null,null,2,0,null,2,2,null,null,null,null,3,null,null,null,null,null,null,null,2,null,null,0,0,0,0,1,0,0,0,1,0,0,null,0,0,0,1,0,0,1,1,0,0,0,0,0,null,1,0,0,0,0,0,0,0,1,0,null,3,2,1,1,1,1,1,1,1,1,2,2,1,3,2,2,1,3,2,1,3,3,3,3,1,3,1,72,1,1,3,1,6,1,0,0,0,0,0,0,5,2,null,null,null,null,null,null,2,null,1,"mike.hodgeman.rogers@gmail.com",9078954265,"2013-11-02T20:14:00","2013-11-02T20:41:00",null,550,5,"Safari 537.71","Macintosh","209.112.137.250",2,3,4,5,6,9,11,12,13,14,15,16,17,20,null,null,null,null,null,null,null,null,11,12,20,null,null,null,null,null,null,null,null,null,null,null,null,null,null,null,null,null,null,null,null,null,null,null,null,null,null,null,null,null,null,null,null,null,null,null,null,null,null,null,null,null,11,null,null,null,null,null,null,null,null,null,null,null,null,null,null,null,null,null,null,null,null,null,1,3,5,6,7,8,9,28,null,null,null,null,null,null,null,null,null,null,null,null,null,null,null,null,null,null,null,null,19,20,21,22,23,24,25,26,27,null,null,null,null,null,null,null,null,null,null,null,null,null,null,null,null,null,null,null,8,10,11,12,13]
[891,92120,1,"sb",2,null,null,null,null,null,null,null,null,null,null,null,null,null,null,null,null,null,null,null,null,null,null,null,null,null,null,null,null,null,null,null,null,null,null,null,null,null,null,null,null,null,null,null,null,null,null,null,null,null,null,null,null,null,null,null,null,null,null,null,null,null,null,null,null,null,null,null,null,null,null,null,null,null,null,null,null,null,null,null,null,null,null,null,null,null,null,null,null,null,null,null,null,null,null,null,null,null,null,null,null,null,null,null,null,null,null,null,null,null,null,null,null,null,null,null,null,null,null,null,null,null,null,null,null,null,null,null,null,null,null,null,null,null,null,null,null,null,null,null,null,null,null,null,null,null,null,null,null,null,null,null,null,null,null,null,null,null,null,null,null,null,null,null,null,null,null,null,null,null,null,null,null,null,null,null,null,null,null,null,null,null,null,null,null,null,null,null,null,null,null,null,null,null,null,null,null,null,null,null,null,null,null,null,null,null,null,null,null,null,null,null,null,null,null,null,null,null,null,null,null,null,null,null,null,null,null,null,null,null,null,null,null,null,null,null,null,null,null,null,null,null,null,null,null,null,null,null,null,null,null,null,null,null,null,null,null,null,null,null,null,null,null,null,null,null,null,null,null,null,null,null,null,null,null,null,null,null,null,null,null,null,null,null,null,null,null,null,null,null,null,null,null,null,null,null,null,null,null,null,null,null,null,null,null,null,null,null,null,null,null,null,null,null,null,null,null,null,null,null,null,null,null,null,null,null,null,null,null,null,null,null,null,null,null,null,null,null,null,null,null,null,null,null,null,null,null,null,null,null,null,null,null,null,null,null,null,null,null,null,null,null,null,null,null,null,null,null,null,null,null,null,null,null,null,null,null,null,null,null,null,null,null,null,null,null,null,null,null,null,null,null,null,null,null,null,null,null,null,null,null,null,null,null,null,null,null,null,null,null,null,null,null,null,null,null,null,null,null,null,null,null,null,null,null,null,null,null,null,null,null,null,null,null,null,null,null,null,null,null,null,null,null,null,null,null,null,null,null,null,null,null,null,null,null,null,null,null,null,null,null,null,null,null,null,null,null,null,null,null,null,null,null,null,null,null,null,null,null,null,null,null,null,null,null,null,null,null,null,null,null,null,null,null,null,null,null,null,null,null,null,null,null,null,null,null,null,null,null,null,null,null,null,null,null,null,null,null,null,null,null,null,null,null,null,null,null,null,null,null,null,null,null,null,null,null,null,null,null,null,null,null,null,null,null,null,null,null,null,null,null,null,null,null,null,null,null,null,null,null,null,null,null,null,null,null,null,null,null,null,null,null,null,null,null,null,null,null,null,null,null,null,null,null,null,null,null,null,null,null,null,null,null,null,null,null,null,null,null,null,null,null,null,null,null,null,null,null,null,null,null,null,null,null,null,null,null,null,null,null,null,null,null,null,null,null,null,null,null,null,null,null,null,null,null,null,null,null,null,null,null,null,null,null,null,null,null,null,null,null,null,null,null,null,null,null,null,null,null,null,null,null,null,null,null,null,null,null,null,null,null,null,null,null,null,null,null,null,null,null,null,null,null,null,null,null,null,null,null,null,null,null,null,null,null,null,null,null,null,null,null,null,null,null,null,null,null,null,null,null,null,null,null,null,null,null,null,null,null,null,null,null,null,null,null,null,null,null,null,null,null,null,null,null,null,null,null,null,null,null,null,null,null,null,null,null,null,null,null,null,null,null,null,null,null,null,null,null,null,null,null,null,null,null,null,null,null,null,null,null,null,null,null,null,null,null,null,null,null,null,null,null,null,null,null,null,null,null,null,null,null,null,null,null,null,null,null,null,null,null,null,null,null,null,null,null,null,null,null,null,null,null,null,null,null,null,null,null,null,null,null,null,null,null,null,null,null,null,null,null,null,null,null,null,null,null,null,null,null,null,null,null,null,null,null,null,null,null,null,null,null,null,null,null,null,null,null,null,null,null,null,null,null,null,null,null,null,null,null,null,null,null,null,null,null,null,null,null,null,null,null,null,null,null,null,null,null,null,null,null,null,null,null,null,null,null,null,null,null,null,null,null,null,null,null,null,null,null,null,null,null,null,null,null,null,null,null,null,null,null,null,null,null,null,null,null,null,null,null,null,null,null,null,null,null,null,null,null,null,null,null,null,null,null,null,null,null,null,null,null,null,null,null,null,null,null,null,null,null,null,null,null,null,null,null,null,null,null,null,null,null,null,null,null,null,null,null,null,null,null,null,null,null,null,null,null,null,null,null,null,null,null,null,null,null,null,null,null,null,null,null,null,null,null,null,null,null,null,null,null,null,null,null,null,null,null,null,null,null,null,null,null,null,null,null,null,null,null,null,null,null,null,null,null,null,null,null,null,null,null,null,null,null,null,null,null,null,null,null,null,null,null,null,null,null,null,null,null,null,null,null,null,null,null,null,null,null,null,null,null,null,null,null,null,null,null,null,null,null,null,null,null,null,null,null,null,null,null,null,null,null,null,null,null,null,null,null,null,null,null,null,null,null,null,null,null,null,null,null,null,null,null,null,null,null,null,null,null,null,null,null,null,null,null,null,null,null,null,null,null,null,null,null,null,null,null,null,null,null,null,null,null,null,null,null,null,null,null,null,null,null,null,null,null,null,null,null,null,null,null,null,null,null,null,null,null,null,null,null,null,null,null,null,null,null,null,null,null,null,null,null,null,null,null,null,null,null,null,null,null,null,null,null,null,null,null,null,null,null,null,null,null,null,null,null,null,null,null,null,null,null,null,null,null,null,null,null,null,null,null,null,null,null,null,null,null,null,null,null,null,null,null,null,null,null,null,null,null,null,null,null,null,null,null,null,null,null,null,null,null,null,null,null,null,null,null,null,null,null,null,null,null,null,null,null,null,null,null,null,null,null,null,null,null,null,null,null,null,null,null,null,null,null,null,null,null,null,null,null,null,null,null,null,null,null,null,null,null,null,null,null,null,null,null,null,null,null,null,null,null,null,null,null,null,null,null,null,null,null,null,null,null,null,null,null,null,null,null,null,null,null,null,null,null,null,null,null,null,null,null,null,null,null,null,null,null,null,null,null,null,null,null,null,null,null,null,null,null,null,null,null,null,null,null,null,null,null,null,null,null,null,null,null,null,null,null,null,null,null,null,null,null,null,null,null,null,null,null,null,null,null,null,null,null,null,null,null,null,null,null,null,null,null,null,null,null,null,null,null,null,null,null,null,null,null,null,null,null,null,null,null,null,null,null,null,null,null,null,null,null,null,null,null,null,null,null,null,null,null,null,null,null,null,null,null,null,null,null,null,null,null,null,null,null,null,null,null,null,null,null,null,null,null,null,null,null,null,null,null,null,null,null,null,null,null,null,null,null,null,null,null,null,null,null,null,null,null,null,null,null,null,null,null,null,null,null,null,null,null,null,null,null,null,null,null,null,null,null,null,null,null,null,null,null,null,null,null,null,null,null,null,null,null,null,null,null,null,null,null,null,null,null,null,null,null,null,null,null,null,null,null,null,null,null,null,null,null,null,null,null,null,null,null,null,null,null,null,null,null,null,null,null,null,null,null,null,null,null,null,null,null,null,null,null,null,null,null,null,null,null,null,null,null,null,null,null,null,null,null,null,null,null,null,null,null,null,null,null,null,null,null,null,null,null,null,null,null,null,null,null,null,null,null,null,null,null,null,null,null,null,null,null,null,null,null,null,null,null,null,null,null,null,null,null,null,null,null,null,null,null,null,null,null,null,null,null,null,null,null,null,null,null,null,null,null,null,null,null,null,null,null,null,null,null,null,null,null,null,null,null,null,null,null,null,null,null,null,null,null,null,null,null,null,null,null,null,null,null,null,null,null,null,null,null,null,null,null,null,null,null,null,null,null,null,null,null,null,null,null,null,null,null,null,null,null,null,null,null,null,null,null,null,null,null,null,null,null,null,null,null,null,null,null,null,null,null,null,null,null,null,null,null,null,null,null,null,null,null,null,null,null,null,null,null,null,null,null,null,null,null,null,null,null,null,null,null,null,null,null,null,null,null,null,null,null,null,null,null,null,null,null,null,null,null,null,null,null,null,null,null,null,null,null,null,null,null,null,null,null,null,null,null,null,null,null,null,null,null,null,null,null,null,null,null,null,null,null,null,null,null,null,null,null,null,null,null,null,null,null,null,null,null,null,null,null,null,null,null,null,null,null,null,null,null,null,null,null,null,null,null,null,null,null,null,null,null,null,null,null,null,null,null,null,null,null,null,null,null,null,null,null,null,null,2,null,null,0,0,0,0,0,1,0,0,0,0,0,0,0,0,1,0,0,0,0,0,0,0,null,null,null,null,null,null,null,5,null,null,null,null,null,null,null,null,5,null,null,null,null,null,null,null,null,null,null,null,null,null,null,1,null,null,null,null,null,null,null,null,1,null,null,null,null,null,null,null,null,null,6,null,null,null,null,0,0,0,0,0,0,0,0,0,0,0,0,0,0,0,0,0,0,1,0,0,0,0,0,0,0,0,0,0,0,0,0,0,0,0,0,0,0,0,0,0,0,0,0,0,0,0,0,0,0,0,0,0,0,0,0,0,0,0,1,1975,3,2,null,1,5,0,null,0,null,0,0,0,1,0,null,null,null,null,null,null,null,null,null,null,null,null,null,null,null,null,null,null,0,null,null,null,null,null,null,null,null,null,null,null,null,null,null,null,null,null,null,null,null,null,null,null,null,null,null,null,null,null,null,null,null,null,null,null,null,null,null,null,null,null,null,null,null,null,null,null,null,null,null,null,null,null,null,null,null,null,null,null,null,null,null,null,null,null,null,null,null,null,null,null,null,null,null,1,null,null,null,null,null,null,null,null,null,null,null,null,null,null,null,null,null,null,null,null,null,null,null,null,null,null,null,null,null,null,null,null,null,null,null,null,null,null,null,null,null,null,null,null,null,null,null,null,null,null,1,null,null,4,null,null,null,null,null,null,null,null,null,null,null,null,null,null,null,null,null,null,null,null,null,null,null,null,null,null,null,null,null,null,null,null,null,null,null,null,null,null,null,null,null,null,null,null,null,null,null,null,null,null,null,null,null,null,null,null,null,null,null,null,null,null,null,null,null,null,null,null,null,null,null,null,2,0,2,2,2,null,null,null,null,3,null,null,null,null,null,null,null,2,null,null,1,0,0,0,0,0,0,0,0,0,0,null,1,0,0,0,0,0,0,0,0,0,0,0,0,null,1,0,0,0,0,0,0,0,1,0,null,3,2,1,null,3,1,1,2,1,1,1,3,2,4,1,3,2,1,3,5,1,3,3,3,3,3,2,48,2,2,2,null,4,1,0,0,0,0,0,0,4,2,null,null,null,null,null,null,2,null,2,null,null,"2013-12-31T03:17:00","2013-12-31T03:22:00",null,13354,5,"Firefox 23.0","Windows XP","209.112.172.118",6,15,null,null,null,null,null,null,null,null,null,null,null,null,null,null,null,null,null,null,null,null,null,null,6,15,null,null,null,null,null,null,null,null,null,null,null,null,null,null,null,null,null,null,null,null,null,null,null,null,null,null,null,null,null,null,null,null,null,null,null,null,null,null,null,null,null,null,null,null,null,null,6,null,null,null,null,null,null,null,null,null,null,null,null,null,null,null,null,null,null,null,null,null,null,null,1,3,5,6,7,8,9,28,null,null,null,null,null,null,null,null,null,null,null,null,null,null,null,null,null,null,null,null,19,20,21,22,23,24,25,26,27,null,null,null,null,null,null,null,null,null,null,null,null,null,null,null,null,null,null,null,8]
[595,92145,1,"ce",2,null,null,null,null,null,null,null,null,null,null,null,null,null,null,null,null,null,null,null,null,null,null,null,null,null,null,null,null,null,null,null,null,null,null,null,null,null,null,null,null,null,null,null,null,null,null,null,null,null,null,null,null,null,null,null,null,null,null,null,null,null,null,null,null,null,null,null,null,null,null,null,null,null,null,null,null,null,null,null,null,null,null,null,null,null,null,null,null,null,null,null,null,null,null,null,null,null,null,null,null,null,null,null,null,null,null,null,null,null,null,null,null,null,null,null,null,null,null,null,null,null,null,null,null,null,null,null,null,null,null,null,null,null,null,null,null,null,null,null,null,null,null,null,null,null,null,null,null,null,null,null,null,null,null,null,null,null,null,null,null,null,null,null,null,null,null,null,null,null,null,null,null,null,null,null,null,null,null,null,null,null,null,null,null,null,null,null,null,null,null,null,null,null,null,null,null,null,null,null,null,null,null,null,null,null,null,null,null,null,null,null,null,null,null,null,null,null,null,null,null,null,null,null,null,null,null,null,null,null,null,null,null,null,null,null,null,null,null,null,null,null,null,null,null,null,null,null,null,null,null,null,null,null,null,null,null,null,null,null,null,null,null,null,null,null,null,null,null,null,null,null,null,null,null,null,null,null,null,null,null,null,null,null,null,null,null,null,null,null,null,null,null,null,null,null,null,null,null,null,null,null,null,null,null,null,null,null,null,null,null,null,null,null,null,null,null,null,null,null,null,null,null,null,null,null,null,null,null,null,null,null,null,null,null,null,null,null,null,null,null,null,null,null,null,null,null,null,null,null,null,null,null,null,null,null,null,null,null,null,null,null,null,null,null,null,null,null,null,null,null,null,null,null,null,null,null,null,null,null,null,null,null,null,null,null,null,null,null,null,null,null,null,null,null,null,null,null,null,null,null,null,null,null,null,null,null,null,null,null,null,null,null,null,null,null,null,null,null,null,null,null,null,null,null,null,null,null,null,null,null,null,null,null,null,null,null,null,null,null,null,null,null,null,null,null,null,null,null,null,null,null,null,null,null,null,null,null,null,null,null,null,null,null,null,null,null,null,null,null,null,null,null,null,null,null,null,null,null,null,null,null,null,null,null,null,null,null,null,null,null,null,null,null,null,null,null,null,null,null,null,null,null,null,null,null,null,null,null,null,null,null,null,null,null,null,null,null,null,null,null,null,null,null,null,null,null,null,null,null,null,null,null,null,null,null,null,null,null,null,null,null,null,null,null,null,null,null,null,null,null,null,null,null,null,null,null,null,null,null,null,null,null,null,null,null,null,null,null,null,null,null,null,null,null,null,null,null,null,null,null,null,null,null,null,null,null,null,null,null,null,null,null,null,null,null,null,null,null,null,null,null,null,null,null,null,null,null,null,null,null,null,null,null,null,null,null,null,null,null,null,null,null,null,null,null,null,null,null,null,null,null,null,null,null,null,null,null,null,null,null,null,null,null,null,null,null,null,null,null,null,null,null,null,null,null,null,null,null,null,null,null,null,null,null,null,null,null,null,null,null,null,null,null,null,null,null,null,null,null,null,null,null,null,null,null,null,null,null,null,null,null,null,null,null,null,null,null,null,null,null,null,null,null,null,null,null,null,null,null,null,null,null,null,null,null,null,null,null,null,null,null,null,null,null,null,null,null,null,null,null,null,null,null,null,null,null,null,null,null,null,null,null,null,null,null,null,null,null,null,null,null,null,null,null,null,null,null,null,null,null,null,null,null,null,null,null,null,null,null,null,null,null,null,null,null,null,null,null,null,null,null,null,null,null,null,null,null,null,null,null,null,null,null,null,null,null,null,null,null,null,null,null,null,null,null,null,null,null,null,null,null,null,null,null,null,null,null,null,null,null,null,null,null,null,null,null,null,null,null,null,null,null,null,null,null,null,null,null,null,null,null,null,null,null,null,null,null,null,null,null,null,null,null,null,null,null,null,null,null,null,null,null,null,null,null,null,null,null,null,null,null,null,null,null,null,null,null,null,null,null,null,null,null,null,null,null,null,null,null,null,null,null,null,null,null,null,null,null,null,null,null,null,null,null,null,null,null,null,null,null,null,null,null,null,null,null,null,null,null,null,null,null,null,null,null,null,null,null,null,null,null,null,null,null,null,null,null,null,null,null,null,null,null,null,null,null,null,null,null,null,null,null,null,null,null,null,null,null,null,null,null,null,null,null,null,null,null,null,null,null,null,null,null,null,null,null,null,null,null,null,null,null,null,null,null,null,null,null,null,null,null,null,null,null,null,null,null,null,null,null,null,null,null,null,null,null,null,null,null,null,null,null,null,null,null,null,null,null,null,null,null,null,null,null,null,null,null,null,null,null,null,null,null,null,null,null,null,null,null,null,null,null,null,null,null,null,null,null,null,null,null,null,null,null,null,null,null,null,null,null,null,null,null,null,null,null,null,null,null,null,null,null,null,null,null,null,null,null,null,null,null,null,null,null,null,null,null,null,null,null,null,null,null,null,null,null,null,null,null,null,null,null,null,null,null,null,null,null,null,null,null,null,null,null,null,null,null,null,null,null,null,null,null,null,null,null,null,null,null,null,null,null,null,null,null,null,null,null,null,null,null,null,null,null,null,null,null,null,null,null,null,null,null,null,null,null,null,null,null,null,null,null,null,null,null,null,null,null,null,null,null,null,null,null,null,null,null,null,null,null,null,null,null,null,null,null,null,null,null,null,null,null,null,null,null,null,null,null,null,null,null,null,null,null,null,null,null,null,null,null,null,null,null,null,null,null,null,null,null,null,null,null,null,null,null,null,null,null,null,null,null,null,null,null,null,null,null,null,null,null,null,null,null,null,null,null,null,null,null,null,null,null,null,null,null,null,null,null,null,null,null,null,null,null,null,null,null,null,null,null,null,null,null,null,null,null,null,null,null,null,null,null,null,null,null,null,null,null,null,null,null,null,null,null,null,null,null,null,null,null,null,null,null,null,null,null,null,null,null,null,null,null,null,null,null,null,null,null,null,null,null,null,null,null,null,null,null,null,null,null,null,null,null,null,null,null,null,null,null,null,null,null,null,null,null,null,null,null,null,null,null,null,null,null,null,null,null,null,null,null,null,null,null,null,null,null,null,null,null,null,null,null,null,null,null,null,null,null,null,null,null,null,null,null,null,null,null,null,null,null,null,null,null,null,null,null,null,null,null,null,null,null,null,null,null,null,null,null,null,null,null,null,null,null,null,null,null,null,null,null,null,null,null,null,null,null,null,null,null,null,null,null,null,null,null,null,null,null,null,null,null,null,null,null,null,null,null,null,null,null,null,null,null,null,null,null,null,null,null,null,null,null,null,null,null,null,null,null,null,null,null,null,null,null,null,null,null,null,null,null,null,null,null,null,null,null,null,null,null,null,null,null,null,null,null,null,null,null,null,null,null,null,null,null,null,null,null,null,null,null,null,null,null,null,null,null,null,null,null,null,null,null,null,null,null,null,null,null,null,null,null,null,null,null,null,null,null,null,null,null,null,null,null,null,null,null,null,null,null,null,null,null,null,null,null,null,null,null,null,null,null,null,null,null,null,null,null,null,null,null,null,null,null,null,null,null,null,null,null,null,null,null,null,null,null,null,null,null,null,null,null,null,null,null,null,null,null,null,null,null,null,null,null,null,null,null,null,null,null,null,null,null,null,null,null,null,null,null,null,null,null,null,null,null,null,null,null,null,null,null,null,null,null,null,null,null,null,null,null,null,null,null,null,null,null,null,null,null,null,null,null,null,null,null,null,null,null,null,null,null,null,null,null,null,null,null,null,null,null,null,null,null,null,null,null,null,null,null,null,null,null,null,null,null,null,null,null,null,null,null,null,null,null,null,null,null,null,null,null,null,null,null,null,null,null,null,null,null,null,null,null,null,null,null,null,null,null,null,null,null,null,null,null,null,null,null,null,null,null,null,null,null,null,null,null,null,null,null,null,null,null,null,null,null,null,null,null,null,null,null,null,null,null,null,null,null,null,null,null,null,null,null,null,null,null,null,null,null,null,null,null,null,null,null,null,null,null,null,null,null,null,null,null,null,null,null,null,null,null,null,null,null,null,null,null,null,null,null,null,null,null,null,null,null,null,null,null,null,null,null,null,null,null,null,null,null,null,null,null,null,null,null,null,null,null,null,null,null,null,null,null,null,null,null,null,null,null,null,null,null,null,null,null,null,null,null,null,null,null,null,null,null,null,null,null,null,null,null,null,null,null,null,null,null,null,null,null,null,null,null,null,null,2,1,3,0,1,0,0,1,0,0,0,0,1,0,1,0,0,0,0,0,0,1,0,0,0,null,null,null,null,null,null,3,null,null,null,null,1,null,2,null,null,null,null,null,null,3,null,null,null,null,null,null,0,null,null,1,null,null,null,null,1,null,0,null,null,null,null,null,null,1,null,null,null,null,null,5,null,null,null,null,0,0,0,0,0,0,0,0,0,0,0,0,0,0,0,0,0,0,0,0,1,0,0,0,0,0,0,0,0,0,0,0,0,0,0,0,0,0,0,0,0,0,0,0,0,0,0,0,0,0,0,0,0,0,0,0,0,0,0,1,1972,3,2,null,1,3,0,null,0,null,1,0,0,0,0,null,null,null,null,null,null,null,null,null,null,null,null,null,null,null,null,null,null,0,null,null,null,null,null,null,null,null,null,null,null,null,null,null,null,null,null,null,null,null,null,null,null,null,null,null,null,"Denali State Park",null,null,null,null,null,null,null,null,null,null,null,null,null,null,null,null,null,null,null,null,null,null,null,null,null,null,null,21,null,null,null,null,null,null,null,null,null,null,null,null,null,null,null,null,null,null,0,null,null,null,null,null,null,null,null,null,null,null,null,null,null,null,null,null,null,null,null,null,null,null,null,null,null,null,null,null,null,null,1,null,null,null,null,null,null,null,null,null,null,null,null,null,null,null,null,null,null,null,null,null,null,null,null,null,null,null,null,null,null,null,null,null,null,2,null,null,null,null,null,null,null,null,null,null,null,null,null,null,null,null,null,null,null,null,null,null,null,null,null,null,null,null,null,null,null,null,null,null,null,null,null,null,null,null,null,null,null,null,null,null,null,null,null,null,null,null,null,null,null,null,null,null,null,2,0,2,2,2,null,null,null,null,2,1,"Denali",null,null,21,null,null,2,null,null,0,0,0,0,1,0,0,0,0,0,0,null,0,0,1,0,1,0,0,0,0,0,0,0,0,null,2,null,null,null,null,null,null,null,null,null,null,null,null,1,3,3,2,2,3,1,2,2,3,3,4,2,2,1,1,2,3,3,2,2,1,1,2,2,48,2,2,2,2,5,1,0,0,0,0,0,0,6,2,null,null,null,null,null,null,null,null,1,"pjarnold48@yahoo.com",null,"2013-12-14T22:33:00","2013-12-14T22:38:00",null,958,5,"Firefox 23.0","Windows XP","209.112.172.118",2,5,10,12,19,null,null,null,null,null,null,null,null,null,null,null,null,null,null,null,null,null,null,null,5,10,19,null,null,null,null,null,null,null,null,null,null,null,null,null,null,null,null,null,null,null,null,null,null,null,null,null,null,null,null,null,null,null,null,null,null,null,null,null,null,null,null,null,null,null,null,null,5,null,null,null,null,null,null,null,null,null,null,null,null,null,null,null,null,null,null,null,null,null,null,null,1,3,5,6,7,8,9,28,null,null,null,null,null,null,null,null,null,null,null,null,null,null,null,null,null,null,null,null,19,20,21,22,23,24,25,26,27,null,null,null,null,null,null,null,null,null,null,null,null,null,null,null,null,null,null,null,5,10]

{"sheet":"Cleaned SnowMachine Data","index":4,"n_rows":2283,"n_cols":2564,"rows_kept":33,"cut":true,"hidden":false,"merged":[],"bounds":{"rows_first":15,"rows_last":3,"rows_between":15,"halvings":7}}
[]
[]
[]
["sys_SequentialRespondentNumber","password","Mail (1)/ Online (2)",null,null,"MGinfo_r1_c1","Q1","Q2dk_1",null,null,"Q3_r1_c1","Q2_r1_c1","Q2_r2_c1","Q2_r3_c1","Q2_r4_c1","Q2_r5_c1","Q2_r6_c1","Q2_r7_c1","Q2_r8_c1","Q2_r9_c1","Q2_r10_c1","Q2_r1_c2","Q2_r2_c2","Q2_r3_c2","Q2_r4_c2","Q2_r5_c2","Q2_r6_c2","Q2_r7_c2","Q2_r8_c2","Q2_r9_c2","Q2_r10_c2",null,null,null,null,null,null,null,null,null,null,null,null,null,null,null,null,null,null,null,null,"Q2_r1_c3","Q2_r2_c3","Q2_r3_c3","Q2_r4_c3","Q2_r5_c3","Q2_r6_c3","Q2_r7_c3","Q2_r8_c3","Q2_r9_c3","Q2_r10_c3","SM1_r1","SM1_r2","SM1_r3","SM1_r4","SM1_r5","SM1_r6","SM1_r7","SM1_r8","SM1_r9","SM1_r10","SM1_r11","SM1_r12","SM1_r13","SM1_r14","SM1_r15","SM1_r16","SM1_r17","SM1_r18","SM1_r19","SM1_r20","SM1_r21","SM1_r22","SM1_r23","SM1_r24","SM1_r25","SM1_r26","SM1_r27","SM1_r28","SM1_r29","SM1_r30","SM1_r31","SM1_r32","SM1_r33","SM1_r34","SM1_r35","SM1_r36","SM1_r37","SM1_r38","SM1_r39","SM1_r40","SM1_r41","SM1_r42","SM1_r43","SM1_r44","SM1_r45","SM1_r46","SM1_r47","SM1_r48","SM1_r49","SM1_r50","SM1_r51","SM1_r52","SM1_r53","SM1_r54","SM1_r55","SM1_r56","SM1_r57","SM1_r58","SM1_r59","SM1_r60","SM1_r61","SM1_r62","SM1_r63","SM1_r64","SM1_r65","SM1_r66","SM1_r67","SM1_r68","SM1_r69","SM1_r70","SM1_r71","SM1_r72","SM1_r73","SM1_r74","SM1_r75","SM1_r76","SM1_r77","SM1_r78","SM1_r79","SM1_r80","SM1_r81","SM1_r82","SM1_r83","SM1_r84","SM1_r85","SM1_r86","SM1_r87","SM1_r88","SM1_r89","SM1_r90","SM1_r91","SM1_r92","SM1_r93","SM1_r94","SM1_r95","SM1_r96","SM1_r97","SM1_r98","SM1_r99","SM1_r100","SM1_r101","SM1_r102","SM1_r103","SM1_r104","SM1_r105","SM1_r106","SM1_r107","SM1_r108","SM1_r109","SM1_r110","SM1_r111","SM1_r112","SM1_r113","SM1_r114","SM1_r115","SM1_r116","SM1_r117","SM1_r118","SM1_r119","SM1_r120","SM1_r121","SM1_r122","SM1_r123","SM1_r124","SM1_r125","SM1_r126","SM1_r127","SM1_r128","SM1_r129","SM1_r130","SM1_r131","SM1_r132","SM1_r133","SM1_r134","SM1_r135","SM1_r136","SM1_r137","SM1_r138","SM1_r139","SM1_r140","SM1_r141","SM1_r142","SM1_r143","SM1_r144","SM1_r145","SM1_r146","SM1_r147","SM1_r148","SM1_r149","SM1_r150","SM1_r151","SM1_r152","SM1_r153","SM1_r154","SM1_r155","SM1_r156","SM1_r157","SM1_r158","SM1_r159","SM1_r160","SM1_r161","SM1_r162","SM1_r163","SM1_r164","SM1_r165","SM1_r166","SM1_r167","SM1_r168","SM1_r169","SM1_r170","SM1_r171","SM1_r172","SM1_r173","SM1_r174","SM1_r175","SM1_r176","SM1_r177","SM1_r178","SM1_r179","SM1_r180","SM1_r181","SM1_r182","SM1_r183","SM1_r184","SM2_r1","SM2_r2","SM2_r3","SM2_r4","SM2_r5","SM2_r6","SM2_r7","SM2_r8","SM2_r9","SM2_r10","SM2_r11","SM2_r12","SM2_r13","SM2_r14","SM2_r15","SM2_r16","SM2_r17","SM2_r18","SM2_r19","SM2_r20","SM2_r21","SM2_r22","SM2_r23","SM2_r24","SM2_r25","SM2_r26","SM2_r27","SM2_r28","SM2_r29","SM2_r30","SM2_r31","SM2_r32","SM2_r33","SM2_r34","SM2_r35","SM2_r36","SM2_r37","SM2_r38","SM2_r39","SM2_r40","SM2_r41","SM2_r42","SM2_r43","SM2_r44","SM2_r45","SM2_r46","SM2_r47","SM2_r48","SM2_r49","SM2_r50","SM2_r51","SM2_r52","SM2_r53","SM2_r54","SM2_r55","SM2_r56","SM2_r57","SM2_r58","SM2_r59","SM2_r60","SM2_r61","SM2_r62","SM2_r63","SM2_r64","SM2_r65","SM2_r66","SM2_r67","SM2_r68","SM2_r69","SM2_r70","SM2_r71","SM2_r72","SM2_r73","SM2_r74","SM2_r75","SM2_r76","SM2_r77","SM2_r78","SM2_r79","SM2_r80","SM2_r81","SM2_r82","SM2_r83","SM2_r84","SM2_r85","SM2_r86","SM2_r87","SM2_r88","SM2_r89","SM2_r90","SM2_r91","SM2_r92","SM2_r93","SM2_r94","SM2_r95","SM2_r96","SM2_r97","SM2_r98","SM2_r99","SM2_r100","SM2_r101","SM2_r102","SM2_r103","SM2_r104","SM2_r105","SM2_r106","SM2_r107","SM2_r108","SM2_r109","SM2_r110","SM2_r111","SM2_r112","SM2_r113","SM2_r114","SM2_r115","SM2_r116","SM2_r117","SM2_r118","SM2_r119","SM2_r120","SM2_r121","SM2_r122","SM2_r123","SM2_r124","SM2_r125","SM2_r126","SM2_r127","SM2_r128","SM2_r129","SM2_r130","SM2_r131","SM2_r132","SM2_r133","SM2_r134","SM2_r135","SM2_r136","SM2_r137","SM2_r138","SM2_r139","SM2_r140","SM2_r141","SM2_r142","SM2_r143","SM2_r144","SM2_r145","SM2_r146","SM2_r147","SM2_r148","SM2_r149","SM2_r150","SM2_r151","SM2_r152","SM2_r153","SM2_r154","SM2_r155","SM2_r156","SM2_r157","SM2_r158","SM2_r159","SM2_r160","SM2_r161","SM2_r162","SM2_r163","SM2_r164","SM2_r165","SM2_r166","SM2_r167","SM2_r168","SM2_r169","SM2_r170","SM2_r171","SM2_r172","SM2_r173","SM2_r174","SM2_r175","SM2_r176","SM2_r177","SM2_r178","SM2_r179","SM2_r180","SM2_r181","SM2_r182","SM2_r183","SM2_r184","SM3_r1","SM3_r2","SM3_r3","SM3_r4","SM3_r5","SM3_r6","SM3_r7","SM3_r8","SM3_r9","SM3_r10","SM3_r11","SM3_r12","SM3_r13","SM3_r14","SM3_r15","SM3_r16","SM3_r17","SM3_r18","SM3_r19","SM3_r20","SM3_r21","SM3_r22","SM3_r23","SM3_r24","SM3_r25","SM3_r26","SM3_r27","SM3_r28","SM3_r29","SM3_r30","SM3_r31","SM3_r32","SM3_r33","SM3_r34","SM3_r35","SM3_r36","SM3_r37","SM3_r38","SM3_r39","SM3_r40","SM3_r41","SM3_r42","SM3_r43","SM3_r44","SM3_r45","SM3_r46","SM3_r47","SM3_r48","SM3_r49","SM3_r50","SM3_r51","SM3_r52","SM3_r53","SM3_r54","SM3_r55","SM3_r56","SM3_r57","SM3_r58","SM3_r59","SM3_r60","SM3_r61","SM3_r62","SM3_r63","SM3_r64","SM3_r65","SM3_r66","SM3_r67","SM3_r68","SM3_r69","SM3_r70","SM3_r71","SM3_r72","SM3_r73","SM3_r74","SM3_r75","SM3_r76","SM3_r77","SM3_r78","SM3_r79","SM3_r80","SM3_r81","SM3_r82","SM3_r83","SM3_r84","SM3_r85","SM3_r86","SM3_r87","SM3_r88","SM3_r89","SM3_r90","SM3_r91","SM3_r92","SM3_r93","SM3_r94","SM3_r95","SM3_r96","SM3_r97","SM3_r98","SM3_r99","SM3_r100","SM3_r101","SM3_r102","SM3_r103","SM3_r104","SM3_r105","SM3_r106","SM3_r107","SM3_r108","SM3_r109","SM3_r110","SM3_r111","SM3_r112","SM3_r113","SM3_r114","SM3_r115","SM3_r116","SM3_r117","SM3_r118","SM3_r119","SM3_r120","SM3_r121","SM3_r122","SM3_r123","SM3_r124","SM3_r125","SM3_r126","SM3_r127","SM3_r128","SM3_r129","SM3_r130","SM3_r131","SM3_r132","SM3_r133","SM3_r134","SM3_r135","SM3_r136","SM3_r137","SM3_r138","SM3_r139","SM3_r140","SM3_r141","SM3_r142","SM3_r143","SM3_r144","SM3_r145","SM3_r146","SM3_r147","SM3_r148","SM3_r149","SM3_r150","SM3_r151","SM3_r152","SM3_r153","SM3_r154","SM3_r155","SM3_r156","SM3_r157","SM3_r158","SM3_r159","SM3_r160","SM3_r161","SM3_r162","SM3_r163","SM3_r164","SM3_r165","SM3_r166","SM3_r167","SM3_r168","SM3_r169","SM3_r170","SM3_r171","SM3_r172","SM3_r173","SM3_r174","SM3_r175","SM3_r176","SM3_r177","SM3_r178","SM3_r179","SM3_r180","SM3_r181","SM3_r182","SM3_r183","SM3_r184","SM4_r1","SM4_r2","SM4_r3","SM4_r4","SM4_r5","SM4_r6","SM4_r7","SM4_r8","SM4_r9","SM4_r10","SM4_r11","SM4_r12","SM4_r13","SM4_r14","SM4_r15","SM4_r16","SM4_r17","SM4_r18","SM4_r19","SM4_r20","SM4_r21","SM4_r22","SM4_r23","SM4_r24","SM4_r25","SM4_r26","SM4_r27","SM4_r28","SM4_r29","SM4_r30","SM4_r31","SM4_r32","SM4_r33","SM4_r34","SM4_r35","SM4_r36","SM4_r37","SM4_r38","SM4_r39","SM4_r40","SM4_r41","SM4_r42","SM4_r43","SM4_r44","SM4_r45","SM4_r46","SM4_r47","SM4_r48","SM4_r49","SM4_r50","SM4_r51","SM4_r52","SM4_r53","SM4_r54","SM4_r55","SM4_r56","SM4_r57","SM4_r58","SM4_r59","SM4_r60","SM4_r61","SM4_r62","SM4_r63","SM4_r64","SM4_r65","SM4_r66","SM4_r67","SM4_r68","SM4_r69","SM4_r70","SM4_r71","SM4_r72","SM4_r73","SM4_r74","SM4_r75","SM4_r76","SM4_r77","SM4_r78","SM4_r79","SM4_r80","SM4_r81","SM4_r82","SM4_r83","SM4_r84","SM4_r85","SM4_r86","SM4_r87","SM4_r88","SM4_r89","SM4_r90","SM4_r91","SM4_r92","SM4_r93","SM4_r94","SM4_r95","SM4_r96","SM4_r97","SM4_r98","SM4_r99","SM4_r100","SM4_r101","SM4_r102","SM4_r103","SM4_r104","SM4_r105","SM4_r106","SM4_r107","SM4_r108","SM4_r109","SM4_r110","SM4_r111","SM4_r112","SM4_r113","SM4_r114","SM4_r115","SM4_r116","SM4_r117","SM4_r118","SM4_r119","SM4_r120","SM4_r121","SM4_r122","SM4_r123","SM4_r124","SM4_r125","SM4_r126","SM4_r127","SM4_r128","SM4_r129","SM4_r130","SM4_r131","SM4_r132","SM4_r133","SM4_r134","SM4_r135","SM4_r136","SM4_r137","SM4_r138","SM4_r139","SM4_r140","SM4_r141","SM4_r142","SM4_r143","SM4_r144","SM4_r145","SM4_r146","SM4_r147","SM4_r148","SM4_r149","SM4_r150","SM4_r151","SM4_r152","SM4_r153","SM4_r154","SM4_r155","SM4_r156","SM4_r157","SM4_r158","SM4_r159","SM4_r160","SM4_r161","SM4_r162","SM4_r163","SM4_r164","SM4_r165","SM4_r166","SM4_r167","SM4_r168","SM4_r169","SM4_r170","SM4_r171","SM4_r172","SM4_r173","SM4_r174","SM4_r175","SM4_r176","SM4_r177","SM4_r178","SM4_r179","SM4_r180","SM4_r181","SM4_r182","SM4_r183","SM4_r184","SM5_r1","SM5_r2","SM5_r3","SM5_r4","SM5_r5","SM5_r6","SM5_r7","SM5_r8","SM5_r9","SM5_r10","SM5_r11","SM5_r12","SM5_r13","SM5_r14","SM5_r15","SM5_r16","SM5_r17","SM5_r18","SM5_r19","SM5_r20","SM5_r21","SM5_r22","SM5_r23","SM5_r24","SM5_r25","SM5_r26","SM5_r27","SM5_r28","SM5_r29","SM5_r30","SM5_r31","SM5_r32","SM5_r33","SM5_r34","SM5_r35","SM5_r36","SM5_r37","SM5_r38","SM5_r39","SM5_r40","SM5_r41","SM5_r42","SM5_r43","SM5_r44","SM5_r45","SM5_r46","SM5_r47","SM5_r48","SM5_r49","SM5_r50","SM5_r51","SM5_r52","SM5_r53","SM5_r54","SM5_r55","SM5_r56","SM5_r57","SM5_r58","SM5_r59","SM5_r60","SM5_r61","SM5_r62","SM5_r63","SM5_r64","SM5_r65","SM5_r66","SM5_r67","SM5_r68","SM5_r69","SM5_r70","SM5_r71","SM5_r72","SM5_r73","SM5_r74","SM5_r75","SM5_r76","SM5_r77","SM5_r78","SM5_r79","SM5_r80","SM5_r81","SM5_r82","SM5_r83","SM5_r84","SM5_r85","SM5_r86","SM5_r87","SM5_r88","SM5_r89","SM5_r90","SM5_r91","SM5_r92","SM5_r93","SM5_r94","SM5_r95","SM5_r96","SM5_r97","SM5_r98","SM5_r99","SM5_r100","SM5_r101","SM5_r102","SM5_r103","SM5_r104","SM5_r105","SM5_r106","SM5_r107","SM5_r108","SM5_r109","SM5_r110","SM5_r111","SM5_r112","SM5_r113","SM5_r114","SM5_r115","SM5_r116","SM5_r117","SM5_r118","SM5_r119","SM5_r120","SM5_r121","SM5_r122","SM5_r123","SM5_r124","SM5_r125","SM5_r126","SM5_r127","SM5_r128","SM5_r129","SM5_r130","SM5_r131","SM5_r132","SM5_r133","SM5_r134","SM5_r135","SM5_r136","SM5_r137","SM5_r138","SM5_r139","SM5_r140","SM5_r141","SM5_r142","SM5_r143","SM5_r144","SM5_r145","SM5_r146","SM5_r147","SM5_r148","SM5_r149","SM5_r150","SM5_r151","SM5_r152","SM5_r153","SM5_r154","SM5_r155","SM5_r156","SM5_r157","SM5_r158","SM5_r159","SM5_r160","SM5_r161","SM5_r162","SM5_r163","SM5_r164","SM5_r165","SM5_r166","SM5_r167","SM5_r168","SM5_r169","SM5_r170","SM5_r171","SM5_r172","SM5_r173","SM5_r174","SM5_r175","SM5_r176","SM5_r177","SM5_r178","SM5_r179","SM5_r180","SM5_r181","SM5_r182","SM5_r183","SM5_r184","SM6_r1","SM6_r2","SM6_r3","SM6_r4","SM6_r5","SM6_r6","SM6_r7","SM6_r8","SM6_r9","SM6_r10","SM6_r11","SM6_r12","SM6_r13","SM6_r14","SM6_r15","SM6_r16","SM6_r17","SM6_r18","SM6_r19","SM6_r20","SM6_r21","SM6_r22","SM6_r23","SM6_r24","SM6_r25","SM6_r26","SM6_r27","SM6_r28","SM6_r29","SM6_r30","SM6_r31","SM6_r32","SM6_r33","SM6_r34","SM6_r35","SM6_r36","SM6_r37","SM6_r38","SM6_r39","SM6_r40","SM6_r41","SM6_r42","SM6_r43","SM6_r44","SM6_r45","SM6_r46","SM6_r47","SM6_r48","SM6_r49","SM6_r50","SM6_r51","SM6_r52","SM6_r53","SM6_r54","SM6_r55","SM6_r56","SM6_r57","SM6_r58","SM6_r59","SM6_r60","SM6_r61","SM6_r62","SM6_r63","SM6_r64","SM6_r65","SM6_r66","SM6_r67","SM6_r68","SM6_r69","SM6_r70","SM6_r71","SM6_r72","SM6_r73","SM6_r74","SM6_r75","SM6_r76","SM6_r77","SM6_r78","SM6_r79","SM6_r80","SM6_r81","SM6_r82","SM6_r83","SM6_r84","SM6_r85","SM6_r86","SM6_r87","SM6_r88","SM6_r89","SM6_r90","SM6_r91","SM6_r92","SM6_r93","SM6_r94","SM6_r95","SM6_r96","SM6_r97","SM6_r98","SM6_r99","SM6_r100","SM6_r101","SM6_r102","SM6_r103","SM6_r104","SM6_r105","SM6_r106","SM6_r107","SM6_r108","SM6_r109","SM6_r110","SM6_r111","SM6_r112","SM6_r113","SM6_r114","SM6_r115","SM6_r116","SM6_r117","SM6_r118","SM6_r119","SM6_r120","SM6_r121","SM6_r122","SM6_r123","SM6_r124","SM6_r125","SM6_r126","SM6_r127","SM6_r128","SM6_r129","SM6_r130","SM6_r131","SM6_r132","SM6_r133","SM6_r134","SM6_r135","SM6_r136","SM6_r137","SM6_r138","SM6_r139","SM6_r140","SM6_r141","SM6_r142","SM6_r143","SM6_r144","SM6_r145","SM6_r146","SM6_r147","SM6_r148","SM6_r149","SM6_r150","SM6_r151","SM6_r152","SM6_r153","SM6_r154","SM6_r155","SM6_r156","SM6_r157","SM6_r158","SM6_r159","SM6_r160","SM6_r161","SM6_r162","SM6_r163","SM6_r164","SM6_r165","SM6_r166","SM6_r167","SM6_r168","SM6_r169","SM6_r170","SM6_r171","SM6_r172","SM6_r173","SM6_r174","SM6_r175","SM6_r176","SM6_r177","SM6_r178","SM6_r179","SM6_r180","SM6_r181","SM6_r182","SM6_r183","SM6_r184","SM7_r1","SM7_r2","SM7_r3","SM7_r4","SM7_r5","SM7_r6","SM7_r7","SM7_r8","SM7_r9","SM7_r10","SM7_r11","SM7_r12","SM7_r13","SM7_r14","SM7_r15","SM7_r16","SM7_r17","SM7_r18","SM7_r19","SM7_r20","SM7_r21","SM7_r22","SM7_r23","SM7_r24","SM7_r25","SM7_r26","SM7_r27","SM7_r28","SM7_r29","SM7_r30","SM7_r31","SM7_r32","SM7_r33","SM7_r34","SM7_r35","SM7_r36","SM7_r37","SM7_r38","SM7_r39","SM7_r40","SM7_r41","SM7_r42","SM7_r43","SM7_r44","SM7_r45","SM7_r46","SM7_r47","SM7_r48","SM7_r49","SM7_r50","SM7_r51","SM7_r52","SM7_r53","SM7_r54","SM7_r55","SM7_r56","SM7_r57","SM7_r58","SM7_r59","SM7_r60","SM7_r61","SM7_r62","SM7_r63","SM7_r64","SM7_r65","SM7_r66","SM7_r67","SM7_r68","SM7_r69","SM7_r70","SM7_r71","SM7_r72","SM7_r73","SM7_r74","SM7_r75","SM7_r76","SM7_r77","SM7_r78","SM7_r79","SM7_r80","SM7_r81","SM7_r82","SM7_r83","SM7_r84","SM7_r85","SM7_r86","SM7_r87","SM7_r88","SM7_r89","SM7_r90","SM7_r91","SM7_r92","SM7_r93","SM7_r94","SM7_r95","SM7_r96","SM7_r97","SM7_r98","SM7_r99","SM7_r100","SM7_r101","SM7_r102","SM7_r103","SM7_r104","SM7_r105","SM7_r106","SM7_r107","SM7_r108","SM7_r109","SM7_r110","SM7_r111","SM7_r112","SM7_r113","SM7_r114","SM7_r115","SM7_r116","SM7_r117","SM7_r118","SM7_r119","SM7_r120","SM7_r121","SM7_r122","SM7_r123","SM7_r124","SM7_r125","SM7_r126","SM7_r127","SM7_r128","SM7_r129","SM7_r130","SM7_r131","SM7_r132","SM7_r133","SM7_r134","SM7_r135","SM7_r136","SM7_r137","SM7_r138","SM7_r139","SM7_r140","SM7_r141","SM7_r142","SM7_r143","SM7_r144","SM7_r145","SM7_r146","SM7_r147","SM7_r148","SM7_r149","SM7_r150","SM7_r151","SM7_r152","SM7_r153","SM7_r154","SM7_r155","SM7_r156","SM7_r157","SM7_r158","SM7_r159","SM7_r160","SM7_r161","SM7_r162","SM7_r163","SM7_r164","SM7_r165","SM7_r166","SM7_r167","SM7_r168","SM7_r169","SM7_r170","SM7_r171","SM7_r172","SM7_r173","SM7_r174","SM7_r175","SM7_r176","SM7_r177","SM7_r178","SM7_r179","SM7_r180","SM7_r181","SM7_r182","SM7_r183","SM7_r184","SM8_r1","SM8_r2","SM8_r3","SM8_r4","SM8_r5","SM8_r6","SM8_r7","SM8_r8","SM8_r9","SM8_r10","SM8_r11","SM8_r12","SM8_r13","SM8_r14","SM8_r15","SM8_r16","SM8_r17","SM8_r18","SM8_r19","SM8_r20","SM8_r21","SM8_r22","SM8_r23","SM8_r24","SM8_r25","SM8_r26","SM8_r27","SM8_r28","SM8_r29","SM8_r30","SM8_r31","SM8_r32","SM8_r33","SM8_r34","SM8_r35","SM8_r36","SM8_r37","SM8_r38","SM8_r39","SM8_r40","SM8_r41","SM8_r42","SM8_r43","SM8_r44","SM8_r45","SM8_r46","SM8_r47","SM8_r48","SM8_r49","SM8_r50","SM8_r51","SM8_r52","SM8_r53","SM8_r54","SM8_r55","SM8_r56","SM8_r57","SM8_r58","SM8_r59","SM8_r60","SM8_r61","SM8_r62","SM8_r63","SM8_r64","SM8_r65","SM8_r66","SM8_r67","SM8_r68","SM8_r69","SM8_r70","SM8_r71","SM8_r72","SM8_r73","SM8_r74","SM8_r75","SM8_r76","SM8_r77","SM8_r78","SM8_r79","SM8_r80","SM8_r81","SM8_r82","SM8_r83","SM8_r84","SM8_r85","SM8_r86","SM8_r87","SM8_r88","SM8_r89","SM8_r90","SM8_r91","SM8_r92","SM8_r93","SM8_r94","SM8_r95","SM8_r96","SM8_r97","SM8_r98","SM8_r99","SM8_r100","SM8_r101","SM8_r102","SM8_r103","SM8_r104","SM8_r105","SM8_r106","SM8_r107","SM8_r108","SM8_r109","SM8_r110","SM8_r111","SM8_r112","SM8_r113","SM8_r114","SM8_r115","SM8_r116","SM8_r117","SM8_r118","SM8_r119","SM8_r120","SM8_r121","SM8_r122","SM8_r123","SM8_r124","SM8_r125","SM8_r126","SM8_r127","SM8_r128","SM8_r129","SM8_r130","SM8_r131","SM8_r132","SM8_r133","SM8_r134","SM8_r135","SM8_r136","SM8_r137","SM8_r138","SM8_r139","SM8_r140","SM8_r141","SM8_r142","SM8_r143","SM8_r144","SM8_r145","SM8_r146","SM8_r147","SM8_r148","SM8_r149","SM8_r150","SM8_r151","SM8_r152","SM8_r153","SM8_r154","SM8_r155","SM8_r156","SM8_r157","SM8_r158","SM8_r159","SM8_r160","SM8_r161","SM8_r162","SM8_r163","SM8_r164","SM8_r165","SM8_r166","SM8_r167","SM8_r168","SM8_r169","SM8_r170","SM8_r171","SM8_r172","SM8_r173","SM8_r174","SM8_r175","SM8_r176","SM8_r177","SM8_r178","SM8_r179","SM8_r180","SM8_r181","SM8_r182","SM8_r183","SM8_r184","SM9_r1","SM9_r2","SM9_r3","SM9_r4","SM9_r5","SM9_r6","SM9_r7","SM9_r8","SM9_r9","SM9_r10","SM9_r11","SM9_r12","SM9_r13","SM9_r14","SM9_r15","SM9_r16","SM9_r17","SM9_r18","SM9_r19","SM9_r20","SM9_r21","SM9_r22","SM9_r23","SM9_r24","SM9_r25","SM9_r26","SM9_r27","SM9_r28","SM9_r29","SM9_r30","SM9_r31","SM9_r32","SM9_r33","SM9_r34","SM9_r35","SM9_r36","SM9_r37","SM9_r38","SM9_r39","SM9_r40","SM9_r41","SM9_r42","SM9_r43","SM9_r44","SM9_r45","SM9_r46","SM9_r47","SM9_r48","SM9_r49","SM9_r50","SM9_r51","SM9_r52","SM9_r53","SM9_r54","SM9_r55","SM9_r56","SM9_r57","SM9_r58","SM9_r59","SM9_r60","SM9_r61","SM9_r62","SM9_r63","SM9_r64","SM9_r65","SM9_r66","SM9_r67","SM9_r68","SM9_r69","SM9_r70","SM9_r71","SM9_r72","SM9_r73","SM9_r74","SM9_r75","SM9_r76","SM9_r77","SM9_r78","SM9_r79","SM9_r80","SM9_r81","SM9_r82","SM9_r83","SM9_r84","SM9_r85","SM9_r86","SM9_r87","SM9_r88","SM9_r89","SM9_r90","SM9_r91","SM9_r92","SM9_r93","SM9_r94","SM9_r95","SM9_r96","SM9_r97","SM9_r98","SM9_r99","SM9_r100","SM9_r101","SM9_r102","SM9_r103","SM9_r104","SM9_r105","SM9_r106","SM9_r107","SM9_r108","SM9_r109","SM9_r110","SM9_r111","SM9_r112","SM9_r113","SM9_r114","SM9_r115","SM9_r116","SM9_r117","SM9_r118","SM9_r119","SM9_r120","SM9_r121","SM9_r122","SM9_r123","SM9_r124","SM9_r125","SM9_r126","SM9_r127","SM9_r128","SM9_r129","SM9_r130","SM9_r131","SM9_r132","SM9_r133","SM9_r134","SM9_r135","SM9_r136","SM9_r137","SM9_r138","SM9_r139","SM9_r140","SM9_r141","SM9_r142","SM9_r143","SM9_r144","SM9_r145","SM9_r146","SM9_r147","SM9_r148","SM9_r149","SM9_r150","SM9_r151","SM9_r152","SM9_r153","SM9_r154","SM9_r155","SM9_r156","SM9_r157","SM9_r158","SM9_r159","SM9_r160","SM9_r161","SM9_r162","SM9_r163","SM9_r164","SM9_r165","SM9_r166","SM9_r167","SM9_r168","SM9_r169","SM9_r170","SM9_r171","SM9_r172","SM9_r173","SM9_r174","SM9_r175","SM9_r176","SM9_r177","SM9_r178","SM9_r179","SM9_r180","SM9_r181","SM9_r182","SM9_r183","SM9_r184","SM10_r1","SM10_r2","SM10_r3","SM10_r4","SM10_r5","SM10_r6","SM10_r7","SM10_r8","SM10_r9","SM10_r10","SM10_r11","SM10_r12","SM10_r13","SM10_r14","SM10_r15","SM10_r16","SM10_r17","SM10_r18","SM10_r19","SM10_r20","SM10_r21","SM10_r22","SM10_r23","SM10_r24","SM10_r25","SM10_r26","SM10_r27","SM10_r28","SM10_r29","SM10_r30","SM10_r31","SM10_r32","SM10_r33","SM10_r34","SM10_r35","SM10_r36","SM10_r37","SM10_r38","SM10_r39","SM10_r40","SM10_r41","SM10_r42","SM10_r43","SM10_r44","SM10_r45","SM10_r46","SM10_r47","SM10_r48","SM10_r49","SM10_r50","SM10_r51","SM10_r52","SM10_r53","SM10_r54","SM10_r55","SM10_r56","SM10_r57","SM10_r58","SM10_r59","SM10_r60","SM10_r61","SM10_r62","SM10_r63","SM10_r64","SM10_r65","SM10_r66","SM10_r67","SM10_r68","SM10_r69","SM10_r70","SM10_r71","SM10_r72","SM10_r73","SM10_r74","SM10_r75","SM10_r76","SM10_r77","SM10_r78","SM10_r79","SM10_r80","SM10_r81","SM10_r82","SM10_r83","SM10_r84","SM10_r85","SM10_r86","SM10_r87","SM10_r88","SM10_r89","SM10_r90","SM10_r91","SM10_r92","SM10_r93","SM10_r94","SM10_r95","SM10_r96","SM10_r97","SM10_r98","SM10_r99","SM10_r100","SM10_r101","SM10_r102","SM10_r103","SM10_r104","SM10_r105","SM10_r106","SM10_r107","SM10_r108","SM10_r109","SM10_r110","SM10_r111","SM10_r112","SM10_r113","SM10_r114","SM10_r115","SM10_r116","SM10_r117","SM10_r118","SM10_r119","SM10_r120","SM10_r121","SM10_r122","SM10_r123","SM10_r124","SM10_r125","SM10_r126","SM10_r127","SM10_r128","SM10_r129","SM10_r130","SM10_r131","SM10_r132","SM10_r133","SM10_r134","SM10_r135","SM10_r136","SM10_r137","SM10_r138","SM10_r139","SM10_r140","SM10_r141","SM10_r142","SM10_r143","SM10_r144","SM10_r145","SM10_r146","SM10_r147","SM10_r148","SM10_r149","SM10_r150","SM10_r151","SM10_r152","SM10_r153","SM10_r154","SM10_r155","SM10_r156","SM10_r157","SM10_r158","SM10_r159","SM10_r160","SM10_r161","SM10_r162","SM10_r163","SM10_r164","SM10_r165","SM10_r166","SM10_r167","SM10_r168","SM10_r169","SM10_r170","SM10_r171","SM10_r172","SM10_r173","SM10_r174","SM10_r175","SM10_r176","SM10_r177","SM10_r178","SM10_r179","SM10_r180","SM10_r181","SM10_r182","SM10_r183","SM10_r184","Q13","Q14","Q14_1_other","Q14a_1","Q14a_2","Q14a_3","Q14a_4","Q14a_5","Q14a_6","Q14a_7","Q14a_8","Q14a_9","Q14a_10","Q14a_11","Q14a_12","Q14a_13","Q14a_14","Q14a_15","Q14a_16","Q14a_17","Q14a_18","Q14a_19","Q14a_20","Q14a_21","Q14a_22","Q14a_21_other","Q14a_22_other","Q14b_r1_c1","Q14b_r2_c1","Q14b_r3_c1","Q14b_r4_c1","Q14b_r5_c1","Q14b_r6_c1","Q14b_r7_c1","Q14b_r8_c1","Q14b_r9_c1","Q14b_r10_c1","Q14b_r11_c1","Q14b_r12_c1","Q14b_r13_c1","Q14b_r14_c1","Q14b_r15_c1","Q14b_r16_c1","Q14b_r17_c1","Q14b_r18_c1","Q14b_r19_c1","Q14b_r20_c1","Q14b_r21_c1","Q14b_r22_c1","Q14b_r21_other","Q14b_r22_other","Q14c_1","Q14c_2","Q14c_3","Q14c_4","Q14c_5","Q14c_6","Q14c_7","Q14c_8","Q14c_9","Q14c_10","Q14c_11","Q14c_12","Q14c_13","Q14c_14","Q14c_15","Q14c_16","Q14c_17","Q14c_18","Q14c_19","Q14c_20","Q14c_21","Q14c_22","Q14c_21_other","Q14c_22_other","Q15","Q15_21_other","Q15_22_other","Q15a","Q15a_15_other","R1_r1","R1_r2","R1_r3","R1_r4","R1_r5","R1_r6","R1_r7","R1_r8","R1_r9","R1_r10","R1_r11","R1_r12","R1_r13","R1_r14","R1_r15","R1_r16","R1_r17","R1_r18","R1_r19","R1_r20","R1_r21","R1_r22","R1_r23","R1_r24","R1_r25","R1_r26","R1_r27","R1_r28","R1_r29","R1_r30","R1_r31","R1_r32","R1_r33","R1_r34","R1_r35","R1_r36","R1_r37","R1_r38","R1_r39","R1_r40","R1_r41","R1_r42","R1_r43","R1_r44","R1_r45","R1_r46","R1_r47","R1_r48","R1_r49","R1_r51","R1_r52","R1_r53","R1_r54","R1_r55","R1_r56","R1_r57","R1_r58","R1_r59","R1_r60","Q17","Q17a","Q17b","Q18","Q18a","Q19","Q20","Q21overnight_1","Q21overnight_2","Q21overnight_3","Q21overnight_4","Q21overnight_5","Q21overnight_6","Q21overnight_7","Q21overnight_8","Q21overnight_9","Q21overnight_10","Q21overnight_11","Q21overnight_12","Q21overnight_13","Q21overnight_14","Q21overnight_15","Q21overnight_16","Q21overnight_17","Q21overnight_18","Q21overnight_19","Q21overnight_20","Q21overnight_21","Q21overnight_22","Q21overnight_23","Q21overnight_24","Q21overnight_25","Q21overnight_26","Q21overnight_27","Q21overnight_28","Q21overnight_10_other","Q21overnight_11_other","Q21overnight_12_other","Q21overnight_13_other","Q21overnight_14_other","Q21overnight_15_other","Q21overnight_16_other","Q21overnight_17_other","Q21overnight_18_other","Q21other_r1_c1","Q21other_r2_c1","Q21other_r3_c1","Q21other_r4_c1","Q21other_r5_c1","Q21other_r6_c1","Q21other_r7_c1","Q21other_r8_c1","Q21other_r9_c1","Q21other_r10_c1","Q21other_r11_c1","Q21other_r12_c1","Q21other_r13_c1","Q21other_r14_c1","Q21other_r15_c1","Q21other_r16_c1","Q21other_r17_c1","Q21other_r18_c1","Q21other_r19_c1","Q21other_r20_c1","Q21other_r21_c1","Q21other_r22_c1","Q21other_r23_c1","Q21other_r24_c1","Q21other_r25_c1","Q21other_r26_c1","Q21other_r27_c1","Q21other_r28_c1","Q21other_r1_c2","Q21other_r2_c2","Q21other_r3_c2","Q21other_r4_c2","Q21other_r5_c2","Q21other_r6_c2","Q21other_r7_c2","Q21other_r8_c2","Q21other_r9_c2","Q21other_r10_c2","Q21other_r11_c2","Q21other_r12_c2","Q21other_r13_c2","Q21other_r14_c2","Q21other_r15_c2","Q21other_r16_c2","Q21other_r17_c2","Q21other_r18_c2","Q21other_r19_c2","Q21other_r20_c2","Q21other_r21_c2","Q21other_r22_c2","Q21other_r23_c2","Q21other_r24_c2","Q21other_r25_c2","Q21other_r26_c2","Q21other_r27_c2","Q21other_r28_c2","Q21other_r10_other","Q21other_r11_other","Q21other_r12_other","Q21other_r13_other","Q21other_r14_other","Q21other_r15_other","Q21other_r16_other","Q21other_r17_other","Q21other_r18_other","Q21none_1","Q21_r1_c1","Q21_r1_c2","Q21_r1_c3","Q21_r1_c4","Q21_r1_c5","Q21_r1_c6","Q21_r1_c7","Q21_r2_c1","Q21_r2_c2","Q21_r2_c3","Q21_r2_c4","Q21_r2_c5","Q21_r2_c6","Q21_r2_c7","Q21_r3_c1","Q21_r3_c2","Q21_r3_c3","Q21_r3_c4","Q21_r3_c5","Q21_r3_c6","Q21_r3_c7","Q21_r4_c1","Q21_r4_c2","Q21_r4_c3","Q21_r4_c4","Q21_r4_c5","Q21_r4_c6","Q21_r4_c7","Q21_r5_c1","Q21_r5_c2","Q21_r5_c3","Q21_r5_c4","Q21_r5_c5","Q21_r5_c6","Q21_r5_c7","Q21_r6_c1","Q21_r6_c2","Q21_r6_c3","Q21_r6_c4","Q21_r6_c5","Q21_r6_c6","Q21_r6_c7","Q21_r7_c1","Q21_r7_c2","Q21_r7_c3","Q21_r7_c4","Q21_r7_c5","Q21_r7_c6","Q21_r7_c7","Q21_r8_c1","Q21_r8_c2","Q21_r8_c3","Q21_r8_c4","Q21_r8_c5","Q21_r8_c6","Q21_r8_c7","Q21_r9_c1","Q21_r9_c2","Q21_r9_c3","Q21_r9_c4","Q21_r9_c5","Q21_r9_c6","Q21_r9_c7","Q21_r10_c1","Q21_r10_c2","Q21_r10_c3","Q21_r10_c4","Q21_r10_c5","Q21_r10_c6","Q21_r10_c7","Q21_r11_c1","Q21_r11_c2","Q21_r11_c3","Q21_r11_c4","Q21_r11_c5","Q21_r11_c6","Q21_r11_c7","Q21_r12_c1","Q21_r12_c2","Q21_r12_c3","Q21_r12_c4","Q21_r12_c5","Q21_r12_c6","Q21_r12_c7","Q21_r13_c1","Q21_r13_c2","Q21_r13_c3","Q21_r13_c4","Q21_r13_c5","Q21_r13_c6","Q21_r13_c7","Q21_r14_c1","Q21_r14_c2","Q21_r14_c3","Q21_r14_c4","Q21_r14_c5","Q21_r14_c6","Q21_r14_c7","Q21_r15_c1","Q21_r15_c2","Q21_r15_c3","Q21_r15_c4","Q21_r15_c5","Q21_r15_c6","Q21_r15_c7","Q21_r16_c1","Q21_r16_c2","Q21_r16_c3","Q21_r16_c4","Q21_r16_c5","Q21_r16_c6","Q21_r16_c7","Q21_r17_c1","Q21_r17_c2","Q21_r17_c3","Q21_r17_c4","Q21_r17_c5","Q21_r17_c6","Q21_r17_c7","Q21_r18_c1","Q21_r18_c2","Q21_r18_c3","Q21_r18_c4","Q21_r18_c5","Q21_r18_c6","Q21_r18_c7","Q22","Q22a","Q22b","Q23","Q24","Q24a_1","Q24a_2","Q24a_3","Q24a_3_other","Q25","Q25a","Q25b_r1_c1","Q25b_r2_c1","Q25b_r3_c1","Q25b_r1_c2","Q25b_r2_c2","Q25b_r3_c2","Q26","Q26a","Q26b","Q27_1","Q27_2","Q27_3","Q27_4","Q27_5","Q27_6","Q27_7","Q27_8","Q27_9","Q27_10","Q27_11","Q27_11_other","Q28_1","Q28_2","Q28_3","Q28_4","Q28_5","Q28_6","Q28_7","Q28_8","Q28_9","Q28_10","Q28_11","Q28_12","Q28_13","Q28_13_other","Q29","Q29a_1","Q29a_2","Q29a_3","Q29a_4","Q29a_5","Q29a_6","Q29a_7","Q29a_8","Q29a_9","Q29a_9_other","Q29b","Q29c","Q30_r1","Q30_r2","Q30_r3","Q30_r4","Q30_r5","Q30_r6","Q30_r7","Q31_r1","Q31_r2","Q31_r3","Q31_r4","Q31_r5","Q32_r1","Q32_r2","Q32_r3","Q32_r4","Q32_r5","Q32_r6","Q32_r7","Q32_r8","Q32_r9","Q32_r10","Q32_r11","Q32_r12","Q32_r13","Q33","Q34","Q35","Q36","Q37","Q38","Q39_1","Q39_2","Q39_3","Q39_4","Q39_5","Q39_6","Q39_7","Q40","Q41","Q41a_1","Q41a_2","Q41a_3","Q41a_4","Q41a_5","Q41a_5_other","Q42","Q42a","Q43","FF4us_EMAIL","FF4us_PHONE1","sys_StartTime","sys_EndTime","A","sys_InternalRespNum","sys_RespStatus","sys_Browser","sys_OperatingSystem","sys_IPAddress","Q14bConstructed_1","Q14bConstructed_2","Q14bConstructed_3","Q14bConstructed_4","Q14bConstructed_5","Q14bConstructed_6","Q14bConstructed_7","Q14bConstructed_8","Q14bConstructed_9","Q14bConstructed_10","Q14bConstructed_11","Q14bConstructed_12","Q14bConstructed_13","Q14bConstructed_14","Q14bConstructed_15","Q14bConstructed_16","Q14bConstructed_17","Q14bConstructed_18","Q14bConstructed_19","Q14bConstructed_20","Q14bConstructed_21","Q14bConstructed_22","Q14bConstructed_23","Q14bConstructed_24","Q15Constructed_1","Q15Constructed_2","Q15Constructed_3","Q15Constructed_4","Q15Constructed_5","Q15Constructed_6","Q15Constructed_7","Q15Constructed_8","Q15Constructed_9","Q15Constructed_10","Q15Constructed_11","Q15Constructed_12","Q15Constructed_13","Q15Constructed_14","Q15Constructed_15","Q15Constructed_16","Q15Constructed_17","Q15Constructed_18","Q15Constructed_19","Q15Constructed_20","Q15Constructed_21","Q15Constructed_22","Q15Constructed_23","Q15Constructed_24","R1activity_1","R1activity_2","R1activity_3","R1activity_4","R1activity_5","R1activity_6","R1activity_7","R1activity_8","R1activity_9","R1activity_10","R1activity_11","R1activity_12","R1activity_13","R1activity_14","R1activity_15","R1activity_16","R1activity_17","R1activity_18","R1activity_19","R1activity_20","R1activity_21","R1activity_22","R1activity_23","R1activity_24","QR1const_1","QR1const_2","QR1const_3","QR1const_4","QR1const_5","QR1const_6","QR1const_7","QR1const_8","QR1const_9","QR1const_10","QR1const_11","QR1const_12","QR1const_13","QR1const_14","QR1const_15","QR1const_16","QR1const_17","QR1const_18","QR1const_19","QR1const_20","QR1const_21","QR1const_22","QR1const_23","QR1const_24","Q2const_1","Q2const_2","Q2const_3","Q2const_4","Q2const_5","Q2const_6","Q2const_7","Q2const_8","Q2const_9","Q2const_10","Q2const_11","Q2const_12","Q2const_13","Q2const_14","Q2const_15","Q2const_16","Q2const_17","Q2const_18","Q2const_19","Q2const_20","Q2const_21","Q2const_22","Q2const_23","Q2const_24","Q2const_25","Q2const_26","Q2const_27","Q2const_28","Q2otherconst_1","Q2otherconst_2","Q2otherconst_3","Q2otherconst_4","Q2otherconst_5","Q2otherconst_6","Q2otherconst_7","Q2otherconst_8","Q2otherconst_9","Q2otherconst_10","Q2otherconst_11","Q2otherconst_12","Q2otherconst_13","Q2otherconst_14","Q2otherconst_15","Q2otherconst_16","Q2otherconst_17","Q2otherconst_18","Q2otherconst_19","Q2otherconst_20","Q2otherconst_21","Q2otherconst_22","Q2otherconst_23","Q2otherconst_24","Q2otherconst_25","Q2otherconst_26","Q2otherconst_27","Q2otherconst_28","Q3newConst_1","Q3newConst_2","Q3newConst_3","Q3newConst_4","Q3newConst_5","Q3newConst_6","Q3newConst_7","Q3newConst_8","Q3newConst_9","Q3newConst_10","Q3newConst_11","Q3newConst_12","Q3newConst_13","Q3newConst_14","Q3newConst_15","Q3newConst_16","Q3newConst_17","Q3newConst_18"]
["Unknown-Do not use a respondent ID non-unique","Online password","Mail (1)/ Online (2)","Unique ID","Lives in SA (Zip)","Unknown  ","Snowmachined Ever in Alaska","McDowell Snowmachined in 2013","NEI Snowmachined 2013 Recoded","Snow Days in SA","Total Days Snowmachinging 2013","Snowmachine Location 1","Snowmachine Location 2","Snowmachine Location 3","Snowmachine Location 4","Snowmachine Location 5","Snowmachine Location 6","Snowmachine Location 7","Snowmachine Location 8","Snowmachine Location 9","Snowmachine Location 10","Snowmachine Access 1","Snowmachine Access 2","Snowmachine Access 3","Snowmachine Access 4","Snowmachine Access 5","Snowmachine Access 6","Snowmachine Access 7","Snowmachine Access 8","Snowmachine Access 9","Snowmachine Access 10","Concatenated Location 1","Concatenated Location 2","Concatenated Location 3","Concatenated Location 4","Concatenated Location 5","Concatenated Location 6","Concatenated Location 7","Concatenated Location 8","Concatenated Location 9","Concatenated Location 10","Recoded Location 1","Recoded Location 2","Recoded Location 3","Recoded Location 4","Recoded Location 5","Recoded Location 6","Recoded Location 7","Recoded Location 8","Recoded Location 9","Recoded Location 10","Location Days 1","Location Days 2","Location Days 3","Location Days 4","Location Days 5","Location Days 6","Location Days 7","Location Days 8","Location Days 9","Location Days 10","Location 1 Activity on 1/1","Location 1 Activity on 1/2","Location 1 Activity on 1/3","Location 1 Activity on 1/4","Location 1 Activity on 1/5","Location 1 Activity on 1/6","Location 1 Activity on 1/7","Location 1 Activity on 1/8","Location 1 Activity on 1/9","Location 1 Activity on 1/10","Location 1 Activity on 1/11","Location 1 Activity on 1/12","Location 1 Activity on 1/13","Location 1 Activity on 1/14","Location 1 Activity on 1/15","Location 1 Activity on 1/16","Location 1 Activity on 1/17","Location 1 Activity on 1/18","Location 1 Activity on 1/19","Location 1 Activity on 1/20","Location 1 Activity on 1/21","Location 1 Activity on 1/22","Location 1 Activity on 1/23","Location 1 Activity on 1/24","Location 1 Activity on 1/25","Location 1 Activity on 1/26","Location 1 Activity on 1/27","Location 1 Activity on 1/28","Location 1 Activity on 1/29","Location 1 Activity on 1/30","Location 1 Activity on 1/31","Location 1 Activity on 2/1","Location 1 Activity on 2/2","Location 1 Activity on 2/3","Location 1 Activity on 2/4","Location 1 Activity on 2/5","Location 1 Activity on 2/6","Location 1 Activity on 2/7","Location 1 Activity on 2/8","Location 1 Activity on 2/9","Location 1 Activity on 2/10","Location 1 Activity on 2/11","Location 1 Activity on 2/12","Location 1 Activity on 2/13","Location 1 Activity on 2/14","Location 1 Activity on 2/15","Location 1 Activity on 2/16","Location 1 Activity on 2/17","Location 1 Activity on 2/18","Location 1 Activity on 2/19","Location 1 Activity on 2/20","Location 1 Activity on 2/21","Location 1 Activity on 2/22","Location 1 Activity on 2/23","Location 1 Activity on 2/24","Location 1 Activity on 2/25","Location 1 Activity on 2/26","Location 1 Activity on 2/27","Location 1 Activity on 2/28","Location 1 Activity on 3/1","Location 1 Activity on 3/2","Location 1 Activity on 3/3","Location 1 Activity on 3/4","Location 1 Activity on 3/5","Location 1 Activity on 3/6","Location 1 Activity on 3/7","Location 1 Activity on 3/8","Location 1 Activity on 3/9","Location 1 Activity on 3/10","Location 1 Activity on 3/11","Location 1 Activity on 3/12","Location 1 Activity on 3/13","Location 1 Activity on 3/14","Location 1 Activity on 3/15","Location 1 Activity on 3/16","Location 1 Activity on 3/17","Location 1 Activity on 3/18","Location 1 Activity on 3/19","Location 1 Activity on 3/20","Location 1 Activity on 3/21","Location 1 Activity on 3/22","Location 1 Activity on 3/23","Location 1 Activity on 3/24","Location 1 Activity on 3/25","Location 1 Activity on 3/26","Location 1 Activity on 3/27","Location 1 Activity on 3/28","Location 1 Activity on 3/29","Location 1 Activity on 3/30","Location 1 Activity on 3/31","Location 1 Activity on 4/1","Location 1 Activity on 4/2","Location 1 Activity on 4/3","Location 1 Activity on 4/4","Location 1 Activity on 4/5","Location 1 Activity on 4/6","Location 1 Activity on 4/7","Location 1 Activity on 4/8","Location 1 Activity on 4/9","Location 1 Activity on 4/10","Location 1 Activity on 4/11","Location 1 Activity on 4/12","Location 1 Activity on 4/13","Location 1 Activity on 4/14","Location 1 Activity on 4/15","Location 1 Activity on 4/16","Location 1 Activity on 4/17","Location 1 Activity on 4/18","Location 1 Activity on 4/19","Location 1 Activity on 4/20","Location 1 Activity on 4/21","Location 1 Activity on 4/22","Location 1 Activity on 4/23","Location 1 Activity on 4/24","Location 1 Activity on 4/25","Location 1 Activity on 4/26","Location 1 Activity on 4/27","Location 1 Activity on 4/28","Location 1 Activity on 4/29","Location 1 Activity on 4/30",{"$error":"#N/A"},{"$error":"#N/A"},{"$error":"#N/A"},{"$error":"#N/A"},{"$error":"#N/A"},{"$error":"#N/A"},{"$error":"#N/A"},{"$error":"#N/A"},{"$error":"#N/A"},{"$error":"#N/A"},{"$error":"#N/A"},{"$error":"#N/A"},{"$error":"#N/A"},{"$error":"#N/A"},{"$error":"#N/A"},{"$error":"#N/A"},{"$error":"#N/A"},{"$error":"#N/A"},{"$error":"#N/A"},{"$error":"#N/A"},{"$error":"#N/A"},{"$error":"#N/A"},{"$error":"#N/A"},{"$error":"#N/A"},{"$error":"#N/A"},{"$error":"#N/A"},{"$error":"#N/A"},{"$error":"#N/A"},{"$error":"#N/A"},{"$error":"#N/A"},{"$error":"#N/A"},{"$error":"#N/A"},{"$error":"#N/A"},{"$error":"#N/A"},{"$error":"#N/A"},{"$error":"#N/A"},{"$error":"#N/A"},{"$error":"#N/A"},{"$error":"#N/A"},{"$error":"#N/A"},{"$error":"#N/A"},{"$error":"#N/A"},{"$error":"#N/A"},{"$error":"#N/A"},{"$error":"#N/A"},{"$error":"#N/A"},{"$error":"#N/A"},{"$error":"#N/A"},{"$error":"#N/A"},{"$error":"#N/A"},{"$error":"#N/A"},{"$error":"#N/A"},{"$error":"#N/A"},{"$error":"#N/A"},{"$error":"#N/A"},{"$error":"#N/A"},{"$error":"#N/A"},{"$error":"#N/A"},{"$error":"#N/A"},{"$error":"#N/A"},{"$error":"#N/A"},{"$error":"#N/A"},{"$error":"#N/A"},{"$error":"#N/A"},"Location 2 Activity on 1/1","Location 2 Activity on 1/2","Location 2 Activity on 1/3","Location 2 Activity on 1/4","Location 2 Activity on 1/5","Location 2 Activity on 1/6","Location 2 Activity on 1/7","Location 2 Activity on 1/8","Location 2 Activity on 1/9","Location 2 Activity on 1/10","Location 2 Activity on 1/11","Location 2 Activity on 1/12","Location 2 Activity on 1/13","Location 2 Activity on 1/14","Location 2 Activity on 1/15","Location 2 Activity on 1/16","Location 2 Activity on 1/17","Location 2 Activity on 1/18","Location 2 Activity on 1/19","Location 2 Activity on 1/20","Location 2 Activity on 1/21","Location 2 Activity on 1/22","Location 2 Activity on 1/23","Location 2 Activity on 1/24","Location 2 Activity on 1/25","Location 2 Activity on 1/26","Location 2 Activity on 1/27","Location 2 Activity on 1/28","Location 2 Activity on 1/29","Location 2 Activity on 1/30","Location 2 Activity on 1/31","Location 2 Activity on 2/1","Location 2 Activity on 2/2","Location 2 Activity on 2/3","Location 2 Activity on 2/4","Location 2 Activity on 2/5","Location 2 Activity on 2/6","Location 2 Activity on 2/7","Location 2 Activity on 2/8","Location 2 Activity on 2/9","Location 2 Activity on 2/10","Location 2 Activity on 2/11","Location 2 Activity on 2/12","Location 2 Activity on 2/13","Location 2 Activity on 2/14","Location 2 Activity on 2/15","Location 2 Activity on 2/16","Location 2 Activity on 2/17","Location 2 Activity on 2/18","Location 2 Activity on 2/19","Location 2 Activity on 2/20","Location 2 Activity on 2/21","Location 2 Activity on 2/22","Location 2 Activity on 2/23","Location 2 Activity on 2/24","Location 2 Activity on 2/25","Location 2 Activity on 2/26","Location 2 Activity on 2/27","Location 2 Activity on 2/28","Location 2 Activity on 3/1","Location 2 Activity on 3/2","Location 2 Activity on 3/3","Location 2 Activity on 3/4","Location 2 Activity on 3/5","Location 2 Activity on 3/6","Location 2 Activity on 3/7","Location 2 Activity on 3/8","Location 2 Activity on 3/9","Location 2 Activity on 3/10","Location 2 Activity on 3/11","Location 2 Activity on 3/12","Location 2 Activity on 3/13","Location 2 Activity on 3/14","Location 2 Activity on 3/15","Location 2 Activity on 3/16","Location 2 Activity on 3/17","Location 2 Activity on 3/18","Location 2 Activity on 3/19","Location 2 Activity on 3/20","Location 2 Activity on 3/21","Location 2 Activity on 3/22","Location 2 Activity on 3/23","Location 2 Activity on 3/24","Location 2 Activity on 3/25","Location 2 Activity on 3/26","Location 2 Activity on 3/27","Location 2 Activity on 3/28","Location 2 Activity on 3/29","Location 2 Activity on 3/30","Location 2 Activity on 3/31","Location 2 Activity on 4/1","Location 2 Activity on 4/2","Location 2 Activity on 4/3","Location 2 Activity on 4/4","Location 2 Activity on 4/5","Location 2 Activity on 4/6","Location 2 Activity on 4/7","Location 2 Activity on 4/8","Location 2 Activity on 4/9","Location 2 Activity on 4/10","Location 2 Activity on 4/11","Location 2 Activity on 4/12","Location 2 Activity on 4/13","Location 2 Activity on 4/14","Location 2 Activity on 4/15","Location 2 Activity on 4/16","Location 2 Activity on 4/17","Location 2 Activity on 4/18","Location 2 Activity on 4/19","Location 2 Activity on 4/20","Location 2 Activity on 4/21","Location 2 Activity on 4/22","Location 2 Activity on 4/23","Location 2 Activity on 4/24","Location 2 Activity on 4/25","Location 2 Activity on 4/26","Location 2 Activity on 4/27","Location 2 Activity on 4/28","Location 2 Activity on 4/29","Location 2 Activity on 4/30",{"$error":"#N/A"},{"$error":"#N/A"},{"$error":"#N/A"},{"$error":"#N/A"},{"$error":"#N/A"},{"$error":"#N/A"},{"$error":"#N/A"},{"$error":"#N/A"},{"$error":"#N/A"},{"$error":"#N/A"},{"$error":"#N/A"},{"$error":"#N/A"},{"$error":"#N/A"},{"$error":"#N/A"},{"$error":"#N/A"},{"$error":"#N/A"},{"$error":"#N/A"},{"$error":"#N/A"},{"$error":"#N/A"},{"$error":"#N/A"},{"$error":"#N/A"},{"$error":"#N/A"},{"$error":"#N/A"},{"$error":"#N/A"},{"$error":"#N/A"},{"$error":"#N/A"},{"$error":"#N/A"},{"$error":"#N/A"},{"$error":"#N/A"},{"$error":"#N/A"},{"$error":"#N/A"},{"$error":"#N/A"},{"$error":"#N/A"},{"$error":"#N/A"},{"$error":"#N/A"},{"$error":"#N/A"},{"$error":"#N/A"},{"$error":"#N/A"},{"$error":"#N/A"},{"$error":"#N/A"},{"$error":"#N/A"},{"$error":"#N/A"},{"$error":"#N/A"},{"$error":"#N/A"},{"$error":"#N/A"},{"$error":"#N/A"},{"$error":"#N/A"},{"$error":"#N/A"},{"$error":"#N/A"},{"$error":"#N/A"},{"$error":"#N/A"},{"$error":"#N/A"},{"$error":"#N/A"},{"$error":"#N/A"},{"$error":"#N/A"},{"$error":"#N/A"},{"$error":"#N/A"},{"$error":"#N/A"},{"$error":"#N/A"},{"$error":"#N/A"},{"$error":"#N/A"},{"$error":"#N/A"},{"$error":"#N/A"},{"$error":"#N/A"},"Location 3 Activity on 1/1","Location 3 Activity on 1/2","Location 3 Activity on 1/3","Location 3 Activity on 1/4","Location 3 Activity on 1/5","Location 3 Activity on 1/6","Location 3 Activity on 1/7","Location 3 Activity on 1/8","Location 3 Activity on 1/9","Location 3 Activity on 1/10","Location 3 Activity on 1/11","Location 3 Activity on 1/12","Location 3 Activity on 1/13","Location 3 Activity on 1/14","Location 3 Activity on 1/15","Location 3 Activity on 1/16","Location 3 Activity on 1/17","Location 3 Activity on 1/18","Location 3 Activity on 1/19","Location 3 Activity on 1/20","Location 3 Activity on 1/21","Location 3 Activity on 1/22","Location 3 Activity on 1/23","Location 3 Activity on 1/24","Location 3 Activity on 1/25","Location 3 Activity on 1/26","Location 3 Activity on 1/27","Location 3 Activity on 1/28","Location 3 Activity on 1/29","Location 3 Activity on 1/30","Location 3 Activity on 1/31","Location 3 Activity on 2/1","Location 3 Activity on 2/2","Location 3 Activity on 2/3","Location 3 Activity on 2/4","Location 3 Activity on 2/5","Location 3 Activity on 2/6","Location 3 Activity on 2/7","Location 3 Activity on 2/8","Location 3 Activity on 2/9","Location 3 Activity on 2/10","Location 3 Activity on 2/11","Location 3 Activity on 2/12","Location 3 Activity on 2/13","Location 3 Activity on 2/14","Location 3 Activity on 2/15","Location 3 Activity on 2/16","Location 3 Activity on 2/17","Location 3 Activity on 2/18","Location 3 Activity on 2/19","Location 3 Activity on 2/20","Location 3 Activity on 2/21","Location 3 Activity on 2/22","Location 3 Activity on 2/23","Location 3 Activity on 2/24","Location 3 Activity on 2/25","Location 3 Activity on 2/26","Location 3 Activity on 2/27","Location 3 Activity on 2/28","Location 3 Activity on 3/1","Location 3 Activity on 3/2","Location 3 Activity on 3/3","Location 3 Activity on 3/4","Location 3 Activity on 3/5","Location 3 Activity on 3/6","Location 3 Activity on 3/7","Location 3 Activity on 3/8","Location 3 Activity on 3/9","Location 3 Activity on 3/10","Location 3 Activity on 3/11","Location 3 Activity on 3/12","Location 3 Activity on 3/13","Location 3 Activity on 3/14","Location 3 Activity on 3/15","Location 3 Activity on 3/16","Location 3 Activity on 3/17","Location 3 Activity on 3/18","Location 3 Activity on 3/19","Location 3 Activity on 3/20","Location 3 Activity on 3/21","Location 3 Activity on 3/22","Location 3 Activity on 3/23","Location 3 Activity on 3/24","Location 3 Activity on 3/25","Location 3 Activity on 3/26","Location 3 Activity on 3/27","Location 3 Activity on 3/28","Location 3 Activity on 3/29","Location 3 Activity on 3/30","Location 3 Activity on 3/31","Location 3 Activity on 4/1","Location 3 Activity on 4/2","Location 3 Activity on 4/3","Location 3 Activity on 4/4","Location 3 Activity on 4/5","Location 3 Activity on 4/6","Location 3 Activity on 4/7","Location 3 Activity on 4/8","Location 3 Activity on 4/9","Location 3 Activity on 4/10","Location 3 Activity on 4/11","Location 3 Activity on 4/12","Location 3 Activity on 4/13","Location 3 Activity on 4/14","Location 3 Activity on 4/15","Location 3 Activity on 4/16","Location 3 Activity on 4/17","Location 3 Activity on 4/18","Location 3 Activity on 4/19","Location 3 Activity on 4/20","Location 3 Activity on 4/21","Location 3 Activity on 4/22","Location 3 Activity on 4/23","Location 3 Activity on 4/24","Location 3 Activity on 4/25","Location 3 Activity on 4/26","Location 3 Activity on 4/27","Location 3 Activity on 4/28","Location 3 Activity on 4/29","Location 3 Activity on 4/30",{"$error":"#N/A"},{"$error":"#N/A"},{"$error":"#N/A"},{"$error":"#N/A"},{"$error":"#N/A"},{"$error":"#N/A"},{"$error":"#N/A"},{"$error":"#N/A"},{"$error":"#N/A"},{"$error":"#N/A"},{"$error":"#N/A"},{"$error":"#N/A"},{"$error":"#N/A"},{"$error":"#N/A"},{"$error":"#N/A"},{"$error":"#N/A"},{"$error":"#N/A"},{"$error":"#N/A"},{"$error":"#N/A"},{"$error":"#N/A"},{"$error":"#N/A"},{"$error":"#N/A"},{"$error":"#N/A"},{"$error":"#N/A"},{"$error":"#N/A"},{"$error":"#N/A"},{"$error":"#N/A"},{"$error":"#N/A"},{"$error":"#N/A"},{"$error":"#N/A"},{"$error":"#N/A"},{"$error":"#N/A"},{"$error":"#N/A"},{"$error":"#N/A"},{"$error":"#N/A"},{"$error":"#N/A"},{"$error":"#N/A"},{"$error":"#N/A"},{"$error":"#N/A"},{"$error":"#N/A"},{"$error":"#N/A"},{"$error":"#N/A"},{"$error":"#N/A"},{"$error":"#N/A"},{"$error":"#N/A"},{"$error":"#N/A"},{"$error":"#N/A"},{"$error":"#N/A"},{"$error":"#N/A"},{"$error":"#N/A"},{"$error":"#N/A"},{"$error":"#N/A"},{"$error":"#N/A"},{"$error":"#N/A"},{"$error":"#N/A"},{"$error":"#N/A"},{"$error":"#N/A"},{"$error":"#N/A"},{"$error":"#N/A"},{"$error":"#N/A"},{"$error":"#N/A"},{"$error":"#N/A"},{"$error":"#N/A"},{"$error":"#N/A"},"Location 4 Activity on 1/1","Location 4 Activity on 1/2","Location 4 Activity on 1/3","Location 4 Activity on 1/4","Location 4 Activity on 1/5","Location 4 Activity on 1/6","Location 4 Activity on 1/7","Location 4 Activity on 1/8","Location 4 Activity on 1/9","Location 4 Activity on 1/10","Location 4 Activity on 1/11","Location 4 Activity on 1/12","Location 4 Activity on 1/13","Location 4 Activity on 1/14","Location 4 Activity on 1/15","Location 4 Activity on 1/16","Location 4 Activity on 1/17","Location 4 Activity on 1/18","Location 4 Activity on 1/19","Location 4 Activity on 1/20","Location 4 Activity on 1/21","Location 4 Activity on 1/22","Location 4 Activity on 1/23","Location 4 Activity on 1/24","Location 4 Activity on 1/25","Location 4 Activity on 1/26","Location 4 Activity on 1/27","Location 4 Activity on 1/28","Location 4 Activity on 1/29","Location 4 Activity on 1/30","Location 4 Activity on 1/31","Location 4 Activity on 2/1","Location 4 Activity on 2/2","Location 4 Activity on 2/3","Location 4 Activity on 2/4","Location 4 Activity on 2/5","Location 4 Activity on 2/6","Location 4 Activity on 2/7","Location 4 Activity on 2/8","Location 4 Activity on 2/9","Location 4 Activity on 2/10","Location 4 Activity on 2/11","Location 4 Activity on 2/12","Location 4 Activity on 2/13","Location 4 Activity on 2/14","Location 4 Activity on 2/15","Location 4 Activity on 2/16","Location 4 Activity on 2/17","Location 4 Activity on 2/18","Location 4 Activity on 2/19","Location 4 Activity on 2/20","Location 4 Activity on 2/21","Location 4 Activity on 2/22","Location 4 Activity on 2/23","Location 4 Activity on 2/24","Location 4 Activity on 2/25","Location 4 Activity on 2/26","Location 4 Activity on 2/27","Location 4 Activity on 2/28","Location 4 Activity on 3/1","Location 4 Activity on 3/2","Location 4 Activity on 3/3","Location 4 Activity on 3/4","Location 4 Activity on 3/5","Location 4 Activity on 3/6","Location 4 Activity on 3/7","Location 4 Activity on 3/8","Location 4 Activity on 3/9","Location 4 Activity on 3/10","Location 4 Activity on 3/11","Location 4 Activity on 3/12","Location 4 Activity on 3/13","Location 4 Activity on 3/14","Location 4 Activity on 3/15","Location 4 Activity on 3/16","Location 4 Activity on 3/17","Location 4 Activity on 3/18","Location 4 Activity on 3/19","Location 4 Activity on 3/20","Location 4 Activity on 3/21","Location 4 Activity on 3/22","Location 4 Activity on 3/23","Location 4 Activity on 3/24","Location 4 Activity on 3/25","Location 4 Activity on 3/26","Location 4 Activity on 3/27","Location 4 Activity on 3/28","Location 4 Activity on 3/29","Location 4 Activity on 3/30","Location 4 Activity on 3/31","Location 4 Activity on 4/1","Location 4 Activity on 4/2","Location 4 Activity on 4/3","Location 4 Activity on 4/4","Location 4 Activity on 4/5","Location 4 Activity on 4/6","Location 4 Activity on 4/7","Location 4 Activity on 4/8","Location 4 Activity on 4/9","Location 4 Activity on 4/10","Location 4 Activity on 4/11","Location 4 Activity on 4/12","Location 4 Activity on 4/13","Location 4 Activity on 4/14","Location 4 Activity on 4/15","Location 4 Activity on 4/16","Location 4 Activity on 4/17","Location 4 Activity on 4/18","Location 4 Activity on 4/19","Location 4 Activity on 4/20","Location 4 Activity on 4/21","Location 4 Activity on 4/22","Location 4 Activity on 4/23","Location 4 Activity on 4/24","Location 4 Activity on 4/25","Location 4 Activity on 4/26","Location 4 Activity on 4/27","Location 4 Activity on 4/28","Location 4 Activity on 4/29","Location 4 Activity on 4/30",{"$error":"#N/A"},{"$error":"#N/A"},{"$error":"#N/A"},{"$error":"#N/A"},{"$error":"#N/A"},{"$error":"#N/A"},{"$error":"#N/A"},{"$error":"#N/A"},{"$error":"#N/A"},{"$error":"#N/A"},{"$error":"#N/A"},{"$error":"#N/A"},{"$error":"#N/A"},{"$error":"#N/A"},{"$error":"#N/A"},{"$error":"#N/A"},{"$error":"#N/A"},{"$error":"#N/A"},{"$error":"#N/A"},{"$error":"#N/A"},{"$error":"#N/A"},{"$error":"#N/A"},{"$error":"#N/A"},{"$error":"#N/A"},{"$error":"#N/A"},{"$error":"#N/A"},{"$error":"#N/A"},{"$error":"#N/A"},{"$error":"#N/A"},{"$error":"#N/A"},{"$error":"#N/A"},{"$error":"#N/A"},{"$error":"#N/A"},{"$error":"#N/A"},{"$error":"#N/A"},{"$error":"#N/A"},{"$error":"#N/A"},{"$error":"#N/A"},{"$error":"#N/A"},{"$error":"#N/A"},{"$error":"#N/A"},{"$error":"#N/A"},{"$error":"#N/A"},{"$error":"#N/A"},{"$error":"#N/A"},{"$error":"#N/A"},{"$error":"#N/A"},{"$error":"#N/A"},{"$error":"#N/A"},{"$error":"#N/A"},{"$error":"#N/A"},{"$error":"#N/A"},{"$error":"#N/A"},{"$error":"#N/A"},{"$error":"#N/A"},{"$error":"#N/A"},{"$error":"#N/A"},{"$error":"#N/A"},{"$error":"#N/A"},{"$error":"#N/A"},{"$error":"#N/A"},{"$error":"#N/A"},{"$error":"#N/A"},{"$error":"#N/A"},"Location 5 Activity on 1/1","Location 5 Activity on 1/2","Location 5 Activity on 1/3","Location 5 Activity on 1/4","Location 5 Activity on 1/5","Location 5 Activity on 1/6","Location 5 Activity on 1/7","Location 5 Activity on 1/8","Location 5 Activity on 1/9","Location 5 Activity on 1/10","Location 5 Activity on 1/11","Location 5 Activity on 1/12","Location 5 Activity on 1/13","Location 5 Activity on 1/14","Location 5 Activity on 1/15","Location 5 Activity on 1/16","Location 5 Activity on 1/17","Location 5 Activity on 1/18","Location 5 Activity on 1/19","Location 5 Activity on 1/20","Location 5 Activity on 1/21","Location 5 Activity on 1/22","Location 5 Activity on 1/23","Location 5 Activity on 1/24","Location 5 Activity on 1/25","Location 5 Activity on 1/26","Location 5 Activity on 1/27","Location 5 Activity on 1/28","Location 5 Activity on 1/29","Location 5 Activity on 1/30","Location 5 Activity on 1/31","Location 5 Activity on 2/1","Location 5 Activity on 2/2","Location 5 Activity on 2/3","Location 5 Activity on 2/4","Location 5 Activity on 2/5","Location 5 Activity on 2/6","Location 5 Activity on 2/7","Location 5 Activity on 2/8","Location 5 Activity on 2/9","Location 5 Activity on 2/10","Location 5 Activity on 2/11","Location 5 Activity on 2/12","Location 5 Activity on 2/13","Location 5 Activity on 2/14","Location 5 Activity on 2/15","Location 5 Activity on 2/16","Location 5 Activity on 2/17","Location 5 Activity on 2/18","Location 5 Activity on 2/19","Location 5 Activity on 2/20","Location 5 Activity on 2/21","Location 5 Activity on 2/22","Location 5 Activity on 2/23","Location 5 Activity on 2/24","Location 5 Activity on 2/25","Location 5 Activity on 2/26","Location 5 Activity on 2/27","Location 5 Activity on 2/28","Location 5 Activity on 3/1","Location 5 Activity on 3/2","Location 5 Activity on 3/3","Location 5 Activity on 3/4","Location 5 Activity on 3/5","Location 5 Activity on 3/6","Location 5 Activity on 3/7","Location 5 Activity on 3/8","Location 5 Activity on 3/9","Location 5 Activity on 3/10","Location 5 Activity on 3/11","Location 5 Activity on 3/12","Location 5 Activity on 3/13","Location 5 Activity on 3/14","Location 5 Activity on 3/15","Location 5 Activity on 3/16","Location 5 Activity on 3/17","Location 5 Activity on 3/18","Location 5 Activity on 3/19","Location 5 Activity on 3/20","Location 5 Activity on 3/21","Location 5 Activity on 3/22","Location 5 Activity on 3/23","Location 5 Activity on 3/24","Location 5 Activity on 3/25","Location 5 Activity on 3/26","Location 5 Activity on 3/27","Location 5 Activity on 3/28","Location 5 Activity on 3/29","Location 5 Activity on 3/30","Location 5 Activity on 3/31","Location 5 Activity on 4/1","Location 5 Activity on 4/2","Location 5 Activity on 4/3","Location 5 Activity on 4/4","Location 5 Activity on 4/5","Location 5 Activity on 4/6","Location 5 Activity on 4/7","Location 5 Activity on 4/8","Location 5 Activity on 4/9","Location 5 Activity on 4/10","Location 5 Activity on 4/11","Location 5 Activity on 4/12","Location 5 Activity on 4/13","Location 5 Activity on 4/14","Location 5 Activity on 4/15","Location 5 Activity on 4/16","Location 5 Activity on 4/17","Location 5 Activity on 4/18","Location 5 Activity on 4/19","Location 5 Activity on 4/20","Location 5 Activity on 4/21","Location 5 Activity on 4/22","Location 5 Activity on 4/23","Location 5 Activity on 4/24","Location 5 Activity on 4/25","Location 5 Activity on 4/26","Location 5 Activity on 4/27","Location 5 Activity on 4/28","Location 5 Activity on 4/29","Location 5 Activity on 4/30",{"$error":"#N/A"},{"$error":"#N/A"},{"$error":"#N/A"},{"$error":"#N/A"},{"$error":"#N/A"},{"$error":"#N/A"},{"$error":"#N/A"},{"$error":"#N/A"},{"$error":"#N/A"},{"$error":"#N/A"},{"$error":"#N/A"},{"$error":"#N/A"},{"$error":"#N/A"},{"$error":"#N/A"},{"$error":"#N/A"},{"$error":"#N/A"},{"$error":"#N/A"},{"$error":"#N/A"},{"$error":"#N/A"},{"$error":"#N/A"},{"$error":"#N/A"},{"$error":"#N/A"},{"$error":"#N/A"},{"$error":"#N/A"},{"$error":"#N/A"},{"$error":"#N/A"},{"$error":"#N/A"},{"$error":"#N/A"},{"$error":"#N/A"},{"$error":"#N/A"},{"$error":"#N/A"},{"$error":"#N/A"},{"$error":"#N/A"},{"$error":"#N/A"},{"$error":"#N/A"},{"$error":"#N/A"},{"$error":"#N/A"},{"$error":"#N/A"},{"$error":"#N/A"},{"$error":"#N/A"},{"$error":"#N/A"},{"$error":"#N/A"},{"$error":"#N/A"},{"$error":"#N/A"},{"$error":"#N/A"},{"$error":"#N/A"},{"$error":"#N/A"},{"$error":"#N/A"},{"$error":"#N/A"},{"$error":"#N/A"},{"$error":"#N/A"},{"$error":"#N/A"},{"$error":"#N/A"},{"$error":"#N/A"},{"$error":"#N/A"},{"$error":"#N/A"},{"$error":"#N/A"},{"$error":"#N/A"},{"$error":"#N/A"},{"$error":"#N/A"},{"$error":"#N/A"},{"$error":"#N/A"},{"$error":"#N/A"},{"$error":"#N/A"},"Location 6 Activity on 1/1","Location 6 Activity on 1/2","Location 6 Activity on 1/3","Location 6 Activity on 1/4","Location 6 Activity on 1/5","Location 6 Activity on 1/6","Location 6 Activity on 1/7","Location 6 Activity on 1/8","Location 6 Activity on 1/9","Location 6 Activity on 1/10","Location 6 Activity on 1/11","Location 6 Activity on 1/12","Location 6 Activity on 1/13","Location 6 Activity on 1/14","Location 6 Activity on 1/15","Location 6 Activity on 1/16","Location 6 Activity on 1/17","Location 6 Activity on 1/18","Location 6 Activity on 1/19","Location 6 Activity on 1/20","Location 6 Activity on 1/21","Location 6 Activity on 1/22","Location 6 Activity on 1/23","Location 6 Activity on 1/24","Location 6 Activity on 1/25","Location 6 Activity on 1/26","Location 6 Activity on 1/27","Location 6 Activity on 1/28","Location 6 Activity on 1/29","Location 6 Activity on 1/30","Location 6 Activity on 1/31","Location 6 Activity on 2/1","Location 6 Activity on 2/2","Location 6 Activity on 2/3","Location 6 Activity on 2/4","Location 6 Activity on 2/5","Location 6 Activity on 2/6","Location 6 Activity on 2/7","Location 6 Activity on 2/8","Location 6 Activity on 2/9","Location 6 Activity on 2/10","Location 6 Activity on 2/11","Location 6 Activity on 2/12","Location 6 Activity on 2/13","Location 6 Activity on 2/14","Location 6 Activity on 2/15","Location 6 Activity on 2/16","Location 6 Activity on 2/17","Location 6 Activity on 2/18","Location 6 Activity on 2/19","Location 6 Activity on 2/20","Location 6 Activity on 2/21","Location 6 Activity on 2/22","Location 6 Activity on 2/23","Location 6 Activity on 2/24","Location 6 Activity on 2/25","Location 6 Activity on 2/26","Location 6 Activity on 2/27","Location 6 Activity on 2/28","Location 6 Activity on 3/1","Location 6 Activity on 3/2","Location 6 Activity on 3/3","Location 6 Activity on 3/4","Location 6 Activity on 3/5","Location 6 Activity on 3/6","Location 6 Activity on 3/7","Location 6 Activity on 3/8","Location 6 Activity on 3/9","Location 6 Activity on 3/10","Location 6 Activity on 3/11","Location 6 Activity on 3/12","Location 6 Activity on 3/13","Location 6 Activity on 3/14","Location 6 Activity on 3/15","Location 6 Activity on 3/16","Location 6 Activity on 3/17","Location 6 Activity on 3/18","Location 6 Activity on 3/19","Location 6 Activity on 3/20","Location 6 Activity on 3/21","Location 6 Activity on 3/22","Location 6 Activity on 3/23","Location 6 Activity on 3/24","Location 6 Activity on 3/25","Location 6 Activity on 3/26","Location 6 Activity on 3/27","Location 6 Activity on 3/28","Location 6 Activity on 3/29","Location 6 Activity on 3/30","Location 6 Activity on 3/31","Location 6 Activity on 4/1","Location 6 Activity on 4/2","Location 6 Activity on 4/3","Location 6 Activity on 4/4","Location 6 Activity on 4/5","Location 6 Activity on 4/6","Location 6 Activity on 4/7","Location 6 Activity on 4/8","Location 6 Activity on 4/9","Location 6 Activity on 4/10","Location 6 Activity on 4/11","Location 6 Activity on 4/12","Location 6 Activity on 4/13","Location 6 Activity on 4/14","Location 6 Activity on 4/15","Location 6 Activity on 4/16","Location 6 Activity on 4/17","Location 6 Activity on 4/18","Location 6 Activity on 4/19","Location 6 Activity on 4/20","Location 6 Activity on 4/21","Location 6 Activity on 4/22","Location 6 Activity on 4/23","Location 6 Activity on 4/24","Location 6 Activity on 4/25","Location 6 Activity on 4/26","Location 6 Activity on 4/27","Location 6 Activity on 4/28","Location 6 Activity on 4/29","Location 6 Activity on 4/30",{"$error":"#N/A"},{"$error":"#N/A"},{"$error":"#N/A"},{"$error":"#N/A"},{"$error":"#N/A"},{"$error":"#N/A"},{"$error":"#N/A"},{"$error":"#N/A"},{"$error":"#N/A"},{"$error":"#N/A"},{"$error":"#N/A"},{"$error":"#N/A"},{"$error":"#N/A"},{"$error":"#N/A"},{"$error":"#N/A"},{"$error":"#N/A"},{"$error":"#N/A"},{"$error":"#N/A"},{"$error":"#N/A"},{"$error":"#N/A"},{"$error":"#N/A"},{"$error":"#N/A"},{"$error":"#N/A"},{"$error":"#N/A"},{"$error":"#N/A"},{"$error":"#N/A"},{"$error":"#N/A"},{"$error":"#N/A"},{"$error":"#N/A"},{"$error":"#N/A"},{"$error":"#N/A"},{"$error":"#N/A"},{"$error":"#N/A"},{"$error":"#N/A"},{"$error":"#N/A"},{"$error":"#N/A"},{"$error":"#N/A"},{"$error":"#N/A"},{"$error":"#N/A"},{"$error":"#N/A"},{"$error":"#N/A"},{"$error":"#N/A"},{"$error":"#N/A"},{"$error":"#N/A"},{"$error":"#N/A"},{"$error":"#N/A"},{"$error":"#N/A"},{"$error":"#N/A"},{"$error":"#N/A"},{"$error":"#N/A"},{"$error":"#N/A"},{"$error":"#N/A"},{"$error":"#N/A"},{"$error":"#N/A"},{"$error":"#N/A"},{"$error":"#N/A"},{"$error":"#N/A"},{"$error":"#N/A"},{"$error":"#N/A"},{"$error":"#N/A"},{"$error":"#N/A"},{"$error":"#N/A"},{"$error":"#N/A"},{"$error":"#N/A"},"Location 7 Activity on 1/1","Location 7 Activity on 1/2","Location 7 Activity on 1/3","Location 7 Activity on 1/4","Location 7 Activity on 1/5","Location 7 Activity on 1/6","Location 7 Activity on 1/7","Location 7 Activity on 1/8","Location 7 Activity on 1/9","Location 7 Activity on 1/10","Location 7 Activity on 1/11","Location 7 Activity on 1/12","Location 7 Activity on 1/13","Location 7 Activity on 1/14","Location 7 Activity on 1/15","Location 7 Activity on 1/16","Location 7 Activity on 1/17","Location 7 Activity on 1/18","Location 7 Activity on 1/19","Location 7 Activity on 1/20","Location 7 Activity on 1/21","Location 7 Activity on 1/22","Location 7 Activity on 1/23","Location 7 Activity on 1/24","Location 7 Activity on 1/25","Location 7 Activity on 1/26","Location 7 Activity on 1/27","Location 7 Activity on 1/28","Location 7 Activity on 1/29","Location 7 Activity on 1/30","Location 7 Activity on 1/31","Location 7 Activity on 2/1","Location 7 Activity on 2/2","Location 7 Activity on 2/3","Location 7 Activity on 2/4","Location 7 Activity on 2/5","Location 7 Activity on 2/6","Location 7 Activity on 2/7","Location 7 Activity on 2/8","Location 7 Activity on 2/9","Location 7 Activity on 2/10","Location 7 Activity on 2/11","Location 7 Activity on 2/12","Location 7 Activity on 2/13","Location 7 Activity on 2/14","Location 7 Activity on 2/15","Location 7 Activity on 2/16","Location 7 Activity on 2/17","Location 7 Activity on 2/18","Location 7 Activity on 2/19","Location 7 Activity on 2/20","Location 7 Activity on 2/21","Location 7 Activity on 2/22","Location 7 Activity on 2/23","Location 7 Activity on 2/24","Location 7 Activity on 2/25","Location 7 Activity on 2/26","Location 7 Activity on 2/27","Location 7 Activity on 2/28","Location 7 Activity on 3/1","Location 7 Activity on 3/2","Location 7 Activity on 3/3","Location 7 Activity on 3/4","Location 7 Activity on 3/5","Location 7 Activity on 3/6","Location 7 Activity on 3/7","Location 7 Activity on 3/8","Location 7 Activity on 3/9","Location 7 Activity on 3/10","Location 7 Activity on 3/11","Location 7 Activity on 3/12","Location 7 Activity on 3/13","Location 7 Activity on 3/14","Location 7 Activity on 3/15","Location 7 Activity on 3/16","Location 7 Activity on 3/17","Location 7 Activity on 3/18","Location 7 Activity on 3/19","Location 7 Activity on 3/20","Location 7 Activity on 3/21","Location 7 Activity on 3/22","Location 7 Activity on 3/23","Location 7 Activity on 3/24","Location 7 Activity on 3/25","Location 7 Activity on 3/26","Location 7 Activity on 3/27","Location 7 Activity on 3/28","Location 7 Activity on 3/29","Location 7 Activity on 3/30","Location 7 Activity on 3/31","Location 7 Activity on 4/1","Location 7 Activity on 4/2","Location 7 Activity on 4/3","Location 7 Activity on 4/4","Location 7 Activity on 4/5","Location 7 Activity on 4/6","Location 7 Activity on 4/7","Location 7 Activity on 4/8","Location 7 Activity on 4/9","Location 7 Activity on 4/10","Location 7 Activity on 4/11","Location 7 Activity on 4/12","Location 7 Activity on 4/13","Location 7 Activity on 4/14","Location 7 Activity on 4/15","Location 7 Activity on 4/16","Location 7 Activity on 4/17","Location 7 Activity on 4/18","Location 7 Activity on 4/19","Location 7 Activity on 4/20","Location 7 Activity on 4/21","Location 7 Activity on 4/22","Location 7 Activity on 4/23","Location 7 Activity on 4/24","Location 7 Activity on 4/25","Location 7 Activity on 4/26","Location 7 Activity on 4/27","Location 7 Activity on 4/28","Location 7 Activity on 4/29","Location 7 Activity on 4/30",{"$error":"#N/A"},{"$error":"#N/A"},{"$error":"#N/A"},{"$error":"#N/A"},{"$error":"#N/A"},{"$error":"#N/A"},{"$error":"#N/A"},{"$error":"#N/A"},{"$error":"#N/A"},{"$error":"#N/A"},{"$error":"#N/A"},{"$error":"#N/A"},{"$error":"#N/A"},{"$error":"#N/A"},{"$error":"#N/A"},{"$error":"#N/A"},{"$error":"#N/A"},{"$error":"#N/A"},{"$error":"#N/A"},{"$error":"#N/A"},{"$error":"#N/A"},{"$error":"#N/A"},{"$error":"#N/A"},{"$error":"#N/A"},{"$error":"#N/A"},{"$error":"#N/A"},{"$error":"#N/A"},{"$error":"#N/A"},{"$error":"#N/A"},{"$error":"#N/A"},{"$error":"#N/A"},{"$error":"#N/A"},{"$error":"#N/A"},{"$error":"#N/A"},{"$error":"#N/A"},{"$error":"#N/A"},{"$error":"#N/A"},{"$error":"#N/A"},{"$error":"#N/A"},{"$error":"#N/A"},{"$error":"#N/A"},{"$error":"#N/A"},{"$error":"#N/A"},{"$error":"#N/A"},{"$error":"#N/A"},{"$error":"#N/A"},{"$error":"#N/A"},{"$error":"#N/A"},{"$error":"#N/A"},{"$error":"#N/A"},{"$error":"#N/A"},{"$error":"#N/A"},{"$error":"#N/A"},{"$error":"#N/A"},{"$error":"#N/A"},{"$error":"#N/A"},{"$error":"#N/A"},{"$error":"#N/A"},{"$error":"#N/A"},{"$error":"#N/A"},{"$error":"#N/A"},{"$error":"#N/A"},{"$error":"#N/A"},{"$error":"#N/A"},"Location 8 Activity on 1/1","Location 8 Activity on 1/2","Location 8 Activity on 1/3","Location 8 Activity on 1/4","Location 8 Activity on 1/5","Location 8 Activity on 1/6","Location 8 Activity on 1/7","Location 8 Activity on 1/8","Location 8 Activity on 1/9","Location 8 Activity on 1/10","Location 8 Activity on 1/11","Location 8 Activity on 1/12","Location 8 Activity on 1/13","Location 8 Activity on 1/14","Location 8 Activity on 1/15","Location 8 Activity on 1/16","Location 8 Activity on 1/17","Location 8 Activity on 1/18","Location 8 Activity on 1/19","Location 8 Activity on 1/20","Location 8 Activity on 1/21","Location 8 Activity on 1/22","Location 8 Activity on 1/23","Location 8 Activity on 1/24","Location 8 Activity on 1/25","Location 8 Activity on 1/26","Location 8 Activity on 1/27","Location 8 Activity on 1/28","Location 8 Activity on 1/29","Location 8 Activity on 1/30","Location 8 Activity on 1/31","Location 8 Activity on 2/1","Location 8 Activity on 2/2","Location 8 Activity on 2/3","Location 8 Activity on 2/4","Location 8 Activity on 2/5","Location 8 Activity on 2/6","Location 8 Activity on 2/7","Location 8 Activity on 2/8","Location 8 Activity on 2/9","Location 8 Activity on 2/10","Location 8 Activity on 2/11","Location 8 Activity on 2/12","Location 8 Activity on 2/13","Location 8 Activity on 2/14","Location 8 Activity on 2/15","Location 8 Activity on 2/16","Location 8 Activity on 2/17","Location 8 Activity on 2/18","Location 8 Activity on 2/19","Location 8 Activity on 2/20","Location 8 Activity on 2/21","Location 8 Activity on 2/22","Location 8 Activity on 2/23","Location 8 Activity on 2/24","Location 8 Activity on 2/25","Location 8 Activity on 2/26","Location 8 Activity on 2/27","Location 8 Activity on 2/28","Location 8 Activity on 3/1","Location 8 Activity on 3/2","Location 8 Activity on 3/3","Location 8 Activity on 3/4","Location 8 Activity on 3/5","Location 8 Activity on 3/6","Location 8 Activity on 3/7","Location 8 Activity on 3/8","Location 8 Activity on 3/9","Location 8 Activity on 3/10","Location 8 Activity on 3/11","Location 8 Activity on 3/12","Location 8 Activity on 3/13","Location 8 Activity on 3/14","Location 8 Activity on 3/15","Location 8 Activity on 3/16","Location 8 Activity on 3/17","Location 8 Activity on 3/18","Location 8 Activity on 3/19","Location 8 Activity on 3/20","Location 8 Activity on 3/21","Location 8 Activity on 3/22","Location 8 Activity on 3/23","Location 8 Activity on 3/24","Location 8 Activity on 3/25","Location 8 Activity on 3/26","Location 8 Activity on 3/27","Location 8 Activity on 3/28","Location 8 Activity on 3/29","Location 8 Activity on 3/30","Location 8 Activity on 3/31","Location 8 Activity on 4/1","Location 8 Activity on 4/2","Location 8 Activity on 4/3","Location 8 Activity on 4/4","Location 8 Activity on 4/5","Location 8 Activity on 4/6","Location 8 Activity on 4/7","Location 8 Activity on 4/8","Location 8 Activity on 4/9","Location 8 Activity on 4/10","Location 8 Activity on 4/11","Location 8 Activity on 4/12","Location 8 Activity on 4/13","Location 8 Activity on 4/14","Location 8 Activity on 4/15","Location 8 Activity on 4/16","Location 8 Activity on 4/17","Location 8 Activity on 4/18","Location 8 Activity on 4/19","Location 8 Activity on 4/20","Location 8 Activity on 4/21","Location 8 Activity on 4/22","Location 8 Activity on 4/23","Location 8 Activity on 4/24","Location 8 Activity on 4/25","Location 8 Activity on 4/26","Location 8 Activity on 4/27","Location 8 Activity on 4/28","Location 8 Activity on 4/29","Location 8 Activity on 4/30",{"$error":"#N/A"},{"$error":"#N/A"},{"$error":"#N/A"},{"$error":"#N/A"},{"$error":"#N/A"},{"$error":"#N/A"},{"$error":"#N/A"},{"$error":"#N/A"},{"$error":"#N/A"},{"$error":"#N/A"},{"$error":"#N/A"},{"$error":"#N/A"},{"$error":"#N/A"},{"$error":"#N/A"},{"$error":"#N/A"},{"$error":"#N/A"},{"$error":"#N/A"},{"$error":"#N/A"},{"$error":"#N/A"},{"$error":"#N/A"},{"$error":"#N/A"},{"$error":"#N/A"},{"$error":"#N/A"},{"$error":"#N/A"},{"$error":"#N/A"},{"$error":"#N/A"},{"$error":"#N/A"},{"$error":"#N/A"},{"$error":"#N/A"},{"$error":"#N/A"},{"$error":"#N/A"},{"$error":"#N/A"},{"$error":"#N/A"},{"$error":"#N/A"},{"$error":"#N/A"},{"$error":"#N/A"},{"$error":"#N/A"},{"$error":"#N/A"},{"$error":"#N/A"},{"$error":"#N/A"},{"$error":"#N/A"},{"$error":"#N/A"},{"$error":"#N/A"},{"$error":"#N/A"},{"$error":"#N/A"},{"$error":"#N/A"},{"$error":"#N/A"},{"$error":"#N/A"},{"$error":"#N/A"},{"$error":"#N/A"},{"$error":"#N/A"},{"$error":"#N/A"},{"$error":"#N/A"},{"$error":"#N/A"},{"$error":"#N/A"},{"$error":"#N/A"},{"$error":"#N/A"},{"$error":"#N/A"},{"$error":"#N/A"},{"$error":"#N/A"},{"$error":"#N/A"},{"$error":"#N/A"},{"$error":"#N/A"},{"$error":"#N/A"},"Location 9 Activity on 1/1","Location 9 Activity on 1/2","Location 9 Activity on 1/3","Location 9 Activity on 1/4","Location 9 Activity on 1/5","Location 9 Activity on 1/6","Location 9 Activity on 1/7","Location 9 Activity on 1/8","Location 9 Activity on 1/9","Location 9 Activity on 1/10","Location 9 Activity on 1/11","Location 9 Activity on 1/12","Location 9 Activity on 1/13","Location 9 Activity on 1/14","Location 9 Activity on 1/15","Location 9 Activity on 1/16","Location 9 Activity on 1/17","Location 9 Activity on 1/18","Location 9 Activity on 1/19","Location 9 Activity on 1/20","Location 9 Activity on 1/21","Location 9 Activity on 1/22","Location 9 Activity on 1/23","Location 9 Activity on 1/24","Location 9 Activity on 1/25","Location 9 Activity on 1/26","Location 9 Activity on 1/27","Location 9 Activity on 1/28","Location 9 Activity on 1/29","Location 9 Activity on 1/30","Location 9 Activity on 1/31","Location 9 Activity on 2/1","Location 9 Activity on 2/2","Location 9 Activity on 2/3","Location 9 Activity on 2/4","Location 9 Activity on 2/5","Location 9 Activity on 2/6","Location 9 Activity on 2/7","Location 9 Activity on 2/8","Location 9 Activity on 2/9","Location 9 Activity on 2/10","Location 9 Activity on 2/11","Location 9 Activity on 2/12","Location 9 Activity on 2/13","Location 9 Activity on 2/14","Location 9 Activity on 2/15","Location 9 Activity on 2/16","Location 9 Activity on 2/17","Location 9 Activity on 2/18","Location 9 Activity on 2/19","Location 9 Activity on 2/20","Location 9 Activity on 2/21","Location 9 Activity on 2/22","Location 9 Activity on 2/23","Location 9 Activity on 2/24","Location 9 Activity on 2/25","Location 9 Activity on 2/26","Location 9 Activity on 2/27","Location 9 Activity on 2/28","Location 9 Activity on 3/1","Location 9 Activity on 3/2","Location 9 Activity on 3/3","Location 9 Activity on 3/4","Location 9 Activity on 3/5","Location 9 Activity on 3/6","Location 9 Activity on 3/7","Location 9 Activity on 3/8","Location 9 Activity on 3/9","Location 9 Activity on 3/10","Location 9 Activity on 3/11","Location 9 Activity on 3/12","Location 9 Activity on 3/13","Location 9 Activity on 3/14","Location 9 Activity on 3/15","Location 9 Activity on 3/16","Location 9 Activity on 3/17","Location 9 Activity on 3/18","Location 9 Activity on 3/19","Location 9 Activity on 3/20","Location 9 Activity on 3/21","Location 9 Activity on 3/22","Location 9 Activity on 3/23","Location 9 Activity on 3/24","Location 9 Activity on 3/25","Location 9 Activity on 3/26","Location 9 Activity on 3/27","Location 9 Activity on 3/28","Location 9 Activity on 3/29","Location 9 Activity on 3/30","Location 9 Activity on 3/31","Location 9 Activity on 4/1","Location 9 Activity on 4/2","Location 9 Activity on 4/3","Location 9 Activity on 4/4","Location 9 Activity on 4/5","Location 9 Activity on 4/6","Location 9 Activity on 4/7","Location 9 Activity on 4/8","Location 9 Activity on 4/9","Location 9 Activity on 4/10","Location 9 Activity on 4/11","Location 9 Activity on 4/12","Location 9 Activity on 4/13","Location 9 Activity on 4/14","Location 9 Activity on 4/15","Location 9 Activity on 4/16","Location 9 Activity on 4/17","Location 9 Activity on 4/18","Location 9 Activity on 4/19","Location 9 Activity on 4/20","Location 9 Activity on 4/21","Location 9 Activity on 4/22","Location 9 Activity on 4/23","Location 9 Activity on 4/24","Location 9 Activity on 4/25","Location 9 Activity on 4/26","Location 9 Activity on 4/27","Location 9 Activity on 4/28","Location 9 Activity on 4/29","Location 9 Activity on 4/30",{"$error":"#N/A"},{"$error":"#N/A"},{"$error":"#N/A"},{"$error":"#N/A"},{"$error":"#N/A"},{"$error":"#N/A"},{"$error":"#N/A"},{"$error":"#N/A"},{"$error":"#N/A"},{"$error":"#N/A"},{"$error":"#N/A"},{"$error":"#N/A"},{"$error":"#N/A"},{"$error":"#N/A"},{"$error":"#N/A"},{"$error":"#N/A"},{"$error":"#N/A"},{"$error":"#N/A"},{"$error":"#N/A"},{"$error":"#N/A"},{"$error":"#N/A"},{"$error":"#N/A"},{"$error":"#N/A"},{"$error":"#N/A"},{"$error":"#N/A"},{"$error":"#N/A"},{"$error":"#N/A"},{"$error":"#N/A"},{"$error":"#N/A"},{"$error":"#N/A"},{"$error":"#N/A"},{"$error":"#N/A"},{"$error":"#N/A"},{"$error":"#N/A"},{"$error":"#N/A"},{"$error":"#N/A"},{"$error":"#N/A"},{"$error":"#N/A"},{"$error":"#N/A"},{"$error":"#N/A"},{"$error":"#N/A"},{"$error":"#N/A"},{"$error":"#N/A"},{"$error":"#N/A"},{"$error":"#N/A"},{"$error":"#N/A"},{"$error":"#N/A"},{"$error":"#N/A"},{"$error":"#N/A"},{"$error":"#N/A"},{"$error":"#N/A"},{"$error":"#N/A"},{"$error":"#N/A"},{"$error":"#N/A"},{"$error":"#N/A"},{"$error":"#N/A"},{"$error":"#N/A"},{"$error":"#N/A"},{"$error":"#N/A"},{"$error":"#N/A"},{"$error":"#N/A"},{"$error":"#N/A"},{"$error":"#N/A"},{"$error":"#N/A"},"Location 10 Activity on 1/1","Location 10 Activity on 1/2","Location 10 Activity on 1/3","Location 10 Activity on 1/4","Location 10 Activity on 1/5","Location 10 Activity on 1/6","Location 10 Activity on 1/7","Location 10 Activity on 1/8","Location 10 Activity on 1/9","Location 10 Activity on 1/10","Location 10 Activity on 1/11","Location 10 Activity on 1/12","Location 10 Activity on 1/13","Location 10 Activity on 1/14","Location 10 Activity on 1/15","Location 10 Activity on 1/16","Location 10 Activity on 1/17","Location 10 Activity on 1/18","Location 10 Activity on 1/19","Location 10 Activity on 1/20","Location 10 Activity on 1/21","Location 10 Activity on 1/22","Location 10 Activity on 1/23","Location 10 Activity on 1/24","Location 10 Activity on 1/25","Location 10 Activity on 1/26","Location 10 Activity on 1/27","Location 10 Activity on 1/28","Location 10 Activity on 1/29","Location 10 Activity on 1/30","Location 10 Activity on 1/31","Location 10 Activity on 2/1","Location 10 Activity on 2/2","Location 10 Activity on 2/3","Location 10 Activity on 2/4","Location 10 Activity on 2/5","Location 10 Activity on 2/6","Location 10 Activity on 2/7","Location 10 Activity on 2/8","Location 10 Activity on 2/9","Location 10 Activity on 2/10","Location 10 Activity on 2/11","Location 10 Activity on 2/12","Location 10 Activity on 2/13","Location 10 Activity on 2/14","Location 10 Activity on 2/15","Location 10 Activity on 2/16","Location 10 Activity on 2/17","Location 10 Activity on 2/18","Location 10 Activity on 2/19","Location 10 Activity on 2/20","Location 10 Activity on 2/21","Location 10 Activity on 2/22","Location 10 Activity on 2/23","Location 10 Activity on 2/24","Location 10 Activity on 2/25","Location 10 Activity on 2/26","Location 10 Activity on 2/27","Location 10 Activity on 2/28","Location 10 Activity on 3/1","Location 10 Activity on 3/2","Location 10 Activity on 3/3","Location 10 Activity on 3/4","Location 10 Activity on 3/5","Location 10 Activity on 3/6","Location 10 Activity on 3/7","Location 10 Activity on 3/8","Location 10 Activity on 3/9","Location 10 Activity on 3/10","Location 10 Activity on 3/11","Location 10 Activity on 3/12","Location 10 Activity on 3/13","Location 10 Activity on 3/14","Location 10 Activity on 3/15","Location 10 Activity on 3/16","Location 10 Activity on 3/17","Location 10 Activity on 3/18","Location 10 Activity on 3/19","Location 10 Activity on 3/20","Location 10 Activity on 3/21","Location 10 Activity on 3/22","Location 10 Activity on 3/23","Location 10 Activity on 3/24","Location 10 Activity on 3/25","Location 10 Activity on 3/26","Location 10 Activity on 3/27","Location 10 Activity on 3/28","Location 10 Activity on 3/29","Location 10 Activity on 3/30","Location 10 Activity on 3/31","Location 10 Activity on 4/1","Location 10 Activity on 4/2","Location 10 Activity on 4/3","Location 10 Activity on 4/4","Location 10 Activity on 4/5","Location 10 Activity on 4/6","Location 10 Activity on 4/7","Location 10 Activity on 4/8","Location 10 Activity on 4/9","Location 10 Activity on 4/10","Location 10 Activity on 4/11","Location 10 Activity on 4/12","Location 10 Activity on 4/13","Location 10 Activity on 4/14","Location 10 Activity on 4/15","Location 10 Activity on 4/16","Location 10 Activity on 4/17","Location 10 Activity on 4/18","Location 10 Activity on 4/19","Location 10 Activity on 4/20","Location 10 Activity on 4/21","Location 10 Activity on 4/22","Location 10 Activity on 4/23","Location 10 Activity on 4/24","Location 10 Activity on 4/25","Location 10 Activity on 4/26","Location 10 Activity on 4/27","Location 10 Activity on 4/28","Location 10 Activity on 4/29","Location 10 Activity on 4/30",{"$error":"#N/A"},{"$error":"#N/A"},{"$error":"#N/A"},{"$error":"#N/A"},{"$error":"#N/A"},{"$error":"#N/A"},{"$error":"#N/A"},{"$error":"#N/A"},{"$error":"#N/A"},{"$error":"#N/A"},{"$error":"#N/A"},{"$error":"#N/A"},{"$error":"#N/A"},{"$error":"#N/A"},{"$error":"#N/A"},{"$error":"#N/A"},{"$error":"#N/A"},{"$error":"#N/A"},{"$error":"#N/A"},{"$error":"#N/A"},{"$error":"#N/A"},{"$error":"#N/A"},{"$error":"#N/A"},{"$error":"#N/A"},{"$error":"#N/A"},{"$error":"#N/A"},{"$error":"#N/A"},{"$error":"#N/A"},{"$error":"#N/A"},{"$error":"#N/A"},{"$error":"#N/A"},{"$error":"#N/A"},{"$error":"#N/A"},{"$error":"#N/A"},{"$error":"#N/A"},{"$error":"#N/A"},{"$error":"#N/A"},{"$error":"#N/A"},{"$error":"#N/A"},{"$error":"#N/A"},{"$error":"#N/A"},{"$error":"#N/A"},{"$error":"#N/A"},{"$error":"#N/A"},{"$error":"#N/A"},{"$error":"#N/A"},{"$error":"#N/A"},{"$error":"#N/A"},{"$error":"#N/A"},{"$error":"#N/A"},{"$error":"#N/A"},{"$error":"#N/A"},{"$error":"#N/A"},{"$error":"#N/A"},{"$error":"#N/A"},{"$error":"#N/A"},{"$error":"#N/A"},{"$error":"#N/A"},{"$error":"#N/A"},{"$error":"#N/A"},{"$error":"#N/A"},{"$error":"#N/A"},{"$error":"#N/A"},{"$error":"#N/A"},"Live in Study Area","Recreate in Study Area 2012-2013",{"$error":"#N/A"},"Riding the Alaska Railroad","Bird watching","Bicycling","Camping - remote tent/cabin","Camping - RV/campground/roadside","Collecting berries/mushrooms","Dog sledding","Fishing for salmon","Fishing for other species","Flightseeing","Hunting","Hiking/backpacking","Motorized boating (jet, prop, air)","Non-motorized boating","Riding ATV's","Skiing","Snow machining","Showshoeing","Walking/running","Wildlife viewing","Other rec activity 1","Other rec activity 2","Other rec activity 1 specified","Other rec activity 2 specified","Alaska Railroad days","Bird watching days","Bicycling days","Camping - remote tent/cabin days","Camping - RV/campground/roadside days","Collecting berries/mushrooms days","Dog sledding days","Fishing for salmon days","Fishing for other species days","Flightseeing days","Hunting days","Hiking/backpacking days","Motorized boating days","Non-motorized boating days","Riding ATV's days","Skiing days","Snow machining days","Showshoeing days","Walking/running days","Wildlife viewing days","Other rec activity 1 days","Other rec activity 2 days","Other rec activity 1 specified","Other rec activity 2 specified","Alaska Railroad recent visit","Bird watching recent visit","Bicycling recent visit","Camping - remote tent/cabin recent visit","Camping - RV/campground/roadside recent visit","Collecting berries/mushrooms recent visit","Dog sledding recent visit","Fishing for salmon recent visit","Fishing for other species recent visit","Flightseeing recent visit","Hunting recent visit","Hiking/backpacking recent visit","Motorized boating recent visit","Non-motorized boating recent visit","Riding ATV's recent visit","Skiing recent visit","Snow machining recent visit","Showshoeing recent visit","Walking/running recent visit","Wildlife viewing recent visit","Other rec activity 1 recent visit","Other rec activity 2 recent visit","Other rec activity 1 specified","Other rec activity 2 specified","Primary Activity on Recent Outing","Other rec activity 1 specified","Other rec activity 2 specified","If Hunting Primary Activity, What Target","Other Hunting Target specified","Participated in Primary Activity in Grid Area 1","Participated in Primary Activity in Grid Area 2","Participated in Primary Activity in Grid Area 3","Participated in Primary Activity in Grid Area 4","Participated in Primary Activity in Grid Area 5","Participated in Primary Activity in Grid Area 6","Participated in Primary Activity in Grid Area 7","Participated in Primary Activity in Grid Area 8","Participated in Primary Activity in Grid Area 9","Participated in Primary Activity in Grid Area 10","Participated in Primary Activity in Grid Area 11","Participated in Primary Activity in Grid Area 12","Participated in Primary Activity in Grid Area 13","Participated in Primary Activity in Grid Area 14","Participated in Primary Activity in Grid Area 15","Participated in Primary Activity in Grid Area 16","Participated in Primary Activity in Grid Area 17","Participated in Primary Activity in Grid Area 18","Participated in Primary Activity in Grid Area 19","Participated in Primary Activity in Grid Area 20","Participated in Primary Activity in Grid Area 21","Participated in Primary Activity in Grid Area 22","Participated in Primary Activity in Grid Area 23","Participated in Primary Activity in Grid Area 24","Participated in Primary Activity in Grid Area 25","Participated in Primary Activity in Grid Area 26","Participated in Primary Activity in Grid Area 27","Participated in Primary Activity in Grid Area 28","Participated in Primary Activity in Grid Area 29","Participated in Primary Activity in Grid Area 30","Participated in Primary Activity in Grid Area 31","Participated in Primary Activity in Grid Area 32","Participated in Primary Activity in Grid Area 33","Participated in Primary Activity in Grid Area 34","Participated in Primary Activity in Grid Area 35","Participated in Primary Activity in Grid Area 36","Participated in Primary Activity in Grid Area 37","Participated in Primary Activity in Grid Area 38","Participated in Primary Activity in Grid Area 39","Participated in Primary Activity in Grid Area 40","Participated in Primary Activity in Grid Area 41","Participated in Primary Activity in Grid Area 42","Participated in Primary Activity in Grid Area 43","Participated in Primary Activity in Grid Area 44","Participated in Primary Activity in Grid Area 45","Participated in Primary Activity in Grid Area 46","Participated in Primary Activity in Grid Area 47","Participated in Primary Activity in Grid Area 48","Participated in Primary Activity in Grid Area 49","Participated in Primary Activity in Grid Area 51","Participated in Primary Activity in Grid Area 52","Participated in Primary Activity in Grid Area 53","Participated in Primary Activity in Grid Area 54","Participated in Primary Activity in Grid Area 55","Participated in Primary Activity in Grid Area 56","Participated in Primary Activity in Grid Area 57","Participated in Primary Activity in Grid Area 58","Participated in Primary Activity in Grid Area 59","Participated in Primary Activity in Grid Area 60","Ever Been to Study Area for Primary Activity prior to Recent Trip?","Year of First Visit to Study Area for Primary Activity","Frequency per Year of Primary Activity in Study Area","Hire a Guide during Recent Outing to Study Area","Guide Hired for Primary Activity","Night Spent in Study Area (Besides Primary Residence)","Nights Spent in Study Area on Last Outing","Overnighted in Talkeetna","Overnighted in Talkneeta Lodge","Overnighted in Trapper Creek","Overnighted in McKinley Princess","Overnighted in Byers Lake","Overnighted in Cantwell","Overnighted in Brushkana","Overnighted in Tangle Lakes","Overnighted in Lake Louise","Other Overnight Location 1 specified","Other Overnight Location 2 specified","Other Overnight Location 3 specified","Other Overnight Location 4 specified","Other Overnight Location 5 specified","Other Overnight Location 6 specified","Other Overnight Location 7 specified","Other Overnight Location 8 specified","Other Overnight Location 9 specified","Other Overnight Location 1","Other Overnight Location 2","Other Overnight Location 3","Other Overnight Location 4","Other Overnight Location 5","Other Overnight Location 6","Other Overnight Location 7","Other Overnight Location 8","Other Overnight Location 9","None of the Above Locations","Unknown","Unknown","Unknown","Unknown","Unknown","Unknown","Unknown","Unknown","Unknown","Unknown","Unknown","Unknown","Unknown","Unknown","Unknown","Unknown","Unknown","Unknown","Unknown","Unknown","Unknown","Unknown","Unknown","Unknown","Unknown","Unknown","Unknown","Unknown","Unknown","Unknown","Unknown","Unknown","Unknown","Unknown","Unknown","Unknown","Unknown","Unknown","Unknown","Unknown","Unknown","Unknown","Unknown","Unknown","Unknown","Unknown","Unknown","Unknown","Unknown","Unknown","Unknown","Unknown","Unknown","Unknown","Unknown","Unknown","Unknown","Unknown","Unknown","Unknown","Unknown","Unknown","Unknown","Unknown","Unknown","Unknown","Unknown","Unknown","Unknown","Unknown","Unknown","Unknown","Unknown","Unknown","Unknown","Nights in Talkeetna Hotel/motel/B&B","Nights in Talkeetna Lodge","Nights in Talkeetna Private home","Nights in Talkeetna Established campground","Nights in Talkeetna Undeveloped/roadside RV/camper/car/tent","Nights in Talkeetna Remote tent/cabin","Nights in Talkeetna Other lodging","Nights in Talkeetna Lodge Lodge Hotel/motel/B&B","Nights in Talkeetna Lodge Lodge Lodge","Nights in Talkeetna Lodge Lodge Private home","Nights in Talkeetna Lodge Lodge Established campground","Nights in Talkeetna Lodge Lodge Undeveloped/roadside RV/camper/car/tent","Nights in Talkeetna Lodge Lodge Remote tent/cabin","Nights in Talkeetna Lodge Lodge Other lodging","Nights in Trapper Creek Hotel/motel/B&B","Nights in Trapper Creek Lodge","Nights in Trapper Creek Private home","Nights in Trapper Creek Established campground","Nights in Trapper Creek Undeveloped/roadside RV/camper/car/tent","Nights in Trapper Creek Remote tent/cabin","Nights in Trapper Creek Other lodging","Nights in McKinley Princess Lodge Hotel/motel/B&B","Nights in McKinley Princess Lodge Lodge","Nights in McKinley Princess Lodge Private home","Nights in McKinley Princess Lodge Established campground","Nights in McKinley Princess Lodge Undeveloped/roadside RV/camper/car/tent","Nights in McKinley Princess Lodge Remote tent/cabin","Nights in McKinley Princess Lodge Other lodging","Nights in Byers Lake Hotel/motel/B&B","Nights in Byers Lake Lodge","Nights in Byers Lake Private home","Nights in Byers Lake Established campground","Nights in Byers Lake Undeveloped/roadside RV/camper/car/tent","Nights in Byers Lake Remote tent/cabin","Nights in Byers Lake Other lodging","Nights in Cantwell Hotel/motel/B&B","Nights in Cantwell Lodge","Nights in Cantwell Private home","Nights in Cantwell Established campground","Nights in Cantwell Undeveloped/roadside RV/camper/car/tent","Nights in Cantwell Remote tent/cabin","Nights in Cantwell Other lodging","Nights in Brushkana Creek Campground Hotel/motel/B&B","Nights in Brushkana Creek Campground Lodge","Nights in Brushkana Creek Campground Private home","Nights in Brushkana Creek Campground Established campground","Nights in Brushkana Creek Campground Undeveloped/roadside RV/camper/car/tent","Nights in Brushkana Creek Campground Remote tent/cabin","Nights in Brushkana Creek Campground Other lodging","Nights in Tangle Lakes Hotel/motel/B&B","Nights in Tangle Lakes Lodge","Nights in Tangle Lakes Private home","Nights in Tangle Lakes Established campground","Nights in Tangle Lakes Undeveloped/roadside RV/camper/car/tent","Nights in Tangle Lakes Remote tent/cabin","Nights in Tangle Lakes Other lodging","Nights in Lake Louise Hotel/motel/B&B","Nights in Lake Louise Lodge","Nights in Lake Louise Private home","Nights in Lake Louise Established campground","Nights in Lake Louise Undeveloped/roadside RV/camper/car/tent","Nights in Lake Louise Remote tent/cabin","Nights in Lake Louise Other lodging","Nights in Other Overnight Location 1 Hotel/motel/B&B","Nights in Other Overnight Location 1 Lodge","Nights in Other Overnight Location 1 Private home","Nights in Other Overnight Location 1 Established campground","Nights in Other Overnight Location 1 Undeveloped/roadside RV/camper/car/tent","Nights in Other Overnight Location 1 Remote tent/cabin","Nights in Other Overnight Location 1 Other lodging","Nights in Other Overnight Location 2 Hotel/motel/B&B","Nights in Other Overnight Location 2 Lodge","Nights in Other Overnight Location 2 Private home","Nights in Other Overnight Location 2 Established campground","Nights in Other Overnight Location 2 Undeveloped/roadside RV/camper/car/tent","Nights in Other Overnight Location 2 Remote tent/cabin","Nights in Other Overnight Location 2 Other lodging","Nights in Other Overnight Location 3 Hotel/motel/B&B","Nights in Other Overnight Location 3 Lodge","Nights in Other Overnight Location 3 Private home","Nights in Other Overnight Location 3 Established campground","Nights in Other Overnight Location 3 Undeveloped/roadside RV/camper/car/tent","Nights in Other Overnight Location 3 Remote tent/cabin","Nights in Other Overnight Location 3 Other lodging","Nights in Other Overnight Location 4 Hotel/motel/B&B","Nights in Other Overnight Location 4 Lodge","Nights in Other Overnight Location 4 Private home","Nights in Other Overnight Location 4 Established campground","Nights in Other Overnight Location 4 Undeveloped/roadside RV/camper/car/tent","Nights in Other Overnight Location 4 Remote tent/cabin","Nights in Other Overnight Location 4 Other lodging","Nights in Other Overnight Location 5 Hotel/motel/B&B","Nights in Other Overnight Location 5 Lodge","Nights in Other Overnight Location 5 Private home","Nights in Other Overnight Location 5 Established campground","Nights in Other Overnight Location 5 Undeveloped/roadside RV/camper/car/tent","Nights in Other Overnight Location 5 Remote tent/cabin","Nights in Other Overnight Location 5 Other lodging","Nights in Other Overnight Location 6 Hotel/motel/B&B","Nights in Other Overnight Location 6 Lodge","Nights in Other Overnight Location 6 Private home","Nights in Other Overnight Location 6 Established campground","Nights in Other Overnight Location 6 Undeveloped/roadside RV/camper/car/tent","Nights in Other Overnight Location 6 Remote tent/cabin","Nights in Other Overnight Location 6 Other lodging","Nights in Other Overnight Location 7 Hotel/motel/B&B","Nights in Other Overnight Location 7 Lodge","Nights in Other Overnight Location 7 Private home","Nights in Other Overnight Location 7 Established campground","Nights in Other Overnight Location 7 Undeveloped/roadside RV/camper/car/tent","Nights in Other Overnight Location 7 Remote tent/cabin","Nights in Other Overnight Location 7 Other lodging","Nights in Other Overnight Location 8 Hotel/motel/B&B","Nights in Other Overnight Location 8 Lodge","Nights in Other Overnight Location 8 Private home","Nights in Other Overnight Location 8 Established campground","Nights in Other Overnight Location 8 Undeveloped/roadside RV/camper/car/tent","Nights in Other Overnight Location 8 Remote tent/cabin","Nights in Other Overnight Location 8 Other lodging","Nights in Other Overnight Location 9 Hotel/motel/B&B","Nights in Other Overnight Location 9 Lodge","Nights in Other Overnight Location 9 Private home","Nights in Other Overnight Location 9 Established campground","Nights in Other Overnight Location 9 Undeveloped/roadside RV/camper/car/tent","Nights in Other Overnight Location 9 Remote tent/cabin","Nights in Other Overnight Location 9 Other lodging","People in Immediate Party",{"$error":"#N/A"},{"$error":"#N/A"},"People in Group","Anyone in Party with Disability","Wheelchair Access to Trails","Wheelchair Access to Facilities","Other Need","Other Need specified","How Crowded","Remember Where Felt Crowded","Crowded Place 1","Crowded Place 2","Crowded Place 3","Crowded Place 1 Grid #","Crowded Place 2 Grid #","Crowded Place 3 Grid #","Conflict with Other Individual Group","Activity of Other Individual or Group","Cause of Conflict","Nothing","Communication Towers","Power Lines","Railroad","Trash","Roads","Trails","Roadside Camping Areas","Vehicles","People","Other Detraction from Scenic Quality","Other Detraction from Scenic Quality specified","Nothing","Gunshots","Airplanes","Jet Aircraft Sonic Boom","Helicopters","Boats","Four Wheeler/ATV","Cars/Trucks/RV","Noise from Other People","Heavy Equipment","Chainsaw","Snow Machine","Other Source of Noise","Other Source of Noise specified","Travel More than 0.5 mile from Trailhead or Main Road","Off-road Vehicle/ATV","Motorized Watercraft","Non-motorized Watercraft","Airplane","Snow Machine","Ski","Snowshoe","Walked/Hiked","Other Mode of Transportation","Other specified","Established Trails, Off-trail, or Both","Camp More than 0.5 Mile from Trailhead or Main Road","Wildlife Viewing Opportunities","Opportunity to Hunt","Opportunity to Fish","Opportunity to Experience Remote Alaska","Opportunity to Experience Solitude","Opportunity to Challenge Yourself","Scenery","Area means a lot","No other place can compare","Recreating here more important than elsewhere","This area is close to my home","Family has been coming here for generations","Maintained roads","Designated parking areas","Roadside toilets","RV accessible sites at campgrounds","Trail maps","Designated trails for non-motorized use","Designated trails for off-road vehicles","Directional road signs","Visitor information","Visitor centers","Public use cabins","Boat launches","Facilities for the disabled","Year of Birth","Gender","Married","People in Household","Any Children Under 18 in Household","Pre-tax 2012 Household Income","White","Black or African American","Hispanic","American Indian or Alaska Native","Asian","Native Hawaiian or Other Pacific Islander","Some other race","Highest Level of Education Completed","Professional Guide for Any Recreational Activities?","Snow machining","Fishing","Hunting recent visit","Boat/float tour","Other recreational activity","Other recreational activity specified","Own Cabin in Alaska","Cabin Location",{"$error":"#N/A"},{"$error":"#N/A"},{"$error":"#N/A"},{"$error":"#N/A"},{"$error":"#N/A"},{"$error":"#N/A"},{"$error":"#N/A"},{"$error":"#N/A"},{"$error":"#N/A"},{"$error":"#N/A"},{"$error":"#N/A"},{"$error":"#N/A"},{"$error":"#N/A"},{"$error":"#N/A"},{"$error":"#N/A"},{"$error":"#N/A"},{"$error":"#N/A"},{"$error":"#N/A"},{"$error":"#N/A"},{"$error":"#N/A"},{"$error":"#N/A"},{"$error":"#N/A"},{"$error":"#N/A"},{"$error":"#N/A"},{"$error":"#N/A"},{"$error":"#N/A"},{"$error":"#N/A"},{"$error":"#N/A"},{"$error":"#N/A"},{"$error":"#N/A"},{"$error":"#N/A"},{"$error":"#N/A"},{"$error":"#N/A"},{"$error":"#N/A"},{"$error":"#N/A"},{"$error":"#N/A"},{"$error":"#N/A"},{"$error":"#N/A"},{"$error":"#N/A"},{"$error":"#N/A"},{"$error":"#N/A"},{"$error":"#N/A"},{"$error":"#N/A"},{"$error":"#N/A"},{"$error":"#N/A"},{"$error":"#N/A"},{"$error":"#N/A"},{"$error":"#N/A"},{"$error":"#N/A"},{"$error":"#N/A"},{"$error":"#N/A"},{"$error":"#N/A"},{"$error":"#N/A"},{"$error":"#N/A"},{"$error":"#N/A"},{"$error":"#N/A"},{"$error":"#N/A"},{"$error":"#N/A"},{"$error":"#N/A"},{"$error":"#N/A"},{"$error":"#N/A"},{"$error":"#N/A"},{"$error":"#N/A"},{"$error":"#N/A"},{"$error":"#N/A"},{"$error":"#N/A"},{"$error":"#N/A"},{"$error":"#N/A"},{"$error":"#N/A"},{"$error":"#N/A"},{"$error":"#N/A"},{"$error":"#N/A"},{"$error":"#N/A"},{"$error":"#N/A"},{"$error":"#N/A"},{"$error":"#N/A"},{"$error":"#N/A"},{"$error":"#N/A"},{"$error":"#N/A"},{"$error":"#N/A"},{"$error":"#N/A"},{"$error":"#N/A"},{"$error":"#N/A"},{"$error":"#N/A"},{"$error":"#N/A"},{"$error":"#N/A"},{"$error":"#N/A"},{"$error":"#N/A"},{"$error":"#N/A"},{"$error":"#N/A"},{"$error":"#N/A"},{"$error":"#N/A"},{"$error":"#N/A"},{"$error":"#N/A"},{"$error":"#N/A"},{"$error":"#N/A"},{"$error":"#N/A"},{"$error":"#N/A"},{"$error":"#N/A"},{"$error":"#N/A"},{"$error":"#N/A"},{"$error":"#N/A"},{"$error":"#N/A"},{"$error":"#N/A"},{"$error":"#N/A"},{"$error":"#N/A"},{"$error":"#N/A"},{"$error":"#N/A"},{"$error":"#N/A"},{"$error":"#N/A"},{"$error":"#N/A"},{"$error":"#N/A"},{"$error":"#N/A"},{"$error":"#N/A"},{"$error":"#N/A"},{"$error":"#N/A"},{"$error":"#N/A"},{"$error":"#N/A"},{"$error":"#N/A"},{"$error":"#N/A"},{"$error":"#N/A"},{"$error":"#N/A"},{"$error":"#N/A"},{"$error":"#N/A"},{"$error":"#N/A"},{"$error":"#N/A"},{"$error":"#N/A"},{"$error":"#N/A"},{"$error":"#N/A"},{"$error":"#N/A"},{"$error":"#N/A"},{"$error":"#N/A"},{"$error":"#N/A"},{"$error":"#N/A"},{"$error":"#N/A"},{"$error":"#N/A"},{"$error":"#N/A"},{"$error":"#N/A"},{"$error":"#N/A"},{"$error":"#N/A"},{"$error":"#N/A"},{"$error":"#N/A"},{"$error":"#N/A"},{"$error":"#N/A"},{"$error":"#N/A"},{"$error":"#N/A"},{"$error":"#N/A"},{"$error":"#N/A"},{"$error":"#N/A"},{"$error":"#N/A"},{"$error":"#N/A"},{"$error":"#N/A"},{"$error":"#N/A"},{"$error":"#N/A"},{"$error":"#N/A"},{"$error":"#N/A"},{"$error":"#N/A"},{"$error":"#N/A"},{"$error":"#N/A"},{"$error":"#N/A"},{"$error":"#N/A"},{"$error":"#N/A"},{"$error":"#N/A"},{"$error":"#N/A"},{"$error":"#N/A"},{"$error":"#N/A"},{"$error":"#N/A"},{"$error":"#N/A"},{"$error":"#N/A"},{"$error":"#N/A"},{"$error":"#N/A"},{"$error":"#N/A"},{"$error":"#N/A"},{"$error":"#N/A"},{"$error":"#N/A"},{"$error":"#N/A"},{"$error":"#N/A"},{"$error":"#N/A"},{"$error":"#N/A"},{"$error":"#N/A"},{"$error":"#N/A"}]
[207,70190,1,"207_70190_1",{"$f":"VLOOKUP(D6,'Lives in SA (Zip)'!$B$4:$E$3989,4,FALSE)","v":0},"ce",1,0,{"$f":"IF(H6=\"\",0,IF(H6=1,0,1))","v":1},{"$f":"(VLOOKUP(AP6,PolicySites!$B$5:$F$122,5,FALSE)*AZ6)+(VLOOKUP(AQ6,PolicySites!$B$5:$F$122,5,FALSE)*BA6)+(VLOOKUP(AR6,PolicySites!$B$5:$F$122,5,FALSE)*BB6)+(VLOOKUP(AS6,PolicySites!$B$5:$F$122,5,FALSE)*BC6)+(VLOOKUP(AT6,PolicySites!$B$5:$F$122,5,FALSE)*BD6)+(VLOOKUP(AU6,PolicySites!$B$5:$F$122,5,FALSE)*BE6)+(VLOOKUP(AV6,PolicySites!$B$5:$F$122,5,FALSE)*BF6)+(VLOOKUP(AW6,PolicySites!$B$5:$F$122,5,FALSE)*BG6)+(VLOOKUP(AX6,PolicySites!$B$5:$F$122,5,FALSE)*BH6)+(VLOOKUP(AY6,PolicySites!$B$5:$F$122,5,FALSE)*BI6)","v":0},4,"Yentna River",null,null,null,null,null,null,null,null,null,"Deshka Landing",null,null,null,null,null,null,null,null,null,{"$f":"CONCATENATE(L6,\"--\",V6)","v":"Yentna River--Deshka Landing"},{"$f":"CONCATENATE(M6,\"--\",W6)","v":"--"},{"$f":"CONCATENATE(N6,\"--\",X6)","v":"--"},{"$f":"CONCATENATE(O6,\"--\",Y6)","v":"--"},{"$f":"CONCATENATE(P6,\"--\",Z6)","v":"--"},{"$f":"CONCATENATE(Q6,\"--\",AA6)","v":"--"},{"$f":"CONCATENATE(R6,\"--\",AB6)","v":"--"},{"$f":"CONCATENATE(S6,\"--\",AC6)","v":"--"},{"$f":"CONCATENATE(T6,\"--\",AD6)","v":"--"},{"$f":"CONCATENATE(U6,\"--\",AE6)","v":"--"},{"$f":"IFERROR(VLOOKUP(AF6,'Site Codes'!$V$4:$Y$164,4,FALSE),0)","v":"Snow 100"},0,{"$f":"IFERROR(VLOOKUP(AH6,'Site Codes'!$V$4:$Y$164,4,FALSE),0)","v":0},{"$f":"IFERROR(VLOOKUP(AI6,'Site Codes'!$V$4:$Y$164,4,FALSE),0)","v":0},{"$f":"IFERROR(VLOOKUP(AJ6,'Site Codes'!$V$4:$Y$164,4,FALSE),0)","v":0},{"$f":"IFERROR(VLOOKUP(AK6,'Site Codes'!$V$4:$Y$164,4,FALSE),0)","v":0},{"$f":"IFERROR(VLOOKUP(AL6,'Site Codes'!$V$4:$Y$164,4,FALSE),0)","v":0},{"$f":"IFERROR(VLOOKUP(AM6,'Site Codes'!$V$4:$Y$164,4,FALSE),0)","v":0},{"$f":"IFERROR(VLOOKUP(AN6,'Site Codes'!$V$4:$Y$164,4,FALSE),0)","v":0},{"$f":"IFERROR(VLOOKUP(AO6,'Site Codes'!$V$4:$Y$164,4,FALSE),0)","v":0},4,null,null,null,null,null,null,null,null,null,0,0,0,0,0,0,0,0,0,0,0,0,0,0,0,0,0,0,0,0,0,0,0,0,0,0,0,0,0,0,0,0,0,0,0,0,0,0,0,0,0,0,0,0,0,0,0,0,0,0,0,0,0,0,0,0,0,0,0,0,0,0,0,0,0,0,0,0,0,0,0,0,0,0,0,0,0,0,0,0,0,0,0,0,0,0,0,0,0,0,0,0,0,0,0,0,0,0,0,0,0,0,0,0,0,0,0,0,0,0,0,0,0,0,0,0,0,0,0,0,0,0,0,0,0,0,0,0,0,0,0,0,0,0,0,0,0,0,0,0,0,0,0,0,0,0,0,0,0,0,0,0,0,0,0,0,0,0,0,0,0,0,0,0,0,0,0,0,0,0,0,0,0,0,0,0,0,0,0,0,0,0,0,0,null,null,null,null,null,null,null,null,null,null,null,null,null,null,null,null,null,null,null,null,null,null,null,null,null,null,null,null,null,null,null,null,null,null,null,null,null,null,null,null,null,null,null,null,null,null,null,null,null,null,null,null,null,null,null,null,null,null,null,null,null,null,null,null,null,null,null,null,null,null,null,null,null,null,null,null,null,null,null,null,null,null,null,null,null,null,null,null,null,null,null,null,null,null,null,null,null,null,null,null,null,null,null,null,null,null,null,null,null,null,null,null,null,null,null,null,null,null,null,null,null,null,null,null,null,null,null,null,null,null,null,null,null,null,null,null,null,null,null,null,null,null,null,null,null,null,null,null,null,null,null,null,null,null,null,null,null,null,null,null,null,null,null,null,null,null,null,null,null,null,null,null,null,null,null,null,null,null,null,null,null,null,null,null,null,null,null,null,null,null,null,null,null,null,null,null,null,null,null,null,null,null,null,null,null,null,null,null,null,null,null,null,null,null,null,null,null,null,null,null,null,null,null,null,null,null,null,null,null,null,null,null,null,null,null,null,null,null,null,null,null,null,null,null,null,null,null,null,null,null,null,null,null,null,null,null,null,null,null,null,null,null,null,null,null,null,null,null,null,null,null,null,null,null,null,null,null,null,null,null,null,null,null,null,null,null,null,null,null,null,null,null,null,null,null,null,null,null,null,null,null,null,null,null,null,null,null,null,null,null,null,null,null,null,null,null,null,null,null,null,null,null,null,null,null,null,null,null,null,null,null,null,null,null,null,null,null,null,null,null,null,null,null,null,null,null,null,null,null,null,null,null,null,null,null,null,null,null,null,null,null,null,null,null,null,null,null,null,null,null,null,null,null,null,null,null,null,null,null,null,null,null,null,null,null,null,null,null,null,null,null,null,null,null,null,null,null,null,null,null,null,null,null,null,null,null,null,null,null,null,null,null,null,null,null,null,null,null,null,null,null,null,null,null,null,null,null,null,null,null,null,null,null,null,null,null,null,null,null,null,null,null,null,null,null,null,null,null,null,null,null,null,null,null,null,null,null,null,null,null,null,null,null,null,null,null,null,null,null,null,null,null,null,null,null,null,null,null,null,null,null,null,null,null,null,null,null,null,null,null,null,null,null,null,null,null,null,null,null,null,null,null,null,null,null,null,null,null,null,null,null,null,null,null,null,null,null,null,null,null,null,null,null,null,null,null,null,null,null,null,null,null,null,null,null,null,null,null,null,null,null,null,null,null,null,null,null,null,null,null,null,null,null,null,null,null,null,null,null,null,null,null,null,null,null,null,null,null,null,null,null,null,null,null,null,null,null,null,null,null,null,null,null,null,null,null,null,null,null,null,null,null,null,null,null,null,null,null,null,null,null,null,null,null,null,null,null,null,null,null,null,null,null,null,null,null,null,null,null,null,null,null,null,null,null,null,null,null,null,null,null,null,null,null,null,null,null,null,null,null,null,null,null,null,null,null,null,null,null,null,null,null,null,null,null,null,null,null,null,null,null,null,null,null,null,null,null,null,null,null,null,null,null,null,null,null,null,null,null,null,null,null,null,null,null,null,null,null,null,null,null,null,null,null,null,null,null,null,null,null,null,null,null,null,null,null,null,null,null,null,null,null,null,null,null,null,null,null,null,null,null,null,null,null,null,null,null,null,null,null,null,null,null,null,null,null,null,null,null,null,null,null,null,null,null,null,null,null,null,null,null,null,null,null,null,null,null,null,null,null,null,null,null,null,null,null,null,null,null,null,null,null,null,null,null,null,null,null,null,null,null,null,null,null,null,null,null,null,null,null,null,null,null,null,null,null,null,null,null,null,null,null,null,null,null,null,null,null,null,null,null,null,null,null,null,null,null,null,null,null,null,null,null,null,null,null,null,null,null,null,null,null,null,null,null,null,null,null,null,null,null,null,null,null,null,null,null,null,null,null,null,null,null,null,null,null,null,null,null,null,null,null,null,null,null,null,null,null,null,null,null,null,null,null,null,null,null,null,null,null,null,null,null,null,null,null,null,null,null,null,null,null,null,null,null,null,null,null,null,null,null,null,null,null,null,null,null,null,null,null,null,null,null,null,null,null,null,null,null,null,null,null,null,null,null,null,null,null,null,null,null,null,null,null,null,null,null,null,null,null,null,null,null,null,null,null,null,null,null,null,null,null,null,null,null,null,null,null,null,null,null,null,null,null,null,null,null,null,null,null,null,null,null,null,null,null,null,null,null,null,null,null,null,null,null,null,null,null,null,null,null,null,null,null,null,null,null,null,null,null,null,null,null,null,null,null,null,null,null,null,null,null,null,null,null,null,null,null,null,null,null,null,null,null,null,null,null,null,null,null,null,null,null,null,null,null,null,null,null,null,null,null,null,null,null,null,null,null,null,null,null,null,null,null,null,null,null,null,null,null,null,null,null,null,null,null,null,null,null,null,null,null,null,null,null,null,null,null,null,null,null,null,null,null,null,null,null,null,null,null,null,null,null,null,null,null,null,null,null,null,null,null,null,null,null,null,null,null,null,null,null,null,null,null,null,null,null,null,null,null,null,null,null,null,null,null,null,null,null,null,null,null,null,null,null,null,null,null,null,null,null,null,null,null,null,null,null,null,null,null,null,null,null,null,null,null,null,null,null,null,null,null,null,null,null,null,null,null,null,null,null,null,null,null,null,null,null,null,null,null,null,null,null,null,null,null,null,null,null,null,null,null,null,null,null,null,null,null,null,null,null,null,null,null,null,null,null,null,null,null,null,null,null,null,null,null,null,null,null,null,null,null,null,null,null,null,null,null,null,null,null,null,null,null,null,null,null,null,null,null,null,null,null,null,null,null,null,null,null,null,null,null,null,null,null,null,null,null,null,null,null,null,null,null,null,null,null,null,null,null,null,null,null,null,null,null,null,null,null,null,null,null,null,null,null,null,null,null,null,null,null,null,null,null,null,null,null,null,null,null,null,null,null,null,null,null,null,null,null,null,null,null,null,null,null,null,null,null,null,null,null,null,null,null,null,null,null,null,null,null,null,null,null,null,null,null,null,null,null,null,null,null,null,null,null,null,null,null,null,null,null,null,null,null,null,null,null,null,null,null,null,null,null,null,null,null,null,null,null,null,null,null,null,null,null,null,null,null,null,null,null,null,null,null,null,null,null,null,null,null,null,null,null,null,null,null,null,null,null,null,null,null,null,null,null,null,null,null,null,null,null,null,null,null,null,null,null,null,null,null,null,null,null,null,null,null,null,null,null,null,null,null,null,null,null,null,null,null,null,null,null,null,null,null,null,null,null,null,null,null,null,null,null,null,null,null,null,null,null,null,null,null,null,null,null,null,null,null,null,null,null,null,null,null,null,null,null,null,null,null,null,null,null,null,null,null,null,null,null,null,null,null,null,null,null,null,null,null,null,null,null,null,null,null,null,null,null,null,null,null,null,null,null,null,null,null,null,null,null,null,null,null,null,null,null,null,null,null,null,null,null,null,null,null,null,null,null,null,null,null,null,null,null,null,null,null,null,null,null,null,null,null,null,null,null,null,null,null,null,null,null,null,null,null,null,null,null,null,null,null,null,null,null,null,null,null,null,null,null,null,null,null,null,null,null,null,null,null,null,null,null,null,null,null,null,null,null,null,null,null,null,null,null,null,null,null,null,null,null,null,null,null,null,null,null,null,null,null,null,null,null,null,null,null,null,null,null,null,null,null,null,null,null,null,null,null,null,null,null,null,null,null,null,null,null,null,null,null,null,null,null,null,null,null,null,null,2,2,null,null,null,null,null,null,null,null,null,null,null,null,null,null,null,null,null,null,null,null,null,null,null,null,null,null,null,null,null,null,null,null,null,null,null,null,null,null,null,null,null,null,null,null,null,null,null,null,null,null,null,null,null,null,null,null,null,null,null,null,null,null,null,null,null,null,null,null,null,null,null,null,null,null,null,null,null,null,null,null,null,null,null,null,null,null,null,null,null,null,null,null,null,null,null,null,null,null,null,null,null,null,null,null,null,null,null,null,null,null,null,null,null,null,null,null,null,null,null,null,null,null,null,null,null,null,null,null,null,null,null,null,null,null,null,null,null,null,null,null,null,null,null,null,null,null,null,null,null,null,null,null,null,null,null,null,null,null,null,null,null,null,null,null,null,null,null,null,null,null,null,null,null,null,null,null,null,null,null,null,null,null,null,null,null,null,null,null,null,null,null,null,null,null,null,null,null,null,null,null,null,null,null,null,null,null,null,null,null,null,null,null,null,null,null,null,null,null,null,null,null,null,null,null,null,null,null,null,null,null,null,null,null,null,null,null,null,null,null,null,null,null,null,null,null,null,null,null,null,null,null,null,null,null,null,null,null,null,null,null,null,null,null,null,null,null,null,null,null,null,null,null,null,null,null,null,null,null,null,null,null,null,null,null,null,null,null,null,null,null,null,null,null,null,null,null,null,null,null,null,null,null,null,null,null,null,null,null,null,null,null,null,null,null,null,null,null,null,null,null,null,null,null,null,null,null,null,null,null,null,null,null,null,null,null,null,null,null,null,null,null,null,null,null,null,null,null,null,null,null,null,null,null,null,null,null,null,null,null,null,null,null,null,null,null,null,null,null,null,null,null,null,null,null,null,null,null,null,null,null,null,null,null,null,null,null,null,null,null,null,null,null,null,null,null,null,null,null,null,null,null,null,null,null,null,null,null,null,null,null,null,null,null,null,null,null,null,null,null,null,null,null,null,null,null,null,null,null,null,null,null,null,null,null,null,null,null,null,null,null,null,null,null,null,null,null,null,null,null,null,null,null,null,null,null,null,null,77,2,1,6,1,7,1,0,0,0,0,0,0,3,2,null,null,null,null,null,null,1,"Yentna River",2,null,null,"2013-11-27T02:46:00","2013-11-27T02:48:00",null,553,5,"Firefox 23.0","Windows XP","209.112.172.118"]
[1640,80365,1,"1640_80365_1",{"$f":"VLOOKUP(D7,'Lives in SA (Zip)'!$B$4:$E$3989,4,FALSE)","v":0},"sb",1,0,{"$f":"IF(H7=\"\",0,IF(H7=1,0,1))","v":1},{"$f":"(VLOOKUP(AP7,PolicySites!$B$5:$F$122,5,FALSE)*AZ7)+(VLOOKUP(AQ7,PolicySites!$B$5:$F$122,5,FALSE)*BA7)+(VLOOKUP(AR7,PolicySites!$B$5:$F$122,5,FALSE)*BB7)+(VLOOKUP(AS7,PolicySites!$B$5:$F$122,5,FALSE)*BC7)+(VLOOKUP(AT7,PolicySites!$B$5:$F$122,5,FALSE)*BD7)+(VLOOKUP(AU7,PolicySites!$B$5:$F$122,5,FALSE)*BE7)+(VLOOKUP(AV7,PolicySites!$B$5:$F$122,5,FALSE)*BF7)+(VLOOKUP(AW7,PolicySites!$B$5:$F$122,5,FALSE)*BG7)+(VLOOKUP(AX7,PolicySites!$B$5:$F$122,5,FALSE)*BH7)+(VLOOKUP(AY7,PolicySites!$B$5:$F$122,5,FALSE)*BI7)","v":0},9,"Wrangell Mtn","Denali Hwy","Copper Center",null,null,null,null,null,null,null,"Copper Center","Paxson","my house",null,null,null,null,null,null,null,"Wrangell Mtn--Copper Center","Denali Hwy--Paxson","Copper Center--my house","--","--","--","--","--","--","--",{"$f":"IFERROR(VLOOKUP(AF7,'Site Codes'!$V$4:$Y$164,4,FALSE),0)","v":"Snow 17"},{"$f":"IFERROR(VLOOKUP(AG7,'Site Codes'!$V$4:$Y$164,4,FALSE),0)","v":"Snow 20"},{"$f":"IFERROR(VLOOKUP(AH7,'Site Codes'!$V$4:$Y$164,4,FALSE),0)","v":"Snow 17"},{"$f":"IFERROR(VLOOKUP(AI7,'Site Codes'!$V$4:$Y$164,4,FALSE),0)","v":0},{"$f":"IFERROR(VLOOKUP(AJ7,'Site Codes'!$V$4:$Y$164,4,FALSE),0)","v":0},{"$f":"IFERROR(VLOOKUP(AK7,'Site Codes'!$V$4:$Y$164,4,FALSE),0)","v":0},{"$f":"IFERROR(VLOOKUP(AL7,'Site Codes'!$V$4:$Y$164,4,FALSE),0)","v":0},{"$f":"IFERROR(VLOOKUP(AM7,'Site Codes'!$V$4:$Y$164,4,FALSE),0)","v":0},{"$f":"IFERROR(VLOOKUP(AN7,'Site Codes'!$V$4:$Y$164,4,FALSE),0)","v":0},{"$f":"IFERROR(VLOOKUP(AO7,'Site Codes'!$V$4:$Y$164,4,FALSE),0)","v":0},3,2,4,null,null,null,null,null,null,null,0,0,0,0,0,0,0,0,0,0,0,0,0,0,0,0,0,0,0,0,0,0,0,0,0,0,0,0,0,0,0,0,0,0,0,0,0,0,0,0,0,0,0,0,0,0,0,0,0,0,0,0,0,0,0,0,0,0,0,0,0,0,0,0,0,0,0,0,0,0,0,0,0,0,0,0,0,0,0,0,0,0,0,0,0,0,0,0,0,0,0,0,0,0,0,0,0,0,0,0,0,0,0,0,0,0,0,0,0,0,0,0,0,0,0,0,0,0,0,0,0,0,0,0,0,0,0,0,0,0,0,0,0,0,0,0,0,0,0,0,0,0,0,0,0,0,0,0,0,0,0,0,0,0,0,0,0,0,0,0,0,0,0,0,0,0,0,0,0,0,0,0,0,0,0,0,0,0,0,0,0,0,0,0,0,0,0,0,0,0,0,0,0,0,0,0,0,0,0,0,0,0,0,0,0,0,0,0,0,0,0,0,0,0,0,0,0,0,0,0,0,0,0,0,0,0,0,0,0,0,0,0,0,0,0,0,0,0,0,0,0,0,0,0,0,0,0,0,0,0,0,0,0,0,0,0,0,0,0,0,0,0,0,0,0,0,0,0,0,0,0,0,0,0,0,0,0,0,0,0,0,0,0,0,0,0,0,0,0,0,0,0,0,0,0,0,0,0,0,0,0,0,0,0,0,0,0,0,0,0,0,0,0,0,0,0,0,0,0,0,0,0,0,0,0,0,0,0,0,0,0,0,0,0,0,0,0,0,0,0,0,0,0,0,0,0,0,0,0,0,0,0,0,0,0,0,0,0,0,0,0,0,0,0,0,0,0,0,0,0,0,0,0,0,0,0,0,0,0,0,0,0,0,0,0,0,0,0,0,0,0,0,0,0,0,0,0,0,0,0,0,0,0,0,0,0,0,0,0,0,0,0,0,0,0,0,0,0,0,0,0,0,0,0,0,0,0,0,0,0,0,0,0,0,0,0,0,0,0,0,0,0,0,0,0,0,0,0,0,0,0,0,0,0,0,0,0,0,0,0,0,0,0,0,0,0,0,0,0,0,0,0,0,0,0,0,0,0,0,0,0,0,0,0,0,0,0,0,0,0,0,0,0,0,0,0,0,0,0,0,0,0,0,0,0,0,0,0,0,0,0,0,0,0,0,0,0,0,0,0,0,0,0,0,0,0,0,0,0,0,0,0,0,0,0,0,0,0,0,0,0,0,0,0,0,0,0,0,0,0,0,0,null,null,null,null,null,null,null,null,null,null,null,null,null,null,null,null,null,null,null,null,null,null,null,null,null,null,null,null,null,null,null,null,null,null,null,null,null,null,null,null,null,null,null,null,null,null,null,null,null,null,null,null,null,null,null,null,null,null,null,null,null,null,null,null,null,null,null,null,null,null,null,null,null,null,null,null,null,null,null,null,null,null,null,null,null,null,null,null,null,null,null,null,null,null,null,null,null,null,null,null,null,null,null,null,null,null,null,null,null,null,null,null,null,null,null,null,null,null,null,null,null,null,null,null,null,null,null,null,null,null,null,null,null,null,null,null,null,null,null,null,null,null,null,null,null,null,null,null,null,null,null,null,null,null,null,null,null,null,null,null,null,null,null,null,null,null,null,null,null,null,null,null,null,null,null,null,null,null,null,null,null,null,null,null,null,null,null,null,null,null,null,null,null,null,null,null,null,null,null,null,null,null,null,null,null,null,null,null,null,null,null,null,null,null,null,null,null,null,null,null,null,null,null,null,null,null,null,null,null,null,null,null,null,null,null,null,null,null,null,null,null,null,null,null,null,null,null,null,null,null,null,null,null,null,null,null,null,null,null,null,null,null,null,null,null,null,null,null,null,null,null,null,null,null,null,null,null,null,null,null,null,null,null,null,null,null,null,null,null,null,null,null,null,null,null,null,null,null,null,null,null,null,null,null,null,null,null,null,null,null,null,null,null,null,null,null,null,null,null,null,null,null,null,null,null,null,null,null,null,null,null,null,null,null,null,null,null,null,null,null,null,null,null,null,null,null,null,null,null,null,null,null,null,null,null,null,null,null,null,null,null,null,null,null,null,null,null,null,null,null,null,null,null,null,null,null,null,null,null,null,null,null,null,null,null,null,null,null,null,null,null,null,null,null,null,null,null,null,null,null,null,null,null,null,null,null,null,null,null,null,null,null,null,null,null,null,null,null,null,null,null,null,null,null,null,null,null,null,null,null,null,null,null,null,null,null,null,null,null,null,null,null,null,null,null,null,null,null,null,null,null,null,null,null,null,null,null,null,null,null,null,null,null,null,null,null,null,null,null,null,null,null,null,null,null,null,null,null,null,null,null,null,null,null,null,null,null,null,null,null,null,null,null,null,null,null,null,null,null,null,null,null,null,null,null,null,null,null,null,null,null,null,null,null,null,null,null,null,null,null,null,null,null,null,null,null,null,null,null,null,null,null,null,null,null,null,null,null,null,null,null,null,null,null,null,null,null,null,null,null,null,null,null,null,null,null,null,null,null,null,null,null,null,null,null,null,null,null,null,null,null,null,null,null,null,null,null,null,null,null,null,null,null,null,null,null,null,null,null,null,null,null,null,null,null,null,null,null,null,null,null,null,null,null,null,null,null,null,null,null,null,null,null,null,null,null,null,null,null,null,null,null,null,null,null,null,null,null,null,null,null,null,null,null,null,null,null,null,null,null,null,null,null,null,null,null,null,null,null,null,null,null,null,null,null,null,null,null,null,null,null,null,null,null,null,null,null,null,null,null,null,null,null,null,null,null,null,null,null,null,null,null,null,null,null,null,null,null,null,null,null,null,null,null,null,null,null,null,null,null,null,null,null,null,null,null,null,null,null,null,null,null,null,null,null,null,null,null,null,null,null,null,null,null,null,null,null,null,null,null,null,null,null,null,null,null,null,null,null,null,null,null,null,null,null,null,null,null,null,null,null,null,null,null,null,null,null,null,null,null,null,null,null,null,null,null,null,null,null,null,null,null,null,null,null,null,null,null,null,null,null,null,null,null,null,null,null,null,null,null,null,null,null,null,null,null,null,null,null,null,null,null,null,null,null,null,null,null,null,null,null,null,null,null,null,null,null,null,null,null,null,null,null,null,null,null,null,null,null,null,null,null,null,null,null,null,null,null,null,null,null,null,null,null,null,null,null,null,null,null,null,null,null,null,null,null,null,null,null,null,null,null,null,null,null,null,null,null,null,null,null,null,null,null,null,null,null,null,null,null,null,null,null,null,null,null,null,null,null,null,null,null,null,null,null,null,null,null,null,null,null,null,null,null,null,null,null,null,null,null,null,null,null,null,null,null,null,null,null,null,null,null,null,null,null,null,null,null,null,null,null,null,null,null,null,null,null,null,null,null,null,null,null,null,null,null,null,null,null,null,null,null,null,null,null,null,null,null,null,null,null,null,null,null,null,null,null,null,null,null,null,null,null,null,null,null,null,null,null,null,null,null,null,null,null,null,null,null,null,null,null,null,null,null,null,null,null,null,null,null,null,null,null,null,null,null,null,null,null,null,null,null,null,null,null,null,null,null,null,null,null,null,null,null,null,null,null,null,null,null,null,null,null,null,null,null,null,null,null,null,null,null,null,null,null,null,null,null,null,null,null,null,null,null,null,null,null,null,null,null,null,null,null,null,null,null,null,null,null,null,null,null,null,null,null,null,null,null,null,null,null,null,null,null,null,null,null,null,null,null,null,null,null,null,null,null,null,null,null,null,null,null,null,null,null,null,null,null,null,null,null,null,null,null,null,null,null,null,null,null,null,null,null,null,null,null,null,null,null,null,null,null,null,null,null,null,null,null,null,null,null,null,null,null,null,null,null,null,null,null,null,null,null,null,null,null,null,null,null,null,null,null,null,null,null,null,null,null,null,null,null,null,null,null,null,null,null,null,null,null,null,null,null,null,null,null,null,null,null,null,null,null,null,null,null,null,null,null,null,null,null,null,null,null,null,null,null,null,null,null,null,null,null,null,null,null,null,null,null,null,null,null,null,null,null,null,null,null,null,null,null,null,null,null,null,null,null,null,null,null,null,null,null,null,null,null,null,null,null,null,null,null,null,null,null,null,null,null,null,null,null,null,null,null,null,null,null,null,null,null,null,null,null,null,null,null,null,null,null,null,null,null,null,null,null,null,null,null,2,1,2,0,0,0,0,0,1,0,0,0,1,1,0,0,0,0,0,0,1,0,0,0,0,null,null,null,null,null,null,null,5,null,null,null,2,2,null,null,null,null,null,null,2,null,null,null,null,null,null,null,null,null,null,null,0,null,null,null,1,1,null,null,null,null,null,null,0,null,null,null,null,null,null,11,null,null,1,null,0,0,0,0,0,0,0,0,0,0,0,0,0,0,0,0,0,1,0,1,0,0,0,0,0,0,0,0,0,0,0,0,0,0,0,0,0,0,0,0,0,0,0,0,0,0,0,0,0,0,0,0,0,0,0,0,0,0,0,1,1969,2,2,null,2,null,null,null,null,null,null,null,null,null,null,null,null,null,null,null,null,null,null,null,null,null,null,null,null,null,null,null,null,null,null,null,null,null,null,null,null,null,null,null,null,null,null,null,null,null,null,null,null,null,null,null,null,null,null,null,null,null,null,null,null,null,null,null,null,null,null,null,null,null,null,null,null,null,null,null,null,null,null,null,null,null,null,null,null,null,null,null,null,null,null,null,null,null,null,null,null,null,null,null,null,null,null,null,null,null,null,null,null,null,null,null,null,null,null,null,null,null,null,null,null,null,null,null,null,null,null,null,null,null,null,null,null,null,null,null,null,null,null,null,null,null,null,null,null,null,null,null,null,null,null,null,null,null,null,null,null,null,null,null,null,null,null,null,null,null,null,null,null,null,null,null,null,null,null,null,null,null,null,null,null,null,null,null,null,null,null,null,null,null,null,null,null,null,null,null,null,null,null,null,null,null,null,null,null,null,null,null,null,null,null,null,null,null,null,null,null,null,null,null,null,null,null,null,null,null,null,null,null,null,null,2,0,2,2,1,0,0,0,null,3,null,null,null,null,null,null,null,2,null,null,0,0,0,0,1,0,0,0,0,0,0,null,1,0,0,0,0,0,0,0,0,0,0,0,0,null,1,0,0,0,0,1,0,0,0,0,null,3,2,2,1,3,null,1,3,1,2,3,3,2,null,3,3,null,2,1,1,3,3,3,3,3,2,3,42,1,1,2,null,5,1,0,0,0,0,0,0,3,2,null,null,null,null,null,null,2,null,1,null,"907-822-3961","2014-01-04T21:35:00","2014-01-04T21:42:00",null,13562,5,"Firefox 23.0","Windows XP","209.112.172.118",6,10,11,18,null,null,null,null,null,null,null,null,null,null,null,null,null,null,null,null,null,null,null,null,10,11,null,null,null,null,null,null,null,null,null,null,null,null,null,null,null,null,null,null,null,null,null,null,null,null,null,null,null,null,null,null,null,null,null,null,null,null,null,null,null,null,null,null,null,null,null,null,11]
[164,69460,2,"164_69460_2",{"$f":"VLOOKUP(D8,'Lives in SA (Zip)'!$B$4:$E$3989,4,FALSE)","v":0},null,1,0,1,{"$f":"(VLOOKUP(AP8,PolicySites!$B$5:$F$122,5,FALSE)*AZ8)+(VLOOKUP(AQ8,PolicySites!$B$5:$F$122,5,FALSE)*BA8)+(VLOOKUP(AR8,PolicySites!$B$5:$F$122,5,FALSE)*BB8)+(VLOOKUP(AS8,PolicySites!$B$5:$F$122,5,FALSE)*BC8)+(VLOOKUP(AT8,PolicySites!$B$5:$F$122,5,FALSE)*BD8)+(VLOOKUP(AU8,PolicySites!$B$5:$F$122,5,FALSE)*BE8)+(VLOOKUP(AV8,PolicySites!$B$5:$F$122,5,FALSE)*BF8)+(VLOOKUP(AW8,PolicySites!$B$5:$F$122,5,FALSE)*BG8)+(VLOOKUP(AX8,PolicySites!$B$5:$F$122,5,FALSE)*BH8)+(VLOOKUP(AY8,PolicySites!$B$5:$F$122,5,FALSE)*BI8)","v":0},null,"WIllow","Seward","Kodiak",null,null,null,null,null,null,null,"private",null,null,null,null,null,null,null,null,null,"WIllow--private","Seward--","Kodiak--","--","--","--","--","--","--","--",{"$f":"IFERROR(VLOOKUP(AF8,'Site Codes'!$V$4:$Y$164,4,FALSE),0)","v":"Snow 97"},{"$f":"IFERROR(VLOOKUP(AG8,'Site Codes'!$V$4:$Y$164,4,FALSE),0)","v":"Snow 115"},{"$f":"IFERROR(VLOOKUP(AH8,'Site Codes'!$V$4:$Y$164,4,FALSE),0)","v":"Snow 105"},{"$f":"IFERROR(VLOOKUP(AI8,'Site Codes'!$V$4:$Y$164,4,FALSE),0)","v":0},{"$f":"IFERROR(VLOOKUP(AJ8,'Site Codes'!$V$4:$Y$164,4,FALSE),0)","v":0},{"$f":"IFERROR(VLOOKUP(AK8,'Site Codes'!$V$4:$Y$164,4,FALSE),0)","v":0},{"$f":"IFERROR(VLOOKUP(AL8,'Site Codes'!$V$4:$Y$164,4,FALSE),0)","v":0},{"$f":"IFERROR(VLOOKUP(AM8,'Site Codes'!$V$4:$Y$164,4,FALSE),0)","v":0},{"$f":"IFERROR(VLOOKUP(AN8,'Site Codes'!$V$4:$Y$164,4,FALSE),0)","v":0},{"$f":"IFERROR(VLOOKUP(AO8,'Site Codes'!$V$4:$Y$164,4,FALSE),0)","v":0},7,1,1,null,null,null,null,null,null,null,0,0,0,0,0,0,0,0,0,0,0,0,0,0,0,0,0,0,0,0,0,0,0,0,0,0,0,0,0,0,0,0,0,0,0,0,0,0,0,0,0,0,0,0,0,0,0,0,0,0,0,0,0,0,0,0,0,0,0,0,0,0,0,0,0,0,0,0,0,0,0,0,0,0,0,0,0,0,0,0,0,0,0,0,0,0,0,0,0,0,0,0,0,0,0,0,0,0,0,0,0,0,0,0,0,0,0,0,0,0,0,0,0,0,0,0,0,0,0,0,0,0,0,0,0,0,0,0,0,0,0,0,0,0,0,0,0,0,0,0,0,0,0,0,0,0,0,0,0,0,0,0,0,0,0,0,0,0,0,0,0,0,0,0,0,0,0,0,0,0,0,0,0,0,0,0,0,0,0,0,0,0,0,0,null,null,null,null,null,null,null,null,null,null,null,null,null,null,null,null,null,null,null,null,null,null,null,null,null,null,null,null,null,null,null,null,null,null,null,null,null,null,null,null,null,null,null,null,null,null,null,null,null,null,null,null,null,null,null,null,null,null,null,null,null,null,null,null,null,null,null,null,null,null,null,null,null,null,null,null,null,null,null,null,null,null,null,null,null,null,null,null,null,null,null,null,null,null,null,null,null,null,null,null,null,null,null,null,null,null,null,null,null,null,null,null,null,null,null,null,null,null,null,null,null,null,null,null,null,null,null,null,null,null,null,null,null,null,null,null,null,null,null,null,null,null,null,null,null,null,null,null,null,null,null,null,null,null,null,null,null,null,null,null,null,null,null,null,null,null,null,null,null,null,null,null,null,null,null,null,null,null,null,null,null,null,null,null,null,null,null,null,null,null,null,null,null,null,null,null,null,null,null,null,null,null,null,null,null,null,null,null,null,null,null,null,null,null,null,null,null,null,null,null,null,null,null,null,null,null,null,null,null,null,null,null,null,null,null,null,null,null,null,null,null,null,null,null,null,null,null,null,null,null,null,null,null,null,null,null,null,null,null,null,null,null,null,null,null,null,null,null,null,null,null,null,null,null,null,null,null,null,null,null,null,null,null,null,null,null,null,null,null,null,null,null,null,null,null,null,null,null,null,null,null,null,null,null,null,null,null,null,null,null,null,null,null,null,null,null,null,null,null,null,null,null,null,null,null,null,null,null,null,null,null,null,null,null,null,null,null,null,null,null,null,null,null,null,null,null,null,null,null,null,null,null,null,null,null,null,null,null,null,null,null,null,null,null,null,null,null,null,null,null,null,null,null,null,null,null,null,null,null,null,null,null,null,null,null,null,null,null,null,null,null,null,null,null,null,null,null,null,null,null,null,null,null,null,null,null,null,null,null,null,null,null,null,null,null,null,null,null,null,null,null,null,null,null,null,null,null,null,null,null,null,null,null,null,null,null,null,null,null,null,null,null,null,null,null,null,null,null,null,null,null,null,null,null,null,null,null,null,null,null,null,null,null,null,null,null,null,null,null,null,null,null,null,null,null,null,null,null,null,null,null,null,null,null,null,null,null,null,null,null,null,null,null,null,null,null,null,null,null,null,null,null,null,null,null,null,null,null,null,null,null,null,null,null,null,null,null,null,null,null,null,null,null,null,null,null,null,null,null,null,null,null,null,null,null,null,null,null,null,null,null,null,null,null,null,null,null,null,null,null,null,null,null,null,null,null,null,null,null,null,null,null,null,null,null,null,null,null,null,null,null,null,null,null,null,null,null,null,null,null,null,null,null,null,null,null,null,null,null,null,null,null,null,null,null,null,null,null,null,null,null,null,null,null,null,null,null,null,null,null,null,null,null,null,null,null,null,null,null,null,null,null,null,null,null,null,null,null,null,null,null,null,null,null,null,null,null,null,null,null,null,null,null,null,null,null,null,null,null,null,null,null,null,null,null,null,null,null,null,null,null,null,null,null,null,null,null,null,null,null,null,null,null,null,null,null,null,null,null,null,null,null,null,null,null,null,null,null,null,null,null,null,null,null,null,null,null,null,null,null,null,null,null,null,null,null,null,null,null,null,null,null,null,null,null,null,null,null,null,null,null,null,null,null,null,null,null,null,null,null,null,null,null,null,null,null,null,null,null,null,null,null,null,null,null,null,null,null,null,null,null,null,null,null,null,null,null,null,null,null,null,null,null,null,null,null,null,null,null,null,null,null,null,null,null,null,null,null,null,null,null,null,null,null,null,null,null,null,null,null,null,null,null,null,null,null,null,null,null,null,null,null,null,null,null,null,null,null,null,null,null,null,null,null,null,null,null,null,null,null,null,null,null,null,null,null,null,null,null,null,null,null,null,null,null,null,null,null,null,null,null,null,null,null,null,null,null,null,null,null,null,null,null,null,null,null,null,null,null,null,null,null,null,null,null,null,null,null,null,null,null,null,null,null,null,null,null,null,null,null,null,null,null,null,null,null,null,null,null,null,null,null,null,null,null,null,null,null,null,null,null,null,null,null,null,null,null,null,null,null,null,null,null,null,null,null,null,null,null,null,null,null,null,null,null,null,null,null,null,null,null,null,null,null,null,null,null,null,null,null,null,null,null,null,null,null,null,null,null,null,null,null,null,null,null,null,null,null,null,null,null,null,null,null,null,null,null,null,null,null,null,null,null,null,null,null,null,null,null,null,null,null,null,null,null,null,null,null,null,null,null,null,null,null,null,null,null,null,null,null,null,null,null,null,null,null,null,null,null,null,null,null,null,null,null,null,null,null,null,null,null,null,null,null,null,null,null,null,null,null,null,null,null,null,null,null,null,null,null,null,null,null,null,null,null,null,null,null,null,null,null,null,null,null,null,null,null,null,null,null,null,null,null,null,null,null,null,null,null,null,null,null,null,null,null,null,null,null,null,null,null,null,null,null,null,null,null,null,null,null,null,null,null,null,null,null,null,null,null,null,null,null,null,null,null,null,null,null,null,null,null,null,null,null,null,null,null,null,null,null,null,null,null,null,null,null,null,null,null,null,null,null,null,null,null,null,null,null,null,null,null,null,null,null,null,null,null,null,null,null,null,null,null,null,null,null,null,null,null,null,null,null,null,null,null,null,null,null,null,null,null,null,null,null,null,null,null,null,null,null,null,null,null,null,null,null,null,null,null,null,null,null,null,null,null,null,null,null,null,null,null,null,null,null,null,null,null,null,null,null,null,null,null,null,null,null,null,null,null,null,null,null,null,null,null,null,null,null,null,null,null,null,null,null,null,null,null,null,null,null,null,null,null,null,null,null,null,null,null,null,null,null,null,null,null,null,null,null,null,null,null,null,null,null,null,null,null,null,null,null,null,null,null,null,null,null,null,null,null,null,null,null,null,null,null,null,null,null,null,null,null,null,null,null,null,null,null,null,null,null,null,null,null,null,null,null,null,null,null,null,null,null,null,null,null,null,null,null,null,null,null,null,null,null,null,null,null,null,null,null,null,null,null,null,null,null,null,null,null,null,null,null,null,null,null,null,null,null,null,null,null,null,null,null,null,null,null,null,null,null,null,null,null,null,null,null,null,null,null,null,null,null,null,null,null,null,null,null,null,null,null,null,null,null,null,null,null,null,null,null,null,null,null,null,null,null,null,null,null,null,null,null,null,null,null,null,null,null,null,null,null,null,null,null,null,null,null,null,null,null,null,null,null,null,null,null,null,null,null,null,null,null,null,null,null,null,null,null,null,null,null,null,null,null,null,null,null,null,null,null,null,null,null,null,null,null,null,null,null,null,null,null,null,null,null,null,null,null,null,null,null,null,null,null,null,null,null,null,null,null,null,null,null,null,null,null,null,null,null,null,null,null,null,null,null,null,null,null,null,null,null,null,null,null,null,null,null,null,null,null,null,null,null,null,null,null,null,null,null,null,null,null,null,null,null,null,null,null,null,null,null,null,null,null,null,null,null,null,null,null,null,null,null,null,null,null,null,null,null,null,null,null,null,null,null,null,null,null,null,null,null,null,null,null,null,null,null,null,null,null,null,null,null,null,null,null,null,null,null,null,null,null,null,null,null,null,null,null,null,null,null,null,null,null,null,null,null,null,null,null,null,null,null,null,null,null,null,null,null,null,null,null,null,null,null,null,null,null,null,null,null,null,null,null,null,null,null,null,null,null,null,null,null,null,null,null,null,null,null,null,null,null,null,null,null,null,null,null,null,null,null,null,null,null,null,null,2,1,7,0,0,0,0,0,1,0,0,0,0,0,1,0,1,0,1,1,0,0,0,0,0,null,null,null,null,null,null,null,2,null,null,null,null,null,3,null,1,null,2,5,null,null,null,null,null,null,null,null,null,null,null,null,1,null,null,null,null,null,0,null,0,null,0,0,null,null,null,null,null,null,null,6,null,null,null,null,0,0,0,0,0,0,0,0,0,0,0,0,0,0,0,0,0,0,0,0,0,0,0,0,0,0,0,0,0,0,0,0,0,0,0,0,0,0,0,0,0,0,0,0,0,0,0,0,0,1,0,0,0,0,0,0,0,0,0,2,null,null,2,null,2,null,null,null,null,null,null,null,null,null,null,null,null,null,null,null,null,null,null,null,null,null,null,null,null,null,null,null,null,null,null,null,null,null,null,null,null,null,null,null,null,null,null,null,null,null,null,null,null,null,null,null,null,null,null,null,null,null,null,null,null,null,null,null,null,null,null,null,null,null,null,null,null,null,null,null,null,null,null,null,null,null,null,null,null,null,null,null,null,null,null,null,null,null,null,null,null,null,null,null,null,null,null,null,null,null,null,null,null,null,null,null,null,null,null,null,null,null,null,null,null,null,null,null,null,null,null,null,null,null,null,null,null,null,null,null,null,null,null,null,null,null,null,null,null,null,null,null,null,null,null,null,null,null,null,null,null,null,null,null,null,null,null,null,null,null,null,null,null,null,null,null,null,null,null,null,null,null,null,null,null,null,null,null,null,null,null,null,null,null,null,null,null,null,null,null,null,null,null,null,null,null,null,null,null,null,null,null,null,null,null,null,null,null,null,null,null,null,null,null,null,null,null,null,null,null,null,null,null,null,null,2,0,null,2,2,null,null,null,null,3,null,null,null,null,null,null,null,2,null,null,0,0,0,0,0,1,0,0,0,0,0,null,1,0,0,0,0,0,0,0,0,0,0,0,0,null,1,0,0,0,0,0,0,0,1,0,null,2,2,3,3,3,2,2,3,2,2,4,3,2,4,3,2,2,3,3,2,1,3,3,3,3,3,3,62,2,1,3,1,4,0,0,0,1,0,0,0,6,2,null,null,null,null,null,null,2,null,1,"monicainak@gmail.com",null,"2013-10-31T17:16:00","2013-10-31T17:30:00",null,466,5,"MSIE 8.0","Windows XP","72.35.103.208",6,12,14,16,17,null,null,null,null,null,null,null,null,null,null,null,null,null,null,null,null,null,6,null,null,null,null,null,null,null,null,null,null,null,null,null,null,null,null,null,null,null,null,null,null,null,null,null,null,null,null,null,null,null,null,null,null,null,null,null,null,null,null,null,null,null,6]
[544,89325,1,"544_89325_1",{"$f":"VLOOKUP(D9,'Lives in SA (Zip)'!$B$4:$E$3989,4,FALSE)","v":0},"sb",1,0,1,{"$f":"(VLOOKUP(AP9,PolicySites!$B$5:$F$122,5,FALSE)*AZ9)+(VLOOKUP(AQ9,PolicySites!$B$5:$F$122,5,FALSE)*BA9)+(VLOOKUP(AR9,PolicySites!$B$5:$F$122,5,FALSE)*BB9)+(VLOOKUP(AS9,PolicySites!$B$5:$F$122,5,FALSE)*BC9)+(VLOOKUP(AT9,PolicySites!$B$5:$F$122,5,FALSE)*BD9)+(VLOOKUP(AU9,PolicySites!$B$5:$F$122,5,FALSE)*BE9)+(VLOOKUP(AV9,PolicySites!$B$5:$F$122,5,FALSE)*BF9)+(VLOOKUP(AW9,PolicySites!$B$5:$F$122,5,FALSE)*BG9)+(VLOOKUP(AX9,PolicySites!$B$5:$F$122,5,FALSE)*BH9)+(VLOOKUP(AY9,PolicySites!$B$5:$F$122,5,FALSE)*BI9)","v":0},29,"Willow",null,null,null,null,null,null,null,null,null,"My home",null,null,null,null,null,null,null,null,null,"Willow--My home","--","--","--","--","--","--","--","--","--",{"$f":"IFERROR(VLOOKUP(AF9,'Site Codes'!$V$4:$Y$164,4,FALSE),0)","v":"Snow 97"},{"$f":"IFERROR(VLOOKUP(AG9,'Site Codes'!$V$4:$Y$164,4,FALSE),0)","v":0},{"$f":"IFERROR(VLOOKUP(AH9,'Site Codes'!$V$4:$Y$164,4,FALSE),0)","v":0},{"$f":"IFERROR(VLOOKUP(AI9,'Site Codes'!$V$4:$Y$164,4,FALSE),0)","v":0},{"$f":"IFERROR(VLOOKUP(AJ9,'Site Codes'!$V$4:$Y$164,4,FALSE),0)","v":0},{"$f":"IFERROR(VLOOKUP(AK9,'Site Codes'!$V$4:$Y$164,4,FALSE),0)","v":0},{"$f":"IFERROR(VLOOKUP(AL9,'Site Codes'!$V$4:$Y$164,4,FALSE),0)","v":0},{"$f":"IFERROR(VLOOKUP(AM9,'Site Codes'!$V$4:$Y$164,4,FALSE),0)","v":0},{"$f":"IFERROR(VLOOKUP(AN9,'Site Codes'!$V$4:$Y$164,4,FALSE),0)","v":0},{"$f":"IFERROR(VLOOKUP(AO9,'Site Codes'!$V$4:$Y$164,4,FALSE),0)","v":0},29,null,null,null,null,null,null,null,null,null,0,0,0,0,0,0,0,0,0,0,0,0,0,0,0,0,0,0,0,0,0,0,0,0,0,0,0,0,0,0,0,0,0,0,0,0,0,0,0,0,0,0,0,0,0,0,0,0,0,0,0,0,0,0,0,0,0,0,0,0,0,0,0,0,0,0,0,0,0,0,0,0,0,0,0,0,0,0,0,0,0,0,0,0,0,0,0,0,0,0,0,0,0,0,0,0,0,0,0,0,0,0,0,0,0,0,0,0,0,0,0,0,0,0,0,0,0,0,0,0,0,0,0,0,0,0,0,0,0,0,0,0,0,0,0,0,0,0,0,0,0,0,0,0,0,0,0,0,0,0,0,0,0,0,0,0,0,0,0,0,0,0,0,0,0,0,0,0,0,0,0,0,0,0,0,0,0,0,0,0,0,0,0,0,null,null,null,null,null,null,null,null,null,null,null,null,null,null,null,null,null,null,null,null,null,null,null,null,null,null,null,null,null,null,null,null,null,null,null,null,null,null,null,null,null,null,null,null,null,null,null,null,null,null,null,null,null,null,null,null,null,null,null,null,null,null,null,null,null,null,null,null,null,null,null,null,null,null,null,null,null,null,null,null,null,null,null,null,null,null,null,null,null,null,null,null,null,null,null,null,null,null,null,null,null,null,null,null,null,null,null,null,null,null,null,null,null,null,null,null,null,null,null,null,null,null,null,null,null,null,null,null,null,null,null,null,null,null,null,null,null,null,null,null,null,null,null,null,null,null,null,null,null,null,null,null,null,null,null,null,null,null,null,null,null,null,null,null,null,null,null,null,null,null,null,null,null,null,null,null,null,null,null,null,null,null,null,null,null,null,null,null,null,null,null,null,null,null,null,null,null,null,null,null,null,null,null,null,null,null,null,null,null,null,null,null,null,null,null,null,null,null,null,null,null,null,null,null,null,null,null,null,null,null,null,null,null,null,null,null,null,null,null,null,null,null,null,null,null,null,null,null,null,null,null,null,null,null,null,null,null,null,null,null,null,null,null,null,null,null,null,null,null,null,null,null,null,null,null,null,null,null,null,null,null,null,null,null,null,null,null,null,null,null,null,null,null,null,null,null,null,null,null,null,null,null,null,null,null,null,null,null,null,null,null,null,null,null,null,null,null,null,null,null,null,null,null,null,null,null,null,null,null,null,null,null,null,null,null,null,null,null,null,null,null,null,null,null,null,null,null,null,null,null,null,null,null,null,null,null,null,null,null,null,null,null,null,null,null,null,null,null,null,null,null,null,null,null,null,null,null,null,null,null,null,null,null,null,null,null,null,null,null,null,null,null,null,null,null,null,null,null,null,null,null,null,null,null,null,null,null,null,null,null,null,null,null,null,null,null,null,null,null,null,null,null,null,null,null,null,null,null,null,null,null,null,null,null,null,null,null,null,null,null,null,null,null,null,null,null,null,null,null,null,null,null,null,null,null,null,null,null,null,null,null,null,null,null,null,null,null,null,null,null,null,null,null,null,null,null,null,null,null,null,null,null,null,null,null,null,null,null,null,null,null,null,null,null,null,null,null,null,null,null,null,null,null,null,null,null,null,null,null,null,null,null,null,null,null,null,null,null,null,null,null,null,null,null,null,null,null,null,null,null,null,null,null,null,null,null,null,null,null,null,null,null,null,null,null,null,null,null,null,null,null,null,null,null,null,null,null,null,null,null,null,null,null,null,null,null,null,null,null,null,null,null,null,null,null,null,null,null,null,null,null,null,null,null,null,null,null,null,null,null,null,null,null,null,null,null,null,null,null,null,null,null,null,null,null,null,null,null,null,null,null,null,null,null,null,null,null,null,null,null,null,null,null,null,null,null,null,null,null,null,null,null,null,null,null,null,null,null,null,null,null,null,null,null,null,null,null,null,null,null,null,null,null,null,null,null,null,null,null,null,null,null,null,null,null,null,null,null,null,null,null,null,null,null,null,null,null,null,null,null,null,null,null,null,null,null,null,null,null,null,null,null,null,null,null,null,null,null,null,null,null,null,null,null,null,null,null,null,null,null,null,null,null,null,null,null,null,null,null,null,null,null,null,null,null,null,null,null,null,null,null,null,null,null,null,null,null,null,null,null,null,null,null,null,null,null,null,null,null,null,null,null,null,null,null,null,null,null,null,null,null,null,null,null,null,null,null,null,null,null,null,null,null,null,null,null,null,null,null,null,null,null,null,null,null,null,null,null,null,null,null,null,null,null,null,null,null,null,null,null,null,null,null,null,null,null,null,null,null,null,null,null,null,null,null,null,null,null,null,null,null,null,null,null,null,null,null,null,null,null,null,null,null,null,null,null,null,null,null,null,null,null,null,null,null,null,null,null,null,null,null,null,null,null,null,null,null,null,null,null,null,null,null,null,null,null,null,null,null,null,null,null,null,null,null,null,null,null,null,null,null,null,null,null,null,null,null,null,null,null,null,null,null,null,null,null,null,null,null,null,null,null,null,null,null,null,null,null,null,null,null,null,null,null,null,null,null,null,null,null,null,null,null,null,null,null,null,null,null,null,null,null,null,null,null,null,null,null,null,null,null,null,null,null,null,null,null,null,null,null,null,null,null,null,null,null,null,null,null,null,null,null,null,null,null,null,null,null,null,null,null,null,null,null,null,null,null,null,null,null,null,null,null,null,null,null,null,null,null,null,null,null,null,null,null,null,null,null,null,null,null,null,null,null,null,null,null,null,null,null,null,null,null,null,null,null,null,null,null,null,null,null,null,null,null,null,null,null,null,null,null,null,null,null,null,null,null,null,null,null,null,null,null,null,null,null,null,null,null,null,null,null,null,null,null,null,null,null,null,null,null,null,null,null,null,null,null,null,null,null,null,null,null,null,null,null,null,null,null,null,null,null,null,null,null,null,null,null,null,null,null,null,null,null,null,null,null,null,null,null,null,null,null,null,null,null,null,null,null,null,null,null,null,null,null,null,null,null,null,null,null,null,null,null,null,null,null,null,null,null,null,null,null,null,null,null,null,null,null,null,null,null,null,null,null,null,null,null,null,null,null,null,null,null,null,null,null,null,null,null,null,null,null,null,null,null,null,null,null,null,null,null,null,null,null,null,null,null,null,null,null,null,null,null,null,null,null,null,null,null,null,null,null,null,null,null,null,null,null,null,null,null,null,null,null,null,null,null,null,null,null,null,null,null,null,null,null,null,null,null,null,null,null,null,null,null,null,null,null,null,null,null,null,null,null,null,null,null,null,null,null,null,null,null,null,null,null,null,null,null,null,null,null,null,null,null,null,null,null,null,null,null,null,null,null,null,null,null,null,null,null,null,null,null,null,null,null,null,null,null,null,null,null,null,null,null,null,null,null,null,null,null,null,null,null,null,null,null,null,null,null,null,null,null,null,null,null,null,null,null,null,null,null,null,null,null,null,null,null,null,null,null,null,null,null,null,null,null,null,null,null,null,null,null,null,null,null,null,null,null,null,null,null,null,null,null,null,null,null,null,null,null,null,null,null,null,null,null,null,null,null,null,null,null,null,null,null,null,null,null,null,null,null,null,null,null,null,null,null,null,null,null,null,null,null,null,null,null,null,null,null,null,null,null,null,null,null,null,null,null,null,null,null,null,null,null,null,null,null,null,null,null,null,null,null,null,null,null,null,null,null,null,null,null,null,null,null,null,null,null,null,null,null,null,null,null,null,null,null,null,null,null,null,null,null,null,null,null,null,null,null,null,null,null,null,null,null,null,null,null,null,null,null,null,null,null,null,null,null,null,null,null,null,null,null,null,null,null,null,null,null,null,null,null,null,null,null,null,null,null,null,null,null,null,null,null,null,null,null,null,null,null,null,null,null,null,null,null,null,null,null,null,null,null,null,null,null,null,null,null,null,null,null,null,null,null,null,null,null,null,null,null,null,null,null,null,null,null,null,null,null,null,null,null,null,null,null,null,null,null,null,null,null,null,null,null,null,null,null,null,null,null,null,null,null,null,null,null,null,null,null,null,null,null,null,null,null,null,null,null,null,null,null,null,null,null,null,null,null,null,null,null,null,null,null,null,null,null,null,null,null,null,null,null,null,null,null,null,null,null,null,null,null,null,null,null,null,null,null,null,null,null,null,null,null,null,null,null,null,null,null,null,null,null,null,null,null,null,null,null,null,null,null,null,null,null,null,null,null,null,null,null,null,null,null,null,2,2,null,null,null,null,null,null,null,null,null,null,null,null,null,null,null,null,null,null,null,null,null,null,null,null,null,null,null,null,null,null,null,null,null,null,null,null,null,null,null,null,null,null,null,null,null,null,null,null,null,null,null,null,null,null,null,null,null,null,null,null,null,null,null,null,null,null,null,null,null,null,null,null,null,null,null,null,null,null,null,null,null,null,null,null,null,null,null,null,null,null,null,null,null,null,null,null,null,null,null,null,null,null,null,null,null,null,null,null,null,null,null,null,null,null,null,null,null,null,null,null,null,null,null,null,null,null,null,null,null,null,null,null,null,null,null,null,null,null,null,null,null,null,null,null,null,null,null,null,null,null,null,null,null,null,null,null,null,null,null,null,null,null,null,null,null,null,null,null,null,null,null,null,null,null,null,null,null,null,null,null,null,null,null,null,null,null,null,null,null,null,null,null,null,null,null,null,null,null,null,null,null,null,null,null,null,null,null,null,null,null,null,null,null,null,null,null,null,null,null,null,null,null,null,null,null,null,null,null,null,null,null,null,null,null,null,null,null,null,null,null,null,null,null,null,null,null,null,null,null,null,null,null,null,null,null,null,null,null,null,null,null,null,null,null,null,null,null,null,null,null,null,null,null,null,null,null,null,null,null,null,null,null,null,null,null,null,null,null,null,null,null,null,null,null,null,null,null,null,null,null,null,null,null,null,null,null,null,null,null,null,null,null,null,null,null,null,null,null,null,null,null,null,null,null,null,null,null,null,null,null,null,null,null,null,null,null,null,null,null,null,null,null,null,null,null,null,null,null,null,null,null,null,null,null,null,null,null,null,null,null,null,null,null,null,null,null,null,null,null,null,null,null,null,null,null,null,null,null,null,null,null,null,null,null,null,null,null,null,null,null,null,null,null,null,null,null,null,null,null,null,null,null,null,null,null,null,null,null,null,null,null,null,null,null,null,null,null,null,null,null,null,null,null,null,null,null,null,null,null,null,null,null,null,null,null,null,null,null,null,null,null,null,null,null,null,null,null,null,null,null,null,null,null,null,null,null,null,52,1,1,2,null,null,0,0,0,0,0,0,1,5,2,null,null,null,null,null,null,2,null,2,null,null,"2013-12-19T03:05:00","2013-12-19T03:06:00",null,1002,5,"Firefox 23.0","Windows XP","209.112.172.118"]
[1130,86225,1,"1130_86225_1",{"$f":"VLOOKUP(D10,'Lives in SA (Zip)'!$B$4:$E$3989,4,FALSE)","v":0},"ce",1,0,1,{"$f":"(VLOOKUP(AP10,PolicySites!$B$5:$F$122,5,FALSE)*AZ10)+(VLOOKUP(AQ10,PolicySites!$B$5:$F$122,5,FALSE)*BA10)+(VLOOKUP(AR10,PolicySites!$B$5:$F$122,5,FALSE)*BB10)+(VLOOKUP(AS10,PolicySites!$B$5:$F$122,5,FALSE)*BC10)+(VLOOKUP(AT10,PolicySites!$B$5:$F$122,5,FALSE)*BD10)+(VLOOKUP(AU10,PolicySites!$B$5:$F$122,5,FALSE)*BE10)+(VLOOKUP(AV10,PolicySites!$B$5:$F$122,5,FALSE)*BF10)+(VLOOKUP(AW10,PolicySites!$B$5:$F$122,5,FALSE)*BG10)+(VLOOKUP(AX10,PolicySites!$B$5:$F$122,5,FALSE)*BH10)+(VLOOKUP(AY10,PolicySites!$B$5:$F$122,5,FALSE)*BI10)","v":0},1,"Willow Lake Mile 89 Richardson Hwy",null,null,null,null,null,null,null,null,null,"Mile 89 Richardson Hwy",null,null,null,null,null,null,null,null,null,"Willow Lake Mile 89 Richardson Hwy--Mile 89 Richardson Hwy","--","--","--","--","--","--","--","--","--",{"$f":"IFERROR(VLOOKUP(AF10,'Site Codes'!$V$4:$Y$164,4,FALSE),0)","v":"Snow 97"},{"$f":"IFERROR(VLOOKUP(AG10,'Site Codes'!$V$4:$Y$164,4,FALSE),0)","v":0},{"$f":"IFERROR(VLOOKUP(AH10,'Site Codes'!$V$4:$Y$164,4,FALSE),0)","v":0},{"$f":"IFERROR(VLOOKUP(AI10,'Site Codes'!$V$4:$Y$164,4,FALSE),0)","v":0},{"$f":"IFERROR(VLOOKUP(AJ10,'Site Codes'!$V$4:$Y$164,4,FALSE),0)","v":0},{"$f":"IFERROR(VLOOKUP(AK10,'Site Codes'!$V$4:$Y$164,4,FALSE),0)","v":0},{"$f":"IFERROR(VLOOKUP(AL10,'Site Codes'!$V$4:$Y$164,4,FALSE),0)","v":0},{"$f":"IFERROR(VLOOKUP(AM10,'Site Codes'!$V$4:$Y$164,4,FALSE),0)","v":0},{"$f":"IFERROR(VLOOKUP(AN10,'Site Codes'!$V$4:$Y$164,4,FALSE),0)","v":0},{"$f":"IFERROR(VLOOKUP(AO10,'Site Codes'!$V$4:$Y$164,4,FALSE),0)","v":0},1,null,null,null,null,null,null,null,null,null,0,0,0,0,0,0,0,0,0,0,0,0,0,0,0,0,0,0,0,0,0,0,0,0,0,0,0,0,0,0,0,0,0,0,0,0,0,0,0,0,0,0,0,0,0,0,0,0,0,0,0,0,0,0,0,0,0,0,0,0,0,0,0,0,0,0,0,0,0,0,0,0,0,0,0,0,0,0,0,0,0,0,0,0,0,0,0,0,0,0,0,0,0,0,0,0,0,0,0,0,0,0,0,0,0,0,0,0,0,0,0,0,0,0,0,0,0,0,0,0,0,0,0,0,0,0,0,0,0,0,0,0,0,0,0,0,0,0,0,0,0,0,0,0,0,0,0,0,0,0,0,0,0,0,0,0,0,0,0,0,0,0,0,0,0,0,0,0,0,0,0,0,0,0,0,0,0,0,0,0,0,0,0,0,null,null,null,null,null,null,null,null,null,null,null,null,null,null,null,null,null,null,null,null,null,null,null,null,null,null,null,null,null,null,null,null,null,null,null,null,null,null,null,null,null,null,null,null,null,null,null,null,null,null,null,null,null,null,null,null,null,null,null,null,null,null,null,null,null,null,null,null,null,null,null,null,null,null,null,null,null,null,null,null,null,null,null,null,null,null,null,null,null,null,null,null,null,null,null,null,null,null,null,null,null,null,null,null,null,null,null,null,null,null,null,null,null,null,null,null,null,null,null,null,null,null,null,null,null,null,null,null,null,null,null,null,null,null,null,null,null,null,null,null,null,null,null,null,null,null,null,null,null,null,null,null,null,null,null,null,null,null,null,null,null,null,null,null,null,null,null,null,null,null,null,null,null,null,null,null,null,null,null,null,null,null,null,null,null,null,null,null,null,null,null,null,null,null,null,null,null,null,null,null,null,null,null,null,null,null,null,null,null,null,null,null,null,null,null,null,null,null,null,null,null,null,null,null,null,null,null,null,null,null,null,null,null,null,null,null,null,null,null,null,null,null,null,null,null,null,null,null,null,null,null,null,null,null,null,null,null,null,null,null,null,null,null,null,null,null,null,null,null,null,null,null,null,null,null,null,null,null,null,null,null,null,null,null,null,null,null,null,null,null,null,null,null,null,null,null,null,null,null,null,null,null,null,null,null,null,null,null,null,null,null,null,null,null,null,null,null,null,null,null,null,null,null,null,null,null,null,null,null,null,null,null,null,null,null,null,null,null,null,null,null,null,null,null,null,null,null,null,null,null,null,null,null,null,null,null,null,null,null,null,null,null,null,null,null,null,null,null,null,null,null,null,null,null,null,null,null,null,null,null,null,null,null,null,null,null,null,null,null,null,null,null,null,null,null,null,null,null,null,null,null,null,null,null,null,null,null,null,null,null,null,null,null,null,null,null,null,null,null,null,null,null,null,null,null,null,null,null,null,null,null,null,null,null,null,null,null,null,null,null,null,null,null,null,null,null,null,null,null,null,null,null,null,null,null,null,null,null,null,null,null,null,null,null,null,null,null,null,null,null,null,null,null,null,null,null,null,null,null,null,null,null,null,null,null,null,null,null,null,null,null,null,null,null,null,null,null,null,null,null,null,null,null,null,null,null,null,null,null,null,null,null,null,null,null,null,null,null,null,null,null,null,null,null,null,null,null,null,null,null,null,null,null,null,null,null,null,null,null,null,null,null,null,null,null,null,null,null,null,null,null,null,null,null,null,null,null,null,null,null,null,null,null,null,null,null,null,null,null,null,null,null,null,null,null,null,null,null,null,null,null,null,null,null,null,null,null,null,null,null,null,null,null,null,null,null,null,null,null,null,null,null,null,null,null,null,null,null,null,null,null,null,null,null,null,null,null,null,null,null,null,null,null,null,null,null,null,null,null,null,null,null,null,null,null,null,null,null,null,null,null,null,null,null,null,null,null,null,null,null,null,null,null,null,null,null,null,null,null,null,null,null,null,null,null,null,null,null,null,null,null,null,null,null,null,null,null,null,null,null,null,null,null,null,null,null,null,null,null,null,null,null,null,null,null,null,null,null,null,null,null,null,null,null,null,null,null,null,null,null,null,null,null,null,null,null,null,null,null,null,null,null,null,null,null,null,null,null,null,null,null,null,null,null,null,null,null,null,null,null,null,null,null,null,null,null,null,null,null,null,null,null,null,null,null,null,null,null,null,null,null,null,null,null,null,null,null,null,null,null,null,null,null,null,null,null,null,null,null,null,null,null,null,null,null,null,null,null,null,null,null,null,null,null,null,null,null,null,null,null,null,null,null,null,null,null,null,null,null,null,null,null,null,null,null,null,null,null,null,null,null,null,null,null,null,null,null,null,null,null,null,null,null,null,null,null,null,null,null,null,null,null,null,null,null,null,null,null,null,null,null,null,null,null,null,null,null,null,null,null,null,null,null,null,null,null,null,null,null,null,null,null,null,null,null,null,null,null,null,null,null,null,null,null,null,null,null,null,null,null,null,null,null,null,null,null,null,null,null,null,null,null,null,null,null,null,null,null,null,null,null,null,null,null,null,null,null,null,null,null,null,null,null,null,null,null,null,null,null,null,null,null,null,null,null,null,null,null,null,null,null,null,null,null,null,null,null,null,null,null,null,null,null,null,null,null,null,null,null,null,null,null,null,null,null,null,null,null,null,null,null,null,null,null,null,null,null,null,null,null,null,null,null,null,null,null,null,null,null,null,null,null,null,null,null,null,null,null,null,null,null,null,null,null,null,null,null,null,null,null,null,null,null,null,null,null,null,null,null,null,null,null,null,null,null,null,null,null,null,null,null,null,null,null,null,null,null,null,null,null,null,null,null,null,null,null,null,null,null,null,null,null,null,null,null,null,null,null,null,null,null,null,null,null,null,null,null,null,null,null,null,null,null,null,null,null,null,null,null,null,null,null,null,null,null,null,null,null,null,null,null,null,null,null,null,null,null,null,null,null,null,null,null,null,null,null,null,null,null,null,null,null,null,null,null,null,null,null,null,null,null,null,null,null,null,null,null,null,null,null,null,null,null,null,null,null,null,null,null,null,null,null,null,null,null,null,null,null,null,null,null,null,null,null,null,null,null,null,null,null,null,null,null,null,null,null,null,null,null,null,null,null,null,null,null,null,null,null,null,null,null,null,null,null,null,null,null,null,null,null,null,null,null,null,null,null,null,null,null,null,null,null,null,null,null,null,null,null,null,null,null,null,null,null,null,null,null,null,null,null,null,null,null,null,null,null,null,null,null,null,null,null,null,null,null,null,null,null,null,null,null,null,null,null,null,null,null,null,null,null,null,null,null,null,null,null,null,null,null,null,null,null,null,null,null,null,null,null,null,null,null,null,null,null,null,null,null,null,null,null,null,null,null,null,null,null,null,null,null,null,null,null,null,null,null,null,null,null,null,null,null,null,null,null,null,null,null,null,null,null,null,null,null,null,null,null,null,null,null,null,null,null,null,null,null,null,null,null,null,null,null,null,null,null,null,null,null,null,null,null,null,null,null,null,null,null,null,null,null,null,null,null,null,null,null,null,null,null,null,null,null,null,null,null,null,null,null,null,null,null,null,null,null,null,null,null,null,null,null,null,null,null,null,null,null,null,null,null,null,null,null,null,null,null,null,null,null,null,null,null,null,null,null,null,null,null,null,null,null,null,null,null,null,null,null,null,null,null,null,null,null,null,null,null,null,null,null,null,null,null,null,null,null,null,null,null,null,null,null,null,null,null,null,null,null,null,null,null,null,null,null,null,null,null,null,null,null,null,null,null,null,null,null,null,null,null,null,null,null,null,null,null,null,null,null,null,null,null,null,null,null,null,null,null,null,null,null,null,null,null,null,null,null,null,null,null,null,null,null,null,null,null,null,null,null,null,null,null,null,null,null,null,null,null,null,null,null,null,null,null,null,null,null,null,null,null,null,null,null,null,null,null,null,null,null,null,null,null,null,null,null,null,null,null,null,null,null,null,null,null,null,null,null,null,null,null,null,null,null,null,null,null,null,null,null,null,null,null,null,null,null,null,null,null,null,null,null,null,null,null,null,null,null,null,null,null,null,null,null,null,null,null,null,null,null,null,null,null,null,null,null,null,null,null,null,null,null,null,null,null,null,null,null,null,null,null,null,null,null,null,null,null,null,null,null,null,null,null,null,null,null,null,null,null,null,null,null,null,null,null,null,null,null,null,null,null,null,null,null,null,null,null,null,null,null,null,2,1,null,0,0,0,0,0,0,0,0,0,0,0,1,0,0,0,0,0,0,1,0,0,0,null,null,null,null,null,null,null,null,null,null,null,null,null,1,null,null,null,null,null,null,30,null,null,null,null,null,null,null,null,null,null,null,null,null,null,null,null,1,null,null,null,null,null,null,1,null,null,null,null,null,19,null,null,null,null,0,0,0,0,0,0,0,0,0,0,0,0,0,0,0,0,0,0,1,0,0,0,0,0,0,0,0,0,0,0,0,0,0,0,0,0,0,0,0,0,0,0,0,0,0,0,0,0,0,0,0,0,0,0,0,0,0,0,0,2,null,null,2,null,2,null,null,null,null,null,null,null,null,null,null,null,null,null,null,null,null,null,null,null,null,null,null,null,null,null,null,null,null,null,null,null,null,null,null,null,null,null,null,null,null,null,null,null,null,null,null,null,null,null,null,null,null,null,null,null,null,null,null,null,null,null,null,null,null,null,null,null,null,null,null,null,null,null,null,null,null,null,null,null,null,null,null,null,null,null,null,null,null,null,null,null,null,null,null,null,null,null,null,null,null,null,null,null,null,null,null,null,null,null,null,null,null,null,null,null,null,null,null,null,null,null,null,null,null,null,null,null,null,null,null,null,null,null,null,null,null,null,null,null,null,null,null,null,null,null,null,null,null,null,null,null,null,null,null,null,null,null,null,null,null,null,null,null,null,null,null,null,null,null,null,null,null,null,null,null,null,null,null,null,null,null,null,null,null,null,null,null,null,null,null,null,null,null,null,null,null,null,null,null,null,null,null,null,null,null,null,null,null,null,null,null,null,null,null,null,null,null,null,null,null,null,null,null,null,null,null,null,null,null,null,1,0,1,1,2,null,null,null,null,3,null,null,null,null,null,null,null,2,null,null,1,0,0,0,0,0,0,0,0,0,0,null,0,0,1,0,1,0,0,1,0,0,0,0,0,null,2,null,null,null,null,null,null,null,null,null,null,null,null,2,3,3,2,2,2,2,3,3,3,3,3,2,2,1,2,2,2,2,2,2,2,2,2,2,63,2,1,2,2,2,1,0,0,0,0,0,0,4,2,null,null,null,null,null,null,2,null,2,null,null,"2014-01-09T02:25:00","2014-01-09T02:42:00",null,14030,5,"Firefox 23.0","Windows XP","209.112.172.118",12,19,null,null,null,null,null,null,null,null,null,null,null,null,null,null,null,null,null,null,null,null,null,null,12,19,null,null,null,null,null,null,null,null,null,null,null,null,null,null,null,null,null,null,null,null,null,null,null,null,null,null,null,null,null,null,null,null,null,null,null,null,null,null,null,null,null,null,null,null,null,null,19]
[null,27691,1,"_27691_1",{"$f":"VLOOKUP(D11,'Lives in SA (Zip)'!$B$4:$E$3989,4,FALSE)","v":0},"bk",1,1,0,{"$f":"(VLOOKUP(AP11,PolicySites!$B$5:$F$122,5,FALSE)*AZ11)+(VLOOKUP(AQ11,PolicySites!$B$5:$F$122,5,FALSE)*BA11)+(VLOOKUP(AR11,PolicySites!$B$5:$F$122,5,FALSE)*BB11)+(VLOOKUP(AS11,PolicySites!$B$5:$F$122,5,FALSE)*BC11)+(VLOOKUP(AT11,PolicySites!$B$5:$F$122,5,FALSE)*BD11)+(VLOOKUP(AU11,PolicySites!$B$5:$F$122,5,FALSE)*BE11)+(VLOOKUP(AV11,PolicySites!$B$5:$F$122,5,FALSE)*BF11)+(VLOOKUP(AW11,PolicySites!$B$5:$F$122,5,FALSE)*BG11)+(VLOOKUP(AX11,PolicySites!$B$5:$F$122,5,FALSE)*BH11)+(VLOOKUP(AY11,PolicySites!$B$5:$F$122,5,FALSE)*BI11)","v":0},20,"Wild Lake near Bettles",null,null,null,null,null,null,null,null,null,null,null,null,null,null,null,null,null,null,null,"Wild Lake near Bettles--","--","--","--","--","--","--","--","--","--",{"$f":"IFERROR(VLOOKUP(AF11,'Site Codes'!$V$4:$Y$164,4,FALSE),0)","v":"Snow 4"},{"$f":"IFERROR(VLOOKUP(AG11,'Site Codes'!$V$4:$Y$164,4,FALSE),0)","v":0},{"$f":"IFERROR(VLOOKUP(AH11,'Site Codes'!$V$4:$Y$164,4,FALSE),0)","v":0},{"$f":"IFERROR(VLOOKUP(AI11,'Site Codes'!$V$4:$Y$164,4,FALSE),0)","v":0},{"$f":"IFERROR(VLOOKUP(AJ11,'Site Codes'!$V$4:$Y$164,4,FALSE),0)","v":0},{"$f":"IFERROR(VLOOKUP(AK11,'Site Codes'!$V$4:$Y$164,4,FALSE),0)","v":0},{"$f":"IFERROR(VLOOKUP(AL11,'Site Codes'!$V$4:$Y$164,4,FALSE),0)","v":0},{"$f":"IFERROR(VLOOKUP(AM11,'Site Codes'!$V$4:$Y$164,4,FALSE),0)","v":0},{"$f":"IFERROR(VLOOKUP(AN11,'Site Codes'!$V$4:$Y$164,4,FALSE),0)","v":0},{"$f":"IFERROR(VLOOKUP(AO11,'Site Codes'!$V$4:$Y$164,4,FALSE),0)","v":0},null,null,null,null,null,null,null,null,null,null,null,null,null,null,null,null,null,null,null,null,null,null,null,null,null,null,null,null,null,null,null,null,null,null,null,null,null,null,null,null,null,null,null,null,null,null,null,null,null,null,null,null,null,null,null,null,null,null,null,null,null,null,null,null,null,null,null,null,null,null,null,null,null,null,null,null,null,null,null,null,null,null,null,null,null,null,null,null,null,null,null,null,null,null,null,null,null,null,null,null,null,null,null,null,null,null,null,null,null,null,null,null,null,null,null,null,null,null,null,null,null,null,null,null,null,null,null,null,null,null,null,null,null,null,null,null,null,null,null,null,null,null,null,null,null,null,null,null,null,null,null,null,null,null,null,null,null,null,null,null,null,null,null,null,null,null,null,null,null,null,null,null,null,null,null,null,null,null,null,null,null,null,null,null,null,null,null,null,null,null,null,null,null,null,null,null,null,null,null,null,null,null,null,null,null,null,null,null,null,null,null,null,null,null,null,null,null,null,null,null,null,null,null,null,null,null,null,null,null,null,null,null,null,null,null,null,null,null,null,null,null,null,null,null,null,null,null,null,null,null,null,null,null,null,null,null,null,null,null,null,null,null,null,null,null,null,null,null,null,null,null,null,null,null,null,null,null,null,null,null,null,null,null,null,null,null,null,null,null,null,null,null,null,null,null,null,null,null,null,null,null,null,null,null,null,null,null,null,null,null,null,null,null,null,null,null,null,null,null,null,null,null,null,null,null,null,null,null,null,null,null,null,null,null,null,null,null,null,null,null,null,null,null,null,null,null,null,null,null,null,null,null,null,null,null,null,null,null,null,null,null,null,null,null,null,null,null,null,null,null,null,null,null,null,null,null,null,null,null,null,null,null,null,null,null,null,null,null,null,null,null,null,null,null,null,null,null,null,null,null,null,null,null,null,null,null,null,null,null,null,null,null,null,null,null,null,null,null,null,null,null,null,null,null,null,null,null,null,null,null,null,null,null,null,null,null,null,null,null,null,null,null,null,null,null,null,null,null,null,null,null,null,null,null,null,null,null,null,null,null,null,null,null,null,null,null,null,null,null,null,null,null,null,null,null,null,null,null,null,null,null,null,null,null,null,null,null,null,null,null,null,null,null,null,null,null,null,null,null,null,null,null,null,null,null,null,null,null,null,null,null,null,null,null,null,null,null,null,null,null,null,null,null,null,null,null,null,null,null,null,null,null,null,null,null,null,null,null,null,null,null,null,null,null,null,null,null,null,null,null,null,null,null,null,null,null,null,null,null,null,null,null,null,null,null,null,null,null,null,null,null,null,null,null,null,null,null,null,null,null,null,null,null,null,null,null,null,null,null,null,null,null,null,null,null,null,null,null,null,null,null,null,null,null,null,null,null,null,null,null,null,null,null,null,null,null,null,null,null,null,null,null,null,null,null,null,null,null,null,null,null,null,null,null,null,null,null,null,null,null,null,null,null,null,null,null,null,null,null,null,null,null,null,null,null,null,null,null,null,null,null,null,null,null,null,null,null,null,null,null,null,null,null,null,null,null,null,null,null,null,null,null,null,null,null,null,null,null,null,null,null,null,null,null,null,null,null,null,null,null,null,null,null,null,null,null,null,null,null,null,null,null,null,null,null,null,null,null,null,null,null,null,null,null,null,null,null,null,null,null,null,null,null,null,null,null,null,null,null,null,null,null,null,null,null,null,null,null,null,null,null,null,null,null,null,null,null,null,null,null,null,null,null,null,null,null,null,null,null,null,null,null,null,null,null,null,null,null,null,null,null,null,null,null,null,null,null,null,null,null,null,null,null,null,null,null,null,null,null,null,null,null,null,null,null,null,null,null,null,null,null,null,null,null,null,null,null,null,null,null,null,null,null,null,null,null,null,null,null,null,null,null,null,null,null,null,null,null,null,null,null,null,null,null,null,null,null,null,null,null,null,null,null,null,null,null,null,null,null,null,null,null,null,null,null,null,null,null,null,null,null,null,null,null,null,null,null,null,null,null,null,null,null,null,null,null,null,null,null,null,null,null,null,null,null,null,null,null,null,null,null,null,null,null,null,null,null,null,null,null,null,null,null,null,null,null,null,null,null,null,null,null,null,null,null,null,null,null,null,null,null,null,null,null,null,null,null,null,null,null,null,null,null,null,null,null,null,null,null,null,null,null,null,null,null,null,null,null,null,null,null,null,null,null,null,null,null,null,null,null,null,null,null,null,null,null,null,null,null,null,null,null,null,null,null,null,null,null,null,null,null,null,null,null,null,null,null,null,null,null,null,null,null,null,null,null,null,null,null,null,null,null,null,null,null,null,null,null,null,null,null,null,null,null,null,null,null,null,null,null,null,null,null,null,null,null,null,null,null,null,null,null,null,null,null,null,null,null,null,null,null,null,null,null,null,null,null,null,null,null,null,null,null,null,null,null,null,null,null,null,null,null,null,null,null,null,null,null,null,null,null,null,null,null,null,null,null,null,null,null,null,null,null,null,null,null,null,null,null,null,null,null,null,null,null,null,null,null,null,null,null,null,null,null,null,null,null,null,null,null,null,null,null,null,null,null,null,null,null,null,null,null,null,null,null,null,null,null,null,null,null,null,null,null,null,null,null,null,null,null,null,null,null,null,null,null,null,null,null,null,null,null,null,null,null,null,null,null,null,null,null,null,null,null,null,null,null,null,null,null,null,null,null,null,null,null,null,null,null,null,null,null,null,null,null,null,null,null,null,null,null,null,null,null,null,null,null,null,null,null,null,null,null,null,null,null,null,null,null,null,null,null,null,null,null,null,null,null,null,null,null,null,null,null,null,null,null,null,null,null,null,null,null,null,null,null,null,null,null,null,null,null,null,null,null,null,null,null,null,null,null,null,null,null,null,null,null,null,null,null,null,null,null,null,null,null,null,null,null,null,null,null,null,null,null,null,null,null,null,null,null,null,null,null,null,null,null,null,null,null,null,null,null,null,null,null,null,null,null,null,null,null,null,null,null,null,null,null,null,null,null,null,null,null,null,null,null,null,null,null,null,null,null,null,null,null,null,null,null,null,null,null,null,null,null,null,null,null,null,null,null,null,null,null,null,null,null,null,null,null,null,null,null,null,null,null,null,null,null,null,null,null,null,null,null,null,null,null,null,null,null,null,null,null,null,null,null,null,null,null,null,null,null,null,null,null,null,null,null,null,null,null,null,null,null,null,null,null,null,null,null,null,null,null,null,null,null,null,null,null,null,null,null,null,null,null,null,null,null,null,null,null,null,null,null,null,null,null,null,null,null,null,null,null,null,null,null,null,null,null,null,null,null,null,null,null,null,null,null,null,null,null,null,null,null,null,null,null,null,null,null,null,null,null,null,null,null,null,null,null,null,null,null,null,null,null,null,null,null,null,null,null,null,null,null,null,null,null,null,null,null,null,null,null,null,null,null,null,null,null,null,null,null,null,null,null,null,null,null,null,null,null,null,null,null,null,null,null,null,null,null,null,null,null,null,null,null,null,null,null,null,null,null,null,null,null,null,null,null,null,null,null,null,null,null,null,null,null,null,null,null,null,null,null,null,null,null,null,null,null,null,null,null,null,null,null,null,null,null,null,null,null,null,null,null,null,null,null,null,null,null,null,null,null,null,null,null,null,null,null,null,null,null,null,null,null,null,null,null,null,null,null,null,null,null,null,null,null,null,null,null,null,null,null,null,null,null,null,null,null,null,null,null,null,null,null,null,null,null,null,null,null,null,null,null,null,null,null,null,null,null,null,null,null,null,null,null,null,null,null,null,null,null,null,null,null,null,null,null,null,null,null,null,null,null,null,null,null,null,null,null,null,null,null,null,null,null,null,null,null,null,null,null,null,null,null,null,null,null,null,null,null,null,null,null,null,null,null,null,null,null,null,null,null,null,null,null,null,null,null,null,null,null,null,null,null,null,null,null,null,null,null,null,null,null,null,null,null,null,null,null,null,null,null,null,null,null,null,null,null,null,null,null,null,null,null,null,null,null,null,null,null,null,null,null,null,null,null,null,null,null,null,null,null,null,null,null,null,null,null,null,null,null,null,null,null,null,null,null,null,null,null,null,null,null,null,null,null,null,null,null,null,null,null,null,null,null,null,null,null,null,null,null,null,null,null,null,null,null,null,null,null,null,null,null,null,null,null,null,null,null,null,null,null,null,null,null,null,null,null,null,null,null,null,null,null,null,null,null,null,2,2,null,null,null,null,null,null,null,null,null,null,null,null,null,null,null,null,null,null,null,null,null,null,null,null,null,null,null,null,null,null,null,null,null,null,null,null,null,null,null,null,null,null,null,null,null,null,null,null,null,null,null,null,null,null,null,null,null,null,null,null,null,null,null,null,null,null,null,null,null,null,null,null,null,null,null,null,null,null,null,null,null,null,null,null,null,null,null,null,null,null,null,null,null,null,null,null,null,null,null,null,null,null,null,null,null,null,null,null,null,null,null,null,null,null,null,null,null,null,null,null,null,null,null,null,null,null,null,null,null,null,null,null,null,null,null,null,null,null,null,null,null,null,null,null,null,null,null,null,null,null,null,null,null,null,null,null,null,null,null,null,null,null,null,null,null,null,null,null,null,null,null,null,null,null,null,null,null,null,null,null,null,null,null,null,null,null,null,null,null,null,null,null,null,null,null,null,null,null,null,null,null,null,null,null,null,null,null,null,null,null,null,null,null,null,null,null,null,null,null,null,null,null,null,null,null,null,null,null,null,null,null,null,null,null,null,null,null,null,null,null,null,null,null,null,null,null,null,null,null,null,null,null,null,null,null,null,null,null,null,null,null,null,null,null,null,null,null,null,null,null,null,null,null,null,null,null,null,null,null,null,null,null,null,null,null,null,null,null,null,null,null,null,null,null,null,null,null,null,null,null,null,null,null,null,null,null,null,null,null,null,null,null,null,null,null,null,null,null,null,null,null,null,null,null,null,null,null,null,null,null,null,null,null,null,null,null,null,null,null,null,null,null,null,null,null,null,null,null,null,null,null,null,null,null,null,null,null,null,null,null,null,null,null,null,null,null,null,null,null,null,null,null,null,null,null,null,null,null,null,null,null,null,null,null,null,null,null,null,null,null,null,null,null,null,null,null,null,null,null,null,null,null,null,null,null,null,null,null,null,null,null,null,null,null,null,null,null,null,null,null,null,null,null,null,null,null,null,null,null,null,null,null,null,null,null,null,null,null,null,null,null,null,null,null,null,null,null,null,null,null,null,null,null,null,null,null,null,37,1,1,2,2,3,null,1,null,1,null,null,null,7,2,null,null,null,null,null,null,1,"wild lake north of bettles",1,"akarcticgold@mosquitonet.com"]
[802,54630,1,"802_54630_1",{"$f":"VLOOKUP(D12,'Lives in SA (Zip)'!$B$4:$E$3989,4,FALSE)","v":0},"ms",1,0,1,{"$f":"(VLOOKUP(AP12,PolicySites!$B$5:$F$122,5,FALSE)*AZ12)+(VLOOKUP(AQ12,PolicySites!$B$5:$F$122,5,FALSE)*BA12)+(VLOOKUP(AR12,PolicySites!$B$5:$F$122,5,FALSE)*BB12)+(VLOOKUP(AS12,PolicySites!$B$5:$F$122,5,FALSE)*BC12)+(VLOOKUP(AT12,PolicySites!$B$5:$F$122,5,FALSE)*BD12)+(VLOOKUP(AU12,PolicySites!$B$5:$F$122,5,FALSE)*BE12)+(VLOOKUP(AV12,PolicySites!$B$5:$F$122,5,FALSE)*BF12)+(VLOOKUP(AW12,PolicySites!$B$5:$F$122,5,FALSE)*BG12)+(VLOOKUP(AX12,PolicySites!$B$5:$F$122,5,FALSE)*BH12)+(VLOOKUP(AY12,PolicySites!$B$5:$F$122,5,FALSE)*BI12)","v":0},10,"whittier","petersville","turragain pass",null,null,null,null,null,null,null,"whittier","kroto trailroad","sunnyside",null,null,null,null,null,null,null,"whittier--whittier","petersville--kroto trailroad","turragain pass--sunnyside","--","--","--","--","--","--","--",{"$f":"IFERROR(VLOOKUP(AF12,'Site Codes'!$V$4:$Y$164,4,FALSE),0)","v":"Snow 96"},{"$f":"IFERROR(VLOOKUP(AG12,'Site Codes'!$V$4:$Y$164,4,FALSE),0)","v":"Snow 64"},{"$f":"IFERROR(VLOOKUP(AH12,'Site Codes'!$V$4:$Y$164,4,FALSE),0)","v":"Snow 90"},{"$f":"IFERROR(VLOOKUP(AI12,'Site Codes'!$V$4:$Y$164,4,FALSE),0)","v":0},{"$f":"IFERROR(VLOOKUP(AJ12,'Site Codes'!$V$4:$Y$164,4,FALSE),0)","v":0},{"$f":"IFERROR(VLOOKUP(AK12,'Site Codes'!$V$4:$Y$164,4,FALSE),0)","v":0},{"$f":"IFERROR(VLOOKUP(AL12,'Site Codes'!$V$4:$Y$164,4,FALSE),0)","v":0},{"$f":"IFERROR(VLOOKUP(AM12,'Site Codes'!$V$4:$Y$164,4,FALSE),0)","v":0},{"$f":"IFERROR(VLOOKUP(AN12,'Site Codes'!$V$4:$Y$164,4,FALSE),0)","v":0},{"$f":"IFERROR(VLOOKUP(AO12,'Site Codes'!$V$4:$Y$164,4,FALSE),0)","v":0},4,4,2,null,null,null,null,null,null,null,0,0,0,0,0,0,0,0,0,0,0,0,0,0,0,0,0,0,0,0,0,0,0,1,1,1,0,0,0,0,0,1,0,0,0,0,0,0,0,0,0,0,0,0,0,0,0,0,0,0,0,0,0,0,0,0,0,0,0,0,0,0,0,0,0,0,0,0,0,0,0,0,0,0,0,0,0,0,0,0,0,0,0,0,0,0,0,0,0,0,0,0,0,0,0,0,0,0,0,0,0,0,0,0,0,0,0,0,0,0,0,0,0,0,0,0,0,0,0,0,0,0,0,0,0,0,0,0,0,0,0,0,0,0,0,0,0,0,0,0,0,0,0,0,0,0,0,0,0,0,0,0,0,0,0,0,0,0,0,0,0,0,0,0,0,0,0,0,0,0,0,0,0,0,0,0,0,0,0,0,0,0,0,0,0,0,1,1,1,1,0,0,0,0,0,0,0,0,0,0,0,0,0,0,0,0,0,0,0,0,0,0,0,0,0,0,0,0,0,0,0,0,0,0,0,0,0,0,0,0,0,0,0,0,0,0,0,0,0,0,0,0,0,0,0,0,0,0,0,0,0,0,0,0,0,0,0,0,0,0,0,0,0,0,0,0,0,0,0,0,0,0,0,0,0,0,0,0,0,0,0,0,0,0,0,0,0,0,0,0,0,0,0,0,0,0,0,0,0,0,0,0,0,0,0,0,0,0,0,0,0,0,0,0,0,0,0,0,0,0,0,0,0,0,0,0,0,0,0,0,0,0,0,0,0,0,0,0,0,0,0,0,0,0,0,0,0,0,0,0,0,0,0,0,0,0,0,0,0,0,0,0,0,0,0,0,0,0,0,0,0,0,0,0,0,0,0,1,1,0,0,0,0,0,0,0,0,0,0,0,0,0,0,0,0,0,0,0,0,0,0,0,0,0,0,0,0,0,0,0,0,0,0,0,0,0,0,0,0,0,0,0,0,0,0,0,0,0,0,0,0,0,0,0,0,0,0,0,0,0,0,0,0,0,0,0,0,0,0,0,0,0,0,0,0,0,0,0,0,0,0,0,0,0,0,0,0,0,0,0,0,0,0,0,0,0,0,0,0,0,0,0,0,0,0,0,0,0,0,0,0,0,0,0,0,0,0,0,0,0,0,0,0,0,0,0,0,0,0,0,0,0,0,0,0,0,0,0,0,0,0,0,0,0,0,0,0,0,0,0,0,0,0,0,0,0,0,0,0,0,0,0,0,0,0,0,0,0,0,0,0,0,null,null,null,null,null,null,null,null,null,null,null,null,null,null,null,null,null,null,null,null,null,null,null,null,null,null,null,null,null,null,null,null,null,null,null,null,null,null,null,null,null,null,null,null,null,null,null,null,null,null,null,null,null,null,null,null,null,null,null,null,null,null,null,null,null,null,null,null,null,null,null,null,null,null,null,null,null,null,null,null,null,null,null,null,null,null,null,null,null,null,null,null,null,null,null,null,null,null,null,null,null,null,null,null,null,null,null,null,null,null,null,null,null,null,null,null,null,null,null,null,null,null,null,null,null,null,null,null,null,null,null,null,null,null,null,null,null,null,null,null,null,null,null,null,null,null,null,null,null,null,null,null,null,null,null,null,null,null,null,null,null,null,null,null,null,null,null,null,null,null,null,null,null,null,null,null,null,null,null,null,null,null,null,null,null,null,null,null,null,null,null,null,null,null,null,null,null,null,null,null,null,null,null,null,null,null,null,null,null,null,null,null,null,null,null,null,null,null,null,null,null,null,null,null,null,null,null,null,null,null,null,null,null,null,null,null,null,null,null,null,null,null,null,null,null,null,null,null,null,null,null,null,null,null,null,null,null,null,null,null,null,null,null,null,null,null,null,null,null,null,null,null,null,null,null,null,null,null,null,null,null,null,null,null,null,null,null,null,null,null,null,null,null,null,null,null,null,null,null,null,null,null,null,null,null,null,null,null,null,null,null,null,null,null,null,null,null,null,null,null,null,null,null,null,null,null,null,null,null,null,null,null,null,null,null,null,null,null,null,null,null,null,null,null,null,null,null,null,null,null,null,null,null,null,null,null,null,null,null,null,null,null,null,null,null,null,null,null,null,null,null,null,null,null,null,null,null,null,null,null,null,null,null,null,null,null,null,null,null,null,null,null,null,null,null,null,null,null,null,null,null,null,null,null,null,null,null,null,null,null,null,null,null,null,null,null,null,null,null,null,null,null,null,null,null,null,null,null,null,null,null,null,null,null,null,null,null,null,null,null,null,null,null,null,null,null,null,null,null,null,null,null,null,null,null,null,null,null,null,null,null,null,null,null,null,null,null,null,null,null,null,null,null,null,null,null,null,null,null,null,null,null,null,null,null,null,null,null,null,null,null,null,null,null,null,null,null,null,null,null,null,null,null,null,null,null,null,null,null,null,null,null,null,null,null,null,null,null,null,null,null,null,null,null,null,null,null,null,null,null,null,null,null,null,null,null,null,null,null,null,null,null,null,null,null,null,null,null,null,null,null,null,null,null,null,null,null,null,null,null,null,null,null,null,null,null,null,null,null,null,null,null,null,null,null,null,null,null,null,null,null,null,null,null,null,null,null,null,null,null,null,null,null,null,null,null,null,null,null,null,null,null,null,null,null,null,null,null,null,null,null,null,null,null,null,null,null,null,null,null,null,null,null,null,null,null,null,null,null,null,null,null,null,null,null,null,null,null,null,null,null,null,null,null,null,null,null,null,null,null,null,null,null,null,null,null,null,null,null,null,null,null,null,null,null,null,null,null,null,null,null,null,null,null,null,null,null,null,null,null,null,null,null,null,null,null,null,null,null,null,null,null,null,null,null,null,null,null,null,null,null,null,null,null,null,null,null,null,null,null,null,null,null,null,null,null,null,null,null,null,null,null,null,null,null,null,null,null,null,null,null,null,null,null,null,null,null,null,null,null,null,null,null,null,null,null,null,null,null,null,null,null,null,null,null,null,null,null,null,null,null,null,null,null,null,null,null,null,null,null,null,null,null,null,null,null,null,null,null,null,null,null,null,null,null,null,null,null,null,null,null,null,null,null,null,null,null,null,null,null,null,null,null,null,null,null,null,null,null,null,null,null,null,null,null,null,null,null,null,null,null,null,null,null,null,null,null,null,null,null,null,null,null,null,null,null,null,null,null,null,null,null,null,null,null,null,null,null,null,null,null,null,null,null,null,null,null,null,null,null,null,null,null,null,null,null,null,null,null,null,null,null,null,null,null,null,null,null,null,null,null,null,null,null,null,null,null,null,null,null,null,null,null,null,null,null,null,null,null,null,null,null,null,null,null,null,null,null,null,null,null,null,null,null,null,null,null,null,null,null,null,null,null,null,null,null,null,null,null,null,null,null,null,null,null,null,null,null,null,null,null,null,null,null,null,null,null,null,null,null,null,null,null,null,null,null,null,null,null,null,null,null,null,null,null,null,null,null,null,null,null,null,null,null,null,null,null,null,null,null,null,null,null,null,null,null,null,null,null,null,null,null,null,null,null,null,null,null,null,null,null,null,null,null,null,null,null,null,null,null,null,null,null,null,null,null,null,null,null,null,null,null,null,null,null,null,null,null,null,null,null,null,null,null,null,null,null,null,null,null,null,null,null,null,null,null,null,null,null,null,null,null,null,null,null,null,null,null,null,null,null,null,null,null,null,null,null,null,null,null,null,null,null,null,null,null,null,null,null,null,null,null,null,null,null,null,null,null,null,null,null,null,null,null,null,null,null,null,null,null,null,null,null,null,null,null,null,null,null,null,null,null,null,null,null,null,null,null,null,null,null,null,null,null,null,null,null,null,null,null,null,null,null,null,null,null,null,null,null,null,null,null,null,null,null,null,null,null,null,null,null,null,null,null,null,null,null,null,null,null,null,null,null,null,null,null,null,null,null,null,null,null,null,null,null,null,null,null,null,null,null,null,null,null,null,null,null,null,null,null,null,null,null,null,null,null,null,null,null,null,null,null,null,null,null,null,null,null,null,null,null,null,null,null,null,null,null,null,null,null,null,null,null,null,null,null,null,null,null,null,null,null,null,null,null,null,null,null,null,null,null,null,null,null,null,null,null,null,null,null,null,null,null,null,null,null,null,null,null,null,null,null,null,null,null,null,null,null,null,null,null,null,null,null,null,null,null,null,null,null,null,null,null,null,null,null,null,null,2,1,4,0,0,0,1,0,0,0,0,0,0,0,0,0,0,1,1,1,0,0,0,0,0,null,null,null,null,null,4,null,null,null,null,null,null,null,null,null,null,4,1,6,null,null,null,null,null,null,null,null,null,null,0,null,null,null,null,null,null,null,null,null,null,0,1,1,null,null,null,null,null,null,null,17,null,null,null,null,1,1,0,0,1,1,1,0,0,0,0,0,0,0,0,0,0,0,0,0,0,0,0,0,0,0,0,0,0,0,0,0,0,0,0,0,0,0,0,0,0,0,0,0,0,0,0,0,0,0,0,0,0,0,0,0,0,0,0,1,2009,2,2,null,1,2,0,null,0,null,0,1,0,0,0,null,null,null,null,null,null,null,null,null,null,null,null,null,null,null,null,null,null,0,null,null,null,null,null,null,null,null,null,null,null,null,null,null,null,null,null,null,null,null,null,null,null,null,null,null,null,null,null,null,null,null,null,null,null,null,null,null,null,null,null,null,null,null,null,null,null,null,null,null,null,null,null,null,null,null,null,null,null,null,null,null,null,null,null,null,null,null,null,null,null,null,null,null,0,null,null,null,null,null,null,null,null,null,null,null,null,null,null,null,null,null,null,null,null,null,null,null,null,null,null,null,null,null,null,null,null,null,null,null,null,null,2,null,null,null,null,null,null,null,null,null,null,null,null,null,null,null,null,null,null,null,null,null,null,null,null,null,null,null,null,null,null,null,null,null,null,null,null,null,null,null,null,null,null,null,null,null,null,null,null,null,null,null,null,null,null,null,null,null,null,null,null,null,null,null,null,null,null,null,null,null,null,null,null,null,null,null,null,null,null,null,null,null,null,null,null,null,null,null,null,6,0,2,10,2,null,null,null,null,3,null,null,null,null,null,null,null,2,null,null,0,0,0,0,0,0,0,0,0,0,0,null,0,0,0,0,0,0,0,0,0,0,0,0,0,null,null,0,0,0,0,0,0,0,0,0,null,null,null,null,null,null,null,null,null,null,2,1,2,1,3,3,2,2,2,3,3,1,2,2,3,2,3,3,78,1,2,3,1,6,1,0,0,0,0,0,0,4,2,null,null,null,null,null,null,2,null,1,"andyyecny@rocketmail.com",null,"2014-01-12T23:20:00","2014-01-12T23:26:00",null,14964,5,"Firefox 23.0","Windows XP","209.112.172.118",4,15,16,17,null,null,null,null,null,null,null,null,null,null,null,null,null,null,null,null,null,null,null,null,16,17,null,null,null,null,null,null,null,null,null,null,null,null,null,null,null,null,null,null,null,null,null,null,null,null,null,null,null,null,null,null,null,null,null,null,null,null,null,null,null,null,null,null,null,null,null,null,17,null,null,null,null,null,null,null,null,null,null,null,null,null,null,null,null,null,null,null,null,null,null,null,1,3,5,6,7,8,9,28,null,null,null,null,null,null,null,null,null,null,null,null,null,null,null,null,null,null,null,null,19,20,21,22,23,24,25,26,27,null,null,null,null,null,null,null,null,null,null,null,null,null,null,null,null,null,null,null,6]
[256,51725,2,"256_51725_2",{"$f":"VLOOKUP(D13,'Lives in SA (Zip)'!$B$4:$E$3989,4,FALSE)","v":0},null,1,0,1,{"$f":"(VLOOKUP(AP13,PolicySites!$B$5:$F$122,5,FALSE)*AZ13)+(VLOOKUP(AQ13,PolicySites!$B$5:$F$122,5,FALSE)*BA13)+(VLOOKUP(AR13,PolicySites!$B$5:$F$122,5,FALSE)*BB13)+(VLOOKUP(AS13,PolicySites!$B$5:$F$122,5,FALSE)*BC13)+(VLOOKUP(AT13,PolicySites!$B$5:$F$122,5,FALSE)*BD13)+(VLOOKUP(AU13,PolicySites!$B$5:$F$122,5,FALSE)*BE13)+(VLOOKUP(AV13,PolicySites!$B$5:$F$122,5,FALSE)*BF13)+(VLOOKUP(AW13,PolicySites!$B$5:$F$122,5,FALSE)*BG13)+(VLOOKUP(AX13,PolicySites!$B$5:$F$122,5,FALSE)*BH13)+(VLOOKUP(AY13,PolicySites!$B$5:$F$122,5,FALSE)*BI13)","v":0},1,"white mountains",null,null,null,null,null,null,null,null,null,"white mountains recreation area",null,null,null,null,null,null,null,null,null,"white mountains--white mountains recreation area","--","--","--","--","--","--","--","--","--",{"$f":"IFERROR(VLOOKUP(AF13,'Site Codes'!$V$4:$Y$164,4,FALSE),0)","v":"Snow 108"},{"$f":"IFERROR(VLOOKUP(AG13,'Site Codes'!$V$4:$Y$164,4,FALSE),0)","v":0},{"$f":"IFERROR(VLOOKUP(AH13,'Site Codes'!$V$4:$Y$164,4,FALSE),0)","v":0},{"$f":"IFERROR(VLOOKUP(AI13,'Site Codes'!$V$4:$Y$164,4,FALSE),0)","v":0},{"$f":"IFERROR(VLOOKUP(AJ13,'Site Codes'!$V$4:$Y$164,4,FALSE),0)","v":0},{"$f":"IFERROR(VLOOKUP(AK13,'Site Codes'!$V$4:$Y$164,4,FALSE),0)","v":0},{"$f":"IFERROR(VLOOKUP(AL13,'Site Codes'!$V$4:$Y$164,4,FALSE),0)","v":0},{"$f":"IFERROR(VLOOKUP(AM13,'Site Codes'!$V$4:$Y$164,4,FALSE),0)","v":0},{"$f":"IFERROR(VLOOKUP(AN13,'Site Codes'!$V$4:$Y$164,4,FALSE),0)","v":0},{"$f":"IFERROR(VLOOKUP(AO13,'Site Codes'!$V$4:$Y$164,4,FALSE),0)","v":0},1,null,null,null,null,null,null,null,null,null,0,0,0,1,0,0,0,0,0,0,0,0,0,0,0,0,0,0,0,0,0,0,0,0,0,0,0,0,0,0,0,0,0,0,0,0,0,0,0,0,0,0,0,0,0,0,0,0,0,0,0,0,0,0,0,0,0,0,0,0,0,0,0,0,0,0,0,0,0,0,0,0,0,0,0,0,0,0,0,0,0,0,0,0,0,0,0,0,0,0,0,0,0,0,0,0,0,0,0,0,0,0,0,0,0,0,0,0,0,0,0,0,0,0,0,0,0,0,0,0,0,0,0,0,0,0,0,0,0,0,0,0,0,0,0,0,0,0,0,0,0,0,0,0,0,0,0,0,0,0,0,0,0,0,0,0,0,0,0,0,0,0,0,0,0,0,0,0,0,0,0,0,0,0,0,0,0,0,0,0,0,0,0,0,null,null,null,null,null,null,null,null,null,null,null,null,null,null,null,null,null,null,null,null,null,null,null,null,null,null,null,null,null,null,null,null,null,null,null,null,null,null,null,null,null,null,null,null,null,null,null,null,null,null,null,null,null,null,null,null,null,null,null,null,null,null,null,null,null,null,null,null,null,null,null,null,null,null,null,null,null,null,null,null,null,null,null,null,null,null,null,null,null,null,null,null,null,null,null,null,null,null,null,null,null,null,null,null,null,null,null,null,null,null,null,null,null,null,null,null,null,null,null,null,null,null,null,null,null,null,null,null,null,null,null,null,null,null,null,null,null,null,null,null,null,null,null,null,null,null,null,null,null,null,null,null,null,null,null,null,null,null,null,null,null,null,null,null,null,null,null,null,null,null,null,null,null,null,null,null,null,null,null,null,null,null,null,null,null,null,null,null,null,null,null,null,null,null,null,null,null,null,null,null,null,null,null,null,null,null,null,null,null,null,null,null,null,null,null,null,null,null,null,null,null,null,null,null,null,null,null,null,null,null,null,null,null,null,null,null,null,null,null,null,null,null,null,null,null,null,null,null,null,null,null,null,null,null,null,null,null,null,null,null,null,null,null,null,null,null,null,null,null,null,null,null,null,null,null,null,null,null,null,null,null,null,null,null,null,null,null,null,null,null,null,null,null,null,null,null,null,null,null,null,null,null,null,null,null,null,null,null,null,null,null,null,null,null,null,null,null,null,null,null,null,null,null,null,null,null,null,null,null,null,null,null,null,null,null,null,null,null,null,null,null,null,null,null,null,null,null,null,null,null,null,null,null,null,null,null,null,null,null,null,null,null,null,null,null,null,null,null,null,null,null,null,null,null,null,null,null,null,null,null,null,null,null,null,null,null,null,null,null,null,null,null,null,null,null,null,null,null,null,null,null,null,null,null,null,null,null,null,null,null,null,null,null,null,null,null,null,null,null,null,null,null,null,null,null,null,null,null,null,null,null,null,null,null,null,null,null,null,null,null,null,null,null,null,null,null,null,null,null,null,null,null,null,null,null,null,null,null,null,null,null,null,null,null,null,null,null,null,null,null,null,null,null,null,null,null,null,null,null,null,null,null,null,null,null,null,null,null,null,null,null,null,null,null,null,null,null,null,null,null,null,null,null,null,null,null,null,null,null,null,null,null,null,null,null,null,null,null,null,null,null,null,null,null,null,null,null,null,null,null,null,null,null,null,null,null,null,null,null,null,null,null,null,null,null,null,null,null,null,null,null,null,null,null,null,null,null,null,null,null,null,null,null,null,null,null,null,null,null,null,null,null,null,null,null,null,null,null,null,null,null,null,null,null,null,null,null,null,null,null,null,null,null,null,null,null,null,null,null,null,null,null,null,null,null,null,null,null,null,null,null,null,null,null,null,null,null,null,null,null,null,null,null,null,null,null,null,null,null,null,null,null,null,null,null,null,null,null,null,null,null,null,null,null,null,null,null,null,null,null,null,null,null,null,null,null,null,null,null,null,null,null,null,null,null,null,null,null,null,null,null,null,null,null,null,null,null,null,null,null,null,null,null,null,null,null,null,null,null,null,null,null,null,null,null,null,null,null,null,null,null,null,null,null,null,null,null,null,null,null,null,null,null,null,null,null,null,null,null,null,null,null,null,null,null,null,null,null,null,null,null,null,null,null,null,null,null,null,null,null,null,null,null,null,null,null,null,null,null,null,null,null,null,null,null,null,null,null,null,null,null,null,null,null,null,null,null,null,null,null,null,null,null,null,null,null,null,null,null,null,null,null,null,null,null,null,null,null,null,null,null,null,null,null,null,null,null,null,null,null,null,null,null,null,null,null,null,null,null,null,null,null,null,null,null,null,null,null,null,null,null,null,null,null,null,null,null,null,null,null,null,null,null,null,null,null,null,null,null,null,null,null,null,null,null,null,null,null,null,null,null,null,null,null,null,null,null,null,null,null,null,null,null,null,null,null,null,null,null,null,null,null,null,null,null,null,null,null,null,null,null,null,null,null,null,null,null,null,null,null,null,null,null,null,null,null,null,null,null,null,null,null,null,null,null,null,null,null,null,null,null,null,null,null,null,null,null,null,null,null,null,null,null,null,null,null,null,null,null,null,null,null,null,null,null,null,null,null,null,null,null,null,null,null,null,null,null,null,null,null,null,null,null,null,null,null,null,null,null,null,null,null,null,null,null,null,null,null,null,null,null,null,null,null,null,null,null,null,null,null,null,null,null,null,null,null,null,null,null,null,null,null,null,null,null,null,null,null,null,null,null,null,null,null,null,null,null,null,null,null,null,null,null,null,null,null,null,null,null,null,null,null,null,null,null,null,null,null,null,null,null,null,null,null,null,null,null,null,null,null,null,null,null,null,null,null,null,null,null,null,null,null,null,null,null,null,null,null,null,null,null,null,null,null,null,null,null,null,null,null,null,null,null,null,null,null,null,null,null,null,null,null,null,null,null,null,null,null,null,null,null,null,null,null,null,null,null,null,null,null,null,null,null,null,null,null,null,null,null,null,null,null,null,null,null,null,null,null,null,null,null,null,null,null,null,null,null,null,null,null,null,null,null,null,null,null,null,null,null,null,null,null,null,null,null,null,null,null,null,null,null,null,null,null,null,null,null,null,null,null,null,null,null,null,null,null,null,null,null,null,null,null,null,null,null,null,null,null,null,null,null,null,null,null,null,null,null,null,null,null,null,null,null,null,null,null,null,null,null,null,null,null,null,null,null,null,null,null,null,null,null,null,null,null,null,null,null,null,null,null,null,null,null,null,null,null,null,null,null,null,null,null,null,null,null,null,null,null,null,null,null,null,null,null,null,null,null,null,null,null,null,null,null,null,null,null,null,null,null,null,null,null,null,null,null,null,null,null,null,null,null,null,null,null,null,null,null,null,null,null,null,null,null,null,null,null,null,null,null,null,null,null,null,null,null,null,null,null,null,null,null,null,null,null,null,null,null,null,null,null,null,null,null,null,null,null,null,null,null,null,null,null,null,null,null,null,null,null,null,null,null,null,null,null,null,null,null,null,null,null,null,null,null,null,null,null,null,null,null,null,null,null,null,null,null,null,null,null,null,null,null,null,null,null,null,null,null,null,null,null,null,null,null,null,null,null,null,null,null,null,null,null,null,null,null,null,null,null,null,null,null,null,null,null,null,null,null,null,null,null,null,null,null,null,null,null,null,null,null,null,null,null,null,null,null,null,null,null,null,null,null,null,null,null,null,null,null,null,null,null,null,null,null,null,null,null,null,null,null,null,null,null,null,null,null,null,null,null,null,null,null,null,null,null,null,null,null,null,null,null,null,null,null,null,null,null,null,null,null,null,null,null,null,null,null,null,null,null,null,null,null,null,null,null,null,null,null,null,null,null,null,null,null,null,null,null,null,null,null,null,null,null,null,null,null,null,null,null,null,null,null,null,null,null,null,null,null,null,null,null,null,null,null,null,null,null,null,null,null,null,null,null,null,null,null,null,null,null,null,null,null,null,null,null,null,null,null,null,null,null,null,null,null,null,null,null,null,null,null,null,null,null,null,null,null,null,null,null,null,null,null,null,null,null,null,null,null,null,null,null,null,null,null,null,null,null,null,null,null,null,null,null,null,null,null,null,null,null,null,null,null,null,null,null,null,null,null,null,null,null,null,null,null,null,null,null,null,null,null,null,null,null,null,null,null,null,null,null,null,null,null,null,null,null,null,null,null,null,null,null,null,null,null,null,null,null,null,null,null,null,null,null,null,null,null,null,2,1,2,1,0,0,0,0,0,0,0,0,0,0,1,0,0,0,0,0,0,0,1,0,0,null,null,1,null,null,null,null,null,null,null,null,null,null,1,null,null,null,null,null,null,null,1,null,null,null,null,1,null,null,null,null,null,null,null,null,null,null,1,null,null,null,null,null,null,null,1,null,null,null,null,20,null,null,null,null,0,0,0,0,0,0,0,0,0,0,0,0,0,0,0,0,0,0,0,0,1,0,0,0,0,0,0,0,0,0,0,0,0,0,0,0,0,0,0,0,0,0,0,0,0,0,0,0,0,0,0,0,0,0,0,0,0,0,0,1,2010,2,2,null,1,1,1,null,0,null,0,0,0,0,0,null,null,null,null,null,null,null,null,null,null,null,null,null,null,null,null,null,null,0,null,null,null,null,null,null,null,null,null,null,null,null,null,null,null,null,null,null,null,null,null,null,null,null,null,null,null,null,null,null,null,null,null,null,null,null,null,null,null,null,null,null,null,null,null,null,null,null,null,null,null,null,null,null,null,null,null,null,null,null,null,null,null,null,null,null,null,null,null,null,null,null,null,null,1,1,null,null,null,null,null,null,null,null,null,null,null,null,null,null,null,null,null,null,null,null,null,null,null,null,null,null,null,null,null,null,null,null,null,null,null,null,null,null,null,null,null,null,null,null,null,null,null,null,null,null,null,null,null,null,null,null,null,null,null,null,null,null,null,null,null,null,null,null,null,null,null,null,null,null,null,null,null,null,null,null,null,null,null,null,null,null,null,null,null,null,null,null,null,null,null,null,null,null,null,null,null,null,null,null,null,null,null,null,null,null,null,null,null,null,null,null,null,null,null,null,null,null,null,null,null,2,0,null,2,2,null,null,null,null,2,1,"Talkeetna",null,null,51,null,null,2,null,null,0,0,0,0,0,0,0,0,0,1,0,null,0,0,0,0,0,0,0,0,1,0,0,0,0,null,2,null,null,null,null,null,null,null,null,null,null,null,null,1,3,3,2,2,3,1,3,4,4,2,4,3,2,2,2,2,3,3,3,3,3,2,3,3,77,1,1,2,2,5,1,0,0,0,0,0,0,4,2,null,null,null,null,null,null,2,null,1,"billiebopeep@gmail.com",5419710904,"2013-11-05T06:08:00","2013-11-05T06:37:00",null,628,5,"Firefox 24.0","Mac OS X 10.8","72.42.141.114",1,12,20,null,null,null,null,null,null,null,null,null,null,null,null,null,null,null,null,null,null,null,1,12,20,null,null,null,null,null,null,null,null,null,null,null,null,null,null,null,null,null,null,null,null,null,null,null,null,null,null,null,null,null,null,null,null,null,null,null,null,null,null,null,null,null,20,null,null,null,null,null,null,null,null,null,null,null,null,null,null,null,null,null,null,null,null,null,1,3,5,6,7,8,9,28,null,null,null,null,null,null,null,null,null,null,null,null,null,null,null,null,null,null,null,null,19,20,21,22,23,24,25,26,27,null,null,null,null,null,null,null,null,null,null,null,null,null,null,null,null,null,null,null,1]
[251,74115,2,"251_74115_2",{"$f":"VLOOKUP(D14,'Lives in SA (Zip)'!$B$4:$E$3989,4,FALSE)","v":0},null,1,0,1,{"$f":"(VLOOKUP(AP14,PolicySites!$B$5:$F$122,5,FALSE)*AZ14)+(VLOOKUP(AQ14,PolicySites!$B$5:$F$122,5,FALSE)*BA14)+(VLOOKUP(AR14,PolicySites!$B$5:$F$122,5,FALSE)*BB14)+(VLOOKUP(AS14,PolicySites!$B$5:$F$122,5,FALSE)*BC14)+(VLOOKUP(AT14,PolicySites!$B$5:$F$122,5,FALSE)*BD14)+(VLOOKUP(AU14,PolicySites!$B$5:$F$122,5,FALSE)*BE14)+(VLOOKUP(AV14,PolicySites!$B$5:$F$122,5,FALSE)*BF14)+(VLOOKUP(AW14,PolicySites!$B$5:$F$122,5,FALSE)*BG14)+(VLOOKUP(AX14,PolicySites!$B$5:$F$122,5,FALSE)*BH14)+(VLOOKUP(AY14,PolicySites!$B$5:$F$122,5,FALSE)*BI14)","v":0},0,"Wasilla",null,null,null,null,null,null,null,null,null,"Local Roads",null,null,null,null,null,null,null,null,null,"Wasilla--Local Roads","--","--","--","--","--","--","--","--","--",{"$f":"IFERROR(VLOOKUP(AF14,'Site Codes'!$V$4:$Y$164,4,FALSE),0)","v":"Snow 93"},{"$f":"IFERROR(VLOOKUP(AG14,'Site Codes'!$V$4:$Y$164,4,FALSE),0)","v":0},{"$f":"IFERROR(VLOOKUP(AH14,'Site Codes'!$V$4:$Y$164,4,FALSE),0)","v":0},{"$f":"IFERROR(VLOOKUP(AI14,'Site Codes'!$V$4:$Y$164,4,FALSE),0)","v":0},{"$f":"IFERROR(VLOOKUP(AJ14,'Site Codes'!$V$4:$Y$164,4,FALSE),0)","v":0},{"$f":"IFERROR(VLOOKUP(AK14,'Site Codes'!$V$4:$Y$164,4,FALSE),0)","v":0},{"$f":"IFERROR(VLOOKUP(AL14,'Site Codes'!$V$4:$Y$164,4,FALSE),0)","v":0},{"$f":"IFERROR(VLOOKUP(AM14,'Site Codes'!$V$4:$Y$164,4,FALSE),0)","v":0},{"$f":"IFERROR(VLOOKUP(AN14,'Site Codes'!$V$4:$Y$164,4,FALSE),0)","v":0},{"$f":"IFERROR(VLOOKUP(AO14,'Site Codes'!$V$4:$Y$164,4,FALSE),0)","v":0},0,null,null,null,null,null,null,null,null,null,0,0,0,0,0,0,0,0,0,0,0,0,0,0,0,0,0,0,0,0,0,0,0,0,0,0,0,0,0,0,0,0,0,0,0,0,0,0,0,0,0,0,0,0,0,0,0,0,0,0,0,0,0,0,0,0,0,0,0,0,0,0,0,0,0,0,0,0,0,0,0,0,0,0,0,0,0,0,0,0,0,0,0,0,0,0,0,0,0,0,0,0,0,0,0,0,0,0,0,0,0,0,0,0,0,0,0,0,0,0,0,0,0,0,0,0,0,0,0,0,0,0,0,0,0,0,0,0,0,0,0,0,0,0,0,0,0,0,0,0,0,0,0,0,0,0,0,0,0,0,0,0,0,0,0,0,0,0,0,0,0,0,0,0,0,0,0,0,0,0,0,0,0,0,0,0,0,0,0,0,0,0,0,0,null,null,null,null,null,null,null,null,null,null,null,null,null,null,null,null,null,null,null,null,null,null,null,null,null,null,null,null,null,null,null,null,null,null,null,null,null,null,null,null,null,null,null,null,null,null,null,null,null,null,null,null,null,null,null,null,null,null,null,null,null,null,null,null,null,null,null,null,null,null,null,null,null,null,null,null,null,null,null,null,null,null,null,null,null,null,null,null,null,null,null,null,null,null,null,null,null,null,null,null,null,null,null,null,null,null,null,null,null,null,null,null,null,null,null,null,null,null,null,null,null,null,null,null,null,null,null,null,null,null,null,null,null,null,null,null,null,null,null,null,null,null,null,null,null,null,null,null,null,null,null,null,null,null,null,null,null,null,null,null,null,null,null,null,null,null,null,null,null,null,null,null,null,null,null,null,null,null,null,null,null,null,null,null,null,null,null,null,null,null,null,null,null,null,null,null,null,null,null,null,null,null,null,null,null,null,null,null,null,null,null,null,null,null,null,null,null,null,null,null,null,null,null,null,null,null,null,null,null,null,null,null,null,null,null,null,null,null,null,null,null,null,null,null,null,null,null,null,null,null,null,null,null,null,null,null,null,null,null,null,null,null,null,null,null,null,null,null,null,null,null,null,null,null,null,null,null,null,null,null,null,null,null,null,null,null,null,null,null,null,null,null,null,null,null,null,null,null,null,null,null,null,null,null,null,null,null,null,null,null,null,null,null,null,null,null,null,null,null,null,null,null,null,null,null,null,null,null,null,null,null,null,null,null,null,null,null,null,null,null,null,null,null,null,null,null,null,null,null,null,null,null,null,null,null,null,null,null,null,null,null,null,null,null,null,null,null,null,null,null,null,null,null,null,null,null,null,null,null,null,null,null,null,null,null,null,null,null,null,null,null,null,null,null,null,null,null,null,null,null,null,null,null,null,null,null,null,null,null,null,null,null,null,null,null,null,null,null,null,null,null,null,null,null,null,null,null,null,null,null,null,null,null,null,null,null,null,null,null,null,null,null,null,null,null,null,null,null,null,null,null,null,null,null,null,null,null,null,null,null,null,null,null,null,null,null,null,null,null,null,null,null,null,null,null,null,null,null,null,null,null,null,null,null,null,null,null,null,null,null,null,null,null,null,null,null,null,null,null,null,null,null,null,null,null,null,null,null,null,null,null,null,null,null,null,null,null,null,null,null,null,null,null,null,null,null,null,null,null,null,null,null,null,null,null,null,null,null,null,null,null,null,null,null,null,null,null,null,null,null,null,null,null,null,null,null,null,null,null,null,null,null,null,null,null,null,null,null,null,null,null,null,null,null,null,null,null,null,null,null,null,null,null,null,null,null,null,null,null,null,null,null,null,null,null,null,null,null,null,null,null,null,null,null,null,null,null,null,null,null,null,null,null,null,null,null,null,null,null,null,null,null,null,null,null,null,null,null,null,null,null,null,null,null,null,null,null,null,null,null,null,null,null,null,null,null,null,null,null,null,null,null,null,null,null,null,null,null,null,null,null,null,null,null,null,null,null,null,null,null,null,null,null,null,null,null,null,null,null,null,null,null,null,null,null,null,null,null,null,null,null,null,null,null,null,null,null,null,null,null,null,null,null,null,null,null,null,null,null,null,null,null,null,null,null,null,null,null,null,null,null,null,null,null,null,null,null,null,null,null,null,null,null,null,null,null,null,null,null,null,null,null,null,null,null,null,null,null,null,null,null,null,null,null,null,null,null,null,null,null,null,null,null,null,null,null,null,null,null,null,null,null,null,null,null,null,null,null,null,null,null,null,null,null,null,null,null,null,null,null,null,null,null,null,null,null,null,null,null,null,null,null,null,null,null,null,null,null,null,null,null,null,null,null,null,null,null,null,null,null,null,null,null,null,null,null,null,null,null,null,null,null,null,null,null,null,null,null,null,null,null,null,null,null,null,null,null,null,null,null,null,null,null,null,null,null,null,null,null,null,null,null,null,null,null,null,null,null,null,null,null,null,null,null,null,null,null,null,null,null,null,null,null,null,null,null,null,null,null,null,null,null,null,null,null,null,null,null,null,null,null,null,null,null,null,null,null,null,null,null,null,null,null,null,null,null,null,null,null,null,null,null,null,null,null,null,null,null,null,null,null,null,null,null,null,null,null,null,null,null,null,null,null,null,null,null,null,null,null,null,null,null,null,null,null,null,null,null,null,null,null,null,null,null,null,null,null,null,null,null,null,null,null,null,null,null,null,null,null,null,null,null,null,null,null,null,null,null,null,null,null,null,null,null,null,null,null,null,null,null,null,null,null,null,null,null,null,null,null,null,null,null,null,null,null,null,null,null,null,null,null,null,null,null,null,null,null,null,null,null,null,null,null,null,null,null,null,null,null,null,null,null,null,null,null,null,null,null,null,null,null,null,null,null,null,null,null,null,null,null,null,null,null,null,null,null,null,null,null,null,null,null,null,null,null,null,null,null,null,null,null,null,null,null,null,null,null,null,null,null,null,null,null,null,null,null,null,null,null,null,null,null,null,null,null,null,null,null,null,null,null,null,null,null,null,null,null,null,null,null,null,null,null,null,null,null,null,null,null,null,null,null,null,null,null,null,null,null,null,null,null,null,null,null,null,null,null,null,null,null,null,null,null,null,null,null,null,null,null,null,null,null,null,null,null,null,null,null,null,null,null,null,null,null,null,null,null,null,null,null,null,null,null,null,null,null,null,null,null,null,null,null,null,null,null,null,null,null,null,null,null,null,null,null,null,null,null,null,null,null,null,null,null,null,null,null,null,null,null,null,null,null,null,null,null,null,null,null,null,null,null,null,null,null,null,null,null,null,null,null,null,null,null,null,null,null,null,null,null,null,null,null,null,null,null,null,null,null,null,null,null,null,null,null,null,null,null,null,null,null,null,null,null,null,null,null,null,null,null,null,null,null,null,null,null,null,null,null,null,null,null,null,null,null,null,null,null,null,null,null,null,null,null,null,null,null,null,null,null,null,null,null,null,null,null,null,null,null,null,null,null,null,null,null,null,null,null,null,null,null,null,null,null,null,null,null,null,null,null,null,null,null,null,null,null,null,null,null,null,null,null,null,null,null,null,null,null,null,null,null,null,null,null,null,null,null,null,null,null,null,null,null,null,null,null,null,null,null,null,null,null,null,null,null,null,null,null,null,null,null,null,null,null,null,null,null,null,null,null,null,null,null,null,null,null,null,null,null,null,null,null,null,null,null,null,null,null,null,null,null,null,null,null,null,null,null,null,null,null,null,null,null,null,null,null,null,null,null,null,null,null,null,null,null,null,null,null,null,null,null,null,null,null,null,null,null,null,null,null,null,null,null,null,null,null,null,null,null,null,null,null,null,null,null,null,null,null,null,null,null,null,null,null,null,null,null,null,null,null,null,null,null,null,null,null,null,null,null,null,null,null,null,null,null,null,null,null,null,null,null,null,null,null,null,null,null,null,null,null,null,null,null,null,null,null,null,null,null,null,null,null,null,null,null,null,null,null,null,null,null,null,null,null,null,null,null,null,null,null,null,null,null,null,null,null,null,null,null,null,null,null,null,null,null,null,null,null,null,null,null,null,null,null,null,null,null,null,null,null,null,null,null,null,null,null,null,null,null,null,null,null,null,null,null,null,null,null,null,null,null,null,null,null,null,null,null,null,null,null,null,null,null,null,null,null,null,null,null,null,null,null,null,null,null,null,null,null,null,null,null,null,null,null,null,null,null,null,null,null,null,null,null,null,null,null,null,null,null,null,null,null,null,null,null,null,null,2,2,null,null,null,null,null,null,null,null,null,null,null,null,null,null,null,null,null,null,null,null,null,null,null,null,null,null,null,null,null,null,null,null,null,null,null,null,null,null,null,null,null,null,null,null,null,null,null,null,null,null,null,null,null,null,null,null,null,null,null,null,null,null,null,null,null,null,null,null,null,null,null,null,null,null,null,null,null,null,null,null,null,null,null,null,null,null,null,null,null,null,null,null,null,null,null,null,null,null,null,null,null,null,null,null,null,null,null,null,null,null,null,null,null,null,null,null,null,null,null,null,null,null,null,null,null,null,null,null,null,null,null,null,null,null,null,null,null,null,null,null,null,null,null,null,null,null,null,null,null,null,null,null,null,null,null,null,null,null,null,null,null,null,null,null,null,null,null,null,null,null,null,null,null,null,null,null,null,null,null,null,null,null,null,null,null,null,null,null,null,null,null,null,null,null,null,null,null,null,null,null,null,null,null,null,null,null,null,null,null,null,null,null,null,null,null,null,null,null,null,null,null,null,null,null,null,null,null,null,null,null,null,null,null,null,null,null,null,null,null,null,null,null,null,null,null,null,null,null,null,null,null,null,null,null,null,null,null,null,null,null,null,null,null,null,null,null,null,null,null,null,null,null,null,null,null,null,null,null,null,null,null,null,null,null,null,null,null,null,null,null,null,null,null,null,null,null,null,null,null,null,null,null,null,null,null,null,null,null,null,null,null,null,null,null,null,null,null,null,null,null,null,null,null,null,null,null,null,null,null,null,null,null,null,null,null,null,null,null,null,null,null,null,null,null,null,null,null,null,null,null,null,null,null,null,null,null,null,null,null,null,null,null,null,null,null,null,null,null,null,null,null,null,null,null,null,null,null,null,null,null,null,null,null,null,null,null,null,null,null,null,null,null,null,null,null,null,null,null,null,null,null,null,null,null,null,null,null,null,null,null,null,null,null,null,null,null,null,null,null,null,null,null,null,null,null,null,null,null,null,null,null,null,null,null,null,null,null,null,null,null,null,null,null,null,null,null,null,null,null,null,null,null,null,null,null,null,null,54,1,2,1,2,1,0,0,0,1,0,0,0,3,2,null,null,null,null,null,null,2,null,2,null,null,"2013-11-12T04:52:00","2013-11-12T05:04:00",null,698,5,"Netscape 5.0","Windows NT 6.1","216.137.224.105"]
[577,88250,1,"577_88250_1",{"$f":"VLOOKUP(D15,'Lives in SA (Zip)'!$B$4:$E$3989,4,FALSE)","v":0},"sb",1,0,1,{"$f":"(VLOOKUP(AP15,PolicySites!$B$5:$F$122,5,FALSE)*AZ15)+(VLOOKUP(AQ15,PolicySites!$B$5:$F$122,5,FALSE)*BA15)+(VLOOKUP(AR15,PolicySites!$B$5:$F$122,5,FALSE)*BB15)+(VLOOKUP(AS15,PolicySites!$B$5:$F$122,5,FALSE)*BC15)+(VLOOKUP(AT15,PolicySites!$B$5:$F$122,5,FALSE)*BD15)+(VLOOKUP(AU15,PolicySites!$B$5:$F$122,5,FALSE)*BE15)+(VLOOKUP(AV15,PolicySites!$B$5:$F$122,5,FALSE)*BF15)+(VLOOKUP(AW15,PolicySites!$B$5:$F$122,5,FALSE)*BG15)+(VLOOKUP(AX15,PolicySites!$B$5:$F$122,5,FALSE)*BH15)+(VLOOKUP(AY15,PolicySites!$B$5:$F$122,5,FALSE)*BI15)","v":0},7,"Wasilla Hatchers Pass","Knik",null,null,null,null,null,null,null,null,"Hatchers Pass","Knik",null,null,null,null,null,null,null,null,"Wasilla Hatchers Pass--Hatchers Pass","Knik--Knik","--","--","--","--","--","--","--","--",{"$f":"IFERROR(VLOOKUP(AF15,'Site Codes'!$V$4:$Y$164,4,FALSE),0)","v":"Snow 34"},{"$f":"IFERROR(VLOOKUP(AG15,'Site Codes'!$V$4:$Y$164,4,FALSE),0)","v":"Snow 45"},{"$f":"IFERROR(VLOOKUP(AH15,'Site Codes'!$V$4:$Y$164,4,FALSE),0)","v":0},{"$f":"IFERROR(VLOOKUP(AI15,'Site Codes'!$V$4:$Y$164,4,FALSE),0)","v":0},{"$f":"IFERROR(VLOOKUP(AJ15,'Site Codes'!$V$4:$Y$164,4,FALSE),0)","v":0},{"$f":"IFERROR(VLOOKUP(AK15,'Site Codes'!$V$4:$Y$164,4,FALSE),0)","v":0},{"$f":"IFERROR(VLOOKUP(AL15,'Site Codes'!$V$4:$Y$164,4,FALSE),0)","v":0},{"$f":"IFERROR(VLOOKUP(AM15,'Site Codes'!$V$4:$Y$164,4,FALSE),0)","v":0},{"$f":"IFERROR(VLOOKUP(AN15,'Site Codes'!$V$4:$Y$164,4,FALSE),0)","v":0},{"$f":"IFERROR(VLOOKUP(AO15,'Site Codes'!$V$4:$Y$164,4,FALSE),0)","v":0},3,4,null,null,null,null,null,null,null,null,0,0,0,0,0,0,0,0,0,0,0,0,0,0,0,0,0,0,0,0,0,0,0,0,0,0,0,0,0,0,0,0,0,0,0,0,0,0,0,0,0,0,0,0,0,0,0,0,0,0,0,0,0,0,0,0,0,0,0,0,0,0,0,0,0,0,0,0,0,0,0,0,0,0,0,0,0,0,0,0,0,0,0,0,0,0,0,0,0,0,0,0,0,0,0,0,0,0,0,0,0,0,0,0,0,0,0,0,0,0,0,0,0,0,0,0,0,0,0,0,0,0,0,0,0,0,0,0,0,0,0,0,0,0,0,0,0,0,0,0,0,0,0,0,0,0,0,0,0,0,0,0,0,0,0,0,0,0,0,0,0,0,0,0,0,0,0,0,0,0,0,0,0,0,0,0,0,0,0,0,0,0,0,0,0,0,0,0,0,0,0,0,0,0,0,0,0,0,0,0,0,0,0,0,0,0,0,0,0,0,0,0,0,0,0,0,0,0,0,0,0,0,0,0,0,0,0,0,0,0,0,0,0,0,0,0,0,0,0,0,0,0,0,0,0,0,0,0,0,0,0,0,0,0,0,0,0,0,0,0,0,0,0,0,0,0,0,0,0,0,0,0,0,0,0,0,0,0,0,0,0,0,0,0,0,0,0,0,0,0,0,0,0,0,0,0,0,0,0,0,0,0,0,0,0,0,0,0,0,0,0,0,0,0,0,0,0,0,0,0,0,0,0,0,0,0,0,0,0,0,0,0,0,0,0,0,0,0,0,0,0,0,0,0,0,0,0,0,0,0,0,0,0,0,0,0,0,0,0,0,0,0,0,0,0,0,0,0,null,null,null,null,null,null,null,null,null,null,null,null,null,null,null,null,null,null,null,null,null,null,null,null,null,null,null,null,null,null,null,null,null,null,null,null,null,null,null,null,null,null,null,null,null,null,null,null,null,null,null,null,null,null,null,null,null,null,null,null,null,null,null,null,null,null,null,null,null,null,null,null,null,null,null,null,null,null,null,null,null,null,null,null,null,null,null,null,null,null,null,null,null,null,null,null,null,null,null,null,null,null,null,null,null,null,null,null,null,null,null,null,null,null,null,null,null,null,null,null,null,null,null,null,null,null,null,null,null,null,null,null,null,null,null,null,null,null,null,null,null,null,null,null,null,null,null,null,null,null,null,null,null,null,null,null,null,null,null,null,null,null,null,null,null,null,null,null,null,null,null,null,null,null,null,null,null,null,null,null,null,null,null,null,null,null,null,null,null,null,null,null,null,null,null,null,null,null,null,null,null,null,null,null,null,null,null,null,null,null,null,null,null,null,null,null,null,null,null,null,null,null,null,null,null,null,null,null,null,null,null,null,null,null,null,null,null,null,null,null,null,null,null,null,null,null,null,null,null,null,null,null,null,null,null,null,null,null,null,null,null,null,null,null,null,null,null,null,null,null,null,null,null,null,null,null,null,null,null,null,null,null,null,null,null,null,null,null,null,null,null,null,null,null,null,null,null,null,null,null,null,null,null,null,null,null,null,null,null,null,null,null,null,null,null,null,null,null,null,null,null,null,null,null,null,null,null,null,null,null,null,null,null,null,null,null,null,null,null,null,null,null,null,null,null,null,null,null,null,null,null,null,null,null,null,null,null,null,null,null,null,null,null,null,null,null,null,null,null,null,null,null,null,null,null,null,null,null,null,null,null,null,null,null,null,null,null,null,null,null,null,null,null,null,null,null,null,null,null,null,null,null,null,null,null,null,null,null,null,null,null,null,null,null,null,null,null,null,null,null,null,null,null,null,null,null,null,null,null,null,null,null,null,null,null,null,null,null,null,null,null,null,null,null,null,null,null,null,null,null,null,null,null,null,null,null,null,null,null,null,null,null,null,null,null,null,null,null,null,null,null,null,null,null,null,null,null,null,null,null,null,null,null,null,null,null,null,null,null,null,null,null,null,null,null,null,null,null,null,null,null,null,null,null,null,null,null,null,null,null,null,null,null,null,null,null,null,null,null,null,null,null,null,null,null,null,null,null,null,null,null,null,null,null,null,null,null,null,null,null,null,null,null,null,null,null,null,null,null,null,null,null,null,null,null,null,null,null,null,null,null,null,null,null,null,null,null,null,null,null,null,null,null,null,null,null,null,null,null,null,null,null,null,null,null,null,null,null,null,null,null,null,null,null,null,null,null,null,null,null,null,null,null,null,null,null,null,null,null,null,null,null,null,null,null,null,null,null,null,null,null,null,null,null,null,null,null,null,null,null,null,null,null,null,null,null,null,null,null,null,null,null,null,null,null,null,null,null,null,null,null,null,null,null,null,null,null,null,null,null,null,null,null,null,null,null,null,null,null,null,null,null,null,null,null,null,null,null,null,null,null,null,null,null,null,null,null,null,null,null,null,null,null,null,null,null,null,null,null,null,null,null,null,null,null,null,null,null,null,null,null,null,null,null,null,null,null,null,null,null,null,null,null,null,null,null,null,null,null,null,null,null,null,null,null,null,null,null,null,null,null,null,null,null,null,null,null,null,null,null,null,null,null,null,null,null,null,null,null,null,null,null,null,null,null,null,null,null,null,null,null,null,null,null,null,null,null,null,null,null,null,null,null,null,null,null,null,null,null,null,null,null,null,null,null,null,null,null,null,null,null,null,null,null,null,null,null,null,null,null,null,null,null,null,null,null,null,null,null,null,null,null,null,null,null,null,null,null,null,null,null,null,null,null,null,null,null,null,null,null,null,null,null,null,null,null,null,null,null,null,null,null,null,null,null,null,null,null,null,null,null,null,null,null,null,null,null,null,null,null,null,null,null,null,null,null,null,null,null,null,null,null,null,null,null,null,null,null,null,null,null,null,null,null,null,null,null,null,null,null,null,null,null,null,null,null,null,null,null,null,null,null,null,null,null,null,null,null,null,null,null,null,null,null,null,null,null,null,null,null,null,null,null,null,null,null,null,null,null,null,null,null,null,null,null,null,null,null,null,null,null,null,null,null,null,null,null,null,null,null,null,null,null,null,null,null,null,null,null,null,null,null,null,null,null,null,null,null,null,null,null,null,null,null,null,null,null,null,null,null,null,null,null,null,null,null,null,null,null,null,null,null,null,null,null,null,null,null,null,null,null,null,null,null,null,null,null,null,null,null,null,null,null,null,null,null,null,null,null,null,null,null,null,null,null,null,null,null,null,null,null,null,null,null,null,null,null,null,null,null,null,null,null,null,null,null,null,null,null,null,null,null,null,null,null,null,null,null,null,null,null,null,null,null,null,null,null,null,null,null,null,null,null,null,null,null,null,null,null,null,null,null,null,null,null,null,null,null,null,null,null,null,null,null,null,null,null,null,null,null,null,null,null,null,null,null,null,null,null,null,null,null,null,null,null,null,null,null,null,null,null,null,null,null,null,null,null,null,null,null,null,null,null,null,null,null,null,null,null,null,null,null,null,null,null,null,null,null,null,null,null,null,null,null,null,null,null,null,null,null,null,null,null,null,null,null,null,null,null,null,null,null,null,null,null,null,null,null,null,null,null,null,null,null,null,null,null,null,null,null,null,null,null,null,null,null,null,null,null,null,null,null,null,null,null,null,null,null,null,null,null,null,null,null,null,null,null,null,null,null,null,null,null,null,null,null,null,null,null,null,null,null,null,null,null,null,null,null,null,null,null,null,null,null,null,null,null,null,null,null,null,null,null,null,null,null,null,null,null,null,null,null,null,null,null,null,null,null,null,null,null,null,null,null,null,null,null,null,null,null,null,null,null,null,null,null,null,null,null,null,null,null,null,null,null,null,null,null,null,null,null,null,null,null,null,null,null,null,null,null,null,null,null,null,null,null,null,null,null,null,null,null,null,null,null,null,null,null,null,null,null,null,null,null,null,null,null,null,null,null,null,null,null,null,null,null,null,null,null,null,null,null,null,null,null,null,null,null,null,null,null,null,null,null,null,null,null,null,null,null,null,null,null,null,null,null,null,null,null,null,null,null,null,null,null,null,null,null,null,null,null,null,null,null,null,null,null,null,null,null,null,null,null,null,null,null,null,null,null,null,null,null,null,null,null,null,null,null,null,null,null,null,null,null,null,null,null,null,null,null,null,null,null,null,null,null,null,null,null,null,null,null,null,null,null,null,null,null,null,null,null,null,null,null,null,null,null,null,null,null,null,null,2,1,11,0,0,0,0,0,0,1,0,0,0,0,0,0,0,0,0,0,0,0,0,0,0,null,null,null,null,null,null,null,null,5,null,null,null,null,null,null,null,null,null,null,null,null,null,null,null,null,null,null,null,null,null,null,null,1,null,null,null,null,null,null,null,null,null,null,null,null,null,null,null,null,null,7,null,null,null,null,0,0,0,0,0,0,0,0,0,0,0,0,0,0,0,0,0,0,0,0,0,0,0,0,0,0,0,0,0,0,0,0,0,0,0,0,0,0,0,0,1,0,0,0,0,0,0,0,0,0,0,0,0,0,0,0,0,0,0,1,1975,2,2,null,2,null,null,null,null,null,null,null,null,null,null,null,null,null,null,null,null,null,null,null,null,null,null,null,null,null,null,null,null,null,null,null,null,null,null,null,null,null,null,null,null,null,null,null,null,null,null,null,null,null,null,null,null,null,null,null,null,null,null,null,null,null,null,null,null,null,null,null,null,null,null,null,null,null,null,null,null,null,null,null,null,null,null,null,null,null,null,null,null,null,null,null,null,null,null,null,null,null,null,null,null,null,null,null,null,null,null,null,null,null,null,null,null,null,null,null,null,null,null,null,null,null,null,null,null,null,null,null,null,null,null,null,null,null,null,null,null,null,null,null,null,null,null,null,null,null,null,null,null,null,null,null,null,null,null,null,null,null,null,null,null,null,null,null,null,null,null,null,null,null,null,null,null,null,null,null,null,null,null,null,null,null,null,null,null,null,null,null,null,null,null,null,null,null,null,null,null,null,null,null,null,null,null,null,null,null,null,null,null,null,null,null,null,null,null,null,null,null,null,null,null,null,null,null,null,null,null,null,null,null,null,3,1,null,3,2,null,null,null,null,3,null,null,null,null,null,null,null,2,null,null,1,0,0,0,0,0,0,0,0,0,0,null,0,0,0,0,0,0,0,0,1,0,0,1,0,null,1,0,0,0,0,0,0,0,0,1,"Dog Sled",1,2,2,3,3,2,2,2,1,2,3,3,4,5,3,3,3,3,3,3,3,3,3,3,3,3,3,49,1,1,2,2,6,1,0,0,0,0,0,0,4,2,null,null,null,null,null,null,2,null,1,"suter@gci.net",null,"2014-01-14T02:33:00","2014-01-14T02:37:00",null,15058,5,"Firefox 23.0","Windows XP","209.112.172.118",7,null,null,null,null,null,null,null,null,null,null,null,null,null,null,null,null,null,null,null,null,null,null,null,7,null,null,null,null,null,null,null,null,null,null,null,null,null,null,null,null,null,null,null,null,null,null,null,null,null,null,null,null,null,null,null,null,null,null,null,null,null,null,null,null,null,null,null,null,null,null,null,7]
[341,16761,2,"341_16761_2",{"$f":"VLOOKUP(D130,'Lives in SA (Zip)'!$B$4:$E$3989,4,FALSE)","v":0},null,1,1,0,{"$f":"(VLOOKUP(AP130,PolicySites!$B$5:$F$122,5,FALSE)*AZ130)+(VLOOKUP(AQ130,PolicySites!$B$5:$F$122,5,FALSE)*BA130)+(VLOOKUP(AR130,PolicySites!$B$5:$F$122,5,FALSE)*BB130)+(VLOOKUP(AS130,PolicySites!$B$5:$F$122,5,FALSE)*BC130)+(VLOOKUP(AT130,PolicySites!$B$5:$F$122,5,FALSE)*BD130)+(VLOOKUP(AU130,PolicySites!$B$5:$F$122,5,FALSE)*BE130)+(VLOOKUP(AV130,PolicySites!$B$5:$F$122,5,FALSE)*BF130)+(VLOOKUP(AW130,PolicySites!$B$5:$F$122,5,FALSE)*BG130)+(VLOOKUP(AX130,PolicySites!$B$5:$F$122,5,FALSE)*BH130)+(VLOOKUP(AY130,PolicySites!$B$5:$F$122,5,FALSE)*BI130)","v":0},null,null,null,null,null,null,null,null,null,null,null,null,null,null,null,null,null,null,null,null,null,"--","--","--","--","--","--","--","--","--","--",{"$f":"IFERROR(VLOOKUP(AF130,'Site Codes'!$V$4:$Y$164,4,FALSE),0)","v":0},{"$f":"IFERROR(VLOOKUP(AG130,'Site Codes'!$V$4:$Y$164,4,FALSE),0)","v":0},{"$f":"IFERROR(VLOOKUP(AH130,'Site Codes'!$V$4:$Y$164,4,FALSE),0)","v":0},{"$f":"IFERROR(VLOOKUP(AI130,'Site Codes'!$V$4:$Y$164,4,FALSE),0)","v":0},{"$f":"IFERROR(VLOOKUP(AJ130,'Site Codes'!$V$4:$Y$164,4,FALSE),0)","v":0},{"$f":"IFERROR(VLOOKUP(AK130,'Site Codes'!$V$4:$Y$164,4,FALSE),0)","v":0},{"$f":"IFERROR(VLOOKUP(AL130,'Site Codes'!$V$4:$Y$164,4,FALSE),0)","v":0},{"$f":"IFERROR(VLOOKUP(AM130,'Site Codes'!$V$4:$Y$164,4,FALSE),0)","v":0},{"$f":"IFERROR(VLOOKUP(AN130,'Site Codes'!$V$4:$Y$164,4,FALSE),0)","v":0},{"$f":"IFERROR(VLOOKUP(AO130,'Site Codes'!$V$4:$Y$164,4,FALSE),0)","v":0},null,null,null,null,null,null,null,null,null,null,null,null,null,null,null,null,null,null,null,null,null,null,null,null,null,null,null,null,null,null,null,null,null,null,null,null,null,null,null,null,null,null,null,null,null,null,null,null,null,null,null,null,null,null,null,null,null,null,null,null,null,null,null,null,null,null,null,null,null,null,null,null,null,null,null,null,null,null,null,null,null,null,null,null,null,null,null,null,null,null,null,null,null,null,null,null,null,null,null,null,null,null,null,null,null,null,null,null,null,null,null,null,null,null,null,null,null,null,null,null,null,null,null,null,null,null,null,null,null,null,null,null,null,null,null,null,null,null,null,null,null,null,null,null,null,null,null,null,null,null,null,null,null,null,null,null,null,null,null,null,null,null,null,null,null,null,null,null,null,null,null,null,null,null,null,null,null,null,null,null,null,null,null,null,null,null,null,null,null,null,null,null,null,null,null,null,null,null,null,null,null,null,null,null,null,null,null,null,null,null,null,null,null,null,null,null,null,null,null,null,null,null,null,null,null,null,null,null,null,null,null,null,null,null,null,null,null,null,null,null,null,null,null,null,null,null,null,null,null,null,null,null,null,null,null,null,null,null,null,null,null,null,null,null,null,null,null,null,null,null,null,null,null,null,null,null,null,null,null,null,null,null,null,null,null,null,null,null,null,null,null,null,null,null,null,null,null,null,null,null,null,null,null,null,null,null,null,null,null,null,null,null,null,null,null,null,null,null,null,null,null,null,null,null,null,null,null,null,null,null,null,null,null,null,null,null,null,null,null,null,null,null,null,null,null,null,null,null,null,null,null,null,null,null,null,null,null,null,null,null,null,null,null,null,null,null,null,null,null,null,null,null,null,null,null,null,null,null,null,null,null,null,null,null,null,null,null,null,null,null,null,null,null,null,null,null,null,null,null,null,null,null,null,null,null,null,null,null,null,null,null,null,null,null,null,null,null,null,null,null,null,null,null,null,null,null,null,null,null,null,null,null,null,null,null,null,null,null,null,null,null,null,null,null,null,null,null,null,null,null,null,null,null,null,null,null,null,null,null,null,null,null,null,null,null,null,null,null,null,null,null,null,null,null,null,null,null,null,null,null,null,null,null,null,null,null,null,null,null,null,null,null,null,null,null,null,null,null,null,null,null,null,null,null,null,null,null,null,null,null,null,null,null,null,null,null,null,null,null,null,null,null,null,null,null,null,null,null,null,null,null,null,null,null,null,null,null,null,null,null,null,null,null,null,null,null,null,null,null,null,null,null,null,null,null,null,null,null,null,null,null,null,null,null,null,null,null,null,null,null,null,null,null,null,null,null,null,null,null,null,null,null,null,null,null,null,null,null,null,null,null,null,null,null,null,null,null,null,null,null,null,null,null,null,null,null,null,null,null,null,null,null,null,null,null,null,null,null,null,null,null,null,null,null,null,null,null,null,null,null,null,null,null,null,null,null,null,null,null,null,null,null,null,null,null,null,null,null,null,null,null,null,null,null,null,null,null,null,null,null,null,null,null,null,null,null,null,null,null,null,null,null,null,null,null,null,null,null,null,null,null,null,null,null,null,null,null,null,null,null,null,null,null,null,null,null,null,null,null,null,null,null,null,null,null,null,null,null,null,null,null,null,null,null,null,null,null,null,null,null,null,null,null,null,null,null,null,null,null,null,null,null,null,null,null,null,null,null,null,null,null,null,null,null,null,null,null,null,null,null,null,null,null,null,null,null,null,null,null,null,null,null,null,null,null,null,null,null,null,null,null,null,null,null,null,null,null,null,null,null,null,null,null,null,null,null,null,null,null,null,null,null,null,null,null,null,null,null,null,null,null,null,null,null,null,null,null,null,null,null,null,null,null,null,null,null,null,null,null,null,null,null,null,null,null,null,null,null,null,null,null,null,null,null,null,null,null,null,null,null,null,null,null,null,null,null,null,null,null,null,null,null,null,null,null,null,null,null,null,null,null,null,null,null,null,null,null,null,null,null,null,null,null,null,null,null,null,null,null,null,null,null,null,null,null,null,null,null,null,null,null,null,null,null,null,null,null,null,null,null,null,null,null,null,null,null,null,null,null,null,null,null,null,null,null,null,null,null,null,null,null,null,null,null,null,null,null,null,null,null,null,null,null,null,null,null,null,null,null,null,null,null,null,null,null,null,null,null,null,null,null,null,null,null,null,null,null,null,null,null,null,null,null,null,null,null,null,null,null,null,null,null,null,null,null,null,null,null,null,null,null,null,null,null,null,null,null,null,null,null,null,null,null,null,null,null,null,null,null,null,null,null,null,null,null,null,null,null,null,null,null,null,null,null,null,null,null,null,null,null,null,null,null,null,null,null,null,null,null,null,null,null,null,null,null,null,null,null,null,null,null,null,null,null,null,null,null,null,null,null,null,null,null,null,null,null,null,null,null,null,null,null,null,null,null,null,null,null,null,null,null,null,null,null,null,null,null,null,null,null,null,null,null,null,null,null,null,null,null,null,null,null,null,null,null,null,null,null,null,null,null,null,null,null,null,null,null,null,null,null,null,null,null,null,null,null,null,null,null,null,null,null,null,null,null,null,null,null,null,null,null,null,null,null,null,null,null,null,null,null,null,null,null,null,null,null,null,null,null,null,null,null,null,null,null,null,null,null,null,null,null,null,null,null,null,null,null,null,null,null,null,null,null,null,null,null,null,null,null,null,null,null,null,null,null,null,null,null,null,null,null,null,null,null,null,null,null,null,null,null,null,null,null,null,null,null,null,null,null,null,null,null,null,null,null,null,null,null,null,null,null,null,null,null,null,null,null,null,null,null,null,null,null,null,null,null,null,null,null,null,null,null,null,null,null,null,null,null,null,null,null,null,null,null,null,null,null,null,null,null,null,null,null,null,null,null,null,null,null,null,null,null,null,null,null,null,null,null,null,null,null,null,null,null,null,null,null,null,null,null,null,null,null,null,null,null,null,null,null,null,null,null,null,null,null,null,null,null,null,null,null,null,null,null,null,null,null,null,null,null,null,null,null,null,null,null,null,null,null,null,null,null,null,null,null,null,null,null,null,null,null,null,null,null,null,null,null,null,null,null,null,null,null,null,null,null,null,null,null,null,null,null,null,null,null,null,null,null,null,null,null,null,null,null,null,null,null,null,null,null,null,null,null,null,null,null,null,null,null,null,null,null,null,null,null,null,null,null,null,null,null,null,null,null,null,null,null,null,null,null,null,null,null,null,null,null,null,null,null,null,null,null,null,null,null,null,null,null,null,null,null,null,null,null,null,null,null,null,null,null,null,null,null,null,null,null,null,null,null,null,null,null,null,null,null,null,null,null,null,null,null,null,null,null,null,null,null,null,null,null,null,null,null,null,null,null,null,null,null,null,null,null,null,null,null,null,null,null,null,null,null,null,null,null,null,null,null,null,null,null,null,null,null,null,null,null,null,null,null,null,null,null,null,null,null,null,null,null,null,null,null,null,null,null,null,null,null,null,null,null,null,null,null,null,null,null,null,null,null,null,null,null,null,null,null,null,null,null,null,null,null,null,null,null,null,null,null,null,null,null,null,null,null,null,null,null,null,null,null,null,null,null,null,null,null,null,null,null,null,null,null,null,null,null,null,null,null,null,null,null,null,null,null,null,null,null,null,null,null,null,null,null,null,null,null,null,null,null,null,null,null,null,null,null,null,null,null,null,null,null,null,null,null,null,null,null,null,null,null,null,null,null,null,null,null,null,null,null,null,null,null,null,null,null,null,null,null,null,null,null,null,null,null,null,null,null,null,null,null,null,null,null,null,null,null,null,null,null,null,null,null,null,null,null,null,null,null,null,null,null,null,null,null,null,null,null,null,null,null,null,null,null,null,null,null,null,null,null,null,null,null,null,null,null,null,null,null,null,null,null,null,null,null,null,null,null,null,null,null,null,null,null,null,null,null,null,null,null,null,null,null,null,null,null,null,null,null,null,null,null,null,null,null,null,null,null,null,null,null,null,null,null,null,null,null,null,null,null,null,null,null,null,null,null,null,null,null,null,null,null,null,null,null,null,null,null,null,null,null,null,null,null,null,null,null,null,null,null,null,null,null,null,null,null,null,null,null,null,null,null,null,null,null,null,null,null,null,null,null,null,null,null,null,null,null,null,null,null,null,null,null,null,null,null,null,null,null,null,null,null,null,null,null,null,null,null,null,null,null,null,null,null,null,null,null,null,null,null,null,null,2,2,null,null,null,null,null,null,null,null,null,null,null,null,null,null,null,null,null,null,null,null,null,null,null,null,null,null,null,null,null,null,null,null,null,null,null,null,null,null,null,null,null,null,null,null,null,null,null,null,null,null,null,null,null,null,null,null,null,null,null,null,null,null,null,null,null,null,null,null,null,null,null,null,null,null,null,null,null,null,null,null,null,null,null,null,null,null,null,null,null,null,null,null,null,null,null,null,null,null,null,null,null,null,null,null,null,null,null,null,null,null,null,null,null,null,null,null,null,null,null,null,null,null,null,null,null,null,null,null,null,null,null,null,null,null,null,null,null,null,null,null,null,null,null,null,null,null,null,null,null,null,null,null,null,null,null,null,null,null,null,null,null,null,null,null,null,null,null,null,null,null,null,null,null,null,null,null,null,null,null,null,null,null,null,null,null,null,null,null,null,null,null,null,null,null,null,null,null,null,null,null,null,null,null,null,null,null,null,null,null,null,null,null,null,null,null,null,null,null,null,null,null,null,null,null,null,null,null,null,null,null,null,null,null,null,null,null,null,null,null,null,null,null,null,null,null,null,null,null,null,null,null,null,null,null,null,null,null,null,null,null,null,null,null,null,null,null,null,null,null,null,null,null,null,null,null,null,null,null,null,null,null,null,null,null,null,null,null,null,null,null,null,null,null,null,null,null,null,null,null,null,null,null,null,null,null,null,null,null,null,null,null,null,null,null,null,null,null,null,null,null,null,null,null,null,null,null,null,null,null,null,null,null,null,null,null,null,null,null,null,null,null,null,null,null,null,null,null,null,null,null,null,null,null,null,null,null,null,null,null,null,null,null,null,null,null,null,null,null,null,null,null,null,null,null,null,null,null,null,null,null,null,null,null,null,null,null,null,null,null,null,null,null,null,null,null,null,null,null,null,null,null,null,null,null,null,null,null,null,null,null,null,null,null,null,null,null,null,null,null,null,null,null,null,null,null,null,null,null,null,null,null,null,null,null,null,null,null,null,null,null,null,null,null,null,null,null,null,null,null,null,null,null,null,null,null,null,null,63,1,1,4,1,6,1,0,0,0,0,0,0,6,2,null,null,null,null,null,null,2,null,2,null,null,"2013-12-01T04:05:00","2013-12-01T04:10:00",null,850,5,"Chrome 31.0.1650.57","Windows NT 6.1","66.58.152.223"]
[366,52015,1,"366_52015_1",{"$f":"VLOOKUP(D247,'Lives in SA (Zip)'!$B$4:$E$3989,4,FALSE)","v":0},"ce",1,1,0,{"$f":"(VLOOKUP(AP247,PolicySites!$B$5:$F$122,5,FALSE)*AZ247)+(VLOOKUP(AQ247,PolicySites!$B$5:$F$122,5,FALSE)*BA247)+(VLOOKUP(AR247,PolicySites!$B$5:$F$122,5,FALSE)*BB247)+(VLOOKUP(AS247,PolicySites!$B$5:$F$122,5,FALSE)*BC247)+(VLOOKUP(AT247,PolicySites!$B$5:$F$122,5,FALSE)*BD247)+(VLOOKUP(AU247,PolicySites!$B$5:$F$122,5,FALSE)*BE247)+(VLOOKUP(AV247,PolicySites!$B$5:$F$122,5,FALSE)*BF247)+(VLOOKUP(AW247,PolicySites!$B$5:$F$122,5,FALSE)*BG247)+(VLOOKUP(AX247,PolicySites!$B$5:$F$122,5,FALSE)*BH247)+(VLOOKUP(AY247,PolicySites!$B$5:$F$122,5,FALSE)*BI247)","v":0},null,null,null,null,null,null,null,null,null,null,null,null,null,null,null,null,null,null,null,null,null,"--","--","--","--","--","--","--","--","--","--",{"$f":"IFERROR(VLOOKUP(AF247,'Site Codes'!$V$4:$Y$164,4,FALSE),0)","v":0},{"$f":"IFERROR(VLOOKUP(AG247,'Site Codes'!$V$4:$Y$164,4,FALSE),0)","v":0},{"$f":"IFERROR(VLOOKUP(AH247,'Site Codes'!$V$4:$Y$164,4,FALSE),0)","v":0},{"$f":"IFERROR(VLOOKUP(AI247,'Site Codes'!$V$4:$Y$164,4,FALSE),0)","v":0},{"$f":"IFERROR(VLOOKUP(AJ247,'Site Codes'!$V$4:$Y$164,4,FALSE),0)","v":0},{"$f":"IFERROR(VLOOKUP(AK247,'Site Codes'!$V$4:$Y$164,4,FALSE),0)","v":0},{"$f":"IFERROR(VLOOKUP(AL247,'Site Codes'!$V$4:$Y$164,4,FALSE),0)","v":0},{"$f":"IFERROR(VLOOKUP(AM247,'Site Codes'!$V$4:$Y$164,4,FALSE),0)","v":0},{"$f":"IFERROR(VLOOKUP(AN247,'Site Codes'!$V$4:$Y$164,4,FALSE),0)","v":0},{"$f":"IFERROR(VLOOKUP(AO247,'Site Codes'!$V$4:$Y$164,4,FALSE),0)","v":0},null,null,null,null,null,null,null,null,null,null,null,null,null,null,null,null,null,null,null,null,null,null,null,null,null,null,null,null,null,null,null,null,null,null,null,null,null,null,null,null,null,null,null,null,null,null,null,null,null,null,null,null,null,null,null,null,null,null,null,null,null,null,null,null,null,null,null,null,null,null,null,null,null,null,null,null,null,null,null,null,null,null,null,null,null,null,null,null,null,null,null,null,null,null,null,null,null,null,null,null,null,null,null,null,null,null,null,null,null,null,null,null,null,null,null,null,null,null,null,null,null,null,null,null,null,null,null,null,null,null,null,null,null,null,null,null,null,null,null,null,null,null,null,null,null,null,null,null,null,null,null,null,null,null,null,null,null,null,null,null,null,null,null,null,null,null,null,null,null,null,null,null,null,null,null,null,null,null,null,null,null,null,null,null,null,null,null,null,null,null,null,null,null,null,null,null,null,null,null,null,null,null,null,null,null,null,null,null,null,null,null,null,null,null,null,null,null,null,null,null,null,null,null,null,null,null,null,null,null,null,null,null,null,null,null,null,null,null,null,null,null,null,null,null,null,null,null,null,null,null,null,null,null,null,null,null,null,null,null,null,null,null,null,null,null,null,null,null,null,null,null,null,null,null,null,null,null,null,null,null,null,null,null,null,null,null,null,null,null,null,null,null,null,null,null,null,null,null,null,null,null,null,null,null,null,null,null,null,null,null,null,null,null,null,null,null,null,null,null,null,null,null,null,null,null,null,null,null,null,null,null,null,null,null,null,null,null,null,null,null,null,null,null,null,null,null,null,null,null,null,null,null,null,null,null,null,null,null,null,null,null,null,null,null,null,null,null,null,null,null,null,null,null,null,null,null,null,null,null,null,null,null,null,null,null,null,null,null,null,null,null,null,null,null,null,null,null,null,null,null,null,null,null,null,null,null,null,null,null,null,null,null,null,null,null,null,null,null,null,null,null,null,null,null,null,null,null,null,null,null,null,null,null,null,null,null,null,null,null,null,null,null,null,null,null,null,null,null,null,null,null,null,null,null,null,null,null,null,null,null,null,null,null,null,null,null,null,null,null,null,null,null,null,null,null,null,null,null,null,null,null,null,null,null,null,null,null,null,null,null,null,null,null,null,null,null,null,null,null,null,null,null,null,null,null,null,null,null,null,null,null,null,null,null,null,null,null,null,null,null,null,null,null,null,null,null,null,null,null,null,null,null,null,null,null,null,null,null,null,null,null,null,null,null,null,null,null,null,null,null,null,null,null,null,null,null,null,null,null,null,null,null,null,null,null,null,null,null,null,null,null,null,null,null,null,null,null,null,null,null,null,null,null,null,null,null,null,null,null,null,null,null,null,null,null,null,null,null,null,null,null,null,null,null,null,null,null,null,null,null,null,null,null,null,null,null,null,null,null,null,null,null,null,null,null,null,null,null,null,null,null,null,null,null,null,null,null,null,null,null,null,null,null,null,null,null,null,null,null,null,null,null,null,null,null,null,null,null,null,null,null,null,null,null,null,null,null,null,null,null,null,null,null,null,null,null,null,null,null,null,null,null,null,null,null,null,null,null,null,null,null,null,null,null,null,null,null,null,null,null,null,null,null,null,null,null,null,null,null,null,null,null,null,null,null,null,null,null,null,null,null,null,null,null,null,null,null,null,null,null,null,null,null,null,null,null,null,null,null,null,null,null,null,null,null,null,null,null,null,null,null,null,null,null,null,null,null,null,null,null,null,null,null,null,null,null,null,null,null,null,null,null,null,null,null,null,null,null,null,null,null,null,null,null,null,null,null,null,null,null,null,null,null,null,null,null,null,null,null,null,null,null,null,null,null,null,null,null,null,null,null,null,null,null,null,null,null,null,null,null,null,null,null,null,null,null,null,null,null,null,null,null,null,null,null,null,null,null,null,null,null,null,null,null,null,null,null,null,null,null,null,null,null,null,null,null,null,null,null,null,null,null,null,null,null,null,null,null,null,null,null,null,null,null,null,null,null,null,null,null,null,null,null,null,null,null,null,null,null,null,null,null,null,null,null,null,null,null,null,null,null,null,null,null,null,null,null,null,null,null,null,null,null,null,null,null,null,null,null,null,null,null,null,null,null,null,null,null,null,null,null,null,null,null,null,null,null,null,null,null,null,null,null,null,null,null,null,null,null,null,null,null,null,null,null,null,null,null,null,null,null,null,null,null,null,null,null,null,null,null,null,null,null,null,null,null,null,null,null,null,null,null,null,null,null,null,null,null,null,null,null,null,null,null,null,null,null,null,null,null,null,null,null,null,null,null,null,null,null,null,null,null,null,null,null,null,null,null,null,null,null,null,null,null,null,null,null,null,null,null,null,null,null,null,null,null,null,null,null,null,null,null,null,null,null,null,null,null,null,null,null,null,null,null,null,null,null,null,null,null,null,null,null,null,null,null,null,null,null,null,null,null,null,null,null,null,null,null,null,null,null,null,null,null,null,null,null,null,null,null,null,null,null,null,null,null,null,null,null,null,null,null,null,null,null,null,null,null,null,null,null,null,null,null,null,null,null,null,null,null,null,null,null,null,null,null,null,null,null,null,null,null,null,null,null,null,null,null,null,null,null,null,null,null,null,null,null,null,null,null,null,null,null,null,null,null,null,null,null,null,null,null,null,null,null,null,null,null,null,null,null,null,null,null,null,null,null,null,null,null,null,null,null,null,null,null,null,null,null,null,null,null,null,null,null,null,null,null,null,null,null,null,null,null,null,null,null,null,null,null,null,null,null,null,null,null,null,null,null,null,null,null,null,null,null,null,null,null,null,null,null,null,null,null,null,null,null,null,null,null,null,null,null,null,null,null,null,null,null,null,null,null,null,null,null,null,null,null,null,null,null,null,null,null,null,null,null,null,null,null,null,null,null,null,null,null,null,null,null,null,null,null,null,null,null,null,null,null,null,null,null,null,null,null,null,null,null,null,null,null,null,null,null,null,null,null,null,null,null,null,null,null,null,null,null,null,null,null,null,null,null,null,null,null,null,null,null,null,null,null,null,null,null,null,null,null,null,null,null,null,null,null,null,null,null,null,null,null,null,null,null,null,null,null,null,null,null,null,null,null,null,null,null,null,null,null,null,null,null,null,null,null,null,null,null,null,null,null,null,null,null,null,null,null,null,null,null,null,null,null,null,null,null,null,null,null,null,null,null,null,null,null,null,null,null,null,null,null,null,null,null,null,null,null,null,null,null,null,null,null,null,null,null,null,null,null,null,null,null,null,null,null,null,null,null,null,null,null,null,null,null,null,null,null,null,null,null,null,null,null,null,null,null,null,null,null,null,null,null,null,null,null,null,null,null,null,null,null,null,null,null,null,null,null,null,null,null,null,null,null,null,null,null,null,null,null,null,null,null,null,null,null,null,null,null,null,null,null,null,null,null,null,null,null,null,null,null,null,null,null,null,null,null,null,null,null,null,null,null,null,null,null,null,null,null,null,null,null,null,null,null,null,null,null,null,null,null,null,null,null,null,null,null,null,null,null,null,null,null,null,null,null,null,null,null,null,null,null,null,null,null,null,null,null,null,null,null,null,null,null,null,null,null,null,null,null,null,null,null,null,null,null,null,null,null,null,null,null,null,null,null,null,null,null,null,null,null,null,null,null,null,null,null,null,null,null,null,null,null,null,null,null,null,null,null,null,null,null,null,null,null,null,null,null,null,null,null,null,null,null,null,null,null,null,null,null,null,null,null,null,null,null,null,null,null,null,null,null,null,null,null,null,null,null,null,null,null,null,null,null,null,null,null,null,null,null,null,null,null,null,null,null,null,null,null,null,null,null,null,null,null,null,null,null,null,null,null,null,null,null,null,null,null,null,null,null,null,null,null,null,null,null,null,null,null,null,null,null,null,null,null,null,null,null,null,null,null,null,null,null,null,null,null,null,null,null,null,null,null,null,null,null,null,null,null,null,null,null,null,null,null,null,null,null,null,null,null,null,null,null,null,null,null,null,null,null,null,null,null,null,null,null,null,null,null,null,null,null,null,null,null,null,null,null,null,null,null,null,null,null,null,null,null,null,null,null,null,null,null,null,null,null,null,null,null,null,null,null,null,null,null,null,null,null,null,null,null,null,null,null,null,null,null,null,null,null,null,null,null,null,null,null,null,null,null,null,null,null,null,null,null,null,null,null,null,null,null,null,null,null,null,null,null,null,null,null,null,null,null,null,1,2,null,null,null,null,null,null,null,null,null,null,null,null,null,null,null,null,null,null,null,null,null,null,null,null,null,null,null,null,null,null,null,null,null,null,null,null,null,null,null,null,null,null,null,null,null,null,null,null,null,null,null,null,null,null,null,null,null,null,null,null,null,null,null,null,null,null,null,null,null,null,null,null,null,null,null,null,null,null,null,null,null,null,null,null,null,null,null,null,null,null,null,null,null,null,null,null,null,null,null,null,null,null,null,null,null,null,null,null,null,null,null,null,null,null,null,null,null,null,null,null,null,null,null,null,null,null,null,null,null,null,null,null,null,null,null,null,null,null,null,null,null,null,null,null,null,null,null,null,null,null,null,null,null,null,null,null,null,null,null,null,null,null,null,null,null,null,null,null,null,null,null,null,null,null,null,null,null,null,null,null,null,null,null,null,null,null,null,null,null,null,null,null,null,null,null,null,null,null,null,null,null,null,null,null,null,null,null,null,null,null,null,null,null,null,null,null,null,null,null,null,null,null,null,null,null,null,null,null,null,null,null,null,null,null,null,null,null,null,null,null,null,null,null,null,null,null,null,null,null,null,null,null,null,null,null,null,null,null,null,null,null,null,null,null,null,null,null,null,null,null,null,null,null,null,null,null,null,null,null,null,null,null,null,null,null,null,null,null,null,null,null,null,null,null,null,null,null,null,null,null,null,null,null,null,null,null,null,null,null,null,null,null,null,null,null,null,null,null,null,null,null,null,null,null,null,null,null,null,null,null,null,null,null,null,null,null,null,null,null,null,null,null,null,null,null,null,null,null,null,null,null,null,null,null,null,null,null,null,null,null,null,null,null,null,null,null,null,null,null,null,null,null,null,null,null,null,null,null,null,null,null,null,null,null,null,null,null,null,null,null,null,null,null,null,null,null,null,null,null,null,null,null,null,null,null,null,null,null,null,null,null,null,null,null,null,null,null,null,null,null,null,null,null,null,null,null,null,null,null,null,null,null,null,null,null,null,null,null,null,null,null,null,null,null,null,null,null,null,null,null,null,null,null,null,null,null,null,47,1,1,2,2,6,1,0,0,0,0,0,0,5,2,null,null,null,null,null,null,1,"Alexander Creek",1,"dsavage@mtaonline.net",null,"2014-01-12T23:44:00","2014-01-12T23:46:00",null,14986,5,"Firefox 23.0","Windows XP","209.112.172.118"]
[1568,57315,1,"1568_57315_1",{"$f":"VLOOKUP(D360,'Lives in SA (Zip)'!$B$4:$E$3989,4,FALSE)","v":0},"ce",1,1,0,{"$f":"(VLOOKUP(AP360,PolicySites!$B$5:$F$122,5,FALSE)*AZ360)+(VLOOKUP(AQ360,PolicySites!$B$5:$F$122,5,FALSE)*BA360)+(VLOOKUP(AR360,PolicySites!$B$5:$F$122,5,FALSE)*BB360)+(VLOOKUP(AS360,PolicySites!$B$5:$F$122,5,FALSE)*BC360)+(VLOOKUP(AT360,PolicySites!$B$5:$F$122,5,FALSE)*BD360)+(VLOOKUP(AU360,PolicySites!$B$5:$F$122,5,FALSE)*BE360)+(VLOOKUP(AV360,PolicySites!$B$5:$F$122,5,FALSE)*BF360)+(VLOOKUP(AW360,PolicySites!$B$5:$F$122,5,FALSE)*BG360)+(VLOOKUP(AX360,PolicySites!$B$5:$F$122,5,FALSE)*BH360)+(VLOOKUP(AY360,PolicySites!$B$5:$F$122,5,FALSE)*BI360)","v":0},null,null,null,null,null,null,null,null,null,null,null,null,null,null,null,null,null,null,null,null,null,"--","--","--","--","--","--","--","--","--","--",{"$f":"IFERROR(VLOOKUP(AF360,'Site Codes'!$V$4:$Y$164,4,FALSE),0)","v":0},{"$f":"IFERROR(VLOOKUP(AG360,'Site Codes'!$V$4:$Y$164,4,FALSE),0)","v":0},{"$f":"IFERROR(VLOOKUP(AH360,'Site Codes'!$V$4:$Y$164,4,FALSE),0)","v":0},{"$f":"IFERROR(VLOOKUP(AI360,'Site Codes'!$V$4:$Y$164,4,FALSE),0)","v":0},{"$f":"IFERROR(VLOOKUP(AJ360,'Site Codes'!$V$4:$Y$164,4,FALSE),0)","v":0},{"$f":"IFERROR(VLOOKUP(AK360,'Site Codes'!$V$4:$Y$164,4,FALSE),0)","v":0},{"$f":"IFERROR(VLOOKUP(AL360,'Site Codes'!$V$4:$Y$164,4,FALSE),0)","v":0},{"$f":"IFERROR(VLOOKUP(AM360,'Site Codes'!$V$4:$Y$164,4,FALSE),0)","v":0},{"$f":"IFERROR(VLOOKUP(AN360,'Site Codes'!$V$4:$Y$164,4,FALSE),0)","v":0},{"$f":"IFERROR(VLOOKUP(AO360,'Site Codes'!$V$4:$Y$164,4,FALSE),0)","v":0},null,null,null,null,null,null,null,null,null,null,null,null,null,null,null,null,null,null,null,null,null,null,null,null,null,null,null,null,null,null,null,null,null,null,null,null,null,null,null,null,null,null,null,null,null,null,null,null,null,null,null,null,null,null,null,null,null,null,null,null,null,null,null,null,null,null,null,null,null,null,null,null,null,null,null,null,null,null,null,null,null,null,null,null,null,null,null,null,null,null,null,null,null,null,null,null,null,null,null,null,null,null,null,null,null,null,null,null,null,null,null,null,null,null,null,null,null,null,null,null,null,null,null,null,null,null,null,null,null,null,null,null,null,null,null,null,null,null,null,null,null,null,null,null,null,null,null,null,null,null,null,null,null,null,null,null,null,null,null,null,null,null,null,null,null,null,null,null,null,null,null,null,null,null,null,null,null,null,null,null,null,null,null,null,null,null,null,null,null,null,null,null,null,null,null,null,null,null,null,null,null,null,null,null,null,null,null,null,null,null,null,null,null,null,null,null,null,null,null,null,null,null,null,null,null,null,null,null,null,null,null,null,null,null,null,null,null,null,null,null,null,null,null,null,null,null,null,null,null,null,null,null,null,null,null,null,null,null,null,null,null,null,null,null,null,null,null,null,null,null,null,null,null,null,null,null,null,null,null,null,null,null,null,null,null,null,null,null,null,null,null,null,null,null,null,null,null,null,null,null,null,null,null,null,null,null,null,null,null,null,null,null,null,null,null,null,null,null,null,null,null,null,null,null,null,null,null,null,null,null,null,null,null,null,null,null,null,null,null,null,null,null,null,null,null,null,null,null,null,null,null,null,null,null,null,null,null,null,null,null,null,null,null,null,null,null,null,null,null,null,null,null,null,null,null,null,null,null,null,null,null,null,null,null,null,null,null,null,null,null,null,null,null,null,null,null,null,null,null,null,null,null,null,null,null,null,null,null,null,null,null,null,null,null,null,null,null,null,null,null,null,null,null,null,null,null,null,null,null,null,null,null,null,null,null,null,null,null,null,null,null,null,null,null,null,null,null,null,null,null,null,null,null,null,null,null,null,null,null,null,null,null,null,null,null,null,null,null,null,null,null,null,null,null,null,null,null,null,null,null,null,null,null,null,null,null,null,null,null,null,null,null,null,null,null,null,null,null,null,null,null,null,null,null,null,null,null,null,null,null,null,null,null,null,null,null,null,null,null,null,null,null,null,null,null,null,null,null,null,null,null,null,null,null,null,null,null,null,null,null,null,null,null,null,null,null,null,null,null,null,null,null,null,null,null,null,null,null,null,null,null,null,null,null,null,null,null,null,null,null,null,null,null,null,null,null,null,null,null,null,null,null,null,null,null,null,null,null,null,null,null,null,null,null,null,null,null,null,null,null,null,null,null,null,null,null,null,null,null,null,null,null,null,null,null,null,null,null,null,null,null,null,null,null,null,null,null,null,null,null,null,null,null,null,null,null,null,null,null,null,null,null,null,null,null,null,null,null,null,null,null,null,null,null,null,null,null,null,null,null,null,null,null,null,null,null,null,null,null,null,null,null,null,null,null,null,null,null,null,null,null,null,null,null,null,null,null,null,null,null,null,null,null,null,null,null,null,null,null,null,null,null,null,null,null,null,null,null,null,null,null,null,null,null,null,null,null,null,null,null,null,null,null,null,null,null,null,null,null,null,null,null,null,null,null,null,null,null,null,null,null,null,null,null,null,null,null,null,null,null,null,null,null,null,null,null,null,null,null,null,null,null,null,null,null,null,null,null,null,null,null,null,null,null,null,null,null,null,null,null,null,null,null,null,null,null,null,null,null,null,null,null,null,null,null,null,null,null,null,null,null,null,null,null,null,null,null,null,null,null,null,null,null,null,null,null,null,null,null,null,null,null,null,null,null,null,null,null,null,null,null,null,null,null,null,null,null,null,null,null,null,null,null,null,null,null,null,null,null,null,null,null,null,null,null,null,null,null,null,null,null,null,null,null,null,null,null,null,null,null,null,null,null,null,null,null,null,null,null,null,null,null,null,null,null,null,null,null,null,null,null,null,null,null,null,null,null,null,null,null,null,null,null,null,null,null,null,null,null,null,null,null,null,null,null,null,null,null,null,null,null,null,null,null,null,null,null,null,null,null,null,null,null,null,null,null,null,null,null,null,null,null,null,null,null,null,null,null,null,null,null,null,null,null,null,null,null,null,null,null,null,null,null,null,null,null,null,null,null,null,null,null,null,null,null,null,null,null,null,null,null,null,null,null,null,null,null,null,null,null,null,null,null,null,null,null,null,null,null,null,null,null,null,null,null,null,null,null,null,null,null,null,null,null,null,null,null,null,null,null,null,null,null,null,null,null,null,null,null,null,null,null,null,null,null,null,null,null,null,null,null,null,null,null,null,null,null,null,null,null,null,null,null,null,null,null,null,null,null,null,null,null,null,null,null,null,null,null,null,null,null,null,null,null,null,null,null,null,null,null,null,null,null,null,null,null,null,null,null,null,null,null,null,null,null,null,null,null,null,null,null,null,null,null,null,null,null,null,null,null,null,null,null,null,null,null,null,null,null,null,null,null,null,null,null,null,null,null,null,null,null,null,null,null,null,null,null,null,null,null,null,null,null,null,null,null,null,null,null,null,null,null,null,null,null,null,null,null,null,null,null,null,null,null,null,null,null,null,null,null,null,null,null,null,null,null,null,null,null,null,null,null,null,null,null,null,null,null,null,null,null,null,null,null,null,null,null,null,null,null,null,null,null,null,null,null,null,null,null,null,null,null,null,null,null,null,null,null,null,null,null,null,null,null,null,null,null,null,null,null,null,null,null,null,null,null,null,null,null,null,null,null,null,null,null,null,null,null,null,null,null,null,null,null,null,null,null,null,null,null,null,null,null,null,null,null,null,null,null,null,null,null,null,null,null,null,null,null,null,null,null,null,null,null,null,null,null,null,null,null,null,null,null,null,null,null,null,null,null,null,null,null,null,null,null,null,null,null,null,null,null,null,null,null,null,null,null,null,null,null,null,null,null,null,null,null,null,null,null,null,null,null,null,null,null,null,null,null,null,null,null,null,null,null,null,null,null,null,null,null,null,null,null,null,null,null,null,null,null,null,null,null,null,null,null,null,null,null,null,null,null,null,null,null,null,null,null,null,null,null,null,null,null,null,null,null,null,null,null,null,null,null,null,null,null,null,null,null,null,null,null,null,null,null,null,null,null,null,null,null,null,null,null,null,null,null,null,null,null,null,null,null,null,null,null,null,null,null,null,null,null,null,null,null,null,null,null,null,null,null,null,null,null,null,null,null,null,null,null,null,null,null,null,null,null,null,null,null,null,null,null,null,null,null,null,null,null,null,null,null,null,null,null,null,null,null,null,null,null,null,null,null,null,null,null,null,null,null,null,null,null,null,null,null,null,null,null,null,null,null,null,null,null,null,null,null,null,null,null,null,null,null,null,null,null,null,null,null,null,null,null,null,null,null,null,null,null,null,null,null,null,null,null,null,null,null,null,null,null,null,null,null,null,null,null,null,null,null,null,null,null,null,null,null,null,null,null,null,null,null,null,null,null,null,null,null,null,null,null,null,null,null,null,null,null,null,null,null,null,null,null,null,null,null,null,null,null,null,null,null,null,null,null,null,null,null,null,null,null,null,null,null,null,null,null,null,null,null,null,null,null,null,null,null,null,null,null,null,null,null,null,null,null,null,null,null,null,null,null,null,null,null,null,null,null,null,null,null,null,null,null,null,null,null,null,null,null,null,null,null,null,null,null,null,null,null,null,null,null,null,null,null,null,null,null,null,null,null,null,null,null,null,null,null,null,null,null,null,null,null,null,null,null,null,null,null,null,null,null,null,null,null,null,null,null,null,null,null,null,null,null,null,null,null,null,null,null,null,null,null,null,null,null,null,null,null,null,null,null,null,null,null,null,null,null,null,null,null,null,null,null,null,null,null,null,null,null,null,null,null,null,null,null,null,null,null,null,null,null,null,null,null,null,null,null,null,null,null,null,null,null,null,null,null,null,null,null,null,null,null,null,null,null,null,null,null,null,null,null,null,null,null,null,null,null,null,null,null,null,null,null,null,null,null,null,null,null,null,null,null,null,null,null,null,null,null,null,null,null,null,null,null,null,null,null,null,null,null,null,null,null,null,null,null,null,null,null,null,null,null,null,null,null,null,null,null,null,null,null,null,null,null,null,null,null,null,null,null,null,null,2,2,null,null,null,null,null,null,null,null,null,null,null,null,null,null,null,null,null,null,null,null,null,null,null,null,null,null,null,null,null,null,null,null,null,null,null,null,null,null,null,null,null,null,null,null,null,null,null,null,null,null,null,null,null,null,null,null,null,null,null,null,null,null,null,null,null,null,null,null,null,null,null,null,null,null,null,null,null,null,null,null,null,null,null,null,null,null,null,null,null,null,null,null,null,null,null,null,null,null,null,null,null,null,null,null,null,null,null,null,null,null,null,null,null,null,null,null,null,null,null,null,null,null,null,null,null,null,null,null,null,null,null,null,null,null,null,null,null,null,null,null,null,null,null,null,null,null,null,null,null,null,null,null,null,null,null,null,null,null,null,null,null,null,null,null,null,null,null,null,null,null,null,null,null,null,null,null,null,null,null,null,null,null,null,null,null,null,null,null,null,null,null,null,null,null,null,null,null,null,null,null,null,null,null,null,null,null,null,null,null,null,null,null,null,null,null,null,null,null,null,null,null,null,null,null,null,null,null,null,null,null,null,null,null,null,null,null,null,null,null,null,null,null,null,null,null,null,null,null,null,null,null,null,null,null,null,null,null,null,null,null,null,null,null,null,null,null,null,null,null,null,null,null,null,null,null,null,null,null,null,null,null,null,null,null,null,null,null,null,null,null,null,null,null,null,null,null,null,null,null,null,null,null,null,null,null,null,null,null,null,null,null,null,null,null,null,null,null,null,null,null,null,null,null,null,null,null,null,null,null,null,null,null,null,null,null,null,null,null,null,null,null,null,null,null,null,null,null,null,null,null,null,null,null,null,null,null,null,null,null,null,null,null,null,null,null,null,null,null,null,null,null,null,null,null,null,null,null,null,null,null,null,null,null,null,null,null,null,null,null,null,null,null,null,null,null,null,null,null,null,null,null,null,null,null,null,null,null,null,null,null,null,null,null,null,null,null,null,null,null,null,null,null,null,null,null,null,null,null,null,null,null,null,null,null,null,null,null,null,null,null,null,null,null,null,null,null,null,null,null,null,null,null,null,null,null,null,null,28,1,1,2,2,6,1,0,0,0,0,0,0,6,2,null,null,null,null,null,null,2,null,2,null,null,"2013-12-19T03:09:00","2013-12-19T03:10:00",null,1004,5,"Firefox 23.0","Windows XP","209.112.172.118"]
[1373,61870,1,"1373_61870_1",{"$f":"VLOOKUP(D477,'Lives in SA (Zip)'!$B$4:$E$3989,4,FALSE)","v":0},"ce",1,1,0,{"$f":"(VLOOKUP(AP477,PolicySites!$B$5:$F$122,5,FALSE)*AZ477)+(VLOOKUP(AQ477,PolicySites!$B$5:$F$122,5,FALSE)*BA477)+(VLOOKUP(AR477,PolicySites!$B$5:$F$122,5,FALSE)*BB477)+(VLOOKUP(AS477,PolicySites!$B$5:$F$122,5,FALSE)*BC477)+(VLOOKUP(AT477,PolicySites!$B$5:$F$122,5,FALSE)*BD477)+(VLOOKUP(AU477,PolicySites!$B$5:$F$122,5,FALSE)*BE477)+(VLOOKUP(AV477,PolicySites!$B$5:$F$122,5,FALSE)*BF477)+(VLOOKUP(AW477,PolicySites!$B$5:$F$122,5,FALSE)*BG477)+(VLOOKUP(AX477,PolicySites!$B$5:$F$122,5,FALSE)*BH477)+(VLOOKUP(AY477,PolicySites!$B$5:$F$122,5,FALSE)*BI477)","v":0},null,null,null,null,null,null,null,null,null,null,null,null,null,null,null,null,null,null,null,null,null,"--","--","--","--","--","--","--","--","--","--",{"$f":"IFERROR(VLOOKUP(AF477,'Site Codes'!$V$4:$Y$164,4,FALSE),0)","v":0},{"$f":"IFERROR(VLOOKUP(AG477,'Site Codes'!$V$4:$Y$164,4,FALSE),0)","v":0},{"$f":"IFERROR(VLOOKUP(AH477,'Site Codes'!$V$4:$Y$164,4,FALSE),0)","v":0},{"$f":"IFERROR(VLOOKUP(AI477,'Site Codes'!$V$4:$Y$164,4,FALSE),0)","v":0},{"$f":"IFERROR(VLOOKUP(AJ477,'Site Codes'!$V$4:$Y$164,4,FALSE),0)","v":0},{"$f":"IFERROR(VLOOKUP(AK477,'Site Codes'!$V$4:$Y$164,4,FALSE),0)","v":0},{"$f":"IFERROR(VLOOKUP(AL477,'Site Codes'!$V$4:$Y$164,4,FALSE),0)","v":0},{"$f":"IFERROR(VLOOKUP(AM477,'Site Codes'!$V$4:$Y$164,4,FALSE),0)","v":0},{"$f":"IFERROR(VLOOKUP(AN477,'Site Codes'!$V$4:$Y$164,4,FALSE),0)","v":0},{"$f":"IFERROR(VLOOKUP(AO477,'Site Codes'!$V$4:$Y$164,4,FALSE),0)","v":0},null,null,null,null,null,null,null,null,null,null,null,null,null,null,null,null,null,null,null,null,null,null,null,null,null,null,null,null,null,null,null,null,null,null,null,null,null,null,null,null,null,null,null,null,null,null,null,null,null,null,null,null,null,null,null,null,null,null,null,null,null,null,null,null,null,null,null,null,null,null,null,null,null,null,null,null,null,null,null,null,null,null,null,null,null,null,null,null,null,null,null,null,null,null,null,null,null,null,null,null,null,null,null,null,null,null,null,null,null,null,null,null,null,null,null,null,null,null,null,null,null,null,null,null,null,null,null,null,null,null,null,null,null,null,null,null,null,null,null,null,null,null,null,null,null,null,null,null,null,null,null,null,null,null,null,null,null,null,null,null,null,null,null,null,null,null,null,null,null,null,null,null,null,null,null,null,null,null,null,null,null,null,null,null,null,null,null,null,null,null,null,null,null,null,null,null,null,null,null,null,null,null,null,null,null,null,null,null,null,null,null,null,null,null,null,null,null,null,null,null,null,null,null,null,null,null,null,null,null,null,null,null,null,null,null,null,null,null,null,null,null,null,null,null,null,null,null,null,null,null,null,null,null,null,null,null,null,null,null,null,null,null,null,null,null,null,null,null,null,null,null,null,null,null,null,null,null,null,null,null,null,null,null,null,null,null,null,null,null,null,null,null,null,null,null,null,null,null,null,null,null,null,null,null,null,null,null,null,null,null,null,null,null,null,null,null,null,null,null,null,null,null,null,null,null,null,null,null,null,null,null,null,null,null,null,null,null,null,null,null,null,null,null,null,null,null,null,null,null,null,null,null,null,null,null,null,null,null,null,null,null,null,null,null,null,null,null,null,null,null,null,null,null,null,null,null,null,null,null,null,null,null,null,null,null,null,null,null,null,null,null,null,null,null,null,null,null,null,null,null,null,null,null,null,null,null,null,null,null,null,null,null,null,null,null,null,null,null,null,null,null,null,null,null,null,null,null,null,null,null,null,null,null,null,null,null,null,null,null,null,null,null,null,null,null,null,null,null,null,null,null,null,null,null,null,null,null,null,null,null,null,null,null,null,null,null,null,null,null,null,null,null,null,null,null,null,null,null,null,null,null,null,null,null,null,null,null,null,null,null,null,null,null,null,null,null,null,null,null,null,null,null,null,null,null,null,null,null,null,null,null,null,null,null,null,null,null,null,null,null,null,null,null,null,null,null,null,null,null,null,null,null,null,null,null,null,null,null,null,null,null,null,null,null,null,null,null,null,null,null,null,null,null,null,null,null,null,null,null,null,null,null,null,null,null,null,null,null,null,null,null,null,null,null,null,null,null,null,null,null,null,null,null,null,null,null,null,null,null,null,null,null,null,null,null,null,null,null,null,null,null,null,null,null,null,null,null,null,null,null,null,null,null,null,null,null,null,null,null,null,null,null,null,null,null,null,null,null,null,null,null,null,null,null,null,null,null,null,null,null,null,null,null,null,null,null,null,null,null,null,null,null,null,null,null,null,null,null,null,null,null,null,null,null,null,null,null,null,null,null,null,null,null,null,null,null,null,null,null,null,null,null,null,null,null,null,null,null,null,null,null,null,null,null,null,null,null,null,null,null,null,null,null,null,null,null,null,null,null,null,null,null,null,null,null,null,null,null,null,null,null,null,null,null,null,null,null,null,null,null,null,null,null,null,null,null,null,null,null,null,null,null,null,null,null,null,null,null,null,null,null,null,null,null,null,null,null,null,null,null,null,null,null,null,null,null,null,null,null,null,null,null,null,null,null,null,null,null,null,null,null,null,null,null,null,null,null,null,null,null,null,null,null,null,null,null,null,null,null,null,null,null,null,null,null,null,null,null,null,null,null,null,null,null,null,null,null,null,null,null,null,null,null,null,null,null,null,null,null,null,null,null,null,null,null,null,null,null,null,null,null,null,null,null,null,null,null,null,null,null,null,null,null,null,null,null,null,null,null,null,null,null,null,null,null,null,null,null,null,null,null,null,null,null,null,null,null,null,null,null,null,null,null,null,null,null,null,null,null,null,null,null,null,null,null,null,null,null,null,null,null,null,null,null,null,null,null,null,null,null,null,null,null,null,null,null,null,null,null,null,null,null,null,null,null,null,null,null,null,null,null,null,null,null,null,null,null,null,null,null,null,null,null,null,null,null,null,null,null,null,null,null,null,null,null,null,null,null,null,null,null,null,null,null,null,null,null,null,null,null,null,null,null,null,null,null,null,null,null,null,null,null,null,null,null,null,null,null,null,null,null,null,null,null,null,null,null,null,null,null,null,null,null,null,null,null,null,null,null,null,null,null,null,null,null,null,null,null,null,null,null,null,null,null,null,null,null,null,null,null,null,null,null,null,null,null,null,null,null,null,null,null,null,null,null,null,null,null,null,null,null,null,null,null,null,null,null,null,null,null,null,null,null,null,null,null,null,null,null,null,null,null,null,null,null,null,null,null,null,null,null,null,null,null,null,null,null,null,null,null,null,null,null,null,null,null,null,null,null,null,null,null,null,null,null,null,null,null,null,null,null,null,null,null,null,null,null,null,null,null,null,null,null,null,null,null,null,null,null,null,null,null,null,null,null,null,null,null,null,null,null,null,null,null,null,null,null,null,null,null,null,null,null,null,null,null,null,null,null,null,null,null,null,null,null,null,null,null,null,null,null,null,null,null,null,null,null,null,null,null,null,null,null,null,null,null,null,null,null,null,null,null,null,null,null,null,null,null,null,null,null,null,null,null,null,null,null,null,null,null,null,null,null,null,null,null,null,null,null,null,null,null,null,null,null,null,null,null,null,null,null,null,null,null,null,null,null,null,null,null,null,null,null,null,null,null,null,null,null,null,null,null,null,null,null,null,null,null,null,null,null,null,null,null,null,null,null,null,null,null,null,null,null,null,null,null,null,null,null,null,null,null,null,null,null,null,null,null,null,null,null,null,null,null,null,null,null,null,null,null,null,null,null,null,null,null,null,null,null,null,null,null,null,null,null,null,null,null,null,null,null,null,null,null,null,null,null,null,null,null,null,null,null,null,null,null,null,null,null,null,null,null,null,null,null,null,null,null,null,null,null,null,null,null,null,null,null,null,null,null,null,null,null,null,null,null,null,null,null,null,null,null,null,null,null,null,null,null,null,null,null,null,null,null,null,null,null,null,null,null,null,null,null,null,null,null,null,null,null,null,null,null,null,null,null,null,null,null,null,null,null,null,null,null,null,null,null,null,null,null,null,null,null,null,null,null,null,null,null,null,null,null,null,null,null,null,null,null,null,null,null,null,null,null,null,null,null,null,null,null,null,null,null,null,null,null,null,null,null,null,null,null,null,null,null,null,null,null,null,null,null,null,null,null,null,null,null,null,null,null,null,null,null,null,null,null,null,null,null,null,null,null,null,null,null,null,null,null,null,null,null,null,null,null,null,null,null,null,null,null,null,null,null,null,null,null,null,null,null,null,null,null,null,null,null,null,null,null,null,null,null,null,null,null,null,null,null,null,null,null,null,null,null,null,null,null,null,null,null,null,null,null,null,null,null,null,null,null,null,null,null,null,null,null,null,null,null,null,null,null,null,null,null,null,null,null,null,null,null,null,null,null,null,null,null,null,null,null,null,null,null,null,null,null,null,null,null,null,null,null,null,null,null,null,null,null,null,null,null,null,null,null,null,null,null,null,null,null,null,null,null,null,null,null,null,null,null,null,null,null,null,null,null,null,null,null,null,null,null,null,null,null,null,null,null,null,null,null,null,null,null,null,null,null,null,null,null,null,null,null,null,null,null,null,null,null,null,null,null,null,null,null,null,null,null,null,null,null,null,null,null,null,null,null,null,null,null,null,null,null,null,null,null,null,null,null,null,null,null,null,null,null,null,null,null,null,null,null,null,null,null,null,null,null,null,null,null,null,null,null,null,null,null,null,null,null,null,null,null,null,null,null,null,null,null,null,null,null,null,null,null,null,null,null,null,null,null,null,null,null,null,null,null,null,null,null,null,null,null,null,null,null,null,null,null,null,null,null,null,null,null,null,null,null,null,null,null,null,null,null,null,null,null,null,null,null,null,null,null,null,null,null,null,null,null,null,null,null,null,null,null,null,null,null,null,null,null,null,null,null,null,null,null,null,null,null,null,null,null,null,null,null,null,null,null,null,null,null,null,null,null,null,null,null,null,null,null,null,null,null,null,null,null,null,null,null,null,null,null,null,2,2,null,null,null,null,null,null,null,null,null,null,null,null,null,null,null,null,null,null,null,null,null,null,null,null,null,null,null,null,null,null,null,null,null,null,null,null,null,null,null,null,null,null,null,null,null,null,null,null,null,null,null,null,null,null,null,null,null,null,null,null,null,null,null,null,null,null,null,null,null,null,null,null,null,null,null,null,null,null,null,null,null,null,null,null,null,null,null,null,null,null,null,null,null,null,null,null,null,null,null,null,null,null,null,null,null,null,null,null,null,null,null,null,null,null,null,null,null,null,null,null,null,null,null,null,null,null,null,null,null,null,null,null,null,null,null,null,null,null,null,null,null,null,null,null,null,null,null,null,null,null,null,null,null,null,null,null,null,null,null,null,null,null,null,null,null,null,null,null,null,null,null,null,null,null,null,null,null,null,null,null,null,null,null,null,null,null,null,null,null,null,null,null,null,null,null,null,null,null,null,null,null,null,null,null,null,null,null,null,null,null,null,null,null,null,null,null,null,null,null,null,null,null,null,null,null,null,null,null,null,null,null,null,null,null,null,null,null,null,null,null,null,null,null,null,null,null,null,null,null,null,null,null,null,null,null,null,null,null,null,null,null,null,null,null,null,null,null,null,null,null,null,null,null,null,null,null,null,null,null,null,null,null,null,null,null,null,null,null,null,null,null,null,null,null,null,null,null,null,null,null,null,null,null,null,null,null,null,null,null,null,null,null,null,null,null,null,null,null,null,null,null,null,null,null,null,null,null,null,null,null,null,null,null,null,null,null,null,null,null,null,null,null,null,null,null,null,null,null,null,null,null,null,null,null,null,null,null,null,null,null,null,null,null,null,null,null,null,null,null,null,null,null,null,null,null,null,null,null,null,null,null,null,null,null,null,null,null,null,null,null,null,null,null,null,null,null,null,null,null,null,null,null,null,null,null,null,null,null,null,null,null,null,null,null,null,null,null,null,null,null,null,null,null,null,null,null,null,null,null,null,null,null,null,null,null,null,null,null,null,null,null,null,null,null,null,null,null,null,null,null,null,null,null,null,null,null,null,58,1,1,4,2,6,1,0,0,0,0,0,0,6,2,null,null,null,null,null,null,2,null,2,null,null,"2014-01-08T03:33:00","2014-01-08T03:34:00",null,13966,5,"Firefox 23.0","Windows XP","209.112.172.118"]
[399,74980,1,"399_74980_1",{"$f":"VLOOKUP(D741,'Lives in SA (Zip)'!$B$4:$E$3989,4,FALSE)","v":0},"sb",1,1,0,{"$f":"(VLOOKUP(AP741,PolicySites!$B$5:$F$122,5,FALSE)*AZ741)+(VLOOKUP(AQ741,PolicySites!$B$5:$F$122,5,FALSE)*BA741)+(VLOOKUP(AR741,PolicySites!$B$5:$F$122,5,FALSE)*BB741)+(VLOOKUP(AS741,PolicySites!$B$5:$F$122,5,FALSE)*BC741)+(VLOOKUP(AT741,PolicySites!$B$5:$F$122,5,FALSE)*BD741)+(VLOOKUP(AU741,PolicySites!$B$5:$F$122,5,FALSE)*BE741)+(VLOOKUP(AV741,PolicySites!$B$5:$F$122,5,FALSE)*BF741)+(VLOOKUP(AW741,PolicySites!$B$5:$F$122,5,FALSE)*BG741)+(VLOOKUP(AX741,PolicySites!$B$5:$F$122,5,FALSE)*BH741)+(VLOOKUP(AY741,PolicySites!$B$5:$F$122,5,FALSE)*BI741)","v":0},null,null,null,null,null,null,null,null,null,null,null,null,null,null,null,null,null,null,null,null,null,"--","--","--","--","--","--","--","--","--","--",{"$f":"IFERROR(VLOOKUP(AF741,'Site Codes'!$V$4:$Y$164,4,FALSE),0)","v":0},{"$f":"IFERROR(VLOOKUP(AG741,'Site Codes'!$V$4:$Y$164,4,FALSE),0)","v":0},{"$f":"IFERROR(VLOOKUP(AH741,'Site Codes'!$V$4:$Y$164,4,FALSE),0)","v":0},{"$f":"IFERROR(VLOOKUP(AI741,'Site Codes'!$V$4:$Y$164,4,FALSE),0)","v":0},{"$f":"IFERROR(VLOOKUP(AJ741,'Site Codes'!$V$4:$Y$164,4,FALSE),0)","v":0},{"$f":"IFERROR(VLOOKUP(AK741,'Site Codes'!$V$4:$Y$164,4,FALSE),0)","v":0},{"$f":"IFERROR(VLOOKUP(AL741,'Site Codes'!$V$4:$Y$164,4,FALSE),0)","v":0},{"$f":"IFERROR(VLOOKUP(AM741,'Site Codes'!$V$4:$Y$164,4,FALSE),0)","v":0},{"$f":"IFERROR(VLOOKUP(AN741,'Site Codes'!$V$4:$Y$164,4,FALSE),0)","v":0},{"$f":"IFERROR(VLOOKUP(AO741,'Site Codes'!$V$4:$Y$164,4,FALSE),0)","v":0},null,null,null,null,null,null,null,null,null,null,null,null,null,null,null,null,null,null,null,null,null,null,null,null,null,null,null,null,null,null,null,null,null,null,null,null,null,null,null,null,null,null,null,null,null,null,null,null,null,null,null,null,null,null,null,null,null,null,null,null,null,null,null,null,null,null,null,null,null,null,null,null,null,null,null,null,null,null,null,null,null,null,null,null,null,null,null,null,null,null,null,null,null,null,null,null,null,null,null,null,null,null,null,null,null,null,null,null,null,null,null,null,null,null,null,null,null,null,null,null,null,null,null,null,null,null,null,null,null,null,null,null,null,null,null,null,null,null,null,null,null,null,null,null,null,null,null,null,null,null,null,null,null,null,null,null,null,null,null,null,null,null,null,null,null,null,null,null,null,null,null,null,null,null,null,null,null,null,null,null,null,null,null,null,null,null,null,null,null,null,null,null,null,null,null,null,null,null,null,null,null,null,null,null,null,null,null,null,null,null,null,null,null,null,null,null,null,null,null,null,null,null,null,null,null,null,null,null,null,null,null,null,null,null,null,null,null,null,null,null,null,null,null,null,null,null,null,null,null,null,null,null,null,null,null,null,null,null,null,null,null,null,null,null,null,null,null,null,null,null,null,null,null,null,null,null,null,null,null,null,null,null,null,null,null,null,null,null,null,null,null,null,null,null,null,null,null,null,null,null,null,null,null,null,null,null,null,null,null,null,null,null,null,null,null,null,null,null,null,null,null,null,null,null,null,null,null,null,null,null,null,null,null,null,null,null,null,null,null,null,null,null,null,null,null,null,null,null,null,null,null,null,null,null,null,null,null,null,null,null,null,null,null,null,null,null,null,null,null,null,null,null,null,null,null,null,null,null,null,null,null,null,null,null,null,null,null,null,null,null,null,null,null,null,null,null,null,null,null,null,null,null,null,null,null,null,null,null,null,null,null,null,null,null,null,null,null,null,null,null,null,null,null,null,null,null,null,null,null,null,null,null,null,null,null,null,null,null,null,null,null,null,null,null,null,null,null,null,null,null,null,null,null,null,null,null,null,null,null,null,null,null,null,null,null,null,null,null,null,null,null,null,null,null,null,null,null,null,null,null,null,null,null,null,null,null,null,null,null,null,null,null,null,null,null,null,null,null,null,null,null,null,null,null,null,null,null,null,null,null,null,null,null,null,null,null,null,null,null,null,null,null,null,null,null,null,null,null,null,null,null,null,null,null,null,null,null,null,null,null,null,null,null,null,null,null,null,null,null,null,null,null,null,null,null,null,null,null,null,null,null,null,null,null,null,null,null,null,null,null,null,null,null,null,null,null,null,null,null,null,null,null,null,null,null,null,null,null,null,null,null,null,null,null,null,null,null,null,null,null,null,null,null,null,null,null,null,null,null,null,null,null,null,null,null,null,null,null,null,null,null,null,null,null,null,null,null,null,null,null,null,null,null,null,null,null,null,null,null,null,null,null,null,null,null,null,null,null,null,null,null,null,null,null,null,null,null,null,null,null,null,null,null,null,null,null,null,null,null,null,null,null,null,null,null,null,null,null,null,null,null,null,null,null,null,null,null,null,null,null,null,null,null,null,null,null,null,null,null,null,null,null,null,null,null,null,null,null,null,null,null,null,null,null,null,null,null,null,null,null,null,null,null,null,null,null,null,null,null,null,null,null,null,null,null,null,null,null,null,null,null,null,null,null,null,null,null,null,null,null,null,null,null,null,null,null,null,null,null,null,null,null,null,null,null,null,null,null,null,null,null,null,null,null,null,null,null,null,null,null,null,null,null,null,null,null,null,null,null,null,null,null,null,null,null,null,null,null,null,null,null,null,null,null,null,null,null,null,null,null,null,null,null,null,null,null,null,null,null,null,null,null,null,null,null,null,null,null,null,null,null,null,null,null,null,null,null,null,null,null,null,null,null,null,null,null,null,null,null,null,null,null,null,null,null,null,null,null,null,null,null,null,null,null,null,null,null,null,null,null,null,null,null,null,null,null,null,null,null,null,null,null,null,null,null,null,null,null,null,null,null,null,null,null,null,null,null,null,null,null,null,null,null,null,null,null,null,null,null,null,null,null,null,null,null,null,null,null,null,null,null,null,null,null,null,null,null,null,null,null,null,null,null,null,null,null,null,null,null,null,null,null,null,null,null,null,null,null,null,null,null,null,null,null,null,null,null,null,null,null,null,null,null,null,null,null,null,null,null,null,null,null,null,null,null,null,null,null,null,null,null,null,null,null,null,null,null,null,null,null,null,null,null,null,null,null,null,null,null,null,null,null,null,null,null,null,null,null,null,null,null,null,null,null,null,null,null,null,null,null,null,null,null,null,null,null,null,null,null,null,null,null,null,null,null,null,null,null,null,null,null,null,null,null,null,null,null,null,null,null,null,null,null,null,null,null,null,null,null,null,null,null,null,null,null,null,null,null,null,null,null,null,null,null,null,null,null,null,null,null,null,null,null,null,null,null,null,null,null,null,null,null,null,null,null,null,null,null,null,null,null,null,null,null,null,null,null,null,null,null,null,null,null,null,null,null,null,null,null,null,null,null,null,null,null,null,null,null,null,null,null,null,null,null,null,null,null,null,null,null,null,null,null,null,null,null,null,null,null,null,null,null,null,null,null,null,null,null,null,null,null,null,null,null,null,null,null,null,null,null,null,null,null,null,null,null,null,null,null,null,null,null,null,null,null,null,null,null,null,null,null,null,null,null,null,null,null,null,null,null,null,null,null,null,null,null,null,null,null,null,null,null,null,null,null,null,null,null,null,null,null,null,null,null,null,null,null,null,null,null,null,null,null,null,null,null,null,null,null,null,null,null,null,null,null,null,null,null,null,null,null,null,null,null,null,null,null,null,null,null,null,null,null,null,null,null,null,null,null,null,null,null,null,null,null,null,null,null,null,null,null,null,null,null,null,null,null,null,null,null,null,null,null,null,null,null,null,null,null,null,null,null,null,null,null,null,null,null,null,null,null,null,null,null,null,null,null,null,null,null,null,null,null,null,null,null,null,null,null,null,null,null,null,null,null,null,null,null,null,null,null,null,null,null,null,null,null,null,null,null,null,null,null,null,null,null,null,null,null,null,null,null,null,null,null,null,null,null,null,null,null,null,null,null,null,null,null,null,null,null,null,null,null,null,null,null,null,null,null,null,null,null,null,null,null,null,null,null,null,null,null,null,null,null,null,null,null,null,null,null,null,null,null,null,null,null,null,null,null,null,null,null,null,null,null,null,null,null,null,null,null,null,null,null,null,null,null,null,null,null,null,null,null,null,null,null,null,null,null,null,null,null,null,null,null,null,null,null,null,null,null,null,null,null,null,null,null,null,null,null,null,null,null,null,null,null,null,null,null,null,null,null,null,null,null,null,null,null,null,null,null,null,null,null,null,null,null,null,null,null,null,null,null,null,null,null,null,null,null,null,null,null,null,null,null,null,null,null,null,null,null,null,null,null,null,null,null,null,null,null,null,null,null,null,null,null,null,null,null,null,null,null,null,null,null,null,null,null,null,null,null,null,null,null,null,null,null,null,null,null,null,null,null,null,null,null,null,null,null,null,null,null,null,null,null,null,null,null,null,null,null,null,null,null,null,null,null,null,null,null,null,null,null,null,null,null,null,null,null,null,null,null,null,null,null,null,null,null,null,null,null,null,null,null,null,null,null,null,null,null,null,null,null,null,null,null,null,null,null,null,null,null,null,null,null,null,null,null,null,null,null,null,null,null,null,null,null,null,null,null,null,null,null,null,null,null,null,null,null,null,null,null,null,null,null,null,null,null,null,null,null,null,null,null,null,null,null,null,null,null,null,null,null,null,null,null,null,null,null,null,null,null,null,null,null,null,null,null,null,null,null,null,null,null,null,null,null,null,null,null,null,null,null,null,null,null,null,null,null,null,null,null,null,null,null,null,null,null,null,null,null,null,null,null,null,null,null,null,null,null,null,null,null,null,null,null,null,null,null,null,null,null,null,null,null,null,null,null,null,null,null,null,null,null,null,null,null,null,null,null,null,null,null,null,null,null,null,null,null,null,null,null,null,null,null,null,null,null,null,null,null,null,null,null,null,null,null,null,null,null,null,null,null,null,null,null,null,null,null,null,null,null,null,null,null,null,null,null,null,null,null,null,null,null,null,null,null,null,null,null,null,null,null,null,null,null,null,null,null,null,null,null,null,null,null,null,null,null,null,null,2,2,null,null,null,null,null,null,null,null,null,null,null,null,null,null,null,null,null,null,null,null,null,null,null,null,null,null,null,null,null,null,null,null,null,null,null,null,null,null,null,null,null,null,null,null,null,null,null,null,null,null,null,null,null,null,null,null,null,null,null,null,null,null,null,null,null,null,null,null,null,null,null,null,null,null,null,null,null,null,null,null,null,null,null,null,null,null,null,null,null,null,null,null,null,null,null,null,null,null,null,null,null,null,null,null,null,null,null,null,null,null,null,null,null,null,null,null,null,null,null,null,null,null,null,null,null,null,null,null,null,null,null,null,null,null,null,null,null,null,null,null,null,null,null,null,null,null,null,null,null,null,null,null,null,null,null,null,null,null,null,null,null,null,null,null,null,null,null,null,null,null,null,null,null,null,null,null,null,null,null,null,null,null,null,null,null,null,null,null,null,null,null,null,null,null,null,null,null,null,null,null,null,null,null,null,null,null,null,null,null,null,null,null,null,null,null,null,null,null,null,null,null,null,null,null,null,null,null,null,null,null,null,null,null,null,null,null,null,null,null,null,null,null,null,null,null,null,null,null,null,null,null,null,null,null,null,null,null,null,null,null,null,null,null,null,null,null,null,null,null,null,null,null,null,null,null,null,null,null,null,null,null,null,null,null,null,null,null,null,null,null,null,null,null,null,null,null,null,null,null,null,null,null,null,null,null,null,null,null,null,null,null,null,null,null,null,null,null,null,null,null,null,null,null,null,null,null,null,null,null,null,null,null,null,null,null,null,null,null,null,null,null,null,null,null,null,null,null,null,null,null,null,null,null,null,null,null,null,null,null,null,null,null,null,null,null,null,null,null,null,null,null,null,null,null,null,null,null,null,null,null,null,null,null,null,null,null,null,null,null,null,null,null,null,null,null,null,null,null,null,null,null,null,null,null,null,null,null,null,null,null,null,null,null,null,null,null,null,null,null,null,null,null,null,null,null,null,null,null,null,null,null,null,null,null,null,null,null,null,null,null,null,null,null,null,null,null,null,null,null,null,null,null,null,null,null,null,null,null,2,1,2,2,null,0,0,0,0,0,0,0,6,2,null,null,null,null,null,null,2,null,2,null,null,"2013-12-07T22:43:00","2013-12-07T22:48:00",null,767,5,"Firefox 23.0","Windows XP","209.112.172.118"]
[803,80715,1,"803_80715_1",{"$f":"VLOOKUP(D854,'Lives in SA (Zip)'!$B$4:$E$3989,4,FALSE)","v":0},"ce",1,1,0,{"$f":"(VLOOKUP(AP854,PolicySites!$B$5:$F$122,5,FALSE)*AZ854)+(VLOOKUP(AQ854,PolicySites!$B$5:$F$122,5,FALSE)*BA854)+(VLOOKUP(AR854,PolicySites!$B$5:$F$122,5,FALSE)*BB854)+(VLOOKUP(AS854,PolicySites!$B$5:$F$122,5,FALSE)*BC854)+(VLOOKUP(AT854,PolicySites!$B$5:$F$122,5,FALSE)*BD854)+(VLOOKUP(AU854,PolicySites!$B$5:$F$122,5,FALSE)*BE854)+(VLOOKUP(AV854,PolicySites!$B$5:$F$122,5,FALSE)*BF854)+(VLOOKUP(AW854,PolicySites!$B$5:$F$122,5,FALSE)*BG854)+(VLOOKUP(AX854,PolicySites!$B$5:$F$122,5,FALSE)*BH854)+(VLOOKUP(AY854,PolicySites!$B$5:$F$122,5,FALSE)*BI854)","v":0},null,null,null,null,null,null,null,null,null,null,null,null,null,null,null,null,null,null,null,null,null,"--","--","--","--","--","--","--","--","--","--",{"$f":"IFERROR(VLOOKUP(AF854,'Site Codes'!$V$4:$Y$164,4,FALSE),0)","v":0},{"$f":"IFERROR(VLOOKUP(AG854,'Site Codes'!$V$4:$Y$164,4,FALSE),0)","v":0},{"$f":"IFERROR(VLOOKUP(AH854,'Site Codes'!$V$4:$Y$164,4,FALSE),0)","v":0},{"$f":"IFERROR(VLOOKUP(AI854,'Site Codes'!$V$4:$Y$164,4,FALSE),0)","v":0},{"$f":"IFERROR(VLOOKUP(AJ854,'Site Codes'!$V$4:$Y$164,4,FALSE),0)","v":0},{"$f":"IFERROR(VLOOKUP(AK854,'Site Codes'!$V$4:$Y$164,4,FALSE),0)","v":0},{"$f":"IFERROR(VLOOKUP(AL854,'Site Codes'!$V$4:$Y$164,4,FALSE),0)","v":0},{"$f":"IFERROR(VLOOKUP(AM854,'Site Codes'!$V$4:$Y$164,4,FALSE),0)","v":0},{"$f":"IFERROR(VLOOKUP(AN854,'Site Codes'!$V$4:$Y$164,4,FALSE),0)","v":0},{"$f":"IFERROR(VLOOKUP(AO854,'Site Codes'!$V$4:$Y$164,4,FALSE),0)","v":0},null,null,null,null,null,null,null,null,null,null,null,null,null,null,null,null,null,null,null,null,null,null,null,null,null,null,null,null,null,null,null,null,null,null,null,null,null,null,null,null,null,null,null,null,null,null,null,null,null,null,null,null,null,null,null,null,null,null,null,null,null,null,null,null,null,null,null,null,null,null,null,null,null,null,null,null,null,null,null,null,null,null,null,null,null,null,null,null,null,null,null,null,null,null,null,null,null,null,null,null,null,null,null,null,null,null,null,null,null,null,null,null,null,null,null,null,null,null,null,null,null,null,null,null,null,null,null,null,null,null,null,null,null,null,null,null,null,null,null,null,null,null,null,null,null,null,null,null,null,null,null,null,null,null,null,null,null,null,null,null,null,null,null,null,null,null,null,null,null,null,null,null,null,null,null,null,null,null,null,null,null,null,null,null,null,null,null,null,null,null,null,null,null,null,null,null,null,null,null,null,null,null,null,null,null,null,null,null,null,null,null,null,null,null,null,null,null,null,null,null,null,null,null,null,null,null,null,null,null,null,null,null,null,null,null,null,null,null,null,null,null,null,null,null,null,null,null,null,null,null,null,null,null,null,null,null,null,null,null,null,null,null,null,null,null,null,null,null,null,null,null,null,null,null,null,null,null,null,null,null,null,null,null,null,null,null,null,null,null,null,null,null,null,null,null,null,null,null,null,null,null,null,null,null,null,null,null,null,null,null,null,null,null,null,null,null,null,null,null,null,null,null,null,null,null,null,null,null,null,null,null,null,null,null,null,null,null,null,null,null,null,null,null,null,null,null,null,null,null,null,null,null,null,null,null,null,null,null,null,null,null,null,null,null,null,null,null,null,null,null,null,null,null,null,null,null,null,null,null,null,null,null,null,null,null,null,null,null,null,null,null,null,null,null,null,null,null,null,null,null,null,null,null,null,null,null,null,null,null,null,null,null,null,null,null,null,null,null,null,null,null,null,null,null,null,null,null,null,null,null,null,null,null,null,null,null,null,null,null,null,null,null,null,null,null,null,null,null,null,null,null,null,null,null,null,null,null,null,null,null,null,null,null,null,null,null,null,null,null,null,null,null,null,null,null,null,null,null,null,null,null,null,null,null,null,null,null,null,null,null,null,null,null,null,null,null,null,null,null,null,null,null,null,null,null,null,null,null,null,null,null,null,null,null,null,null,null,null,null,null,null,null,null,null,null,null,null,null,null,null,null,null,null,null,null,null,null,null,null,null,null,null,null,null,null,null,null,null,null,null,null,null,null,null,null,null,null,null,null,null,null,null,null,null,null,null,null,null,null,null,null,null,null,null,null,null,null,null,null,null,null,null,null,null,null,null,null,null,null,null,null,null,null,null,null,null,null,null,null,null,null,null,null,null,null,null,null,null,null,null,null,null,null,null,null,null,null,null,null,null,null,null,null,null,null,null,null,null,null,null,null,null,null,null,null,null,null,null,null,null,null,null,null,null,null,null,null,null,null,null,null,null,null,null,null,null,null,null,null,null,null,null,null,null,null,null,null,null,null,null,null,null,null,null,null,null,null,null,null,null,null,null,null,null,null,null,null,null,null,null,null,null,null,null,null,null,null,null,null,null,null,null,null,null,null,null,null,null,null,null,null,null,null,null,null,null,null,null,null,null,null,null,null,null,null,null,null,null,null,null,null,null,null,null,null,null,null,null,null,null,null,null,null,null,null,null,null,null,null,null,null,null,null,null,null,null,null,null,null,null,null,null,null,null,null,null,null,null,null,null,null,null,null,null,null,null,null,null,null,null,null,null,null,null,null,null,null,null,null,null,null,null,null,null,null,null,null,null,null,null,null,null,null,null,null,null,null,null,null,null,null,null,null,null,null,null,null,null,null,null,null,null,null,null,null,null,null,null,null,null,null,null,null,null,null,null,null,null,null,null,null,null,null,null,null,null,null,null,null,null,null,null,null,null,null,null,null,null,null,null,null,null,null,null,null,null,null,null,null,null,null,null,null,null,null,null,null,null,null,null,null,null,null,null,null,null,null,null,null,null,null,null,null,null,null,null,null,null,null,null,null,null,null,null,null,null,null,null,null,null,null,null,null,null,null,null,null,null,null,null,null,null,null,null,null,null,null,null,null,null,null,null,null,null,null,null,null,null,null,null,null,null,null,null,null,null,null,null,null,null,null,null,null,null,null,null,null,null,null,null,null,null,null,null,null,null,null,null,null,null,null,null,null,null,null,null,null,null,null,null,null,null,null,null,null,null,null,null,null,null,null,null,null,null,null,null,null,null,null,null,null,null,null,null,null,null,null,null,null,null,null,null,null,null,null,null,null,null,null,null,null,null,null,null,null,null,null,null,null,null,null,null,null,null,null,null,null,null,null,null,null,null,null,null,null,null,null,null,null,null,null,null,null,null,null,null,null,null,null,null,null,null,null,null,null,null,null,null,null,null,null,null,null,null,null,null,null,null,null,null,null,null,null,null,null,null,null,null,null,null,null,null,null,null,null,null,null,null,null,null,null,null,null,null,null,null,null,null,null,null,null,null,null,null,null,null,null,null,null,null,null,null,null,null,null,null,null,null,null,null,null,null,null,null,null,null,null,null,null,null,null,null,null,null,null,null,null,null,null,null,null,null,null,null,null,null,null,null,null,null,null,null,null,null,null,null,null,null,null,null,null,null,null,null,null,null,null,null,null,null,null,null,null,null,null,null,null,null,null,null,null,null,null,null,null,null,null,null,null,null,null,null,null,null,null,null,null,null,null,null,null,null,null,null,null,null,null,null,null,null,null,null,null,null,null,null,null,null,null,null,null,null,null,null,null,null,null,null,null,null,null,null,null,null,null,null,null,null,null,null,null,null,null,null,null,null,null,null,null,null,null,null,null,null,null,null,null,null,null,null,null,null,null,null,null,null,null,null,null,null,null,null,null,null,null,null,null,null,null,null,null,null,null,null,null,null,null,null,null,null,null,null,null,null,null,null,null,null,null,null,null,null,null,null,null,null,null,null,null,null,null,null,null,null,null,null,null,null,null,null,null,null,null,null,null,null,null,null,null,null,null,null,null,null,null,null,null,null,null,null,null,null,null,null,null,null,null,null,null,null,null,null,null,null,null,null,null,null,null,null,null,null,null,null,null,null,null,null,null,null,null,null,null,null,null,null,null,null,null,null,null,null,null,null,null,null,null,null,null,null,null,null,null,null,null,null,null,null,null,null,null,null,null,null,null,null,null,null,null,null,null,null,null,null,null,null,null,null,null,null,null,null,null,null,null,null,null,null,null,null,null,null,null,null,null,null,null,null,null,null,null,null,null,null,null,null,null,null,null,null,null,null,null,null,null,null,null,null,null,null,null,null,null,null,null,null,null,null,null,null,null,null,null,null,null,null,null,null,null,null,null,null,null,null,null,null,null,null,null,null,null,null,null,null,null,null,null,null,null,null,null,null,null,null,null,null,null,null,null,null,null,null,null,null,null,null,null,null,null,null,null,null,null,null,null,null,null,null,null,null,null,null,null,null,null,null,null,null,null,null,null,null,null,null,null,null,null,null,null,null,null,null,null,null,null,null,null,null,null,null,null,null,null,null,null,null,null,null,null,null,null,null,null,null,null,null,null,null,null,null,null,null,null,null,null,null,null,null,null,null,null,null,null,null,null,null,null,null,null,null,null,null,null,null,null,null,null,null,null,null,null,null,null,null,null,null,null,null,null,null,null,null,null,null,null,null,null,null,null,null,null,null,null,null,null,null,null,null,null,null,null,null,null,null,null,null,null,null,null,null,null,null,null,null,null,null,null,null,null,null,null,null,null,null,null,null,null,null,null,null,null,null,null,null,null,null,null,null,null,null,null,null,null,null,null,null,null,null,null,null,null,null,null,null,null,null,null,null,null,null,null,null,null,null,null,null,null,null,null,null,null,null,null,null,null,null,null,null,null,null,null,null,null,null,null,null,null,null,null,null,null,null,null,null,null,null,null,null,null,null,null,null,null,null,null,null,null,null,null,null,null,null,null,null,null,null,null,null,null,null,null,null,null,null,null,null,null,null,null,null,null,null,null,null,null,null,null,null,null,null,null,null,null,null,null,null,null,null,null,null,null,null,null,null,null,null,null,null,null,null,null,null,null,null,null,null,null,null,null,null,null,null,null,null,null,null,null,null,null,null,null,null,null,null,null,null,null,null,null,null,null,null,null,null,null,null,null,null,null,null,2,2,null,null,null,null,null,null,null,null,null,null,null,null,null,null,null,null,null,null,null,null,null,null,null,null,null,null,null,null,null,null,null,null,null,null,null,null,null,null,null,null,null,null,null,null,null,null,null,null,null,null,null,null,null,null,null,null,null,null,null,null,null,null,null,null,null,null,null,null,null,null,null,null,null,null,null,null,null,null,null,null,null,null,null,null,null,null,null,null,null,null,null,null,null,null,null,null,null,null,null,null,null,null,null,null,null,null,null,null,null,null,null,null,null,null,null,null,null,null,null,null,null,null,null,null,null,null,null,null,null,null,null,null,null,null,null,null,null,null,null,null,null,null,null,null,null,null,null,null,null,null,null,null,null,null,null,null,null,null,null,null,null,null,null,null,null,null,null,null,null,null,null,null,null,null,null,null,null,null,null,null,null,null,null,null,null,null,null,null,null,null,null,null,null,null,null,null,null,null,null,null,null,null,null,null,null,null,null,null,null,null,null,null,null,null,null,null,null,null,null,null,null,null,null,null,null,null,null,null,null,null,null,null,null,null,null,null,null,null,null,null,null,null,null,null,null,null,null,null,null,null,null,null,null,null,null,null,null,null,null,null,null,null,null,null,null,null,null,null,null,null,null,null,null,null,null,null,null,null,null,null,null,null,null,null,null,null,null,null,null,null,null,null,null,null,null,null,null,null,null,null,null,null,null,null,null,null,null,null,null,null,null,null,null,null,null,null,null,null,null,null,null,null,null,null,null,null,null,null,null,null,null,null,null,null,null,null,null,null,null,null,null,null,null,null,null,null,null,null,null,null,null,null,null,null,null,null,null,null,null,null,null,null,null,null,null,null,null,null,null,null,null,null,null,null,null,null,null,null,null,null,null,null,null,null,null,null,null,null,null,null,null,null,null,null,null,null,null,null,null,null,null,null,null,null,null,null,null,null,null,null,null,null,null,null,null,null,null,null,null,null,null,null,null,null,null,null,null,null,null,null,null,null,null,null,null,null,null,null,null,null,null,null,null,null,null,null,null,null,null,null,null,null,null,null,null,null,null,80,2,1,5,1,3,1,0,0,0,0,0,0,3,2,null,null,null,null,null,null,1,null,1,null,null,"2014-01-05T00:13:00","2014-01-05T00:14:00",null,13692,5,"Firefox 23.0","Windows XP","209.112.172.118"]
[41,85550,2,"41_85550_2",{"$f":"VLOOKUP(D971,'Lives in SA (Zip)'!$B$4:$E$3989,4,FALSE)","v":0},null,1,1,0,{"$f":"(VLOOKUP(AP971,PolicySites!$B$5:$F$122,5,FALSE)*AZ971)+(VLOOKUP(AQ971,PolicySites!$B$5:$F$122,5,FALSE)*BA971)+(VLOOKUP(AR971,PolicySites!$B$5:$F$122,5,FALSE)*BB971)+(VLOOKUP(AS971,PolicySites!$B$5:$F$122,5,FALSE)*BC971)+(VLOOKUP(AT971,PolicySites!$B$5:$F$122,5,FALSE)*BD971)+(VLOOKUP(AU971,PolicySites!$B$5:$F$122,5,FALSE)*BE971)+(VLOOKUP(AV971,PolicySites!$B$5:$F$122,5,FALSE)*BF971)+(VLOOKUP(AW971,PolicySites!$B$5:$F$122,5,FALSE)*BG971)+(VLOOKUP(AX971,PolicySites!$B$5:$F$122,5,FALSE)*BH971)+(VLOOKUP(AY971,PolicySites!$B$5:$F$122,5,FALSE)*BI971)","v":0},null,null,null,null,null,null,null,null,null,null,null,null,null,null,null,null,null,null,null,null,null,"--","--","--","--","--","--","--","--","--","--",{"$f":"IFERROR(VLOOKUP(AF971,'Site Codes'!$V$4:$Y$164,4,FALSE),0)","v":0},{"$f":"IFERROR(VLOOKUP(AG971,'Site Codes'!$V$4:$Y$164,4,FALSE),0)","v":0},{"$f":"IFERROR(VLOOKUP(AH971,'Site Codes'!$V$4:$Y$164,4,FALSE),0)","v":0},{"$f":"IFERROR(VLOOKUP(AI971,'Site Codes'!$V$4:$Y$164,4,FALSE),0)","v":0},{"$f":"IFERROR(VLOOKUP(AJ971,'Site Codes'!$V$4:$Y$164,4,FALSE),0)","v":0},{"$f":"IFERROR(VLOOKUP(AK971,'Site Codes'!$V$4:$Y$164,4,FALSE),0)","v":0},{"$f":"IFERROR(VLOOKUP(AL971,'Site Codes'!$V$4:$Y$164,4,FALSE),0)","v":0},{"$f":"IFERROR(VLOOKUP(AM971,'Site Codes'!$V$4:$Y$164,4,FALSE),0)","v":0},{"$f":"IFERROR(VLOOKUP(AN971,'Site Codes'!$V$4:$Y$164,4,FALSE),0)","v":0},{"$f":"IFERROR(VLOOKUP(AO971,'Site Codes'!$V$4:$Y$164,4,FALSE),0)","v":0},null,null,null,null,null,null,null,null,null,null,null,null,null,null,null,null,null,null,null,null,null,null,null,null,null,null,null,null,null,null,null,null,null,null,null,null,null,null,null,null,null,null,null,null,null,null,null,null,null,null,null,null,null,null,null,null,null,null,null,null,null,null,null,null,null,null,null,null,null,null,null,null,null,null,null,null,null,null,null,null,null,null,null,null,null,null,null,null,null,null,null,null,null,null,null,null,null,null,null,null,null,null,null,null,null,null,null,null,null,null,null,null,null,null,null,null,null,null,null,null,null,null,null,null,null,null,null,null,null,null,null,null,null,null,null,null,null,null,null,null,null,null,null,null,null,null,null,null,null,null,null,null,null,null,null,null,null,null,null,null,null,null,null,null,null,null,null,null,null,null,null,null,null,null,null,null,null,null,null,null,null,null,null,null,null,null,null,null,null,null,null,null,null,null,null,null,null,null,null,null,null,null,null,null,null,null,null,null,null,null,null,null,null,null,null,null,null,null,null,null,null,null,null,null,null,null,null,null,null,null,null,null,null,null,null,null,null,null,null,null,null,null,null,null,null,null,null,null,null,null,null,null,null,null,null,null,null,null,null,null,null,null,null,null,null,null,null,null,null,null,null,null,null,null,null,null,null,null,null,null,null,null,null,null,null,null,null,null,null,null,null,null,null,null,null,null,null,null,null,null,null,null,null,null,null,null,null,null,null,null,null,null,null,null,null,null,null,null,null,null,null,null,null,null,null,null,null,null,null,null,null,null,null,null,null,null,null,null,null,null,null,null,null,null,null,null,null,null,null,null,null,null,null,null,null,null,null,null,null,null,null,null,null,null,null,null,null,null,null,null,null,null,null,null,null,null,null,null,null,null,null,null,null,null,null,null,null,null,null,null,null,null,null,null,null,null,null,null,null,null,null,null,null,null,null,null,null,null,null,null,null,null,null,null,null,null,null,null,null,null,null,null,null,null,null,null,null,null,null,null,null,null,null,null,null,null,null,null,null,null,null,null,null,null,null,null,null,null,null,null,null,null,null,null,null,null,null,null,null,null,null,null,null,null,null,null,null,null,null,null,null,null,null,null,null,null,null,null,null,null,null,null,null,null,null,null,null,null,null,null,null,null,null,null,null,null,null,null,null,null,null,null,null,null,null,null,null,null,null,null,null,null,null,null,null,null,null,null,null,null,null,null,null,null,null,null,null,null,null,null,null,null,null,null,null,null,null,null,null,null,null,null,null,null,null,null,null,null,null,null,null,null,null,null,null,null,null,null,null,null,null,null,null,null,null,null,null,null,null,null,null,null,null,null,null,null,null,null,null,null,null,null,null,null,null,null,null,null,null,null,null,null,null,null,null,null,null,null,null,null,null,null,null,null,null,null,null,null,null,null,null,null,null,null,null,null,null,null,null,null,null,null,null,null,null,null,null,null,null,null,null,null,null,null,null,null,null,null,null,null,null,null,null,null,null,null,null,null,null,null,null,null,null,null,null,null,null,null,null,null,null,null,null,null,null,null,null,null,null,null,null,null,null,null,null,null,null,null,null,null,null,null,null,null,null,null,null,null,null,null,null,null,null,null,null,null,null,null,null,null,null,null,null,null,null,null,null,null,null,null,null,null,null,null,null,null,null,null,null,null,null,null,null,null,null,null,null,null,null,null,null,null,null,null,null,null,null,null,null,null,null,null,null,null,null,null,null,null,null,null,null,null,null,null,null,null,null,null,null,null,null,null,null,null,null,null,null,null,null,null,null,null,null,null,null,null,null,null,null,null,null,null,null,null,null,null,null,null,null,null,null,null,null,null,null,null,null,null,null,null,null,null,null,null,null,null,null,null,null,null,null,null,null,null,null,null,null,null,null,null,null,null,null,null,null,null,null,null,null,null,null,null,null,null,null,null,null,null,null,null,null,null,null,null,null,null,null,null,null,null,null,null,null,null,null,null,null,null,null,null,null,null,null,null,null,null,null,null,null,null,null,null,null,null,null,null,null,null,null,null,null,null,null,null,null,null,null,null,null,null,null,null,null,null,null,null,null,null,null,null,null,null,null,null,null,null,null,null,null,null,null,null,null,null,null,null,null,null,null,null,null,null,null,null,null,null,null,null,null,null,null,null,null,null,null,null,null,null,null,null,null,null,null,null,null,null,null,null,null,null,null,null,null,null,null,null,null,null,null,null,null,null,null,null,null,null,null,null,null,null,null,null,null,null,null,null,null,null,null,null,null,null,null,null,null,null,null,null,null,null,null,null,null,null,null,null,null,null,null,null,null,null,null,null,null,null,null,null,null,null,null,null,null,null,null,null,null,null,null,null,null,null,null,null,null,null,null,null,null,null,null,null,null,null,null,null,null,null,null,null,null,null,null,null,null,null,null,null,null,null,null,null,null,null,null,null,null,null,null,null,null,null,null,null,null,null,null,null,null,null,null,null,null,null,null,null,null,null,null,null,null,null,null,null,null,null,null,null,null,null,null,null,null,null,null,null,null,null,null,null,null,null,null,null,null,null,null,null,null,null,null,null,null,null,null,null,null,null,null,null,null,null,null,null,null,null,null,null,null,null,null,null,null,null,null,null,null,null,null,null,null,null,null,null,null,null,null,null,null,null,null,null,null,null,null,null,null,null,null,null,null,null,null,null,null,null,null,null,null,null,null,null,null,null,null,null,null,null,null,null,null,null,null,null,null,null,null,null,null,null,null,null,null,null,null,null,null,null,null,null,null,null,null,null,null,null,null,null,null,null,null,null,null,null,null,null,null,null,null,null,null,null,null,null,null,null,null,null,null,null,null,null,null,null,null,null,null,null,null,null,null,null,null,null,null,null,null,null,null,null,null,null,null,null,null,null,null,null,null,null,null,null,null,null,null,null,null,null,null,null,null,null,null,null,null,null,null,null,null,null,null,null,null,null,null,null,null,null,null,null,null,null,null,null,null,null,null,null,null,null,null,null,null,null,null,null,null,null,null,null,null,null,null,null,null,null,null,null,null,null,null,null,null,null,null,null,null,null,null,null,null,null,null,null,null,null,null,null,null,null,null,null,null,null,null,null,null,null,null,null,null,null,null,null,null,null,null,null,null,null,null,null,null,null,null,null,null,null,null,null,null,null,null,null,null,null,null,null,null,null,null,null,null,null,null,null,null,null,null,null,null,null,null,null,null,null,null,null,null,null,null,null,null,null,null,null,null,null,null,null,null,null,null,null,null,null,null,null,null,null,null,null,null,null,null,null,null,null,null,null,null,null,null,null,null,null,null,null,null,null,null,null,null,null,null,null,null,null,null,null,null,null,null,null,null,null,null,null,null,null,null,null,null,null,null,null,null,null,null,null,null,null,null,null,null,null,null,null,null,null,null,null,null,null,null,null,null,null,null,null,null,null,null,null,null,null,null,null,null,null,null,null,null,null,null,null,null,null,null,null,null,null,null,null,null,null,null,null,null,null,null,null,null,null,null,null,null,null,null,null,null,null,null,null,null,null,null,null,null,null,null,null,null,null,null,null,null,null,null,null,null,null,null,null,null,null,null,null,null,null,null,null,null,null,null,null,null,null,null,null,null,null,null,null,null,null,null,null,null,null,null,null,null,null,null,null,null,null,null,null,null,null,null,null,null,null,null,null,null,null,null,null,null,null,null,null,null,null,null,null,null,null,null,null,null,null,null,null,null,null,null,null,null,null,null,null,null,null,null,null,null,null,null,null,null,null,null,null,null,null,null,null,null,null,null,null,null,null,null,null,null,null,null,null,null,null,null,null,null,null,null,null,null,null,null,null,null,null,null,null,null,null,null,null,null,null,null,null,null,null,null,null,null,null,null,null,null,null,null,null,null,null,null,null,null,null,null,null,null,null,null,null,null,null,null,null,null,null,null,null,null,null,null,null,null,null,null,null,null,null,null,null,null,null,null,null,null,null,null,null,null,null,null,null,null,null,null,null,null,null,null,null,null,null,null,null,null,null,null,null,null,null,null,null,null,null,null,null,null,null,null,null,null,null,null,null,null,null,null,null,null,null,null,null,null,null,null,null,null,null,null,null,null,null,null,null,null,null,null,null,null,null,null,null,null,null,null,null,null,null,null,null,null,null,null,null,null,null,null,null,null,null,null,null,null,null,null,null,null,null,null,null,null,null,null,null,null,null,null,null,null,null,null,null,null,null,null,null,null,null,null,null,null,null,null,null,null,null,null,null,2,2,null,null,null,null,null,null,null,null,null,null,null,null,null,null,null,null,null,null,null,null,null,null,null,null,null,null,null,null,null,null,null,null,null,null,null,null,null,null,null,null,null,null,null,null,null,null,null,null,null,null,null,null,null,null,null,null,null,null,null,null,null,null,null,null,null,null,null,null,null,null,null,null,null,null,null,null,null,null,null,null,null,null,null,null,null,null,null,null,null,null,null,null,null,null,null,null,null,null,null,null,null,null,null,null,null,null,null,null,null,null,null,null,null,null,null,null,null,null,null,null,null,null,null,null,null,null,null,null,null,null,null,null,null,null,null,null,null,null,null,null,null,null,null,null,null,null,null,null,null,null,null,null,null,null,null,null,null,null,null,null,null,null,null,null,null,null,null,null,null,null,null,null,null,null,null,null,null,null,null,null,null,null,null,null,null,null,null,null,null,null,null,null,null,null,null,null,null,null,null,null,null,null,null,null,null,null,null,null,null,null,null,null,null,null,null,null,null,null,null,null,null,null,null,null,null,null,null,null,null,null,null,null,null,null,null,null,null,null,null,null,null,null,null,null,null,null,null,null,null,null,null,null,null,null,null,null,null,null,null,null,null,null,null,null,null,null,null,null,null,null,null,null,null,null,null,null,null,null,null,null,null,null,null,null,null,null,null,null,null,null,null,null,null,null,null,null,null,null,null,null,null,null,null,null,null,null,null,null,null,null,null,null,null,null,null,null,null,null,null,null,null,null,null,null,null,null,null,null,null,null,null,null,null,null,null,null,null,null,null,null,null,null,null,null,null,null,null,null,null,null,null,null,null,null,null,null,null,null,null,null,null,null,null,null,null,null,null,null,null,null,null,null,null,null,null,null,null,null,null,null,null,null,null,null,null,null,null,null,null,null,null,null,null,null,null,null,null,null,null,null,null,null,null,null,null,null,null,null,null,null,null,null,null,null,null,null,null,null,null,null,null,null,null,null,null,null,null,null,null,null,null,null,null,null,null,null,null,null,null,null,null,null,null,null,null,null,null,null,null,null,null,null,null,null,null,null,null,67,1,1,7,1,6,1,0,0,0,0,0,0,6,2,null,null,null,null,null,null,2,null,1,"Clarktk5@aol.com",9078030710,"2013-11-02T00:57:00","2013-11-02T01:14:00",null,524,5,"MSIE 8.0","Windows XP","216.137.196.20"]
[1498,89130,1,"1498_89130_1",{"$f":"VLOOKUP(D1084,'Lives in SA (Zip)'!$B$4:$E$3989,4,FALSE)","v":0},"sb",1,1,0,{"$f":"(VLOOKUP(AP1084,PolicySites!$B$5:$F$122,5,FALSE)*AZ1084)+(VLOOKUP(AQ1084,PolicySites!$B$5:$F$122,5,FALSE)*BA1084)+(VLOOKUP(AR1084,PolicySites!$B$5:$F$122,5,FALSE)*BB1084)+(VLOOKUP(AS1084,PolicySites!$B$5:$F$122,5,FALSE)*BC1084)+(VLOOKUP(AT1084,PolicySites!$B$5:$F$122,5,FALSE)*BD1084)+(VLOOKUP(AU1084,PolicySites!$B$5:$F$122,5,FALSE)*BE1084)+(VLOOKUP(AV1084,PolicySites!$B$5:$F$122,5,FALSE)*BF1084)+(VLOOKUP(AW1084,PolicySites!$B$5:$F$122,5,FALSE)*BG1084)+(VLOOKUP(AX1084,PolicySites!$B$5:$F$122,5,FALSE)*BH1084)+(VLOOKUP(AY1084,PolicySites!$B$5:$F$122,5,FALSE)*BI1084)","v":0},null,null,null,null,null,null,null,null,null,null,null,null,null,null,null,null,null,null,null,null,null,"--","--","--","--","--","--","--","--","--","--",{"$f":"IFERROR(VLOOKUP(AF1084,'Site Codes'!$V$4:$Y$164,4,FALSE),0)","v":0},{"$f":"IFERROR(VLOOKUP(AG1084,'Site Codes'!$V$4:$Y$164,4,FALSE),0)","v":0},{"$f":"IFERROR(VLOOKUP(AH1084,'Site Codes'!$V$4:$Y$164,4,FALSE),0)","v":0},{"$f":"IFERROR(VLOOKUP(AI1084,'Site Codes'!$V$4:$Y$164,4,FALSE),0)","v":0},{"$f":"IFERROR(VLOOKUP(AJ1084,'Site Codes'!$V$4:$Y$164,4,FALSE),0)","v":0},{"$f":"IFERROR(VLOOKUP(AK1084,'Site Codes'!$V$4:$Y$164,4,FALSE),0)","v":0},{"$f":"IFERROR(VLOOKUP(AL1084,'Site Codes'!$V$4:$Y$164,4,FALSE),0)","v":0},{"$f":"IFERROR(VLOOKUP(AM1084,'Site Codes'!$V$4:$Y$164,4,FALSE),0)","v":0},{"$f":"IFERROR(VLOOKUP(AN1084,'Site Codes'!$V$4:$Y$164,4,FALSE),0)","v":0},{"$f":"IFERROR(VLOOKUP(AO1084,'Site Codes'!$V$4:$Y$164,4,FALSE),0)","v":0},null,null,null,null,null,null,null,null,null,null,null,null,null,null,null,null,null,null,null,null,null,null,null,null,null,null,null,null,null,null,null,null,null,null,null,null,null,null,null,null,null,null,null,null,null,null,null,null,null,null,null,null,null,null,null,null,null,null,null,null,null,null,null,null,null,null,null,null,null,null,null,null,null,null,null,null,null,null,null,null,null,null,null,null,null,null,null,null,null,null,null,null,null,null,null,null,null,null,null,null,null,null,null,null,null,null,null,null,null,null,null,null,null,null,null,null,null,null,null,null,null,null,null,null,null,null,null,null,null,null,null,null,null,null,null,null,null,null,null,null,null,null,null,null,null,null,null,null,null,null,null,null,null,null,null,null,null,null,null,null,null,null,null,null,null,null,null,null,null,null,null,null,null,null,null,null,null,null,null,null,null,null,null,null,null,null,null,null,null,null,null,null,null,null,null,null,null,null,null,null,null,null,null,null,null,null,null,null,null,null,null,null,null,null,null,null,null,null,null,null,null,null,null,null,null,null,null,null,null,null,null,null,null,null,null,null,null,null,null,null,null,null,null,null,null,null,null,null,null,null,null,null,null,null,null,null,null,null,null,null,null,null,null,null,null,null,null,null,null,null,null,null,null,null,null,null,null,null,null,null,null,null,null,null,null,null,null,null,null,null,null,null,null,null,null,null,null,null,null,null,null,null,null,null,null,null,null,null,null,null,null,null,null,null,null,null,null,null,null,null,null,null,null,null,null,null,null,null,null,null,null,null,null,null,null,null,null,null,null,null,null,null,null,null,null,null,null,null,null,null,null,null,null,null,null,null,null,null,null,null,null,null,null,null,null,null,null,null,null,null,null,null,null,null,null,null,null,null,null,null,null,null,null,null,null,null,null,null,null,null,null,null,null,null,null,null,null,null,null,null,null,null,null,null,null,null,null,null,null,null,null,null,null,null,null,null,null,null,null,null,null,null,null,null,null,null,null,null,null,null,null,null,null,null,null,null,null,null,null,null,null,null,null,null,null,null,null,null,null,null,null,null,null,null,null,null,null,null,null,null,null,null,null,null,null,null,null,null,null,null,null,null,null,null,null,null,null,null,null,null,null,null,null,null,null,null,null,null,null,null,null,null,null,null,null,null,null,null,null,null,null,null,null,null,null,null,null,null,null,null,null,null,null,null,null,null,null,null,null,null,null,null,null,null,null,null,null,null,null,null,null,null,null,null,null,null,null,null,null,null,null,null,null,null,null,null,null,null,null,null,null,null,null,null,null,null,null,null,null,null,null,null,null,null,null,null,null,null,null,null,null,null,null,null,null,null,null,null,null,null,null,null,null,null,null,null,null,null,null,null,null,null,null,null,null,null,null,null,null,null,null,null,null,null,null,null,null,null,null,null,null,null,null,null,null,null,null,null,null,null,null,null,null,null,null,null,null,null,null,null,null,null,null,null,null,null,null,null,null,null,null,null,null,null,null,null,null,null,null,null,null,null,null,null,null,null,null,null,null,null,null,null,null,null,null,null,null,null,null,null,null,null,null,null,null,null,null,null,null,null,null,null,null,null,null,null,null,null,null,null,null,null,null,null,null,null,null,null,null,null,null,null,null,null,null,null,null,null,null,null,null,null,null,null,null,null,null,null,null,null,null,null,null,null,null,null,null,null,null,null,null,null,null,null,null,null,null,null,null,null,null,null,null,null,null,null,null,null,null,null,null,null,null,null,null,null,null,null,null,null,null,null,null,null,null,null,null,null,null,null,null,null,null,null,null,null,null,null,null,null,null,null,null,null,null,null,null,null,null,null,null,null,null,null,null,null,null,null,null,null,null,null,null,null,null,null,null,null,null,null,null,null,null,null,null,null,null,null,null,null,null,null,null,null,null,null,null,null,null,null,null,null,null,null,null,null,null,null,null,null,null,null,null,null,null,null,null,null,null,null,null,null,null,null,null,null,null,null,null,null,null,null,null,null,null,null,null,null,null,null,null,null,null,null,null,null,null,null,null,null,null,null,null,null,null,null,null,null,null,null,null,null,null,null,null,null,null,null,null,null,null,null,null,null,null,null,null,null,null,null,null,null,null,null,null,null,null,null,null,null,null,null,null,null,null,null,null,null,null,null,null,null,null,null,null,null,null,null,null,null,null,null,null,null,null,null,null,null,null,null,null,null,null,null,null,null,null,null,null,null,null,null,null,null,null,null,null,null,null,null,null,null,null,null,null,null,null,null,null,null,null,null,null,null,null,null,null,null,null,null,null,null,null,null,null,null,null,null,null,null,null,null,null,null,null,null,null,null,null,null,null,null,null,null,null,null,null,null,null,null,null,null,null,null,null,null,null,null,null,null,null,null,null,null,null,null,null,null,null,null,null,null,null,null,null,null,null,null,null,null,null,null,null,null,null,null,null,null,null,null,null,null,null,null,null,null,null,null,null,null,null,null,null,null,null,null,null,null,null,null,null,null,null,null,null,null,null,null,null,null,null,null,null,null,null,null,null,null,null,null,null,null,null,null,null,null,null,null,null,null,null,null,null,null,null,null,null,null,null,null,null,null,null,null,null,null,null,null,null,null,null,null,null,null,null,null,null,null,null,null,null,null,null,null,null,null,null,null,null,null,null,null,null,null,null,null,null,null,null,null,null,null,null,null,null,null,null,null,null,null,null,null,null,null,null,null,null,null,null,null,null,null,null,null,null,null,null,null,null,null,null,null,null,null,null,null,null,null,null,null,null,null,null,null,null,null,null,null,null,null,null,null,null,null,null,null,null,null,null,null,null,null,null,null,null,null,null,null,null,null,null,null,null,null,null,null,null,null,null,null,null,null,null,null,null,null,null,null,null,null,null,null,null,null,null,null,null,null,null,null,null,null,null,null,null,null,null,null,null,null,null,null,null,null,null,null,null,null,null,null,null,null,null,null,null,null,null,null,null,null,null,null,null,null,null,null,null,null,null,null,null,null,null,null,null,null,null,null,null,null,null,null,null,null,null,null,null,null,null,null,null,null,null,null,null,null,null,null,null,null,null,null,null,null,null,null,null,null,null,null,null,null,null,null,null,null,null,null,null,null,null,null,null,null,null,null,null,null,null,null,null,null,null,null,null,null,null,null,null,null,null,null,null,null,null,null,null,null,null,null,null,null,null,null,null,null,null,null,null,null,null,null,null,null,null,null,null,null,null,null,null,null,null,null,null,null,null,null,null,null,null,null,null,null,null,null,null,null,null,null,null,null,null,null,null,null,null,null,null,null,null,null,null,null,null,null,null,null,null,null,null,null,null,null,null,null,null,null,null,null,null,null,null,null,null,null,null,null,null,null,null,null,null,null,null,null,null,null,null,null,null,null,null,null,null,null,null,null,null,null,null,null,null,null,null,null,null,null,null,null,null,null,null,null,null,null,null,null,null,null,null,null,null,null,null,null,null,null,null,null,null,null,null,null,null,null,null,null,null,null,null,null,null,null,null,null,null,null,null,null,null,null,null,null,null,null,null,null,null,null,null,null,null,null,null,null,null,null,null,null,null,null,null,null,null,null,null,null,null,null,null,null,null,null,null,null,null,null,null,null,null,null,null,null,null,null,null,null,null,null,null,null,null,null,null,null,null,null,null,null,null,null,null,null,null,null,null,null,null,null,null,null,null,null,null,null,null,null,null,null,null,null,null,null,null,null,null,null,null,null,null,null,null,null,null,null,null,null,null,null,null,null,null,null,null,null,null,null,null,null,null,null,null,null,null,null,null,null,null,null,null,null,null,null,null,null,null,null,null,null,null,null,null,null,null,null,null,null,null,null,null,null,null,null,null,null,null,null,null,null,null,null,null,null,null,null,null,null,null,null,null,null,null,null,null,null,null,null,null,null,null,null,null,null,null,null,null,null,null,null,null,null,null,null,null,null,null,null,null,null,null,null,null,null,null,null,null,null,null,null,null,null,null,null,null,null,null,null,null,null,null,null,null,null,null,null,null,null,null,null,null,null,null,null,null,null,null,null,null,null,null,null,null,null,null,null,null,null,null,null,null,null,null,null,null,null,null,null,null,null,null,null,null,null,null,null,null,null,null,null,null,null,null,null,null,null,null,null,null,null,null,null,null,null,null,null,null,null,null,null,null,null,null,null,null,null,null,null,null,null,null,null,null,null,null,null,null,null,null,null,null,null,null,null,null,null,null,null,null,null,null,null,null,null,null,null,null,null,null,null,2,1,4,0,0,0,1,0,0,0,0,0,0,0,1,0,1,1,0,1,0,0,1,0,0,null,null,null,null,null,2,null,null,null,null,null,null,null,1,null,1,1,null,2,null,null,2,null,null,null,null,null,null,null,1,null,null,null,null,null,null,null,1,null,1,1,null,1,null,null,1,null,null,null,null,4,null,null,null,null,0,0,0,0,0,0,0,0,0,0,0,0,0,0,0,0,0,0,1,0,0,0,0,0,0,0,0,0,0,0,0,0,0,0,0,0,0,0,0,0,0,0,0,0,0,0,0,0,0,0,0,0,0,0,0,0,0,0,0,1,1990,2,2,null,1,2,0,null,0,null,0,0,0,1,0,null,null,null,null,null,null,null,null,null,null,null,null,null,null,null,null,null,null,0,null,null,null,null,null,null,null,null,null,null,null,null,null,null,null,null,null,null,null,null,null,null,null,null,null,null,null,null,null,null,null,null,null,null,null,null,null,null,null,null,null,null,null,null,null,null,null,null,null,null,null,null,null,null,null,null,null,null,null,null,null,null,null,null,null,null,null,null,null,null,null,null,null,null,1,null,null,null,null,null,null,null,null,null,null,null,null,null,null,null,null,null,null,null,null,null,null,null,null,null,null,null,null,null,null,null,null,null,null,null,null,null,null,null,null,null,null,null,null,null,null,null,null,null,null,null,null,null,null,2,null,null,null,null,null,null,null,null,null,null,null,null,null,null,null,null,null,null,null,null,null,null,null,null,null,null,null,null,null,null,null,null,null,null,null,null,null,null,null,null,null,null,null,null,null,null,null,null,null,null,null,null,null,null,null,null,null,null,null,null,null,null,null,null,null,null,null,null,null,null,null,3,1,3,3,2,null,null,null,null,3,null,null,null,null,null,null,null,2,null,null,1,0,0,0,0,0,0,0,0,0,0,null,0,0,0,0,0,0,0,0,0,0,0,0,0,null,1,0,0,0,0,0,0,0,1,0,null,1,1,2,3,3,1,1,2,1,2,3,3,4,2,3,3,3,4,2,2,2,3,3,3,2,2,3,78,2,2,3,null,6,1,0,0,0,0,0,0,6,2,null,null,null,null,null,null,2,null,1,"mgreif@acsalaska.net",null,"2014-01-14T02:17:00","2014-01-14T02:24:00",null,15041,5,"Firefox 23.0","Windows XP","209.112.172.118",4,12,14,15,17,20,null,null,null,null,null,null,null,null,null,null,null,null,null,null,null,null,null,null,4,12,14,15,17,20,null,null,null,null,null,null,null,null,null,null,null,null,null,null,null,null,null,null,null,null,null,null,null,null,null,null,null,null,null,null,null,null,null,null,null,null,null,null,null,null,null,null,4,null,null,null,null,null,null,null,null,null,null,null,null,null,null,null,null,null,null,null,null,null,null,null,1,3,5,6,7,8,9,28,null,null,null,null,null,null,null,null,null,null,null,null,null,null,null,null,null,null,null,null,19,20,21,22,23,24,25,26,27,null,null,null,null,null,null,null,null,null,null,null,null,null,null,null,null,null,null,null,8]
[696,53975,1,"696_53975_1",{"$f":"VLOOKUP(D1352,'Lives in SA (Zip)'!$B$4:$E$3989,4,FALSE)","v":0},"ce",2,null,0,{"$f":"(VLOOKUP(AP1352,PolicySites!$B$5:$F$122,5,FALSE)*AZ1352)+(VLOOKUP(AQ1352,PolicySites!$B$5:$F$122,5,FALSE)*BA1352)+(VLOOKUP(AR1352,PolicySites!$B$5:$F$122,5,FALSE)*BB1352)+(VLOOKUP(AS1352,PolicySites!$B$5:$F$122,5,FALSE)*BC1352)+(VLOOKUP(AT1352,PolicySites!$B$5:$F$122,5,FALSE)*BD1352)+(VLOOKUP(AU1352,PolicySites!$B$5:$F$122,5,FALSE)*BE1352)+(VLOOKUP(AV1352,PolicySites!$B$5:$F$122,5,FALSE)*BF1352)+(VLOOKUP(AW1352,PolicySites!$B$5:$F$122,5,FALSE)*BG1352)+(VLOOKUP(AX1352,PolicySites!$B$5:$F$122,5,FALSE)*BH1352)+(VLOOKUP(AY1352,PolicySites!$B$5:$F$122,5,FALSE)*BI1352)","v":0},null,null,null,null,null,null,null,null,null,null,null,null,null,null,null,null,null,null,null,null,null,"--","--","--","--","--","--","--","--","--","--",{"$f":"IFERROR(VLOOKUP(AF1352,'Site Codes'!$V$4:$Y$164,4,FALSE),0)","v":0},{"$f":"IFERROR(VLOOKUP(AG1352,'Site Codes'!$V$4:$Y$164,4,FALSE),0)","v":0},{"$f":"IFERROR(VLOOKUP(AH1352,'Site Codes'!$V$4:$Y$164,4,FALSE),0)","v":0},{"$f":"IFERROR(VLOOKUP(AI1352,'Site Codes'!$V$4:$Y$164,4,FALSE),0)","v":0},{"$f":"IFERROR(VLOOKUP(AJ1352,'Site Codes'!$V$4:$Y$164,4,FALSE),0)","v":0},{"$f":"IFERROR(VLOOKUP(AK1352,'Site Codes'!$V$4:$Y$164,4,FALSE),0)","v":0},{"$f":"IFERROR(VLOOKUP(AL1352,'Site Codes'!$V$4:$Y$164,4,FALSE),0)","v":0},{"$f":"IFERROR(VLOOKUP(AM1352,'Site Codes'!$V$4:$Y$164,4,FALSE),0)","v":0},{"$f":"IFERROR(VLOOKUP(AN1352,'Site Codes'!$V$4:$Y$164,4,FALSE),0)","v":0},{"$f":"IFERROR(VLOOKUP(AO1352,'Site Codes'!$V$4:$Y$164,4,FALSE),0)","v":0},null,null,null,null,null,null,null,null,null,null,null,null,null,null,null,null,null,null,null,null,null,null,null,null,null,null,null,null,null,null,null,null,null,null,null,null,null,null,null,null,null,null,null,null,null,null,null,null,null,null,null,null,null,null,null,null,null,null,null,null,null,null,null,null,null,null,null,null,null,null,null,null,null,null,null,null,null,null,null,null,null,null,null,null,null,null,null,null,null,null,null,null,null,null,null,null,null,null,null,null,null,null,null,null,null,null,null,null,null,null,null,null,null,null,null,null,null,null,null,null,null,null,null,null,null,null,null,null,null,null,null,null,null,null,null,null,null,null,null,null,null,null,null,null,null,null,null,null,null,null,null,null,null,null,null,null,null,null,null,null,null,null,null,null,null,null,null,null,null,null,null,null,null,null,null,null,null,null,null,null,null,null,null,null,null,null,null,null,null,null,null,null,null,null,null,null,null,null,null,null,null,null,null,null,null,null,null,null,null,null,null,null,null,null,null,null,null,null,null,null,null,null,null,null,null,null,null,null,null,null,null,null,null,null,null,null,null,null,null,null,null,null,null,null,null,null,null,null,null,null,null,null,null,null,null,null,null,null,null,null,null,null,null,null,null,null,null,null,null,null,null,null,null,null,null,null,null,null,null,null,null,null,null,null,null,null,null,null,null,null,null,null,null,null,null,null,null,null,null,null,null,null,null,null,null,null,null,null,null,null,null,null,null,null,null,null,null,null,null,null,null,null,null,null,null,null,null,null,null,null,null,null,null,null,null,null,null,null,null,null,null,null,null,null,null,null,null,null,null,null,null,null,null,null,null,null,null,null,null,null,null,null,null,null,null,null,null,null,null,null,null,null,null,null,null,null,null,null,null,null,null,null,null,null,null,null,null,null,null,null,null,null,null,null,null,null,null,null,null,null,null,null,null,null,null,null,null,null,null,null,null,null,null,null,null,null,null,null,null,null,null,null,null,null,null,null,null,null,null,null,null,null,null,null,null,null,null,null,null,null,null,null,null,null,null,null,null,null,null,null,null,null,null,null,null,null,null,null,null,null,null,null,null,null,null,null,null,null,null,null,null,null,null,null,null,null,null,null,null,null,null,null,null,null,null,null,null,null,null,null,null,null,null,null,null,null,null,null,null,null,null,null,null,null,null,null,null,null,null,null,null,null,null,null,null,null,null,null,null,null,null,null,null,null,null,null,null,null,null,null,null,null,null,null,null,null,null,null,null,null,null,null,null,null,null,null,null,null,null,null,null,null,null,null,null,null,null,null,null,null,null,null,null,null,null,null,null,null,null,null,null,null,null,null,null,null,null,null,null,null,null,null,null,null,null,null,null,null,null,null,null,null,null,null,null,null,null,null,null,null,null,null,null,null,null,null,null,null,null,null,null,null,null,null,null,null,null,null,null,null,null,null,null,null,null,null,null,null,null,null,null,null,null,null,null,null,null,null,null,null,null,null,null,null,null,null,null,null,null,null,null,null,null,null,null,null,null,null,null,null,null,null,null,null,null,null,null,null,null,null,null,null,null,null,null,null,null,null,null,null,null,null,null,null,null,null,null,null,null,null,null,null,null,null,null,null,null,null,null,null,null,null,null,null,null,null,null,null,null,null,null,null,null,null,null,null,null,null,null,null,null,null,null,null,null,null,null,null,null,null,null,null,null,null,null,null,null,null,null,null,null,null,null,null,null,null,null,null,null,null,null,null,null,null,null,null,null,null,null,null,null,null,null,null,null,null,null,null,null,null,null,null,null,null,null,null,null,null,null,null,null,null,null,null,null,null,null,null,null,null,null,null,null,null,null,null,null,null,null,null,null,null,null,null,null,null,null,null,null,null,null,null,null,null,null,null,null,null,null,null,null,null,null,null,null,null,null,null,null,null,null,null,null,null,null,null,null,null,null,null,null,null,null,null,null,null,null,null,null,null,null,null,null,null,null,null,null,null,null,null,null,null,null,null,null,null,null,null,null,null,null,null,null,null,null,null,null,null,null,null,null,null,null,null,null,null,null,null,null,null,null,null,null,null,null,null,null,null,null,null,null,null,null,null,null,null,null,null,null,null,null,null,null,null,null,null,null,null,null,null,null,null,null,null,null,null,null,null,null,null,null,null,null,null,null,null,null,null,null,null,null,null,null,null,null,null,null,null,null,null,null,null,null,null,null,null,null,null,null,null,null,null,null,null,null,null,null,null,null,null,null,null,null,null,null,null,null,null,null,null,null,null,null,null,null,null,null,null,null,null,null,null,null,null,null,null,null,null,null,null,null,null,null,null,null,null,null,null,null,null,null,null,null,null,null,null,null,null,null,null,null,null,null,null,null,null,null,null,null,null,null,null,null,null,null,null,null,null,null,null,null,null,null,null,null,null,null,null,null,null,null,null,null,null,null,null,null,null,null,null,null,null,null,null,null,null,null,null,null,null,null,null,null,null,null,null,null,null,null,null,null,null,null,null,null,null,null,null,null,null,null,null,null,null,null,null,null,null,null,null,null,null,null,null,null,null,null,null,null,null,null,null,null,null,null,null,null,null,null,null,null,null,null,null,null,null,null,null,null,null,null,null,null,null,null,null,null,null,null,null,null,null,null,null,null,null,null,null,null,null,null,null,null,null,null,null,null,null,null,null,null,null,null,null,null,null,null,null,null,null,null,null,null,null,null,null,null,null,null,null,null,null,null,null,null,null,null,null,null,null,null,null,null,null,null,null,null,null,null,null,null,null,null,null,null,null,null,null,null,null,null,null,null,null,null,null,null,null,null,null,null,null,null,null,null,null,null,null,null,null,null,null,null,null,null,null,null,null,null,null,null,null,null,null,null,null,null,null,null,null,null,null,null,null,null,null,null,null,null,null,null,null,null,null,null,null,null,null,null,null,null,null,null,null,null,null,null,null,null,null,null,null,null,null,null,null,null,null,null,null,null,null,null,null,null,null,null,null,null,null,null,null,null,null,null,null,null,null,null,null,null,null,null,null,null,null,null,null,null,null,null,null,null,null,null,null,null,null,null,null,null,null,null,null,null,null,null,null,null,null,null,null,null,null,null,null,null,null,null,null,null,null,null,null,null,null,null,null,null,null,null,null,null,null,null,null,null,null,null,null,null,null,null,null,null,null,null,null,null,null,null,null,null,null,null,null,null,null,null,null,null,null,null,null,null,null,null,null,null,null,null,null,null,null,null,null,null,null,null,null,null,null,null,null,null,null,null,null,null,null,null,null,null,null,null,null,null,null,null,null,null,null,null,null,null,null,null,null,null,null,null,null,null,null,null,null,null,null,null,null,null,null,null,null,null,null,null,null,null,null,null,null,null,null,null,null,null,null,null,null,null,null,null,null,null,null,null,null,null,null,null,null,null,null,null,null,null,null,null,null,null,null,null,null,null,null,null,null,null,null,null,null,null,null,null,null,null,null,null,null,null,null,null,null,null,null,null,null,null,null,null,null,null,null,null,null,null,null,null,null,null,null,null,null,null,null,null,null,null,null,null,null,null,null,null,null,null,null,null,null,null,null,null,null,null,null,null,null,null,null,null,null,null,null,null,null,null,null,null,null,null,null,null,null,null,null,null,null,null,null,null,null,null,null,null,null,null,null,null,null,null,null,null,null,null,null,null,null,null,null,null,null,null,null,null,null,null,null,null,null,null,null,null,null,null,null,null,null,null,null,null,null,null,null,null,null,null,null,null,null,null,null,null,null,null,null,null,null,null,null,null,null,null,null,null,null,null,null,null,null,null,null,null,null,null,null,null,null,null,null,null,null,null,null,null,null,null,null,null,null,null,null,null,null,null,null,null,null,null,null,null,null,null,null,null,null,null,null,null,null,null,null,null,null,null,null,null,null,null,null,null,null,null,null,null,null,null,null,null,null,null,null,null,null,null,null,null,null,null,null,null,null,null,null,null,null,null,null,null,null,null,null,null,null,null,null,null,null,null,null,null,null,null,null,null,null,null,null,null,null,null,null,null,null,null,null,null,null,null,null,null,null,null,null,null,null,null,null,null,null,null,null,null,null,null,null,null,null,null,null,null,null,null,null,null,null,null,null,null,null,null,null,null,null,null,null,null,null,null,null,null,null,null,null,null,null,null,null,null,null,null,null,null,null,null,null,null,null,null,null,null,null,null,null,null,null,null,null,null,null,null,null,null,null,null,null,null,null,null,null,null,null,null,null,null,null,null,null,null,null,2,2,null,null,null,null,null,null,null,null,null,null,null,null,null,null,null,null,null,null,null,null,null,null,null,null,null,null,null,null,null,null,null,null,null,null,null,null,null,null,null,null,null,null,null,null,null,null,null,null,null,null,null,null,null,null,null,null,null,null,null,null,null,null,null,null,null,null,null,null,null,null,null,null,null,null,null,null,null,null,null,null,null,null,null,null,null,null,null,null,null,null,null,null,null,null,null,null,null,null,null,null,null,null,null,null,null,null,null,null,null,null,null,null,null,null,null,null,null,null,null,null,null,null,null,null,null,null,null,null,null,null,null,null,null,null,null,null,null,null,null,null,null,null,null,null,null,null,null,null,null,null,null,null,null,null,null,null,null,null,null,null,null,null,null,null,null,null,null,null,null,null,null,null,null,null,null,null,null,null,null,null,null,null,null,null,null,null,null,null,null,null,null,null,null,null,null,null,null,null,null,null,null,null,null,null,null,null,null,null,null,null,null,null,null,null,null,null,null,null,null,null,null,null,null,null,null,null,null,null,null,null,null,null,null,null,null,null,null,null,null,null,null,null,null,null,null,null,null,null,null,null,null,null,null,null,null,null,null,null,null,null,null,null,null,null,null,null,null,null,null,null,null,null,null,null,null,null,null,null,null,null,null,null,null,null,null,null,null,null,null,null,null,null,null,null,null,null,null,null,null,null,null,null,null,null,null,null,null,null,null,null,null,null,null,null,null,null,null,null,null,null,null,null,null,null,null,null,null,null,null,null,null,null,null,null,null,null,null,null,null,null,null,null,null,null,null,null,null,null,null,null,null,null,null,null,null,null,null,null,null,null,null,null,null,null,null,null,null,null,null,null,null,null,null,null,null,null,null,null,null,null,null,null,null,null,null,null,null,null,null,null,null,null,null,null,null,null,null,null,null,null,null,null,null,null,null,null,null,null,null,null,null,null,null,null,null,null,null,null,null,null,null,null,null,null,null,null,null,null,null,null,null,null,null,null,null,null,null,null,null,null,null,null,null,null,null,null,null,null,null,null,null,null,null,null,null,null,null,48,2,1,2,2,5,1,0,0,0,0,0,0,3,2,null,null,null,null,null,null,2,null,2,null,null,"2013-12-29T21:25:00","2013-12-29T21:27:00",null,1174,5,"Firefox 23.0","Windows XP","209.112.172.118"]
[80,58615,2,"80_58615_2",{"$f":"VLOOKUP(D1465,'Lives in SA (Zip)'!$B$4:$E$3989,4,FALSE)","v":0},null,2,null,0,{"$f":"(VLOOKUP(AP1465,PolicySites!$B$5:$F$122,5,FALSE)*AZ1465)+(VLOOKUP(AQ1465,PolicySites!$B$5:$F$122,5,FALSE)*BA1465)+(VLOOKUP(AR1465,PolicySites!$B$5:$F$122,5,FALSE)*BB1465)+(VLOOKUP(AS1465,PolicySites!$B$5:$F$122,5,FALSE)*BC1465)+(VLOOKUP(AT1465,PolicySites!$B$5:$F$122,5,FALSE)*BD1465)+(VLOOKUP(AU1465,PolicySites!$B$5:$F$122,5,FALSE)*BE1465)+(VLOOKUP(AV1465,PolicySites!$B$5:$F$122,5,FALSE)*BF1465)+(VLOOKUP(AW1465,PolicySites!$B$5:$F$122,5,FALSE)*BG1465)+(VLOOKUP(AX1465,PolicySites!$B$5:$F$122,5,FALSE)*BH1465)+(VLOOKUP(AY1465,PolicySites!$B$5:$F$122,5,FALSE)*BI1465)","v":0},null,null,null,null,null,null,null,null,null,null,null,null,null,null,null,null,null,null,null,null,null,"--","--","--","--","--","--","--","--","--","--",{"$f":"IFERROR(VLOOKUP(AF1465,'Site Codes'!$V$4:$Y$164,4,FALSE),0)","v":0},{"$f":"IFERROR(VLOOKUP(AG1465,'Site Codes'!$V$4:$Y$164,4,FALSE),0)","v":0},{"$f":"IFERROR(VLOOKUP(AH1465,'Site Codes'!$V$4:$Y$164,4,FALSE),0)","v":0},{"$f":"IFERROR(VLOOKUP(AI1465,'Site Codes'!$V$4:$Y$164,4,FALSE),0)","v":0},{"$f":"IFERROR(VLOOKUP(AJ1465,'Site Codes'!$V$4:$Y$164,4,FALSE),0)","v":0},{"$f":"IFERROR(VLOOKUP(AK1465,'Site Codes'!$V$4:$Y$164,4,FALSE),0)","v":0},{"$f":"IFERROR(VLOOKUP(AL1465,'Site Codes'!$V$4:$Y$164,4,FALSE),0)","v":0},{"$f":"IFERROR(VLOOKUP(AM1465,'Site Codes'!$V$4:$Y$164,4,FALSE),0)","v":0},{"$f":"IFERROR(VLOOKUP(AN1465,'Site Codes'!$V$4:$Y$164,4,FALSE),0)","v":0},{"$f":"IFERROR(VLOOKUP(AO1465,'Site Codes'!$V$4:$Y$164,4,FALSE),0)","v":0},null,null,null,null,null,null,null,null,null,null,null,null,null,null,null,null,null,null,null,null,null,null,null,null,null,null,null,null,null,null,null,null,null,null,null,null,null,null,null,null,null,null,null,null,null,null,null,null,null,null,null,null,null,null,null,null,null,null,null,null,null,null,null,null,null,null,null,null,null,null,null,null,null,null,null,null,null,null,null,null,null,null,null,null,null,null,null,null,null,null,null,null,null,null,null,null,null,null,null,null,null,null,null,null,null,null,null,null,null,null,null,null,null,null,null,null,null,null,null,null,null,null,null,null,null,null,null,null,null,null,null,null,null,null,null,null,null,null,null,null,null,null,null,null,null,null,null,null,null,null,null,null,null,null,null,null,null,null,null,null,null,null,null,null,null,null,null,null,null,null,null,null,null,null,null,null,null,null,null,null,null,null,null,null,null,null,null,null,null,null,null,null,null,null,null,null,null,null,null,null,null,null,null,null,null,null,null,null,null,null,null,null,null,null,null,null,null,null,null,null,null,null,null,null,null,null,null,null,null,null,null,null,null,null,null,null,null,null,null,null,null,null,null,null,null,null,null,null,null,null,null,null,null,null,null,null,null,null,null,null,null,null,null,null,null,null,null,null,null,null,null,null,null,null,null,null,null,null,null,null,null,null,null,null,null,null,null,null,null,null,null,null,null,null,null,null,null,null,null,null,null,null,null,null,null,null,null,null,null,null,null,null,null,null,null,null,null,null,null,null,null,null,null,null,null,null,null,null,null,null,null,null,null,null,null,null,null,null,null,null,null,null,null,null,null,null,null,null,null,null,null,null,null,null,null,null,null,null,null,null,null,null,null,null,null,null,null,null,null,null,null,null,null,null,null,null,null,null,null,null,null,null,null,null,null,null,null,null,null,null,null,null,null,null,null,null,null,null,null,null,null,null,null,null,null,null,null,null,null,null,null,null,null,null,null,null,null,null,null,null,null,null,null,null,null,null,null,null,null,null,null,null,null,null,null,null,null,null,null,null,null,null,null,null,null,null,null,null,null,null,null,null,null,null,null,null,null,null,null,null,null,null,null,null,null,null,null,null,null,null,null,null,null,null,null,null,null,null,null,null,null,null,null,null,null,null,null,null,null,null,null,null,null,null,null,null,null,null,null,null,null,null,null,null,null,null,null,null,null,null,null,null,null,null,null,null,null,null,null,null,null,null,null,null,null,null,null,null,null,null,null,null,null,null,null,null,null,null,null,null,null,null,null,null,null,null,null,null,null,null,null,null,null,null,null,null,null,null,null,null,null,null,null,null,null,null,null,null,null,null,null,null,null,null,null,null,null,null,null,null,null,null,null,null,null,null,null,null,null,null,null,null,null,null,null,null,null,null,null,null,null,null,null,null,null,null,null,null,null,null,null,null,null,null,null,null,null,null,null,null,null,null,null,null,null,null,null,null,null,null,null,null,null,null,null,null,null,null,null,null,null,null,null,null,null,null,null,null,null,null,null,null,null,null,null,null,null,null,null,null,null,null,null,null,null,null,null,null,null,null,null,null,null,null,null,null,null,null,null,null,null,null,null,null,null,null,null,null,null,null,null,null,null,null,null,null,null,null,null,null,null,null,null,null,null,null,null,null,null,null,null,null,null,null,null,null,null,null,null,null,null,null,null,null,null,null,null,null,null,null,null,null,null,null,null,null,null,null,null,null,null,null,null,null,null,null,null,null,null,null,null,null,null,null,null,null,null,null,null,null,null,null,null,null,null,null,null,null,null,null,null,null,null,null,null,null,null,null,null,null,null,null,null,null,null,null,null,null,null,null,null,null,null,null,null,null,null,null,null,null,null,null,null,null,null,null,null,null,null,null,null,null,null,null,null,null,null,null,null,null,null,null,null,null,null,null,null,null,null,null,null,null,null,null,null,null,null,null,null,null,null,null,null,null,null,null,null,null,null,null,null,null,null,null,null,null,null,null,null,null,null,null,null,null,null,null,null,null,null,null,null,null,null,null,null,null,null,null,null,null,null,null,null,null,null,null,null,null,null,null,null,null,null,null,null,null,null,null,null,null,null,null,null,null,null,null,null,null,null,null,null,null,null,null,null,null,null,null,null,null,null,null,null,null,null,null,null,null,null,null,null,null,null,null,null,null,null,null,null,null,null,null,null,null,null,null,null,null,null,null,null,null,null,null,null,null,null,null,null,null,null,null,null,null,null,null,null,null,null,null,null,null,null,null,null,null,null,null,null,null,null,null,null,null,null,null,null,null,null,null,null,null,null,null,null,null,null,null,null,null,null,null,null,null,null,null,null,null,null,null,null,null,null,null,null,null,null,null,null,null,null,null,null,null,null,null,null,null,null,null,null,null,null,null,null,null,null,null,null,null,null,null,null,null,null,null,null,null,null,null,null,null,null,null,null,null,null,null,null,null,null,null,null,null,null,null,null,null,null,null,null,null,null,null,null,null,null,null,null,null,null,null,null,null,null,null,null,null,null,null,null,null,null,null,null,null,null,null,null,null,null,null,null,null,null,null,null,null,null,null,null,null,null,null,null,null,null,null,null,null,null,null,null,null,null,null,null,null,null,null,null,null,null,null,null,null,null,null,null,null,null,null,null,null,null,null,null,null,null,null,null,null,null,null,null,null,null,null,null,null,null,null,null,null,null,null,null,null,null,null,null,null,null,null,null,null,null,null,null,null,null,null,null,null,null,null,null,null,null,null,null,null,null,null,null,null,null,null,null,null,null,null,null,null,null,null,null,null,null,null,null,null,null,null,null,null,null,null,null,null,null,null,null,null,null,null,null,null,null,null,null,null,null,null,null,null,null,null,null,null,null,null,null,null,null,null,null,null,null,null,null,null,null,null,null,null,null,null,null,null,null,null,null,null,null,null,null,null,null,null,null,null,null,null,null,null,null,null,null,null,null,null,null,null,null,null,null,null,null,null,null,null,null,null,null,null,null,null,null,null,null,null,null,null,null,null,null,null,null,null,null,null,null,null,null,null,null,null,null,null,null,null,null,null,null,null,null,null,null,null,null,null,null,null,null,null,null,null,null,null,null,null,null,null,null,null,null,null,null,null,null,null,null,null,null,null,null,null,null,null,null,null,null,null,null,null,null,null,null,null,null,null,null,null,null,null,null,null,null,null,null,null,null,null,null,null,null,null,null,null,null,null,null,null,null,null,null,null,null,null,null,null,null,null,null,null,null,null,null,null,null,null,null,null,null,null,null,null,null,null,null,null,null,null,null,null,null,null,null,null,null,null,null,null,null,null,null,null,null,null,null,null,null,null,null,null,null,null,null,null,null,null,null,null,null,null,null,null,null,null,null,null,null,null,null,null,null,null,null,null,null,null,null,null,null,null,null,null,null,null,null,null,null,null,null,null,null,null,null,null,null,null,null,null,null,null,null,null,null,null,null,null,null,null,null,null,null,null,null,null,null,null,null,null,null,null,null,null,null,null,null,null,null,null,null,null,null,null,null,null,null,null,null,null,null,null,null,null,null,null,null,null,null,null,null,null,null,null,null,null,null,null,null,null,null,null,null,null,null,null,null,null,null,null,null,null,null,null,null,null,null,null,null,null,null,null,null,null,null,null,null,null,null,null,null,null,null,null,null,null,null,null,null,null,null,null,null,null,null,null,null,null,null,null,null,null,null,null,null,null,null,null,null,null,null,null,null,null,null,null,null,null,null,null,null,null,null,null,null,null,null,null,null,null,null,null,null,null,null,null,null,null,null,null,null,null,null,null,null,null,null,null,null,null,null,null,null,null,null,null,null,null,null,null,null,null,null,null,null,null,null,null,null,null,null,null,null,null,null,null,null,null,null,null,null,null,null,null,null,null,null,null,null,null,null,null,null,null,null,null,null,null,null,null,null,null,null,null,null,null,null,null,null,null,null,null,null,null,null,null,null,null,null,null,null,null,null,null,null,null,null,null,null,null,null,null,null,null,null,null,null,null,null,null,null,null,null,null,null,null,null,null,null,null,null,null,null,null,null,null,null,null,null,null,null,null,null,null,null,null,null,null,null,null,null,null,null,null,null,null,null,null,null,null,null,null,null,null,null,null,null,null,null,null,null,null,null,null,null,null,null,null,null,null,null,null,null,null,null,null,null,null,null,null,null,null,null,null,null,null,null,null,null,null,null,null,null,null,null,null,null,null,null,null,null,null,null,null,null,null,null,null,null,null,null,null,null,null,null,null,2,2,null,null,null,null,null,null,null,null,null,null,null,null,null,null,null,null,null,null,null,null,null,null,null,null,null,null,null,null,null,null,null,null,null,null,null,null,null,null,null,null,null,null,null,null,null,null,null,null,null,null,null,null,null,null,null,null,null,null,null,null,null,null,null,null,null,null,null,null,null,null,null,null,null,null,null,null,null,null,null,null,null,null,null,null,null,null,null,null,null,null,null,null,null,null,null,null,null,null,null,null,null,null,null,null,null,null,null,null,null,null,null,null,null,null,null,null,null,null,null,null,null,null,null,null,null,null,null,null,null,null,null,null,null,null,null,null,null,null,null,null,null,null,null,null,null,null,null,null,null,null,null,null,null,null,null,null,null,null,null,null,null,null,null,null,null,null,null,null,null,null,null,null,null,null,null,null,null,null,null,null,null,null,null,null,null,null,null,null,null,null,null,null,null,null,null,null,null,null,null,null,null,null,null,null,null,null,null,null,null,null,null,null,null,null,null,null,null,null,null,null,null,null,null,null,null,null,null,null,null,null,null,null,null,null,null,null,null,null,null,null,null,null,null,null,null,null,null,null,null,null,null,null,null,null,null,null,null,null,null,null,null,null,null,null,null,null,null,null,null,null,null,null,null,null,null,null,null,null,null,null,null,null,null,null,null,null,null,null,null,null,null,null,null,null,null,null,null,null,null,null,null,null,null,null,null,null,null,null,null,null,null,null,null,null,null,null,null,null,null,null,null,null,null,null,null,null,null,null,null,null,null,null,null,null,null,null,null,null,null,null,null,null,null,null,null,null,null,null,null,null,null,null,null,null,null,null,null,null,null,null,null,null,null,null,null,null,null,null,null,null,null,null,null,null,null,null,null,null,null,null,null,null,null,null,null,null,null,null,null,null,null,null,null,null,null,null,null,null,null,null,null,null,null,null,null,null,null,null,null,null,null,null,null,null,null,null,null,null,null,null,null,null,null,null,null,null,null,null,null,null,null,null,null,null,null,null,null,null,null,null,null,null,null,null,null,null,null,null,null,null,null,null,null,null,null,null,null,86,1,1,2,2,5,1,0,0,0,0,0,0,4,2,null,null,null,null,null,null,2,null,1,"taylormademike@gmail.com",5202706869,"2013-10-26T06:22:00","2013-10-26T06:28:00",null,20,5,"Safari 9537.53",null,"24.237.195.37"]
[412,63240,1,"412_63240_1",{"$f":"VLOOKUP(D1578,'Lives in SA (Zip)'!$B$4:$E$3989,4,FALSE)","v":0},"JM",2,null,0,{"$f":"(VLOOKUP(AP1578,PolicySites!$B$5:$F$122,5,FALSE)*AZ1578)+(VLOOKUP(AQ1578,PolicySites!$B$5:$F$122,5,FALSE)*BA1578)+(VLOOKUP(AR1578,PolicySites!$B$5:$F$122,5,FALSE)*BB1578)+(VLOOKUP(AS1578,PolicySites!$B$5:$F$122,5,FALSE)*BC1578)+(VLOOKUP(AT1578,PolicySites!$B$5:$F$122,5,FALSE)*BD1578)+(VLOOKUP(AU1578,PolicySites!$B$5:$F$122,5,FALSE)*BE1578)+(VLOOKUP(AV1578,PolicySites!$B$5:$F$122,5,FALSE)*BF1578)+(VLOOKUP(AW1578,PolicySites!$B$5:$F$122,5,FALSE)*BG1578)+(VLOOKUP(AX1578,PolicySites!$B$5:$F$122,5,FALSE)*BH1578)+(VLOOKUP(AY1578,PolicySites!$B$5:$F$122,5,FALSE)*BI1578)","v":0},null,null,null,null,null,null,null,null,null,null,null,null,null,null,null,null,null,null,null,null,null,"--","--","--","--","--","--","--","--","--","--",{"$f":"IFERROR(VLOOKUP(AF1578,'Site Codes'!$V$4:$Y$164,4,FALSE),0)","v":0},{"$f":"IFERROR(VLOOKUP(AG1578,'Site Codes'!$V$4:$Y$164,4,FALSE),0)","v":0},{"$f":"IFERROR(VLOOKUP(AH1578,'Site Codes'!$V$4:$Y$164,4,FALSE),0)","v":0},{"$f":"IFERROR(VLOOKUP(AI1578,'Site Codes'!$V$4:$Y$164,4,FALSE),0)","v":0},{"$f":"IFERROR(VLOOKUP(AJ1578,'Site Codes'!$V$4:$Y$164,4,FALSE),0)","v":0},{"$f":"IFERROR(VLOOKUP(AK1578,'Site Codes'!$V$4:$Y$164,4,FALSE),0)","v":0},{"$f":"IFERROR(VLOOKUP(AL1578,'Site Codes'!$V$4:$Y$164,4,FALSE),0)","v":0},{"$f":"IFERROR(VLOOKUP(AM1578,'Site Codes'!$V$4:$Y$164,4,FALSE),0)","v":0},{"$f":"IFERROR(VLOOKUP(AN1578,'Site Codes'!$V$4:$Y$164,4,FALSE),0)","v":0},{"$f":"IFERROR(VLOOKUP(AO1578,'Site Codes'!$V$4:$Y$164,4,FALSE),0)","v":0},null,null,null,null,null,null,null,null,null,null,null,null,null,null,null,null,null,null,null,null,null,null,null,null,null,null,null,null,null,null,null,null,null,null,null,null,null,null,null,null,null,null,null,null,null,null,null,null,null,null,null,null,null,null,null,null,null,null,null,null,null,null,null,null,null,null,null,null,null,null,null,null,null,null,null,null,null,null,null,null,null,null,null,null,null,null,null,null,null,null,null,null,null,null,null,null,null,null,null,null,null,null,null,null,null,null,null,null,null,null,null,null,null,null,null,null,null,null,null,null,null,null,null,null,null,null,null,null,null,null,null,null,null,null,null,null,null,null,null,null,null,null,null,null,null,null,null,null,null,null,null,null,null,null,null,null,null,null,null,null,null,null,null,null,null,null,null,null,null,null,null,null,null,null,null,null,null,null,null,null,null,null,null,null,null,null,null,null,null,null,null,null,null,null,null,null,null,null,null,null,null,null,null,null,null,null,null,null,null,null,null,null,null,null,null,null,null,null,null,null,null,null,null,null,null,null,null,null,null,null,null,null,null,null,null,null,null,null,null,null,null,null,null,null,null,null,null,null,null,null,null,null,null,null,null,null,null,null,null,null,null,null,null,null,null,null,null,null,null,null,null,null,null,null,null,null,null,null,null,null,null,null,null,null,null,null,null,null,null,null,null,null,null,null,null,null,null,null,null,null,null,null,null,null,null,null,null,null,null,null,null,null,null,null,null,null,null,null,null,null,null,null,null,null,null,null,null,null,null,null,null,null,null,null,null,null,null,null,null,null,null,null,null,null,null,null,null,null,null,null,null,null,null,null,null,null,null,null,null,null,null,null,null,null,null,null,null,null,null,null,null,null,null,null,null,null,null,null,null,null,null,null,null,null,null,null,null,null,null,null,null,null,null,null,null,null,null,null,null,null,null,null,null,null,null,null,null,null,null,null,null,null,null,null,null,null,null,null,null,null,null,null,null,null,null,null,null,null,null,null,null,null,null,null,null,null,null,null,null,null,null,null,null,null,null,null,null,null,null,null,null,null,null,null,null,null,null,null,null,null,null,null,null,null,null,null,null,null,null,null,null,null,null,null,null,null,null,null,null,null,null,null,null,null,null,null,null,null,null,null,null,null,null,null,null,null,null,null,null,null,null,null,null,null,null,null,null,null,null,null,null,null,null,null,null,null,null,null,null,null,null,null,null,null,null,null,null,null,null,null,null,null,null,null,null,null,null,null,null,null,null,null,null,null,null,null,null,null,null,null,null,null,null,null,null,null,null,null,null,null,null,null,null,null,null,null,null,null,null,null,null,null,null,null,null,null,null,null,null,null,null,null,null,null,null,null,null,null,null,null,null,null,null,null,null,null,null,null,null,null,null,null,null,null,null,null,null,null,null,null,null,null,null,null,null,null,null,null,null,null,null,null,null,null,null,null,null,null,null,null,null,null,null,null,null,null,null,null,null,null,null,null,null,null,null,null,null,null,null,null,null,null,null,null,null,null,null,null,null,null,null,null,null,null,null,null,null,null,null,null,null,null,null,null,null,null,null,null,null,null,null,null,null,null,null,null,null,null,null,null,null,null,null,null,null,null,null,null,null,null,null,null,null,null,null,null,null,null,null,null,null,null,null,null,null,null,null,null,null,null,null,null,null,null,null,null,null,null,null,null,null,null,null,null,null,null,null,null,null,null,null,null,null,null,null,null,null,null,null,null,null,null,null,null,null,null,null,null,null,null,null,null,null,null,null,null,null,null,null,null,null,null,null,null,null,null,null,null,null,null,null,null,null,null,null,null,null,null,null,null,null,null,null,null,null,null,null,null,null,null,null,null,null,null,null,null,null,null,null,null,null,null,null,null,null,null,null,null,null,null,null,null,null,null,null,null,null,null,null,null,null,null,null,null,null,null,null,null,null,null,null,null,null,null,null,null,null,null,null,null,null,null,null,null,null,null,null,null,null,null,null,null,null,null,null,null,null,null,null,null,null,null,null,null,null,null,null,null,null,null,null,null,null,null,null,null,null,null,null,null,null,null,null,null,null,null,null,null,null,null,null,null,null,null,null,null,null,null,null,null,null,null,null,null,null,null,null,null,null,null,null,null,null,null,null,null,null,null,null,null,null,null,null,null,null,null,null,null,null,null,null,null,null,null,null,null,null,null,null,null,null,null,null,null,null,null,null,null,null,null,null,null,null,null,null,null,null,null,null,null,null,null,null,null,null,null,null,null,null,null,null,null,null,null,null,null,null,null,null,null,null,null,null,null,null,null,null,null,null,null,null,null,null,null,null,null,null,null,null,null,null,null,null,null,null,null,null,null,null,null,null,null,null,null,null,null,null,null,null,null,null,null,null,null,null,null,null,null,null,null,null,null,null,null,null,null,null,null,null,null,null,null,null,null,null,null,null,null,null,null,null,null,null,null,null,null,null,null,null,null,null,null,null,null,null,null,null,null,null,null,null,null,null,null,null,null,null,null,null,null,null,null,null,null,null,null,null,null,null,null,null,null,null,null,null,null,null,null,null,null,null,null,null,null,null,null,null,null,null,null,null,null,null,null,null,null,null,null,null,null,null,null,null,null,null,null,null,null,null,null,null,null,null,null,null,null,null,null,null,null,null,null,null,null,null,null,null,null,null,null,null,null,null,null,null,null,null,null,null,null,null,null,null,null,null,null,null,null,null,null,null,null,null,null,null,null,null,null,null,null,null,null,null,null,null,null,null,null,null,null,null,null,null,null,null,null,null,null,null,null,null,null,null,null,null,null,null,null,null,null,null,null,null,null,null,null,null,null,null,null,null,null,null,null,null,null,null,null,null,null,null,null,null,null,null,null,null,null,null,null,null,null,null,null,null,null,null,null,null,null,null,null,null,null,null,null,null,null,null,null,null,null,null,null,null,null,null,null,null,null,null,null,null,null,null,null,null,null,null,null,null,null,null,null,null,null,null,null,null,null,null,null,null,null,null,null,null,null,null,null,null,null,null,null,null,null,null,null,null,null,null,null,null,null,null,null,null,null,null,null,null,null,null,null,null,null,null,null,null,null,null,null,null,null,null,null,null,null,null,null,null,null,null,null,null,null,null,null,null,null,null,null,null,null,null,null,null,null,null,null,null,null,null,null,null,null,null,null,null,null,null,null,null,null,null,null,null,null,null,null,null,null,null,null,null,null,null,null,null,null,null,null,null,null,null,null,null,null,null,null,null,null,null,null,null,null,null,null,null,null,null,null,null,null,null,null,null,null,null,null,null,null,null,null,null,null,null,null,null,null,null,null,null,null,null,null,null,null,null,null,null,null,null,null,null,null,null,null,null,null,null,null,null,null,null,null,null,null,null,null,null,null,null,null,null,null,null,null,null,null,null,null,null,null,null,null,null,null,null,null,null,null,null,null,null,null,null,null,null,null,null,null,null,null,null,null,null,null,null,null,null,null,null,null,null,null,null,null,null,null,null,null,null,null,null,null,null,null,null,null,null,null,null,null,null,null,null,null,null,null,null,null,null,null,null,null,null,null,null,null,null,null,null,null,null,null,null,null,null,null,null,null,null,null,null,null,null,null,null,null,null,null,null,null,null,null,null,null,null,null,null,null,null,null,null,null,null,null,null,null,null,null,null,null,null,null,null,null,null,null,null,null,null,null,null,null,null,null,null,null,null,null,null,null,null,null,null,null,null,null,null,null,null,null,null,null,null,null,null,null,null,null,null,null,null,null,null,null,null,null,null,null,null,null,null,null,null,null,null,null,null,null,null,null,null,null,null,null,null,null,null,null,null,null,null,null,null,null,null,null,null,null,null,null,null,null,null,null,null,null,null,null,null,null,null,null,null,null,null,null,null,null,null,null,null,null,null,null,null,null,null,null,null,null,null,null,null,null,null,null,null,null,null,null,null,null,null,null,null,null,null,null,null,null,null,null,null,null,null,null,null,null,null,null,null,null,null,null,null,null,null,null,null,null,null,null,null,null,null,null,null,null,null,null,null,null,null,null,null,null,null,null,null,null,null,null,null,null,null,null,null,null,null,null,null,null,null,null,null,null,null,null,null,null,null,null,null,null,null,null,null,null,null,null,null,null,null,null,null,null,null,null,null,null,null,null,null,null,null,null,null,null,null,null,null,null,null,null,null,null,null,null,null,null,null,null,null,null,null,null,null,null,null,null,null,null,null,null,null,null,null,null,null,null,null,null,null,null,null,null,2,1,8,0,0,0,1,0,0,0,0,0,0,0,0,0,0,1,0,0,0,0,0,0,0,null,null,null,null,null,8,null,null,null,null,null,null,null,null,null,null,6,null,null,null,null,null,null,null,null,null,null,null,null,1,null,null,null,null,null,null,null,null,null,null,1,null,null,null,null,null,null,null,null,null,4,null,null,null,null,0,0,0,0,0,0,0,0,0,0,0,0,0,0,0,0,0,0,0,0,0,0,0,0,0,0,0,0,0,0,0,0,0,0,0,0,0,0,0,0,0,0,0,0,0,0,0,0,0,0,0,1,0,0,0,0,0,0,0,1,2008,2,2,null,1,2,0,null,0,null,0,0,0,0,0,null,null,null,null,null,null,null,null,null,null,null,null,null,null,null,null,null,null,1,null,null,null,null,null,null,null,null,null,null,null,null,null,null,null,null,null,null,null,null,null,null,null,null,null,null,null,"Talkeetna/Caswell",null,null,null,null,null,null,null,null,null,null,null,null,null,null,null,null,null,null,null,null,null,null,null,null,null,null,null,53,null,null,null,null,null,null,null,null,null,null,null,null,null,null,null,null,null,null,0,null,null,null,null,null,null,null,null,null,null,null,null,null,null,null,null,null,null,null,null,null,null,null,null,null,null,null,null,null,null,null,null,null,null,null,null,null,null,null,null,null,null,null,null,null,null,null,null,null,null,null,null,null,null,null,null,null,null,null,null,null,null,null,null,null,null,null,null,2,null,null,null,null,null,null,null,null,null,null,null,null,null,null,null,null,null,null,null,null,null,null,null,null,null,null,null,null,null,null,null,null,null,null,null,null,null,null,null,null,null,null,null,null,null,null,null,null,null,null,null,null,null,null,null,null,null,3,0,1,4,2,null,null,null,null,3,null,null,null,null,null,null,null,2,null,null,1,0,0,0,0,0,0,0,0,0,0,null,1,0,0,0,0,0,0,0,0,0,0,0,0,null,1,1,0,0,0,0,0,0,0,0,null,3,1,2,3,3,2,1,3,1,2,3,2,4,5,3,3,2,3,2,3,2,3,3,3,2,3,3,88,1,2,3,2,7,1,0,0,0,0,0,0,7,2,null,null,null,null,null,null,1,"Talkeetna/Caswell, AK",1,"trevor.gruver@yahoo.com",null,"2014-01-10T17:37:00","2014-01-10T17:48:00",null,14231,5,"Firefox 23.0","Windows XP","209.112.172.118",4,15,null,null,null,null,null,null,null,null,null,null,null,null,null,null,null,null,null,null,null,null,null,null,4,15,null,null,null,null,null,null,null,null,null,null,null,null,null,null,null,null,null,null,null,null,null,null,null,null,null,null,null,null,null,null,null,null,null,null,null,null,null,null,null,null,null,null,null,null,null,null,4,null,null,null,null,null,null,null,null,null,null,null,null,null,null,null,null,null,null,null,null,null,null,null,1,3,5,6,7,8,9,28,null,null,null,null,null,null,null,null,null,null,null,null,null,null,null,null,null,null,null,null,19,20,21,22,23,24,25,26,27,null,null,null,null,null,null,null,null,null,null,null,null,null,null,null,null,null,null,null,10]
[340,68245,2,"340_68245_2",{"$f":"VLOOKUP(D1695,'Lives in SA (Zip)'!$B$4:$E$3989,4,FALSE)","v":0},null,2,null,0,{"$f":"(VLOOKUP(AP1695,PolicySites!$B$5:$F$122,5,FALSE)*AZ1695)+(VLOOKUP(AQ1695,PolicySites!$B$5:$F$122,5,FALSE)*BA1695)+(VLOOKUP(AR1695,PolicySites!$B$5:$F$122,5,FALSE)*BB1695)+(VLOOKUP(AS1695,PolicySites!$B$5:$F$122,5,FALSE)*BC1695)+(VLOOKUP(AT1695,PolicySites!$B$5:$F$122,5,FALSE)*BD1695)+(VLOOKUP(AU1695,PolicySites!$B$5:$F$122,5,FALSE)*BE1695)+(VLOOKUP(AV1695,PolicySites!$B$5:$F$122,5,FALSE)*BF1695)+(VLOOKUP(AW1695,PolicySites!$B$5:$F$122,5,FALSE)*BG1695)+(VLOOKUP(AX1695,PolicySites!$B$5:$F$122,5,FALSE)*BH1695)+(VLOOKUP(AY1695,PolicySites!$B$5:$F$122,5,FALSE)*BI1695)","v":0},null,null,null,null,null,null,null,null,null,null,null,null,null,null,null,null,null,null,null,null,null,"--","--","--","--","--","--","--","--","--","--",{"$f":"IFERROR(VLOOKUP(AF1695,'Site Codes'!$V$4:$Y$164,4,FALSE),0)","v":0},{"$f":"IFERROR(VLOOKUP(AG1695,'Site Codes'!$V$4:$Y$164,4,FALSE),0)","v":0},{"$f":"IFERROR(VLOOKUP(AH1695,'Site Codes'!$V$4:$Y$164,4,FALSE),0)","v":0},{"$f":"IFERROR(VLOOKUP(AI1695,'Site Codes'!$V$4:$Y$164,4,FALSE),0)","v":0},{"$f":"IFERROR(VLOOKUP(AJ1695,'Site Codes'!$V$4:$Y$164,4,FALSE),0)","v":0},{"$f":"IFERROR(VLOOKUP(AK1695,'Site Codes'!$V$4:$Y$164,4,FALSE),0)","v":0},{"$f":"IFERROR(VLOOKUP(AL1695,'Site Codes'!$V$4:$Y$164,4,FALSE),0)","v":0},{"$f":"IFERROR(VLOOKUP(AM1695,'Site Codes'!$V$4:$Y$164,4,FALSE),0)","v":0},{"$f":"IFERROR(VLOOKUP(AN1695,'Site Codes'!$V$4:$Y$164,4,FALSE),0)","v":0},{"$f":"IFERROR(VLOOKUP(AO1695,'Site Codes'!$V$4:$Y$164,4,FALSE),0)","v":0},null,null,null,null,null,null,null,null,null,null,null,null,null,null,null,null,null,null,null,null,null,null,null,null,null,null,null,null,null,null,null,null,null,null,null,null,null,null,null,null,null,null,null,null,null,null,null,null,null,null,null,null,null,null,null,null,null,null,null,null,null,null,null,null,null,null,null,null,null,null,null,null,null,null,null,null,null,null,null,null,null,null,null,null,null,null,null,null,null,null,null,null,null,null,null,null,null,null,null,null,null,null,null,null,null,null,null,null,null,null,null,null,null,null,null,null,null,null,null,null,null,null,null,null,null,null,null,null,null,null,null,null,null,null,null,null,null,null,null,null,null,null,null,null,null,null,null,null,null,null,null,null,null,null,null,null,null,null,null,null,null,null,null,null,null,null,null,null,null,null,null,null,null,null,null,null,null,null,null,null,null,null,null,null,null,null,null,null,null,null,null,null,null,null,null,null,null,null,null,null,null,null,null,null,null,null,null,null,null,null,null,null,null,null,null,null,null,null,null,null,null,null,null,null,null,null,null,null,null,null,null,null,null,null,null,null,null,null,null,null,null,null,null,null,null,null,null,null,null,null,null,null,null,null,null,null,null,null,null,null,null,null,null,null,null,null,null,null,null,null,null,null,null,null,null,null,null,null,null,null,null,null,null,null,null,null,null,null,null,null,null,null,null,null,null,null,null,null,null,null,null,null,null,null,null,null,null,null,null,null,null,null,null,null,null,null,null,null,null,null,null,null,null,null,null,null,null,null,null,null,null,null,null,null,null,null,null,null,null,null,null,null,null,null,null,null,null,null,null,null,null,null,null,null,null,null,null,null,null,null,null,null,null,null,null,null,null,null,null,null,null,null,null,null,null,null,null,null,null,null,null,null,null,null,null,null,null,null,null,null,null,null,null,null,null,null,null,null,null,null,null,null,null,null,null,null,null,null,null,null,null,null,null,null,null,null,null,null,null,null,null,null,null,null,null,null,null,null,null,null,null,null,null,null,null,null,null,null,null,null,null,null,null,null,null,null,null,null,null,null,null,null,null,null,null,null,null,null,null,null,null,null,null,null,null,null,null,null,null,null,null,null,null,null,null,null,null,null,null,null,null,null,null,null,null,null,null,null,null,null,null,null,null,null,null,null,null,null,null,null,null,null,null,null,null,null,null,null,null,null,null,null,null,null,null,null,null,null,null,null,null,null,null,null,null,null,null,null,null,null,null,null,null,null,null,null,null,null,null,null,null,null,null,null,null,null,null,null,null,null,null,null,null,null,null,null,null,null,null,null,null,null,null,null,null,null,null,null,null,null,null,null,null,null,null,null,null,null,null,null,null,null,null,null,null,null,null,null,null,null,null,null,null,null,null,null,null,null,null,null,null,null,null,null,null,null,null,null,null,null,null,null,null,null,null,null,null,null,null,null,null,null,null,null,null,null,null,null,null,null,null,null,null,null,null,null,null,null,null,null,null,null,null,null,null,null,null,null,null,null,null,null,null,null,null,null,null,null,null,null,null,null,null,null,null,null,null,null,null,null,null,null,null,null,null,null,null,null,null,null,null,null,null,null,null,null,null,null,null,null,null,null,null,null,null,null,null,null,null,null,null,null,null,null,null,null,null,null,null,null,null,null,null,null,null,null,null,null,null,null,null,null,null,null,null,null,null,null,null,null,null,null,null,null,null,null,null,null,null,null,null,null,null,null,null,null,null,null,null,null,null,null,null,null,null,null,null,null,null,null,null,null,null,null,null,null,null,null,null,null,null,null,null,null,null,null,null,null,null,null,null,null,null,null,null,null,null,null,null,null,null,null,null,null,null,null,null,null,null,null,null,null,null,null,null,null,null,null,null,null,null,null,null,null,null,null,null,null,null,null,null,null,null,null,null,null,null,null,null,null,null,null,null,null,null,null,null,null,null,null,null,null,null,null,null,null,null,null,null,null,null,null,null,null,null,null,null,null,null,null,null,null,null,null,null,null,null,null,null,null,null,null,null,null,null,null,null,null,null,null,null,null,null,null,null,null,null,null,null,null,null,null,null,null,null,null,null,null,null,null,null,null,null,null,null,null,null,null,null,null,null,null,null,null,null,null,null,null,null,null,null,null,null,null,null,null,null,null,null,null,null,null,null,null,null,null,null,null,null,null,null,null,null,null,null,null,null,null,null,null,null,null,null,null,null,null,null,null,null,null,null,null,null,null,null,null,null,null,null,null,null,null,null,null,null,null,null,null,null,null,null,null,null,null,null,null,null,null,null,null,null,null,null,null,null,null,null,null,null,null,null,null,null,null,null,null,null,null,null,null,null,null,null,null,null,null,null,null,null,null,null,null,null,null,null,null,null,null,null,null,null,null,null,null,null,null,null,null,null,null,null,null,null,null,null,null,null,null,null,null,null,null,null,null,null,null,null,null,null,null,null,null,null,null,null,null,null,null,null,null,null,null,null,null,null,null,null,null,null,null,null,null,null,null,null,null,null,null,null,null,null,null,null,null,null,null,null,null,null,null,null,null,null,null,null,null,null,null,null,null,null,null,null,null,null,null,null,null,null,null,null,null,null,null,null,null,null,null,null,null,null,null,null,null,null,null,null,null,null,null,null,null,null,null,null,null,null,null,null,null,null,null,null,null,null,null,null,null,null,null,null,null,null,null,null,null,null,null,null,null,null,null,null,null,null,null,null,null,null,null,null,null,null,null,null,null,null,null,null,null,null,null,null,null,null,null,null,null,null,null,null,null,null,null,null,null,null,null,null,null,null,null,null,null,null,null,null,null,null,null,null,null,null,null,null,null,null,null,null,null,null,null,null,null,null,null,null,null,null,null,null,null,null,null,null,null,null,null,null,null,null,null,null,null,null,null,null,null,null,null,null,null,null,null,null,null,null,null,null,null,null,null,null,null,null,null,null,null,null,null,null,null,null,null,null,null,null,null,null,null,null,null,null,null,null,null,null,null,null,null,null,null,null,null,null,null,null,null,null,null,null,null,null,null,null,null,null,null,null,null,null,null,null,null,null,null,null,null,null,null,null,null,null,null,null,null,null,null,null,null,null,null,null,null,null,null,null,null,null,null,null,null,null,null,null,null,null,null,null,null,null,null,null,null,null,null,null,null,null,null,null,null,null,null,null,null,null,null,null,null,null,null,null,null,null,null,null,null,null,null,null,null,null,null,null,null,null,null,null,null,null,null,null,null,null,null,null,null,null,null,null,null,null,null,null,null,null,null,null,null,null,null,null,null,null,null,null,null,null,null,null,null,null,null,null,null,null,null,null,null,null,null,null,null,null,null,null,null,null,null,null,null,null,null,null,null,null,null,null,null,null,null,null,null,null,null,null,null,null,null,null,null,null,null,null,null,null,null,null,null,null,null,null,null,null,null,null,null,null,null,null,null,null,null,null,null,null,null,null,null,null,null,null,null,null,null,null,null,null,null,null,null,null,null,null,null,null,null,null,null,null,null,null,null,null,null,null,null,null,null,null,null,null,null,null,null,null,null,null,null,null,null,null,null,null,null,null,null,null,null,null,null,null,null,null,null,null,null,null,null,null,null,null,null,null,null,null,null,null,null,null,null,null,null,null,null,null,null,null,null,null,null,null,null,null,null,null,null,null,null,null,null,null,null,null,null,null,null,null,null,null,null,null,null,null,null,null,null,null,null,null,null,null,null,null,null,null,null,null,null,null,null,null,null,null,null,null,null,null,null,null,null,null,null,null,null,null,null,null,null,null,null,null,null,null,null,null,null,null,null,null,null,null,null,null,null,null,null,null,null,null,null,null,null,null,null,null,null,null,null,null,null,null,null,null,null,null,null,null,null,null,null,null,null,null,null,null,null,null,null,null,null,null,null,null,null,null,null,null,null,null,null,null,null,null,null,null,null,null,null,null,null,null,null,null,null,null,null,null,null,null,null,null,null,null,null,null,null,null,null,null,null,null,null,null,null,null,null,null,null,null,null,null,null,null,null,null,null,null,null,null,null,null,null,null,null,null,null,null,null,null,null,null,null,null,null,null,null,null,null,null,null,null,null,null,null,null,null,null,null,null,null,null,null,null,null,null,null,null,null,null,null,null,null,null,null,null,null,null,null,null,null,null,null,null,null,null,null,null,null,null,null,null,null,null,null,null,null,null,null,null,null,null,null,null,null,null,null,null,null,null,null,null,null,null,null,null,null,null,null,null,null,null,null,null,null,null,null,null,null,2,2,null,null,null,null,null,null,null,null,null,null,null,null,null,null,null,null,null,null,null,null,null,null,null,null,null,null,null,null,null,null,null,null,null,null,null,null,null,null,null,null,null,null,null,null,null,null,null,null,null,null,null,null,null,null,null,null,null,null,null,null,null,null,null,null,null,null,null,null,null,null,null,null,null,null,null,null,null,null,null,null,null,null,null,null,null,null,null,null,null,null,null,null,null,null,null,null,null,null,null,null,null,null,null,null,null,null,null,null,null,null,null,null,null,null,null,null,null,null,null,null,null,null,null,null,null,null,null,null,null,null,null,null,null,null,null,null,null,null,null,null,null,null,null,null,null,null,null,null,null,null,null,null,null,null,null,null,null,null,null,null,null,null,null,null,null,null,null,null,null,null,null,null,null,null,null,null,null,null,null,null,null,null,null,null,null,null,null,null,null,null,null,null,null,null,null,null,null,null,null,null,null,null,null,null,null,null,null,null,null,null,null,null,null,null,null,null,null,null,null,null,null,null,null,null,null,null,null,null,null,null,null,null,null,null,null,null,null,null,null,null,null,null,null,null,null,null,null,null,null,null,null,null,null,null,null,null,null,null,null,null,null,null,null,null,null,null,null,null,null,null,null,null,null,null,null,null,null,null,null,null,null,null,null,null,null,null,null,null,null,null,null,null,null,null,null,null,null,null,null,null,null,null,null,null,null,null,null,null,null,null,null,null,null,null,null,null,null,null,null,null,null,null,null,null,null,null,null,null,null,null,null,null,null,null,null,null,null,null,null,null,null,null,null,null,null,null,null,null,null,null,null,null,null,null,null,null,null,null,null,null,null,null,null,null,null,null,null,null,null,null,null,null,null,null,null,null,null,null,null,null,null,null,null,null,null,null,null,null,null,null,null,null,null,null,null,null,null,null,null,null,null,null,null,null,null,null,null,null,null,null,null,null,null,null,null,null,null,null,null,null,null,null,null,null,null,null,null,null,null,null,null,null,null,null,null,null,null,null,null,null,null,null,null,null,null,null,null,null,null,null,null,null,null,null,null,null,null,91,2,1,2,2,2,1,0,0,0,0,0,0,4,2,null,null,null,null,null,null,2,null,1,"Kell7491@Gmail.com",null,"2013-11-06T03:28:00","2013-11-06T03:32:00",null,640,5,"Chrome 30.0.1599.101","Windows NT 6.1","69.178.26.167"]
[228,80210,1,"228_80210_1",{"$f":"VLOOKUP(D1959,'Lives in SA (Zip)'!$B$4:$E$3989,4,FALSE)","v":0},"ce",2,null,0,{"$f":"(VLOOKUP(AP1959,PolicySites!$B$5:$F$122,5,FALSE)*AZ1959)+(VLOOKUP(AQ1959,PolicySites!$B$5:$F$122,5,FALSE)*BA1959)+(VLOOKUP(AR1959,PolicySites!$B$5:$F$122,5,FALSE)*BB1959)+(VLOOKUP(AS1959,PolicySites!$B$5:$F$122,5,FALSE)*BC1959)+(VLOOKUP(AT1959,PolicySites!$B$5:$F$122,5,FALSE)*BD1959)+(VLOOKUP(AU1959,PolicySites!$B$5:$F$122,5,FALSE)*BE1959)+(VLOOKUP(AV1959,PolicySites!$B$5:$F$122,5,FALSE)*BF1959)+(VLOOKUP(AW1959,PolicySites!$B$5:$F$122,5,FALSE)*BG1959)+(VLOOKUP(AX1959,PolicySites!$B$5:$F$122,5,FALSE)*BH1959)+(VLOOKUP(AY1959,PolicySites!$B$5:$F$122,5,FALSE)*BI1959)","v":0},null,null,null,null,null,null,null,null,null,null,null,null,null,null,null,null,null,null,null,null,null,"--","--","--","--","--","--","--","--","--","--",{"$f":"IFERROR(VLOOKUP(AF1959,'Site Codes'!$V$4:$Y$164,4,FALSE),0)","v":0},{"$f":"IFERROR(VLOOKUP(AG1959,'Site Codes'!$V$4:$Y$164,4,FALSE),0)","v":0},{"$f":"IFERROR(VLOOKUP(AH1959,'Site Codes'!$V$4:$Y$164,4,FALSE),0)","v":0},{"$f":"IFERROR(VLOOKUP(AI1959,'Site Codes'!$V$4:$Y$164,4,FALSE),0)","v":0},{"$f":"IFERROR(VLOOKUP(AJ1959,'Site Codes'!$V$4:$Y$164,4,FALSE),0)","v":0},{"$f":"IFERROR(VLOOKUP(AK1959,'Site Codes'!$V$4:$Y$164,4,FALSE),0)","v":0},{"$f":"IFERROR(VLOOKUP(AL1959,'Site Codes'!$V$4:$Y$164,4,FALSE),0)","v":0},{"$f":"IFERROR(VLOOKUP(AM1959,'Site Codes'!$V$4:$Y$164,4,FALSE),0)","v":0},{"$f":"IFERROR(VLOOKUP(AN1959,'Site Codes'!$V$4:$Y$164,4,FALSE),0)","v":0},{"$f":"IFERROR(VLOOKUP(AO1959,'Site Codes'!$V$4:$Y$164,4,FALSE),0)","v":0},null,null,null,null,null,null,null,null,null,null,null,null,null,null,null,null,null,null,null,null,null,null,null,null,null,null,null,null,null,null,null,null,null,null,null,null,null,null,null,null,null,null,null,null,null,null,null,null,null,null,null,null,null,null,null,null,null,null,null,null,null,null,null,null,null,null,null,null,null,null,null,null,null,null,null,null,null,null,null,null,null,null,null,null,null,null,null,null,null,null,null,null,null,null,null,null,null,null,null,null,null,null,null,null,null,null,null,null,null,null,null,null,null,null,null,null,null,null,null,null,null,null,null,null,null,null,null,null,null,null,null,null,null,null,null,null,null,null,null,null,null,null,null,null,null,null,null,null,null,null,null,null,null,null,null,null,null,null,null,null,null,null,null,null,null,null,null,null,null,null,null,null,null,null,null,null,null,null,null,null,null,null,null,null,null,null,null,null,null,null,null,null,null,null,null,null,null,null,null,null,null,null,null,null,null,null,null,null,null,null,null,null,null,null,null,null,null,null,null,null,null,null,null,null,null,null,null,null,null,null,null,null,null,null,null,null,null,null,null,null,null,null,null,null,null,null,null,null,null,null,null,null,null,null,null,null,null,null,null,null,null,null,null,null,null,null,null,null,null,null,null,null,null,null,null,null,null,null,null,null,null,null,null,null,null,null,null,null,null,null,null,null,null,null,null,null,null,null,null,null,null,null,null,null,null,null,null,null,null,null,null,null,null,null,null,null,null,null,null,null,null,null,null,null,null,null,null,null,null,null,null,null,null,null,null,null,null,null,null,null,null,null,null,null,null,null,null,null,null,null,null,null,null,null,null,null,null,null,null,null,null,null,null,null,null,null,null,null,null,null,null,null,null,null,null,null,null,null,null,null,null,null,null,null,null,null,null,null,null,null,null,null,null,null,null,null,null,null,null,null,null,null,null,null,null,null,null,null,null,null,null,null,null,null,null,null,null,null,null,null,null,null,null,null,null,null,null,null,null,null,null,null,null,null,null,null,null,null,null,null,null,null,null,null,null,null,null,null,null,null,null,null,null,null,null,null,null,null,null,null,null,null,null,null,null,null,null,null,null,null,null,null,null,null,null,null,null,null,null,null,null,null,null,null,null,null,null,null,null,null,null,null,null,null,null,null,null,null,null,null,null,null,null,null,null,null,null,null,null,null,null,null,null,null,null,null,null,null,null,null,null,null,null,null,null,null,null,null,null,null,null,null,null,null,null,null,null,null,null,null,null,null,null,null,null,null,null,null,null,null,null,null,null,null,null,null,null,null,null,null,null,null,null,null,null,null,null,null,null,null,null,null,null,null,null,null,null,null,null,null,null,null,null,null,null,null,null,null,null,null,null,null,null,null,null,null,null,null,null,null,null,null,null,null,null,null,null,null,null,null,null,null,null,null,null,null,null,null,null,null,null,null,null,null,null,null,null,null,null,null,null,null,null,null,null,null,null,null,null,null,null,null,null,null,null,null,null,null,null,null,null,null,null,null,null,null,null,null,null,null,null,null,null,null,null,null,null,null,null,null,null,null,null,null,null,null,null,null,null,null,null,null,null,null,null,null,null,null,null,null,null,null,null,null,null,null,null,null,null,null,null,null,null,null,null,null,null,null,null,null,null,null,null,null,null,null,null,null,null,null,null,null,null,null,null,null,null,null,null,null,null,null,null,null,null,null,null,null,null,null,null,null,null,null,null,null,null,null,null,null,null,null,null,null,null,null,null,null,null,null,null,null,null,null,null,null,null,null,null,null,null,null,null,null,null,null,null,null,null,null,null,null,null,null,null,null,null,null,null,null,null,null,null,null,null,null,null,null,null,null,null,null,null,null,null,null,null,null,null,null,null,null,null,null,null,null,null,null,null,null,null,null,null,null,null,null,null,null,null,null,null,null,null,null,null,null,null,null,null,null,null,null,null,null,null,null,null,null,null,null,null,null,null,null,null,null,null,null,null,null,null,null,null,null,null,null,null,null,null,null,null,null,null,null,null,null,null,null,null,null,null,null,null,null,null,null,null,null,null,null,null,null,null,null,null,null,null,null,null,null,null,null,null,null,null,null,null,null,null,null,null,null,null,null,null,null,null,null,null,null,null,null,null,null,null,null,null,null,null,null,null,null,null,null,null,null,null,null,null,null,null,null,null,null,null,null,null,null,null,null,null,null,null,null,null,null,null,null,null,null,null,null,null,null,null,null,null,null,null,null,null,null,null,null,null,null,null,null,null,null,null,null,null,null,null,null,null,null,null,null,null,null,null,null,null,null,null,null,null,null,null,null,null,null,null,null,null,null,null,null,null,null,null,null,null,null,null,null,null,null,null,null,null,null,null,null,null,null,null,null,null,null,null,null,null,null,null,null,null,null,null,null,null,null,null,null,null,null,null,null,null,null,null,null,null,null,null,null,null,null,null,null,null,null,null,null,null,null,null,null,null,null,null,null,null,null,null,null,null,null,null,null,null,null,null,null,null,null,null,null,null,null,null,null,null,null,null,null,null,null,null,null,null,null,null,null,null,null,null,null,null,null,null,null,null,null,null,null,null,null,null,null,null,null,null,null,null,null,null,null,null,null,null,null,null,null,null,null,null,null,null,null,null,null,null,null,null,null,null,null,null,null,null,null,null,null,null,null,null,null,null,null,null,null,null,null,null,null,null,null,null,null,null,null,null,null,null,null,null,null,null,null,null,null,null,null,null,null,null,null,null,null,null,null,null,null,null,null,null,null,null,null,null,null,null,null,null,null,null,null,null,null,null,null,null,null,null,null,null,null,null,null,null,null,null,null,null,null,null,null,null,null,null,null,null,null,null,null,null,null,null,null,null,null,null,null,null,null,null,null,null,null,null,null,null,null,null,null,null,null,null,null,null,null,null,null,null,null,null,null,null,null,null,null,null,null,null,null,null,null,null,null,null,null,null,null,null,null,null,null,null,null,null,null,null,null,null,null,null,null,null,null,null,null,null,null,null,null,null,null,null,null,null,null,null,null,null,null,null,null,null,null,null,null,null,null,null,null,null,null,null,null,null,null,null,null,null,null,null,null,null,null,null,null,null,null,null,null,null,null,null,null,null,null,null,null,null,null,null,null,null,null,null,null,null,null,null,null,null,null,null,null,null,null,null,null,null,null,null,null,null,null,null,null,null,null,null,null,null,null,null,null,null,null,null,null,null,null,null,null,null,null,null,null,null,null,null,null,null,null,null,null,null,null,null,null,null,null,null,null,null,null,null,null,null,null,null,null,null,null,null,null,null,null,null,null,null,null,null,null,null,null,null,null,null,null,null,null,null,null,null,null,null,null,null,null,null,null,null,null,null,null,null,null,null,null,null,null,null,null,null,null,null,null,null,null,null,null,null,null,null,null,null,null,null,null,null,null,null,null,null,null,null,null,null,null,null,null,null,null,null,null,null,null,null,null,null,null,null,null,null,null,null,null,null,null,null,null,null,null,null,null,null,null,null,null,null,null,null,null,null,null,null,null,null,null,null,null,null,null,null,null,null,null,null,null,null,null,null,null,null,null,null,null,null,null,null,null,null,null,null,null,null,null,null,null,null,null,null,null,null,null,null,null,null,null,null,null,null,null,null,null,null,null,null,null,null,null,null,null,null,null,null,null,null,null,null,null,null,null,null,null,null,null,null,null,null,null,null,null,null,null,null,null,null,null,null,null,null,null,null,null,null,null,null,null,null,null,null,null,null,null,null,null,null,null,null,null,null,null,null,null,null,null,null,null,null,null,null,null,null,null,null,null,null,null,null,null,null,null,null,null,null,null,null,null,null,null,null,null,null,null,null,null,null,null,null,null,null,null,null,null,null,null,null,null,null,null,null,null,null,null,null,null,null,null,null,null,null,null,null,null,null,null,null,null,null,null,null,null,null,null,null,null,null,null,null,null,null,null,null,null,null,null,null,null,null,null,null,null,null,null,null,null,null,null,null,null,null,null,null,null,null,null,null,null,null,null,null,null,null,null,null,null,null,null,null,null,null,null,null,null,null,null,null,null,null,null,null,null,null,null,null,null,null,null,null,null,null,null,null,null,null,null,null,null,null,null,null,null,null,null,null,null,null,null,null,null,null,null,null,null,null,null,null,null,null,null,null,null,null,null,null,null,null,null,null,null,null,null,null,null,null,null,null,null,null,null,null,null,null,null,null,null,null,null,null,null,null,null,null,null,null,null,null,null,null,null,null,null,2,2,null,null,null,null,null,null,null,null,null,null,null,null,null,null,null,null,null,null,null,null,null,null,null,null,null,null,null,null,null,null,null,null,null,null,null,null,null,null,null,null,null,null,null,null,null,null,null,null,null,null,null,null,null,null,null,null,null,null,null,null,null,null,null,null,null,null,null,null,null,null,null,null,null,null,null,null,null,null,null,null,null,null,null,null,null,null,null,null,null,null,null,null,null,null,null,null,null,null,null,null,null,null,null,null,null,null,null,null,null,null,null,null,null,null,null,null,null,null,null,null,null,null,null,null,null,null,null,null,null,null,null,null,null,null,null,null,null,null,null,null,null,null,null,null,null,null,null,null,null,null,null,null,null,null,null,null,null,null,null,null,null,null,null,null,null,null,null,null,null,null,null,null,null,null,null,null,null,null,null,null,null,null,null,null,null,null,null,null,null,null,null,null,null,null,null,null,null,null,null,null,null,null,null,null,null,null,null,null,null,null,null,null,null,null,null,null,null,null,null,null,null,null,null,null,null,null,null,null,null,null,null,null,null,null,null,null,null,null,null,null,null,null,null,null,null,null,null,null,null,null,null,null,null,null,null,null,null,null,null,null,null,null,null,null,null,null,null,null,null,null,null,null,null,null,null,null,null,null,null,null,null,null,null,null,null,null,null,null,null,null,null,null,null,null,null,null,null,null,null,null,null,null,null,null,null,null,null,null,null,null,null,null,null,null,null,null,null,null,null,null,null,null,null,null,null,null,null,null,null,null,null,null,null,null,null,null,null,null,null,null,null,null,null,null,null,null,null,null,null,null,null,null,null,null,null,null,null,null,null,null,null,null,null,null,null,null,null,null,null,null,null,null,null,null,null,null,null,null,null,null,null,null,null,null,null,null,null,null,null,null,null,null,null,null,null,null,null,null,null,null,null,null,null,null,null,null,null,null,null,null,null,null,null,null,null,null,null,null,null,null,null,null,null,null,null,null,null,null,null,null,null,null,null,null,null,null,null,null,null,null,null,null,null,null,null,null,null,null,null,null,null,null,null,null,null,null,null,50,1,2,3,2,1,1,0,0,0,0,0,0,3,2,null,null,null,null,null,null,2,null,2,null,null,"2013-11-27T02:15:00","2013-11-27T02:16:00",null,528,5,"Firefox 23.0","Windows XP","209.112.172.118"]
[849,85965,1,"849_85965_1",{"$f":"VLOOKUP(D2072,'Lives in SA (Zip)'!$B$4:$E$3989,4,FALSE)","v":0},"ce",2,null,0,{"$f":"(VLOOKUP(AP2072,PolicySites!$B$5:$F$122,5,FALSE)*AZ2072)+(VLOOKUP(AQ2072,PolicySites!$B$5:$F$122,5,FALSE)*BA2072)+(VLOOKUP(AR2072,PolicySites!$B$5:$F$122,5,FALSE)*BB2072)+(VLOOKUP(AS2072,PolicySites!$B$5:$F$122,5,FALSE)*BC2072)+(VLOOKUP(AT2072,PolicySites!$B$5:$F$122,5,FALSE)*BD2072)+(VLOOKUP(AU2072,PolicySites!$B$5:$F$122,5,FALSE)*BE2072)+(VLOOKUP(AV2072,PolicySites!$B$5:$F$122,5,FALSE)*BF2072)+(VLOOKUP(AW2072,PolicySites!$B$5:$F$122,5,FALSE)*BG2072)+(VLOOKUP(AX2072,PolicySites!$B$5:$F$122,5,FALSE)*BH2072)+(VLOOKUP(AY2072,PolicySites!$B$5:$F$122,5,FALSE)*BI2072)","v":0},null,null,null,null,null,null,null,null,null,null,null,null,null,null,null,null,null,null,null,null,null,"--","--","--","--","--","--","--","--","--","--",{"$f":"IFERROR(VLOOKUP(AF2072,'Site Codes'!$V$4:$Y$164,4,FALSE),0)","v":0},{"$f":"IFERROR(VLOOKUP(AG2072,'Site Codes'!$V$4:$Y$164,4,FALSE),0)","v":0},{"$f":"IFERROR(VLOOKUP(AH2072,'Site Codes'!$V$4:$Y$164,4,FALSE),0)","v":0},{"$f":"IFERROR(VLOOKUP(AI2072,'Site Codes'!$V$4:$Y$164,4,FALSE),0)","v":0},{"$f":"IFERROR(VLOOKUP(AJ2072,'Site Codes'!$V$4:$Y$164,4,FALSE),0)","v":0},{"$f":"IFERROR(VLOOKUP(AK2072,'Site Codes'!$V$4:$Y$164,4,FALSE),0)","v":0},{"$f":"IFERROR(VLOOKUP(AL2072,'Site Codes'!$V$4:$Y$164,4,FALSE),0)","v":0},{"$f":"IFERROR(VLOOKUP(AM2072,'Site Codes'!$V$4:$Y$164,4,FALSE),0)","v":0},{"$f":"IFERROR(VLOOKUP(AN2072,'Site Codes'!$V$4:$Y$164,4,FALSE),0)","v":0},{"$f":"IFERROR(VLOOKUP(AO2072,'Site Codes'!$V$4:$Y$164,4,FALSE),0)","v":0},null,null,null,null,null,null,null,null,null,null,null,null,null,null,null,null,null,null,null,null,null,null,null,null,null,null,null,null,null,null,null,null,null,null,null,null,null,null,null,null,null,null,null,null,null,null,null,null,null,null,null,null,null,null,null,null,null,null,null,null,null,null,null,null,null,null,null,null,null,null,null,null,null,null,null,null,null,null,null,null,null,null,null,null,null,null,null,null,null,null,null,null,null,null,null,null,null,null,null,null,null,null,null,null,null,null,null,null,null,null,null,null,null,null,null,null,null,null,null,null,null,null,null,null,null,null,null,null,null,null,null,null,null,null,null,null,null,null,null,null,null,null,null,null,null,null,null,null,null,null,null,null,null,null,null,null,null,null,null,null,null,null,null,null,null,null,null,null,null,null,null,null,null,null,null,null,null,null,null,null,null,null,null,null,null,null,null,null,null,null,null,null,null,null,null,null,null,null,null,null,null,null,null,null,null,null,null,null,null,null,null,null,null,null,null,null,null,null,null,null,null,null,null,null,null,null,null,null,null,null,null,null,null,null,null,null,null,null,null,null,null,null,null,null,null,null,null,null,null,null,null,null,null,null,null,null,null,null,null,null,null,null,null,null,null,null,null,null,null,null,null,null,null,null,null,null,null,null,null,null,null,null,null,null,null,null,null,null,null,null,null,null,null,null,null,null,null,null,null,null,null,null,null,null,null,null,null,null,null,null,null,null,null,null,null,null,null,null,null,null,null,null,null,null,null,null,null,null,null,null,null,null,null,null,null,null,null,null,null,null,null,null,null,null,null,null,null,null,null,null,null,null,null,null,null,null,null,null,null,null,null,null,null,null,null,null,null,null,null,null,null,null,null,null,null,null,null,null,null,null,null,null,null,null,null,null,null,null,null,null,null,null,null,null,null,null,null,null,null,null,null,null,null,null,null,null,null,null,null,null,null,null,null,null,null,null,null,null,null,null,null,null,null,null,null,null,null,null,null,null,null,null,null,null,null,null,null,null,null,null,null,null,null,null,null,null,null,null,null,null,null,null,null,null,null,null,null,null,null,null,null,null,null,null,null,null,null,null,null,null,null,null,null,null,null,null,null,null,null,null,null,null,null,null,null,null,null,null,null,null,null,null,null,null,null,null,null,null,null,null,null,null,null,null,null,null,null,null,null,null,null,null,null,null,null,null,null,null,null,null,null,null,null,null,null,null,null,null,null,null,null,null,null,null,null,null,null,null,null,null,null,null,null,null,null,null,null,null,null,null,null,null,null,null,null,null,null,null,null,null,null,null,null,null,null,null,null,null,null,null,null,null,null,null,null,null,null,null,null,null,null,null,null,null,null,null,null,null,null,null,null,null,null,null,null,null,null,null,null,null,null,null,null,null,null,null,null,null,null,null,null,null,null,null,null,null,null,null,null,null,null,null,null,null,null,null,null,null,null,null,null,null,null,null,null,null,null,null,null,null,null,null,null,null,null,null,null,null,null,null,null,null,null,null,null,null,null,null,null,null,null,null,null,null,null,null,null,null,null,null,null,null,null,null,null,null,null,null,null,null,null,null,null,null,null,null,null,null,null,null,null,null,null,null,null,null,null,null,null,null,null,null,null,null,null,null,null,null,null,null,null,null,null,null,null,null,null,null,null,null,null,null,null,null,null,null,null,null,null,null,null,null,null,null,null,null,null,null,null,null,null,null,null,null,null,null,null,null,null,null,null,null,null,null,null,null,null,null,null,null,null,null,null,null,null,null,null,null,null,null,null,null,null,null,null,null,null,null,null,null,null,null,null,null,null,null,null,null,null,null,null,null,null,null,null,null,null,null,null,null,null,null,null,null,null,null,null,null,null,null,null,null,null,null,null,null,null,null,null,null,null,null,null,null,null,null,null,null,null,null,null,null,null,null,null,null,null,null,null,null,null,null,null,null,null,null,null,null,null,null,null,null,null,null,null,null,null,null,null,null,null,null,null,null,null,null,null,null,null,null,null,null,null,null,null,null,null,null,null,null,null,null,null,null,null,null,null,null,null,null,null,null,null,null,null,null,null,null,null,null,null,null,null,null,null,null,null,null,null,null,null,null,null,null,null,null,null,null,null,null,null,null,null,null,null,null,null,null,null,null,null,null,null,null,null,null,null,null,null,null,null,null,null,null,null,null,null,null,null,null,null,null,null,null,null,null,null,null,null,null,null,null,null,null,null,null,null,null,null,null,null,null,null,null,null,null,null,null,null,null,null,null,null,null,null,null,null,null,null,null,null,null,null,null,null,null,null,null,null,null,null,null,null,null,null,null,null,null,null,null,null,null,null,null,null,null,null,null,null,null,null,null,null,null,null,null,null,null,null,null,null,null,null,null,null,null,null,null,null,null,null,null,null,null,null,null,null,null,null,null,null,null,null,null,null,null,null,null,null,null,null,null,null,null,null,null,null,null,null,null,null,null,null,null,null,null,null,null,null,null,null,null,null,null,null,null,null,null,null,null,null,null,null,null,null,null,null,null,null,null,null,null,null,null,null,null,null,null,null,null,null,null,null,null,null,null,null,null,null,null,null,null,null,null,null,null,null,null,null,null,null,null,null,null,null,null,null,null,null,null,null,null,null,null,null,null,null,null,null,null,null,null,null,null,null,null,null,null,null,null,null,null,null,null,null,null,null,null,null,null,null,null,null,null,null,null,null,null,null,null,null,null,null,null,null,null,null,null,null,null,null,null,null,null,null,null,null,null,null,null,null,null,null,null,null,null,null,null,null,null,null,null,null,null,null,null,null,null,null,null,null,null,null,null,null,null,null,null,null,null,null,null,null,null,null,null,null,null,null,null,null,null,null,null,null,null,null,null,null,null,null,null,null,null,null,null,null,null,null,null,null,null,null,null,null,null,null,null,null,null,null,null,null,null,null,null,null,null,null,null,null,null,null,null,null,null,null,null,null,null,null,null,null,null,null,null,null,null,null,null,null,null,null,null,null,null,null,null,null,null,null,null,null,null,null,null,null,null,null,null,null,null,null,null,null,null,null,null,null,null,null,null,null,null,null,null,null,null,null,null,null,null,null,null,null,null,null,null,null,null,null,null,null,null,null,null,null,null,null,null,null,null,null,null,null,null,null,null,null,null,null,null,null,null,null,null,null,null,null,null,null,null,null,null,null,null,null,null,null,null,null,null,null,null,null,null,null,null,null,null,null,null,null,null,null,null,null,null,null,null,null,null,null,null,null,null,null,null,null,null,null,null,null,null,null,null,null,null,null,null,null,null,null,null,null,null,null,null,null,null,null,null,null,null,null,null,null,null,null,null,null,null,null,null,null,null,null,null,null,null,null,null,null,null,null,null,null,null,null,null,null,null,null,null,null,null,null,null,null,null,null,null,null,null,null,null,null,null,null,null,null,null,null,null,null,null,null,null,null,null,null,null,null,null,null,null,null,null,null,null,null,null,null,null,null,null,null,null,null,null,null,null,null,null,null,null,null,null,null,null,null,null,null,null,null,null,null,null,null,null,null,null,null,null,null,null,null,null,null,null,null,null,null,null,null,null,null,null,null,null,null,null,null,null,null,null,null,null,null,null,null,null,null,null,null,null,null,null,null,null,null,null,null,null,null,null,null,null,null,null,null,null,null,null,null,null,null,null,null,null,null,null,null,null,null,null,null,null,null,null,null,null,null,null,null,null,null,null,null,null,null,null,null,null,null,null,null,null,null,null,null,null,null,null,null,null,null,null,null,null,null,null,null,null,null,null,null,null,null,null,null,null,null,null,null,null,null,null,null,null,null,null,null,null,null,null,null,null,null,null,null,null,null,null,null,null,null,null,null,null,null,null,null,null,null,null,null,null,null,null,null,null,null,null,null,null,null,null,null,null,null,null,null,null,null,null,null,null,null,null,null,null,null,null,null,null,null,null,null,null,null,null,null,null,null,null,null,null,null,null,null,null,null,null,null,null,null,null,null,null,null,null,null,null,null,null,null,null,null,null,null,null,null,null,null,null,null,null,null,null,null,null,null,null,null,null,null,null,null,null,null,null,null,null,null,null,null,null,null,null,null,null,null,null,null,null,null,null,null,null,null,null,null,null,null,null,null,null,null,null,null,null,null,null,null,null,null,null,null,null,null,null,null,null,null,null,null,null,null,null,null,null,null,null,null,null,null,null,null,null,null,null,null,null,null,null,null,null,null,null,null,null,null,null,null,null,null,null,null,null,2,2,null,null,null,null,null,null,null,null,null,null,null,null,null,null,null,null,null,null,null,null,null,null,null,null,null,null,null,null,null,null,null,null,null,null,null,null,null,null,null,null,null,null,null,null,null,null,null,null,null,null,null,null,null,null,null,null,null,null,null,null,null,null,null,null,null,null,null,null,null,null,null,null,null,null,null,null,null,null,null,null,null,null,null,null,null,null,null,null,null,null,null,null,null,null,null,null,null,null,null,null,null,null,null,null,null,null,null,null,null,null,null,null,null,null,null,null,null,null,null,null,null,null,null,null,null,null,null,null,null,null,null,null,null,null,null,null,null,null,null,null,null,null,null,null,null,null,null,null,null,null,null,null,null,null,null,null,null,null,null,null,null,null,null,null,null,null,null,null,null,null,null,null,null,null,null,null,null,null,null,null,null,null,null,null,null,null,null,null,null,null,null,null,null,null,null,null,null,null,null,null,null,null,null,null,null,null,null,null,null,null,null,null,null,null,null,null,null,null,null,null,null,null,null,null,null,null,null,null,null,null,null,null,null,null,null,null,null,null,null,null,null,null,null,null,null,null,null,null,null,null,null,null,null,null,null,null,null,null,null,null,null,null,null,null,null,null,null,null,null,null,null,null,null,null,null,null,null,null,null,null,null,null,null,null,null,null,null,null,null,null,null,null,null,null,null,null,null,null,null,null,null,null,null,null,null,null,null,null,null,null,null,null,null,null,null,null,null,null,null,null,null,null,null,null,null,null,null,null,null,null,null,null,null,null,null,null,null,null,null,null,null,null,null,null,null,null,null,null,null,null,null,null,null,null,null,null,null,null,null,null,null,null,null,null,null,null,null,null,null,null,null,null,null,null,null,null,null,null,null,null,null,null,null,null,null,null,null,null,null,null,null,null,null,null,null,null,null,null,null,null,null,null,null,null,null,null,null,null,null,null,null,null,null,null,null,null,null,null,null,null,null,null,null,null,null,null,null,null,null,null,null,null,null,null,null,null,null,null,null,null,null,null,null,null,null,null,null,null,null,null,null,null,null,null,null,null,null,88,2,2,1,2,1,0,0,0,1,0,0,0,4,2,null,null,null,null,null,null,1,"Anvik River",1,null,"907-663-6363","2013-12-29T21:51:00","2013-12-29T21:57:00",null,1186,5,"Firefox 23.0","Windows XP","209.112.172.118"]
[1040,32511,1,"1040_32511_1",{"$f":"VLOOKUP(D2189,'Lives in SA (Zip)'!$B$4:$E$3989,4,FALSE)","v":0},"ce",null,0,1,{"$f":"(VLOOKUP(AP2189,PolicySites!$B$5:$F$122,5,FALSE)*AZ2189)+(VLOOKUP(AQ2189,PolicySites!$B$5:$F$122,5,FALSE)*BA2189)+(VLOOKUP(AR2189,PolicySites!$B$5:$F$122,5,FALSE)*BB2189)+(VLOOKUP(AS2189,PolicySites!$B$5:$F$122,5,FALSE)*BC2189)+(VLOOKUP(AT2189,PolicySites!$B$5:$F$122,5,FALSE)*BD2189)+(VLOOKUP(AU2189,PolicySites!$B$5:$F$122,5,FALSE)*BE2189)+(VLOOKUP(AV2189,PolicySites!$B$5:$F$122,5,FALSE)*BF2189)+(VLOOKUP(AW2189,PolicySites!$B$5:$F$122,5,FALSE)*BG2189)+(VLOOKUP(AX2189,PolicySites!$B$5:$F$122,5,FALSE)*BH2189)+(VLOOKUP(AY2189,PolicySites!$B$5:$F$122,5,FALSE)*BI2189)","v":0},null,null,null,null,null,null,null,null,null,null,null,null,null,null,null,null,null,null,null,null,null,"--","--","--","--","--","--","--","--","--","--",{"$f":"IFERROR(VLOOKUP(AF2189,'Site Codes'!$V$4:$Y$164,4,FALSE),0)","v":0},{"$f":"IFERROR(VLOOKUP(AG2189,'Site Codes'!$V$4:$Y$164,4,FALSE),0)","v":0},{"$f":"IFERROR(VLOOKUP(AH2189,'Site Codes'!$V$4:$Y$164,4,FALSE),0)","v":0},{"$f":"IFERROR(VLOOKUP(AI2189,'Site Codes'!$V$4:$Y$164,4,FALSE),0)","v":0},{"$f":"IFERROR(VLOOKUP(AJ2189,'Site Codes'!$V$4:$Y$164,4,FALSE),0)","v":0},{"$f":"IFERROR(VLOOKUP(AK2189,'Site Codes'!$V$4:$Y$164,4,FALSE),0)","v":0},{"$f":"IFERROR(VLOOKUP(AL2189,'Site Codes'!$V$4:$Y$164,4,FALSE),0)","v":0},{"$f":"IFERROR(VLOOKUP(AM2189,'Site Codes'!$V$4:$Y$164,4,FALSE),0)","v":0},{"$f":"IFERROR(VLOOKUP(AN2189,'Site Codes'!$V$4:$Y$164,4,FALSE),0)","v":0},{"$f":"IFERROR(VLOOKUP(AO2189,'Site Codes'!$V$4:$Y$164,4,FALSE),0)","v":0},null,null,null,null,null,null,null,null,null,null,null,null,null,null,null,null,null,null,null,null,null,null,null,null,null,null,null,null,null,null,null,null,null,null,null,null,null,null,null,null,null,null,null,null,null,null,null,null,null,null,null,null,null,null,null,null,null,null,null,null,null,null,null,null,null,null,null,null,null,null,null,null,null,null,null,null,null,null,null,null,null,null,null,null,null,null,null,null,null,null,null,null,null,null,null,null,null,null,null,null,null,null,null,null,null,null,null,null,null,null,null,null,null,null,null,null,null,null,null,null,null,null,null,null,null,null,null,null,null,null,null,null,null,null,null,null,null,null,null,null,null,null,null,null,null,null,null,null,null,null,null,null,null,null,null,null,null,null,null,null,null,null,null,null,null,null,null,null,null,null,null,null,null,null,null,null,null,null,null,null,null,null,null,null,null,null,null,null,null,null,null,null,null,null,null,null,null,null,null,null,null,null,null,null,null,null,null,null,null,null,null,null,null,null,null,null,null,null,null,null,null,null,null,null,null,null,null,null,null,null,null,null,null,null,null,null,null,null,null,null,null,null,null,null,null,null,null,null,null,null,null,null,null,null,null,null,null,null,null,null,null,null,null,null,null,null,null,null,null,null,null,null,null,null,null,null,null,null,null,null,null,null,null,null,null,null,null,null,null,null,null,null,null,null,null,null,null,null,null,null,null,null,null,null,null,null,null,null,null,null,null,null,null,null,null,null,null,null,null,null,null,null,null,null,null,null,null,null,null,null,null,null,null,null,null,null,null,null,null,null,null,null,null,null,null,null,null,null,null,null,null,null,null,null,null,null,null,null,null,null,null,null,null,null,null,null,null,null,null,null,null,null,null,null,null,null,null,null,null,null,null,null,null,null,null,null,null,null,null,null,null,null,null,null,null,null,null,null,null,null,null,null,null,null,null,null,null,null,null,null,null,null,null,null,null,null,null,null,null,null,null,null,null,null,null,null,null,null,null,null,null,null,null,null,null,null,null,null,null,null,null,null,null,null,null,null,null,null,null,null,null,null,null,null,null,null,null,null,null,null,null,null,null,null,null,null,null,null,null,null,null,null,null,null,null,null,null,null,null,null,null,null,null,null,null,null,null,null,null,null,null,null,null,null,null,null,null,null,null,null,null,null,null,null,null,null,null,null,null,null,null,null,null,null,null,null,null,null,null,null,null,null,null,null,null,null,null,null,null,null,null,null,null,null,null,null,null,null,null,null,null,null,null,null,null,null,null,null,null,null,null,null,null,null,null,null,null,null,null,null,null,null,null,null,null,null,null,null,null,null,null,null,null,null,null,null,null,null,null,null,null,null,null,null,null,null,null,null,null,null,null,null,null,null,null,null,null,null,null,null,null,null,null,null,null,null,null,null,null,null,null,null,null,null,null,null,null,null,null,null,null,null,null,null,null,null,null,null,null,null,null,null,null,null,null,null,null,null,null,null,null,null,null,null,null,null,null,null,null,null,null,null,null,null,null,null,null,null,null,null,null,null,null,null,null,null,null,null,null,null,null,null,null,null,null,null,null,null,null,null,null,null,null,null,null,null,null,null,null,null,null,null,null,null,null,null,null,null,null,null,null,null,null,null,null,null,null,null,null,null,null,null,null,null,null,null,null,null,null,null,null,null,null,null,null,null,null,null,null,null,null,null,null,null,null,null,null,null,null,null,null,null,null,null,null,null,null,null,null,null,null,null,null,null,null,null,null,null,null,null,null,null,null,null,null,null,null,null,null,null,null,null,null,null,null,null,null,null,null,null,null,null,null,null,null,null,null,null,null,null,null,null,null,null,null,null,null,null,null,null,null,null,null,null,null,null,null,null,null,null,null,null,null,null,null,null,null,null,null,null,null,null,null,null,null,null,null,null,null,null,null,null,null,null,null,null,null,null,null,null,null,null,null,null,null,null,null,null,null,null,null,null,null,null,null,null,null,null,null,null,null,null,null,null,null,null,null,null,null,null,null,null,null,null,null,null,null,null,null,null,null,null,null,null,null,null,null,null,null,null,null,null,null,null,null,null,null,null,null,null,null,null,null,null,null,null,null,null,null,null,null,null,null,null,null,null,null,null,null,null,null,null,null,null,null,null,null,null,null,null,null,null,null,null,null,null,null,null,null,null,null,null,null,null,null,null,null,null,null,null,null,null,null,null,null,null,null,null,null,null,null,null,null,null,null,null,null,null,null,null,null,null,null,null,null,null,null,null,null,null,null,null,null,null,null,null,null,null,null,null,null,null,null,null,null,null,null,null,null,null,null,null,null,null,null,null,null,null,null,null,null,null,null,null,null,null,null,null,null,null,null,null,null,null,null,null,null,null,null,null,null,null,null,null,null,null,null,null,null,null,null,null,null,null,null,null,null,null,null,null,null,null,null,null,null,null,null,null,null,null,null,null,null,null,null,null,null,null,null,null,null,null,null,null,null,null,null,null,null,null,null,null,null,null,null,null,null,null,null,null,null,null,null,null,null,null,null,null,null,null,null,null,null,null,null,null,null,null,null,null,null,null,null,null,null,null,null,null,null,null,null,null,null,null,null,null,null,null,null,null,null,null,null,null,null,null,null,null,null,null,null,null,null,null,null,null,null,null,null,null,null,null,null,null,null,null,null,null,null,null,null,null,null,null,null,null,null,null,null,null,null,null,null,null,null,null,null,null,null,null,null,null,null,null,null,null,null,null,null,null,null,null,null,null,null,null,null,null,null,null,null,null,null,null,null,null,null,null,null,null,null,null,null,null,null,null,null,null,null,null,null,null,null,null,null,null,null,null,null,null,null,null,null,null,null,null,null,null,null,null,null,null,null,null,null,null,null,null,null,null,null,null,null,null,null,null,null,null,null,null,null,null,null,null,null,null,null,null,null,null,null,null,null,null,null,null,null,null,null,null,null,null,null,null,null,null,null,null,null,null,null,null,null,null,null,null,null,null,null,null,null,null,null,null,null,null,null,null,null,null,null,null,null,null,null,null,null,null,null,null,null,null,null,null,null,null,null,null,null,null,null,null,null,null,null,null,null,null,null,null,null,null,null,null,null,null,null,null,null,null,null,null,null,null,null,null,null,null,null,null,null,null,null,null,null,null,null,null,null,null,null,null,null,null,null,null,null,null,null,null,null,null,null,null,null,null,null,null,null,null,null,null,null,null,null,null,null,null,null,null,null,null,null,null,null,null,null,null,null,null,null,null,null,null,null,null,null,null,null,null,null,null,null,null,null,null,null,null,null,null,null,null,null,null,null,null,null,null,null,null,null,null,null,null,null,null,null,null,null,null,null,null,null,null,null,null,null,null,null,null,null,null,null,null,null,null,null,null,null,null,null,null,null,null,null,null,null,null,null,null,null,null,null,null,null,null,null,null,null,null,null,null,null,null,null,null,null,null,null,null,null,null,null,null,null,null,null,null,null,null,null,null,null,null,null,null,null,null,null,null,null,null,null,null,null,null,null,null,null,null,null,null,null,null,null,null,null,null,null,null,null,null,null,null,null,null,null,null,null,null,null,null,null,null,null,null,null,null,null,null,null,null,null,null,null,null,null,null,null,null,null,null,null,null,null,null,null,null,null,null,null,null,null,null,null,null,null,null,null,null,null,null,null,null,null,null,null,null,null,null,null,null,null,null,null,null,null,null,null,null,null,null,null,null,null,null,null,null,null,null,null,null,null,null,null,null,null,null,null,null,null,null,null,null,null,null,null,null,null,null,null,null,null,null,null,null,null,null,null,null,null,null,null,null,null,null,null,null,null,null,null,null,null,null,null,null,null,null,null,null,null,null,null,null,null,null,null,null,null,null,null,null,null,null,null,null,null,null,null,null,null,null,null,null,null,null,null,null,null,null,null,null,null,null,null,null,null,null,null,null,null,null,null,null,null,null,null,null,null,null,null,null,null,null,null,null,null,null,null,null,null,null,null,null,null,null,null,null,null,null,null,null,null,null,null,null,null,null,null,null,null,null,null,null,null,null,null,null,null,null,null,null,null,null,null,null,null,null,null,null,null,null,null,null,null,null,null,null,null,null,null,null,null,null,null,null,null,null,null,null,null,null,null,null,null,null,null,null,null,null,null,null,null,null,null,null,null,null,null,null,null,null,null,null,null,null,null,null,null,null,null,null,null,null,null,null,null,null,null,null,null,null,null,null,null,null,null,null,null,null,null,null,null,null,null,null,null,null,null,null,2,2,null,null,null,null,null,null,null,null,null,null,null,null,null,null,null,null,null,null,null,null,null,null,null,null,null,null,null,null,null,null,null,null,null,null,null,null,null,null,null,null,null,null,null,null,null,null,null,null,null,null,null,null,null,null,null,null,null,null,null,null,null,null,null,null,null,null,null,null,null,null,null,null,null,null,null,null,null,null,null,null,null,null,null,null,null,null,null,null,null,null,null,null,null,null,null,null,null,null,null,null,null,null,null,null,null,null,null,null,null,null,null,null,null,null,null,null,null,null,null,null,null,null,null,null,null,null,null,null,null,null,null,null,null,null,null,null,null,null,null,null,null,null,null,null,null,null,null,null,null,null,null,null,null,null,null,null,null,null,null,null,null,null,null,null,null,null,null,null,null,null,null,null,null,null,null,null,null,null,null,null,null,null,null,null,null,null,null,null,null,null,null,null,null,null,null,null,null,null,null,null,null,null,null,null,null,null,null,null,null,null,null,null,null,null,null,null,null,null,null,null,null,null,null,null,null,null,null,null,null,null,null,null,null,null,null,null,null,null,null,null,null,null,null,null,null,null,null,null,null,null,null,null,null,null,null,null,null,null,null,null,null,null,null,null,null,null,null,null,null,null,null,null,null,null,null,null,null,null,null,null,null,null,null,null,null,null,null,null,null,null,null,null,null,null,null,null,null,null,null,null,null,null,null,null,null,null,null,null,null,null,null,null,null,null,null,null,null,null,null,null,null,null,null,null,null,null,null,null,null,null,null,null,null,null,null,null,null,null,null,null,null,null,null,null,null,null,null,null,null,null,null,null,null,null,null,null,null,null,null,null,null,null,null,null,null,null,null,null,null,null,null,null,null,null,null,null,null,null,null,null,null,null,null,null,null,null,null,null,null,null,null,null,null,null,null,null,null,null,null,null,null,null,null,null,null,null,null,null,null,null,null,null,null,null,null,null,null,null,null,null,null,null,null,null,null,null,null,null,null,null,null,null,null,null,null,null,null,null,null,null,null,null,null,null,null,null,null,null,null,null,null,null,null,null,null,null,null,45,2,null,null,null,null,0,0,0,0,0,0,0,null,null,0,0,0,0,0,null,null,null,2,null,null,"2014-01-15T03:52:00","2014-01-15T03:55:00",null,15217,5,"Firefox 23.0","Windows XP","209.112.172.118"]
[520,90585,1,"520_90585_1",{"$f":"VLOOKUP(D2281,'Lives in SA (Zip)'!$B$4:$E$3989,4,FALSE)","v":0},"ce",null,0,1,{"$f":"(VLOOKUP(AP2281,PolicySites!$B$5:$F$122,5,FALSE)*AZ2281)+(VLOOKUP(AQ2281,PolicySites!$B$5:$F$122,5,FALSE)*BA2281)+(VLOOKUP(AR2281,PolicySites!$B$5:$F$122,5,FALSE)*BB2281)+(VLOOKUP(AS2281,PolicySites!$B$5:$F$122,5,FALSE)*BC2281)+(VLOOKUP(AT2281,PolicySites!$B$5:$F$122,5,FALSE)*BD2281)+(VLOOKUP(AU2281,PolicySites!$B$5:$F$122,5,FALSE)*BE2281)+(VLOOKUP(AV2281,PolicySites!$B$5:$F$122,5,FALSE)*BF2281)+(VLOOKUP(AW2281,PolicySites!$B$5:$F$122,5,FALSE)*BG2281)+(VLOOKUP(AX2281,PolicySites!$B$5:$F$122,5,FALSE)*BH2281)+(VLOOKUP(AY2281,PolicySites!$B$5:$F$122,5,FALSE)*BI2281)","v":0},null,null,null,null,null,null,null,null,null,null,null,null,null,null,null,null,null,null,null,null,null,"--","--","--","--","--","--","--","--","--","--",{"$f":"IFERROR(VLOOKUP(AF2281,'Site Codes'!$V$4:$Y$164,4,FALSE),0)","v":0},{"$f":"IFERROR(VLOOKUP(AG2281,'Site Codes'!$V$4:$Y$164,4,FALSE),0)","v":0},{"$f":"IFERROR(VLOOKUP(AH2281,'Site Codes'!$V$4:$Y$164,4,FALSE),0)","v":0},{"$f":"IFERROR(VLOOKUP(AI2281,'Site Codes'!$V$4:$Y$164,4,FALSE),0)","v":0},{"$f":"IFERROR(VLOOKUP(AJ2281,'Site Codes'!$V$4:$Y$164,4,FALSE),0)","v":0},{"$f":"IFERROR(VLOOKUP(AK2281,'Site Codes'!$V$4:$Y$164,4,FALSE),0)","v":0},{"$f":"IFERROR(VLOOKUP(AL2281,'Site Codes'!$V$4:$Y$164,4,FALSE),0)","v":0},{"$f":"IFERROR(VLOOKUP(AM2281,'Site Codes'!$V$4:$Y$164,4,FALSE),0)","v":0},{"$f":"IFERROR(VLOOKUP(AN2281,'Site Codes'!$V$4:$Y$164,4,FALSE),0)","v":0},{"$f":"IFERROR(VLOOKUP(AO2281,'Site Codes'!$V$4:$Y$164,4,FALSE),0)","v":0},null,null,null,null,null,null,null,null,null,null,null,null,null,null,null,null,null,null,null,null,null,null,null,null,null,null,null,null,null,null,null,null,null,null,null,null,null,null,null,null,null,null,null,null,null,null,null,null,null,null,null,null,null,null,null,null,null,null,null,null,null,null,null,null,null,null,null,null,null,null,null,null,null,null,null,null,null,null,null,null,null,null,null,null,null,null,null,null,null,null,null,null,null,null,null,null,null,null,null,null,null,null,null,null,null,null,null,null,null,null,null,null,null,null,null,null,null,null,null,null,null,null,null,null,null,null,null,null,null,null,null,null,null,null,null,null,null,null,null,null,null,null,null,null,null,null,null,null,null,null,null,null,null,null,null,null,null,null,null,null,null,null,null,null,null,null,null,null,null,null,null,null,null,null,null,null,null,null,null,null,null,null,null,null,null,null,null,null,null,null,null,null,null,null,null,null,null,null,null,null,null,null,null,null,null,null,null,null,null,null,null,null,null,null,null,null,null,null,null,null,null,null,null,null,null,null,null,null,null,null,null,null,null,null,null,null,null,null,null,null,null,null,null,null,null,null,null,null,null,null,null,null,null,null,null,null,null,null,null,null,null,null,null,null,null,null,null,null,null,null,null,null,null,null,null,null,null,null,null,null,null,null,null,null,null,null,null,null,null,null,null,null,null,null,null,null,null,null,null,null,null,null,null,null,null,null,null,null,null,null,null,null,null,null,null,null,null,null,null,null,null,null,null,null,null,null,null,null,null,null,null,null,null,null,null,null,null,null,null,null,null,null,null,null,null,null,null,null,null,null,null,null,null,null,null,null,null,null,null,null,null,null,null,null,null,null,null,null,null,null,null,null,null,null,null,null,null,null,null,null,null,null,null,null,null,null,null,null,null,null,null,null,null,null,null,null,null,null,null,null,null,null,null,null,null,null,null,null,null,null,null,null,null,null,null,null,null,null,null,null,null,null,null,null,null,null,null,null,null,null,null,null,null,null,null,null,null,null,null,null,null,null,null,null,null,null,null,null,null,null,null,null,null,null,null,null,null,null,null,null,null,null,null,null,null,null,null,null,null,null,null,null,null,null,null,null,null,null,null,null,null,null,null,null,null,null,null,null,null,null,null,null,null,null,null,null,null,null,null,null,null,null,null,null,null,null,null,null,null,null,null,null,null,null,null,null,null,null,null,null,null,null,null,null,null,null,null,null,null,null,null,null,null,null,null,null,null,null,null,null,null,null,null,null,null,null,null,null,null,null,null,null,null,null,null,null,null,null,null,null,null,null,null,null,null,null,null,null,null,null,null,null,null,null,null,null,null,null,null,null,null,null,null,null,null,null,null,null,null,null,null,null,null,null,null,null,null,null,null,null,null,null,null,null,null,null,null,null,null,null,null,null,null,null,null,null,null,null,null,null,null,null,null,null,null,null,null,null,null,null,null,null,null,null,null,null,null,null,null,null,null,null,null,null,null,null,null,null,null,null,null,null,null,null,null,null,null,null,null,null,null,null,null,null,null,null,null,null,null,null,null,null,null,null,null,null,null,null,null,null,null,null,null,null,null,null,null,null,null,null,null,null,null,null,null,null,null,null,null,null,null,null,null,null,null,null,null,null,null,null,null,null,null,null,null,null,null,null,null,null,null,null,null,null,null,null,null,null,null,null,null,null,null,null,null,null,null,null,null,null,null,null,null,null,null,null,null,null,null,null,null,null,null,null,null,null,null,null,null,null,null,null,null,null,null,null,null,null,null,null,null,null,null,null,null,null,null,null,null,null,null,null,null,null,null,null,null,null,null,null,null,null,null,null,null,null,null,null,null,null,null,null,null,null,null,null,null,null,null,null,null,null,null,null,null,null,null,null,null,null,null,null,null,null,null,null,null,null,null,null,null,null,null,null,null,null,null,null,null,null,null,null,null,null,null,null,null,null,null,null,null,null,null,null,null,null,null,null,null,null,null,null,null,null,null,null,null,null,null,null,null,null,null,null,null,null,null,null,null,null,null,null,null,null,null,null,null,null,null,null,null,null,null,null,null,null,null,null,null,null,null,null,null,null,null,null,null,null,null,null,null,null,null,null,null,null,null,null,null,null,null,null,null,null,null,null,null,null,null,null,null,null,null,null,null,null,null,null,null,null,null,null,null,null,null,null,null,null,null,null,null,null,null,null,null,null,null,null,null,null,null,null,null,null,null,null,null,null,null,null,null,null,null,null,null,null,null,null,null,null,null,null,null,null,null,null,null,null,null,null,null,null,null,null,null,null,null,null,null,null,null,null,null,null,null,null,null,null,null,null,null,null,null,null,null,null,null,null,null,null,null,null,null,null,null,null,null,null,null,null,null,null,null,null,null,null,null,null,null,null,null,null,null,null,null,null,null,null,null,null,null,null,null,null,null,null,null,null,null,null,null,null,null,null,null,null,null,null,null,null,null,null,null,null,null,null,null,null,null,null,null,null,null,null,null,null,null,null,null,null,null,null,null,null,null,null,null,null,null,null,null,null,null,null,null,null,null,null,null,null,null,null,null,null,null,null,null,null,null,null,null,null,null,null,null,null,null,null,null,null,null,null,null,null,null,null,null,null,null,null,null,null,null,null,null,null,null,null,null,null,null,null,null,null,null,null,null,null,null,null,null,null,null,null,null,null,null,null,null,null,null,null,null,null,null,null,null,null,null,null,null,null,null,null,null,null,null,null,null,null,null,null,null,null,null,null,null,null,null,null,null,null,null,null,null,null,null,null,null,null,null,null,null,null,null,null,null,null,null,null,null,null,null,null,null,null,null,null,null,null,null,null,null,null,null,null,null,null,null,null,null,null,null,null,null,null,null,null,null,null,null,null,null,null,null,null,null,null,null,null,null,null,null,null,null,null,null,null,null,null,null,null,null,null,null,null,null,null,null,null,null,null,null,null,null,null,null,null,null,null,null,null,null,null,null,null,null,null,null,null,null,null,null,null,null,null,null,null,null,null,null,null,null,null,null,null,null,null,null,null,null,null,null,null,null,null,null,null,null,null,null,null,null,null,null,null,null,null,null,null,null,null,null,null,null,null,null,null,null,null,null,null,null,null,null,null,null,null,null,null,null,null,null,null,null,null,null,null,null,null,null,null,null,null,null,null,null,null,null,null,null,null,null,null,null,null,null,null,null,null,null,null,null,null,null,null,null,null,null,null,null,null,null,null,null,null,null,null,null,null,null,null,null,null,null,null,null,null,null,null,null,null,null,null,null,null,null,null,null,null,null,null,null,null,null,null,null,null,null,null,null,null,null,null,null,null,null,null,null,null,null,null,null,null,null,null,null,null,null,null,null,null,null,null,null,null,null,null,null,null,null,null,null,null,null,null,null,null,null,null,null,null,null,null,null,null,null,null,null,null,null,null,null,null,null,null,null,null,null,null,null,null,null,null,null,null,null,null,null,null,null,null,null,null,null,null,null,null,null,null,null,null,null,null,null,null,null,null,null,null,null,null,null,null,null,null,null,null,null,null,null,null,null,null,null,null,null,null,null,null,null,null,null,null,null,null,null,null,null,null,null,null,null,null,null,null,null,null,null,null,null,null,null,null,null,null,null,null,null,null,null,null,null,null,null,null,null,null,null,null,null,null,null,null,null,null,null,null,null,null,null,null,null,null,null,null,null,null,null,null,null,null,null,null,null,null,null,null,null,null,null,null,null,null,null,null,null,null,null,null,null,null,null,null,null,null,null,null,null,null,null,null,null,null,null,null,null,null,null,null,null,null,null,null,null,null,null,null,null,null,null,null,null,null,null,null,null,null,null,null,null,null,null,null,null,null,null,null,null,null,null,null,null,null,null,null,null,null,null,null,null,null,null,null,null,null,null,null,null,null,null,null,null,null,null,null,null,null,null,null,null,null,null,null,null,null,null,null,null,null,null,null,null,null,null,null,null,null,null,null,null,null,null,null,null,null,null,null,null,null,null,null,null,null,null,null,null,null,null,null,null,null,null,null,null,null,null,null,null,null,null,null,null,null,null,null,null,null,null,null,null,null,null,null,null,null,null,null,null,null,null,null,null,null,null,null,null,null,null,null,null,null,null,null,null,null,null,null,null,null,null,null,null,null,null,null,null,null,null,null,null,null,null,null,null,null,null,null,null,null,null,null,null,null,null,null,null,null,null,null,null,null,null,null,null,null,null,null,null,null,null,null,null,null,null,null,null,null,null,null,2,2,null,null,null,null,null,null,null,null,null,null,null,null,null,null,null,null,null,null,null,null,null,null,null,null,null,null,null,null,null,null,null,null,null,null,null,null,null,null,null,null,null,null,null,null,null,null,null,null,null,null,null,null,null,null,null,null,null,null,null,null,null,null,null,null,null,null,null,null,null,null,null,null,null,null,null,null,null,null,null,null,null,null,null,null,null,null,null,null,null,null,null,null,null,null,null,null,null,null,null,null,null,null,null,null,null,null,null,null,null,null,null,null,null,null,null,null,null,null,null,null,null,null,null,null,null,null,null,null,null,null,null,null,null,null,null,null,null,null,null,null,null,null,null,null,null,null,null,null,null,null,null,null,null,null,null,null,null,null,null,null,null,null,null,null,null,null,null,null,null,null,null,null,null,null,null,null,null,null,null,null,null,null,null,null,null,null,null,null,null,null,null,null,null,null,null,null,null,null,null,null,null,null,null,null,null,null,null,null,null,null,null,null,null,null,null,null,null,null,null,null,null,null,null,null,null,null,null,null,null,null,null,null,null,null,null,null,null,null,null,null,null,null,null,null,null,null,null,null,null,null,null,null,null,null,null,null,null,null,null,null,null,null,null,null,null,null,null,null,null,null,null,null,null,null,null,null,null,null,null,null,null,null,null,null,null,null,null,null,null,null,null,null,null,null,null,null,null,null,null,null,null,null,null,null,null,null,null,null,null,null,null,null,null,null,null,null,null,null,null,null,null,null,null,null,null,null,null,null,null,null,null,null,null,null,null,null,null,null,null,null,null,null,null,null,null,null,null,null,null,null,null,null,null,null,null,null,null,null,null,null,null,null,null,null,null,null,null,null,null,null,null,null,null,null,null,null,null,null,null,null,null,null,null,null,null,null,null,null,null,null,null,null,null,null,null,null,null,null,null,null,null,null,null,null,null,null,null,null,null,null,null,null,null,null,null,null,null,null,null,null,null,null,null,null,null,null,null,null,null,null,null,null,null,null,null,null,null,null,null,null,null,null,null,null,null,null,null,null,null,null,null,null,null,null,null,null,null,46,2,1,3,2,6,1,0,0,0,0,0,0,6,2,null,null,null,null,null,null,2,null,2,null,null,"2014-01-03T02:52:00","2014-01-03T02:53:00",null,13494,5,"Firefox 23.0","Windows XP","209.112.172.118"]
[400,91405,2,"400_91405_2",{"$f":"VLOOKUP(D2282,'Lives in SA (Zip)'!$B$4:$E$3989,4,FALSE)","v":0},null,null,null,0,{"$f":"(VLOOKUP(AP2282,PolicySites!$B$5:$F$122,5,FALSE)*AZ2282)+(VLOOKUP(AQ2282,PolicySites!$B$5:$F$122,5,FALSE)*BA2282)+(VLOOKUP(AR2282,PolicySites!$B$5:$F$122,5,FALSE)*BB2282)+(VLOOKUP(AS2282,PolicySites!$B$5:$F$122,5,FALSE)*BC2282)+(VLOOKUP(AT2282,PolicySites!$B$5:$F$122,5,FALSE)*BD2282)+(VLOOKUP(AU2282,PolicySites!$B$5:$F$122,5,FALSE)*BE2282)+(VLOOKUP(AV2282,PolicySites!$B$5:$F$122,5,FALSE)*BF2282)+(VLOOKUP(AW2282,PolicySites!$B$5:$F$122,5,FALSE)*BG2282)+(VLOOKUP(AX2282,PolicySites!$B$5:$F$122,5,FALSE)*BH2282)+(VLOOKUP(AY2282,PolicySites!$B$5:$F$122,5,FALSE)*BI2282)","v":0},null,null,null,null,null,null,null,null,null,null,null,null,null,null,null,null,null,null,null,null,null,"--","--","--","--","--","--","--","--","--","--",{"$f":"IFERROR(VLOOKUP(AF2282,'Site Codes'!$V$4:$Y$164,4,FALSE),0)","v":0},{"$f":"IFERROR(VLOOKUP(AG2282,'Site Codes'!$V$4:$Y$164,4,FALSE),0)","v":0},{"$f":"IFERROR(VLOOKUP(AH2282,'Site Codes'!$V$4:$Y$164,4,FALSE),0)","v":0},{"$f":"IFERROR(VLOOKUP(AI2282,'Site Codes'!$V$4:$Y$164,4,FALSE),0)","v":0},{"$f":"IFERROR(VLOOKUP(AJ2282,'Site Codes'!$V$4:$Y$164,4,FALSE),0)","v":0},{"$f":"IFERROR(VLOOKUP(AK2282,'Site Codes'!$V$4:$Y$164,4,FALSE),0)","v":0},{"$f":"IFERROR(VLOOKUP(AL2282,'Site Codes'!$V$4:$Y$164,4,FALSE),0)","v":0},{"$f":"IFERROR(VLOOKUP(AM2282,'Site Codes'!$V$4:$Y$164,4,FALSE),0)","v":0},{"$f":"IFERROR(VLOOKUP(AN2282,'Site Codes'!$V$4:$Y$164,4,FALSE),0)","v":0},{"$f":"IFERROR(VLOOKUP(AO2282,'Site Codes'!$V$4:$Y$164,4,FALSE),0)","v":0},null,null,null,null,null,null,null,null,null,null,null,null,null,null,null,null,null,null,null,null,null,null,null,null,null,null,null,null,null,null,null,null,null,null,null,null,null,null,null,null,null,null,null,null,null,null,null,null,null,null,null,null,null,null,null,null,null,null,null,null,null,null,null,null,null,null,null,null,null,null,null,null,null,null,null,null,null,null,null,null,null,null,null,null,null,null,null,null,null,null,null,null,null,null,null,null,null,null,null,null,null,null,null,null,null,null,null,null,null,null,null,null,null,null,null,null,null,null,null,null,null,null,null,null,null,null,null,null,null,null,null,null,null,null,null,null,null,null,null,null,null,null,null,null,null,null,null,null,null,null,null,null,null,null,null,null,null,null,null,null,null,null,null,null,null,null,null,null,null,null,null,null,null,null,null,null,null,null,null,null,null,null,null,null,null,null,null,null,null,null,null,null,null,null,null,null,null,null,null,null,null,null,null,null,null,null,null,null,null,null,null,null,null,null,null,null,null,null,null,null,null,null,null,null,null,null,null,null,null,null,null,null,null,null,null,null,null,null,null,null,null,null,null,null,null,null,null,null,null,null,null,null,null,null,null,null,null,null,null,null,null,null,null,null,null,null,null,null,null,null,null,null,null,null,null,null,null,null,null,null,null,null,null,null,null,null,null,null,null,null,null,null,null,null,null,null,null,null,null,null,null,null,null,null,null,null,null,null,null,null,null,null,null,null,null,null,null,null,null,null,null,null,null,null,null,null,null,null,null,null,null,null,null,null,null,null,null,null,null,null,null,null,null,null,null,null,null,null,null,null,null,null,null,null,null,null,null,null,null,null,null,null,null,null,null,null,null,null,null,null,null,null,null,null,null,null,null,null,null,null,null,null,null,null,null,null,null,null,null,null,null,null,null,null,null,null,null,null,null,null,null,null,null,null,null,null,null,null,null,null,null,null,null,null,null,null,null,null,null,null,null,null,null,null,null,null,null,null,null,null,null,null,null,null,null,null,null,null,null,null,null,null,null,null,null,null,null,null,null,null,null,null,null,null,null,null,null,null,null,null,null,null,null,null,null,null,null,null,null,null,null,null,null,null,null,null,null,null,null,null,null,null,null,null,null,null,null,null,null,null,null,null,null,null,null,null,null,null,null,null,null,null,null,null,null,null,null,null,null,null,null,null,null,null,null,null,null,null,null,null,null,null,null,null,null,null,null,null,null,null,null,null,null,null,null,null,null,null,null,null,null,null,null,null,null,null,null,null,null,null,null,null,null,null,null,null,null,null,null,null,null,null,null,null,null,null,null,null,null,null,null,null,null,null,null,null,null,null,null,null,null,null,null,null,null,null,null,null,null,null,null,null,null,null,null,null,null,null,null,null,null,null,null,null,null,null,null,null,null,null,null,null,null,null,null,null,null,null,null,null,null,null,null,null,null,null,null,null,null,null,null,null,null,null,null,null,null,null,null,null,null,null,null,null,null,null,null,null,null,null,null,null,null,null,null,null,null,null,null,null,null,null,null,null,null,null,null,null,null,null,null,null,null,null,null,null,null,null,null,null,null,null,null,null,null,null,null,null,null,null,null,null,null,null,null,null,null,null,null,null,null,null,null,null,null,null,null,null,null,null,null,null,null,null,null,null,null,null,null,null,null,null,null,null,null,null,null,null,null,null,null,null,null,null,null,null,null,null,null,null,null,null,null,null,null,null,null,null,null,null,null,null,null,null,null,null,null,null,null,null,null,null,null,null,null,null,null,null,null,null,null,null,null,null,null,null,null,null,null,null,null,null,null,null,null,null,null,null,null,null,null,null,null,null,null,null,null,null,null,null,null,null,null,null,null,null,null,null,null,null,null,null,null,null,null,null,null,null,null,null,null,null,null,null,null,null,null,null,null,null,null,null,null,null,null,null,null,null,null,null,null,null,null,null,null,null,null,null,null,null,null,null,null,null,null,null,null,null,null,null,null,null,null,null,null,null,null,null,null,null,null,null,null,null,null,null,null,null,null,null,null,null,null,null,null,null,null,null,null,null,null,null,null,null,null,null,null,null,null,null,null,null,null,null,null,null,null,null,null,null,null,null,null,null,null,null,null,null,null,null,null,null,null,null,null,null,null,null,null,null,null,null,null,null,null,null,null,null,null,null,null,null,null,null,null,null,null,null,null,null,null,null,null,null,null,null,null,null,null,null,null,null,null,null,null,null,null,null,null,null,null,null,null,null,null,null,null,null,null,null,null,null,null,null,null,null,null,null,null,null,null,null,null,null,null,null,null,null,null,null,null,null,null,null,null,null,null,null,null,null,null,null,null,null,null,null,null,null,null,null,null,null,null,null,null,null,null,null,null,null,null,null,null,null,null,null,null,null,null,null,null,null,null,null,null,null,null,null,null,null,null,null,null,null,null,null,null,null,null,null,null,null,null,null,null,null,null,null,null,null,null,null,null,null,null,null,null,null,null,null,null,null,null,null,null,null,null,null,null,null,null,null,null,null,null,null,null,null,null,null,null,null,null,null,null,null,null,null,null,null,null,null,null,null,null,null,null,null,null,null,null,null,null,null,null,null,null,null,null,null,null,null,null,null,null,null,null,null,null,null,null,null,null,null,null,null,null,null,null,null,null,null,null,null,null,null,null,null,null,null,null,null,null,null,null,null,null,null,null,null,null,null,null,null,null,null,null,null,null,null,null,null,null,null,null,null,null,null,null,null,null,null,null,null,null,null,null,null,null,null,null,null,null,null,null,null,null,null,null,null,null,null,null,null,null,null,null,null,null,null,null,null,null,null,null,null,null,null,null,null,null,null,null,null,null,null,null,null,null,null,null,null,null,null,null,null,null,null,null,null,null,null,null,null,null,null,null,null,null,null,null,null,null,null,null,null,null,null,null,null,null,null,null,null,null,null,null,null,null,null,null,null,null,null,null,null,null,null,null,null,null,null,null,null,null,null,null,null,null,null,null,null,null,null,null,null,null,null,null,null,null,null,null,null,null,null,null,null,null,null,null,null,null,null,null,null,null,null,null,null,null,null,null,null,null,null,null,null,null,null,null,null,null,null,null,null,null,null,null,null,null,null,null,null,null,null,null,null,null,null,null,null,null,null,null,null,null,null,null,null,null,null,null,null,null,null,null,null,null,null,null,null,null,null,null,null,null,null,null,null,null,null,null,null,null,null,null,null,null,null,null,null,null,null,null,null,null,null,null,null,null,null,null,null,null,null,null,null,null,null,null,null,null,null,null,null,null,null,null,null,null,null,null,null,null,null,null,null,null,null,null,null,null,null,null,null,null,null,null,null,null,null,null,null,null,null,null,null,null,null,null,null,null,null,null,null,null,null,null,null,null,null,null,null,null,null,null,null,null,null,null,null,null,null,null,null,null,null,null,null,null,null,null,null,null,null,null,null,null,null,null,null,null,null,null,null,null,null,null,null,null,null,null,null,null,null,null,null,null,null,null,null,null,null,null,null,null,null,null,null,null,null,null,null,null,null,null,null,null,null,null,null,null,null,null,null,null,null,null,null,null,null,null,null,null,null,null,null,null,null,null,null,null,null,null,null,null,null,null,null,null,null,null,null,null,null,null,null,null,null,null,null,null,null,null,null,null,null,null,null,null,null,null,null,null,null,null,null,null,null,null,null,null,null,null,null,null,null,null,null,null,null,null,null,null,null,null,null,null,null,null,null,null,null,null,null,null,null,null,null,null,null,null,null,null,null,null,null,null,null,null,null,null,null,null,null,null,null,null,null,null,null,null,null,null,null,null,null,null,null,null,null,null,null,null,null,null,null,null,null,null,null,null,null,null,null,null,null,null,null,null,null,null,null,null,null,null,null,null,null,null,null,null,null,null,null,null,null,null,null,null,null,null,null,null,null,null,null,null,null,null,null,null,null,null,null,null,null,null,null,null,null,null,null,null,null,null,null,null,null,null,null,null,null,null,null,null,null,null,null,null,null,null,null,null,null,null,null,null,null,null,null,null,null,null,null,null,null,null,null,null,null,null,null,null,null,null,null,null,null,null,null,null,null,null,null,null,null,null,null,null,null,null,null,null,null,null,null,null,null,null,null,null,null,null,null,null,null,null,null,null,null,null,null,null,null,null,null,null,null,null,null,null,null,null,null,null,null,null,null,null,null,null,null,null,null,null,null,null,null,null,null,null,null,null,null,null,null,null,null,null,null,null,null,null,null,null,null,null,null,null,null,null,null,null,null,null,null,null,null,null,null,null,null,null,null,null,null,null,null,null,null,null,null,null,null,null,null,null,null,null,null,null,null,null,null,null,null,null,null,null,null,null,null,null,null,null,null,null,null,null,null,null,null,null,null,null,null,null,null,null,null,null,null,null,null,null,null,null,null,null,null,null,null,null,null,null,null,null,null,null,null,null,null,null,null,null,null,null,null,null,null,null,null,null,null,null,null,null,null,null,null,null,null,null,null,null,null,null,null,null,null,null,null,null,null,null,null,null,null,null,null,null,null,null,null,null,null,null,null,null,null,null,null,null,null,null,null,null,null,null,null,null,null,null,null,null,null,null,null,null,null,null,null,null,null,null,null,null,null,null,null,null,null,null,null,null,null,null,null,null,null,null,null,null,null,null,null,null,null,null,null,null,null,null,null,null,null,null,null,null,null,null,null,null,null,null,null,null,null,null,null,null,null,null,null,null,null,null,null,null,null,null,null,null,null,null,null,null,null,null,null,null,null,null,null,null,null,null,null,null,null,null,null,null,null,null,null,null,null,null,null,null,null,null,null,null,null,null,null,null,null,null,null,null,null,null,null,null,null,null,null,null,null,null,null,null,null,null,null,null,null,null,null,null,null,null,null,null,null,null,null,null,null,null,null,null,null,null,null,null,null,null,null,null,null,null,null,null,null,null,null,null,null,null,null,null,null,null,null,null,null,null,null,null,null,null,null,null,null,null,null,null,null,null,null,null,null,null,null,null,null,null,null,null,null,null,null,null,null,null,null,null,null,null,null,null,null,null,null,null,null,null,null,null,null,null,null,null,null,null,null,null,null,null,null,null,null,null,null,null,null,null,null,null,null,null,null,null,null,null,null,null,null,null,null,null,null,null,null,null,null,null,null,null,null,null,null,null,null,null,null,null,null,null,null,null,null,null,null,null,null,null,null,null,null,null,null,null,null,null,null,null,null,null,null,null,null,null,null,null,null,null,null,null,null,null,null,null,null,null,null,null,null,null,null,null,null,null,null,null,null,null,null,null,null,null,null,null,null,null,null,null,null,null,null,null,null,null,null,null,null,null,null,null,null,null,null,null,null,null,null,null,null,null,"2013-11-01T23:16:00","2013-11-01T23:33:00",null,520,2,"Safari 534.57.2","Macintosh","66.223.138.210"]
[1788,91750,1,"1788_91750_1",{"$f":"VLOOKUP(D2283,'Lives in SA (Zip)'!$B$4:$E$3989,4,FALSE)","v":0},"ks",null,0,1,{"$f":"(VLOOKUP(AP2283,PolicySites!$B$5:$F$122,5,FALSE)*AZ2283)+(VLOOKUP(AQ2283,PolicySites!$B$5:$F$122,5,FALSE)*BA2283)+(VLOOKUP(AR2283,PolicySites!$B$5:$F$122,5,FALSE)*BB2283)+(VLOOKUP(AS2283,PolicySites!$B$5:$F$122,5,FALSE)*BC2283)+(VLOOKUP(AT2283,PolicySites!$B$5:$F$122,5,FALSE)*BD2283)+(VLOOKUP(AU2283,PolicySites!$B$5:$F$122,5,FALSE)*BE2283)+(VLOOKUP(AV2283,PolicySites!$B$5:$F$122,5,FALSE)*BF2283)+(VLOOKUP(AW2283,PolicySites!$B$5:$F$122,5,FALSE)*BG2283)+(VLOOKUP(AX2283,PolicySites!$B$5:$F$122,5,FALSE)*BH2283)+(VLOOKUP(AY2283,PolicySites!$B$5:$F$122,5,FALSE)*BI2283)","v":0},null,null,null,null,null,null,null,null,null,null,null,null,null,null,null,null,null,null,null,null,null,"--","--","--","--","--","--","--","--","--","--",{"$f":"IFERROR(VLOOKUP(AF2283,'Site Codes'!$V$4:$Y$164,4,FALSE),0)","v":0},{"$f":"IFERROR(VLOOKUP(AG2283,'Site Codes'!$V$4:$Y$164,4,FALSE),0)","v":0},{"$f":"IFERROR(VLOOKUP(AH2283,'Site Codes'!$V$4:$Y$164,4,FALSE),0)","v":0},{"$f":"IFERROR(VLOOKUP(AI2283,'Site Codes'!$V$4:$Y$164,4,FALSE),0)","v":0},{"$f":"IFERROR(VLOOKUP(AJ2283,'Site Codes'!$V$4:$Y$164,4,FALSE),0)","v":0},{"$f":"IFERROR(VLOOKUP(AK2283,'Site Codes'!$V$4:$Y$164,4,FALSE),0)","v":0},{"$f":"IFERROR(VLOOKUP(AL2283,'Site Codes'!$V$4:$Y$164,4,FALSE),0)","v":0},{"$f":"IFERROR(VLOOKUP(AM2283,'Site Codes'!$V$4:$Y$164,4,FALSE),0)","v":0},{"$f":"IFERROR(VLOOKUP(AN2283,'Site Codes'!$V$4:$Y$164,4,FALSE),0)","v":0},{"$f":"IFERROR(VLOOKUP(AO2283,'Site Codes'!$V$4:$Y$164,4,FALSE),0)","v":0},null,null,null,null,null,null,null,null,null,null,null,null,null,null,null,null,null,null,null,null,null,null,null,null,null,null,null,null,null,null,null,null,null,null,null,null,null,null,null,null,null,null,null,null,null,null,null,null,null,null,null,null,null,null,null,null,null,null,null,null,null,null,null,null,null,null,null,null,null,null,null,null,null,null,null,null,null,null,null,null,null,null,null,null,null,null,null,null,null,null,null,null,null,null,null,null,null,null,null,null,null,null,null,null,null,null,null,null,null,null,null,null,null,null,null,null,null,null,null,null,null,null,null,null,null,null,null,null,null,null,null,null,null,null,null,null,null,null,null,null,null,null,null,null,null,null,null,null,null,null,null,null,null,null,null,null,null,null,null,null,null,null,null,null,null,null,null,null,null,null,null,null,null,null,null,null,null,null,null,null,null,null,null,null,null,null,null,null,null,null,null,null,null,null,null,null,null,null,null,null,null,null,null,null,null,null,null,null,null,null,null,null,null,null,null,null,null,null,null,null,null,null,null,null,null,null,null,null,null,null,null,null,null,null,null,null,null,null,null,null,null,null,null,null,null,null,null,null,null,null,null,null,null,null,null,null,null,null,null,null,null,null,null,null,null,null,null,null,null,null,null,null,null,null,null,null,null,null,null,null,null,null,null,null,null,null,null,null,null,null,null,null,null,null,null,null,null,null,null,null,null,null,null,null,null,null,null,null,null,null,null,null,null,null,null,null,null,null,null,null,null,null,null,null,null,null,null,null,null,null,null,null,null,null,null,null,null,null,null,null,null,null,null,null,null,null,null,null,null,null,null,null,null,null,null,null,null,null,null,null,null,null,null,null,null,null,null,null,null,null,null,null,null,null,null,null,null,null,null,null,null,null,null,null,null,null,null,null,null,null,null,null,null,null,null,null,null,null,null,null,null,null,null,null,null,null,null,null,null,null,null,null,null,null,null,null,null,null,null,null,null,null,null,null,null,null,null,null,null,null,null,null,null,null,null,null,null,null,null,null,null,null,null,null,null,null,null,null,null,null,null,null,null,null,null,null,null,null,null,null,null,null,null,null,null,null,null,null,null,null,null,null,null,null,null,null,null,null,null,null,null,null,null,null,null,null,null,null,null,null,null,null,null,null,null,null,null,null,null,null,null,null,null,null,null,null,null,null,null,null,null,null,null,null,null,null,null,null,null,null,null,null,null,null,null,null,null,null,null,null,null,null,null,null,null,null,null,null,null,null,null,null,null,null,null,null,null,null,null,null,null,null,null,null,null,null,null,null,null,null,null,null,null,null,null,null,null,null,null,null,null,null,null,null,null,null,null,null,null,null,null,null,null,null,null,null,null,null,null,null,null,null,null,null,null,null,null,null,null,null,null,null,null,null,null,null,null,null,null,null,null,null,null,null,null,null,null,null,null,null,null,null,null,null,null,null,null,null,null,null,null,null,null,null,null,null,null,null,null,null,null,null,null,null,null,null,null,null,null,null,null,null,null,null,null,null,null,null,null,null,null,null,null,null,null,null,null,null,null,null,null,null,null,null,null,null,null,null,null,null,null,null,null,null,null,null,null,null,null,null,null,null,null,null,null,null,null,null,null,null,null,null,null,null,null,null,null,null,null,null,null,null,null,null,null,null,null,null,null,null,null,null,null,null,null,null,null,null,null,null,null,null,null,null,null,null,null,null,null,null,null,null,null,null,null,null,null,null,null,null,null,null,null,null,null,null,null,null,null,null,null,null,null,null,null,null,null,null,null,null,null,null,null,null,null,null,null,null,null,null,null,null,null,null,null,null,null,null,null,null,null,null,null,null,null,null,null,null,null,null,null,null,null,null,null,null,null,null,null,null,null,null,null,null,null,null,null,null,null,null,null,null,null,null,null,null,null,null,null,null,null,null,null,null,null,null,null,null,null,null,null,null,null,null,null,null,null,null,null,null,null,null,null,null,null,null,null,null,null,null,null,null,null,null,null,null,null,null,null,null,null,null,null,null,null,null,null,null,null,null,null,null,null,null,null,null,null,null,null,null,null,null,null,null,null,null,null,null,null,null,null,null,null,null,null,null,null,null,null,null,null,null,null,null,null,null,null,null,null,null,null,null,null,null,null,null,null,null,null,null,null,null,null,null,null,null,null,null,null,null,null,null,null,null,null,null,null,null,null,null,null,null,null,null,null,null,null,null,null,null,null,null,null,null,null,null,null,null,null,null,null,null,null,null,null,null,null,null,null,null,null,null,null,null,null,null,null,null,null,null,null,null,null,null,null,null,null,null,null,null,null,null,null,null,null,null,null,null,null,null,null,null,null,null,null,null,null,null,null,null,null,null,null,null,null,null,null,null,null,null,null,null,null,null,null,null,null,null,null,null,null,null,null,null,null,null,null,null,null,null,null,null,null,null,null,null,null,null,null,null,null,null,null,null,null,null,null,null,null,null,null,null,null,null,null,null,null,null,null,null,null,null,null,null,null,null,null,null,null,null,null,null,null,null,null,null,null,null,null,null,null,null,null,null,null,null,null,null,null,null,null,null,null,null,null,null,null,null,null,null,null,null,null,null,null,null,null,null,null,null,null,null,null,null,null,null,null,null,null,null,null,null,null,null,null,null,null,null,null,null,null,null,null,null,null,null,null,null,null,null,null,null,null,null,null,null,null,null,null,null,null,null,null,null,null,null,null,null,null,null,null,null,null,null,null,null,null,null,null,null,null,null,null,null,null,null,null,null,null,null,null,null,null,null,null,null,null,null,null,null,null,null,null,null,null,null,null,null,null,null,null,null,null,null,null,null,null,null,null,null,null,null,null,null,null,null,null,null,null,null,null,null,null,null,null,null,null,null,null,null,null,null,null,null,null,null,null,null,null,null,null,null,null,null,null,null,null,null,null,null,null,null,null,null,null,null,null,null,null,null,null,null,null,null,null,null,null,null,null,null,null,null,null,null,null,null,null,null,null,null,null,null,null,null,null,null,null,null,null,null,null,null,null,null,null,null,null,null,null,null,null,null,null,null,null,null,null,null,null,null,null,null,null,null,null,null,null,null,null,null,null,null,null,null,null,null,null,null,null,null,null,null,null,null,null,null,null,null,null,null,null,null,null,null,null,null,null,null,null,null,null,null,null,null,null,null,null,null,null,null,null,null,null,null,null,null,null,null,null,null,null,null,null,null,null,null,null,null,null,null,null,null,null,null,null,null,null,null,null,null,null,null,null,null,null,null,null,null,null,null,null,null,null,null,null,null,null,null,null,null,null,null,null,null,null,null,null,null,null,null,null,null,null,null,null,null,null,null,null,null,null,null,null,null,null,null,null,null,null,null,null,null,null,null,null,null,null,null,null,null,null,null,null,null,null,null,null,null,null,null,null,null,null,null,null,null,null,null,null,null,null,null,null,null,null,null,null,null,null,null,null,null,null,null,null,null,null,null,null,null,null,null,null,null,null,null,null,null,null,null,null,null,null,null,null,null,null,null,null,null,null,null,null,null,null,null,null,null,null,null,null,null,null,null,null,null,null,null,null,null,null,null,null,null,null,null,null,null,null,null,null,null,null,null,null,null,null,null,null,null,null,null,null,null,null,null,null,null,null,null,null,null,null,null,null,null,null,null,null,null,null,null,null,null,null,null,null,null,null,null,null,null,null,null,null,null,null,null,null,null,null,null,null,null,null,null,null,null,null,null,null,null,null,null,null,null,null,null,null,null,null,null,null,null,null,null,null,null,null,null,null,null,null,null,null,null,null,null,null,null,null,null,null,null,null,null,null,null,null,null,null,null,null,null,null,null,null,null,null,null,null,null,null,null,null,null,null,null,null,null,null,null,null,null,null,null,null,null,null,null,null,null,null,null,null,null,null,null,null,null,null,null,null,null,null,null,null,null,null,null,null,null,null,null,null,null,null,null,null,null,null,null,null,null,null,null,null,null,null,null,null,null,null,null,null,null,null,null,null,null,null,null,null,null,null,null,null,null,null,null,null,null,null,null,null,null,null,null,null,null,null,null,null,null,null,null,null,null,null,null,null,null,null,null,null,null,null,null,null,null,null,null,null,null,null,null,null,null,null,null,null,null,null,null,null,null,null,null,null,null,null,null,null,null,null,null,null,null,null,null,null,null,null,null,null,null,null,null,null,null,null,null,null,null,null,null,null,null,null,null,null,null,null,null,null,null,null,null,null,null,null,null,null,null,null,null,null,null,null,null,2,1,25,0,0,0,0,1,0,0,0,0,0,0,0,0,0,0,0,0,0,0,1,1,0,"Photography",null,null,null,null,null,25,null,null,null,null,null,null,null,null,null,null,null,null,null,null,25,25,null,"Photography",null,null,null,null,null,0,null,null,null,null,null,null,null,null,null,null,null,null,null,null,0,1,null,"Photography",null,21,"Photography",null,null,null,1,0,0,0,0,0,0,0,0,0,0,0,0,0,0,0,0,0,0,0,1,0,0,0,0,0,0,0,0,0,0,0,0,0,0,0,0,0,0,0,0,0,0,0,0,0,0,0,0,1,0,0,0,0,0,0,0,0,0,1,1985,2,2,null,1,8,1,null,0,null,0,1,0,0,0,null,null,null,null,null,null,null,null,null,null,null,null,null,null,null,null,null,null,0,null,null,null,null,null,null,null,null,null,null,null,null,null,null,null,null,null,null,null,null,null,null,null,null,null,null,null,null,null,null,null,null,null,null,null,null,null,null,null,null,null,null,null,null,null,null,null,null,null,null,null,null,null,null,null,null,null,null,null,null,null,null,null,null,null,null,null,null,null,null,null,null,null,null,1,null,null,null,5,null,null,null,null,null,null,null,null,null,null,null,null,null,null,null,null,null,null,null,null,null,null,null,null,null,null,null,null,null,null,null,null,null,null,3,null,null,null,null,null,null,null,null,null,null,null,null,null,null,null,null,null,null,null,null,null,null,null,null,null,null,null,null,null,null,null,null,null,null,null,null,null,null,null,null,null,null,null,null,null,null,null,null,null,null,null,null,null,null,null,null,null,null,null,null,null,null,null,null,null,null,null,null,null,null,null,null,null,null,null,null,null,null,null,null,null,null,null,null,null,null,null,2,1,1,2,2,null,null,null,null,2,1,"Talkeetna","Cantwell",null,51,1,null,2,null,null,0,0,1,0,1,0,0,0,0,0,0,null,0,0,0,0,1,0,1,0,0,0,0,0,0,null,2,null,null,null,null,null,null,null,null,null,null,null,null,1,3,2,1,1,3,1,2,3,3,4,4,3,3,1,1,2,null,null,1,1,3,3,null,2,37,1,1,1,2,5,1,0,0,0,0,0,0,4,2,null,null,null,null,null,null,2,null,1,null,null,"2014-01-07T23:56:00","2014-01-08T00:07:00",null,13924,5,"Firefox 23.0","Windows XP","209.112.172.118",5,20,21,null,null,null,null,null,null,null,null,null,null,null,null,null,null,null,null,null,null,null,null,null,21,null,null,null,null,null,null,null,null,null,null,null,null,null,null,null,null,null,null,null,null,null,null,null,null,null,null,null,null,null,null,null,null,null,null,null,null,null,null,null,null,null,null,null,null,null,null,null,21,null,null,null,null,null,null,null,null,null,null,null,null,null,null,null,null,null,null,null,null,null,null,null,1,3,5,6,7,8,9,28,null,null,null,null,null,null,null,null,null,null,null,null,null,null,null,null,null,null,null,null,19,20,21,22,23,24,25,26,27,null,null,null,null,null,null,null,null,null,null,null,null,null,null,null,null,null,null,null,1,6]

{"sheet":"Site Codes","index":5,"n_rows":483,"n_cols":30,"rows_kept":483,"cut":false,"hidden":false,"merged":[]}
[]
["Concatenated Location 1","Concatenated Location 2","Concatenated Location 3","Concatenated Location 4","Concatenated Location 5","Concatenated Location 6","Concatenated Location 7","Concatenated Location 8","Concatenated Location 9","Concatenated Location 10",null,null,null,null,null,null,null,null,null,null,null,null,null,null,null,null,"Final Site List"]
["Yentna River--Deshka landing","Willow--High 450 subdivision","Yukon Triangle Area--Johnson Road","Willow Area--Mile 85 Parks Hwy","Thompson Pass--At the pass","Oshetna River--Eureka","","","","",null,"Original List",null,null,"Row Labels","Count of Original List",null,"Original Code Concatenated","Recoded Location","New Code",null,"Original Code Concatenated2","Recoded Location2",null,null,null,"Row Labels","Code"]
["Yenta to Sqwentna--Yenta to Sqwentna","WIllow swamps--Willow","Willow--Willow","Turnagin Pass Trail--Trailhead","Nesbina Rd--Lost Creek Trail","North Pole--North Pole","","","","",null,"Yentna River--Deshka landing",null,null,"7 Mile Lake Trails--7 Mile Lake Trails",1,null,"7 Mile Lake Trails--7 Mile Lake Trails","7 Mile Lake Trails-Skilak",{"$f":"VLOOKUP(S4,$AA$4:$AB$104,2,FALSE)","v":"Snow 1"},null,"Alaska Range--","Uncodeable",{"$f":"VLOOKUP(V4,$R$4:$T$358,3,FALSE)","v":{"$error":"#N/A"}},{"$f":"VLOOKUP(W4,$AA$4:$AB$122,2,FALSE)","v":"Snow 91"},null,"7 Mile Lake Trails-Skilak","Snow 1",null,"http://ridealaska.com/archive/snowmachine-trails"]
["Wilow/Shirley Lake--Wilow/Shirley Lake","Whittier--Whittier Boat Harbor","Willow Mtn--Residence","Tok--To Dawson Canada","Mile 135--Mile 135","","","","","",null,"Yenta to Sqwentna--Yenta to Sqwentna",null,null,"AK Range--Accross from Birch Lake",1,null,"AK Range--Accross from Birch Lake","Birch Lake-Delta Junction",{"$f":"VLOOKUP(S5,$AA$4:$AB$104,2,FALSE)","v":"Snow 7"},null,"Alaska Range--Willow Lake","Tok Area",{"$f":"VLOOKUP(V5,$R$4:$T$358,3,FALSE)","v":{"$error":"#N/A"}},{"$f":"VLOOKUP(W5,$AA$4:$AB$122,2,FALSE)","v":"Snow 86"},null,"Badger Road-North Pole","Snow 2",null,"http://ridealaska.com/archive/wp-content/uploads/2009/09/willowarea.pdf"]
["Willow--Vera Lake","White Mountains--Wickersham Dome","Upper Glenn Alps--Upper Glenn Alps Parking","Tok Area--My house to Wolf Lake","Lake Louise--Lake Louise Lodge","","","","","",null,"Wilow/Shirley Lake--Wilow/Shirley Lake",null,null,"Arch Angel Valley--Hatcher Pass",1,null,"Arch Angel Valley--Hatcher Pass","Hatcher Pass-Unspecified","Snow 35",null,"Alexander Lake--Plane","Yentna to Skwentna-Yentna",{"$error":"#N/A"},"Snow 100",null,"Bethel","Snow 3"]
["Willow--Long Lake","White Mountains--Wickersham","Turnagin Pass--Turnagin Pass Highway","Thompson Pass--By dot station at 30 mile north of Valdez","Eureka Trails--Eureka Lodge","","","","","",null,"Willow--Vera Lake",null,null,"Arctic Man, Hoodoo Mtns--Paxson",1,null,"Arctic Man, Hoodoo Mtns--Paxson","Hoodoo Mountains-Paxson","Snow 38",null,"All around Cantwell--My home in Cantwell","Cantwell",{"$error":"#N/A"},"Snow 9",null,"Bettles","Snow 4"]
["Willow--Big Lke","Wasilla--Palmer/Wasilla","Turnagin Pass--Turnagin","Susitna River Trails--Susitna Landing","Chatin--Chatin","","","","","",null,"Willow--Long Lake",null,null,"Arctic Man--Paxson",1,null,"Arctic Man--Paxson","Hoodoo Mountains-Paxson","Snow 38",null,"Anchorage--Abbott Trail","Anchorage",{"$error":"#N/A"},"Snow 101",null,"Big Lake","Snow 5"]
["Willow/Hatchers Pass--Houston City Hall/Zerp Lake Road","Wasilla Lake--My home-Wasilla","Tolovana Hotsprings--Elliot Hwy","Salcha River--Richardson Hwy","Caribou Creek--100 Mile","","","","","",null,"Willow--Big Lke",null,null,"Arctic man--Summit Lake",2,null,"Arctic man--Summit Lake","Hoodoo Mountains-Paxson","Snow 38",null,"Around Christochina--Around Christochina","Chistochina",{"$error":"#N/A"},"Snow 111",null,"Birch Creek-Steese Highway","Snow 6"]
["Willow Trails--Residence","Turnagin Pass--Turn out top of pass","Tok to Dawson--Trek over the top","Petersville--Petersville","","","","","","",null,"Willow/Hatchers Pass--Houston City Hall/Zerp Lake Road",null,null,"Arctin Man--Richardson Hwy",1,null,"Arctin Man--Richardson Hwy","Hoodoo Mountains-Paxson","Snow 38",null,"Bald Mountain--Freedom Hills Sub. (off comsat)","Talkeetna Area-Talkeetna",{"$error":"#N/A"},"Snow 81",null,"Birch Lake-Delta Junction","Snow 7"]
["Willow Trail System--Crystal Lake","Turnagain--Turnagain Pull Out","Taylor Hwy--Alasksa Hwys","Petersville Area--Kroto Creek","","","","","","",null,"Willow Trails--Residence",null,null,"Around Home - 5 mile badger rd--Around Home - 5 mile badger rd",1,null,"Around Home - 5 mile badger rd--Around Home - 5 mile badger rd","Badger Road-North Pole","Snow 2",null,"Big Lake--Big Lake","Big Lake","Snow 5","Snow 5",null,"Cache Creek/Ester-Cache Creek","Snow 8"]
["Willow Swamps--Willow","Turnagain--Spenser","Sutton--Trail Area","North Pole--Hurst Road trail","","","","","","",null,"Willow Trail System--Crystal Lake",null,null,"Baldy--Hatcher Pass Somewhere",1,null,"Baldy--Hatcher Pass Somewhere","Hatcher Pass-Unspecified","Snow 35",null,"Big Lake--Big Lake","Big Lake","Snow 5","Snow 5",null,"Cantwell","Snow 9"]
["Willow Lake--Willow","Trapper Creek--Trapper Creek Parking","Summit Lake--Cabin D Summit Lake","North Pole Trails--Behind N Pas","","","","","","",null,"Willow Swamps--Willow",null,null,"Bethel--Village",1,null,"Bethel--Village","Bethel","Snow 3",null,"big lake--big lake","Big Lake","Snow 5","Snow 5",null,"Canwell Glacier-Miller Creek","Snow 10"]
["Willow Lakes--Crystal Lake","Taylor Hwy--9 mile trail, Taylor Mtn","Ski Land Area--Chatanika Alaska","Nancy Lake--Canoe Trail","","","","","","",null,"Willow Lake--Willow",null,null,"Bettles, AK--Bettles",1,null,"Bettles, AK--Bettles","Bettles","Snow 4",null,"big lake--big lake","Big Lake","Snow 5","Snow 5",null,"Chatanika-Elliot Highway","Snow 11"]
["Willow Lake, Iditarod--Restart","Tanana River--Chena Pump Road","Salcha River--Salsaket Humstead","Murphy Dome--Murphy Dome","","","","","","",null,"Willow Lakes--Crystal Lake",null,null,"Between portage and girdwood--left-side of highway for about 15 miles",1,null,"Between portage and girdwood--left-side of highway for about 15 miles","Portage/Placer Rivers","Snow 65",null,"Big Lake--Iron Dog Trail","Big Lake",{"$error":"#N/A"},"Snow 5",null,"Chena Flood Control-North Pole","Snow 12"]
["Willow Lake Loop--Willow","Tanana River--Chena Pump down to Woodriver","Portage--Spencer Glacier","King River--Home","","","","","","",null,"Willow Lake, Iditarod--Restart",null,null,"Big Lake Area--South Shoes",1,null,"Big Lake Area--South Shoes","Big Lake","Snow 5",null,"Big Lake--South Side","Big Lake",{"$error":"#N/A"},"Snow 5",null,"Chena Hot Springs","Snow 13"]
["Willow Lake Loop Trail--Willow","Susitna/Yentna--Residence","Plack road & Repp Pipeline--side road","Fairbanks Area--Fairbanks","","","","","","",null,"Willow Lake Loop--Willow",null,null,"Big Lake Trail System--Big Lake Boat Launch",1,null,"Big Lake Trail System--Big Lake Boat Launch","Big Lake","Snow 5",null,"Bolio Lake--Ft. Greely","Fairbanks-Fort Greely",{"$error":"#N/A"},"Snow 110",null,"Chena Lakes-North Pole","Snow 14"]
["Willow Lake Loop Trail--Vera Lake","Summit--Off the road access","Petersville--Mile 17 Petersville Rd.","Eureka--Eureka Lodge","","","","","","",null,"Willow Lake Loop Trail--Willow",null,null,"Big Lake, Alaska--Horseshoe Lake Road via Camp Maranatha",1,null,"Big Lake, Alaska--Horseshoe Lake Road via Camp Maranatha","Big Lake","Snow 5",null,"Bouldy--Wasilla","Wasilla",{"$error":"#N/A"},"Snow 93",null,"Chena River State Recreation Area-North Pole","Snow 15"]
["Willow Area--The Preserve","Summit Pass--Summit Pass","Petersville--Kroto Creek Parking","Eureka--Eureka Lodge","","","","","","",null,"Willow Lake Loop Trail--Vera Lake",null,null,"Big Lake--Big Lake",1,null,"Big Lake--Big Lake","Big Lake","Snow 5",null,"Broad Pass--Pull-out narrows","Cantwell",{"$error":"#N/A"},"Snow 9",null,"Chickaloon","Snow 16"]
["Willow Alaska along the iditarod trail--Willow","Summit Moon--Richardson","Nebesna Rd--Copper Lk Trail","Eureka--Eureka","","","","","","",null,"Willow Area--The Preserve",null,null,"Big Lake--Crooked Lake",1,null,"Big Lake--Crooked Lake","Big Lake","Snow 5",null,"Cantwell Drasher Subdivision--Home, Denali highway","Cantwell",{"$error":"#N/A"},"Snow 9",null,"Copper River Valley-Glennallen","Snow 17"]
["Whittier--Whittier","Summit Lake--Monument","Nancy Lake--Nancy Lake Trail","Denali Hwy--Mile 132","","","","","","",null,"Willow Alaska along the iditarod trail--Willow",null,null,"Big Lake--From horseshoe lake",1,null,"Big Lake--From horseshoe lake","Big Lake","Snow 5",null,"Cantwell--Cantwell","Cantwell","Snow 9","Snow 9",null,"Denali Highway-Cantwell","Snow 18"]
["White Mtns--Trailhead Past Chatanika","Summit Lake, Hoodoo Mountains--Monument Trailhead, Summit Lake","Nancy Lake Rec Site--Red Shirt Lake","Denali Highway Paxson--Paxson Lodge","","","","","","",null,"Whittier--Whittier",null,null,"Big lake--Groomed Trails",1,null,"Big lake--Groomed Trails","Big Lake","Snow 5",null,"cantwell--cantwell","Cantwell","Snow 9","Snow 9",null,"Denali Highway-Central","Snow 19"]
["White Mountains--Wickersham Dome & Mckay CR Trailhead","Summit Lake, Denali Highway, Hoodoos--South end Summit Lake.  Mile 191 Richardson Highway","Moose Meadows,--Wendt Rd, Palmer","Big Lake Trail System--Big Lake Boat Launch","","","","","","",null,"White Mtns--Trailhead Past Chatanika",null,null,"Big lake--Long Island",1,null,"Big lake--Long Island","Big Lake","Snow 5",null,"Castle Mountain--Chickaloon","Cantwell",{"$error":"#N/A"},"Snow 9",null,"Denali Highway-Paxson","Snow 20"]
["White Mountains--Off the Hall Ed","Slipper Lake--Sutton,AK","Lake Louise--Lake Louise Road","Arctic Man--Summit Lake","","","","","","",null,"White Mountains--Wickersham Dome & Mckay CR Trailhead",null,null,"Big Lake--North Shore",1,null,"Big Lake--North Shore","Big Lake","Snow 5",null,"Chase--Talkeetna","Talkeetna Area-Talkeetna",{"$error":"#N/A"},"Snow 81",null,"Denali National Park-Cantwell","Snow 21"]
["White Mountains--27 Mile Elliot","Shishmaref--Airport and school","Johns Lake--Eureka","","","","","","","",null,"White Mountains--Off the Hall Ed",null,null,"Big Lake--Private Home",1,null,"Big Lake--Private Home","Big Lake","Snow 5",null,"Chatanika River--Murphy Dome","Fairbanks",{"$error":"#N/A"},"Snow 27",null,"Drill Lake-Chickaloon","Snow 22"]
["White Mountain--McKay Creek","Ship Creek--Mile 88 Parks","Hoodoo Mtns--Summit Lake","","","","","","","",null,"White Mountains--27 Mile Elliot",null,null,"Big Lake--South Boat Ramp near Big Lake",1,null,"Big Lake--South Boat Ramp near Big Lake","Big Lake","Snow 5",null,"Chena hot springs road mile 15-20--","Chena Hot Springs",{"$error":"#N/A"},"Snow 13",null,"Dry Creek SRA- Gulkana","Snow 23"]
["White Mountain--29 Mile Elliot","Rex Trail West--Rochchester Packs Lodge/mile 280","Hoodoo Mountains--Summit Lake","","","","","","","",null,"White Mountain--McKay Creek",null,null,"Big Lake--South Side of Lake",1,null,"Big Lake--South Side of Lake","Big Lake","Snow 5",null,"Chena State recreation Area--Private property","Chena Hot Springs",{"$error":"#N/A"},"Snow 13",null,"Eagle River Valley","Snow 24"]
["West of Willow--Long Lake","Resurrection Pass Trail--Cooper Landing","Eureka--Eureka","","","","","","","",null,"White Mountain--29 Mile Elliot",null,null,"Big Su Area--The preserve",1,null,"Big Su Area--The preserve","Susitna River-The Preserve","Snow 79",null,"Chitina--5 mile trail","Chitina",{"$error":"#N/A"},"Snow 112",null,"Eureka","Snow 25"]
["Wasilla--Back trails","Placer River--Placer River","Deska Landing--Willow","","","","","","","",null,"West of Willow--Long Lake",null,null,"Birch Creek down to cold creek and into the hunting area for the Steese Highway caribou hunt.--Upper Birch Creek wayside",1,null,"Birch Creek down to cold creek and into the hunting area for the Steese Highway caribou hunt.--Upper Birch Creek wayside","Birch Creek-Steese Highway","Snow 6",null,"Chitna--5 Mile Trail","Chitina",{"$error":"#N/A"},"Snow 112",null,"Eyak Mountain-Cordova","Snow 26"]
["Wales, AK--The airport and school","Pinochle Trail--Mile 104 Richardson Hwy","Denali Highway--Paxson Lodge","","","","","","","",null,"Wasilla--Back trails",null,null,"Bookler Creek--Home",1,null,"Bookler Creek--Home","Uncodeable","Snow 91",null,"Chulitna Bluff/Petersville (N.)--Hwy at Trapper Creek","Petersville-West Susitna Side",{"$error":"#N/A"},"Snow 64",null,"Fairbanks","Snow 27"]
["Volkman Lake--Quartz Lake Good Paster River","Petersville--Trapper Creek","Chena Lake--Trails end of road","","","","","","","",null,"Wales, AK--The airport and school",null,null,"Borough Houston Trails--Near Houston HS",1,null,"Borough Houston Trails--Near Houston HS","Houston","Snow 39",null,"Cleary Summit--Fairbanks Creek Road","Fairbanks",{"$error":"#N/A"},"Snow 27",null,"Forgotten Lake--Lake Louise","Snow 28"]
["Uisnu Lake (meadow lakes)--Property off Gunflint Trail","Petersville--Petersville Rd","Chena Hot Springs--Vic Hot Springs","","","","","","","",null,"Volkman Lake--Quartz Lake Good Paster River",null,null,"Cache Creek/Ester Dome/Ester--Cache Creek",1,null,"Cache Creek/Ester Dome/Ester--Cache Creek","Cache Creek/Ester-Cache Creek","Snow 8",null,"Cleary Summit--Rai Creek Rd","Fairbanks",{"$error":"#N/A"},"Snow 27",null,"Funny River Road-Kenai","Snow 29"]
["Turnagin--Turnagin","Petersville--Oil Well Rd","Chena Hot Springs Rd.--House","","","","","","","",null,"Uisnu Lake (meadow lakes)--Property off Gunflint Trail",null,null,"Cantwell Area--Cantwell Alaska",1,null,"Cantwell Area--Cantwell Alaska","Cantwell","Snow 9",null,"coal mine rd--delta junction","Delta Junction",{"$error":"#N/A"},"Snow 102",null,"Gakona","Snow 30"]
["TUrnagin--From parking lot","Petersville/oilwell road--Susitna landing","Chatanika River Valley--Elliot Hwy 10 mi","","","","","","","",null,"Turnagin--Turnagin",null,null,"Cantwell--Cantwell",2,null,"Cantwell--Cantwell","Cantwell","Snow 9",null,"come on people, May-Oct isn't really snow machine season.--","Uncodeable",{"$error":"#N/A"},"Snow 91",null,"Girdwood","Snow 31"]
["Turnagin Pass--Summit","North Pole Dike--Tanana River area","Cantwell--Mile 173","","","","","","","",null,"TUrnagin--From parking lot",null,null,"Cantwell--Cantwell/Denali Highway - Reindeer Mountain",1,null,"Cantwell--Cantwell/Denali Highway - Reindeer Mountain","Cantwell","Snow 9",null,"Copper Center--Mile 93 Richardson","Copper River Valley-Glennallen",{"$error":"#N/A"},"Snow 17",null,"Gunsight Mountain","Snow 32"]
["Turnagin Pass--Seward Hwy","North of Chena Hotsprings Road accessing the Steese Highway Caribou hunt.--Mile 47 takeout/trail head on Chena Hotsprings.","Cantwell--Cantwell","","","","","","","",null,"Turnagin Pass--Summit",null,null,"Cantwell--Colorado Lake",1,null,"Cantwell--Colorado Lake","Cantwell","Snow 9",null,"Copper Center--my house","Copper River Valley-Glennallen",{"$error":"#N/A"},"Snow 17",null,"Harding Lake Trails--Salcha Drive","Snow 33"]
["Turnagin Pass--Rest Stop near Hwy","Nelchina River--Eureka Lodge","Cantwell Area--Cantwell Alaska","","","","","","","",null,"Turnagin Pass--Seward Hwy",null,null,"Cantwell--Mile 173",1,null,"Cantwell--Mile 173","Cantwell","Snow 9",null,"Crosswind Lakes--Tolsana Lodge","Copper River Valley-Glennallen",{"$error":"#N/A"},"Snow 17",null,"Hatcher Pass-Palmer Side","Snow 34"]
["Turnagin Pass--Parking Lot/Rest Area","nancy lake public use cabin--cabin #4","Bookler Creek--Home","","","","","","","",null,"Turnagin Pass--Rest Stop near Hwy",null,null,"Canwell Glacier--Miller Creek",1,null,"Canwell Glacier--Miller Creek","Canwell Glacier-Miller Creek","Snow 10",null,"Denali Highway--Paxson Lodge","Denali Highway-Paxson","Snow 20","Snow 20",null,"Hatcher Pass-Unspecified","Snow 35"]
["Turnagin Pass--Parking lot at top of pass","Murphy Dome--Murphy Dome Road, Fairbanks","Big Lake--Big Lake","","","","","","","",null,"Turnagin Pass--Parking Lot/Rest Area",null,null,"Caribou Creek--100 Mile",1,null,"Caribou Creek--100 Mile","Turnagain Pass","Snow 90",null,"Denali Highway--Paxton","Denali Highway-Paxson",{"$error":"#N/A"},"Snow 20",null,"Hatcher Pass-Willow Side","Snow 36"]
["Turnagin Pass Trail--Trailhead off Highway","MT Baldy--Trailhead off Shrock","Big Lake Area--South Shoes","","","","","","","",null,"Turnagin Pass--Parking lot at top of pass",null,null,"Carpenter Lake--Carpenter Lake",1,null,"Carpenter Lake--Carpenter Lake","Big Lake","Snow 5",null,"Denali Hwy--Cantwell","Denali Highway-Cantwell","Snow 18","Snow 18",null,"Healy Lake--Cummings Rd","Snow 37"]
["Turnagin Pass Trail--Sunny side","Moose Creek Bluff--Pipeline","Bethel--Village","","","","","","","",null,"Turnagin Pass Trail--Trailhead off Highway",null,null,"Catnwell--Cantwell",2,null,"Catnwell--Cantwell","Cantwell","Snow 9",null,"denali hwy--denali hwy","Denali Highway-Central","Snow 19","Snow 19",null,"Hoodoo Mountains-Paxson","Snow 38"]
["Turnagain pass--Turnagain pass parking lot","Mile 9 Petersville Rd--Trapper Creek","Arctic man--Summit Lake","","","","","","","",null,"Turnagin Pass Trail--Sunny side",null,null,"Chatanika Area--Mile 32.5",1,null,"Chatanika Area--Mile 32.5","Chatanika-Elliot Highway","Snow 11",null,"Denali Hwy--Paxson","Denali Highway-Paxson",{"$error":"#N/A"},"Snow 20",null,"Houston","Snow 39"]
["Turnagain Pass--Turnagain Pass","McCarthy Swift Creek--Swift Creek","","","","","","","","",null,"Turnagain pass--Turnagain pass parking lot",null,null,"Chatanika River Valley--Elliot Hwy 10 mi",1,null,"Chatanika River Valley--Elliot Hwy 10 mi","Chatanika-Elliot Highway","Snow 11",null,"Denali Hwy--Paxson","Denali Highway-Paxson",{"$error":"#N/A"},"Snow 20",null,"Johnson Pass-Kenai Peninsula","Snow 40"]
["Turnagain Pass--Main Parking Lot","Matsu--Hatcher Pass","","","","","","","","",null,"Turnagain Pass--Turnagain Pass",null,null,"Chatin--Chatin",1,null,"Chatin--Chatin","Uncodeable","Snow 91",null,"Denali Hwy--Paxson","Denali Highway-Paxson",{"$error":"#N/A"},"Snow 20",null,"Kashwitna River-Eagles Nest","Snow 41"]
["Trek over the Top--Tok","Matanuska River--Friend back yard","","","","","","","","",null,"Turnagain Pass--Main Parking Lot",null,null,"Chena Flood Plane--Flood Lake",1,null,"Chena Flood Plane--Flood Lake","Chena Flood Control-North Pole","Snow 12",null,"Denali Lake Area--Mile 127 Parks Hwy Parking Lot","Petersville-Talkeetna",{"$error":"#N/A"},"Snow 63",null,"Kenai-Unspecified","Snow 42"]
["Trapper Creek--Gate Creek","Lost lake Trail--Fire House Trail","","","","","","","","",null,"Trek over the Top--Tok",null,null,"Chena Floot Control--North Pole",1,null,"Chena Floot Control--North Pole",{"$f":"S45","v":"Chena Flood Control-North Pole"},"Snow 12",null,"Denali State Park--","Parks Highway--Byers Lake",{"$error":"#N/A"},"Snow 103",null,"King River","Snow 43"]
["Trapper Creek Trails--Trapper Creek Inn","Loss Lake--Cooper Landing","","","","","","","","",null,"Trapper Creek--Gate Creek",null,null,"Chena Hot Springs Rd.--House",1,null,"Chena Hot Springs Rd.--House","Chena Hot Springs","Snow 13",null,"Donnelly Training Area--Fort Greely","Fairbanks-Fort Greely",{"$error":"#N/A"},"Snow 110",null,"Klutina Lake","Snow 44"]
["Trapper Creek North--Parks Hwy MP 120","Long Lake--Willow","","","","","","","","",null,"Trapper Creek Trails--Trapper Creek Inn",null,null,"Chena Hot Springs--Chena Hot Springs Rd.",1,null,"Chena Hot Springs--Chena Hot Springs Rd.","Chena Hot Springs","Snow 13",null,"Dune Lakes--10th St. Nenana","Nenana",{"$error":"#N/A"},"Snow 59",null,"Knik Goose Bay Road","Snow 45"]
["Trails off Salmon Run--Funny River","Knik--Knik","","","","","","","","",null,"Trapper Creek North--Parks Hwy MP 120",null,null,"Chena Hot Springs--Chena Hot Springs Road",1,null,"Chena Hot Springs--Chena Hot Springs Road","Chena Hot Springs","Snow 13",null,"Eureka--","Eureka",{"$error":"#N/A"},"Snow 25",null,"Knik River","Snow 46"]
["trails near Lake Louise & Tazlina Lake--north of Glenn Hwy a few miles from turnoff to Lake Louise Rd","Knik Goose Bay--KGB road private property","","","","","","","","",null,"Trails off Salmon Run--Funny River",null,null,"Chena Hot Springs--Mile 57",1,null,"Chena Hot Springs--Mile 57","Chena Hot Springs","Snow 13",null,"Eureka Lodge--Glenn Hwy","Eureka",{"$error":"#N/A"},"Snow 25",null,"Lake Louise","Snow 47"]
["Trails at mile 127 Parks Hwy--mile 127 Parks Hwy","Klutina Lake--Princess Lodge","","","","","","","","",null,"trails near Lake Louise & Tazlina Lake--north of Glenn Hwy a few miles from turnoff to Lake Louise Rd",null,null,"Chena Hot Springs--Vic Hot Springs",1,null,"Chena Hot Springs--Vic Hot Springs","Chena Hot Springs","Snow 13",null,"Eureka--Eureka","Eureka","Snow 25","Snow 25",null,"Long Lake--Willow","Snow 48"]
["Trails around Fairbanks Alaska--From my home off of Farmer's Loop Road","Kashwitna River Valley--Eagles Nest River","","","","","","","","",null,"Trails at mile 127 Parks Hwy--mile 127 Parks Hwy",null,null,"Chena Lakes Flood Control--North Pole",1,null,"Chena Lakes Flood Control--North Pole","Chena Flood Control-North Pole","Snow 12",null,"Eureka--Eureka road house","Eureka",{"$error":"#N/A"},"Snow 25",null,"Loss Lake--Cooper Landing","Snow 49"]
["Trail off Chena Lakes Rd--Trailhead by Chena Hot Springs","Johnsons Pass--Trailhead just pass Turnagin Parking","","","","","","","","",null,"Trails around Fairbanks Alaska--From my home off of Farmer's Loop Road",null,null,"Chena Lakes, Flood project--Dyke",1,null,"Chena Lakes, Flood project--Dyke","Chena Flood Control-North Pole","Snow 12",null,"Eureka--Glenallen","Eureka",{"$error":"#N/A"},"Snow 25",null,"Lost Lake Trail-Seward","Snow 50"]
["Trading Bay--No trail head. Private cabin","Healy Lake--Cummings Rd","","","","","","","","",null,"Trail off Chena Lakes Rd--Trailhead by Chena Hot Springs",null,null,"Chena lakes--Nearest town",1,null,"Chena lakes--Nearest town","Chena Lakes-North Pole","Snow 14",null,"Fairbanks--Fort Wainwright","Fairbanks",{"$error":"#N/A"},"Snow 27",null,"Manley Hot Springs","Snow 51"]
["Tetlin Refuge--Between Tok and Canada Border","Hatchers Pass--Willow","","","","","","","","",null,"Trading Bay--No trail head. Private cabin",null,null,"Chena Lakes--North Pole",1,null,"Chena Lakes--North Pole","Chena Lakes-North Pole","Snow 14",null,"Fielding Lake--Fielding Lake","Denali Highway-Paxson",{"$error":"#N/A"},"Snow 20",null,"Matanuska River","Snow 52"]
["Tanana River--Chena Pump Road","Hatchers Pass--Hatchers Pass Rd","","","","","","","","",null,"Tetlin Refuge--Between Tok and Canada Border",null,null,"Chena Lakes--Sled dog trail",1,null,"Chena Lakes--Sled dog trail","Chena Lakes-North Pole","Snow 14",null,"Fort Yukon--Fort Yukon","Fort Yukon",{"$error":"#N/A"},"Snow 113",null,"McCarthy","Snow 53"]
["Tanana Flats--Chena/Tanana River","Hatcher Pass--Willow Side Old Rd","","","","","","","","",null,"Tanana River--Chena Pump Road",null,null,"Chena Lake--Trails end of road",1,null,"Chena Lake--Trails end of road","Chena Lakes-North Pole","Snow 14",null,"Fox, Alaska--Elliott Mile 3","Fairbanks-Fox",{"$error":"#N/A"},"Snow 109",null,"Meadow Lakes-Wasilla","Snow 54"]
["Talkeetna--Yoder rd","Hatcher Pass--North Starr Bible Camp","","","","","","","","",null,"Tanana Flats--Chena/Tanana River",null,null,"chena recreation area--compeau trail",1,null,"chena recreation area--compeau trail","Chena Lakes-North Pole","Snow 14",null,"Gakona--Around Home","Gakona",{"$error":"#N/A"},"Snow 30",null,"Mt. Baldy-Shrock Road","Snow 55"]
["Talkeetna Spur Rd Ditch Trail--Mile 9.8","Hatcher Pass--Hatcher Pass","","","","","","","","",null,"Talkeetna--Yoder rd",null,null,"Chickaloon River--Home",1,null,"Chickaloon River--Home","Chickaloon","Snow 16",null,"GMU 20 Siwash Creek--Rexanna Trail","Petersville-West Susitna Side",{"$error":"#N/A"},"Snow 64",null,"Murphy Dome-Murphy Dome Road","Snow 56"]
["Talkeetna River--Talkeetna","Hatcher Pass--Hatcher Pass","","","","","","","","",null,"Talkeetna Spur Rd Ditch Trail--Mile 9.8",null,null,"Chickaloon Trail--Chickaloon",1,null,"Chickaloon Trail--Chickaloon","Chickaloon","Snow 16",null,"Goldstream Valley--Ballamie Road","Fairbanks",{"$error":"#N/A"},"Snow 27",null,"Nabesna Area","Snow 57"]
["Talkeetna Clear Creek Tral--Talkeetna","Hatcher Pass--Hatcher Pass","","","","","","","","",null,"Talkeetna River--Talkeetna",null,null,"Clear Creek Trail--Talkeetna",1,null,"Clear Creek Trail--Talkeetna","Talkeetna Area-Talkeetna","Snow 81",null,"Goose Bay Game Refuse--Meglum Rd","Point Mackenzie",{"$error":"#N/A"},"Snow 104",null,"Nancy Lakes","Snow 58"]
["Talkeetna Area--Talkeetna","Hatcher Pass--Goldmint","","","","","","","","",null,"Talkeetna Clear Creek Tral--Talkeetna",null,null,"Cleary Summit/Chatanika--Cleary Summit, Skiland. Mile 20.5 Steese",1,null,"Cleary Summit/Chatanika--Cleary Summit, Skiland. Mile 20.5 Steese","Fairbanks","Snow 27",null,"Hatcher Pass Trail--Hatcher Pass Trail","Hatcher Pass-Unspecified",{"$error":"#N/A"},"Snow 35",null,"Nenana","Snow 59"]
["Sutton--Private Property","Harding Lake Trails--Salcha Drive","","","","","","","","",null,"Talkeetna Area--Talkeetna",null,null,"Copper River Valley--Glennallen",1,null,"Copper River Valley--Glennallen","Copper River Valley-Glennallen","Snow 17",null,"Hatcher Pass--Upper Lot by miles","Hatcher Pass-Palmer Side",{"$error":"#N/A"},"Snow 34",null,"Palmer","Snow 60"]
["Sustitna River--Deshka Landing","Gunsight Mtn--Near Former Tahneta Lodge","","","","","","","","",null,"Sutton--Private Property",null,null,"Cottonwood Lake--Wasilla",1,null,"Cottonwood Lake--Wasilla","Wasilla","Snow 93",null,"Hatchers Pass--Fishhook Parking","Hatcher Pass-Palmer Side",{"$error":"#N/A"},"Snow 34",null,"Paxson Lake--Pipeline Access Road","Snow 61"]
["summitt--Summitt","Fairbanks--Home","","","","","","","","",null,"Sustitna River--Deshka Landing",null,null,"Cottonwood Subdivision--Ringer Lake, Cottonwood Lake",1,null,"Cottonwood Subdivision--Ringer Lake, Cottonwood Lake","Wasilla","Snow 93",null,"Hatchers Pass--Hatchers Pass Road","Hatcher Pass-Palmer Side",{"$error":"#N/A"},"Snow 34",null,"Petersville-East Susitna Side","Snow 62"]
["Summit--Summit Lake","Eureka--Summit","","","","","","","","",null,"summitt--Summitt",null,null,"Crescent Lake--Trailhead Caster Lake",1,null,"Crescent Lake--Trailhead Caster Lake","Turnagain Pass","Snow 90",null,"Hatchers Pass--Willow","Hatcher Pass-Willow Side","Snow 36","Snow 36",null,"Petersville-Talkeetna","Snow 63"]
["Summit--Paxson","Eureka--Off Glenn Hwy","","","","","","","","",null,"Summit--Summit Lake",null,null,"Crows Pass--Trailhead at Crows Pass",1,null,"Crows Pass--Trailhead at Crows Pass","Girdwood","Snow 31",null,"Isberg Recreation Area--Oboe Court","Fairbanks",{"$error":"#N/A"},"Snow 27",null,"Petersville-West Susitna Side","Snow 64"]
["Summit Lake--Summit Lake","Eureka--Eureka","","","","","","","","",null,"Summit--Paxson",null,null,"Crystal Lake up by Willow--Deshka Landing/Willow",1,null,"Crystal Lake up by Willow--Deshka Landing/Willow","Willow Lakes","Snow 98",null,"Jim Creek--Palmer","Palmer",{"$error":"#N/A"},"Snow 60",null,"Portage/Placer Rivers","Snow 65"]
["Summit Lake--Paxson Lodge/Monument Pull off","Eureka Summit--Euerka","","","","","","","","",null,"Summit Lake--Summit Lake",null,null,"Denali Highway Paxson--Paxson Lodge",1,null,"Denali Highway Paxson--Paxson Lodge","Denali Highway-Paxson",{"$f":"VLOOKUP(S69,$AA$4:$AB$104,2,FALSE)","v":"Snow 20"},null,"Kenny Lake--Mile 12","Copper River Valley-Glennallen",{"$f":"VLOOKUP(V69,$R$4:$T$358,3,FALSE)","v":{"$error":"#N/A"}},{"$f":"VLOOKUP(W69,$AA$4:$AB$122,2,FALSE)","v":"Snow 17"},null,"Powerline Pass- Glen Alps Anchorage","Snow 66"]
["Sterling hwy--Susitna North","Eureka Pass--Eureka","","","","","","","","",null,"Summit Lake--Paxson Lodge/Monument Pull off",null,null,"Denali Highway--Cantwell",1,null,"Denali Highway--Cantwell","Denali Highway-Cantwell","Snow 18",null,"Kenny Lake--Tonsina River","Copper River Valley-Glennallen",{"$error":"#N/A"},"Snow 17",null,"Quartz Lake Winter Trail- Valdez","Snow 67"]
["South of Cantwell--Cantwell  Parks Hwy","Eureka Lodge--Summit Lake","","","","","","","","",null,"Sterling hwy--Susitna North",null,null,"Denali Highway--Paxson Lodge",1,null,"Denali Highway--Paxson Lodge","Denali Highway-Paxson","Snow 20",null,"KGB Private Property--KGB Private Property","Knik Goose Bay Road",{"$error":"#N/A"},"Snow 45",null,"Resurrection Pass Trail-Cooper Landing","Snow 68"]
["Skwentna River--Deshka Landing","East/West Corrider--Mile 123 Parks","","","","","","","","",null,"South of Cantwell--Cantwell  Parks Hwy",null,null,"Denali Hwy--Cantwell",1,null,"Denali Hwy--Cantwell","Denali Highway-Cantwell","Snow 18",null,"Kimball Pass--74 Mile Richardson","Copper River Valley-Glennallen",{"$error":"#N/A"},"Snow 17",null,"Rex Trail- Nenana","Snow 69"]
["Ski Lack Lake--Caribou Island to lower boat launch","eagle river--from home near the ERNC","","","","","","","","",null,"Skwentna River--Deshka Landing",null,null,"Denali Hwy--Denali Hwy",1,null,"Denali Hwy--Denali Hwy","Denali Highway-Central","Snow 19",null,"Klutina Lake--Klutina","Copper River Valley-Glennallen",{"$error":"#N/A"},"Snow 17",null,"Salcha Winter Trail- Salcha","Snow 70"]
["Shaws Tri Lakes--Kilo Drive","Dutch Hilla Peters Creek--Peter Creek Rd","","","","","","","","",null,"Ski Lack Lake--Caribou Island to lower boat launch",null,null,"Denali Hwy--Mile 127",1,null,"Denali Hwy--Mile 127","Denali Highway-Central","Snow 19",null,"Knik River--Knik River Rd","Knik River",{"$error":"#N/A"},"Snow 46",null,"Sheep Creek-Sheep Creek Lodge","Snow 71"]
["Salcha River--Salchaket Roadhouse","Deska Landing to Skwentna--Deshka Landing","","","","","","","","",null,"Shaws Tri Lakes--Kilo Drive",null,null,"Denali Hwy--Mile 132",1,null,"Denali Hwy--Mile 132","Denali Highway-Central","Snow 19",null,"Knik--Knik","Knik Goose Bay Road","Snow 45","Snow 45",null,"Shishmaref","Snow 72"]
["Salcha River--Salcha River lodge","Deshka Landing--to Mona Lake","","","","","","","","",null,"Salcha River--Salchaket Roadhouse",null,null,"Denali Hwy--Paxson Lodge",1,null,"Denali Hwy--Paxson Lodge","Denali Highway-Paxson","Snow 20",null,"Kodiak--","Kodiak",{"$error":"#N/A"},"Snow 105",null,"Skwentna","Snow 73"]
["Salcha River--Home on Salcha, Salchaket Roadhouse","Deshka Landing--Deshka Landing","","","","","","","","",null,"Salcha River--Salcha River lodge",null,null,"Denali Hwy--Susitna North",1,null,"Denali Hwy--Susitna North","Susitna North-Denali","Snow 75",null,"Lake Louise area--from our cabin","Lake Louise",{"$error":"#N/A"},"Snow 47",null,"Skwentna River--Deshka Landing","Snow 74"]
["Salcha River Winter Trail--Salcha River Lodge","Denali Hwy--Susitna North","","","","","","","","",null,"Salcha River--Home on Salcha, Salchaket Roadhouse",null,null,"Denali Lake, Petersville Area--Mile 127",1,null,"Denali Lake, Petersville Area--Mile 127","Petersville-Talkeetna","Snow 63",null,"Lake Louise--Cabin at Lake Louise","Lake Louise",{"$error":"#N/A"},"Snow 47",null,"Susitna North-Denali","Snow 75"]
["Rex Trail East--mile 27.5 Parks Hwy","Denali Hwy--Paxson Lodge","","","","","","","","",null,"Salcha River Winter Trail--Salcha River Lodge",null,null,"Deshka Landing--Deshka Landing",1,null,"Deshka Landing--Deshka Landing","Susitna River-Deshka Landing","Snow 77",null,"Lake Louise--Cameron Cove, Lake Louise","Lake Louise",{"$error":"#N/A"},"Snow 47",null,"Susitna River (Lower)- West Side Residence","Snow 76"]
["Quartz Lake to Goodpasture river area--winter trail at Quartz Lake","Chickaloon Trail--Chickaloon","","","","","","","","",null,"Rex Trail East--mile 27.5 Parks Hwy",null,null,"Deshka Landing--to Mona Lake",1,null,"Deshka Landing--to Mona Lake","Susitna River-Deshka Landing","Snow 77",null,"Lake Louise--Glenn Highway","Lake Louise",{"$error":"#N/A"},"Snow 47",null,"Susitna River-Deshka Landing","Snow 77"]
["Prim Rose Trail--Prim Rose","Chickaloon River--Home","","","","","","","","",null,"Quartz Lake to Goodpasture river area--winter trail at Quartz Lake",null,null,"Deska Landing to Skwentna--Deshka Landing",1,null,"Deska Landing to Skwentna--Deshka Landing","Susitna River-Deshka Landing","Snow 77",null,"Lake Louise--Lake Louise Lodge","Lake Louise","Snow 47","Snow 47",null,"Susitna River-Susitna Landing","Snow 78"]
["powerlinepass--glenalps","Chena Lakes--North Pole","","","","","","","","",null,"Prim Rose Trail--Prim Rose",null,null,"Deska Landing--Willow",1,null,"Deska Landing--Willow","Susitna River-Deshka Landing","Snow 77",null,"Larson Creek--Talkeetna","Talkeetna Area-Talkeetna",{"$error":"#N/A"},"Snow 81",null,"Susitna River-The Preserve","Snow 79"]
["Pipeline Trail--Old murphy Rd.","Chena Lakes, Flood project--Dyke","","","","","","","","",null,"powerlinepass--glenalps",null,null,"Drill Lake--Drill Lake",1,null,"Drill Lake--Drill Lake","Drill Lake-Chickaloon","Snow 22",null,"Little Tok River--Tok","Tok Area",{"$error":"#N/A"},"Snow 86",null,"Sutton","Snow 80"]
["Petersville--Trailhead/Parking lot-O  ilwell Rd.","Chena Lakes Flood Control--North Pole","","","","","","","","",null,"Pipeline Trail--Old murphy Rd.",null,null,"Dunbar Trail to Tolovana Hot Springs--Murphy Dome",1,null,"Dunbar Trail to Tolovana Hot Springs--Murphy Dome",null,{"$error":"#N/A"},null,"long lake--willow",{"$f":"V84","v":"long lake--willow"},"Snow 48","Snow 48",null,"Talkeetna Area-Talkeetna","Snow 81"]
["Petersville--Trailhead in Sunnyside","Chena Hot Springs--Mile 57","","","","","","","","",null,"Petersville--Trailhead/Parking lot-O  ilwell Rd.",null,null,"Dutch Hilla Peters Creek--Peter Creek Rd",1,null,"Dutch Hilla Peters Creek--Peter Creek Rd","Petersville-West Susitna Side","Snow 64",null,"McCarthy Rd--Chitina","Chitina",{"$error":"#N/A"},"Snow 112",null,"Tanana Flats-Chena Pump","Snow 82"]
["Petersville--Talkeetna","Chena Hot Springs--Chena Hot Springs Road","","","","","","","","",null,"Petersville--Trailhead in Sunnyside",null,null,"eagle river--from home near the ERNC",1,null,"eagle river--from home near the ERNC","Eagle River Valley","Snow 24",null,"Mile 130.5 Richardson Hwy--Richardson Hwy","Gakona",{"$error":"#N/A"},"Snow 30",null,"Taylor Mountain-Taylor Highway","Snow 83"]
["Petersville--Parking Lot Mile 115","Catnwell--Cantwell","","","","","","","","",null,"Petersville--Talkeetna",null,null,"East/West Corrider--Mile 123 Parks",1,null,"East/West Corrider--Mile 123 Parks","Trapper Creek","Snow 89",null,"Nancy Lake--South Side","Nancy Lakes",{"$error":"#N/A"},"Snow 58",null,"Tetlin Refuge","Snow 84"]
["Petersville--Off Parks Hwy","Canwell Glacier--Miller Creek","","","","","","","","",null,"Petersville--Parking Lot Mile 115",null,null,"Eureka Area--Eureka",1,null,"Eureka Area--Eureka","Eureka","Snow 25",null,"North of Chena Lakes, Potlatch Pond Area--Chena Lake Rec Area River Park","Chena River State Recreation Area-North Pole",{"$error":"#N/A"},"Snow 15",null,"Thompson Pass","Snow 85"]
["Petersville--Mile 121.5 Parks","Cantwell--Cantwell","","","","","","","","",null,"Petersville--Off Parks Hwy",null,null,"Eureka Lodge, Sheep Mtn--Eureka Lodge",1,null,"Eureka Lodge, Sheep Mtn--Eureka Lodge","Eureka","Snow 25",null,"North Pole Area--Moose Creek","Chena River State Recreation Area-North Pole",{"$error":"#N/A"},"Snow 15",null,"Tok Area","Snow 86"]
["Petersville--kroto creek","Cache Creek/Ester Dome/Ester--Cache Creek","","","","","","","","",null,"Petersville--Mile 121.5 Parks",null,null,"Eureka Lodge--Summit Lake",1,null,"Eureka Lodge--Summit Lake","Eureka","Snow 25",null,"NW Talkeetna Mountains Butte Lake--Cantwell","Cantwell",{"$error":"#N/A"},"Snow 9",null,"Tolovana Hotsprings-Elliot Hwy","Snow 87"]
["Petersville--Kroto Creek","Borough Houston Trails--Near Houston HS","","","","","","","","",null,"Petersville--kroto creek",null,null,"Eureka Pass--Eureka",1,null,"Eureka Pass--Eureka","Eureka","Snow 25",null,"O'brien Creek Rd--Chitina","Chitina",{"$error":"#N/A"},"Snow 112",null,"Trading Bay-West Cook Inlet","Snow 88"]
["Petersville--Kroto Creek","Big Su Area--The preserve","","","","","","","","",null,"Petersville--Kroto Creek",null,null,"Eureka Summit--Euerka",1,null,"Eureka Summit--Euerka","Eureka","Snow 25",null,"olnes/chatnika trail--goldstream rd","Fairbanks",{"$error":"#N/A"},"Snow 27",null,"Trapper Creek","Snow 89"]
["petersville--kroto","Big Lake--From horseshoe lake","","","","","","","","",null,"Petersville--Kroto Creek",null,null,"Eureka Trails--Eureka Lodge",1,null,"Eureka Trails--Eureka Lodge","Eureka","Snow 25",null,"Paxson--Summit Lake","Hoodoo Mountains-Paxson",{"$error":"#N/A"},"Snow 38",null,"Turnagain Pass","Snow 90"]
["Petersville--End of Highway","Baldy--Hatcher Pass Somewhere","","","","","","","","",null,"petersville--kroto",null,null,"Eureka, Alaska--Eureka Lodge",1,null,"Eureka, Alaska--Eureka Lodge","Eureka","Snow 25",null,"Personal Property--Fairbanks","Fairbanks",{"$error":"#N/A"},"Snow 27",null,"Uncodeable","Snow 91"]
["Petersville/oilwell road--Oil well road","Arctin Man--Richardson Hwy","","","","","","","","",null,"Petersville--End of Highway",null,null,"Eureka--Eureka",3,null,"Eureka--Eureka","Eureka","Snow 25",null,"peters creek--","Petersville-Unspecified",{"$error":"#N/A"},"Snow 114",null,"Wales","Snow 92"]
["Petersville Road System--Trailhead @ end of Petersville Road","Arch Angel Valley--Hatcher Pass","","","","","","","","",null,"Petersville/oilwell road--Oil well road",null,null,"Eureka--Eureka Lodge",2,null,"Eureka--Eureka Lodge","Eureka","Snow 25",null,"Petersville--","Petersville-Unspecified",{"$error":"#N/A"},"Snow 114",null,"Wasilla","Snow 93"]
["Petersville area--Mile 121","AK Range--Accross from Birch Lake","","","","","","","","",null,"Petersville Road System--Trailhead @ end of Petersville Road",null,null,"Eureka--Off Glenn Hwy",1,null,"Eureka--Off Glenn Hwy","Eureka","Snow 25",null,"Petersville--","Petersville-Unspecified",{"$error":"#N/A"},"Snow 114",null,"White Mountain-McKay Creek Area","Snow 94"]
["Paxson Lake--Pipeline Access Road","7 Mile Lake Trails--7 Mile Lake Trails","","","","","","","","",null,"Petersville area--Mile 121",null,null,"Eureka--Summit",1,null,"Eureka--Summit","Eureka","Snow 25",null,"Petersville Area--McKinley View B&B","Petersville-West Susitna Side",{"$error":"#N/A"},"Snow 64",null,"White Mountains-Wickersham","Snow 95"]
["Palmer--Palmer","","","","","","","","","",null,"Paxson Lake--Pipeline Access Road",null,null,"Eyak Mountain--Cordova",1,null,"Eyak Mountain--Cordova","Eyak Mountain-Cordova","Snow 26",null,"petersville area--Milepost 127 of Parks Highway","Petersville-West Susitna Side",{"$error":"#N/A"},"Snow 64",null,"Whittier","Snow 96"]
["Palmer Hay Flats--Wasilla Creek","","","","","","","","","",null,"Palmer--Palmer",null,null,"Fairbanks area  Tanana River area--South Lathrop Street",1,null,"Fairbanks area  Tanana River area--South Lathrop Street","Fairbanks","Snow 27",null,"Petersville Area--Trapper Creek","Petersville-West Susitna Side",{"$error":"#N/A"},"Snow 64",null,"Willow Area Trails-Willow","Snow 97"]
["Over the top Highway--Tok","","","","","","","","","",null,"Palmer Hay Flats--Wasilla Creek",null,null,"Fairbanks Area--Fairbanks",1,null,"Fairbanks Area--Fairbanks","Fairbanks","Snow 27",null,"Petersville Road--Trapper Creek","Petersville-West Susitna Side",{"$error":"#N/A"},"Snow 64",null,"Willow Lakes","Snow 98"]
["Northshore Dr--Private Lake","","","","","","","","","",null,"Over the top Highway--Tok",null,null,"Fairbanks Trails and Chena River--Home",1,null,"Fairbanks Trails and Chena River--Home","Fairbanks","Snow 27",null,"petersville--all trails","Petersville-Unspecified",{"$error":"#N/A"},"Snow 114",null,"Winter Trail-Quartz Lake Access","Snow 99"]
["NLSRA--Trail head to red shirt lake","","","","","","","","","",null,"Northshore Dr--Private Lake",null,null,"Fairbanks--201 Corkys Ct",1,null,"Fairbanks--201 Corkys Ct","Fairbanks","Snow 27",null,"Petersville--Kroto Creek","Petersville-West Susitna Side","Snow 64","Snow 64",null,"Yentna to Skwentna-Yentna","Snow 100"]
["Nenana--Nenana","","","","","","","","","",null,"NLSRA--Trail head to red shirt lake",null,null,"Fairbanks--Home",1,null,"Fairbanks--Home","Fairbanks","Snow 27",null,"petersville--kroto trailroad","Petersville-West Susitna Side",{"$error":"#N/A"},"Snow 64",null,"(blank)"]
["Near Horseshoe Lake--Big lake Rd","","","","","","","","","",null,"Nenana--Nenana",null,null,"Forgotten Lake--Lake Louise",1,null,"Forgotten Lake--Lake Louise",{"$f":"R105","v":"Forgotten Lake--Lake Louise"},"Snow 28",null,"Petersville--Petersville","Petersville-West Susitna Side","Snow 64","Snow 64",null,"Grand Total"]
["Nancy Lake--Red Shirt Lake","","","","","","","","","",null,"Near Horseshoe Lake--Big lake Rd",null,null,"Ft Yukon--Birch Creek",1,null,"Ft Yukon--Birch Creek","Birch Creek-Steese Highway","Snow 6",null,"Petersville--Petersville","Petersville-West Susitna Side","Snow 64","Snow 64",null,"Anchorage","Snow 101"]
["Nancy Lake--Our cabin on Nancy Lake","","","","","","","","","",null,"Nancy Lake--Red Shirt Lake",null,null,"Girdwood--caribou hills",1,null,"Girdwood--caribou hills","Girdwood","Snow 31",null,"Petersville--Petersville","Petersville-West Susitna Side","Snow 64","Snow 64",null,"Delta Junction","Snow 102"]
["Nancy Lake--Nancy Lake Rolly","","","","","","","","","",null,"Nancy Lake--Our cabin on Nancy Lake",null,null,"Glenn Hwy--Glenn Hwy Mile 93",1,null,"Glenn Hwy--Glenn Hwy Mile 93","Sutton","Snow 80",null,"petersville--petersville/trapper creek","Petersville-West Susitna Side",{"$error":"#N/A"},"Snow 64",null,"Parks Highway--Byers Lake","Snow 103"]
["Nancy Lake--Nancy Lake Cabin","","","","","","","","","",null,"Nancy Lake--Nancy Lake Rolly",null,null,"Gun Sight Mountain--Gun Sight Mountain",1,null,"Gun Sight Mountain--Gun Sight Mountain","Gunsight Mountain","Snow 32",null,"Plecer River Valley--Plecer River Parking","Portage/Placer Rivers",{"$error":"#N/A"},"Snow 65",null,"Point Mackenzie","Snow 104"]
["Nancy Lake Rec Trail--Nancy Lake","","","","","","","","","",null,"Nancy Lake--Nancy Lake Cabin",null,null,"Gunsight Mtn--Near Former Tahneta Lodge",1,null,"Gunsight Mtn--Near Former Tahneta Lodge","Gunsight Mountain","Snow 32",null,"Puritan/Chickaloon/Rush Lake--Glenn Highway","Palmer",{"$error":"#N/A"},"Snow 60",null,"Kodiak","Snow 105"]
["Nancy Lake area--Nancy Lake Trailhead","","","","","","","","","",null,"Nancy Lake Rec Trail--Nancy Lake",null,null,"Harding Lake Trails--Salcha Drive",1,null,"Harding Lake Trails--Salcha Drive",{"$f":"R111","v":"Harding Lake Trails--Salcha Drive"},"Snow 33",null,"Seward--","Seward",{"$error":"#N/A"},"Snow 115",null,"Norton Sound--Shaktoolik","Snow 106"]
["My Land Chickaloon--Mile 70 Glenn Hwy","","","","","","","","","",null,"Nancy Lake area--Nancy Lake Trailhead",null,null,"hatcher pass--goldmine area trailhead",1,null,"hatcher pass--goldmine area trailhead","Hatcher Pass-Palmer Side","Snow 34",null,"Seward--Seward Military resort","Seward",{"$error":"#N/A"},"Snow 115",null,"Tonsina","Snow 107"]
["Mt Mckinley--North of Cantwell","","","","","","","","","",null,"My Land Chickaloon--Mile 70 Glenn Hwy",null,null,"Hatcher Pass--Goldmint",1,null,"Hatcher Pass--Goldmint","Hatcher Pass-Palmer Side","Snow 34",null,"Shaktoolik, Unalakleet Local trails, Koyuk, Elim & white Mountain--Shaktoolik, Unalakleet Local trails, Koyuk, Elim & white Mountain","Norton Sound--Shaktoolik",{"$error":"#N/A"},"Snow 106",null,"Fairbanks-Wickersham Trailhead","Snow 108"]
["Moose Wallow--Buffalo Mine Road/Palmer","","","","","","","","","",null,"Mt Mckinley--North of Cantwell",null,null,"Hatcher Pass--Hatcher Pass",3,null,"Hatcher Pass--Hatcher Pass","Hatcher Pass-Unspecified","Snow 35",null,"shell lake--shell lake","Skwentna River--Deshka Landing",{"$error":"#N/A"},"Snow 74",null,"Fairbanks-Fox","Snow 109"]
["Minto Flats--Murphy Dome","","","","","","","","","",null,"Moose Wallow--Buffalo Mine Road/Palmer",null,null,"Hatcher Pass--Lower Parking Lot",1,null,"Hatcher Pass--Lower Parking Lot","Hatcher Pass-Palmer Side","Snow 34",null,"skilak lake--upper landing","Kenai-National Wildlife Refuge",{"$error":"#N/A"},"Snow 116",null,"Fairbanks-Fort Greely","Snow 110"]
["Miller Creek--Mile 25 Richardson Hwy","","","","","","","","","",null,"Minto Flats--Murphy Dome",null,null,"hatcher pass--near palmer",1,null,"hatcher pass--near palmer","Hatcher Pass-Palmer Side","Snow 34",null,"South Fork Eagle River--Home","Eagle River Valley",{"$error":"#N/A"},"Snow 24",null,"Chistochina","Snow 111"]
["mile 97 Montana Creek--Mile 97","","","","","","","","","",null,"Miller Creek--Mile 25 Richardson Hwy",null,null,"Hatcher Pass--North Starr Bible Camp",1,null,"Hatcher Pass--North Starr Bible Camp","Hatcher Pass-Palmer Side","Snow 34",null,"Summit Lake--MP 192","Hoodoo Mountains-Paxson",{"$error":"#N/A"},"Snow 38",null,"Chitina","Snow 112"]
["Mile 91.3--Mile 91 Parks Hwy","","","","","","","","","",null,"mile 97 Montana Creek--Mile 97",null,null,"Hatcher Pass--Palmer Fishhook Road",1,null,"Hatcher Pass--Palmer Fishhook Road","Hatcher Pass-Palmer Side","Snow 34",null,"summit lake--rich HI way","Hoodoo Mountains-Paxson",{"$error":"#N/A"},"Snow 38",null,"Fort Yukon","Snow 113"]
["Mile 123 Richardson Hwy--Mile 123 Richardson Hwy","","","","","","","","","",null,"Mile 91.3--Mile 91 Parks Hwy",null,null,"Hatcher Pass--Willow Side Old Rd",1,null,"Hatcher Pass--Willow Side Old Rd","Hatcher Pass-Willow Side","Snow 36",null,"summit--summit","Hoodoo Mountains-Paxson",{"$error":"#N/A"},"Snow 38",null,"Petersville-Unspecified","Snow 114"]
["Mile 121 Parks hwy--Trapper Creek","","","","","","","","","",null,"Mile 123 Richardson Hwy--Mile 123 Richardson Hwy",null,null,"Hatchers Pass--Hatchers Pass Rd",1,null,"Hatchers Pass--Hatchers Pass Rd","Hatcher Pass-Unspecified","Snow 35",null,"Summit--Summit","Hoodoo Mountains-Paxson",{"$error":"#N/A"},"Snow 38",null,"Seward","Snow 115"]
["McKenzie Point--Big Lake","","","","","","","","","",null,"Mile 121 Parks hwy--Trapper Creek",null,null,"Hatchers Pass--Palmer - Fish hook",1,null,"Hatchers Pass--Palmer - Fish hook","Hatcher Pass-Palmer Side","Snow 34",null,"Susitna Lake--Lake Loiuse","Lake Louise",{"$error":"#N/A"},"Snow 47",null,"Kenai-National Wildlife Refuge","Snow 116"]
["Matsu--Lake Louise","","","","","","","","","",null,"McKenzie Point--Big Lake",null,null,"Hatchers Pass--Palmer,AK",1,null,"Hatchers Pass--Palmer,AK","Hatcher Pass-Palmer Side","Snow 34",null,"Susitna Lake--Lake Louise Rd","Lake Louise",{"$error":"#N/A"},"Snow 47",null,"Valdez","Snow 117"]
["Matsu--Big Lake","","","","","","","","","",null,"Matsu--Lake Louise",null,null,"Hatchers Pass--Willow",1,null,"Hatchers Pass--Willow","Hatcher Pass-Willow Side","Snow 36",null,"Susitna River--North of Talkeetna","Talkeetna Area-Talkeetna",{"$error":"#N/A"},"Snow 81"]
["Matanuska River Park--Parking Lot Trailhead","","","","","","","","","",null,"Matsu--Big Lake",null,null,"Healy Lake--Cummings Rd",1,null,"Healy Lake--Cummings Rd",{"$f":"R124","v":"Healy Lake--Cummings Rd"},"Snow 37",null,"Susitna River--Talkeetna","Talkeetna Area-Talkeetna",{"$error":"#N/A"},"Snow 81"]
["Manley Hot Springs--Toffty","","","","","","","","","",null,"Matanuska River Park--Parking Lot Trailhead",null,null,"Hill Side--Hill Side",1,null,"Hill Side--Hill Side","Uncodeable","Snow 91",null,"Talkeetna Area trails--RR/Chasetral","Talkeetna Area-Talkeetna",{"$error":"#N/A"},"Snow 81"]
["Lower Susitna--Deshka Landing","","","","","","","","","",null,"Manley Hot Springs--Toffty",null,null,"Hoodo Mountains--Summit",1,null,"Hoodo Mountains--Summit","Hoodoo Mountains-Paxson","Snow 38",null,"talkeetna area--home","Talkeetna Area-Talkeetna",{"$error":"#N/A"},"Snow 81"]
["Lower Chatanika--Murphy Creek Trailhead","","","","","","","","","",null,"Lower Susitna--Deshka Landing",null,null,"Hoodoo Mountains--Arctic Man",1,null,"Hoodoo Mountains--Arctic Man","Hoodoo Mountains-Paxson","Snow 38",null,"Talkeetna Mountain--Trailhead off of the end of yoder rd","Talkeetna Area-Talkeetna",{"$error":"#N/A"},"Snow 81"]
["Lost lake trail--Prim Rose Trail","","","","","","","","","",null,"Lower Chatanika--Murphy Creek Trailhead",null,null,"Hoodoo Mountains--Summit Lake",1,null,"Hoodoo Mountains--Summit Lake","Hoodoo Mountains-Paxson","Snow 38",null,"Talkeetna River--Larson Lake Trail","Talkeetna Area-Talkeetna",{"$error":"#N/A"},"Snow 81"]
["Lake Louise--Wolverine Lodge","","","","","","","","","",null,"Lost lake trail--Prim Rose Trail",null,null,"Hoodoo Mtns--Summit Lake",1,null,"Hoodoo Mtns--Summit Lake","Hoodoo Mountains-Paxson","Snow 38",null,"Talkeetna--Chulitna Trail","Talkeetna Area-Talkeetna",{"$error":"#N/A"},"Snow 81"]
["Lake Louise--Road","","","","","","","","","",null,"Lake Louise--Wolverine Lodge",null,null,"Iditarod Trail, Yentna River, Northwoods Lodge--Willow Lake",1,null,"Iditarod Trail, Yentna River, Northwoods Lodge--Willow Lake","Yentna to Skwentna-Yentna","Snow 100",null,"Talkeetna--Loraines Trail","Talkeetna Area-Talkeetna",{"$error":"#N/A"},"Snow 81"]
["Lake Louise--Lake Louise Rd","","","","","","","","","",null,"Lake Louise--Road",null,null,"Iditarod Trail--Big Lake Area",1,null,"Iditarod Trail--Big Lake Area","Big Lake","Snow 5",null,"Talkeetna--Sunshine","Talkeetna Area-Talkeetna",{"$error":"#N/A"},"Snow 81"]
["Lake Louise--Lake Louise Lodge","","","","","","","","","",null,"Lake Louise--Lake Louise Rd",null,null,"Iditarod Trail--Mile 80 Parks Hwy",1,null,"Iditarod Trail--Mile 80 Parks Hwy","Willow Lakes","Snow 98",null,"Talkeetna--Talkeetna","Talkeetna Area-Talkeetna",{"$error":"#N/A"},"Snow 81"]
["Lake Louise--Lake Louise end of the road","","","","","","","","","",null,"Lake Louise--Lake Louise Lodge",null,null,"Iditarod Trail--Skwentna to Finger Lake",1,null,"Iditarod Trail--Skwentna to Finger Lake","Skwentna",{"$f":"VLOOKUP(S133,$AA$4:$AB$104,2,FALSE)","v":"Snow 73"},null,"Tazina Lake--Glenn Highway","Copper River Valley-Glennallen",{"$f":"VLOOKUP(V133,$R$4:$T$358,3,FALSE)","v":{"$error":"#N/A"}},{"$f":"VLOOKUP(W133,$AA$4:$AB$122,2,FALSE)","v":"Snow 17"}]
["Lake Louise Susitna Lake--Lake Louise Lodge","","","","","","","","","",null,"Lake Louise--Lake Louise end of the road",null,null,"Interior--Fairbanks",1,null,"Interior--Fairbanks","Fairbanks","Snow 27",null,"Thompson Pass--Mile 27 Richardson","Thompson Pass",{"$error":"#N/A"},"Snow 85"]
["Knik River, Jim Creek--Butte","","","","","","","","","",null,"Lake Louise Susitna Lake--Lake Louise Lodge",null,null,"Johns Lake--Eureka",1,null,"Johns Lake--Eureka","Eureka","Snow 25",null,"Thompson Pass--Roadside","Thompson Pass",{"$error":"#N/A"},"Snow 85"]
["King River--Glenn Highway","","","","","","","","","",null,"Knik River, Jim Creek--Butte",null,null,"Johnsons Pass--Trailhead just pass Turnagin Parking",1,null,"Johnsons Pass--Trailhead just pass Turnagin Parking","Johnson Pass-Kenai Peninsula","Snow 40",null,"Tok--","Tok Area",{"$error":"#N/A"},"Snow 86"]
["Kenai--Around backtrails","","","","","","","","","",null,"King River--Glenn Highway",null,null,"Kashwitna River Valley--Eagles Nest River",1,null,"Kashwitna River Valley--Eagles Nest River","Kashwitna River-Eagles Nest","Snow 41",null,"Tok--Tok","Tok Area",{"$error":"#N/A"},"Snow 86"]
["Interior--Fairbanks","","","","","","","","","",null,"Kenai--Around backtrails",null,null,"Kenai--Around backtrails",1,null,"Kenai--Around backtrails","Kenai-Unspecified","Snow 42",null,"Tonsina Lake--Richardson Hwy","Tonsina",{"$error":"#N/A"},"Snow 107"]
["Iditarod Trail--Skwentna to Finger Lake","","","","","","","","","",null,"Interior--Fairbanks",null,null,"King River--Glenn Highway",1,null,"King River--Glenn Highway","King River","Snow 43",null,"Tonsina North Agricultural Subdivision--Ag road, Mile 94 Richardson Hwy","Tonsina",{"$error":"#N/A"},"Snow 107"]
["Iditarod Trail--Mile 80 Parks Hwy","","","","","","","","","",null,"Iditarod Trail--Skwentna to Finger Lake",null,null,"King River--Home",1,null,"King River--Home","King River","Snow 43",null,"Trapper Creek--","Trapper Creek",{"$error":"#N/A"},"Snow 89"]
["Iditarod Trail--Big Lake Area","","","","","","","","","",null,"Iditarod Trail--Mile 80 Parks Hwy",null,null,"Klutina Lake--Princess Lodge",1,null,"Klutina Lake--Princess Lodge","Klutina Lake","Snow 44",null,"trapper creek area--east west express chlitna bluff etc","Trapper Creek",{"$error":"#N/A"},"Snow 89"]
["Iditarod Trail, Yentna River, Northwoods Lodge--Willow Lake","","","","","","","","","",null,"Iditarod Trail--Big Lake Area",null,null,"Knik Goose Bay--KGB road private property",1,null,"Knik Goose Bay--KGB road private property","Knik Goose Bay Road","Snow 45",null,"Trapper Creek--Trapper Creek","Trapper Creek",{"$error":"#N/A"},"Snow 89"]
["Hoodoo Mountains--Arctic Man","","","","","","","","","",null,"Iditarod Trail, Yentna River, Northwoods Lodge--Willow Lake",null,null,"Knik River, Jim Creek--Butte",1,null,"Knik River, Jim Creek--Butte","Knik River","Snow 46",null,"Trapper Lake--Trapper Lake","Trapper Creek",{"$error":"#N/A"},"Snow 89"]
["Hoodo Mountains--Summit","","","","","","","","","",null,"Hoodoo Mountains--Arctic Man",null,null,"Knik--Knik",1,null,"Knik--Knik","Knik Goose Bay Road","Snow 45",null,"Turnagain Pass--Seward Highway Turnagain Pass parking lot","Turnagain Pass",{"$error":"#N/A"},"Snow 90"]
["Hill Side--Hill Side","","","","","","","","","",null,"Hoodo Mountains--Summit",null,null,"Lake Louise Susitna Lake--Lake Louise Lodge",1,null,"Lake Louise Susitna Lake--Lake Louise Lodge","Lake Louise","Snow 47",null,"Turnagain Pass--Turnagain Pass","Turnagain Pass","Snow 90","Snow 90"]
["Hatchers Pass--Palmer,AK","","","","","","","","","",null,"Hill Side--Hill Side",null,null,"Lake Louise--Lake Louise end of the road",1,null,"Lake Louise--Lake Louise end of the road","Lake Louise","Snow 47",null,"Turnagain Pass--Turnagain Pass Parking lot","Turnagain Pass","Snow 90","Snow 90"]
["Hatchers Pass--Palmer - Fish hook","","","","","","","","","",null,"Hatchers Pass--Palmer,AK",null,null,"Lake Louise--Lake Louise Lodge",2,null,"Lake Louise--Lake Louise Lodge","Lake Louise","Snow 47",null,"Turnagain--Hope Pass","Turnagain Pass",{"$error":"#N/A"},"Snow 90"]
["Hatcher Pass--Palmer Fishhook Road","","","","","","","","","",null,"Hatchers Pass--Palmer - Fish hook",null,null,"Lake Louise--Lake Louise Rd",1,null,"Lake Louise--Lake Louise Rd","Lake Louise","Snow 47",null,"Turnagin Pass--Motorized Lot","Turnagain Pass",{"$error":"#N/A"},"Snow 90"]
["hatcher pass--near palmer","","","","","","","","","",null,"Hatcher Pass--Palmer Fishhook Road",null,null,"Lake Louise--Lake Louise Road",1,null,"Lake Louise--Lake Louise Road","Lake Louise","Snow 47",null,"turnigan pass--turnigan pass","Turnagain Pass",{"$error":"#N/A"},"Snow 90"]
["Hatcher Pass--Lower Parking Lot","","","","","","","","","",null,"hatcher pass--near palmer",null,null,"Lake Louise--Road",1,null,"Lake Louise--Road","Lake Louise","Snow 47",null,"turragain pass--sunnyside","Turnagain Pass",{"$error":"#N/A"},"Snow 90"]
["hatcher pass--goldmine area trailhead","","","","","","","","","",null,"Hatcher Pass--Lower Parking Lot",null,null,"Lake Louise--Wolverine Lodge",1,null,"Lake Louise--Wolverine Lodge","Lake Louise","Snow 47",null,"Valdez--","Valdez",{"$error":"#N/A"},"Snow 117"]
["Gun Sight Mountain--Gun Sight Mountain","","","","","","","","","",null,"hatcher pass--goldmine area trailhead",null,null,"Long Lake--Willow",1,null,"Long Lake--Willow",{"$f":"R152","v":"Long Lake--Willow"},"Snow 48",null,"Wasilla Hatchers Pass--Hatchers Pass","Hatcher Pass-Palmer Side",{"$error":"#N/A"},"Snow 34"]
["Glenn Hwy--Glenn Hwy Mile 93","","","","","","","","","",null,"Gun Sight Mountain--Gun Sight Mountain",null,null,"Loss Lake--Cooper Landing",1,null,"Loss Lake--Cooper Landing",{"$f":"R153","v":"Loss Lake--Cooper Landing"},"Snow 49",null,"Wasilla--Local Roads","Wasilla",{"$error":"#N/A"},"Snow 93"]
["Girdwood--caribou hills","","","","","","","","","",null,"Glenn Hwy--Glenn Hwy Mile 93",null,null,"Lost lake Trail--Fire House Trail",1,null,"Lost lake Trail--Fire House Trail","Lost Lake Trail-Seward","Snow 50",null,"white mountains--white mountains recreation area","Fairbanks-Wickersham Trailhead",{"$error":"#N/A"},"Snow 108"]
["Ft Yukon--Birch Creek","","","","","","","","","",null,"Girdwood--caribou hills",null,null,"Lost lake trail--Prim Rose Trail",1,null,"Lost lake trail--Prim Rose Trail","Lost Lake Trail-Seward","Snow 50",null,"White Mt Area--State Rec area steese Hwy","Fairbanks-Wickersham Trailhead",{"$error":"#N/A"},"Snow 108"]
["Forgotten Lake--Lake Louise","","","","","","","","","",null,"Ft Yukon--Birch Creek",null,null,"Lower Chatanika--Murphy Creek Trailhead",1,null,"Lower Chatanika--Murphy Creek Trailhead","Fairbanks","Snow 27",null,"whittier--whittier","Whittier","Snow 96","Snow 96"]
["Fairbanks--201 Corkys Ct","","","","","","","","","",null,"Forgotten Lake--Lake Louise",null,null,"Lower Susitna--Deshka Landing",1,null,"Lower Susitna--Deshka Landing","Susitna River-Deshka Landing","Snow 77",null,"Wild Lake near Bettles--","Bettles",{"$error":"#N/A"},"Snow 4"]
["Fairbanks Trails and Chena River--Home","","","","","","","","","",null,"Fairbanks--201 Corkys Ct",null,null,"Manley Hot Springs--Toffty",1,null,"Manley Hot Springs--Toffty","Manley Hot Springs","Snow 51",null,"Willow Lake Mile 89 Richardson Hwy--Mile 89 Richardson Hwy","Willow Area Trails-Willow",{"$error":"#N/A"},"Snow 97"]
["Fairbanks area  Tanana River area--South Lathrop Street","","","","","","","","","",null,"Fairbanks Trails and Chena River--Home",null,null,"Matanuska River Park--Parking Lot Trailhead",1,null,"Matanuska River Park--Parking Lot Trailhead","Matanuska River","Snow 52",null,"Willow--Deshka Landing","Willow Area Trails-Willow",{"$error":"#N/A"},"Snow 97"]
["Eyak Mountain--Cordova","","","","","","","","","",null,"Fairbanks area  Tanana River area--South Lathrop Street",null,null,"Matanuska River--Friend back yard",1,null,"Matanuska River--Friend back yard","Matanuska River","Snow 52",null,"Willow--My home","Willow Area Trails-Willow",{"$error":"#N/A"},"Snow 97"]
["Eureka, Alaska--Eureka Lodge","","","","","","","","","",null,"Eyak Mountain--Cordova",null,null,"Matsu--Big Lake",1,null,"Matsu--Big Lake","Big Lake","Snow 5",null,"WIllow--private","Willow Area Trails-Willow",{"$error":"#N/A"},"Snow 97"]
["Eureka Lodge, Sheep Mtn--Eureka Lodge","","","","","","","","","",null,"Eureka, Alaska--Eureka Lodge",null,null,"Matsu--Hatcher Pass",1,null,"Matsu--Hatcher Pass","Hatcher Pass-Unspecified","Snow 35",null,"Willow--South Side","Willow Area Trails-Willow",{"$error":"#N/A"},"Snow 97"]
["Eureka Area--Eureka","","","","","","","","","",null,"Eureka Lodge, Sheep Mtn--Eureka Lodge",null,null,"Matsu--Lake Louise",1,null,"Matsu--Lake Louise","Lake Louise","Snow 47",null,"Wrangell Mtn--Copper Center","Copper River Valley-Glennallen",{"$error":"#N/A"},"Snow 17"]
["Dunbar Trail to Tolovana Hot Springs--Murphy Dome","","","","","","","","","",null,"Eureka Area--Eureka",null,null,"McCarthy Swift Creek--Swift Creek",1,null,"McCarthy Swift Creek--Swift Creek","McCarthy","Snow 53",null,"Yentna River--Deshka Landing","Yentna to Skwentna-Yentna","Snow 77","Snow 100"]
["Drill Lake--Drill Lake","","","","","","","","","",null,"Dunbar Trail to Tolovana Hot Springs--Murphy Dome",null,null,"McKenzie Point--Big Lake",1,null,"McKenzie Point--Big Lake","Big Lake","Snow 5"]
["Denali Lake, Petersville Area--Mile 127","","","","","","","","","",null,"Drill Lake--Drill Lake",null,null,"Mile 121 Parks hwy--Trapper Creek",1,null,"Mile 121 Parks hwy--Trapper Creek","Trapper Creek","Snow 89"]
["Denali Hwy--Mile 127","","","","","","","","","",null,"Denali Lake, Petersville Area--Mile 127",null,null,"Mile 123 Richardson Hwy--Mile 123 Richardson Hwy",1,null,"Mile 123 Richardson Hwy--Mile 123 Richardson Hwy","Gakona","Snow 30"]
["Denali Hwy--Denali Hwy","","","","","","","","","",null,"Denali Hwy--Mile 127",null,null,"Mile 135--Mile 135",1,null,"Mile 135--Mile 135","Dry Creek SRA- Gulkana","Snow 23"]
["Denali Hwy--Cantwell","","","","","","","","","",null,"Denali Hwy--Denali Hwy",null,null,"Mile 9 Petersville Rd--Trapper Creek",1,null,"Mile 9 Petersville Rd--Trapper Creek","Petersville-West Susitna Side","Snow 64"]
["Denali Highway--Cantwell","","","","","","","","","",null,"Denali Hwy--Cantwell",null,null,"Mile 91.3--Mile 91 Parks Hwy",1,null,"Mile 91.3--Mile 91 Parks Hwy","Talkeetna Area-Talkeetna","Snow 81"]
["Crystal Lake up by Willow--Deshka Landing/Willow","","","","","","","","","",null,"Denali Highway--Cantwell",null,null,"mile 97 Montana Creek--Mile 97",1,null,"mile 97 Montana Creek--Mile 97","Talkeetna Area-Talkeetna","Snow 81"]
["Crows Pass--Trailhead at Crows Pass","","","","","","","","","",null,"Crystal Lake up by Willow--Deshka Landing/Willow",null,null,"Miller Creek--Mile 25 Richardson Hwy",1,null,"Miller Creek--Mile 25 Richardson Hwy","Thompson Pass","Snow 85"]
["Crescent Lake--Trailhead Caster Lake","","","","","","","","","",null,"Crows Pass--Trailhead at Crows Pass",null,null,"Minto Flats--Murphy Dome",1,null,"Minto Flats--Murphy Dome","Murphy Dome-Murphy Dome Road","Snow 56"]
["Cottonwood Subdivision--Ringer Lake, Cottonwood Lake","","","","","","","","","",null,"Crescent Lake--Trailhead Caster Lake",null,null,"Moose Creek Bluff--Pipeline",1,null,"Moose Creek Bluff--Pipeline","Murphy Dome-Murphy Dome Road","Snow 56"]
["Cottonwood Lake--Wasilla","","","","","","","","","",null,"Cottonwood Subdivision--Ringer Lake, Cottonwood Lake",null,null,"Moose Meadows,--Wendt Rd, Palmer",1,null,"Moose Meadows,--Wendt Rd, Palmer","Hatcher Pass-Palmer Side","Snow 34"]
["Copper River Valley--Glennallen","","","","","","","","","",null,"Cottonwood Lake--Wasilla",null,null,"Moose Wallow--Buffalo Mine Road/Palmer",1,null,"Moose Wallow--Buffalo Mine Road/Palmer","Hatcher Pass-Palmer Side","Snow 34"]
["Cleary Summit/Chatanika--Cleary Summit, Skiland. Mile 20.5 Steese","","","","","","","","","",null,"Copper River Valley--Glennallen",null,null,"MT Baldy--Trailhead off Shrock",1,null,"MT Baldy--Trailhead off Shrock","Mt. Baldy-Shrock Road","Snow 55"]
["Clear Creek Trail--Talkeetna","","","","","","","","","",null,"Cleary Summit/Chatanika--Cleary Summit, Skiland. Mile 20.5 Steese",null,null,"Mt Mckinley--North of Cantwell",1,null,"Mt Mckinley--North of Cantwell","Denali National Park-Cantwell","Snow 21"]
["chena recreation area--compeau trail","","","","","","","","","",null,"Clear Creek Trail--Talkeetna",null,null,"Murphy Dome--Murphy Dome",1,null,"Murphy Dome--Murphy Dome","Murphy Dome-Murphy Dome Road","Snow 56"]
["Chena Lakes--Sled dog trail","","","","","","","","","",null,"chena recreation area--compeau trail",null,null,"Murphy Dome--Murphy Dome Road, Fairbanks",1,null,"Murphy Dome--Murphy Dome Road, Fairbanks","Murphy Dome-Murphy Dome Road","Snow 56"]
["Chena lakes--Nearest town","","","","","","","","","",null,"Chena Lakes--Sled dog trail",null,null,"My Land Chickaloon--Mile 70 Glenn Hwy",1,null,"My Land Chickaloon--Mile 70 Glenn Hwy","Chickaloon","Snow 16"]
["Chena Hot Springs--Chena Hot Springs Rd.","","","","","","","","","",null,"Chena lakes--Nearest town",null,null,"Nancy Lake area--Nancy Lake Trailhead",1,null,"Nancy Lake area--Nancy Lake Trailhead","Nancy Lakes","Snow 58"]
["Chena Floot Control--North Pole","","","","","","","","","",null,"Chena Hot Springs--Chena Hot Springs Rd.",null,null,"nancy lake public use cabin--cabin #4",1,null,"nancy lake public use cabin--cabin #4","Nancy Lakes","Snow 58"]
["Chena Flood Plane--Flood Lake","","","","","","","","","",null,"Chena Floot Control--North Pole",null,null,"Nancy Lake Rec Site--Red Shirt Lake",1,null,"Nancy Lake Rec Site--Red Shirt Lake","Nancy Lakes","Snow 58"]
["Chatanika Area--Mile 32.5","","","","","","","","","",null,"Chena Flood Plane--Flood Lake",null,null,"Nancy Lake Rec Trail--Nancy Lake",1,null,"Nancy Lake Rec Trail--Nancy Lake","Nancy Lakes","Snow 58"]
["Catnwell--Cantwell","","","","","","","","","",null,"Chatanika Area--Mile 32.5",null,null,"Nancy Lake--Canoe Trail",1,null,"Nancy Lake--Canoe Trail","Nancy Lakes","Snow 58"]
["Carpenter Lake--Carpenter Lake","","","","","","","","","",null,"Catnwell--Cantwell",null,null,"Nancy Lake--Nancy Lake Cabin",1,null,"Nancy Lake--Nancy Lake Cabin","Nancy Lakes","Snow 58"]
["Cantwell--Colorado Lake","","","","","","","","","",null,"Carpenter Lake--Carpenter Lake",null,null,"Nancy Lake--Nancy Lake Rolly",1,null,"Nancy Lake--Nancy Lake Rolly","Nancy Lakes","Snow 58"]
["Cantwell--Cantwell/Denali Highway - Reindeer Mountain","","","","","","","","","",null,"Cantwell--Colorado Lake",null,null,"Nancy Lake--Nancy Lake Trail",1,null,"Nancy Lake--Nancy Lake Trail","Nancy Lakes","Snow 58"]
["Birch Creek down to cold creek and into the hunting area for the Steese Highway caribou hunt.--Upper Birch Creek wayside","","","","","","","","","",null,"Cantwell--Cantwell/Denali Highway - Reindeer Mountain",null,null,"Nancy Lake--Our cabin on Nancy Lake",1,null,"Nancy Lake--Our cabin on Nancy Lake","Nancy Lakes","Snow 58"]
["Big Lake--South Side of Lake","","","","","","","","","",null,"Birch Creek down to cold creek and into the hunting area for the Steese Highway caribou hunt.--Upper Birch Creek wayside",null,null,"Nancy Lake--Red Shirt Lake",1,null,"Nancy Lake--Red Shirt Lake","Nancy Lakes","Snow 58"]
["Big Lake--South Boat Ramp near Big Lake","","","","","","","","","",null,"Big Lake--South Side of Lake",null,null,"Near Horseshoe Lake--Big lake Rd",1,null,"Near Horseshoe Lake--Big lake Rd","Big Lake","Snow 5"]
["Big Lake--Private Home","","","","","","","","","",null,"Big Lake--South Boat Ramp near Big Lake",null,null,"Nebesna Rd--Copper Lk Trail",1,null,"Nebesna Rd--Copper Lk Trail","Nabesna Area","Snow 57"]
["Big Lake--North Shore","","","","","","","","","",null,"Big Lake--Private Home",null,null,"Nelchina River--Eureka Lodge",1,null,"Nelchina River--Eureka Lodge","Eureka","Snow 25"]
["Big lake--Long Island","","","","","","","","","",null,"Big Lake--North Shore",null,null,"Nenana--Nenana",1,null,"Nenana--Nenana","Nenana","Snow 59"]
["Big lake--Groomed Trails","","","","","","","","","",null,"Big lake--Long Island",null,null,"Nesbina Rd--Lost Creek Trail",1,null,"Nesbina Rd--Lost Creek Trail","Nabesna Area","Snow 57"]
["Big Lake--Crooked Lake","","","","","","","","","",null,"Big lake--Groomed Trails",null,null,"NLSRA--Trail head to red shirt lake",1,null,"NLSRA--Trail head to red shirt lake","Nancy Lakes",{"$f":"VLOOKUP(S197,$AA$4:$AB$104,2,FALSE)","v":"Snow 58"}]
["Big Lake, Alaska--Horseshoe Lake Road via Camp Maranatha","","","","","","","","","",null,"Big Lake--Crooked Lake",null,null,"North of Chena Hotsprings Road accessing the Steese Highway Caribou hunt.--Mile 47 takeout/trail head on Chena Hotsprings.",1,null,"North of Chena Hotsprings Road accessing the Steese Highway Caribou hunt.--Mile 47 takeout/trail head on Chena Hotsprings.","Chena Hot Springs","Snow 13"]
["Between portage and girdwood--left-side of highway for about 15 miles","","","","","","","","","",null,"Big Lake, Alaska--Horseshoe Lake Road via Camp Maranatha",null,null,"North Pole Dike--Tanana River area",1,null,"North Pole Dike--Tanana River area","Chena River State Recreation Area-North Pole","Snow 15"]
["Bettles, AK--Bettles","","","","","","","","","",null,"Between portage and girdwood--left-side of highway for about 15 miles",null,null,"North Pole Trails--Behind N Pas",1,null,"North Pole Trails--Behind N Pas","Chena River State Recreation Area-North Pole","Snow 15"]
["Around Home - 5 mile badger rd--Around Home - 5 mile badger rd","","","","","","","","","",null,"Bettles, AK--Bettles",null,null,"North Pole--Hurst Road trail",1,null,"North Pole--Hurst Road trail","Chena River State Recreation Area-North Pole","Snow 15"]
["Arctic Man--Paxson","","","","","","","","","",null,"Around Home - 5 mile badger rd--Around Home - 5 mile badger rd",null,null,"North Pole--North Pole",1,null,"North Pole--North Pole","Chena River State Recreation Area-North Pole","Snow 15"]
["Arctic Man, Hoodoo Mtns--Paxson","","","","","","","","","",null,"Arctic Man--Paxson",null,null,"Northshore Dr--Private Lake",1,null,"Northshore Dr--Private Lake","Big Lake","Snow 5"]
["a--a","","","","","","","","","",null,"Arctic Man, Hoodoo Mtns--Paxson",null,null,"Oshetna River--Eureka",1,null,"Oshetna River--Eureka","Eureka","Snow 25"]
["","","","","","","","","","",null,"Willow--High 450 subdivision",null,null,"Over the top Highway--Tok",1,null,"Over the top Highway--Tok","Tok Area","Snow 86"]
["","","","","","","","","","",null,"WIllow swamps--Willow",null,null,"Palmer Hay Flats--Wasilla Creek",1,null,"Palmer Hay Flats--Wasilla Creek","Palmer","Snow 60"]
["","","","","","","","","","",null,"Whittier--Whittier Boat Harbor",null,null,"Palmer--Palmer",1,null,"Palmer--Palmer","Palmer","Snow 60"]
["","","","","","","","","","",null,"White Mountains--Wickersham Dome",null,null,"Paxson Lake--Pipeline Access Road",1,null,"Paxson Lake--Pipeline Access Road",{"$f":"R208","v":"Paxson Lake--Pipeline Access Road"},"Snow 61"]
["","","","","","","","","","",null,"White Mountains--Wickersham",null,null,"Petersville Area--Kroto Creek",1,null,"Petersville Area--Kroto Creek","Petersville-West Susitna Side","Snow 64"]
["","","","","","","","","","",null,"Wasilla--Palmer/Wasilla",null,null,"Petersville area--Mile 121",1,null,"Petersville area--Mile 121","Petersville-West Susitna Side","Snow 64"]
["","","","","","","","","","",null,"Wasilla Lake--My home-Wasilla",null,null,"Petersville Road System--Trailhead @ end of Petersville Road",1,null,"Petersville Road System--Trailhead @ end of Petersville Road","Petersville-West Susitna Side","Snow 64"]
["","","","","","","","","","",null,"Turnagin Pass--Turn out top of pass",null,null,"Petersville/oilwell road--Oil well road",1,null,"Petersville/oilwell road--Oil well road","Petersville-West Susitna Side","Snow 64"]
["","","","","","","","","","",null,"Turnagain--Turnagain Pull Out",null,null,"Petersville/oilwell road--Susitna landing",1,null,"Petersville/oilwell road--Susitna landing","Petersville-East Susitna Side","Snow 62"]
["","","","","","","","","","",null,"Turnagain--Spenser",null,null,"Petersville--End of Highway",1,null,"Petersville--End of Highway","Petersville-West Susitna Side","Snow 64"]
["","","","","","","","","","",null,"Trapper Creek--Trapper Creek Parking",null,null,"petersville--kroto",1,null,"petersville--kroto","Petersville-West Susitna Side","Snow 64"]
["","","","","","","","","","",null,"Taylor Hwy--9 mile trail, Taylor Mtn",null,null,"Petersville--kroto creek",3,null,"Petersville--kroto creek","Petersville-West Susitna Side","Snow 64"]
["","","","","","","","","","",null,"Tanana River--Chena Pump Road",null,null,"Petersville--Kroto Creek Parking",1,null,"Petersville--Kroto Creek Parking","Petersville-West Susitna Side","Snow 64"]
["","","","","","","","","","",null,"Tanana River--Chena Pump down to Woodriver",null,null,"Petersville--Mile 121.5 Parks",1,null,"Petersville--Mile 121.5 Parks","Petersville-West Susitna Side","Snow 64"]
["","","","","","","","","","",null,"Susitna/Yentna--Residence",null,null,"Petersville--Mile 17 Petersville Rd.",1,null,"Petersville--Mile 17 Petersville Rd.","Petersville-West Susitna Side","Snow 64"]
["","","","","","","","","","",null,"Summit--Off the road access",null,null,"Petersville--Off Parks Hwy",1,null,"Petersville--Off Parks Hwy","Petersville-West Susitna Side","Snow 64"]
["","","","","","","","","","",null,"Summit Pass--Summit Pass",null,null,"Petersville--Oil Well Rd",1,null,"Petersville--Oil Well Rd","Petersville-West Susitna Side","Snow 64"]
["","","","","","","","","","",null,"Summit Moon--Richardson",null,null,"Petersville--Parking Lot Mile 115",1,null,"Petersville--Parking Lot Mile 115","Petersville-West Susitna Side","Snow 64"]
["","","","","","","","","","",null,"Summit Lake--Monument",null,null,"Petersville--Petersville",1,null,"Petersville--Petersville","Petersville-West Susitna Side","Snow 64"]
["","","","","","","","","","",null,"Summit Lake, Hoodoo Mountains--Monument Trailhead, Summit Lake",null,null,"Petersville--Petersville Rd",1,null,"Petersville--Petersville Rd","Petersville-West Susitna Side","Snow 64"]
["","","","","","","","","","",null,"Summit Lake, Denali Highway, Hoodoos--South end Summit Lake.  Mile 191 Richardson Highway",null,null,"Petersville--Talkeetna",1,null,"Petersville--Talkeetna","Petersville-Talkeetna","Snow 63"]
["","","","","","","","","","",null,"Slipper Lake--Sutton,AK",null,null,"Petersville--Trailhead in Sunnyside",1,null,"Petersville--Trailhead in Sunnyside","Petersville-West Susitna Side","Snow 64"]
["","","","","","","","","","",null,"Shishmaref--Airport and school",null,null,"Petersville--Trailhead/Parking lot-O  ilwell Rd.",1,null,"Petersville--Trailhead/Parking lot-O  ilwell Rd.","Petersville-West Susitna Side","Snow 64"]
["","","","","","","","","","",null,"Ship Creek--Mile 88 Parks",null,null,"Petersville--Trapper Creek",1,null,"Petersville--Trapper Creek","Petersville-West Susitna Side","Snow 64"]
["","","","","","","","","","",null,"Rex Trail West--Rochchester Packs Lodge/mile 280",null,null,"Pinochle Trail--Mile 104 Richardson Hwy",1,null,"Pinochle Trail--Mile 104 Richardson Hwy","Copper River Valley-Glennallen","Snow 17"]
["","","","","","","","","","",null,"Resurrection Pass Trail--Cooper Landing",null,null,"Pipeline Trail--Old murphy Rd.",1,null,"Pipeline Trail--Old murphy Rd.","Murphy Dome-Murphy Dome Road","Snow 56"]
["","","","","","","","","","",null,"Placer River--Placer River",null,null,"Placer River--Placer River",1,null,"Placer River--Placer River","Portage/Placer Rivers","Snow 65"]
["","","","","","","","","","",null,"Pinochle Trail--Mile 104 Richardson Hwy",null,null,"Plack road & Repp Pipeline--side road",1,null,"Plack road & Repp Pipeline--side road","Chena Lakes-North Pole","Snow 14"]
["","","","","","","","","","",null,"Petersville--Trapper Creek",null,null,"Portage--Spencer Glacier",1,null,"Portage--Spencer Glacier","Portage/Placer Rivers","Snow 65"]
["","","","","","","","","","",null,"Petersville--Petersville Rd",null,null,"powerlinepass--glenalps",1,null,"powerlinepass--glenalps","Powerline Pass- Glen Alps Anchorage","Snow 66"]
["","","","","","","","","","",null,"Petersville--Oil Well Rd",null,null,"Prim Rose Trail--Prim Rose",1,null,"Prim Rose Trail--Prim Rose","Lost Lake Trail-Seward","Snow 50"]
["","","","","","","","","","",null,"Petersville/oilwell road--Susitna landing",null,null,"Quartz Lake to Goodpasture river area--winter trail at Quartz Lake",1,null,"Quartz Lake to Goodpasture river area--winter trail at Quartz Lake","Winter Trail-Quartz Lake Access","Snow 99"]
["","","","","","","","","","",null,"North Pole Dike--Tanana River area",null,null,"Resurrection Pass Trail--Cooper Landing",1,null,"Resurrection Pass Trail--Cooper Landing","Resurrection Pass Trail-Cooper Landing","Snow 68"]
["","","","","","","","","","",null,"North of Chena Hotsprings Road accessing the Steese Highway Caribou hunt.--Mile 47 takeout/trail head on Chena Hotsprings.",null,null,"Rex Trail East--mile 27.5 Parks Hwy",1,null,"Rex Trail East--mile 27.5 Parks Hwy","Rex Trail- Nenana","Snow 69"]
["","","","","","","","","","",null,"Nelchina River--Eureka Lodge",null,null,"Rex Trail West--Rochchester Packs Lodge/mile 280",1,null,"Rex Trail West--Rochchester Packs Lodge/mile 280","Rex Trail- Nenana","Snow 69"]
["","","","","","","","","","",null,"nancy lake public use cabin--cabin #4",null,null,"Salcha River Winter Trail--Salcha River Lodge",1,null,"Salcha River Winter Trail--Salcha River Lodge","Salcha Winter Trail- Salcha","Snow 70"]
["","","","","","","","","","",null,"Murphy Dome--Murphy Dome Road, Fairbanks",null,null,"Salcha River--Home on Salcha, Salchaket Roadhouse",1,null,"Salcha River--Home on Salcha, Salchaket Roadhouse","Salcha Winter Trail- Salcha","Snow 70"]
["","","","","","","","","","",null,"MT Baldy--Trailhead off Shrock",null,null,"Salcha River--Richardson Hwy",1,null,"Salcha River--Richardson Hwy","Salcha Winter Trail- Salcha","Snow 70"]
["","","","","","","","","","",null,"Moose Creek Bluff--Pipeline",null,null,"Salcha River--Salcha River lodge",1,null,"Salcha River--Salcha River lodge","Salcha Winter Trail- Salcha","Snow 70"]
["","","","","","","","","","",null,"Mile 9 Petersville Rd--Trapper Creek",null,null,"Salcha River--Salchaket Roadhouse",1,null,"Salcha River--Salchaket Roadhouse","Salcha Winter Trail- Salcha","Snow 70"]
["","","","","","","","","","",null,"McCarthy Swift Creek--Swift Creek",null,null,"Salcha River--Salsaket Humstead",1,null,"Salcha River--Salsaket Humstead","Salcha Winter Trail- Salcha","Snow 70"]
["","","","","","","","","","",null,"Matsu--Hatcher Pass",null,null,"Shaws Tri Lakes--Kilo Drive",1,null,"Shaws Tri Lakes--Kilo Drive","Wasilla","Snow 93"]
["","","","","","","","","","",null,"Matanuska River--Friend back yard",null,null,"Ship Creek--Mile 88 Parks",1,null,"Ship Creek--Mile 88 Parks","Sheep Creek-Sheep Creek Lodge","Snow 71"]
["","","","","","","","","","",null,"Lost lake Trail--Fire House Trail",null,null,"Shishmaref--Airport and school",1,null,"Shishmaref--Airport and school","Shishmaref","Snow 72"]
["","","","","","","","","","",null,"Loss Lake--Cooper Landing",null,null,"Ski Lack Lake--Caribou Island to lower boat launch",1,null,"Ski Lack Lake--Caribou Island to lower boat launch","7 Mile Lake Trails-Skilak","Snow 1"]
["","","","","","","","","","",null,"Long Lake--Willow",null,null,"Ski Land Area--Chatanika Alaska",1,null,"Ski Land Area--Chatanika Alaska","Chatanika-Elliot Highway","Snow 11"]
["","","","","","","","","","",null,"Knik--Knik",null,null,"Skwentna River--Deshka Landing",1,null,"Skwentna River--Deshka Landing","Skwentna River--Deshka Landing","Snow 74"]
["","","","","","","","","","",null,"Knik Goose Bay--KGB road private property",null,null,"Slipper Lake--Sutton,AK",1,null,"Slipper Lake--Sutton,AK","Sutton","Snow 80"]
["","","","","","","","","","",null,"Klutina Lake--Princess Lodge",null,null,"South of Cantwell--Cantwell  Parks Hwy",1,null,"South of Cantwell--Cantwell  Parks Hwy","Cantwell","Snow 9"]
["","","","","","","","","","",null,"Kashwitna River Valley--Eagles Nest River",null,null,"Sterling hwy--Susitna North",1,null,"Sterling hwy--Susitna North","Uncodeable","Snow 91"]
["","","","","","","","","","",null,"Johnsons Pass--Trailhead just pass Turnagin Parking",null,null,"Summit Lake, Denali Highway, Hoodoos--South end Summit Lake.  Mile 191 Richardson Highway",1,null,"Summit Lake, Denali Highway, Hoodoos--South end Summit Lake.  Mile 191 Richardson Highway","Hoodoo Mountains-Paxson","Snow 38"]
["","","","","","","","","","",null,"Healy Lake--Cummings Rd",null,null,"Summit Lake, Hoodoo Mountains--Monument Trailhead, Summit Lake",1,null,"Summit Lake, Hoodoo Mountains--Monument Trailhead, Summit Lake","Hoodoo Mountains-Paxson","Snow 38"]
["","","","","","","","","","",null,"Hatchers Pass--Willow",null,null,"Summit Lake--Cabin D Summit Lake",1,null,"Summit Lake--Cabin D Summit Lake","Hoodoo Mountains-Paxson","Snow 38"]
["","","","","","","","","","",null,"Hatchers Pass--Hatchers Pass Rd",null,null,"Summit Lake--Monument",1,null,"Summit Lake--Monument","Hoodoo Mountains-Paxson","Snow 38"]
["","","","","","","","","","",null,"Hatcher Pass--Willow Side Old Rd",null,null,"Summit Lake--Paxson Lodge/Monument Pull off",1,null,"Summit Lake--Paxson Lodge/Monument Pull off","Hoodoo Mountains-Paxson","Snow 38"]
["","","","","","","","","","",null,"Hatcher Pass--North Starr Bible Camp",null,null,"Summit Lake--Summit Lake",1,null,"Summit Lake--Summit Lake","Hoodoo Mountains-Paxson","Snow 38"]
["","","","","","","","","","",null,"Hatcher Pass--Hatcher Pass",null,null,"Summit Moon--Richardson",1,null,"Summit Moon--Richardson","Hoodoo Mountains-Paxson",{"$f":"VLOOKUP(S261,$AA$4:$AB$104,2,FALSE)","v":"Snow 38"}]
["","","","","","","","","","",null,"Hatcher Pass--Hatcher Pass",null,null,"Summit Pass--Summit Pass",1,null,"Summit Pass--Summit Pass","Uncodeable","Snow 91"]
["","","","","","","","","","",null,"Hatcher Pass--Hatcher Pass",null,null,"Summit--Off the road access",1,null,"Summit--Off the road access","Uncodeable","Snow 91"]
["","","","","","","","","","",null,"Hatcher Pass--Goldmint",null,null,"Summit--Paxson",1,null,"Summit--Paxson","Hoodoo Mountains-Paxson","Snow 38"]
["","","","","","","","","","",null,"Harding Lake Trails--Salcha Drive",null,null,"Summit--Summit Lake",1,null,"Summit--Summit Lake","Hoodoo Mountains-Paxson","Snow 38"]
["","","","","","","","","","",null,"Gunsight Mtn--Near Former Tahneta Lodge",null,null,"summitt--Summitt",1,null,"summitt--Summitt","Hoodoo Mountains-Paxson","Snow 38"]
["","","","","","","","","","",null,"Fairbanks--Home",null,null,"Susitna River Trails--Susitna Landing",1,null,"Susitna River Trails--Susitna Landing","Susitna River-Susitna Landing","Snow 78"]
["","","","","","","","","","",null,"Eureka--Summit",null,null,"Susitna/Yentna--Residence",1,null,"Susitna/Yentna--Residence","Susitna River (Lower)- West Side Residence","Snow 76"]
["","","","","","","","","","",null,"Eureka--Off Glenn Hwy",null,null,"Sustitna River--Deshka Landing",1,null,"Sustitna River--Deshka Landing","Susitna River-Deshka Landing","Snow 77"]
["","","","","","","","","","",null,"Eureka--Eureka",null,null,"Sutton--Private Property",1,null,"Sutton--Private Property","Sutton","Snow 80"]
["","","","","","","","","","",null,"Eureka Summit--Euerka",null,null,"Sutton--Trail Area",1,null,"Sutton--Trail Area","Sutton","Snow 80"]
["","","","","","","","","","",null,"Eureka Pass--Eureka",null,null,"Talkeetna Area--Talkeetna",1,null,"Talkeetna Area--Talkeetna","Talkeetna Area-Talkeetna","Snow 81"]
["","","","","","","","","","",null,"Eureka Lodge--Summit Lake",null,null,"Talkeetna Clear Creek Tral--Talkeetna",1,null,"Talkeetna Clear Creek Tral--Talkeetna",{"$f":"S272","v":"Talkeetna Area-Talkeetna"},"Snow 81"]
["","","","","","","","","","",null,"East/West Corrider--Mile 123 Parks",null,null,"Talkeetna River--Talkeetna",1,null,"Talkeetna River--Talkeetna","Talkeetna Area-Talkeetna","Snow 81"]
["","","","","","","","","","",null,"eagle river--from home near the ERNC",null,null,"Talkeetna Spur Rd Ditch Trail--Mile 9.8",1,null,"Talkeetna Spur Rd Ditch Trail--Mile 9.8","Talkeetna Area-Talkeetna","Snow 81"]
["","","","","","","","","","",null,"Dutch Hilla Peters Creek--Peter Creek Rd",null,null,"Talkeetna--Yoder rd",1,null,"Talkeetna--Yoder rd","Talkeetna Area-Talkeetna","Snow 81"]
["","","","","","","","","","",null,"Deska Landing to Skwentna--Deshka Landing",null,null,"Tanana Flats--Chena/Tanana River",1,null,"Tanana Flats--Chena/Tanana River","Tanana Flats-Chena Pump","Snow 82"]
["","","","","","","","","","",null,"Deshka Landing--to Mona Lake",null,null,"Tanana River--Chena Pump down to Woodriver",1,null,"Tanana River--Chena Pump down to Woodriver","Tanana Flats-Chena Pump","Snow 82"]
["","","","","","","","","","",null,"Deshka Landing--Deshka Landing",null,null,"Tanana River--Chena Pump Road",2,null,"Tanana River--Chena Pump Road","Tanana Flats-Chena Pump","Snow 82"]
["","","","","","","","","","",null,"Denali Hwy--Susitna North",null,null,"Taylor Hwy--9 mile trail, Taylor Mtn",1,null,"Taylor Hwy--9 mile trail, Taylor Mtn","Taylor Mountain-Taylor Highway","Snow 83"]
["","","","","","","","","","",null,"Denali Hwy--Paxson Lodge",null,null,"Taylor Hwy--Alasksa Hwys",1,null,"Taylor Hwy--Alasksa Hwys","Taylor Mountain-Taylor Highway","Snow 83"]
["","","","","","","","","","",null,"Chickaloon Trail--Chickaloon",null,null,"Tetlin Refuge--Between Tok and Canada Border",1,null,"Tetlin Refuge--Between Tok and Canada Border","Tetlin Refuge","Snow 84"]
["","","","","","","","","","",null,"Chickaloon River--Home",null,null,"Thompson Pass--At the pass",1,null,"Thompson Pass--At the pass","Thompson Pass","Snow 85"]
["","","","","","","","","","",null,"Chena Lakes--North Pole",null,null,"Thompson Pass--By dot station at 30 mile north of Valdez",1,null,"Thompson Pass--By dot station at 30 mile north of Valdez","Thompson Pass","Snow 85"]
["","","","","","","","","","",null,"Chena Lakes, Flood project--Dyke",null,null,"Tok Area--My house to Wolf Lake",1,null,"Tok Area--My house to Wolf Lake","Tok Area","Snow 86"]
["","","","","","","","","","",null,"Chena Lakes Flood Control--North Pole",null,null,"Tok to Dawson--Trek over the top",1,null,"Tok to Dawson--Trek over the top","Tok Area","Snow 86"]
["","","","","","","","","","",null,"Chena Hot Springs--Mile 57",null,null,"Tok--To Dawson Canada",1,null,"Tok--To Dawson Canada","Tok Area","Snow 86"]
["","","","","","","","","","",null,"Chena Hot Springs--Chena Hot Springs Road",null,null,"Tolovana Hotsprings--Elliot Hwy",1,null,"Tolovana Hotsprings--Elliot Hwy","Tolovana Hotsprings-Elliot Hwy","Snow 87"]
["","","","","","","","","","",null,"Catnwell--Cantwell",null,null,"Trading Bay--No trail head. Private cabin",1,null,"Trading Bay--No trail head. Private cabin","Trading Bay-West Cook Inlet","Snow 88"]
["","","","","","","","","","",null,"Canwell Glacier--Miller Creek",null,null,"Trail off Chena Lakes Rd--Trailhead by Chena Hot Springs",1,null,"Trail off Chena Lakes Rd--Trailhead by Chena Hot Springs","Chena Hot Springs","Snow 13"]
["","","","","","","","","","",null,"Cantwell--Cantwell",null,null,"Trails around Fairbanks Alaska--From my home off of Farmer's Loop Road",1,null,"Trails around Fairbanks Alaska--From my home off of Farmer's Loop Road","Fairbanks","Snow 27"]
["","","","","","","","","","",null,"Cache Creek/Ester Dome/Ester--Cache Creek",null,null,"Trails at mile 127 Parks Hwy--mile 127 Parks Hwy",1,null,"Trails at mile 127 Parks Hwy--mile 127 Parks Hwy","Trapper Creek","Snow 89"]
["","","","","","","","","","",null,"Borough Houston Trails--Near Houston HS",null,null,"trails near Lake Louise & Tazlina Lake--north of Glenn Hwy a few miles from turnoff to Lake Louise Rd",1,null,"trails near Lake Louise & Tazlina Lake--north of Glenn Hwy a few miles from turnoff to Lake Louise Rd","Lake Louise","Snow 47"]
["","","","","","","","","","",null,"Big Su Area--The preserve",null,null,"Trails off Salmon Run--Funny River",1,null,"Trails off Salmon Run--Funny River","Funny River Road-Kenai","Snow 29"]
["","","","","","","","","","",null,"Big Lake--From horseshoe lake",null,null,"Trapper Creek North--Parks Hwy MP 120",1,null,"Trapper Creek North--Parks Hwy MP 120","Trapper Creek","Snow 89"]
["","","","","","","","","","",null,"Baldy--Hatcher Pass Somewhere",null,null,"Trapper Creek Trails--Trapper Creek Inn",1,null,"Trapper Creek Trails--Trapper Creek Inn","Trapper Creek","Snow 89"]
["","","","","","","","","","",null,"Arctin Man--Richardson Hwy",null,null,"Trapper Creek--Gate Creek",1,null,"Trapper Creek--Gate Creek","Trapper Creek","Snow 89"]
["","","","","","","","","","",null,"Arch Angel Valley--Hatcher Pass",null,null,"Trapper Creek--Trapper Creek Parking",1,null,"Trapper Creek--Trapper Creek Parking","Trapper Creek","Snow 89"]
["","","","","","","","","","",null,"AK Range--Accross from Birch Lake",null,null,"Trek over the Top--Tok",1,null,"Trek over the Top--Tok","Tok Area","Snow 86"]
["","","","","","","","","","",null,"7 Mile Lake Trails--7 Mile Lake Trails",null,null,"Turnagain Pass--Main Parking Lot",1,null,"Turnagain Pass--Main Parking Lot","Turnagain Pass","Snow 90"]
["","","","","","","","","","",null,"Yukon Triangle Area--Johnson Road",null,null,"Turnagain Pass--Turnagain Pass",1,null,"Turnagain Pass--Turnagain Pass","Turnagain Pass","Snow 90"]
["","","","","","","","","","",null,"Willow--Willow",null,null,"Turnagain pass--Turnagain pass parking lot",1,null,"Turnagain pass--Turnagain pass parking lot","Turnagain Pass","Snow 90"]
["","","","","","","","","","",null,"Willow Mtn--Residence",null,null,"Turnagain--Spenser",1,null,"Turnagain--Spenser","Turnagain Pass","Snow 90"]
["","","","","","","","","","",null,"Upper Glenn Alps--Upper Glenn Alps Parking",null,null,"Turnagain--Turnagain Pull Out",1,null,"Turnagain--Turnagain Pull Out","Turnagain Pass","Snow 90"]
["","","","","","","","","","",null,"Turnagin Pass--Turnagin Pass Highway",null,null,"Turnagin Pass Trail--Sunny side",1,null,"Turnagin Pass Trail--Sunny side","Turnagain Pass","Snow 90"]
["","","","","","","","","","",null,"Turnagin Pass--Turnagin",null,null,"Turnagin Pass Trail--Trailhead",1,null,"Turnagin Pass Trail--Trailhead","Turnagain Pass","Snow 90"]
["","","","","","","","","","",null,"Tolovana Hotsprings--Elliot Hwy",null,null,"Turnagin Pass Trail--Trailhead off Highway",1,null,"Turnagin Pass Trail--Trailhead off Highway","Turnagain Pass","Snow 90"]
["","","","","","","","","","",null,"Tok to Dawson--Trek over the top",null,null,"Turnagin Pass--Parking lot at top of pass",1,null,"Turnagin Pass--Parking lot at top of pass","Turnagain Pass","Snow 90"]
["","","","","","","","","","",null,"Taylor Hwy--Alasksa Hwys",null,null,"Turnagin Pass--Parking Lot/Rest Area",1,null,"Turnagin Pass--Parking Lot/Rest Area","Turnagain Pass","Snow 90"]
["","","","","","","","","","",null,"Sutton--Trail Area",null,null,"Turnagin Pass--Rest Stop near Hwy",1,null,"Turnagin Pass--Rest Stop near Hwy","Turnagain Pass","Snow 90"]
["","","","","","","","","","",null,"Summit Lake--Cabin D Summit Lake",null,null,"Turnagin Pass--Seward Hwy",1,null,"Turnagin Pass--Seward Hwy","Turnagain Pass","Snow 90"]
["","","","","","","","","","",null,"Ski Land Area--Chatanika Alaska",null,null,"Turnagin Pass--Summit",1,null,"Turnagin Pass--Summit","Turnagain Pass","Snow 90"]
["","","","","","","","","","",null,"Salcha River--Salsaket Humstead",null,null,"Turnagin Pass--Turn out top of pass",1,null,"Turnagin Pass--Turn out top of pass","Turnagain Pass","Snow 90"]
["","","","","","","","","","",null,"Portage--Spencer Glacier",null,null,"Turnagin Pass--Turnagin",1,null,"Turnagin Pass--Turnagin","Turnagain Pass","Snow 90"]
["","","","","","","","","","",null,"Plack road & Repp Pipeline--side road",null,null,"Turnagin Pass--Turnagin Pass Highway",1,null,"Turnagin Pass--Turnagin Pass Highway","Turnagain Pass","Snow 90"]
["","","","","","","","","","",null,"Petersville--Mile 17 Petersville Rd.",null,null,"TUrnagin--From parking lot",1,null,"TUrnagin--From parking lot","Turnagain Pass","Snow 90"]
["","","","","","","","","","",null,"Petersville--Kroto Creek Parking",null,null,"Turnagin--Turnagin",1,null,"Turnagin--Turnagin","Turnagain Pass","Snow 90"]
["","","","","","","","","","",null,"Nebesna Rd--Copper Lk Trail",null,null,"Uisnu Lake (meadow lakes)--Property off Gunflint Trail",1,null,"Uisnu Lake (meadow lakes)--Property off Gunflint Trail","Meadow Lakes-Wasilla","Snow 54"]
["","","","","","","","","","",null,"Nancy Lake--Nancy Lake Trail",null,null,"Upper Glenn Alps--Upper Glenn Alps Parking",1,null,"Upper Glenn Alps--Upper Glenn Alps Parking","Powerline Pass- Glen Alps Anchorage","Snow 66"]
["","","","","","","","","","",null,"Nancy Lake Rec Site--Red Shirt Lake",null,null,"Volkman Lake--Quartz Lake Good Paster River",1,null,"Volkman Lake--Quartz Lake Good Paster River","Quartz Lake Winter Trail- Valdez","Snow 67"]
["","","","","","","","","","",null,"Moose Meadows,--Wendt Rd, Palmer",null,null,"Wales, AK--The airport and school",1,null,"Wales, AK--The airport and school","Wales","Snow 92"]
["","","","","","","","","","",null,"Lake Louise--Lake Louise Road",null,null,"Wasilla Lake--My home-Wasilla",1,null,"Wasilla Lake--My home-Wasilla","Wasilla","Snow 93"]
["","","","","","","","","","",null,"Johns Lake--Eureka",null,null,"Wasilla--Back trails",1,null,"Wasilla--Back trails","Wasilla","Snow 93"]
["","","","","","","","","","",null,"Hoodoo Mtns--Summit Lake",null,null,"Wasilla--Palmer/Wasilla",1,null,"Wasilla--Palmer/Wasilla","Wasilla","Snow 93"]
["","","","","","","","","","",null,"Hoodoo Mountains--Summit Lake",null,null,"West of Willow--Long Lake",1,null,"West of Willow--Long Lake","Willow Area Trails-Willow",{"$f":"VLOOKUP(S325,$AA$4:$AB$104,2,FALSE)","v":"Snow 97"}]
["","","","","","","","","","",null,"Eureka--Eureka",null,null,"White Mountain--29 Mile Elliot",1,null,"White Mountain--29 Mile Elliot","White Mountains-Wickersham","Snow 95"]
["","","","","","","","","","",null,"Deska Landing--Willow",null,null,"White Mountain--McKay Creek",1,null,"White Mountain--McKay Creek","White Mountain-McKay Creek Area","Snow 94"]
["","","","","","","","","","",null,"Denali Highway--Paxson Lodge",null,null,"White Mountains--27 Mile Elliot",1,null,"White Mountains--27 Mile Elliot","White Mountains-Wickersham","Snow 95"]
["","","","","","","","","","",null,"Chena Lake--Trails end of road",null,null,"White Mountains--Off the Hall Ed",1,null,"White Mountains--Off the Hall Ed","White Mountain-McKay Creek Area","Snow 94"]
["","","","","","","","","","",null,"Chena Hot Springs--Vic Hot Springs",null,null,"White Mountains--Wickersham",1,null,"White Mountains--Wickersham","White Mountains-Wickersham","Snow 95"]
["","","","","","","","","","",null,"Chena Hot Springs Rd.--House",null,null,"White Mountains--Wickersham Dome",1,null,"White Mountains--Wickersham Dome","White Mountains-Wickersham","Snow 95"]
["","","","","","","","","","",null,"Chatanika River Valley--Elliot Hwy 10 mi",null,null,"White Mountains--Wickersham Dome & Mckay CR Trailhead",1,null,"White Mountains--Wickersham Dome & Mckay CR Trailhead","White Mountains-Wickersham","Snow 95"]
["","","","","","","","","","",null,"Cantwell--Mile 173",null,null,"White Mtns--Trailhead Past Chatanika",1,null,"White Mtns--Trailhead Past Chatanika","White Mountain-McKay Creek Area","Snow 94"]
["","","","","","","","","","",null,"Cantwell--Cantwell",null,null,"Whittier--Whittier",1,null,"Whittier--Whittier","Whittier","Snow 96"]
["","","","","","","","","","",null,"Cantwell Area--Cantwell Alaska",null,null,"Whittier--Whittier Boat Harbor",1,null,"Whittier--Whittier Boat Harbor","Whittier","Snow 96"]
["","","","","","","","","","",null,"Bookler Creek--Home",null,null,"Willow Alaska along the iditarod trail--Willow",1,null,"Willow Alaska along the iditarod trail--Willow","Willow Area Trails-Willow","Snow 97"]
["","","","","","","","","","",null,"Big Lake--Big Lake",null,null,"Willow Area--Mile 85 Parks Hwy",1,null,"Willow Area--Mile 85 Parks Hwy","Willow Area Trails-Willow","Snow 97"]
["","","","","","","","","","",null,"Big Lake Area--South Shoes",null,null,"Willow Area--The Preserve",1,null,"Willow Area--The Preserve","Susitna River-The Preserve","Snow 79"]
["","","","","","","","","","",null,"Bethel--Village",null,null,"Willow Lake Loop Trail--Vera Lake",1,null,"Willow Lake Loop Trail--Vera Lake","Willow Area Trails-Willow","Snow 97"]
["","","","","","","","","","",null,"Arctic man--Summit Lake",null,null,"Willow Lake Loop Trail--Willow",1,null,"Willow Lake Loop Trail--Willow","Willow Area Trails-Willow","Snow 97"]
["","","","","","","","","","",null,"Willow Area--Mile 85 Parks Hwy",null,null,"Willow Lake Loop--Willow",1,null,"Willow Lake Loop--Willow","Willow Area Trails-Willow","Snow 97"]
["","","","","","","","","","",null,"Turnagin Pass Trail--Trailhead",null,null,"Willow Lake, Iditarod--Restart",1,null,"Willow Lake, Iditarod--Restart","Willow Area Trails-Willow","Snow 97"]
["","","","","","","","","","",null,"Tok--To Dawson Canada",null,null,"Willow Lakes--Crystal Lake",1,null,"Willow Lakes--Crystal Lake","Willow Area Trails-Willow","Snow 97"]
["","","","","","","","","","",null,"Tok Area--My house to Wolf Lake",null,null,"Willow Lake--Willow",1,null,"Willow Lake--Willow","Willow Area Trails-Willow","Snow 97"]
["","","","","","","","","","",null,"Thompson Pass--By dot station at 30 mile north of Valdez",null,null,"Willow Mtn--Residence",1,null,"Willow Mtn--Residence","Willow Area Trails-Willow","Snow 97"]
["","","","","","","","","","",null,"Susitna River Trails--Susitna Landing",null,null,"Willow Swamps--Willow",2,null,"Willow Swamps--Willow","Willow Area Trails-Willow","Snow 97"]
["","","","","","","","","","",null,"Salcha River--Richardson Hwy",null,null,"Willow Trail System--Crystal Lake",1,null,"Willow Trail System--Crystal Lake","Willow Area Trails-Willow","Snow 97"]
["","","","","","","","","","",null,"Petersville--Petersville",null,null,"Willow Trails--Residence",1,null,"Willow Trails--Residence","Willow Area Trails-Willow","Snow 97"]
["","","","","","","","","","",null,"Petersville Area--Kroto Creek",null,null,"Willow/Hatchers Pass--Houston City Hall/Zerp Lake Road",1,null,"Willow/Hatchers Pass--Houston City Hall/Zerp Lake Road","Hatcher Pass-Willow Side","Snow 36"]
["","","","","","","","","","",null,"North Pole--Hurst Road trail",null,null,"Willow--Big Lke",1,null,"Willow--Big Lke","Willow Area Trails-Willow","Snow 97"]
["","","","","","","","","","",null,"North Pole Trails--Behind N Pas",null,null,"Willow--High 450 subdivision",1,null,"Willow--High 450 subdivision","Willow Area Trails-Willow","Snow 97"]
["","","","","","","","","","",null,"Nancy Lake--Canoe Trail",null,null,"Willow--Long Lake",1,null,"Willow--Long Lake","Willow Area Trails-Willow","Snow 97"]
["","","","","","","","","","",null,"Murphy Dome--Murphy Dome",null,null,"Willow--Vera Lake",1,null,"Willow--Vera Lake","Willow Area Trails-Willow","Snow 97"]
["","","","","","","","","","",null,"King River--Home",null,null,"Willow--Willow",1,null,"Willow--Willow","Willow Area Trails-Willow","Snow 97"]
["","","","","","","","","","",null,"Fairbanks Area--Fairbanks",null,null,"Wilow/Shirley Lake--Wilow/Shirley Lake",1,null,"Wilow/Shirley Lake--Wilow/Shirley Lake","Willow Area Trails-Willow","Snow 97"]
["","","","","","","","","","",null,"Eureka--Eureka Lodge",null,null,"Yenta to Sqwentna--Yenta to Sqwentna",1,null,"Yenta to Sqwentna--Yenta to Sqwentna","Yentna to Skwentna-Yentna","Snow 100"]
["","","","","","","","","","",null,"Eureka--Eureka Lodge",null,null,"Yentna River--Deshka landing",1,null,"Yentna River--Deshka landing","Susitna River-Deshka Landing","Snow 77"]
["","","","","","","","","","",null,"Eureka--Eureka",null,null,"Yukon Triangle Area--Johnson Road",1,null,"Yukon Triangle Area--Johnson Road","Uncodeable","Snow 91"]
["","","","","","","","","","",null,"Denali Hwy--Mile 132",null,null,"Grand Total",368]
["","","","","","","","","","",null,"Denali Highway Paxson--Paxson Lodge"]
["","","","","","","","","","",null,"Big Lake Trail System--Big Lake Boat Launch"]
["","","","","","","","","","",null,"Arctic Man--Summit Lake"]
["","","","","","","","","","",null,"Thompson Pass--At the pass"]
["","","","","","","","","","",null,"Nesbina Rd--Lost Creek Trail"]
["","","","","","","","","","",null,"Mile 135--Mile 135"]
["","","","","","","","","","",null,"Lake Louise--Lake Louise Lodge"]
["","","","","","","","","","",null,"Eureka Trails--Eureka Lodge"]
["","","","","","","","","","",null,"Chatin--Chatin"]
["","","","","","","","","","",null,"Caribou Creek--100 Mile"]
["","","","","","","","","","",null,"Oshetna River--Eureka"]
["","","","","","","","","","",null,"North Pole--North Pole"]
["","","","","","","","","",""]
["","","","","","","","","",""]
["","","","","","","","","",""]
["","","","","","","","","",""]
["","","","","","","","","",""]
["","","","","","","","","",""]
["","","","","","","","","",""]
["","","","","","","","","",""]
["","","","","","","","","",""]
["","","","","","","","","",""]
["","","","","","","","","",""]
["","","","","","","","","",""]
["","","","","","","","","",""]
["","","","","","","","","",""]
["","","","","","","","","",""]
["","","","","","","","","",""]
["","","","","","","","","",""]
["","","","","","","","","",""]
["","","","","","","","","",""]
["","","","","","","","","",""]
["","","","","","","","","",""]
["","","","","","","","","",""]
["","","","","","","","","",""]
["","","","","","","","","",""]
["","","","","","","","","",""]
["","","","","","","","","",""]
["","","","","","","","","",""]
["","","","","","","","","",""]
["","","","","","","","","",""]
["","","","","","","","","",""]
["","","","","","","","","",""]
["","","","","","","","","",""]
["","","","","","","","","",""]
["","","","","","","","","",""]
["","","","","","","","","",""]
["","","","","","","","","",""]
["","","","","","","","","",""]
["","","","","","","","","",""]
["","","","","","","","","",""]
["","","","","","","","","",""]
["","","","","","","","","",""]
["","","","","","","","","",""]
["","","","","","","","","",""]
["","","","","","","","","",""]
["","","","","","","","","",""]
["","","","","","","","","",""]
["","","","","","","","","",""]
["","","","","","","","","",""]
["","","","","","","","","",""]
["","","","","","","","","",""]
["","","","","","","","","",""]
["","","","","","","","","",""]
["","","","","","","","","",""]
["","","","","","","","","",""]
["","","","","","","","","",""]
["","","","","","","","","",""]
["","","","","","","","","",""]
["","","","","","","","","",""]
["","","","","","","","","",""]
["","","","","","","","","",""]
["","","","","","","","","",""]
["","","","","","","","","",""]
["","","","","","","","","",""]
["","","","","","","","","",""]
["","","","","","","","","",""]
["","","","","","","","","",""]
["","","","","","","","","",""]
["","","","","","","","","",""]
["","","","","","","","","",""]
["","","","","","","","","",""]
["","","","","","","","","",""]
["","","","","","","","","",""]
["","","","","","","","","",""]
["","","","","","","","","",""]
["","","","","","","","","",""]
["","","","","","","","","",""]
["","","","","","","","","",""]
["","","","","","","","","",""]
["","","","","","","","","",""]
["","","","","","","","","",""]
["","","","","","","","","",""]
["","","","","","","","","",""]
["","","","","","","","","",""]
["","","","","","","","","",""]
["","","","","","","","","",""]
["","","","","","","","","",""]
["","","","","","","","","",""]
["","","","","","","","","",""]
["","","","","","","","","",""]
["","","","","","","","","",""]
["","","","","","","","","",""]
["","","","","","","","","",""]
["","","","","","","","","",""]
["","","","","","","","","",""]
["","","","","","","","","",""]
["","","","","","","","","",""]
["","","","","","","","","",""]
["","","","","","","","","",""]
["","","","","","","","","",""]
["","","","","","","","","",""]
["","","","","","","","","",""]
["","","","","","","","","",""]
["","","","","","","","","",""]
["","","","","","","","","",""]
["","","","","","","","","",""]
["","","","","","","","","",""]
["","","","","","","","","",""]
["","","","","","","","","",""]
["","","","","","","","","",""]
["","","","","","","","","",""]
["","","","","","","","","",""]
["","","","","","","","","",""]

{"sheet":"Activity Days","index":6,"n_rows":123,"n_cols":29,"rows_kept":123,"cut":false,"hidden":false,"merged":[[3,2,3,12],[3,16,3,26]]}
[]
[null,null,null,null,null,null,null,null,null,null,null,null,null,null,null,"Yes","No"]
[null,null,null,null,null,null,null,null,null,null,null,null,null,null,"Live in Study Area?",1,2]
[null,null,"Activity Days- All Respondents",null,null,null,null,null,null,null,null,null,null,null,null,null,"Activity Days- Lives in Study Area"]
["Site Location","Site Code","Location 1","Location 2","Location 3","Location 4","Location 5","Location 6","Location 7","Location 8","Location 9","Location 10","Total  ",null,"Site Location","Site Code","Location 1","Location 2","Location 3","Location 4","Location 5","Location 6","Location 7","Location 8","Location 9","Location 10","Total  ",null,"Snowmachined + Lives in Study Area"]
[{"$f":"'Site Codes'!AA4","v":"7 Mile Lake Trails-Skilak"},{"$f":"'Site Codes'!AB4","v":"Snow 1"},{"$f":"SUMIF('Cleaned SnowMachine Data'!AP$6:AP$123,'Activity Days'!$B6,'Cleaned SnowMachine Data'!AZ$6:AZ$123)","v":0},{"$f":"SUMIF('Cleaned SnowMachine Data'!AQ$6:AQ$123,'Activity Days'!$B6,'Cleaned SnowMachine Data'!BA$6:BA$123)","v":0},{"$f":"SUMIF('Cleaned SnowMachine Data'!AR$6:AR$123,'Activity Days'!$B6,'Cleaned SnowMachine Data'!BB$6:BB$123)","v":0},{"$f":"SUMIF('Cleaned SnowMachine Data'!AS$6:AS$123,'Activity Days'!$B6,'Cleaned SnowMachine Data'!BC$6:BC$123)","v":0},{"$f":"SUMIF('Cleaned SnowMachine Data'!AT$6:AT$123,'Activity Days'!$B6,'Cleaned SnowMachine Data'!BD$6:BD$123)","v":0},{"$f":"SUMIF('Cleaned SnowMachine Data'!AU$6:AU$123,'Activity Days'!$B6,'Cleaned SnowMachine Data'!BE$6:BE$123)","v":0},{"$f":"SUMIF('Cleaned SnowMachine Data'!AV$6:AV$123,'Activity Days'!$B6,'Cleaned SnowMachine Data'!BF$6:BF$123)","v":0},{"$f":"SUMIF('Cleaned SnowMachine Data'!AW$6:AW$123,'Activity Days'!$B6,'Cleaned SnowMachine Data'!BG$6:BG$123)","v":0},{"$f":"SUMIF('Cleaned SnowMachine Data'!AX$6:AX$123,'Activity Days'!$B6,'Cleaned SnowMachine Data'!BH$6:BH$123)","v":0},{"$f":"SUMIF('Cleaned SnowMachine Data'!AY$6:AY$123,'Activity Days'!$B6,'Cleaned SnowMachine Data'!BI$6:BI$123)","v":0},{"$f":"SUM(C6:L6)","v":0},null,{"$f":"'Site Codes'!AA4","v":"7 Mile Lake Trails-Skilak"},{"$f":"'Site Codes'!AB4","v":"Snow 1"},{"$f":"SUMIFS('Cleaned SnowMachine Data'!AZ$6:AZ$123,'Cleaned SnowMachine Data'!$E$6:$E$123,1,'Cleaned SnowMachine Data'!AP$6:AP$123,'Activity Days'!$P6)","v":0},{"$f":"SUMIFS('Cleaned SnowMachine Data'!BA$6:BA$123,'Cleaned SnowMachine Data'!$E$6:$E$123,1,'Cleaned SnowMachine Data'!AQ$6:AQ$123,'Activity Days'!$P6)","v":0},{"$f":"SUMIFS('Cleaned SnowMachine Data'!BB$6:BB$123,'Cleaned SnowMachine Data'!$E$6:$E$123,1,'Cleaned SnowMachine Data'!AR$6:AR$123,'Activity Days'!$P6)","v":0},{"$f":"SUMIFS('Cleaned SnowMachine Data'!BC$6:BC$123,'Cleaned SnowMachine Data'!$E$6:$E$123,1,'Cleaned SnowMachine Data'!AS$6:AS$123,'Activity Days'!$P6)","v":0},{"$f":"SUMIFS('Cleaned SnowMachine Data'!BD$6:BD$123,'Cleaned SnowMachine Data'!$E$6:$E$123,1,'Cleaned SnowMachine Data'!AT$6:AT$123,'Activity Days'!$P6)","v":0},{"$f":"SUMIFS('Cleaned SnowMachine Data'!BE$6:BE$123,'Cleaned SnowMachine Data'!$E$6:$E$123,1,'Cleaned SnowMachine Data'!AU$6:AU$123,'Activity Days'!$P6)","v":0},{"$f":"SUMIFS('Cleaned SnowMachine Data'!BF$6:BF$123,'Cleaned SnowMachine Data'!$E$6:$E$123,1,'Cleaned SnowMachine Data'!AV$6:AV$123,'Activity Days'!$P6)","v":0},{"$f":"SUMIFS('Cleaned SnowMachine Data'!BG$6:BG$123,'Cleaned SnowMachine Data'!$E$6:$E$123,1,'Cleaned SnowMachine Data'!AW$6:AW$123,'Activity Days'!$P6)","v":0},{"$f":"SUMIFS('Cleaned SnowMachine Data'!BH$6:BH$123,'Cleaned SnowMachine Data'!$E$6:$E$123,1,'Cleaned SnowMachine Data'!AX$6:AX$123,'Activity Days'!$P6)","v":0},{"$f":"SUMIFS('Cleaned SnowMachine Data'!BI$6:BI$123,'Cleaned SnowMachine Data'!$E$6:$E$123,1,'Cleaned SnowMachine Data'!AY$6:AY$123,'Activity Days'!$P6)","v":0},{"$f":"SUM(Q6:Z6)","v":0},null,{"$f":"SUMIF('Cleaned SnowMachine Data'!BUD6:BUD2283,1,'Cleaned SnowMachine Data'!I6:I2283)","v":32}]
[{"$f":"'Site Codes'!AA5","v":"Badger Road-North Pole"},{"$f":"'Site Codes'!AB5","v":"Snow 2"},{"$f":"SUMIF('Cleaned SnowMachine Data'!AP$6:AP$123,'Activity Days'!$B7,'Cleaned SnowMachine Data'!AZ$6:AZ$123)","v":0},{"$f":"SUMIF('Cleaned SnowMachine Data'!AQ$6:AQ$123,'Activity Days'!$B7,'Cleaned SnowMachine Data'!BA$6:BA$123)","v":0},{"$f":"SUMIF('Cleaned SnowMachine Data'!AR$6:AR$123,'Activity Days'!$B7,'Cleaned SnowMachine Data'!BB$6:BB$123)","v":0},{"$f":"SUMIF('Cleaned SnowMachine Data'!AS$6:AS$123,'Activity Days'!$B7,'Cleaned SnowMachine Data'!BC$6:BC$123)","v":0},{"$f":"SUMIF('Cleaned SnowMachine Data'!AT$6:AT$123,'Activity Days'!$B7,'Cleaned SnowMachine Data'!BD$6:BD$123)","v":0},{"$f":"SUMIF('Cleaned SnowMachine Data'!AU$6:AU$123,'Activity Days'!$B7,'Cleaned SnowMachine Data'!BE$6:BE$123)","v":0},{"$f":"SUMIF('Cleaned SnowMachine Data'!AV$6:AV$123,'Activity Days'!$B7,'Cleaned SnowMachine Data'!BF$6:BF$123)","v":0},{"$f":"SUMIF('Cleaned SnowMachine Data'!AW$6:AW$123,'Activity Days'!$B7,'Cleaned SnowMachine Data'!BG$6:BG$123)","v":0},{"$f":"SUMIF('Cleaned SnowMachine Data'!AX$6:AX$123,'Activity Days'!$B7,'Cleaned SnowMachine Data'!BH$6:BH$123)","v":0},{"$f":"SUMIF('Cleaned SnowMachine Data'!AY$6:AY$123,'Activity Days'!$B7,'Cleaned SnowMachine Data'!BI$6:BI$123)","v":0},0,null,{"$f":"'Site Codes'!AA5","v":"Badger Road-North Pole"},{"$f":"'Site Codes'!AB5","v":"Snow 2"},{"$f":"SUMIFS('Cleaned SnowMachine Data'!AZ$6:AZ$123,'Cleaned SnowMachine Data'!$E$6:$E$123,1,'Cleaned SnowMachine Data'!AP$6:AP$123,'Activity Days'!$P7)","v":0},{"$f":"SUMIFS('Cleaned SnowMachine Data'!BA$6:BA$123,'Cleaned SnowMachine Data'!$E$6:$E$123,1,'Cleaned SnowMachine Data'!AQ$6:AQ$123,'Activity Days'!$P7)","v":0},{"$f":"SUMIFS('Cleaned SnowMachine Data'!BB$6:BB$123,'Cleaned SnowMachine Data'!$E$6:$E$123,1,'Cleaned SnowMachine Data'!AR$6:AR$123,'Activity Days'!$P7)","v":0},{"$f":"SUMIFS('Cleaned SnowMachine Data'!BC$6:BC$123,'Cleaned SnowMachine Data'!$E$6:$E$123,1,'Cleaned SnowMachine Data'!AS$6:AS$123,'Activity Days'!$P7)","v":0},{"$f":"SUMIFS('Cleaned SnowMachine Data'!BD$6:BD$123,'Cleaned SnowMachine Data'!$E$6:$E$123,1,'Cleaned SnowMachine Data'!AT$6:AT$123,'Activity Days'!$P7)","v":0},{"$f":"SUMIFS('Cleaned SnowMachine Data'!BE$6:BE$123,'Cleaned SnowMachine Data'!$E$6:$E$123,1,'Cleaned SnowMachine Data'!AU$6:AU$123,'Activity Days'!$P7)","v":0},{"$f":"SUMIFS('Cleaned SnowMachine Data'!BF$6:BF$123,'Cleaned SnowMachine Data'!$E$6:$E$123,1,'Cleaned SnowMachine Data'!AV$6:AV$123,'Activity Days'!$P7)","v":0},{"$f":"SUMIFS('Cleaned SnowMachine Data'!BG$6:BG$123,'Cleaned SnowMachine Data'!$E$6:$E$123,1,'Cleaned SnowMachine Data'!AW$6:AW$123,'Activity Days'!$P7)","v":0},{"$f":"SUMIFS('Cleaned SnowMachine Data'!BH$6:BH$123,'Cleaned SnowMachine Data'!$E$6:$E$123,1,'Cleaned SnowMachine Data'!AX$6:AX$123,'Activity Days'!$P7)","v":0},{"$f":"SUMIFS('Cleaned SnowMachine Data'!BI$6:BI$123,'Cleaned SnowMachine Data'!$E$6:$E$123,1,'Cleaned SnowMachine Data'!AY$6:AY$123,'Activity Days'!$P7)","v":0},{"$f":"SUM(Q7:Z7)","v":0}]
[{"$f":"'Site Codes'!AA6","v":"Bethel"},{"$f":"'Site Codes'!AB6","v":"Snow 3"},{"$f":"SUMIF('Cleaned SnowMachine Data'!AP$6:AP$123,'Activity Days'!$B8,'Cleaned SnowMachine Data'!AZ$6:AZ$123)","v":0},{"$f":"SUMIF('Cleaned SnowMachine Data'!AQ$6:AQ$123,'Activity Days'!$B8,'Cleaned SnowMachine Data'!BA$6:BA$123)","v":0},{"$f":"SUMIF('Cleaned SnowMachine Data'!AR$6:AR$123,'Activity Days'!$B8,'Cleaned SnowMachine Data'!BB$6:BB$123)","v":0},{"$f":"SUMIF('Cleaned SnowMachine Data'!AS$6:AS$123,'Activity Days'!$B8,'Cleaned SnowMachine Data'!BC$6:BC$123)","v":0},{"$f":"SUMIF('Cleaned SnowMachine Data'!AT$6:AT$123,'Activity Days'!$B8,'Cleaned SnowMachine Data'!BD$6:BD$123)","v":0},{"$f":"SUMIF('Cleaned SnowMachine Data'!AU$6:AU$123,'Activity Days'!$B8,'Cleaned SnowMachine Data'!BE$6:BE$123)","v":0},{"$f":"SUMIF('Cleaned SnowMachine Data'!AV$6:AV$123,'Activity Days'!$B8,'Cleaned SnowMachine Data'!BF$6:BF$123)","v":0},{"$f":"SUMIF('Cleaned SnowMachine Data'!AW$6:AW$123,'Activity Days'!$B8,'Cleaned SnowMachine Data'!BG$6:BG$123)","v":0},{"$f":"SUMIF('Cleaned SnowMachine Data'!AX$6:AX$123,'Activity Days'!$B8,'Cleaned SnowMachine Data'!BH$6:BH$123)","v":0},{"$f":"SUMIF('Cleaned SnowMachine Data'!AY$6:AY$123,'Activity Days'!$B8,'Cleaned SnowMachine Data'!BI$6:BI$123)","v":0},0,null,{"$f":"'Site Codes'!AA6","v":"Bethel"},{"$f":"'Site Codes'!AB6","v":"Snow 3"},{"$f":"SUMIFS('Cleaned SnowMachine Data'!AZ$6:AZ$123,'Cleaned SnowMachine Data'!$E$6:$E$123,1,'Cleaned SnowMachine Data'!AP$6:AP$123,'Activity Days'!$P8)","v":0},{"$f":"SUMIFS('Cleaned SnowMachine Data'!BA$6:BA$123,'Cleaned SnowMachine Data'!$E$6:$E$123,1,'Cleaned SnowMachine Data'!AQ$6:AQ$123,'Activity Days'!$P8)","v":0},{"$f":"SUMIFS('Cleaned SnowMachine Data'!BB$6:BB$123,'Cleaned SnowMachine Data'!$E$6:$E$123,1,'Cleaned SnowMachine Data'!AR$6:AR$123,'Activity Days'!$P8)","v":0},{"$f":"SUMIFS('Cleaned SnowMachine Data'!BC$6:BC$123,'Cleaned SnowMachine Data'!$E$6:$E$123,1,'Cleaned SnowMachine Data'!AS$6:AS$123,'Activity Days'!$P8)","v":0},{"$f":"SUMIFS('Cleaned SnowMachine Data'!BD$6:BD$123,'Cleaned SnowMachine Data'!$E$6:$E$123,1,'Cleaned SnowMachine Data'!AT$6:AT$123,'Activity Days'!$P8)","v":0},{"$f":"SUMIFS('Cleaned SnowMachine Data'!BE$6:BE$123,'Cleaned SnowMachine Data'!$E$6:$E$123,1,'Cleaned SnowMachine Data'!AU$6:AU$123,'Activity Days'!$P8)","v":0},{"$f":"SUMIFS('Cleaned SnowMachine Data'!BF$6:BF$123,'Cleaned SnowMachine Data'!$E$6:$E$123,1,'Cleaned SnowMachine Data'!AV$6:AV$123,'Activity Days'!$P8)","v":0},{"$f":"SUMIFS('Cleaned SnowMachine Data'!BG$6:BG$123,'Cleaned SnowMachine Data'!$E$6:$E$123,1,'Cleaned SnowMachine Data'!AW$6:AW$123,'Activity Days'!$P8)","v":0},{"$f":"SUMIFS('Cleaned SnowMachine Data'!BH$6:BH$123,'Cleaned SnowMachine Data'!$E$6:$E$123,1,'Cleaned SnowMachine Data'!AX$6:AX$123,'Activity Days'!$P8)","v":0},{"$f":"SUMIFS('Cleaned SnowMachine Data'!BI$6:BI$123,'Cleaned SnowMachine Data'!$E$6:$E$123,1,'Cleaned SnowMachine Data'!AY$6:AY$123,'Activity Days'!$P8)","v":0},0]
[{"$f":"'Site Codes'!AA7","v":"Bettles"},{"$f":"'Site Codes'!AB7","v":"Snow 4"},{"$f":"SUMIF('Cleaned SnowMachine Data'!AP$6:AP$123,'Activity Days'!$B9,'Cleaned SnowMachine Data'!AZ$6:AZ$123)","v":0},{"$f":"SUMIF('Cleaned SnowMachine Data'!AQ$6:AQ$123,'Activity Days'!$B9,'Cleaned SnowMachine Data'!BA$6:BA$123)","v":0},{"$f":"SUMIF('Cleaned SnowMachine Data'!AR$6:AR$123,'Activity Days'!$B9,'Cleaned SnowMachine Data'!BB$6:BB$123)","v":0},{"$f":"SUMIF('Cleaned SnowMachine Data'!AS$6:AS$123,'Activity Days'!$B9,'Cleaned SnowMachine Data'!BC$6:BC$123)","v":0},{"$f":"SUMIF('Cleaned SnowMachine Data'!AT$6:AT$123,'Activity Days'!$B9,'Cleaned SnowMachine Data'!BD$6:BD$123)","v":0},{"$f":"SUMIF('Cleaned SnowMachine Data'!AU$6:AU$123,'Activity Days'!$B9,'Cleaned SnowMachine Data'!BE$6:BE$123)","v":0},{"$f":"SUMIF('Cleaned SnowMachine Data'!AV$6:AV$123,'Activity Days'!$B9,'Cleaned SnowMachine Data'!BF$6:BF$123)","v":0},{"$f":"SUMIF('Cleaned SnowMachine Data'!AW$6:AW$123,'Activity Days'!$B9,'Cleaned SnowMachine Data'!BG$6:BG$123)","v":0},{"$f":"SUMIF('Cleaned SnowMachine Data'!AX$6:AX$123,'Activity Days'!$B9,'Cleaned SnowMachine Data'!BH$6:BH$123)","v":0},{"$f":"SUMIF('Cleaned SnowMachine Data'!AY$6:AY$123,'Activity Days'!$B9,'Cleaned SnowMachine Data'!BI$6:BI$123)","v":0},0,null,{"$f":"'Site Codes'!AA7","v":"Bettles"},{"$f":"'Site Codes'!AB7","v":"Snow 4"},{"$f":"SUMIFS('Cleaned SnowMachine Data'!AZ$6:AZ$123,'Cleaned SnowMachine Data'!$E$6:$E$123,1,'Cleaned SnowMachine Data'!AP$6:AP$123,'Activity Days'!$P9)","v":0},{"$f":"SUMIFS('Cleaned SnowMachine Data'!BA$6:BA$123,'Cleaned SnowMachine Data'!$E$6:$E$123,1,'Cleaned SnowMachine Data'!AQ$6:AQ$123,'Activity Days'!$P9)","v":0},{"$f":"SUMIFS('Cleaned SnowMachine Data'!BB$6:BB$123,'Cleaned SnowMachine Data'!$E$6:$E$123,1,'Cleaned SnowMachine Data'!AR$6:AR$123,'Activity Days'!$P9)","v":0},{"$f":"SUMIFS('Cleaned SnowMachine Data'!BC$6:BC$123,'Cleaned SnowMachine Data'!$E$6:$E$123,1,'Cleaned SnowMachine Data'!AS$6:AS$123,'Activity Days'!$P9)","v":0},{"$f":"SUMIFS('Cleaned SnowMachine Data'!BD$6:BD$123,'Cleaned SnowMachine Data'!$E$6:$E$123,1,'Cleaned SnowMachine Data'!AT$6:AT$123,'Activity Days'!$P9)","v":0},{"$f":"SUMIFS('Cleaned SnowMachine Data'!BE$6:BE$123,'Cleaned SnowMachine Data'!$E$6:$E$123,1,'Cleaned SnowMachine Data'!AU$6:AU$123,'Activity Days'!$P9)","v":0},{"$f":"SUMIFS('Cleaned SnowMachine Data'!BF$6:BF$123,'Cleaned SnowMachine Data'!$E$6:$E$123,1,'Cleaned SnowMachine Data'!AV$6:AV$123,'Activity Days'!$P9)","v":0},{"$f":"SUMIFS('Cleaned SnowMachine Data'!BG$6:BG$123,'Cleaned SnowMachine Data'!$E$6:$E$123,1,'Cleaned SnowMachine Data'!AW$6:AW$123,'Activity Days'!$P9)","v":0},{"$f":"SUMIFS('Cleaned SnowMachine Data'!BH$6:BH$123,'Cleaned SnowMachine Data'!$E$6:$E$123,1,'Cleaned SnowMachine Data'!AX$6:AX$123,'Activity Days'!$P9)","v":0},{"$f":"SUMIFS('Cleaned SnowMachine Data'!BI$6:BI$123,'Cleaned SnowMachine Data'!$E$6:$E$123,1,'Cleaned SnowMachine Data'!AY$6:AY$123,'Activity Days'!$P9)","v":0},0]
[{"$f":"'Site Codes'!AA8","v":"Big Lake"},{"$f":"'Site Codes'!AB8","v":"Snow 5"},{"$f":"SUMIF('Cleaned SnowMachine Data'!AP$6:AP$123,'Activity Days'!$B10,'Cleaned SnowMachine Data'!AZ$6:AZ$123)","v":11},{"$f":"SUMIF('Cleaned SnowMachine Data'!AQ$6:AQ$123,'Activity Days'!$B10,'Cleaned SnowMachine Data'!BA$6:BA$123)","v":2},{"$f":"SUMIF('Cleaned SnowMachine Data'!AR$6:AR$123,'Activity Days'!$B10,'Cleaned SnowMachine Data'!BB$6:BB$123)","v":0},{"$f":"SUMIF('Cleaned SnowMachine Data'!AS$6:AS$123,'Activity Days'!$B10,'Cleaned SnowMachine Data'!BC$6:BC$123)","v":7},{"$f":"SUMIF('Cleaned SnowMachine Data'!AT$6:AT$123,'Activity Days'!$B10,'Cleaned SnowMachine Data'!BD$6:BD$123)","v":0},{"$f":"SUMIF('Cleaned SnowMachine Data'!AU$6:AU$123,'Activity Days'!$B10,'Cleaned SnowMachine Data'!BE$6:BE$123)","v":0},{"$f":"SUMIF('Cleaned SnowMachine Data'!AV$6:AV$123,'Activity Days'!$B10,'Cleaned SnowMachine Data'!BF$6:BF$123)","v":0},{"$f":"SUMIF('Cleaned SnowMachine Data'!AW$6:AW$123,'Activity Days'!$B10,'Cleaned SnowMachine Data'!BG$6:BG$123)","v":0},{"$f":"SUMIF('Cleaned SnowMachine Data'!AX$6:AX$123,'Activity Days'!$B10,'Cleaned SnowMachine Data'!BH$6:BH$123)","v":0},{"$f":"SUMIF('Cleaned SnowMachine Data'!AY$6:AY$123,'Activity Days'!$B10,'Cleaned SnowMachine Data'!BI$6:BI$123)","v":0},20,null,{"$f":"'Site Codes'!AA8","v":"Big Lake"},{"$f":"'Site Codes'!AB8","v":"Snow 5"},{"$f":"SUMIFS('Cleaned SnowMachine Data'!AZ$6:AZ$123,'Cleaned SnowMachine Data'!$E$6:$E$123,1,'Cleaned SnowMachine Data'!AP$6:AP$123,'Activity Days'!$P10)","v":0},{"$f":"SUMIFS('Cleaned SnowMachine Data'!BA$6:BA$123,'Cleaned SnowMachine Data'!$E$6:$E$123,1,'Cleaned SnowMachine Data'!AQ$6:AQ$123,'Activity Days'!$P10)","v":0},{"$f":"SUMIFS('Cleaned SnowMachine Data'!BB$6:BB$123,'Cleaned SnowMachine Data'!$E$6:$E$123,1,'Cleaned SnowMachine Data'!AR$6:AR$123,'Activity Days'!$P10)","v":0},{"$f":"SUMIFS('Cleaned SnowMachine Data'!BC$6:BC$123,'Cleaned SnowMachine Data'!$E$6:$E$123,1,'Cleaned SnowMachine Data'!AS$6:AS$123,'Activity Days'!$P10)","v":0},{"$f":"SUMIFS('Cleaned SnowMachine Data'!BD$6:BD$123,'Cleaned SnowMachine Data'!$E$6:$E$123,1,'Cleaned SnowMachine Data'!AT$6:AT$123,'Activity Days'!$P10)","v":0},{"$f":"SUMIFS('Cleaned SnowMachine Data'!BE$6:BE$123,'Cleaned SnowMachine Data'!$E$6:$E$123,1,'Cleaned SnowMachine Data'!AU$6:AU$123,'Activity Days'!$P10)","v":0},{"$f":"SUMIFS('Cleaned SnowMachine Data'!BF$6:BF$123,'Cleaned SnowMachine Data'!$E$6:$E$123,1,'Cleaned SnowMachine Data'!AV$6:AV$123,'Activity Days'!$P10)","v":0},{"$f":"SUMIFS('Cleaned SnowMachine Data'!BG$6:BG$123,'Cleaned SnowMachine Data'!$E$6:$E$123,1,'Cleaned SnowMachine Data'!AW$6:AW$123,'Activity Days'!$P10)","v":0},{"$f":"SUMIFS('Cleaned SnowMachine Data'!BH$6:BH$123,'Cleaned SnowMachine Data'!$E$6:$E$123,1,'Cleaned SnowMachine Data'!AX$6:AX$123,'Activity Days'!$P10)","v":0},{"$f":"SUMIFS('Cleaned SnowMachine Data'!BI$6:BI$123,'Cleaned SnowMachine Data'!$E$6:$E$123,1,'Cleaned SnowMachine Data'!AY$6:AY$123,'Activity Days'!$P10)","v":0},0]
[{"$f":"'Site Codes'!AA9","v":"Birch Creek-Steese Highway"},{"$f":"'Site Codes'!AB9","v":"Snow 6"},{"$f":"SUMIF('Cleaned SnowMachine Data'!AP$6:AP$123,'Activity Days'!$B11,'Cleaned SnowMachine Data'!AZ$6:AZ$123)","v":0},{"$f":"SUMIF('Cleaned SnowMachine Data'!AQ$6:AQ$123,'Activity Days'!$B11,'Cleaned SnowMachine Data'!BA$6:BA$123)","v":0},{"$f":"SUMIF('Cleaned SnowMachine Data'!AR$6:AR$123,'Activity Days'!$B11,'Cleaned SnowMachine Data'!BB$6:BB$123)","v":0},{"$f":"SUMIF('Cleaned SnowMachine Data'!AS$6:AS$123,'Activity Days'!$B11,'Cleaned SnowMachine Data'!BC$6:BC$123)","v":0},{"$f":"SUMIF('Cleaned SnowMachine Data'!AT$6:AT$123,'Activity Days'!$B11,'Cleaned SnowMachine Data'!BD$6:BD$123)","v":0},{"$f":"SUMIF('Cleaned SnowMachine Data'!AU$6:AU$123,'Activity Days'!$B11,'Cleaned SnowMachine Data'!BE$6:BE$123)","v":0},{"$f":"SUMIF('Cleaned SnowMachine Data'!AV$6:AV$123,'Activity Days'!$B11,'Cleaned SnowMachine Data'!BF$6:BF$123)","v":0},{"$f":"SUMIF('Cleaned SnowMachine Data'!AW$6:AW$123,'Activity Days'!$B11,'Cleaned SnowMachine Data'!BG$6:BG$123)","v":0},{"$f":"SUMIF('Cleaned SnowMachine Data'!AX$6:AX$123,'Activity Days'!$B11,'Cleaned SnowMachine Data'!BH$6:BH$123)","v":0},{"$f":"SUMIF('Cleaned SnowMachine Data'!AY$6:AY$123,'Activity Days'!$B11,'Cleaned SnowMachine Data'!BI$6:BI$123)","v":0},0,null,{"$f":"'Site Codes'!AA9","v":"Birch Creek-Steese Highway"},{"$f":"'Site Codes'!AB9","v":"Snow 6"},{"$f":"SUMIFS('Cleaned SnowMachine Data'!AZ$6:AZ$123,'Cleaned SnowMachine Data'!$E$6:$E$123,1,'Cleaned SnowMachine Data'!AP$6:AP$123,'Activity Days'!$P11)","v":0},{"$f":"SUMIFS('Cleaned SnowMachine Data'!BA$6:BA$123,'Cleaned SnowMachine Data'!$E$6:$E$123,1,'Cleaned SnowMachine Data'!AQ$6:AQ$123,'Activity Days'!$P11)","v":0},{"$f":"SUMIFS('Cleaned SnowMachine Data'!BB$6:BB$123,'Cleaned SnowMachine Data'!$E$6:$E$123,1,'Cleaned SnowMachine Data'!AR$6:AR$123,'Activity Days'!$P11)","v":0},{"$f":"SUMIFS('Cleaned SnowMachine Data'!BC$6:BC$123,'Cleaned SnowMachine Data'!$E$6:$E$123,1,'Cleaned SnowMachine Data'!AS$6:AS$123,'Activity Days'!$P11)","v":0},{"$f":"SUMIFS('Cleaned SnowMachine Data'!BD$6:BD$123,'Cleaned SnowMachine Data'!$E$6:$E$123,1,'Cleaned SnowMachine Data'!AT$6:AT$123,'Activity Days'!$P11)","v":0},{"$f":"SUMIFS('Cleaned SnowMachine Data'!BE$6:BE$123,'Cleaned SnowMachine Data'!$E$6:$E$123,1,'Cleaned SnowMachine Data'!AU$6:AU$123,'Activity Days'!$P11)","v":0},{"$f":"SUMIFS('Cleaned SnowMachine Data'!BF$6:BF$123,'Cleaned SnowMachine Data'!$E$6:$E$123,1,'Cleaned SnowMachine Data'!AV$6:AV$123,'Activity Days'!$P11)","v":0},{"$f":"SUMIFS('Cleaned SnowMachine Data'!BG$6:BG$123,'Cleaned SnowMachine Data'!$E$6:$E$123,1,'Cleaned SnowMachine Data'!AW$6:AW$123,'Activity Days'!$P11)","v":0},{"$f":"SUMIFS('Cleaned SnowMachine Data'!BH$6:BH$123,'Cleaned SnowMachine Data'!$E$6:$E$123,1,'Cleaned SnowMachine Data'!AX$6:AX$123,'Activity Days'!$P11)","v":0},{"$f":"SUMIFS('Cleaned SnowMachine Data'!BI$6:BI$123,'Cleaned SnowMachine Data'!$E$6:$E$123,1,'Cleaned SnowMachine Data'!AY$6:AY$123,'Activity Days'!$P11)","v":0},0]
[{"$f":"'Site Codes'!AA10","v":"Birch Lake-Delta Junction"},{"$f":"'Site Codes'!AB10","v":"Snow 7"},{"$f":"SUMIF('Cleaned SnowMachine Data'!AP$6:AP$123,'Activity Days'!$B12,'Cleaned SnowMachine Data'!AZ$6:AZ$123)","v":0},{"$f":"SUMIF('Cleaned SnowMachine Data'!AQ$6:AQ$123,'Activity Days'!$B12,'Cleaned SnowMachine Data'!BA$6:BA$123)","v":0},{"$f":"SUMIF('Cleaned SnowMachine Data'!AR$6:AR$123,'Activity Days'!$B12,'Cleaned SnowMachine Data'!BB$6:BB$123)","v":0},{"$f":"SUMIF('Cleaned SnowMachine Data'!AS$6:AS$123,'Activity Days'!$B12,'Cleaned SnowMachine Data'!BC$6:BC$123)","v":0},{"$f":"SUMIF('Cleaned SnowMachine Data'!AT$6:AT$123,'Activity Days'!$B12,'Cleaned SnowMachine Data'!BD$6:BD$123)","v":0},{"$f":"SUMIF('Cleaned SnowMachine Data'!AU$6:AU$123,'Activity Days'!$B12,'Cleaned SnowMachine Data'!BE$6:BE$123)","v":0},{"$f":"SUMIF('Cleaned SnowMachine Data'!AV$6:AV$123,'Activity Days'!$B12,'Cleaned SnowMachine Data'!BF$6:BF$123)","v":0},{"$f":"SUMIF('Cleaned SnowMachine Data'!AW$6:AW$123,'Activity Days'!$B12,'Cleaned SnowMachine Data'!BG$6:BG$123)","v":0},{"$f":"SUMIF('Cleaned SnowMachine Data'!AX$6:AX$123,'Activity Days'!$B12,'Cleaned SnowMachine Data'!BH$6:BH$123)","v":0},{"$f":"SUMIF('Cleaned SnowMachine Data'!AY$6:AY$123,'Activity Days'!$B12,'Cleaned SnowMachine Data'!BI$6:BI$123)","v":0},0,null,{"$f":"'Site Codes'!AA10","v":"Birch Lake-Delta Junction"},{"$f":"'Site Codes'!AB10","v":"Snow 7"},{"$f":"SUMIFS('Cleaned SnowMachine Data'!AZ$6:AZ$123,'Cleaned SnowMachine Data'!$E$6:$E$123,1,'Cleaned SnowMachine Data'!AP$6:AP$123,'Activity Days'!$P12)","v":0},{"$f":"SUMIFS('Cleaned SnowMachine Data'!BA$6:BA$123,'Cleaned SnowMachine Data'!$E$6:$E$123,1,'Cleaned SnowMachine Data'!AQ$6:AQ$123,'Activity Days'!$P12)","v":0},{"$f":"SUMIFS('Cleaned SnowMachine Data'!BB$6:BB$123,'Cleaned SnowMachine Data'!$E$6:$E$123,1,'Cleaned SnowMachine Data'!AR$6:AR$123,'Activity Days'!$P12)","v":0},{"$f":"SUMIFS('Cleaned SnowMachine Data'!BC$6:BC$123,'Cleaned SnowMachine Data'!$E$6:$E$123,1,'Cleaned SnowMachine Data'!AS$6:AS$123,'Activity Days'!$P12)","v":0},{"$f":"SUMIFS('Cleaned SnowMachine Data'!BD$6:BD$123,'Cleaned SnowMachine Data'!$E$6:$E$123,1,'Cleaned SnowMachine Data'!AT$6:AT$123,'Activity Days'!$P12)","v":0},{"$f":"SUMIFS('Cleaned SnowMachine Data'!BE$6:BE$123,'Cleaned SnowMachine Data'!$E$6:$E$123,1,'Cleaned SnowMachine Data'!AU$6:AU$123,'Activity Days'!$P12)","v":0},{"$f":"SUMIFS('Cleaned SnowMachine Data'!BF$6:BF$123,'Cleaned SnowMachine Data'!$E$6:$E$123,1,'Cleaned SnowMachine Data'!AV$6:AV$123,'Activity Days'!$P12)","v":0},{"$f":"SUMIFS('Cleaned SnowMachine Data'!BG$6:BG$123,'Cleaned SnowMachine Data'!$E$6:$E$123,1,'Cleaned SnowMachine Data'!AW$6:AW$123,'Activity Days'!$P12)","v":0},{"$f":"SUMIFS('Cleaned SnowMachine Data'!BH$6:BH$123,'Cleaned SnowMachine Data'!$E$6:$E$123,1,'Cleaned SnowMachine Data'!AX$6:AX$123,'Activity Days'!$P12)","v":0},{"$f":"SUMIFS('Cleaned SnowMachine Data'!BI$6:BI$123,'Cleaned SnowMachine Data'!$E$6:$E$123,1,'Cleaned SnowMachine Data'!AY$6:AY$123,'Activity Days'!$P12)","v":0},0]
[{"$f":"'Site Codes'!AA11","v":"Cache Creek/Ester-Cache Creek"},{"$f":"'Site Codes'!AB11","v":"Snow 8"},{"$f":"SUMIF('Cleaned SnowMachine Data'!AP$6:AP$123,'Activity Days'!$B13,'Cleaned SnowMachine Data'!AZ$6:AZ$123)","v":0},{"$f":"SUMIF('Cleaned SnowMachine Data'!AQ$6:AQ$123,'Activity Days'!$B13,'Cleaned SnowMachine Data'!BA$6:BA$123)","v":0},{"$f":"SUMIF('Cleaned SnowMachine Data'!AR$6:AR$123,'Activity Days'!$B13,'Cleaned SnowMachine Data'!BB$6:BB$123)","v":0},{"$f":"SUMIF('Cleaned SnowMachine Data'!AS$6:AS$123,'Activity Days'!$B13,'Cleaned SnowMachine Data'!BC$6:BC$123)","v":0},{"$f":"SUMIF('Cleaned SnowMachine Data'!AT$6:AT$123,'Activity Days'!$B13,'Cleaned SnowMachine Data'!BD$6:BD$123)","v":0},{"$f":"SUMIF('Cleaned SnowMachine Data'!AU$6:AU$123,'Activity Days'!$B13,'Cleaned SnowMachine Data'!BE$6:BE$123)","v":0},{"$f":"SUMIF('Cleaned SnowMachine Data'!AV$6:AV$123,'Activity Days'!$B13,'Cleaned SnowMachine Data'!BF$6:BF$123)","v":0},{"$f":"SUMIF('Cleaned SnowMachine Data'!AW$6:AW$123,'Activity Days'!$B13,'Cleaned SnowMachine Data'!BG$6:BG$123)","v":0},{"$f":"SUMIF('Cleaned SnowMachine Data'!AX$6:AX$123,'Activity Days'!$B13,'Cleaned SnowMachine Data'!BH$6:BH$123)","v":0},{"$f":"SUMIF('Cleaned SnowMachine Data'!AY$6:AY$123,'Activity Days'!$B13,'Cleaned SnowMachine Data'!BI$6:BI$123)","v":0},0,null,{"$f":"'Site Codes'!AA11","v":"Cache Creek/Ester-Cache Creek"},{"$f":"'Site Codes'!AB11","v":"Snow 8"},{"$f":"SUMIFS('Cleaned SnowMachine Data'!AZ$6:AZ$123,'Cleaned SnowMachine Data'!$E$6:$E$123,1,'Cleaned SnowMachine Data'!AP$6:AP$123,'Activity Days'!$P13)","v":0},{"$f":"SUMIFS('Cleaned SnowMachine Data'!BA$6:BA$123,'Cleaned SnowMachine Data'!$E$6:$E$123,1,'Cleaned SnowMachine Data'!AQ$6:AQ$123,'Activity Days'!$P13)","v":0},{"$f":"SUMIFS('Cleaned SnowMachine Data'!BB$6:BB$123,'Cleaned SnowMachine Data'!$E$6:$E$123,1,'Cleaned SnowMachine Data'!AR$6:AR$123,'Activity Days'!$P13)","v":0},{"$f":"SUMIFS('Cleaned SnowMachine Data'!BC$6:BC$123,'Cleaned SnowMachine Data'!$E$6:$E$123,1,'Cleaned SnowMachine Data'!AS$6:AS$123,'Activity Days'!$P13)","v":0},{"$f":"SUMIFS('Cleaned SnowMachine Data'!BD$6:BD$123,'Cleaned SnowMachine Data'!$E$6:$E$123,1,'Cleaned SnowMachine Data'!AT$6:AT$123,'Activity Days'!$P13)","v":0},{"$f":"SUMIFS('Cleaned SnowMachine Data'!BE$6:BE$123,'Cleaned SnowMachine Data'!$E$6:$E$123,1,'Cleaned SnowMachine Data'!AU$6:AU$123,'Activity Days'!$P13)","v":0},{"$f":"SUMIFS('Cleaned SnowMachine Data'!BF$6:BF$123,'Cleaned SnowMachine Data'!$E$6:$E$123,1,'Cleaned SnowMachine Data'!AV$6:AV$123,'Activity Days'!$P13)","v":0},{"$f":"SUMIFS('Cleaned SnowMachine Data'!BG$6:BG$123,'Cleaned SnowMachine Data'!$E$6:$E$123,1,'Cleaned SnowMachine Data'!AW$6:AW$123,'Activity Days'!$P13)","v":0},{"$f":"SUMIFS('Cleaned SnowMachine Data'!BH$6:BH$123,'Cleaned SnowMachine Data'!$E$6:$E$123,1,'Cleaned SnowMachine Data'!AX$6:AX$123,'Activity Days'!$P13)","v":0},{"$f":"SUMIFS('Cleaned SnowMachine Data'!BI$6:BI$123,'Cleaned SnowMachine Data'!$E$6:$E$123,1,'Cleaned SnowMachine Data'!AY$6:AY$123,'Activity Days'!$P13)","v":0},0]
[{"$f":"'Site Codes'!AA12","v":"Cantwell"},{"$f":"'Site Codes'!AB12","v":"Snow 9"},{"$f":"SUMIF('Cleaned SnowMachine Data'!AP$6:AP$123,'Activity Days'!$B14,'Cleaned SnowMachine Data'!AZ$6:AZ$123)","v":45},{"$f":"SUMIF('Cleaned SnowMachine Data'!AQ$6:AQ$123,'Activity Days'!$B14,'Cleaned SnowMachine Data'!BA$6:BA$123)","v":0},{"$f":"SUMIF('Cleaned SnowMachine Data'!AR$6:AR$123,'Activity Days'!$B14,'Cleaned SnowMachine Data'!BB$6:BB$123)","v":5},{"$f":"SUMIF('Cleaned SnowMachine Data'!AS$6:AS$123,'Activity Days'!$B14,'Cleaned SnowMachine Data'!BC$6:BC$123)","v":0},{"$f":"SUMIF('Cleaned SnowMachine Data'!AT$6:AT$123,'Activity Days'!$B14,'Cleaned SnowMachine Data'!BD$6:BD$123)","v":0},{"$f":"SUMIF('Cleaned SnowMachine Data'!AU$6:AU$123,'Activity Days'!$B14,'Cleaned SnowMachine Data'!BE$6:BE$123)","v":0},{"$f":"SUMIF('Cleaned SnowMachine Data'!AV$6:AV$123,'Activity Days'!$B14,'Cleaned SnowMachine Data'!BF$6:BF$123)","v":0},{"$f":"SUMIF('Cleaned SnowMachine Data'!AW$6:AW$123,'Activity Days'!$B14,'Cleaned SnowMachine Data'!BG$6:BG$123)","v":0},{"$f":"SUMIF('Cleaned SnowMachine Data'!AX$6:AX$123,'Activity Days'!$B14,'Cleaned SnowMachine Data'!BH$6:BH$123)","v":2},{"$f":"SUMIF('Cleaned SnowMachine Data'!AY$6:AY$123,'Activity Days'!$B14,'Cleaned SnowMachine Data'!BI$6:BI$123)","v":0},52,null,{"$f":"'Site Codes'!AA12","v":"Cantwell"},{"$f":"'Site Codes'!AB12","v":"Snow 9"},{"$f":"SUMIFS('Cleaned SnowMachine Data'!AZ$6:AZ$123,'Cleaned SnowMachine Data'!$E$6:$E$123,1,'Cleaned SnowMachine Data'!AP$6:AP$123,'Activity Days'!$P14)","v":43},{"$f":"SUMIFS('Cleaned SnowMachine Data'!BA$6:BA$123,'Cleaned SnowMachine Data'!$E$6:$E$123,1,'Cleaned SnowMachine Data'!AQ$6:AQ$123,'Activity Days'!$P14)","v":0},{"$f":"SUMIFS('Cleaned SnowMachine Data'!BB$6:BB$123,'Cleaned SnowMachine Data'!$E$6:$E$123,1,'Cleaned SnowMachine Data'!AR$6:AR$123,'Activity Days'!$P14)","v":0},{"$f":"SUMIFS('Cleaned SnowMachine Data'!BC$6:BC$123,'Cleaned SnowMachine Data'!$E$6:$E$123,1,'Cleaned SnowMachine Data'!AS$6:AS$123,'Activity Days'!$P14)","v":0},{"$f":"SUMIFS('Cleaned SnowMachine Data'!BD$6:BD$123,'Cleaned SnowMachine Data'!$E$6:$E$123,1,'Cleaned SnowMachine Data'!AT$6:AT$123,'Activity Days'!$P14)","v":0},{"$f":"SUMIFS('Cleaned SnowMachine Data'!BE$6:BE$123,'Cleaned SnowMachine Data'!$E$6:$E$123,1,'Cleaned SnowMachine Data'!AU$6:AU$123,'Activity Days'!$P14)","v":0},{"$f":"SUMIFS('Cleaned SnowMachine Data'!BF$6:BF$123,'Cleaned SnowMachine Data'!$E$6:$E$123,1,'Cleaned SnowMachine Data'!AV$6:AV$123,'Activity Days'!$P14)","v":0},{"$f":"SUMIFS('Cleaned SnowMachine Data'!BG$6:BG$123,'Cleaned SnowMachine Data'!$E$6:$E$123,1,'Cleaned SnowMachine Data'!AW$6:AW$123,'Activity Days'!$P14)","v":0},{"$f":"SUMIFS('Cleaned SnowMachine Data'!BH$6:BH$123,'Cleaned SnowMachine Data'!$E$6:$E$123,1,'Cleaned SnowMachine Data'!AX$6:AX$123,'Activity Days'!$P14)","v":0},{"$f":"SUMIFS('Cleaned SnowMachine Data'!BI$6:BI$123,'Cleaned SnowMachine Data'!$E$6:$E$123,1,'Cleaned SnowMachine Data'!AY$6:AY$123,'Activity Days'!$P14)","v":0},43]
[{"$f":"'Site Codes'!AA13","v":"Canwell Glacier-Miller Creek"},{"$f":"'Site Codes'!AB13","v":"Snow 10"},{"$f":"SUMIF('Cleaned SnowMachine Data'!AP$6:AP$123,'Activity Days'!$B15,'Cleaned SnowMachine Data'!AZ$6:AZ$123)","v":0},{"$f":"SUMIF('Cleaned SnowMachine Data'!AQ$6:AQ$123,'Activity Days'!$B15,'Cleaned SnowMachine Data'!BA$6:BA$123)","v":0},{"$f":"SUMIF('Cleaned SnowMachine Data'!AR$6:AR$123,'Activity Days'!$B15,'Cleaned SnowMachine Data'!BB$6:BB$123)","v":0},{"$f":"SUMIF('Cleaned SnowMachine Data'!AS$6:AS$123,'Activity Days'!$B15,'Cleaned SnowMachine Data'!BC$6:BC$123)","v":0},{"$f":"SUMIF('Cleaned SnowMachine Data'!AT$6:AT$123,'Activity Days'!$B15,'Cleaned SnowMachine Data'!BD$6:BD$123)","v":0},{"$f":"SUMIF('Cleaned SnowMachine Data'!AU$6:AU$123,'Activity Days'!$B15,'Cleaned SnowMachine Data'!BE$6:BE$123)","v":0},{"$f":"SUMIF('Cleaned SnowMachine Data'!AV$6:AV$123,'Activity Days'!$B15,'Cleaned SnowMachine Data'!BF$6:BF$123)","v":0},{"$f":"SUMIF('Cleaned SnowMachine Data'!AW$6:AW$123,'Activity Days'!$B15,'Cleaned SnowMachine Data'!BG$6:BG$123)","v":0},{"$f":"SUMIF('Cleaned SnowMachine Data'!AX$6:AX$123,'Activity Days'!$B15,'Cleaned SnowMachine Data'!BH$6:BH$123)","v":0},{"$f":"SUMIF('Cleaned SnowMachine Data'!AY$6:AY$123,'Activity Days'!$B15,'Cleaned SnowMachine Data'!BI$6:BI$123)","v":0},0,null,{"$f":"'Site Codes'!AA13","v":"Canwell Glacier-Miller Creek"},{"$f":"'Site Codes'!AB13","v":"Snow 10"},{"$f":"SUMIFS('Cleaned SnowMachine Data'!AZ$6:AZ$123,'Cleaned SnowMachine Data'!$E$6:$E$123,1,'Cleaned SnowMachine Data'!AP$6:AP$123,'Activity Days'!$P15)","v":0},{"$f":"SUMIFS('Cleaned SnowMachine Data'!BA$6:BA$123,'Cleaned SnowMachine Data'!$E$6:$E$123,1,'Cleaned SnowMachine Data'!AQ$6:AQ$123,'Activity Days'!$P15)","v":0},{"$f":"SUMIFS('Cleaned SnowMachine Data'!BB$6:BB$123,'Cleaned SnowMachine Data'!$E$6:$E$123,1,'Cleaned SnowMachine Data'!AR$6:AR$123,'Activity Days'!$P15)","v":0},{"$f":"SUMIFS('Cleaned SnowMachine Data'!BC$6:BC$123,'Cleaned SnowMachine Data'!$E$6:$E$123,1,'Cleaned SnowMachine Data'!AS$6:AS$123,'Activity Days'!$P15)","v":0},{"$f":"SUMIFS('Cleaned SnowMachine Data'!BD$6:BD$123,'Cleaned SnowMachine Data'!$E$6:$E$123,1,'Cleaned SnowMachine Data'!AT$6:AT$123,'Activity Days'!$P15)","v":0},{"$f":"SUMIFS('Cleaned SnowMachine Data'!BE$6:BE$123,'Cleaned SnowMachine Data'!$E$6:$E$123,1,'Cleaned SnowMachine Data'!AU$6:AU$123,'Activity Days'!$P15)","v":0},{"$f":"SUMIFS('Cleaned SnowMachine Data'!BF$6:BF$123,'Cleaned SnowMachine Data'!$E$6:$E$123,1,'Cleaned SnowMachine Data'!AV$6:AV$123,'Activity Days'!$P15)","v":0},{"$f":"SUMIFS('Cleaned SnowMachine Data'!BG$6:BG$123,'Cleaned SnowMachine Data'!$E$6:$E$123,1,'Cleaned SnowMachine Data'!AW$6:AW$123,'Activity Days'!$P15)","v":0},{"$f":"SUMIFS('Cleaned SnowMachine Data'!BH$6:BH$123,'Cleaned SnowMachine Data'!$E$6:$E$123,1,'Cleaned SnowMachine Data'!AX$6:AX$123,'Activity Days'!$P15)","v":0},{"$f":"SUMIFS('Cleaned SnowMachine Data'!BI$6:BI$123,'Cleaned SnowMachine Data'!$E$6:$E$123,1,'Cleaned SnowMachine Data'!AY$6:AY$123,'Activity Days'!$P15)","v":0},0]
[{"$f":"'Site Codes'!AA14","v":"Chatanika-Elliot Highway"},{"$f":"'Site Codes'!AB14","v":"Snow 11"},{"$f":"SUMIF('Cleaned SnowMachine Data'!AP$6:AP$123,'Activity Days'!$B16,'Cleaned SnowMachine Data'!AZ$6:AZ$123)","v":0},{"$f":"SUMIF('Cleaned SnowMachine Data'!AQ$6:AQ$123,'Activity Days'!$B16,'Cleaned SnowMachine Data'!BA$6:BA$123)","v":0},{"$f":"SUMIF('Cleaned SnowMachine Data'!AR$6:AR$123,'Activity Days'!$B16,'Cleaned SnowMachine Data'!BB$6:BB$123)","v":0},{"$f":"SUMIF('Cleaned SnowMachine Data'!AS$6:AS$123,'Activity Days'!$B16,'Cleaned SnowMachine Data'!BC$6:BC$123)","v":0},{"$f":"SUMIF('Cleaned SnowMachine Data'!AT$6:AT$123,'Activity Days'!$B16,'Cleaned SnowMachine Data'!BD$6:BD$123)","v":0},{"$f":"SUMIF('Cleaned SnowMachine Data'!AU$6:AU$123,'Activity Days'!$B16,'Cleaned SnowMachine Data'!BE$6:BE$123)","v":0},{"$f":"SUMIF('Cleaned SnowMachine Data'!AV$6:AV$123,'Activity Days'!$B16,'Cleaned SnowMachine Data'!BF$6:BF$123)","v":0},{"$f":"SUMIF('Cleaned SnowMachine Data'!AW$6:AW$123,'Activity Days'!$B16,'Cleaned SnowMachine Data'!BG$6:BG$123)","v":0},{"$f":"SUMIF('Cleaned SnowMachine Data'!AX$6:AX$123,'Activity Days'!$B16,'Cleaned SnowMachine Data'!BH$6:BH$123)","v":0},{"$f":"SUMIF('Cleaned SnowMachine Data'!AY$6:AY$123,'Activity Days'!$B16,'Cleaned SnowMachine Data'!BI$6:BI$123)","v":0},0,null,{"$f":"'Site Codes'!AA14","v":"Chatanika-Elliot Highway"},{"$f":"'Site Codes'!AB14","v":"Snow 11"},{"$f":"SUMIFS('Cleaned SnowMachine Data'!AZ$6:AZ$123,'Cleaned SnowMachine Data'!$E$6:$E$123,1,'Cleaned SnowMachine Data'!AP$6:AP$123,'Activity Days'!$P16)","v":0},{"$f":"SUMIFS('Cleaned SnowMachine Data'!BA$6:BA$123,'Cleaned SnowMachine Data'!$E$6:$E$123,1,'Cleaned SnowMachine Data'!AQ$6:AQ$123,'Activity Days'!$P16)","v":0},{"$f":"SUMIFS('Cleaned SnowMachine Data'!BB$6:BB$123,'Cleaned SnowMachine Data'!$E$6:$E$123,1,'Cleaned SnowMachine Data'!AR$6:AR$123,'Activity Days'!$P16)","v":0},{"$f":"SUMIFS('Cleaned SnowMachine Data'!BC$6:BC$123,'Cleaned SnowMachine Data'!$E$6:$E$123,1,'Cleaned SnowMachine Data'!AS$6:AS$123,'Activity Days'!$P16)","v":0},{"$f":"SUMIFS('Cleaned SnowMachine Data'!BD$6:BD$123,'Cleaned SnowMachine Data'!$E$6:$E$123,1,'Cleaned SnowMachine Data'!AT$6:AT$123,'Activity Days'!$P16)","v":0},{"$f":"SUMIFS('Cleaned SnowMachine Data'!BE$6:BE$123,'Cleaned SnowMachine Data'!$E$6:$E$123,1,'Cleaned SnowMachine Data'!AU$6:AU$123,'Activity Days'!$P16)","v":0},{"$f":"SUMIFS('Cleaned SnowMachine Data'!BF$6:BF$123,'Cleaned SnowMachine Data'!$E$6:$E$123,1,'Cleaned SnowMachine Data'!AV$6:AV$123,'Activity Days'!$P16)","v":0},{"$f":"SUMIFS('Cleaned SnowMachine Data'!BG$6:BG$123,'Cleaned SnowMachine Data'!$E$6:$E$123,1,'Cleaned SnowMachine Data'!AW$6:AW$123,'Activity Days'!$P16)","v":0},{"$f":"SUMIFS('Cleaned SnowMachine Data'!BH$6:BH$123,'Cleaned SnowMachine Data'!$E$6:$E$123,1,'Cleaned SnowMachine Data'!AX$6:AX$123,'Activity Days'!$P16)","v":0},{"$f":"SUMIFS('Cleaned SnowMachine Data'!BI$6:BI$123,'Cleaned SnowMachine Data'!$E$6:$E$123,1,'Cleaned SnowMachine Data'!AY$6:AY$123,'Activity Days'!$P16)","v":0},0]
[{"$f":"'Site Codes'!AA15","v":"Chena Flood Control-North Pole"},{"$f":"'Site Codes'!AB15","v":"Snow 12"},{"$f":"SUMIF('Cleaned SnowMachine Data'!AP$6:AP$123,'Activity Days'!$B17,'Cleaned SnowMachine Data'!AZ$6:AZ$123)","v":0},{"$f":"SUMIF('Cleaned SnowMachine Data'!AQ$6:AQ$123,'Activity Days'!$B17,'Cleaned SnowMachine Data'!BA$6:BA$123)","v":0},{"$f":"SUMIF('Cleaned SnowMachine Data'!AR$6:AR$123,'Activity Days'!$B17,'Cleaned SnowMachine Data'!BB$6:BB$123)","v":0},{"$f":"SUMIF('Cleaned SnowMachine Data'!AS$6:AS$123,'Activity Days'!$B17,'Cleaned SnowMachine Data'!BC$6:BC$123)","v":0},{"$f":"SUMIF('Cleaned SnowMachine Data'!AT$6:AT$123,'Activity Days'!$B17,'Cleaned SnowMachine Data'!BD$6:BD$123)","v":0},{"$f":"SUMIF('Cleaned SnowMachine Data'!AU$6:AU$123,'Activity Days'!$B17,'Cleaned SnowMachine Data'!BE$6:BE$123)","v":0},{"$f":"SUMIF('Cleaned SnowMachine Data'!AV$6:AV$123,'Activity Days'!$B17,'Cleaned SnowMachine Data'!BF$6:BF$123)","v":0},{"$f":"SUMIF('Cleaned SnowMachine Data'!AW$6:AW$123,'Activity Days'!$B17,'Cleaned SnowMachine Data'!BG$6:BG$123)","v":0},{"$f":"SUMIF('Cleaned SnowMachine Data'!AX$6:AX$123,'Activity Days'!$B17,'Cleaned SnowMachine Data'!BH$6:BH$123)","v":0},{"$f":"SUMIF('Cleaned SnowMachine Data'!AY$6:AY$123,'Activity Days'!$B17,'Cleaned SnowMachine Data'!BI$6:BI$123)","v":0},0,null,{"$f":"'Site Codes'!AA15","v":"Chena Flood Control-North Pole"},{"$f":"'Site Codes'!AB15","v":"Snow 12"},{"$f":"SUMIFS('Cleaned SnowMachine Data'!AZ$6:AZ$123,'Cleaned SnowMachine Data'!$E$6:$E$123,1,'Cleaned SnowMachine Data'!AP$6:AP$123,'Activity Days'!$P17)","v":0},{"$f":"SUMIFS('Cleaned SnowMachine Data'!BA$6:BA$123,'Cleaned SnowMachine Data'!$E$6:$E$123,1,'Cleaned SnowMachine Data'!AQ$6:AQ$123,'Activity Days'!$P17)","v":0},{"$f":"SUMIFS('Cleaned SnowMachine Data'!BB$6:BB$123,'Cleaned SnowMachine Data'!$E$6:$E$123,1,'Cleaned SnowMachine Data'!AR$6:AR$123,'Activity Days'!$P17)","v":0},{"$f":"SUMIFS('Cleaned SnowMachine Data'!BC$6:BC$123,'Cleaned SnowMachine Data'!$E$6:$E$123,1,'Cleaned SnowMachine Data'!AS$6:AS$123,'Activity Days'!$P17)","v":0},{"$f":"SUMIFS('Cleaned SnowMachine Data'!BD$6:BD$123,'Cleaned SnowMachine Data'!$E$6:$E$123,1,'Cleaned SnowMachine Data'!AT$6:AT$123,'Activity Days'!$P17)","v":0},{"$f":"SUMIFS('Cleaned SnowMachine Data'!BE$6:BE$123,'Cleaned SnowMachine Data'!$E$6:$E$123,1,'Cleaned SnowMachine Data'!AU$6:AU$123,'Activity Days'!$P17)","v":0},{"$f":"SUMIFS('Cleaned SnowMachine Data'!BF$6:BF$123,'Cleaned SnowMachine Data'!$E$6:$E$123,1,'Cleaned SnowMachine Data'!AV$6:AV$123,'Activity Days'!$P17)","v":0},{"$f":"SUMIFS('Cleaned SnowMachine Data'!BG$6:BG$123,'Cleaned SnowMachine Data'!$E$6:$E$123,1,'Cleaned SnowMachine Data'!AW$6:AW$123,'Activity Days'!$P17)","v":0},{"$f":"SUMIFS('Cleaned SnowMachine Data'!BH$6:BH$123,'Cleaned SnowMachine Data'!$E$6:$E$123,1,'Cleaned SnowMachine Data'!AX$6:AX$123,'Activity Days'!$P17)","v":0},{"$f":"SUMIFS('Cleaned SnowMachine Data'!BI$6:BI$123,'Cleaned SnowMachine Data'!$E$6:$E$123,1,'Cleaned SnowMachine Data'!AY$6:AY$123,'Activity Days'!$P17)","v":0},0]
[{"$f":"'Site Codes'!AA16","v":"Chena Hot Springs"},{"$f":"'Site Codes'!AB16","v":"Snow 13"},{"$f":"SUMIF('Cleaned SnowMachine Data'!AP$6:AP$123,'Activity Days'!$B18,'Cleaned SnowMachine Data'!AZ$6:AZ$123)","v":12},{"$f":"SUMIF('Cleaned SnowMachine Data'!AQ$6:AQ$123,'Activity Days'!$B18,'Cleaned SnowMachine Data'!BA$6:BA$123)","v":0},{"$f":"SUMIF('Cleaned SnowMachine Data'!AR$6:AR$123,'Activity Days'!$B18,'Cleaned SnowMachine Data'!BB$6:BB$123)","v":0},{"$f":"SUMIF('Cleaned SnowMachine Data'!AS$6:AS$123,'Activity Days'!$B18,'Cleaned SnowMachine Data'!BC$6:BC$123)","v":0},{"$f":"SUMIF('Cleaned SnowMachine Data'!AT$6:AT$123,'Activity Days'!$B18,'Cleaned SnowMachine Data'!BD$6:BD$123)","v":0},{"$f":"SUMIF('Cleaned SnowMachine Data'!AU$6:AU$123,'Activity Days'!$B18,'Cleaned SnowMachine Data'!BE$6:BE$123)","v":0},{"$f":"SUMIF('Cleaned SnowMachine Data'!AV$6:AV$123,'Activity Days'!$B18,'Cleaned SnowMachine Data'!BF$6:BF$123)","v":0},{"$f":"SUMIF('Cleaned SnowMachine Data'!AW$6:AW$123,'Activity Days'!$B18,'Cleaned SnowMachine Data'!BG$6:BG$123)","v":0},{"$f":"SUMIF('Cleaned SnowMachine Data'!AX$6:AX$123,'Activity Days'!$B18,'Cleaned SnowMachine Data'!BH$6:BH$123)","v":0},{"$f":"SUMIF('Cleaned SnowMachine Data'!AY$6:AY$123,'Activity Days'!$B18,'Cleaned SnowMachine Data'!BI$6:BI$123)","v":0},12,null,{"$f":"'Site Codes'!AA16","v":"Chena Hot Springs"},{"$f":"'Site Codes'!AB16","v":"Snow 13"},{"$f":"SUMIFS('Cleaned SnowMachine Data'!AZ$6:AZ$123,'Cleaned SnowMachine Data'!$E$6:$E$123,1,'Cleaned SnowMachine Data'!AP$6:AP$123,'Activity Days'!$P18)","v":0},{"$f":"SUMIFS('Cleaned SnowMachine Data'!BA$6:BA$123,'Cleaned SnowMachine Data'!$E$6:$E$123,1,'Cleaned SnowMachine Data'!AQ$6:AQ$123,'Activity Days'!$P18)","v":0},{"$f":"SUMIFS('Cleaned SnowMachine Data'!BB$6:BB$123,'Cleaned SnowMachine Data'!$E$6:$E$123,1,'Cleaned SnowMachine Data'!AR$6:AR$123,'Activity Days'!$P18)","v":0},{"$f":"SUMIFS('Cleaned SnowMachine Data'!BC$6:BC$123,'Cleaned SnowMachine Data'!$E$6:$E$123,1,'Cleaned SnowMachine Data'!AS$6:AS$123,'Activity Days'!$P18)","v":0},{"$f":"SUMIFS('Cleaned SnowMachine Data'!BD$6:BD$123,'Cleaned SnowMachine Data'!$E$6:$E$123,1,'Cleaned SnowMachine Data'!AT$6:AT$123,'Activity Days'!$P18)","v":0},{"$f":"SUMIFS('Cleaned SnowMachine Data'!BE$6:BE$123,'Cleaned SnowMachine Data'!$E$6:$E$123,1,'Cleaned SnowMachine Data'!AU$6:AU$123,'Activity Days'!$P18)","v":0},{"$f":"SUMIFS('Cleaned SnowMachine Data'!BF$6:BF$123,'Cleaned SnowMachine Data'!$E$6:$E$123,1,'Cleaned SnowMachine Data'!AV$6:AV$123,'Activity Days'!$P18)","v":0},{"$f":"SUMIFS('Cleaned SnowMachine Data'!BG$6:BG$123,'Cleaned SnowMachine Data'!$E$6:$E$123,1,'Cleaned SnowMachine Data'!AW$6:AW$123,'Activity Days'!$P18)","v":0},{"$f":"SUMIFS('Cleaned SnowMachine Data'!BH$6:BH$123,'Cleaned SnowMachine Data'!$E$6:$E$123,1,'Cleaned SnowMachine Data'!AX$6:AX$123,'Activity Days'!$P18)","v":0},{"$f":"SUMIFS('Cleaned SnowMachine Data'!BI$6:BI$123,'Cleaned SnowMachine Data'!$E$6:$E$123,1,'Cleaned SnowMachine Data'!AY$6:AY$123,'Activity Days'!$P18)","v":0},0]
[{"$f":"'Site Codes'!AA17","v":"Chena Lakes-North Pole"},{"$f":"'Site Codes'!AB17","v":"Snow 14"},{"$f":"SUMIF('Cleaned SnowMachine Data'!AP$6:AP$123,'Activity Days'!$B19,'Cleaned SnowMachine Data'!AZ$6:AZ$123)","v":0},{"$f":"SUMIF('Cleaned SnowMachine Data'!AQ$6:AQ$123,'Activity Days'!$B19,'Cleaned SnowMachine Data'!BA$6:BA$123)","v":0},{"$f":"SUMIF('Cleaned SnowMachine Data'!AR$6:AR$123,'Activity Days'!$B19,'Cleaned SnowMachine Data'!BB$6:BB$123)","v":0},{"$f":"SUMIF('Cleaned SnowMachine Data'!AS$6:AS$123,'Activity Days'!$B19,'Cleaned SnowMachine Data'!BC$6:BC$123)","v":0},{"$f":"SUMIF('Cleaned SnowMachine Data'!AT$6:AT$123,'Activity Days'!$B19,'Cleaned SnowMachine Data'!BD$6:BD$123)","v":0},{"$f":"SUMIF('Cleaned SnowMachine Data'!AU$6:AU$123,'Activity Days'!$B19,'Cleaned SnowMachine Data'!BE$6:BE$123)","v":0},{"$f":"SUMIF('Cleaned SnowMachine Data'!AV$6:AV$123,'Activity Days'!$B19,'Cleaned SnowMachine Data'!BF$6:BF$123)","v":0},{"$f":"SUMIF('Cleaned SnowMachine Data'!AW$6:AW$123,'Activity Days'!$B19,'Cleaned SnowMachine Data'!BG$6:BG$123)","v":0},{"$f":"SUMIF('Cleaned SnowMachine Data'!AX$6:AX$123,'Activity Days'!$B19,'Cleaned SnowMachine Data'!BH$6:BH$123)","v":0},{"$f":"SUMIF('Cleaned SnowMachine Data'!AY$6:AY$123,'Activity Days'!$B19,'Cleaned SnowMachine Data'!BI$6:BI$123)","v":0},0,null,{"$f":"'Site Codes'!AA17","v":"Chena Lakes-North Pole"},{"$f":"'Site Codes'!AB17","v":"Snow 14"},{"$f":"SUMIFS('Cleaned SnowMachine Data'!AZ$6:AZ$123,'Cleaned SnowMachine Data'!$E$6:$E$123,1,'Cleaned SnowMachine Data'!AP$6:AP$123,'Activity Days'!$P19)","v":0},{"$f":"SUMIFS('Cleaned SnowMachine Data'!BA$6:BA$123,'Cleaned SnowMachine Data'!$E$6:$E$123,1,'Cleaned SnowMachine Data'!AQ$6:AQ$123,'Activity Days'!$P19)","v":0},{"$f":"SUMIFS('Cleaned SnowMachine Data'!BB$6:BB$123,'Cleaned SnowMachine Data'!$E$6:$E$123,1,'Cleaned SnowMachine Data'!AR$6:AR$123,'Activity Days'!$P19)","v":0},{"$f":"SUMIFS('Cleaned SnowMachine Data'!BC$6:BC$123,'Cleaned SnowMachine Data'!$E$6:$E$123,1,'Cleaned SnowMachine Data'!AS$6:AS$123,'Activity Days'!$P19)","v":0},{"$f":"SUMIFS('Cleaned SnowMachine Data'!BD$6:BD$123,'Cleaned SnowMachine Data'!$E$6:$E$123,1,'Cleaned SnowMachine Data'!AT$6:AT$123,'Activity Days'!$P19)","v":0},{"$f":"SUMIFS('Cleaned SnowMachine Data'!BE$6:BE$123,'Cleaned SnowMachine Data'!$E$6:$E$123,1,'Cleaned SnowMachine Data'!AU$6:AU$123,'Activity Days'!$P19)","v":0},{"$f":"SUMIFS('Cleaned SnowMachine Data'!BF$6:BF$123,'Cleaned SnowMachine Data'!$E$6:$E$123,1,'Cleaned SnowMachine Data'!AV$6:AV$123,'Activity Days'!$P19)","v":0},{"$f":"SUMIFS('Cleaned SnowMachine Data'!BG$6:BG$123,'Cleaned SnowMachine Data'!$E$6:$E$123,1,'Cleaned SnowMachine Data'!AW$6:AW$123,'Activity Days'!$P19)","v":0},{"$f":"SUMIFS('Cleaned SnowMachine Data'!BH$6:BH$123,'Cleaned SnowMachine Data'!$E$6:$E$123,1,'Cleaned SnowMachine Data'!AX$6:AX$123,'Activity Days'!$P19)","v":0},{"$f":"SUMIFS('Cleaned SnowMachine Data'!BI$6:BI$123,'Cleaned SnowMachine Data'!$E$6:$E$123,1,'Cleaned SnowMachine Data'!AY$6:AY$123,'Activity Days'!$P19)","v":0},0]
[{"$f":"'Site Codes'!AA18","v":"Chena River State Recreation Area-North Pole"},{"$f":"'Site Codes'!AB18","v":"Snow 15"},{"$f":"SUMIF('Cleaned SnowMachine Data'!AP$6:AP$123,'Activity Days'!$B20,'Cleaned SnowMachine Data'!AZ$6:AZ$123)","v":5},{"$f":"SUMIF('Cleaned SnowMachine Data'!AQ$6:AQ$123,'Activity Days'!$B20,'Cleaned SnowMachine Data'!BA$6:BA$123)","v":0},{"$f":"SUMIF('Cleaned SnowMachine Data'!AR$6:AR$123,'Activity Days'!$B20,'Cleaned SnowMachine Data'!BB$6:BB$123)","v":0},{"$f":"SUMIF('Cleaned SnowMachine Data'!AS$6:AS$123,'Activity Days'!$B20,'Cleaned SnowMachine Data'!BC$6:BC$123)","v":0},{"$f":"SUMIF('Cleaned SnowMachine Data'!AT$6:AT$123,'Activity Days'!$B20,'Cleaned SnowMachine Data'!BD$6:BD$123)","v":0},{"$f":"SUMIF('Cleaned SnowMachine Data'!AU$6:AU$123,'Activity Days'!$B20,'Cleaned SnowMachine Data'!BE$6:BE$123)","v":0},{"$f":"SUMIF('Cleaned SnowMachine Data'!AV$6:AV$123,'Activity Days'!$B20,'Cleaned SnowMachine Data'!BF$6:BF$123)","v":0},{"$f":"SUMIF('Cleaned SnowMachine Data'!AW$6:AW$123,'Activity Days'!$B20,'Cleaned SnowMachine Data'!BG$6:BG$123)","v":0},{"$f":"SUMIF('Cleaned SnowMachine Data'!AX$6:AX$123,'Activity Days'!$B20,'Cleaned SnowMachine Data'!BH$6:BH$123)","v":0},{"$f":"SUMIF('Cleaned SnowMachine Data'!AY$6:AY$123,'Activity Days'!$B20,'Cleaned SnowMachine Data'!BI$6:BI$123)","v":0},5,null,{"$f":"'Site Codes'!AA18","v":"Chena River State Recreation Area-North Pole"},{"$f":"'Site Codes'!AB18","v":"Snow 15"},{"$f":"SUMIFS('Cleaned SnowMachine Data'!AZ$6:AZ$123,'Cleaned SnowMachine Data'!$E$6:$E$123,1,'Cleaned SnowMachine Data'!AP$6:AP$123,'Activity Days'!$P20)","v":0},{"$f":"SUMIFS('Cleaned SnowMachine Data'!BA$6:BA$123,'Cleaned SnowMachine Data'!$E$6:$E$123,1,'Cleaned SnowMachine Data'!AQ$6:AQ$123,'Activity Days'!$P20)","v":0},{"$f":"SUMIFS('Cleaned SnowMachine Data'!BB$6:BB$123,'Cleaned SnowMachine Data'!$E$6:$E$123,1,'Cleaned SnowMachine Data'!AR$6:AR$123,'Activity Days'!$P20)","v":0},{"$f":"SUMIFS('Cleaned SnowMachine Data'!BC$6:BC$123,'Cleaned SnowMachine Data'!$E$6:$E$123,1,'Cleaned SnowMachine Data'!AS$6:AS$123,'Activity Days'!$P20)","v":0},{"$f":"SUMIFS('Cleaned SnowMachine Data'!BD$6:BD$123,'Cleaned SnowMachine Data'!$E$6:$E$123,1,'Cleaned SnowMachine Data'!AT$6:AT$123,'Activity Days'!$P20)","v":0},{"$f":"SUMIFS('Cleaned SnowMachine Data'!BE$6:BE$123,'Cleaned SnowMachine Data'!$E$6:$E$123,1,'Cleaned SnowMachine Data'!AU$6:AU$123,'Activity Days'!$P20)","v":0},{"$f":"SUMIFS('Cleaned SnowMachine Data'!BF$6:BF$123,'Cleaned SnowMachine Data'!$E$6:$E$123,1,'Cleaned SnowMachine Data'!AV$6:AV$123,'Activity Days'!$P20)","v":0},{"$f":"SUMIFS('Cleaned SnowMachine Data'!BG$6:BG$123,'Cleaned SnowMachine Data'!$E$6:$E$123,1,'Cleaned SnowMachine Data'!AW$6:AW$123,'Activity Days'!$P20)","v":0},{"$f":"SUMIFS('Cleaned SnowMachine Data'!BH$6:BH$123,'Cleaned SnowMachine Data'!$E$6:$E$123,1,'Cleaned SnowMachine Data'!AX$6:AX$123,'Activity Days'!$P20)","v":0},{"$f":"SUMIFS('Cleaned SnowMachine Data'!BI$6:BI$123,'Cleaned SnowMachine Data'!$E$6:$E$123,1,'Cleaned SnowMachine Data'!AY$6:AY$123,'Activity Days'!$P20)","v":0},0]
[{"$f":"'Site Codes'!AA19","v":"Chickaloon"},{"$f":"'Site Codes'!AB19","v":"Snow 16"},{"$f":"SUMIF('Cleaned SnowMachine Data'!AP$6:AP$123,'Activity Days'!$B21,'Cleaned SnowMachine Data'!AZ$6:AZ$123)","v":0},{"$f":"SUMIF('Cleaned SnowMachine Data'!AQ$6:AQ$123,'Activity Days'!$B21,'Cleaned SnowMachine Data'!BA$6:BA$123)","v":0},{"$f":"SUMIF('Cleaned SnowMachine Data'!AR$6:AR$123,'Activity Days'!$B21,'Cleaned SnowMachine Data'!BB$6:BB$123)","v":0},{"$f":"SUMIF('Cleaned SnowMachine Data'!AS$6:AS$123,'Activity Days'!$B21,'Cleaned SnowMachine Data'!BC$6:BC$123)","v":0},{"$f":"SUMIF('Cleaned SnowMachine Data'!AT$6:AT$123,'Activity Days'!$B21,'Cleaned SnowMachine Data'!BD$6:BD$123)","v":0},{"$f":"SUMIF('Cleaned SnowMachine Data'!AU$6:AU$123,'Activity Days'!$B21,'Cleaned SnowMachine Data'!BE$6:BE$123)","v":0},{"$f":"SUMIF('Cleaned SnowMachine Data'!AV$6:AV$123,'Activity Days'!$B21,'Cleaned SnowMachine Data'!BF$6:BF$123)","v":0},{"$f":"SUMIF('Cleaned SnowMachine Data'!AW$6:AW$123,'Activity Days'!$B21,'Cleaned SnowMachine Data'!BG$6:BG$123)","v":0},{"$f":"SUMIF('Cleaned SnowMachine Data'!AX$6:AX$123,'Activity Days'!$B21,'Cleaned SnowMachine Data'!BH$6:BH$123)","v":0},{"$f":"SUMIF('Cleaned SnowMachine Data'!AY$6:AY$123,'Activity Days'!$B21,'Cleaned SnowMachine Data'!BI$6:BI$123)","v":0},0,null,{"$f":"'Site Codes'!AA19","v":"Chickaloon"},{"$f":"'Site Codes'!AB19","v":"Snow 16"},{"$f":"SUMIFS('Cleaned SnowMachine Data'!AZ$6:AZ$123,'Cleaned SnowMachine Data'!$E$6:$E$123,1,'Cleaned SnowMachine Data'!AP$6:AP$123,'Activity Days'!$P21)","v":0},{"$f":"SUMIFS('Cleaned SnowMachine Data'!BA$6:BA$123,'Cleaned SnowMachine Data'!$E$6:$E$123,1,'Cleaned SnowMachine Data'!AQ$6:AQ$123,'Activity Days'!$P21)","v":0},{"$f":"SUMIFS('Cleaned SnowMachine Data'!BB$6:BB$123,'Cleaned SnowMachine Data'!$E$6:$E$123,1,'Cleaned SnowMachine Data'!AR$6:AR$123,'Activity Days'!$P21)","v":0},{"$f":"SUMIFS('Cleaned SnowMachine Data'!BC$6:BC$123,'Cleaned SnowMachine Data'!$E$6:$E$123,1,'Cleaned SnowMachine Data'!AS$6:AS$123,'Activity Days'!$P21)","v":0},{"$f":"SUMIFS('Cleaned SnowMachine Data'!BD$6:BD$123,'Cleaned SnowMachine Data'!$E$6:$E$123,1,'Cleaned SnowMachine Data'!AT$6:AT$123,'Activity Days'!$P21)","v":0},{"$f":"SUMIFS('Cleaned SnowMachine Data'!BE$6:BE$123,'Cleaned SnowMachine Data'!$E$6:$E$123,1,'Cleaned SnowMachine Data'!AU$6:AU$123,'Activity Days'!$P21)","v":0},{"$f":"SUMIFS('Cleaned SnowMachine Data'!BF$6:BF$123,'Cleaned SnowMachine Data'!$E$6:$E$123,1,'Cleaned SnowMachine Data'!AV$6:AV$123,'Activity Days'!$P21)","v":0},{"$f":"SUMIFS('Cleaned SnowMachine Data'!BG$6:BG$123,'Cleaned SnowMachine Data'!$E$6:$E$123,1,'Cleaned SnowMachine Data'!AW$6:AW$123,'Activity Days'!$P21)","v":0},{"$f":"SUMIFS('Cleaned SnowMachine Data'!BH$6:BH$123,'Cleaned SnowMachine Data'!$E$6:$E$123,1,'Cleaned SnowMachine Data'!AX$6:AX$123,'Activity Days'!$P21)","v":0},{"$f":"SUMIFS('Cleaned SnowMachine Data'!BI$6:BI$123,'Cleaned SnowMachine Data'!$E$6:$E$123,1,'Cleaned SnowMachine Data'!AY$6:AY$123,'Activity Days'!$P21)","v":0},0]
[{"$f":"'Site Codes'!AA20","v":"Copper River Valley-Glennallen"},{"$f":"'Site Codes'!AB20","v":"Snow 17"},{"$f":"SUMIF('Cleaned SnowMachine Data'!AP$6:AP$123,'Activity Days'!$B22,'Cleaned SnowMachine Data'!AZ$6:AZ$123)","v":24},{"$f":"SUMIF('Cleaned SnowMachine Data'!AQ$6:AQ$123,'Activity Days'!$B22,'Cleaned SnowMachine Data'!BA$6:BA$123)","v":5},{"$f":"SUMIF('Cleaned SnowMachine Data'!AR$6:AR$123,'Activity Days'!$B22,'Cleaned SnowMachine Data'!BB$6:BB$123)","v":4},{"$f":"SUMIF('Cleaned SnowMachine Data'!AS$6:AS$123,'Activity Days'!$B22,'Cleaned SnowMachine Data'!BC$6:BC$123)","v":0},{"$f":"SUMIF('Cleaned SnowMachine Data'!AT$6:AT$123,'Activity Days'!$B22,'Cleaned SnowMachine Data'!BD$6:BD$123)","v":0},{"$f":"SUMIF('Cleaned SnowMachine Data'!AU$6:AU$123,'Activity Days'!$B22,'Cleaned SnowMachine Data'!BE$6:BE$123)","v":0},{"$f":"SUMIF('Cleaned SnowMachine Data'!AV$6:AV$123,'Activity Days'!$B22,'Cleaned SnowMachine Data'!BF$6:BF$123)","v":0},{"$f":"SUMIF('Cleaned SnowMachine Data'!AW$6:AW$123,'Activity Days'!$B22,'Cleaned SnowMachine Data'!BG$6:BG$123)","v":0},{"$f":"SUMIF('Cleaned SnowMachine Data'!AX$6:AX$123,'Activity Days'!$B22,'Cleaned SnowMachine Data'!BH$6:BH$123)","v":0},{"$f":"SUMIF('Cleaned SnowMachine Data'!AY$6:AY$123,'Activity Days'!$B22,'Cleaned SnowMachine Data'!BI$6:BI$123)","v":0},33,null,{"$f":"'Site Codes'!AA20","v":"Copper River Valley-Glennallen"},{"$f":"'Site Codes'!AB20","v":"Snow 17"},{"$f":"SUMIFS('Cleaned SnowMachine Data'!AZ$6:AZ$123,'Cleaned SnowMachine Data'!$E$6:$E$123,1,'Cleaned SnowMachine Data'!AP$6:AP$123,'Activity Days'!$P22)","v":0},{"$f":"SUMIFS('Cleaned SnowMachine Data'!BA$6:BA$123,'Cleaned SnowMachine Data'!$E$6:$E$123,1,'Cleaned SnowMachine Data'!AQ$6:AQ$123,'Activity Days'!$P22)","v":0},{"$f":"SUMIFS('Cleaned SnowMachine Data'!BB$6:BB$123,'Cleaned SnowMachine Data'!$E$6:$E$123,1,'Cleaned SnowMachine Data'!AR$6:AR$123,'Activity Days'!$P22)","v":0},{"$f":"SUMIFS('Cleaned SnowMachine Data'!BC$6:BC$123,'Cleaned SnowMachine Data'!$E$6:$E$123,1,'Cleaned SnowMachine Data'!AS$6:AS$123,'Activity Days'!$P22)","v":0},{"$f":"SUMIFS('Cleaned SnowMachine Data'!BD$6:BD$123,'Cleaned SnowMachine Data'!$E$6:$E$123,1,'Cleaned SnowMachine Data'!AT$6:AT$123,'Activity Days'!$P22)","v":0},{"$f":"SUMIFS('Cleaned SnowMachine Data'!BE$6:BE$123,'Cleaned SnowMachine Data'!$E$6:$E$123,1,'Cleaned SnowMachine Data'!AU$6:AU$123,'Activity Days'!$P22)","v":0},{"$f":"SUMIFS('Cleaned SnowMachine Data'!BF$6:BF$123,'Cleaned SnowMachine Data'!$E$6:$E$123,1,'Cleaned SnowMachine Data'!AV$6:AV$123,'Activity Days'!$P22)","v":0},{"$f":"SUMIFS('Cleaned SnowMachine Data'!BG$6:BG$123,'Cleaned SnowMachine Data'!$E$6:$E$123,1,'Cleaned SnowMachine Data'!AW$6:AW$123,'Activity Days'!$P22)","v":0},{"$f":"SUMIFS('Cleaned SnowMachine Data'!BH$6:BH$123,'Cleaned SnowMachine Data'!$E$6:$E$123,1,'Cleaned SnowMachine Data'!AX$6:AX$123,'Activity Days'!$P22)","v":0},{"$f":"SUMIFS('Cleaned SnowMachine Data'!BI$6:BI$123,'Cleaned SnowMachine Data'!$E$6:$E$123,1,'Cleaned SnowMachine Data'!AY$6:AY$123,'Activity Days'!$P22)","v":0},0]
[{"$f":"'Site Codes'!AA21","v":"Denali Highway-Cantwell"},{"$f":"'Site Codes'!AB21","v":"Snow 18"},{"$f":"SUMIF('Cleaned SnowMachine Data'!AP$6:AP$123,'Activity Days'!$B23,'Cleaned SnowMachine Data'!AZ$6:AZ$123)","v":7},{"$f":"SUMIF('Cleaned SnowMachine Data'!AQ$6:AQ$123,'Activity Days'!$B23,'Cleaned SnowMachine Data'!BA$6:BA$123)","v":0},{"$f":"SUMIF('Cleaned SnowMachine Data'!AR$6:AR$123,'Activity Days'!$B23,'Cleaned SnowMachine Data'!BB$6:BB$123)","v":0},{"$f":"SUMIF('Cleaned SnowMachine Data'!AS$6:AS$123,'Activity Days'!$B23,'Cleaned SnowMachine Data'!BC$6:BC$123)","v":0},{"$f":"SUMIF('Cleaned SnowMachine Data'!AT$6:AT$123,'Activity Days'!$B23,'Cleaned SnowMachine Data'!BD$6:BD$123)","v":0},{"$f":"SUMIF('Cleaned SnowMachine Data'!AU$6:AU$123,'Activity Days'!$B23,'Cleaned SnowMachine Data'!BE$6:BE$123)","v":0},{"$f":"SUMIF('Cleaned SnowMachine Data'!AV$6:AV$123,'Activity Days'!$B23,'Cleaned SnowMachine Data'!BF$6:BF$123)","v":0},{"$f":"SUMIF('Cleaned SnowMachine Data'!AW$6:AW$123,'Activity Days'!$B23,'Cleaned SnowMachine Data'!BG$6:BG$123)","v":0},{"$f":"SUMIF('Cleaned SnowMachine Data'!AX$6:AX$123,'Activity Days'!$B23,'Cleaned SnowMachine Data'!BH$6:BH$123)","v":0},{"$f":"SUMIF('Cleaned SnowMachine Data'!AY$6:AY$123,'Activity Days'!$B23,'Cleaned SnowMachine Data'!BI$6:BI$123)","v":0},7,null,{"$f":"'Site Codes'!AA21","v":"Denali Highway-Cantwell"},{"$f":"'Site Codes'!AB21","v":"Snow 18"},{"$f":"SUMIFS('Cleaned SnowMachine Data'!AZ$6:AZ$123,'Cleaned SnowMachine Data'!$E$6:$E$123,1,'Cleaned SnowMachine Data'!AP$6:AP$123,'Activity Days'!$P23)","v":0},{"$f":"SUMIFS('Cleaned SnowMachine Data'!BA$6:BA$123,'Cleaned SnowMachine Data'!$E$6:$E$123,1,'Cleaned SnowMachine Data'!AQ$6:AQ$123,'Activity Days'!$P23)","v":0},{"$f":"SUMIFS('Cleaned SnowMachine Data'!BB$6:BB$123,'Cleaned SnowMachine Data'!$E$6:$E$123,1,'Cleaned SnowMachine Data'!AR$6:AR$123,'Activity Days'!$P23)","v":0},{"$f":"SUMIFS('Cleaned SnowMachine Data'!BC$6:BC$123,'Cleaned SnowMachine Data'!$E$6:$E$123,1,'Cleaned SnowMachine Data'!AS$6:AS$123,'Activity Days'!$P23)","v":0},{"$f":"SUMIFS('Cleaned SnowMachine Data'!BD$6:BD$123,'Cleaned SnowMachine Data'!$E$6:$E$123,1,'Cleaned SnowMachine Data'!AT$6:AT$123,'Activity Days'!$P23)","v":0},{"$f":"SUMIFS('Cleaned SnowMachine Data'!BE$6:BE$123,'Cleaned SnowMachine Data'!$E$6:$E$123,1,'Cleaned SnowMachine Data'!AU$6:AU$123,'Activity Days'!$P23)","v":0},{"$f":"SUMIFS('Cleaned SnowMachine Data'!BF$6:BF$123,'Cleaned SnowMachine Data'!$E$6:$E$123,1,'Cleaned SnowMachine Data'!AV$6:AV$123,'Activity Days'!$P23)","v":0},{"$f":"SUMIFS('Cleaned SnowMachine Data'!BG$6:BG$123,'Cleaned SnowMachine Data'!$E$6:$E$123,1,'Cleaned SnowMachine Data'!AW$6:AW$123,'Activity Days'!$P23)","v":0},{"$f":"SUMIFS('Cleaned SnowMachine Data'!BH$6:BH$123,'Cleaned SnowMachine Data'!$E$6:$E$123,1,'Cleaned SnowMachine Data'!AX$6:AX$123,'Activity Days'!$P23)","v":0},{"$f":"SUMIFS('Cleaned SnowMachine Data'!BI$6:BI$123,'Cleaned SnowMachine Data'!$E$6:$E$123,1,'Cleaned SnowMachine Data'!AY$6:AY$123,'Activity Days'!$P23)","v":0},0]
[{"$f":"'Site Codes'!AA22","v":"Denali Highway-Central"},{"$f":"'Site Codes'!AB22","v":"Snow 19"},{"$f":"SUMIF('Cleaned SnowMachine Data'!AP$6:AP$123,'Activity Days'!$B24,'Cleaned SnowMachine Data'!AZ$6:AZ$123)","v":0},{"$f":"SUMIF('Cleaned SnowMachine Data'!AQ$6:AQ$123,'Activity Days'!$B24,'Cleaned SnowMachine Data'!BA$6:BA$123)","v":5},{"$f":"SUMIF('Cleaned SnowMachine Data'!AR$6:AR$123,'Activity Days'!$B24,'Cleaned SnowMachine Data'!BB$6:BB$123)","v":0},{"$f":"SUMIF('Cleaned SnowMachine Data'!AS$6:AS$123,'Activity Days'!$B24,'Cleaned SnowMachine Data'!BC$6:BC$123)","v":0},{"$f":"SUMIF('Cleaned SnowMachine Data'!AT$6:AT$123,'Activity Days'!$B24,'Cleaned SnowMachine Data'!BD$6:BD$123)","v":0},{"$f":"SUMIF('Cleaned SnowMachine Data'!AU$6:AU$123,'Activity Days'!$B24,'Cleaned SnowMachine Data'!BE$6:BE$123)","v":0},{"$f":"SUMIF('Cleaned SnowMachine Data'!AV$6:AV$123,'Activity Days'!$B24,'Cleaned SnowMachine Data'!BF$6:BF$123)","v":0},{"$f":"SUMIF('Cleaned SnowMachine Data'!AW$6:AW$123,'Activity Days'!$B24,'Cleaned SnowMachine Data'!BG$6:BG$123)","v":0},{"$f":"SUMIF('Cleaned SnowMachine Data'!AX$6:AX$123,'Activity Days'!$B24,'Cleaned SnowMachine Data'!BH$6:BH$123)","v":0},{"$f":"SUMIF('Cleaned SnowMachine Data'!AY$6:AY$123,'Activity Days'!$B24,'Cleaned SnowMachine Data'!BI$6:BI$123)","v":0},5,null,{"$f":"'Site Codes'!AA22","v":"Denali Highway-Central"},{"$f":"'Site Codes'!AB22","v":"Snow 19"},{"$f":"SUMIFS('Cleaned SnowMachine Data'!AZ$6:AZ$123,'Cleaned SnowMachine Data'!$E$6:$E$123,1,'Cleaned SnowMachine Data'!AP$6:AP$123,'Activity Days'!$P24)","v":0},{"$f":"SUMIFS('Cleaned SnowMachine Data'!BA$6:BA$123,'Cleaned SnowMachine Data'!$E$6:$E$123,1,'Cleaned SnowMachine Data'!AQ$6:AQ$123,'Activity Days'!$P24)","v":0},{"$f":"SUMIFS('Cleaned SnowMachine Data'!BB$6:BB$123,'Cleaned SnowMachine Data'!$E$6:$E$123,1,'Cleaned SnowMachine Data'!AR$6:AR$123,'Activity Days'!$P24)","v":0},{"$f":"SUMIFS('Cleaned SnowMachine Data'!BC$6:BC$123,'Cleaned SnowMachine Data'!$E$6:$E$123,1,'Cleaned SnowMachine Data'!AS$6:AS$123,'Activity Days'!$P24)","v":0},{"$f":"SUMIFS('Cleaned SnowMachine Data'!BD$6:BD$123,'Cleaned SnowMachine Data'!$E$6:$E$123,1,'Cleaned SnowMachine Data'!AT$6:AT$123,'Activity Days'!$P24)","v":0},{"$f":"SUMIFS('Cleaned SnowMachine Data'!BE$6:BE$123,'Cleaned SnowMachine Data'!$E$6:$E$123,1,'Cleaned SnowMachine Data'!AU$6:AU$123,'Activity Days'!$P24)","v":0},{"$f":"SUMIFS('Cleaned SnowMachine Data'!BF$6:BF$123,'Cleaned SnowMachine Data'!$E$6:$E$123,1,'Cleaned SnowMachine Data'!AV$6:AV$123,'Activity Days'!$P24)","v":0},{"$f":"SUMIFS('Cleaned SnowMachine Data'!BG$6:BG$123,'Cleaned SnowMachine Data'!$E$6:$E$123,1,'Cleaned SnowMachine Data'!AW$6:AW$123,'Activity Days'!$P24)","v":0},{"$f":"SUMIFS('Cleaned SnowMachine Data'!BH$6:BH$123,'Cleaned SnowMachine Data'!$E$6:$E$123,1,'Cleaned SnowMachine Data'!AX$6:AX$123,'Activity Days'!$P24)","v":0},{"$f":"SUMIFS('Cleaned SnowMachine Data'!BI$6:BI$123,'Cleaned SnowMachine Data'!$E$6:$E$123,1,'Cleaned SnowMachine Data'!AY$6:AY$123,'Activity Days'!$P24)","v":0},0]
[{"$f":"'Site Codes'!AA23","v":"Denali Highway-Paxson"},{"$f":"'Site Codes'!AB23","v":"Snow 20"},{"$f":"SUMIF('Cleaned SnowMachine Data'!AP$6:AP$123,'Activity Days'!$B25,'Cleaned SnowMachine Data'!AZ$6:AZ$123)","v":26},{"$f":"SUMIF('Cleaned SnowMachine Data'!AQ$6:AQ$123,'Activity Days'!$B25,'Cleaned SnowMachine Data'!BA$6:BA$123)","v":5},{"$f":"SUMIF('Cleaned SnowMachine Data'!AR$6:AR$123,'Activity Days'!$B25,'Cleaned SnowMachine Data'!BB$6:BB$123)","v":4},{"$f":"SUMIF('Cleaned SnowMachine Data'!AS$6:AS$123,'Activity Days'!$B25,'Cleaned SnowMachine Data'!BC$6:BC$123)","v":0},{"$f":"SUMIF('Cleaned SnowMachine Data'!AT$6:AT$123,'Activity Days'!$B25,'Cleaned SnowMachine Data'!BD$6:BD$123)","v":0},{"$f":"SUMIF('Cleaned SnowMachine Data'!AU$6:AU$123,'Activity Days'!$B25,'Cleaned SnowMachine Data'!BE$6:BE$123)","v":0},{"$f":"SUMIF('Cleaned SnowMachine Data'!AV$6:AV$123,'Activity Days'!$B25,'Cleaned SnowMachine Data'!BF$6:BF$123)","v":0},{"$f":"SUMIF('Cleaned SnowMachine Data'!AW$6:AW$123,'Activity Days'!$B25,'Cleaned SnowMachine Data'!BG$6:BG$123)","v":0},{"$f":"SUMIF('Cleaned SnowMachine Data'!AX$6:AX$123,'Activity Days'!$B25,'Cleaned SnowMachine Data'!BH$6:BH$123)","v":0},{"$f":"SUMIF('Cleaned SnowMachine Data'!AY$6:AY$123,'Activity Days'!$B25,'Cleaned SnowMachine Data'!BI$6:BI$123)","v":0},35,null,{"$f":"'Site Codes'!AA23","v":"Denali Highway-Paxson"},{"$f":"'Site Codes'!AB23","v":"Snow 20"},{"$f":"SUMIFS('Cleaned SnowMachine Data'!AZ$6:AZ$123,'Cleaned SnowMachine Data'!$E$6:$E$123,1,'Cleaned SnowMachine Data'!AP$6:AP$123,'Activity Days'!$P25)","v":0},{"$f":"SUMIFS('Cleaned SnowMachine Data'!BA$6:BA$123,'Cleaned SnowMachine Data'!$E$6:$E$123,1,'Cleaned SnowMachine Data'!AQ$6:AQ$123,'Activity Days'!$P25)","v":0},{"$f":"SUMIFS('Cleaned SnowMachine Data'!BB$6:BB$123,'Cleaned SnowMachine Data'!$E$6:$E$123,1,'Cleaned SnowMachine Data'!AR$6:AR$123,'Activity Days'!$P25)","v":0},{"$f":"SUMIFS('Cleaned SnowMachine Data'!BC$6:BC$123,'Cleaned SnowMachine Data'!$E$6:$E$123,1,'Cleaned SnowMachine Data'!AS$6:AS$123,'Activity Days'!$P25)","v":0},{"$f":"SUMIFS('Cleaned SnowMachine Data'!BD$6:BD$123,'Cleaned SnowMachine Data'!$E$6:$E$123,1,'Cleaned SnowMachine Data'!AT$6:AT$123,'Activity Days'!$P25)","v":0},{"$f":"SUMIFS('Cleaned SnowMachine Data'!BE$6:BE$123,'Cleaned SnowMachine Data'!$E$6:$E$123,1,'Cleaned SnowMachine Data'!AU$6:AU$123,'Activity Days'!$P25)","v":0},{"$f":"SUMIFS('Cleaned SnowMachine Data'!BF$6:BF$123,'Cleaned SnowMachine Data'!$E$6:$E$123,1,'Cleaned SnowMachine Data'!AV$6:AV$123,'Activity Days'!$P25)","v":0},{"$f":"SUMIFS('Cleaned SnowMachine Data'!BG$6:BG$123,'Cleaned SnowMachine Data'!$E$6:$E$123,1,'Cleaned SnowMachine Data'!AW$6:AW$123,'Activity Days'!$P25)","v":0},{"$f":"SUMIFS('Cleaned SnowMachine Data'!BH$6:BH$123,'Cleaned SnowMachine Data'!$E$6:$E$123,1,'Cleaned SnowMachine Data'!AX$6:AX$123,'Activity Days'!$P25)","v":0},{"$f":"SUMIFS('Cleaned SnowMachine Data'!BI$6:BI$123,'Cleaned SnowMachine Data'!$E$6:$E$123,1,'Cleaned SnowMachine Data'!AY$6:AY$123,'Activity Days'!$P25)","v":0},0]
[{"$f":"'Site Codes'!AA24","v":"Denali National Park-Cantwell"},{"$f":"'Site Codes'!AB24","v":"Snow 21"},{"$f":"SUMIF('Cleaned SnowMachine Data'!AP$6:AP$123,'Activity Days'!$B26,'Cleaned SnowMachine Data'!AZ$6:AZ$123)","v":0},{"$f":"SUMIF('Cleaned SnowMachine Data'!AQ$6:AQ$123,'Activity Days'!$B26,'Cleaned SnowMachine Data'!BA$6:BA$123)","v":0},{"$f":"SUMIF('Cleaned SnowMachine Data'!AR$6:AR$123,'Activity Days'!$B26,'Cleaned SnowMachine Data'!BB$6:BB$123)","v":0},{"$f":"SUMIF('Cleaned SnowMachine Data'!AS$6:AS$123,'Activity Days'!$B26,'Cleaned SnowMachine Data'!BC$6:BC$123)","v":0},{"$f":"SUMIF('Cleaned SnowMachine Data'!AT$6:AT$123,'Activity Days'!$B26,'Cleaned SnowMachine Data'!BD$6:BD$123)","v":0},{"$f":"SUMIF('Cleaned SnowMachine Data'!AU$6:AU$123,'Activity Days'!$B26,'Cleaned SnowMachine Data'!BE$6:BE$123)","v":0},{"$f":"SUMIF('Cleaned SnowMachine Data'!AV$6:AV$123,'Activity Days'!$B26,'Cleaned SnowMachine Data'!BF$6:BF$123)","v":0},{"$f":"SUMIF('Cleaned SnowMachine Data'!AW$6:AW$123,'Activity Days'!$B26,'Cleaned SnowMachine Data'!BG$6:BG$123)","v":0},{"$f":"SUMIF('Cleaned SnowMachine Data'!AX$6:AX$123,'Activity Days'!$B26,'Cleaned SnowMachine Data'!BH$6:BH$123)","v":0},{"$f":"SUMIF('Cleaned SnowMachine Data'!AY$6:AY$123,'Activity Days'!$B26,'Cleaned SnowMachine Data'!BI$6:BI$123)","v":0},0,null,{"$f":"'Site Codes'!AA24","v":"Denali National Park-Cantwell"},{"$f":"'Site Codes'!AB24","v":"Snow 21"},{"$f":"SUMIFS('Cleaned SnowMachine Data'!AZ$6:AZ$123,'Cleaned SnowMachine Data'!$E$6:$E$123,1,'Cleaned SnowMachine Data'!AP$6:AP$123,'Activity Days'!$P26)","v":0},{"$f":"SUMIFS('Cleaned SnowMachine Data'!BA$6:BA$123,'Cleaned SnowMachine Data'!$E$6:$E$123,1,'Cleaned SnowMachine Data'!AQ$6:AQ$123,'Activity Days'!$P26)","v":0},{"$f":"SUMIFS('Cleaned SnowMachine Data'!BB$6:BB$123,'Cleaned SnowMachine Data'!$E$6:$E$123,1,'Cleaned SnowMachine Data'!AR$6:AR$123,'Activity Days'!$P26)","v":0},{"$f":"SUMIFS('Cleaned SnowMachine Data'!BC$6:BC$123,'Cleaned SnowMachine Data'!$E$6:$E$123,1,'Cleaned SnowMachine Data'!AS$6:AS$123,'Activity Days'!$P26)","v":0},{"$f":"SUMIFS('Cleaned SnowMachine Data'!BD$6:BD$123,'Cleaned SnowMachine Data'!$E$6:$E$123,1,'Cleaned SnowMachine Data'!AT$6:AT$123,'Activity Days'!$P26)","v":0},{"$f":"SUMIFS('Cleaned SnowMachine Data'!BE$6:BE$123,'Cleaned SnowMachine Data'!$E$6:$E$123,1,'Cleaned SnowMachine Data'!AU$6:AU$123,'Activity Days'!$P26)","v":0},{"$f":"SUMIFS('Cleaned SnowMachine Data'!BF$6:BF$123,'Cleaned SnowMachine Data'!$E$6:$E$123,1,'Cleaned SnowMachine Data'!AV$6:AV$123,'Activity Days'!$P26)","v":0},{"$f":"SUMIFS('Cleaned SnowMachine Data'!BG$6:BG$123,'Cleaned SnowMachine Data'!$E$6:$E$123,1,'Cleaned SnowMachine Data'!AW$6:AW$123,'Activity Days'!$P26)","v":0},{"$f":"SUMIFS('Cleaned SnowMachine Data'!BH$6:BH$123,'Cleaned SnowMachine Data'!$E$6:$E$123,1,'Cleaned SnowMachine Data'!AX$6:AX$123,'Activity Days'!$P26)","v":0},{"$f":"SUMIFS('Cleaned SnowMachine Data'!BI$6:BI$123,'Cleaned SnowMachine Data'!$E$6:$E$123,1,'Cleaned SnowMachine Data'!AY$6:AY$123,'Activity Days'!$P26)","v":0},0]
[{"$f":"'Site Codes'!AA25","v":"Drill Lake-Chickaloon"},{"$f":"'Site Codes'!AB25","v":"Snow 22"},{"$f":"SUMIF('Cleaned SnowMachine Data'!AP$6:AP$123,'Activity Days'!$B27,'Cleaned SnowMachine Data'!AZ$6:AZ$123)","v":0},{"$f":"SUMIF('Cleaned SnowMachine Data'!AQ$6:AQ$123,'Activity Days'!$B27,'Cleaned SnowMachine Data'!BA$6:BA$123)","v":0},{"$f":"SUMIF('Cleaned SnowMachine Data'!AR$6:AR$123,'Activity Days'!$B27,'Cleaned SnowMachine Data'!BB$6:BB$123)","v":0},{"$f":"SUMIF('Cleaned SnowMachine Data'!AS$6:AS$123,'Activity Days'!$B27,'Cleaned SnowMachine Data'!BC$6:BC$123)","v":0},{"$f":"SUMIF('Cleaned SnowMachine Data'!AT$6:AT$123,'Activity Days'!$B27,'Cleaned SnowMachine Data'!BD$6:BD$123)","v":0},{"$f":"SUMIF('Cleaned SnowMachine Data'!AU$6:AU$123,'Activity Days'!$B27,'Cleaned SnowMachine Data'!BE$6:BE$123)","v":0},{"$f":"SUMIF('Cleaned SnowMachine Data'!AV$6:AV$123,'Activity Days'!$B27,'Cleaned SnowMachine Data'!BF$6:BF$123)","v":0},{"$f":"SUMIF('Cleaned SnowMachine Data'!AW$6:AW$123,'Activity Days'!$B27,'Cleaned SnowMachine Data'!BG$6:BG$123)","v":0},{"$f":"SUMIF('Cleaned SnowMachine Data'!AX$6:AX$123,'Activity Days'!$B27,'Cleaned SnowMachine Data'!BH$6:BH$123)","v":0},{"$f":"SUMIF('Cleaned SnowMachine Data'!AY$6:AY$123,'Activity Days'!$B27,'Cleaned SnowMachine Data'!BI$6:BI$123)","v":0},0,null,{"$f":"'Site Codes'!AA25","v":"Drill Lake-Chickaloon"},{"$f":"'Site Codes'!AB25","v":"Snow 22"},{"$f":"SUMIFS('Cleaned SnowMachine Data'!AZ$6:AZ$123,'Cleaned SnowMachine Data'!$E$6:$E$123,1,'Cleaned SnowMachine Data'!AP$6:AP$123,'Activity Days'!$P27)","v":0},{"$f":"SUMIFS('Cleaned SnowMachine Data'!BA$6:BA$123,'Cleaned SnowMachine Data'!$E$6:$E$123,1,'Cleaned SnowMachine Data'!AQ$6:AQ$123,'Activity Days'!$P27)","v":0},{"$f":"SUMIFS('Cleaned SnowMachine Data'!BB$6:BB$123,'Cleaned SnowMachine Data'!$E$6:$E$123,1,'Cleaned SnowMachine Data'!AR$6:AR$123,'Activity Days'!$P27)","v":0},{"$f":"SUMIFS('Cleaned SnowMachine Data'!BC$6:BC$123,'Cleaned SnowMachine Data'!$E$6:$E$123,1,'Cleaned SnowMachine Data'!AS$6:AS$123,'Activity Days'!$P27)","v":0},{"$f":"SUMIFS('Cleaned SnowMachine Data'!BD$6:BD$123,'Cleaned SnowMachine Data'!$E$6:$E$123,1,'Cleaned SnowMachine Data'!AT$6:AT$123,'Activity Days'!$P27)","v":0},{"$f":"SUMIFS('Cleaned SnowMachine Data'!BE$6:BE$123,'Cleaned SnowMachine Data'!$E$6:$E$123,1,'Cleaned SnowMachine Data'!AU$6:AU$123,'Activity Days'!$P27)","v":0},{"$f":"SUMIFS('Cleaned SnowMachine Data'!BF$6:BF$123,'Cleaned SnowMachine Data'!$E$6:$E$123,1,'Cleaned SnowMachine Data'!AV$6:AV$123,'Activity Days'!$P27)","v":0},{"$f":"SUMIFS('Cleaned SnowMachine Data'!BG$6:BG$123,'Cleaned SnowMachine Data'!$E$6:$E$123,1,'Cleaned SnowMachine Data'!AW$6:AW$123,'Activity Days'!$P27)","v":0},{"$f":"SUMIFS('Cleaned SnowMachine Data'!BH$6:BH$123,'Cleaned SnowMachine Data'!$E$6:$E$123,1,'Cleaned SnowMachine Data'!AX$6:AX$123,'Activity Days'!$P27)","v":0},{"$f":"SUMIFS('Cleaned SnowMachine Data'!BI$6:BI$123,'Cleaned SnowMachine Data'!$E$6:$E$123,1,'Cleaned SnowMachine Data'!AY$6:AY$123,'Activity Days'!$P27)","v":0},0]
[{"$f":"'Site Codes'!AA26","v":"Dry Creek SRA- Gulkana"},{"$f":"'Site Codes'!AB26","v":"Snow 23"},{"$f":"SUMIF('Cleaned SnowMachine Data'!AP$6:AP$123,'Activity Days'!$B28,'Cleaned SnowMachine Data'!AZ$6:AZ$123)","v":0},{"$f":"SUMIF('Cleaned SnowMachine Data'!AQ$6:AQ$123,'Activity Days'!$B28,'Cleaned SnowMachine Data'!BA$6:BA$123)","v":0},{"$f":"SUMIF('Cleaned SnowMachine Data'!AR$6:AR$123,'Activity Days'!$B28,'Cleaned SnowMachine Data'!BB$6:BB$123)","v":0},{"$f":"SUMIF('Cleaned SnowMachine Data'!AS$6:AS$123,'Activity Days'!$B28,'Cleaned SnowMachine Data'!BC$6:BC$123)","v":0},{"$f":"SUMIF('Cleaned SnowMachine Data'!AT$6:AT$123,'Activity Days'!$B28,'Cleaned SnowMachine Data'!BD$6:BD$123)","v":0},{"$f":"SUMIF('Cleaned SnowMachine Data'!AU$6:AU$123,'Activity Days'!$B28,'Cleaned SnowMachine Data'!BE$6:BE$123)","v":0},{"$f":"SUMIF('Cleaned SnowMachine Data'!AV$6:AV$123,'Activity Days'!$B28,'Cleaned SnowMachine Data'!BF$6:BF$123)","v":0},{"$f":"SUMIF('Cleaned SnowMachine Data'!AW$6:AW$123,'Activity Days'!$B28,'Cleaned SnowMachine Data'!BG$6:BG$123)","v":0},{"$f":"SUMIF('Cleaned SnowMachine Data'!AX$6:AX$123,'Activity Days'!$B28,'Cleaned SnowMachine Data'!BH$6:BH$123)","v":0},{"$f":"SUMIF('Cleaned SnowMachine Data'!AY$6:AY$123,'Activity Days'!$B28,'Cleaned SnowMachine Data'!BI$6:BI$123)","v":0},0,null,{"$f":"'Site Codes'!AA26","v":"Dry Creek SRA- Gulkana"},{"$f":"'Site Codes'!AB26","v":"Snow 23"},{"$f":"SUMIFS('Cleaned SnowMachine Data'!AZ$6:AZ$123,'Cleaned SnowMachine Data'!$E$6:$E$123,1,'Cleaned SnowMachine Data'!AP$6:AP$123,'Activity Days'!$P28)","v":0},{"$f":"SUMIFS('Cleaned SnowMachine Data'!BA$6:BA$123,'Cleaned SnowMachine Data'!$E$6:$E$123,1,'Cleaned SnowMachine Data'!AQ$6:AQ$123,'Activity Days'!$P28)","v":0},{"$f":"SUMIFS('Cleaned SnowMachine Data'!BB$6:BB$123,'Cleaned SnowMachine Data'!$E$6:$E$123,1,'Cleaned SnowMachine Data'!AR$6:AR$123,'Activity Days'!$P28)","v":0},{"$f":"SUMIFS('Cleaned SnowMachine Data'!BC$6:BC$123,'Cleaned SnowMachine Data'!$E$6:$E$123,1,'Cleaned SnowMachine Data'!AS$6:AS$123,'Activity Days'!$P28)","v":0},{"$f":"SUMIFS('Cleaned SnowMachine Data'!BD$6:BD$123,'Cleaned SnowMachine Data'!$E$6:$E$123,1,'Cleaned SnowMachine Data'!AT$6:AT$123,'Activity Days'!$P28)","v":0},{"$f":"SUMIFS('Cleaned SnowMachine Data'!BE$6:BE$123,'Cleaned SnowMachine Data'!$E$6:$E$123,1,'Cleaned SnowMachine Data'!AU$6:AU$123,'Activity Days'!$P28)","v":0},{"$f":"SUMIFS('Cleaned SnowMachine Data'!BF$6:BF$123,'Cleaned SnowMachine Data'!$E$6:$E$123,1,'Cleaned SnowMachine Data'!AV$6:AV$123,'Activity Days'!$P28)","v":0},{"$f":"SUMIFS('Cleaned SnowMachine Data'!BG$6:BG$123,'Cleaned SnowMachine Data'!$E$6:$E$123,1,'Cleaned SnowMachine Data'!AW$6:AW$123,'Activity Days'!$P28)","v":0},{"$f":"SUMIFS('Cleaned SnowMachine Data'!BH$6:BH$123,'Cleaned SnowMachine Data'!$E$6:$E$123,1,'Cleaned SnowMachine Data'!AX$6:AX$123,'Activity Days'!$P28)","v":0},{"$f":"SUMIFS('Cleaned SnowMachine Data'!BI$6:BI$123,'Cleaned SnowMachine Data'!$E$6:$E$123,1,'Cleaned SnowMachine Data'!AY$6:AY$123,'Activity Days'!$P28)","v":0},0]
[{"$f":"'Site Codes'!AA27","v":"Eagle River Valley"},{"$f":"'Site Codes'!AB27","v":"Snow 24"},{"$f":"SUMIF('Cleaned SnowMachine Data'!AP$6:AP$123,'Activity Days'!$B29,'Cleaned SnowMachine Data'!AZ$6:AZ$123)","v":0},{"$f":"SUMIF('Cleaned SnowMachine Data'!AQ$6:AQ$123,'Activity Days'!$B29,'Cleaned SnowMachine Data'!BA$6:BA$123)","v":0},{"$f":"SUMIF('Cleaned SnowMachine Data'!AR$6:AR$123,'Activity Days'!$B29,'Cleaned SnowMachine Data'!BB$6:BB$123)","v":0},{"$f":"SUMIF('Cleaned SnowMachine Data'!AS$6:AS$123,'Activity Days'!$B29,'Cleaned SnowMachine Data'!BC$6:BC$123)","v":0},{"$f":"SUMIF('Cleaned SnowMachine Data'!AT$6:AT$123,'Activity Days'!$B29,'Cleaned SnowMachine Data'!BD$6:BD$123)","v":0},{"$f":"SUMIF('Cleaned SnowMachine Data'!AU$6:AU$123,'Activity Days'!$B29,'Cleaned SnowMachine Data'!BE$6:BE$123)","v":0},{"$f":"SUMIF('Cleaned SnowMachine Data'!AV$6:AV$123,'Activity Days'!$B29,'Cleaned SnowMachine Data'!BF$6:BF$123)","v":0},{"$f":"SUMIF('Cleaned SnowMachine Data'!AW$6:AW$123,'Activity Days'!$B29,'Cleaned SnowMachine Data'!BG$6:BG$123)","v":0},{"$f":"SUMIF('Cleaned SnowMachine Data'!AX$6:AX$123,'Activity Days'!$B29,'Cleaned SnowMachine Data'!BH$6:BH$123)","v":0},{"$f":"SUMIF('Cleaned SnowMachine Data'!AY$6:AY$123,'Activity Days'!$B29,'Cleaned SnowMachine Data'!BI$6:BI$123)","v":0},0,null,{"$f":"'Site Codes'!AA27","v":"Eagle River Valley"},{"$f":"'Site Codes'!AB27","v":"Snow 24"},{"$f":"SUMIFS('Cleaned SnowMachine Data'!AZ$6:AZ$123,'Cleaned SnowMachine Data'!$E$6:$E$123,1,'Cleaned SnowMachine Data'!AP$6:AP$123,'Activity Days'!$P29)","v":0},{"$f":"SUMIFS('Cleaned SnowMachine Data'!BA$6:BA$123,'Cleaned SnowMachine Data'!$E$6:$E$123,1,'Cleaned SnowMachine Data'!AQ$6:AQ$123,'Activity Days'!$P29)","v":0},{"$f":"SUMIFS('Cleaned SnowMachine Data'!BB$6:BB$123,'Cleaned SnowMachine Data'!$E$6:$E$123,1,'Cleaned SnowMachine Data'!AR$6:AR$123,'Activity Days'!$P29)","v":0},{"$f":"SUMIFS('Cleaned SnowMachine Data'!BC$6:BC$123,'Cleaned SnowMachine Data'!$E$6:$E$123,1,'Cleaned SnowMachine Data'!AS$6:AS$123,'Activity Days'!$P29)","v":0},{"$f":"SUMIFS('Cleaned SnowMachine Data'!BD$6:BD$123,'Cleaned SnowMachine Data'!$E$6:$E$123,1,'Cleaned SnowMachine Data'!AT$6:AT$123,'Activity Days'!$P29)","v":0},{"$f":"SUMIFS('Cleaned SnowMachine Data'!BE$6:BE$123,'Cleaned SnowMachine Data'!$E$6:$E$123,1,'Cleaned SnowMachine Data'!AU$6:AU$123,'Activity Days'!$P29)","v":0},{"$f":"SUMIFS('Cleaned SnowMachine Data'!BF$6:BF$123,'Cleaned SnowMachine Data'!$E$6:$E$123,1,'Cleaned SnowMachine Data'!AV$6:AV$123,'Activity Days'!$P29)","v":0},{"$f":"SUMIFS('Cleaned SnowMachine Data'!BG$6:BG$123,'Cleaned SnowMachine Data'!$E$6:$E$123,1,'Cleaned SnowMachine Data'!AW$6:AW$123,'Activity Days'!$P29)","v":0},{"$f":"SUMIFS('Cleaned SnowMachine Data'!BH$6:BH$123,'Cleaned SnowMachine Data'!$E$6:$E$123,1,'Cleaned SnowMachine Data'!AX$6:AX$123,'Activity Days'!$P29)","v":0},{"$f":"SUMIFS('Cleaned SnowMachine Data'!BI$6:BI$123,'Cleaned SnowMachine Data'!$E$6:$E$123,1,'Cleaned SnowMachine Data'!AY$6:AY$123,'Activity Days'!$P29)","v":0},0]
[{"$f":"'Site Codes'!AA28","v":"Eureka"},{"$f":"'Site Codes'!AB28","v":"Snow 25"},{"$f":"SUMIF('Cleaned SnowMachine Data'!AP$6:AP$123,'Activity Days'!$B30,'Cleaned SnowMachine Data'!AZ$6:AZ$123)","v":5},{"$f":"SUMIF('Cleaned SnowMachine Data'!AQ$6:AQ$123,'Activity Days'!$B30,'Cleaned SnowMachine Data'!BA$6:BA$123)","v":20},{"$f":"SUMIF('Cleaned SnowMachine Data'!AR$6:AR$123,'Activity Days'!$B30,'Cleaned SnowMachine Data'!BB$6:BB$123)","v":0},{"$f":"SUMIF('Cleaned SnowMachine Data'!AS$6:AS$123,'Activity Days'!$B30,'Cleaned SnowMachine Data'!BC$6:BC$123)","v":0},{"$f":"SUMIF('Cleaned SnowMachine Data'!AT$6:AT$123,'Activity Days'!$B30,'Cleaned SnowMachine Data'!BD$6:BD$123)","v":0},{"$f":"SUMIF('Cleaned SnowMachine Data'!AU$6:AU$123,'Activity Days'!$B30,'Cleaned SnowMachine Data'!BE$6:BE$123)","v":0},{"$f":"SUMIF('Cleaned SnowMachine Data'!AV$6:AV$123,'Activity Days'!$B30,'Cleaned SnowMachine Data'!BF$6:BF$123)","v":0},{"$f":"SUMIF('Cleaned SnowMachine Data'!AW$6:AW$123,'Activity Days'!$B30,'Cleaned SnowMachine Data'!BG$6:BG$123)","v":0},{"$f":"SUMIF('Cleaned SnowMachine Data'!AX$6:AX$123,'Activity Days'!$B30,'Cleaned SnowMachine Data'!BH$6:BH$123)","v":0},{"$f":"SUMIF('Cleaned SnowMachine Data'!AY$6:AY$123,'Activity Days'!$B30,'Cleaned SnowMachine Data'!BI$6:BI$123)","v":0},25,null,{"$f":"'Site Codes'!AA28","v":"Eureka"},{"$f":"'Site Codes'!AB28","v":"Snow 25"},{"$f":"SUMIFS('Cleaned SnowMachine Data'!AZ$6:AZ$123,'Cleaned SnowMachine Data'!$E$6:$E$123,1,'Cleaned SnowMachine Data'!AP$6:AP$123,'Activity Days'!$P30)","v":0},{"$f":"SUMIFS('Cleaned SnowMachine Data'!BA$6:BA$123,'Cleaned SnowMachine Data'!$E$6:$E$123,1,'Cleaned SnowMachine Data'!AQ$6:AQ$123,'Activity Days'!$P30)","v":0},{"$f":"SUMIFS('Cleaned SnowMachine Data'!BB$6:BB$123,'Cleaned SnowMachine Data'!$E$6:$E$123,1,'Cleaned SnowMachine Data'!AR$6:AR$123,'Activity Days'!$P30)","v":0},{"$f":"SUMIFS('Cleaned SnowMachine Data'!BC$6:BC$123,'Cleaned SnowMachine Data'!$E$6:$E$123,1,'Cleaned SnowMachine Data'!AS$6:AS$123,'Activity Days'!$P30)","v":0},{"$f":"SUMIFS('Cleaned SnowMachine Data'!BD$6:BD$123,'Cleaned SnowMachine Data'!$E$6:$E$123,1,'Cleaned SnowMachine Data'!AT$6:AT$123,'Activity Days'!$P30)","v":0},{"$f":"SUMIFS('Cleaned SnowMachine Data'!BE$6:BE$123,'Cleaned SnowMachine Data'!$E$6:$E$123,1,'Cleaned SnowMachine Data'!AU$6:AU$123,'Activity Days'!$P30)","v":0},{"$f":"SUMIFS('Cleaned SnowMachine Data'!BF$6:BF$123,'Cleaned SnowMachine Data'!$E$6:$E$123,1,'Cleaned SnowMachine Data'!AV$6:AV$123,'Activity Days'!$P30)","v":0},{"$f":"SUMIFS('Cleaned SnowMachine Data'!BG$6:BG$123,'Cleaned SnowMachine Data'!$E$6:$E$123,1,'Cleaned SnowMachine Data'!AW$6:AW$123,'Activity Days'!$P30)","v":0},{"$f":"SUMIFS('Cleaned SnowMachine Data'!BH$6:BH$123,'Cleaned SnowMachine Data'!$E$6:$E$123,1,'Cleaned SnowMachine Data'!AX$6:AX$123,'Activity Days'!$P30)","v":0},{"$f":"SUMIFS('Cleaned SnowMachine Data'!BI$6:BI$123,'Cleaned SnowMachine Data'!$E$6:$E$123,1,'Cleaned SnowMachine Data'!AY$6:AY$123,'Activity Days'!$P30)","v":0},0]
[{"$f":"'Site Codes'!AA29","v":"Eyak Mountain-Cordova"},{"$f":"'Site Codes'!AB29","v":"Snow 26"},{"$f":"SUMIF('Cleaned SnowMachine Data'!AP$6:AP$123,'Activity Days'!$B31,'Cleaned SnowMachine Data'!AZ$6:AZ$123)","v":0},{"$f":"SUMIF('Cleaned SnowMachine Data'!AQ$6:AQ$123,'Activity Days'!$B31,'Cleaned SnowMachine Data'!BA$6:BA$123)","v":0},{"$f":"SUMIF('Cleaned SnowMachine Data'!AR$6:AR$123,'Activity Days'!$B31,'Cleaned SnowMachine Data'!BB$6:BB$123)","v":0},{"$f":"SUMIF('Cleaned SnowMachine Data'!AS$6:AS$123,'Activity Days'!$B31,'Cleaned SnowMachine Data'!BC$6:BC$123)","v":0},{"$f":"SUMIF('Cleaned SnowMachine Data'!AT$6:AT$123,'Activity Days'!$B31,'Cleaned SnowMachine Data'!BD$6:BD$123)","v":0},{"$f":"SUMIF('Cleaned SnowMachine Data'!AU$6:AU$123,'Activity Days'!$B31,'Cleaned SnowMachine Data'!BE$6:BE$123)","v":0},{"$f":"SUMIF('Cleaned SnowMachine Data'!AV$6:AV$123,'Activity Days'!$B31,'Cleaned SnowMachine Data'!BF$6:BF$123)","v":0},{"$f":"SUMIF('Cleaned SnowMachine Data'!AW$6:AW$123,'Activity Days'!$B31,'Cleaned SnowMachine Data'!BG$6:BG$123)","v":0},{"$f":"SUMIF('Cleaned SnowMachine Data'!AX$6:AX$123,'Activity Days'!$B31,'Cleaned SnowMachine Data'!BH$6:BH$123)","v":0},{"$f":"SUMIF('Cleaned SnowMachine Data'!AY$6:AY$123,'Activity Days'!$B31,'Cleaned SnowMachine Data'!BI$6:BI$123)","v":0},0,null,{"$f":"'Site Codes'!AA29","v":"Eyak Mountain-Cordova"},{"$f":"'Site Codes'!AB29","v":"Snow 26"},{"$f":"SUMIFS('Cleaned SnowMachine Data'!AZ$6:AZ$123,'Cleaned SnowMachine Data'!$E$6:$E$123,1,'Cleaned SnowMachine Data'!AP$6:AP$123,'Activity Days'!$P31)","v":0},{"$f":"SUMIFS('Cleaned SnowMachine Data'!BA$6:BA$123,'Cleaned SnowMachine Data'!$E$6:$E$123,1,'Cleaned SnowMachine Data'!AQ$6:AQ$123,'Activity Days'!$P31)","v":0},{"$f":"SUMIFS('Cleaned SnowMachine Data'!BB$6:BB$123,'Cleaned SnowMachine Data'!$E$6:$E$123,1,'Cleaned SnowMachine Data'!AR$6:AR$123,'Activity Days'!$P31)","v":0},{"$f":"SUMIFS('Cleaned SnowMachine Data'!BC$6:BC$123,'Cleaned SnowMachine Data'!$E$6:$E$123,1,'Cleaned SnowMachine Data'!AS$6:AS$123,'Activity Days'!$P31)","v":0},{"$f":"SUMIFS('Cleaned SnowMachine Data'!BD$6:BD$123,'Cleaned SnowMachine Data'!$E$6:$E$123,1,'Cleaned SnowMachine Data'!AT$6:AT$123,'Activity Days'!$P31)","v":0},{"$f":"SUMIFS('Cleaned SnowMachine Data'!BE$6:BE$123,'Cleaned SnowMachine Data'!$E$6:$E$123,1,'Cleaned SnowMachine Data'!AU$6:AU$123,'Activity Days'!$P31)","v":0},{"$f":"SUMIFS('Cleaned SnowMachine Data'!BF$6:BF$123,'Cleaned SnowMachine Data'!$E$6:$E$123,1,'Cleaned SnowMachine Data'!AV$6:AV$123,'Activity Days'!$P31)","v":0},{"$f":"SUMIFS('Cleaned SnowMachine Data'!BG$6:BG$123,'Cleaned SnowMachine Data'!$E$6:$E$123,1,'Cleaned SnowMachine Data'!AW$6:AW$123,'Activity Days'!$P31)","v":0},{"$f":"SUMIFS('Cleaned SnowMachine Data'!BH$6:BH$123,'Cleaned SnowMachine Data'!$E$6:$E$123,1,'Cleaned SnowMachine Data'!AX$6:AX$123,'Activity Days'!$P31)","v":0},{"$f":"SUMIFS('Cleaned SnowMachine Data'!BI$6:BI$123,'Cleaned SnowMachine Data'!$E$6:$E$123,1,'Cleaned SnowMachine Data'!AY$6:AY$123,'Activity Days'!$P31)","v":0},0]
[{"$f":"'Site Codes'!AA30","v":"Fairbanks"},{"$f":"'Site Codes'!AB30","v":"Snow 27"},{"$f":"SUMIF('Cleaned SnowMachine Data'!AP$6:AP$123,'Activity Days'!$B32,'Cleaned SnowMachine Data'!AZ$6:AZ$123)","v":19},{"$f":"SUMIF('Cleaned SnowMachine Data'!AQ$6:AQ$123,'Activity Days'!$B32,'Cleaned SnowMachine Data'!BA$6:BA$123)","v":14},{"$f":"SUMIF('Cleaned SnowMachine Data'!AR$6:AR$123,'Activity Days'!$B32,'Cleaned SnowMachine Data'!BB$6:BB$123)","v":0},{"$f":"SUMIF('Cleaned SnowMachine Data'!AS$6:AS$123,'Activity Days'!$B32,'Cleaned SnowMachine Data'!BC$6:BC$123)","v":0},{"$f":"SUMIF('Cleaned SnowMachine Data'!AT$6:AT$123,'Activity Days'!$B32,'Cleaned SnowMachine Data'!BD$6:BD$123)","v":0},{"$f":"SUMIF('Cleaned SnowMachine Data'!AU$6:AU$123,'Activity Days'!$B32,'Cleaned SnowMachine Data'!BE$6:BE$123)","v":0},{"$f":"SUMIF('Cleaned SnowMachine Data'!AV$6:AV$123,'Activity Days'!$B32,'Cleaned SnowMachine Data'!BF$6:BF$123)","v":0},{"$f":"SUMIF('Cleaned SnowMachine Data'!AW$6:AW$123,'Activity Days'!$B32,'Cleaned SnowMachine Data'!BG$6:BG$123)","v":0},{"$f":"SUMIF('Cleaned SnowMachine Data'!AX$6:AX$123,'Activity Days'!$B32,'Cleaned SnowMachine Data'!BH$6:BH$123)","v":0},{"$f":"SUMIF('Cleaned SnowMachine Data'!AY$6:AY$123,'Activity Days'!$B32,'Cleaned SnowMachine Data'!BI$6:BI$123)","v":0},33,null,{"$f":"'Site Codes'!AA30","v":"Fairbanks"},{"$f":"'Site Codes'!AB30","v":"Snow 27"},{"$f":"SUMIFS('Cleaned SnowMachine Data'!AZ$6:AZ$123,'Cleaned SnowMachine Data'!$E$6:$E$123,1,'Cleaned SnowMachine Data'!AP$6:AP$123,'Activity Days'!$P32)","v":0},{"$f":"SUMIFS('Cleaned SnowMachine Data'!BA$6:BA$123,'Cleaned SnowMachine Data'!$E$6:$E$123,1,'Cleaned SnowMachine Data'!AQ$6:AQ$123,'Activity Days'!$P32)","v":0},{"$f":"SUMIFS('Cleaned SnowMachine Data'!BB$6:BB$123,'Cleaned SnowMachine Data'!$E$6:$E$123,1,'Cleaned SnowMachine Data'!AR$6:AR$123,'Activity Days'!$P32)","v":0},{"$f":"SUMIFS('Cleaned SnowMachine Data'!BC$6:BC$123,'Cleaned SnowMachine Data'!$E$6:$E$123,1,'Cleaned SnowMachine Data'!AS$6:AS$123,'Activity Days'!$P32)","v":0},{"$f":"SUMIFS('Cleaned SnowMachine Data'!BD$6:BD$123,'Cleaned SnowMachine Data'!$E$6:$E$123,1,'Cleaned SnowMachine Data'!AT$6:AT$123,'Activity Days'!$P32)","v":0},{"$f":"SUMIFS('Cleaned SnowMachine Data'!BE$6:BE$123,'Cleaned SnowMachine Data'!$E$6:$E$123,1,'Cleaned SnowMachine Data'!AU$6:AU$123,'Activity Days'!$P32)","v":0},{"$f":"SUMIFS('Cleaned SnowMachine Data'!BF$6:BF$123,'Cleaned SnowMachine Data'!$E$6:$E$123,1,'Cleaned SnowMachine Data'!AV$6:AV$123,'Activity Days'!$P32)","v":0},{"$f":"SUMIFS('Cleaned SnowMachine Data'!BG$6:BG$123,'Cleaned SnowMachine Data'!$E$6:$E$123,1,'Cleaned SnowMachine Data'!AW$6:AW$123,'Activity Days'!$P32)","v":0},{"$f":"SUMIFS('Cleaned SnowMachine Data'!BH$6:BH$123,'Cleaned SnowMachine Data'!$E$6:$E$123,1,'Cleaned SnowMachine Data'!AX$6:AX$123,'Activity Days'!$P32)","v":0},{"$f":"SUMIFS('Cleaned SnowMachine Data'!BI$6:BI$123,'Cleaned SnowMachine Data'!$E$6:$E$123,1,'Cleaned SnowMachine Data'!AY$6:AY$123,'Activity Days'!$P32)","v":0},0]
[{"$f":"'Site Codes'!AA31","v":"Forgotten Lake--Lake Louise"},{"$f":"'Site Codes'!AB31","v":"Snow 28"},{"$f":"SUMIF('Cleaned SnowMachine Data'!AP$6:AP$123,'Activity Days'!$B33,'Cleaned SnowMachine Data'!AZ$6:AZ$123)","v":0},{"$f":"SUMIF('Cleaned SnowMachine Data'!AQ$6:AQ$123,'Activity Days'!$B33,'Cleaned SnowMachine Data'!BA$6:BA$123)","v":0},{"$f":"SUMIF('Cleaned SnowMachine Data'!AR$6:AR$123,'Activity Days'!$B33,'Cleaned SnowMachine Data'!BB$6:BB$123)","v":0},{"$f":"SUMIF('Cleaned SnowMachine Data'!AS$6:AS$123,'Activity Days'!$B33,'Cleaned SnowMachine Data'!BC$6:BC$123)","v":0},{"$f":"SUMIF('Cleaned SnowMachine Data'!AT$6:AT$123,'Activity Days'!$B33,'Cleaned SnowMachine Data'!BD$6:BD$123)","v":0},{"$f":"SUMIF('Cleaned SnowMachine Data'!AU$6:AU$123,'Activity Days'!$B33,'Cleaned SnowMachine Data'!BE$6:BE$123)","v":0},{"$f":"SUMIF('Cleaned SnowMachine Data'!AV$6:AV$123,'Activity Days'!$B33,'Cleaned SnowMachine Data'!BF$6:BF$123)","v":0},{"$f":"SUMIF('Cleaned SnowMachine Data'!AW$6:AW$123,'Activity Days'!$B33,'Cleaned SnowMachine Data'!BG$6:BG$123)","v":0},{"$f":"SUMIF('Cleaned SnowMachine Data'!AX$6:AX$123,'Activity Days'!$B33,'Cleaned SnowMachine Data'!BH$6:BH$123)","v":0},{"$f":"SUMIF('Cleaned SnowMachine Data'!AY$6:AY$123,'Activity Days'!$B33,'Cleaned SnowMachine Data'!BI$6:BI$123)","v":0},0,null,{"$f":"'Site Codes'!AA31","v":"Forgotten Lake--Lake Louise"},{"$f":"'Site Codes'!AB31","v":"Snow 28"},{"$f":"SUMIFS('Cleaned SnowMachine Data'!AZ$6:AZ$123,'Cleaned SnowMachine Data'!$E$6:$E$123,1,'Cleaned SnowMachine Data'!AP$6:AP$123,'Activity Days'!$P33)","v":0},{"$f":"SUMIFS('Cleaned SnowMachine Data'!BA$6:BA$123,'Cleaned SnowMachine Data'!$E$6:$E$123,1,'Cleaned SnowMachine Data'!AQ$6:AQ$123,'Activity Days'!$P33)","v":0},{"$f":"SUMIFS('Cleaned SnowMachine Data'!BB$6:BB$123,'Cleaned SnowMachine Data'!$E$6:$E$123,1,'Cleaned SnowMachine Data'!AR$6:AR$123,'Activity Days'!$P33)","v":0},{"$f":"SUMIFS('Cleaned SnowMachine Data'!BC$6:BC$123,'Cleaned SnowMachine Data'!$E$6:$E$123,1,'Cleaned SnowMachine Data'!AS$6:AS$123,'Activity Days'!$P33)","v":0},{"$f":"SUMIFS('Cleaned SnowMachine Data'!BD$6:BD$123,'Cleaned SnowMachine Data'!$E$6:$E$123,1,'Cleaned SnowMachine Data'!AT$6:AT$123,'Activity Days'!$P33)","v":0},{"$f":"SUMIFS('Cleaned SnowMachine Data'!BE$6:BE$123,'Cleaned SnowMachine Data'!$E$6:$E$123,1,'Cleaned SnowMachine Data'!AU$6:AU$123,'Activity Days'!$P33)","v":0},{"$f":"SUMIFS('Cleaned SnowMachine Data'!BF$6:BF$123,'Cleaned SnowMachine Data'!$E$6:$E$123,1,'Cleaned SnowMachine Data'!AV$6:AV$123,'Activity Days'!$P33)","v":0},{"$f":"SUMIFS('Cleaned SnowMachine Data'!BG$6:BG$123,'Cleaned SnowMachine Data'!$E$6:$E$123,1,'Cleaned SnowMachine Data'!AW$6:AW$123,'Activity Days'!$P33)","v":0},{"$f":"SUMIFS('Cleaned SnowMachine Data'!BH$6:BH$123,'Cleaned SnowMachine Data'!$E$6:$E$123,1,'Cleaned SnowMachine Data'!AX$6:AX$123,'Activity Days'!$P33)","v":0},{"$f":"SUMIFS('Cleaned SnowMachine Data'!BI$6:BI$123,'Cleaned SnowMachine Data'!$E$6:$E$123,1,'Cleaned SnowMachine Data'!AY$6:AY$123,'Activity Days'!$P33)","v":0},0]
[{"$f":"'Site Codes'!AA32","v":"Funny River Road-Kenai"},{"$f":"'Site Codes'!AB32","v":"Snow 29"},{"$f":"SUMIF('Cleaned SnowMachine Data'!AP$6:AP$123,'Activity Days'!$B34,'Cleaned SnowMachine Data'!AZ$6:AZ$123)","v":0},{"$f":"SUMIF('Cleaned SnowMachine Data'!AQ$6:AQ$123,'Activity Days'!$B34,'Cleaned SnowMachine Data'!BA$6:BA$123)","v":0},{"$f":"SUMIF('Cleaned SnowMachine Data'!AR$6:AR$123,'Activity Days'!$B34,'Cleaned SnowMachine Data'!BB$6:BB$123)","v":0},{"$f":"SUMIF('Cleaned SnowMachine Data'!AS$6:AS$123,'Activity Days'!$B34,'Cleaned SnowMachine Data'!BC$6:BC$123)","v":0},{"$f":"SUMIF('Cleaned SnowMachine Data'!AT$6:AT$123,'Activity Days'!$B34,'Cleaned SnowMachine Data'!BD$6:BD$123)","v":0},{"$f":"SUMIF('Cleaned SnowMachine Data'!AU$6:AU$123,'Activity Days'!$B34,'Cleaned SnowMachine Data'!BE$6:BE$123)","v":0},{"$f":"SUMIF('Cleaned SnowMachine Data'!AV$6:AV$123,'Activity Days'!$B34,'Cleaned SnowMachine Data'!BF$6:BF$123)","v":0},{"$f":"SUMIF('Cleaned SnowMachine Data'!AW$6:AW$123,'Activity Days'!$B34,'Cleaned SnowMachine Data'!BG$6:BG$123)","v":0},{"$f":"SUMIF('Cleaned SnowMachine Data'!AX$6:AX$123,'Activity Days'!$B34,'Cleaned SnowMachine Data'!BH$6:BH$123)","v":0},{"$f":"SUMIF('Cleaned SnowMachine Data'!AY$6:AY$123,'Activity Days'!$B34,'Cleaned SnowMachine Data'!BI$6:BI$123)","v":0},0,null,{"$f":"'Site Codes'!AA32","v":"Funny River Road-Kenai"},{"$f":"'Site Codes'!AB32","v":"Snow 29"},{"$f":"SUMIFS('Cleaned SnowMachine Data'!AZ$6:AZ$123,'Cleaned SnowMachine Data'!$E$6:$E$123,1,'Cleaned SnowMachine Data'!AP$6:AP$123,'Activity Days'!$P34)","v":0},{"$f":"SUMIFS('Cleaned SnowMachine Data'!BA$6:BA$123,'Cleaned SnowMachine Data'!$E$6:$E$123,1,'Cleaned SnowMachine Data'!AQ$6:AQ$123,'Activity Days'!$P34)","v":0},{"$f":"SUMIFS('Cleaned SnowMachine Data'!BB$6:BB$123,'Cleaned SnowMachine Data'!$E$6:$E$123,1,'Cleaned SnowMachine Data'!AR$6:AR$123,'Activity Days'!$P34)","v":0},{"$f":"SUMIFS('Cleaned SnowMachine Data'!BC$6:BC$123,'Cleaned SnowMachine Data'!$E$6:$E$123,1,'Cleaned SnowMachine Data'!AS$6:AS$123,'Activity Days'!$P34)","v":0},{"$f":"SUMIFS('Cleaned SnowMachine Data'!BD$6:BD$123,'Cleaned SnowMachine Data'!$E$6:$E$123,1,'Cleaned SnowMachine Data'!AT$6:AT$123,'Activity Days'!$P34)","v":0},{"$f":"SUMIFS('Cleaned SnowMachine Data'!BE$6:BE$123,'Cleaned SnowMachine Data'!$E$6:$E$123,1,'Cleaned SnowMachine Data'!AU$6:AU$123,'Activity Days'!$P34)","v":0},{"$f":"SUMIFS('Cleaned SnowMachine Data'!BF$6:BF$123,'Cleaned SnowMachine Data'!$E$6:$E$123,1,'Cleaned SnowMachine Data'!AV$6:AV$123,'Activity Days'!$P34)","v":0},{"$f":"SUMIFS('Cleaned SnowMachine Data'!BG$6:BG$123,'Cleaned SnowMachine Data'!$E$6:$E$123,1,'Cleaned SnowMachine Data'!AW$6:AW$123,'Activity Days'!$P34)","v":0},{"$f":"SUMIFS('Cleaned SnowMachine Data'!BH$6:BH$123,'Cleaned SnowMachine Data'!$E$6:$E$123,1,'Cleaned SnowMachine Data'!AX$6:AX$123,'Activity Days'!$P34)","v":0},{"$f":"SUMIFS('Cleaned SnowMachine Data'!BI$6:BI$123,'Cleaned SnowMachine Data'!$E$6:$E$123,1,'Cleaned SnowMachine Data'!AY$6:AY$123,'Activity Days'!$P34)","v":0},0]
[{"$f":"'Site Codes'!AA33","v":"Gakona"},{"$f":"'Site Codes'!AB33","v":"Snow 30"},{"$f":"SUMIF('Cleaned SnowMachine Data'!AP$6:AP$123,'Activity Days'!$B35,'Cleaned SnowMachine Data'!AZ$6:AZ$123)","v":3},{"$f":"SUMIF('Cleaned SnowMachine Data'!AQ$6:AQ$123,'Activity Days'!$B35,'Cleaned SnowMachine Data'!BA$6:BA$123)","v":0},{"$f":"SUMIF('Cleaned SnowMachine Data'!AR$6:AR$123,'Activity Days'!$B35,'Cleaned SnowMachine Data'!BB$6:BB$123)","v":0},{"$f":"SUMIF('Cleaned SnowMachine Data'!AS$6:AS$123,'Activity Days'!$B35,'Cleaned SnowMachine Data'!BC$6:BC$123)","v":0},{"$f":"SUMIF('Cleaned SnowMachine Data'!AT$6:AT$123,'Activity Days'!$B35,'Cleaned SnowMachine Data'!BD$6:BD$123)","v":0},{"$f":"SUMIF('Cleaned SnowMachine Data'!AU$6:AU$123,'Activity Days'!$B35,'Cleaned SnowMachine Data'!BE$6:BE$123)","v":0},{"$f":"SUMIF('Cleaned SnowMachine Data'!AV$6:AV$123,'Activity Days'!$B35,'Cleaned SnowMachine Data'!BF$6:BF$123)","v":0},{"$f":"SUMIF('Cleaned SnowMachine Data'!AW$6:AW$123,'Activity Days'!$B35,'Cleaned SnowMachine Data'!BG$6:BG$123)","v":0},{"$f":"SUMIF('Cleaned SnowMachine Data'!AX$6:AX$123,'Activity Days'!$B35,'Cleaned SnowMachine Data'!BH$6:BH$123)","v":0},{"$f":"SUMIF('Cleaned SnowMachine Data'!AY$6:AY$123,'Activity Days'!$B35,'Cleaned SnowMachine Data'!BI$6:BI$123)","v":0},3,null,{"$f":"'Site Codes'!AA33","v":"Gakona"},{"$f":"'Site Codes'!AB33","v":"Snow 30"},{"$f":"SUMIFS('Cleaned SnowMachine Data'!AZ$6:AZ$123,'Cleaned SnowMachine Data'!$E$6:$E$123,1,'Cleaned SnowMachine Data'!AP$6:AP$123,'Activity Days'!$P35)","v":0},{"$f":"SUMIFS('Cleaned SnowMachine Data'!BA$6:BA$123,'Cleaned SnowMachine Data'!$E$6:$E$123,1,'Cleaned SnowMachine Data'!AQ$6:AQ$123,'Activity Days'!$P35)","v":0},{"$f":"SUMIFS('Cleaned SnowMachine Data'!BB$6:BB$123,'Cleaned SnowMachine Data'!$E$6:$E$123,1,'Cleaned SnowMachine Data'!AR$6:AR$123,'Activity Days'!$P35)","v":0},{"$f":"SUMIFS('Cleaned SnowMachine Data'!BC$6:BC$123,'Cleaned SnowMachine Data'!$E$6:$E$123,1,'Cleaned SnowMachine Data'!AS$6:AS$123,'Activity Days'!$P35)","v":0},{"$f":"SUMIFS('Cleaned SnowMachine Data'!BD$6:BD$123,'Cleaned SnowMachine Data'!$E$6:$E$123,1,'Cleaned SnowMachine Data'!AT$6:AT$123,'Activity Days'!$P35)","v":0},{"$f":"SUMIFS('Cleaned SnowMachine Data'!BE$6:BE$123,'Cleaned SnowMachine Data'!$E$6:$E$123,1,'Cleaned SnowMachine Data'!AU$6:AU$123,'Activity Days'!$P35)","v":0},{"$f":"SUMIFS('Cleaned SnowMachine Data'!BF$6:BF$123,'Cleaned SnowMachine Data'!$E$6:$E$123,1,'Cleaned SnowMachine Data'!AV$6:AV$123,'Activity Days'!$P35)","v":0},{"$f":"SUMIFS('Cleaned SnowMachine Data'!BG$6:BG$123,'Cleaned SnowMachine Data'!$E$6:$E$123,1,'Cleaned SnowMachine Data'!AW$6:AW$123,'Activity Days'!$P35)","v":0},{"$f":"SUMIFS('Cleaned SnowMachine Data'!BH$6:BH$123,'Cleaned SnowMachine Data'!$E$6:$E$123,1,'Cleaned SnowMachine Data'!AX$6:AX$123,'Activity Days'!$P35)","v":0},{"$f":"SUMIFS('Cleaned SnowMachine Data'!BI$6:BI$123,'Cleaned SnowMachine Data'!$E$6:$E$123,1,'Cleaned SnowMachine Data'!AY$6:AY$123,'Activity Days'!$P35)","v":0},0]
[{"$f":"'Site Codes'!AA34","v":"Girdwood"},{"$f":"'Site Codes'!AB34","v":"Snow 31"},{"$f":"SUMIF('Cleaned SnowMachine Data'!AP$6:AP$123,'Activity Days'!$B36,'Cleaned SnowMachine Data'!AZ$6:AZ$123)","v":0},{"$f":"SUMIF('Cleaned SnowMachine Data'!AQ$6:AQ$123,'Activity Days'!$B36,'Cleaned SnowMachine Data'!BA$6:BA$123)","v":0},{"$f":"SUMIF('Cleaned SnowMachine Data'!AR$6:AR$123,'Activity Days'!$B36,'Cleaned SnowMachine Data'!BB$6:BB$123)","v":0},{"$f":"SUMIF('Cleaned SnowMachine Data'!AS$6:AS$123,'Activity Days'!$B36,'Cleaned SnowMachine Data'!BC$6:BC$123)","v":0},{"$f":"SUMIF('Cleaned SnowMachine Data'!AT$6:AT$123,'Activity Days'!$B36,'Cleaned SnowMachine Data'!BD$6:BD$123)","v":0},{"$f":"SUMIF('Cleaned SnowMachine Data'!AU$6:AU$123,'Activity Days'!$B36,'Cleaned SnowMachine Data'!BE$6:BE$123)","v":0},{"$f":"SUMIF('Cleaned SnowMachine Data'!AV$6:AV$123,'Activity Days'!$B36,'Cleaned SnowMachine Data'!BF$6:BF$123)","v":0},{"$f":"SUMIF('Cleaned SnowMachine Data'!AW$6:AW$123,'Activity Days'!$B36,'Cleaned SnowMachine Data'!BG$6:BG$123)","v":0},{"$f":"SUMIF('Cleaned SnowMachine Data'!AX$6:AX$123,'Activity Days'!$B36,'Cleaned SnowMachine Data'!BH$6:BH$123)","v":0},{"$f":"SUMIF('Cleaned SnowMachine Data'!AY$6:AY$123,'Activity Days'!$B36,'Cleaned SnowMachine Data'!BI$6:BI$123)","v":0},0,null,{"$f":"'Site Codes'!AA34","v":"Girdwood"},{"$f":"'Site Codes'!AB34","v":"Snow 31"},{"$f":"SUMIFS('Cleaned SnowMachine Data'!AZ$6:AZ$123,'Cleaned SnowMachine Data'!$E$6:$E$123,1,'Cleaned SnowMachine Data'!AP$6:AP$123,'Activity Days'!$P36)","v":0},{"$f":"SUMIFS('Cleaned SnowMachine Data'!BA$6:BA$123,'Cleaned SnowMachine Data'!$E$6:$E$123,1,'Cleaned SnowMachine Data'!AQ$6:AQ$123,'Activity Days'!$P36)","v":0},{"$f":"SUMIFS('Cleaned SnowMachine Data'!BB$6:BB$123,'Cleaned SnowMachine Data'!$E$6:$E$123,1,'Cleaned SnowMachine Data'!AR$6:AR$123,'Activity Days'!$P36)","v":0},{"$f":"SUMIFS('Cleaned SnowMachine Data'!BC$6:BC$123,'Cleaned SnowMachine Data'!$E$6:$E$123,1,'Cleaned SnowMachine Data'!AS$6:AS$123,'Activity Days'!$P36)","v":0},{"$f":"SUMIFS('Cleaned SnowMachine Data'!BD$6:BD$123,'Cleaned SnowMachine Data'!$E$6:$E$123,1,'Cleaned SnowMachine Data'!AT$6:AT$123,'Activity Days'!$P36)","v":0},{"$f":"SUMIFS('Cleaned SnowMachine Data'!BE$6:BE$123,'Cleaned SnowMachine Data'!$E$6:$E$123,1,'Cleaned SnowMachine Data'!AU$6:AU$123,'Activity Days'!$P36)","v":0},{"$f":"SUMIFS('Cleaned SnowMachine Data'!BF$6:BF$123,'Cleaned SnowMachine Data'!$E$6:$E$123,1,'Cleaned SnowMachine Data'!AV$6:AV$123,'Activity Days'!$P36)","v":0},{"$f":"SUMIFS('Cleaned SnowMachine Data'!BG$6:BG$123,'Cleaned SnowMachine Data'!$E$6:$E$123,1,'Cleaned SnowMachine Data'!AW$6:AW$123,'Activity Days'!$P36)","v":0},{"$f":"SUMIFS('Cleaned SnowMachine Data'!BH$6:BH$123,'Cleaned SnowMachine Data'!$E$6:$E$123,1,'Cleaned SnowMachine Data'!AX$6:AX$123,'Activity Days'!$P36)","v":0},{"$f":"SUMIFS('Cleaned SnowMachine Data'!BI$6:BI$123,'Cleaned SnowMachine Data'!$E$6:$E$123,1,'Cleaned SnowMachine Data'!AY$6:AY$123,'Activity Days'!$P36)","v":0},0]
[{"$f":"'Site Codes'!AA35","v":"Gunsight Mountain"},{"$f":"'Site Codes'!AB35","v":"Snow 32"},{"$f":"SUMIF('Cleaned SnowMachine Data'!AP$6:AP$123,'Activity Days'!$B37,'Cleaned SnowMachine Data'!AZ$6:AZ$123)","v":0},{"$f":"SUMIF('Cleaned SnowMachine Data'!AQ$6:AQ$123,'Activity Days'!$B37,'Cleaned SnowMachine Data'!BA$6:BA$123)","v":0},{"$f":"SUMIF('Cleaned SnowMachine Data'!AR$6:AR$123,'Activity Days'!$B37,'Cleaned SnowMachine Data'!BB$6:BB$123)","v":0},{"$f":"SUMIF('Cleaned SnowMachine Data'!AS$6:AS$123,'Activity Days'!$B37,'Cleaned SnowMachine Data'!BC$6:BC$123)","v":0},{"$f":"SUMIF('Cleaned SnowMachine Data'!AT$6:AT$123,'Activity Days'!$B37,'Cleaned SnowMachine Data'!BD$6:BD$123)","v":0},{"$f":"SUMIF('Cleaned SnowMachine Data'!AU$6:AU$123,'Activity Days'!$B37,'Cleaned SnowMachine Data'!BE$6:BE$123)","v":0},{"$f":"SUMIF('Cleaned SnowMachine Data'!AV$6:AV$123,'Activity Days'!$B37,'Cleaned SnowMachine Data'!BF$6:BF$123)","v":0},{"$f":"SUMIF('Cleaned SnowMachine Data'!AW$6:AW$123,'Activity Days'!$B37,'Cleaned SnowMachine Data'!BG$6:BG$123)","v":0},{"$f":"SUMIF('Cleaned SnowMachine Data'!AX$6:AX$123,'Activity Days'!$B37,'Cleaned SnowMachine Data'!BH$6:BH$123)","v":0},{"$f":"SUMIF('Cleaned SnowMachine Data'!AY$6:AY$123,'Activity Days'!$B37,'Cleaned SnowMachine Data'!BI$6:BI$123)","v":0},0,null,{"$f":"'Site Codes'!AA35","v":"Gunsight Mountain"},{"$f":"'Site Codes'!AB35","v":"Snow 32"},{"$f":"SUMIFS('Cleaned SnowMachine Data'!AZ$6:AZ$123,'Cleaned SnowMachine Data'!$E$6:$E$123,1,'Cleaned SnowMachine Data'!AP$6:AP$123,'Activity Days'!$P37)","v":0},{"$f":"SUMIFS('Cleaned SnowMachine Data'!BA$6:BA$123,'Cleaned SnowMachine Data'!$E$6:$E$123,1,'Cleaned SnowMachine Data'!AQ$6:AQ$123,'Activity Days'!$P37)","v":0},{"$f":"SUMIFS('Cleaned SnowMachine Data'!BB$6:BB$123,'Cleaned SnowMachine Data'!$E$6:$E$123,1,'Cleaned SnowMachine Data'!AR$6:AR$123,'Activity Days'!$P37)","v":0},{"$f":"SUMIFS('Cleaned SnowMachine Data'!BC$6:BC$123,'Cleaned SnowMachine Data'!$E$6:$E$123,1,'Cleaned SnowMachine Data'!AS$6:AS$123,'Activity Days'!$P37)","v":0},{"$f":"SUMIFS('Cleaned SnowMachine Data'!BD$6:BD$123,'Cleaned SnowMachine Data'!$E$6:$E$123,1,'Cleaned SnowMachine Data'!AT$6:AT$123,'Activity Days'!$P37)","v":0},{"$f":"SUMIFS('Cleaned SnowMachine Data'!BE$6:BE$123,'Cleaned SnowMachine Data'!$E$6:$E$123,1,'Cleaned SnowMachine Data'!AU$6:AU$123,'Activity Days'!$P37)","v":0},{"$f":"SUMIFS('Cleaned SnowMachine Data'!BF$6:BF$123,'Cleaned SnowMachine Data'!$E$6:$E$123,1,'Cleaned SnowMachine Data'!AV$6:AV$123,'Activity Days'!$P37)","v":0},{"$f":"SUMIFS('Cleaned SnowMachine Data'!BG$6:BG$123,'Cleaned SnowMachine Data'!$E$6:$E$123,1,'Cleaned SnowMachine Data'!AW$6:AW$123,'Activity Days'!$P37)","v":0},{"$f":"SUMIFS('Cleaned SnowMachine Data'!BH$6:BH$123,'Cleaned SnowMachine Data'!$E$6:$E$123,1,'Cleaned SnowMachine Data'!AX$6:AX$123,'Activity Days'!$P37)","v":0},{"$f":"SUMIFS('Cleaned SnowMachine Data'!BI$6:BI$123,'Cleaned SnowMachine Data'!$E$6:$E$123,1,'Cleaned SnowMachine Data'!AY$6:AY$123,'Activity Days'!$P37)","v":0},0]
[{"$f":"'Site Codes'!AA36","v":"Harding Lake Trails--Salcha Drive"},{"$f":"'Site Codes'!AB36","v":"Snow 33"},{"$f":"SUMIF('Cleaned SnowMachine Data'!AP$6:AP$123,'Activity Days'!$B38,'Cleaned SnowMachine Data'!AZ$6:AZ$123)","v":0},{"$f":"SUMIF('Cleaned SnowMachine Data'!AQ$6:AQ$123,'Activity Days'!$B38,'Cleaned SnowMachine Data'!BA$6:BA$123)","v":0},{"$f":"SUMIF('Cleaned SnowMachine Data'!AR$6:AR$123,'Activity Days'!$B38,'Cleaned SnowMachine Data'!BB$6:BB$123)","v":0},{"$f":"SUMIF('Cleaned SnowMachine Data'!AS$6:AS$123,'Activity Days'!$B38,'Cleaned SnowMachine Data'!BC$6:BC$123)","v":0},{"$f":"SUMIF('Cleaned SnowMachine Data'!AT$6:AT$123,'Activity Days'!$B38,'Cleaned SnowMachine Data'!BD$6:BD$123)","v":0},{"$f":"SUMIF('Cleaned SnowMachine Data'!AU$6:AU$123,'Activity Days'!$B38,'Cleaned SnowMachine Data'!BE$6:BE$123)","v":0},{"$f":"SUMIF('Cleaned SnowMachine Data'!AV$6:AV$123,'Activity Days'!$B38,'Cleaned SnowMachine Data'!BF$6:BF$123)","v":0},{"$f":"SUMIF('Cleaned SnowMachine Data'!AW$6:AW$123,'Activity Days'!$B38,'Cleaned SnowMachine Data'!BG$6:BG$123)","v":0},{"$f":"SUMIF('Cleaned SnowMachine Data'!AX$6:AX$123,'Activity Days'!$B38,'Cleaned SnowMachine Data'!BH$6:BH$123)","v":0},{"$f":"SUMIF('Cleaned SnowMachine Data'!AY$6:AY$123,'Activity Days'!$B38,'Cleaned SnowMachine Data'!BI$6:BI$123)","v":0},{"$f":"SUM(C38:L38)","v":0},null,{"$f":"'Site Codes'!AA36","v":"Harding Lake Trails--Salcha Drive"},{"$f":"'Site Codes'!AB36","v":"Snow 33"},{"$f":"SUMIFS('Cleaned SnowMachine Data'!AZ$6:AZ$123,'Cleaned SnowMachine Data'!$E$6:$E$123,1,'Cleaned SnowMachine Data'!AP$6:AP$123,'Activity Days'!$P38)","v":0},{"$f":"SUMIFS('Cleaned SnowMachine Data'!BA$6:BA$123,'Cleaned SnowMachine Data'!$E$6:$E$123,1,'Cleaned SnowMachine Data'!AQ$6:AQ$123,'Activity Days'!$P38)","v":0},{"$f":"SUMIFS('Cleaned SnowMachine Data'!BB$6:BB$123,'Cleaned SnowMachine Data'!$E$6:$E$123,1,'Cleaned SnowMachine Data'!AR$6:AR$123,'Activity Days'!$P38)","v":0},{"$f":"SUMIFS('Cleaned SnowMachine Data'!BC$6:BC$123,'Cleaned SnowMachine Data'!$E$6:$E$123,1,'Cleaned SnowMachine Data'!AS$6:AS$123,'Activity Days'!$P38)","v":0},{"$f":"SUMIFS('Cleaned SnowMachine Data'!BD$6:BD$123,'Cleaned SnowMachine Data'!$E$6:$E$123,1,'Cleaned SnowMachine Data'!AT$6:AT$123,'Activity Days'!$P38)","v":0},{"$f":"SUMIFS('Cleaned SnowMachine Data'!BE$6:BE$123,'Cleaned SnowMachine Data'!$E$6:$E$123,1,'Cleaned SnowMachine Data'!AU$6:AU$123,'Activity Days'!$P38)","v":0},{"$f":"SUMIFS('Cleaned SnowMachine Data'!BF$6:BF$123,'Cleaned SnowMachine Data'!$E$6:$E$123,1,'Cleaned SnowMachine Data'!AV$6:AV$123,'Activity Days'!$P38)","v":0},{"$f":"SUMIFS('Cleaned SnowMachine Data'!BG$6:BG$123,'Cleaned SnowMachine Data'!$E$6:$E$123,1,'Cleaned SnowMachine Data'!AW$6:AW$123,'Activity Days'!$P38)","v":0},{"$f":"SUMIFS('Cleaned SnowMachine Data'!BH$6:BH$123,'Cleaned SnowMachine Data'!$E$6:$E$123,1,'Cleaned SnowMachine Data'!AX$6:AX$123,'Activity Days'!$P38)","v":0},{"$f":"SUMIFS('Cleaned SnowMachine Data'!BI$6:BI$123,'Cleaned SnowMachine Data'!$E$6:$E$123,1,'Cleaned SnowMachine Data'!AY$6:AY$123,'Activity Days'!$P38)","v":0},0]
[{"$f":"'Site Codes'!AA37","v":"Hatcher Pass-Palmer Side"},{"$f":"'Site Codes'!AB37","v":"Snow 34"},{"$f":"SUMIF('Cleaned SnowMachine Data'!AP$6:AP$123,'Activity Days'!$B39,'Cleaned SnowMachine Data'!AZ$6:AZ$123)","v":7},{"$f":"SUMIF('Cleaned SnowMachine Data'!AQ$6:AQ$123,'Activity Days'!$B39,'Cleaned SnowMachine Data'!BA$6:BA$123)","v":2},{"$f":"SUMIF('Cleaned SnowMachine Data'!AR$6:AR$123,'Activity Days'!$B39,'Cleaned SnowMachine Data'!BB$6:BB$123)","v":0},{"$f":"SUMIF('Cleaned SnowMachine Data'!AS$6:AS$123,'Activity Days'!$B39,'Cleaned SnowMachine Data'!BC$6:BC$123)","v":0},{"$f":"SUMIF('Cleaned SnowMachine Data'!AT$6:AT$123,'Activity Days'!$B39,'Cleaned SnowMachine Data'!BD$6:BD$123)","v":0},{"$f":"SUMIF('Cleaned SnowMachine Data'!AU$6:AU$123,'Activity Days'!$B39,'Cleaned SnowMachine Data'!BE$6:BE$123)","v":0},{"$f":"SUMIF('Cleaned SnowMachine Data'!AV$6:AV$123,'Activity Days'!$B39,'Cleaned SnowMachine Data'!BF$6:BF$123)","v":0},{"$f":"SUMIF('Cleaned SnowMachine Data'!AW$6:AW$123,'Activity Days'!$B39,'Cleaned SnowMachine Data'!BG$6:BG$123)","v":0},{"$f":"SUMIF('Cleaned SnowMachine Data'!AX$6:AX$123,'Activity Days'!$B39,'Cleaned SnowMachine Data'!BH$6:BH$123)","v":0},{"$f":"SUMIF('Cleaned SnowMachine Data'!AY$6:AY$123,'Activity Days'!$B39,'Cleaned SnowMachine Data'!BI$6:BI$123)","v":0},9,null,{"$f":"'Site Codes'!AA37","v":"Hatcher Pass-Palmer Side"},{"$f":"'Site Codes'!AB37","v":"Snow 34"},{"$f":"SUMIFS('Cleaned SnowMachine Data'!AZ$6:AZ$123,'Cleaned SnowMachine Data'!$E$6:$E$123,1,'Cleaned SnowMachine Data'!AP$6:AP$123,'Activity Days'!$P39)","v":0},{"$f":"SUMIFS('Cleaned SnowMachine Data'!BA$6:BA$123,'Cleaned SnowMachine Data'!$E$6:$E$123,1,'Cleaned SnowMachine Data'!AQ$6:AQ$123,'Activity Days'!$P39)","v":0},{"$f":"SUMIFS('Cleaned SnowMachine Data'!BB$6:BB$123,'Cleaned SnowMachine Data'!$E$6:$E$123,1,'Cleaned SnowMachine Data'!AR$6:AR$123,'Activity Days'!$P39)","v":0},{"$f":"SUMIFS('Cleaned SnowMachine Data'!BC$6:BC$123,'Cleaned SnowMachine Data'!$E$6:$E$123,1,'Cleaned SnowMachine Data'!AS$6:AS$123,'Activity Days'!$P39)","v":0},{"$f":"SUMIFS('Cleaned SnowMachine Data'!BD$6:BD$123,'Cleaned SnowMachine Data'!$E$6:$E$123,1,'Cleaned SnowMachine Data'!AT$6:AT$123,'Activity Days'!$P39)","v":0},{"$f":"SUMIFS('Cleaned SnowMachine Data'!BE$6:BE$123,'Cleaned SnowMachine Data'!$E$6:$E$123,1,'Cleaned SnowMachine Data'!AU$6:AU$123,'Activity Days'!$P39)","v":0},{"$f":"SUMIFS('Cleaned SnowMachine Data'!BF$6:BF$123,'Cleaned SnowMachine Data'!$E$6:$E$123,1,'Cleaned SnowMachine Data'!AV$6:AV$123,'Activity Days'!$P39)","v":0},{"$f":"SUMIFS('Cleaned SnowMachine Data'!BG$6:BG$123,'Cleaned SnowMachine Data'!$E$6:$E$123,1,'Cleaned SnowMachine Data'!AW$6:AW$123,'Activity Days'!$P39)","v":0},{"$f":"SUMIFS('Cleaned SnowMachine Data'!BH$6:BH$123,'Cleaned SnowMachine Data'!$E$6:$E$123,1,'Cleaned SnowMachine Data'!AX$6:AX$123,'Activity Days'!$P39)","v":0},{"$f":"SUMIFS('Cleaned SnowMachine Data'!BI$6:BI$123,'Cleaned SnowMachine Data'!$E$6:$E$123,1,'Cleaned SnowMachine Data'!AY$6:AY$123,'Activity Days'!$P39)","v":0},0]
[{"$f":"'Site Codes'!AA38","v":"Hatcher Pass-Unspecified"},{"$f":"'Site Codes'!AB38","v":"Snow 35"},{"$f":"SUMIF('Cleaned SnowMachine Data'!AP$6:AP$123,'Activity Days'!$B40,'Cleaned SnowMachine Data'!AZ$6:AZ$123)","v":1},{"$f":"SUMIF('Cleaned SnowMachine Data'!AQ$6:AQ$123,'Activity Days'!$B40,'Cleaned SnowMachine Data'!BA$6:BA$123)","v":0},{"$f":"SUMIF('Cleaned SnowMachine Data'!AR$6:AR$123,'Activity Days'!$B40,'Cleaned SnowMachine Data'!BB$6:BB$123)","v":0},{"$f":"SUMIF('Cleaned SnowMachine Data'!AS$6:AS$123,'Activity Days'!$B40,'Cleaned SnowMachine Data'!BC$6:BC$123)","v":0},{"$f":"SUMIF('Cleaned SnowMachine Data'!AT$6:AT$123,'Activity Days'!$B40,'Cleaned SnowMachine Data'!BD$6:BD$123)","v":0},{"$f":"SUMIF('Cleaned SnowMachine Data'!AU$6:AU$123,'Activity Days'!$B40,'Cleaned SnowMachine Data'!BE$6:BE$123)","v":0},{"$f":"SUMIF('Cleaned SnowMachine Data'!AV$6:AV$123,'Activity Days'!$B40,'Cleaned SnowMachine Data'!BF$6:BF$123)","v":0},{"$f":"SUMIF('Cleaned SnowMachine Data'!AW$6:AW$123,'Activity Days'!$B40,'Cleaned SnowMachine Data'!BG$6:BG$123)","v":0},{"$f":"SUMIF('Cleaned SnowMachine Data'!AX$6:AX$123,'Activity Days'!$B40,'Cleaned SnowMachine Data'!BH$6:BH$123)","v":0},{"$f":"SUMIF('Cleaned SnowMachine Data'!AY$6:AY$123,'Activity Days'!$B40,'Cleaned SnowMachine Data'!BI$6:BI$123)","v":0},1,null,{"$f":"'Site Codes'!AA38","v":"Hatcher Pass-Unspecified"},{"$f":"'Site Codes'!AB38","v":"Snow 35"},{"$f":"SUMIFS('Cleaned SnowMachine Data'!AZ$6:AZ$123,'Cleaned SnowMachine Data'!$E$6:$E$123,1,'Cleaned SnowMachine Data'!AP$6:AP$123,'Activity Days'!$P40)","v":0},{"$f":"SUMIFS('Cleaned SnowMachine Data'!BA$6:BA$123,'Cleaned SnowMachine Data'!$E$6:$E$123,1,'Cleaned SnowMachine Data'!AQ$6:AQ$123,'Activity Days'!$P40)","v":0},{"$f":"SUMIFS('Cleaned SnowMachine Data'!BB$6:BB$123,'Cleaned SnowMachine Data'!$E$6:$E$123,1,'Cleaned SnowMachine Data'!AR$6:AR$123,'Activity Days'!$P40)","v":0},{"$f":"SUMIFS('Cleaned SnowMachine Data'!BC$6:BC$123,'Cleaned SnowMachine Data'!$E$6:$E$123,1,'Cleaned SnowMachine Data'!AS$6:AS$123,'Activity Days'!$P40)","v":0},{"$f":"SUMIFS('Cleaned SnowMachine Data'!BD$6:BD$123,'Cleaned SnowMachine Data'!$E$6:$E$123,1,'Cleaned SnowMachine Data'!AT$6:AT$123,'Activity Days'!$P40)","v":0},{"$f":"SUMIFS('Cleaned SnowMachine Data'!BE$6:BE$123,'Cleaned SnowMachine Data'!$E$6:$E$123,1,'Cleaned SnowMachine Data'!AU$6:AU$123,'Activity Days'!$P40)","v":0},{"$f":"SUMIFS('Cleaned SnowMachine Data'!BF$6:BF$123,'Cleaned SnowMachine Data'!$E$6:$E$123,1,'Cleaned SnowMachine Data'!AV$6:AV$123,'Activity Days'!$P40)","v":0},{"$f":"SUMIFS('Cleaned SnowMachine Data'!BG$6:BG$123,'Cleaned SnowMachine Data'!$E$6:$E$123,1,'Cleaned SnowMachine Data'!AW$6:AW$123,'Activity Days'!$P40)","v":0},{"$f":"SUMIFS('Cleaned SnowMachine Data'!BH$6:BH$123,'Cleaned SnowMachine Data'!$E$6:$E$123,1,'Cleaned SnowMachine Data'!AX$6:AX$123,'Activity Days'!$P40)","v":0},{"$f":"SUMIFS('Cleaned SnowMachine Data'!BI$6:BI$123,'Cleaned SnowMachine Data'!$E$6:$E$123,1,'Cleaned SnowMachine Data'!AY$6:AY$123,'Activity Days'!$P40)","v":0},0]
[{"$f":"'Site Codes'!AA39","v":"Hatcher Pass-Willow Side"},{"$f":"'Site Codes'!AB39","v":"Snow 36"},{"$f":"SUMIF('Cleaned SnowMachine Data'!AP$6:AP$123,'Activity Days'!$B41,'Cleaned SnowMachine Data'!AZ$6:AZ$123)","v":2},{"$f":"SUMIF('Cleaned SnowMachine Data'!AQ$6:AQ$123,'Activity Days'!$B41,'Cleaned SnowMachine Data'!BA$6:BA$123)","v":0},{"$f":"SUMIF('Cleaned SnowMachine Data'!AR$6:AR$123,'Activity Days'!$B41,'Cleaned SnowMachine Data'!BB$6:BB$123)","v":0},{"$f":"SUMIF('Cleaned SnowMachine Data'!AS$6:AS$123,'Activity Days'!$B41,'Cleaned SnowMachine Data'!BC$6:BC$123)","v":0},{"$f":"SUMIF('Cleaned SnowMachine Data'!AT$6:AT$123,'Activity Days'!$B41,'Cleaned SnowMachine Data'!BD$6:BD$123)","v":0},{"$f":"SUMIF('Cleaned SnowMachine Data'!AU$6:AU$123,'Activity Days'!$B41,'Cleaned SnowMachine Data'!BE$6:BE$123)","v":0},{"$f":"SUMIF('Cleaned SnowMachine Data'!AV$6:AV$123,'Activity Days'!$B41,'Cleaned SnowMachine Data'!BF$6:BF$123)","v":0},{"$f":"SUMIF('Cleaned SnowMachine Data'!AW$6:AW$123,'Activity Days'!$B41,'Cleaned SnowMachine Data'!BG$6:BG$123)","v":0},{"$f":"SUMIF('Cleaned SnowMachine Data'!AX$6:AX$123,'Activity Days'!$B41,'Cleaned SnowMachine Data'!BH$6:BH$123)","v":0},{"$f":"SUMIF('Cleaned SnowMachine Data'!AY$6:AY$123,'Activity Days'!$B41,'Cleaned SnowMachine Data'!BI$6:BI$123)","v":0},2,null,{"$f":"'Site Codes'!AA39","v":"Hatcher Pass-Willow Side"},{"$f":"'Site Codes'!AB39","v":"Snow 36"},{"$f":"SUMIFS('Cleaned SnowMachine Data'!AZ$6:AZ$123,'Cleaned SnowMachine Data'!$E$6:$E$123,1,'Cleaned SnowMachine Data'!AP$6:AP$123,'Activity Days'!$P41)","v":0},{"$f":"SUMIFS('Cleaned SnowMachine Data'!BA$6:BA$123,'Cleaned SnowMachine Data'!$E$6:$E$123,1,'Cleaned SnowMachine Data'!AQ$6:AQ$123,'Activity Days'!$P41)","v":0},{"$f":"SUMIFS('Cleaned SnowMachine Data'!BB$6:BB$123,'Cleaned SnowMachine Data'!$E$6:$E$123,1,'Cleaned SnowMachine Data'!AR$6:AR$123,'Activity Days'!$P41)","v":0},{"$f":"SUMIFS('Cleaned SnowMachine Data'!BC$6:BC$123,'Cleaned SnowMachine Data'!$E$6:$E$123,1,'Cleaned SnowMachine Data'!AS$6:AS$123,'Activity Days'!$P41)","v":0},{"$f":"SUMIFS('Cleaned SnowMachine Data'!BD$6:BD$123,'Cleaned SnowMachine Data'!$E$6:$E$123,1,'Cleaned SnowMachine Data'!AT$6:AT$123,'Activity Days'!$P41)","v":0},{"$f":"SUMIFS('Cleaned SnowMachine Data'!BE$6:BE$123,'Cleaned SnowMachine Data'!$E$6:$E$123,1,'Cleaned SnowMachine Data'!AU$6:AU$123,'Activity Days'!$P41)","v":0},{"$f":"SUMIFS('Cleaned SnowMachine Data'!BF$6:BF$123,'Cleaned SnowMachine Data'!$E$6:$E$123,1,'Cleaned SnowMachine Data'!AV$6:AV$123,'Activity Days'!$P41)","v":0},{"$f":"SUMIFS('Cleaned SnowMachine Data'!BG$6:BG$123,'Cleaned SnowMachine Data'!$E$6:$E$123,1,'Cleaned SnowMachine Data'!AW$6:AW$123,'Activity Days'!$P41)","v":0},{"$f":"SUMIFS('Cleaned SnowMachine Data'!BH$6:BH$123,'Cleaned SnowMachine Data'!$E$6:$E$123,1,'Cleaned SnowMachine Data'!AX$6:AX$123,'Activity Days'!$P41)","v":0},{"$f":"SUMIFS('Cleaned SnowMachine Data'!BI$6:BI$123,'Cleaned SnowMachine Data'!$E$6:$E$123,1,'Cleaned SnowMachine Data'!AY$6:AY$123,'Activity Days'!$P41)","v":0},0]
[{"$f":"'Site Codes'!AA40","v":"Healy Lake--Cummings Rd"},{"$f":"'Site Codes'!AB40","v":"Snow 37"},{"$f":"SUMIF('Cleaned SnowMachine Data'!AP$6:AP$123,'Activity Days'!$B42,'Cleaned SnowMachine Data'!AZ$6:AZ$123)","v":0},{"$f":"SUMIF('Cleaned SnowMachine Data'!AQ$6:AQ$123,'Activity Days'!$B42,'Cleaned SnowMachine Data'!BA$6:BA$123)","v":0},{"$f":"SUMIF('Cleaned SnowMachine Data'!AR$6:AR$123,'Activity Days'!$B42,'Cleaned SnowMachine Data'!BB$6:BB$123)","v":0},{"$f":"SUMIF('Cleaned SnowMachine Data'!AS$6:AS$123,'Activity Days'!$B42,'Cleaned SnowMachine Data'!BC$6:BC$123)","v":0},{"$f":"SUMIF('Cleaned SnowMachine Data'!AT$6:AT$123,'Activity Days'!$B42,'Cleaned SnowMachine Data'!BD$6:BD$123)","v":0},{"$f":"SUMIF('Cleaned SnowMachine Data'!AU$6:AU$123,'Activity Days'!$B42,'Cleaned SnowMachine Data'!BE$6:BE$123)","v":0},{"$f":"SUMIF('Cleaned SnowMachine Data'!AV$6:AV$123,'Activity Days'!$B42,'Cleaned SnowMachine Data'!BF$6:BF$123)","v":0},{"$f":"SUMIF('Cleaned SnowMachine Data'!AW$6:AW$123,'Activity Days'!$B42,'Cleaned SnowMachine Data'!BG$6:BG$123)","v":0},{"$f":"SUMIF('Cleaned SnowMachine Data'!AX$6:AX$123,'Activity Days'!$B42,'Cleaned SnowMachine Data'!BH$6:BH$123)","v":0},{"$f":"SUMIF('Cleaned SnowMachine Data'!AY$6:AY$123,'Activity Days'!$B42,'Cleaned SnowMachine Data'!BI$6:BI$123)","v":0},0,null,{"$f":"'Site Codes'!AA40","v":"Healy Lake--Cummings Rd"},{"$f":"'Site Codes'!AB40","v":"Snow 37"},{"$f":"SUMIFS('Cleaned SnowMachine Data'!AZ$6:AZ$123,'Cleaned SnowMachine Data'!$E$6:$E$123,1,'Cleaned SnowMachine Data'!AP$6:AP$123,'Activity Days'!$P42)","v":0},{"$f":"SUMIFS('Cleaned SnowMachine Data'!BA$6:BA$123,'Cleaned SnowMachine Data'!$E$6:$E$123,1,'Cleaned SnowMachine Data'!AQ$6:AQ$123,'Activity Days'!$P42)","v":0},{"$f":"SUMIFS('Cleaned SnowMachine Data'!BB$6:BB$123,'Cleaned SnowMachine Data'!$E$6:$E$123,1,'Cleaned SnowMachine Data'!AR$6:AR$123,'Activity Days'!$P42)","v":0},{"$f":"SUMIFS('Cleaned SnowMachine Data'!BC$6:BC$123,'Cleaned SnowMachine Data'!$E$6:$E$123,1,'Cleaned SnowMachine Data'!AS$6:AS$123,'Activity Days'!$P42)","v":0},{"$f":"SUMIFS('Cleaned SnowMachine Data'!BD$6:BD$123,'Cleaned SnowMachine Data'!$E$6:$E$123,1,'Cleaned SnowMachine Data'!AT$6:AT$123,'Activity Days'!$P42)","v":0},{"$f":"SUMIFS('Cleaned SnowMachine Data'!BE$6:BE$123,'Cleaned SnowMachine Data'!$E$6:$E$123,1,'Cleaned SnowMachine Data'!AU$6:AU$123,'Activity Days'!$P42)","v":0},{"$f":"SUMIFS('Cleaned SnowMachine Data'!BF$6:BF$123,'Cleaned SnowMachine Data'!$E$6:$E$123,1,'Cleaned SnowMachine Data'!AV$6:AV$123,'Activity Days'!$P42)","v":0},{"$f":"SUMIFS('Cleaned SnowMachine Data'!BG$6:BG$123,'Cleaned SnowMachine Data'!$E$6:$E$123,1,'Cleaned SnowMachine Data'!AW$6:AW$123,'Activity Days'!$P42)","v":0},{"$f":"SUMIFS('Cleaned SnowMachine Data'!BH$6:BH$123,'Cleaned SnowMachine Data'!$E$6:$E$123,1,'Cleaned SnowMachine Data'!AX$6:AX$123,'Activity Days'!$P42)","v":0},{"$f":"SUMIFS('Cleaned SnowMachine Data'!BI$6:BI$123,'Cleaned SnowMachine Data'!$E$6:$E$123,1,'Cleaned SnowMachine Data'!AY$6:AY$123,'Activity Days'!$P42)","v":0},0]
[{"$f":"'Site Codes'!AA41","v":"Hoodoo Mountains-Paxson"},{"$f":"'Site Codes'!AB41","v":"Snow 38"},{"$f":"SUMIF('Cleaned SnowMachine Data'!AP$6:AP$123,'Activity Days'!$B43,'Cleaned SnowMachine Data'!AZ$6:AZ$123)","v":28},{"$f":"SUMIF('Cleaned SnowMachine Data'!AQ$6:AQ$123,'Activity Days'!$B43,'Cleaned SnowMachine Data'!BA$6:BA$123)","v":0},{"$f":"SUMIF('Cleaned SnowMachine Data'!AR$6:AR$123,'Activity Days'!$B43,'Cleaned SnowMachine Data'!BB$6:BB$123)","v":0},{"$f":"SUMIF('Cleaned SnowMachine Data'!AS$6:AS$123,'Activity Days'!$B43,'Cleaned SnowMachine Data'!BC$6:BC$123)","v":0},{"$f":"SUMIF('Cleaned SnowMachine Data'!AT$6:AT$123,'Activity Days'!$B43,'Cleaned SnowMachine Data'!BD$6:BD$123)","v":0},{"$f":"SUMIF('Cleaned SnowMachine Data'!AU$6:AU$123,'Activity Days'!$B43,'Cleaned SnowMachine Data'!BE$6:BE$123)","v":0},{"$f":"SUMIF('Cleaned SnowMachine Data'!AV$6:AV$123,'Activity Days'!$B43,'Cleaned SnowMachine Data'!BF$6:BF$123)","v":0},{"$f":"SUMIF('Cleaned SnowMachine Data'!AW$6:AW$123,'Activity Days'!$B43,'Cleaned SnowMachine Data'!BG$6:BG$123)","v":0},{"$f":"SUMIF('Cleaned SnowMachine Data'!AX$6:AX$123,'Activity Days'!$B43,'Cleaned SnowMachine Data'!BH$6:BH$123)","v":0},{"$f":"SUMIF('Cleaned SnowMachine Data'!AY$6:AY$123,'Activity Days'!$B43,'Cleaned SnowMachine Data'!BI$6:BI$123)","v":0},28,null,{"$f":"'Site Codes'!AA41","v":"Hoodoo Mountains-Paxson"},{"$f":"'Site Codes'!AB41","v":"Snow 38"},{"$f":"SUMIFS('Cleaned SnowMachine Data'!AZ$6:AZ$123,'Cleaned SnowMachine Data'!$E$6:$E$123,1,'Cleaned SnowMachine Data'!AP$6:AP$123,'Activity Days'!$P43)","v":0},{"$f":"SUMIFS('Cleaned SnowMachine Data'!BA$6:BA$123,'Cleaned SnowMachine Data'!$E$6:$E$123,1,'Cleaned SnowMachine Data'!AQ$6:AQ$123,'Activity Days'!$P43)","v":0},{"$f":"SUMIFS('Cleaned SnowMachine Data'!BB$6:BB$123,'Cleaned SnowMachine Data'!$E$6:$E$123,1,'Cleaned SnowMachine Data'!AR$6:AR$123,'Activity Days'!$P43)","v":0},{"$f":"SUMIFS('Cleaned SnowMachine Data'!BC$6:BC$123,'Cleaned SnowMachine Data'!$E$6:$E$123,1,'Cleaned SnowMachine Data'!AS$6:AS$123,'Activity Days'!$P43)","v":0},{"$f":"SUMIFS('Cleaned SnowMachine Data'!BD$6:BD$123,'Cleaned SnowMachine Data'!$E$6:$E$123,1,'Cleaned SnowMachine Data'!AT$6:AT$123,'Activity Days'!$P43)","v":0},{"$f":"SUMIFS('Cleaned SnowMachine Data'!BE$6:BE$123,'Cleaned SnowMachine Data'!$E$6:$E$123,1,'Cleaned SnowMachine Data'!AU$6:AU$123,'Activity Days'!$P43)","v":0},{"$f":"SUMIFS('Cleaned SnowMachine Data'!BF$6:BF$123,'Cleaned SnowMachine Data'!$E$6:$E$123,1,'Cleaned SnowMachine Data'!AV$6:AV$123,'Activity Days'!$P43)","v":0},{"$f":"SUMIFS('Cleaned SnowMachine Data'!BG$6:BG$123,'Cleaned SnowMachine Data'!$E$6:$E$123,1,'Cleaned SnowMachine Data'!AW$6:AW$123,'Activity Days'!$P43)","v":0},{"$f":"SUMIFS('Cleaned SnowMachine Data'!BH$6:BH$123,'Cleaned SnowMachine Data'!$E$6:$E$123,1,'Cleaned SnowMachine Data'!AX$6:AX$123,'Activity Days'!$P43)","v":0},{"$f":"SUMIFS('Cleaned SnowMachine Data'!BI$6:BI$123,'Cleaned SnowMachine Data'!$E$6:$E$123,1,'Cleaned SnowMachine Data'!AY$6:AY$123,'Activity Days'!$P43)","v":0},0]
[{"$f":"'Site Codes'!AA42","v":"Houston"},{"$f":"'Site Codes'!AB42","v":"Snow 39"},{"$f":"SUMIF('Cleaned SnowMachine Data'!AP$6:AP$123,'Activity Days'!$B44,'Cleaned SnowMachine Data'!AZ$6:AZ$123)","v":0},{"$f":"SUMIF('Cleaned SnowMachine Data'!AQ$6:AQ$123,'Activity Days'!$B44,'Cleaned SnowMachine Data'!BA$6:BA$123)","v":0},{"$f":"SUMIF('Cleaned SnowMachine Data'!AR$6:AR$123,'Activity Days'!$B44,'Cleaned SnowMachine Data'!BB$6:BB$123)","v":0},{"$f":"SUMIF('Cleaned SnowMachine Data'!AS$6:AS$123,'Activity Days'!$B44,'Cleaned SnowMachine Data'!BC$6:BC$123)","v":0},{"$f":"SUMIF('Cleaned SnowMachine Data'!AT$6:AT$123,'Activity Days'!$B44,'Cleaned SnowMachine Data'!BD$6:BD$123)","v":0},{"$f":"SUMIF('Cleaned SnowMachine Data'!AU$6:AU$123,'Activity Days'!$B44,'Cleaned SnowMachine Data'!BE$6:BE$123)","v":0},{"$f":"SUMIF('Cleaned SnowMachine Data'!AV$6:AV$123,'Activity Days'!$B44,'Cleaned SnowMachine Data'!BF$6:BF$123)","v":0},{"$f":"SUMIF('Cleaned SnowMachine Data'!AW$6:AW$123,'Activity Days'!$B44,'Cleaned SnowMachine Data'!BG$6:BG$123)","v":0},{"$f":"SUMIF('Cleaned SnowMachine Data'!AX$6:AX$123,'Activity Days'!$B44,'Cleaned SnowMachine Data'!BH$6:BH$123)","v":0},{"$f":"SUMIF('Cleaned SnowMachine Data'!AY$6:AY$123,'Activity Days'!$B44,'Cleaned SnowMachine Data'!BI$6:BI$123)","v":0},0,null,{"$f":"'Site Codes'!AA42","v":"Houston"},{"$f":"'Site Codes'!AB42","v":"Snow 39"},{"$f":"SUMIFS('Cleaned SnowMachine Data'!AZ$6:AZ$123,'Cleaned SnowMachine Data'!$E$6:$E$123,1,'Cleaned SnowMachine Data'!AP$6:AP$123,'Activity Days'!$P44)","v":0},{"$f":"SUMIFS('Cleaned SnowMachine Data'!BA$6:BA$123,'Cleaned SnowMachine Data'!$E$6:$E$123,1,'Cleaned SnowMachine Data'!AQ$6:AQ$123,'Activity Days'!$P44)","v":0},{"$f":"SUMIFS('Cleaned SnowMachine Data'!BB$6:BB$123,'Cleaned SnowMachine Data'!$E$6:$E$123,1,'Cleaned SnowMachine Data'!AR$6:AR$123,'Activity Days'!$P44)","v":0},{"$f":"SUMIFS('Cleaned SnowMachine Data'!BC$6:BC$123,'Cleaned SnowMachine Data'!$E$6:$E$123,1,'Cleaned SnowMachine Data'!AS$6:AS$123,'Activity Days'!$P44)","v":0},{"$f":"SUMIFS('Cleaned SnowMachine Data'!BD$6:BD$123,'Cleaned SnowMachine Data'!$E$6:$E$123,1,'Cleaned SnowMachine Data'!AT$6:AT$123,'Activity Days'!$P44)","v":0},{"$f":"SUMIFS('Cleaned SnowMachine Data'!BE$6:BE$123,'Cleaned SnowMachine Data'!$E$6:$E$123,1,'Cleaned SnowMachine Data'!AU$6:AU$123,'Activity Days'!$P44)","v":0},{"$f":"SUMIFS('Cleaned SnowMachine Data'!BF$6:BF$123,'Cleaned SnowMachine Data'!$E$6:$E$123,1,'Cleaned SnowMachine Data'!AV$6:AV$123,'Activity Days'!$P44)","v":0},{"$f":"SUMIFS('Cleaned SnowMachine Data'!BG$6:BG$123,'Cleaned SnowMachine Data'!$E$6:$E$123,1,'Cleaned SnowMachine Data'!AW$6:AW$123,'Activity Days'!$P44)","v":0},{"$f":"SUMIFS('Cleaned SnowMachine Data'!BH$6:BH$123,'Cleaned SnowMachine Data'!$E$6:$E$123,1,'Cleaned SnowMachine Data'!AX$6:AX$123,'Activity Days'!$P44)","v":0},{"$f":"SUMIFS('Cleaned SnowMachine Data'!BI$6:BI$123,'Cleaned SnowMachine Data'!$E$6:$E$123,1,'Cleaned SnowMachine Data'!AY$6:AY$123,'Activity Days'!$P44)","v":0},0]
[{"$f":"'Site Codes'!AA43","v":"Johnson Pass-Kenai Peninsula"},{"$f":"'Site Codes'!AB43","v":"Snow 40"},{"$f":"SUMIF('Cleaned SnowMachine Data'!AP$6:AP$123,'Activity Days'!$B45,'Cleaned SnowMachine Data'!AZ$6:AZ$123)","v":0},{"$f":"SUMIF('Cleaned SnowMachine Data'!AQ$6:AQ$123,'Activity Days'!$B45,'Cleaned SnowMachine Data'!BA$6:BA$123)","v":0},{"$f":"SUMIF('Cleaned SnowMachine Data'!AR$6:AR$123,'Activity Days'!$B45,'Cleaned SnowMachine Data'!BB$6:BB$123)","v":0},{"$f":"SUMIF('Cleaned SnowMachine Data'!AS$6:AS$123,'Activity Days'!$B45,'Cleaned SnowMachine Data'!BC$6:BC$123)","v":0},{"$f":"SUMIF('Cleaned SnowMachine Data'!AT$6:AT$123,'Activity Days'!$B45,'Cleaned SnowMachine Data'!BD$6:BD$123)","v":0},{"$f":"SUMIF('Cleaned SnowMachine Data'!AU$6:AU$123,'Activity Days'!$B45,'Cleaned SnowMachine Data'!BE$6:BE$123)","v":0},{"$f":"SUMIF('Cleaned SnowMachine Data'!AV$6:AV$123,'Activity Days'!$B45,'Cleaned SnowMachine Data'!BF$6:BF$123)","v":0},{"$f":"SUMIF('Cleaned SnowMachine Data'!AW$6:AW$123,'Activity Days'!$B45,'Cleaned SnowMachine Data'!BG$6:BG$123)","v":0},{"$f":"SUMIF('Cleaned SnowMachine Data'!AX$6:AX$123,'Activity Days'!$B45,'Cleaned SnowMachine Data'!BH$6:BH$123)","v":0},{"$f":"SUMIF('Cleaned SnowMachine Data'!AY$6:AY$123,'Activity Days'!$B45,'Cleaned SnowMachine Data'!BI$6:BI$123)","v":0},0,null,{"$f":"'Site Codes'!AA43","v":"Johnson Pass-Kenai Peninsula"},{"$f":"'Site Codes'!AB43","v":"Snow 40"},{"$f":"SUMIFS('Cleaned SnowMachine Data'!AZ$6:AZ$123,'Cleaned SnowMachine Data'!$E$6:$E$123,1,'Cleaned SnowMachine Data'!AP$6:AP$123,'Activity Days'!$P45)","v":0},{"$f":"SUMIFS('Cleaned SnowMachine Data'!BA$6:BA$123,'Cleaned SnowMachine Data'!$E$6:$E$123,1,'Cleaned SnowMachine Data'!AQ$6:AQ$123,'Activity Days'!$P45)","v":0},{"$f":"SUMIFS('Cleaned SnowMachine Data'!BB$6:BB$123,'Cleaned SnowMachine Data'!$E$6:$E$123,1,'Cleaned SnowMachine Data'!AR$6:AR$123,'Activity Days'!$P45)","v":0},{"$f":"SUMIFS('Cleaned SnowMachine Data'!BC$6:BC$123,'Cleaned SnowMachine Data'!$E$6:$E$123,1,'Cleaned SnowMachine Data'!AS$6:AS$123,'Activity Days'!$P45)","v":0},{"$f":"SUMIFS('Cleaned SnowMachine Data'!BD$6:BD$123,'Cleaned SnowMachine Data'!$E$6:$E$123,1,'Cleaned SnowMachine Data'!AT$6:AT$123,'Activity Days'!$P45)","v":0},{"$f":"SUMIFS('Cleaned SnowMachine Data'!BE$6:BE$123,'Cleaned SnowMachine Data'!$E$6:$E$123,1,'Cleaned SnowMachine Data'!AU$6:AU$123,'Activity Days'!$P45)","v":0},{"$f":"SUMIFS('Cleaned SnowMachine Data'!BF$6:BF$123,'Cleaned SnowMachine Data'!$E$6:$E$123,1,'Cleaned SnowMachine Data'!AV$6:AV$123,'Activity Days'!$P45)","v":0},{"$f":"SUMIFS('Cleaned SnowMachine Data'!BG$6:BG$123,'Cleaned SnowMachine Data'!$E$6:$E$123,1,'Cleaned SnowMachine Data'!AW$6:AW$123,'Activity Days'!$P45)","v":0},{"$f":"SUMIFS('Cleaned SnowMachine Data'!BH$6:BH$123,'Cleaned SnowMachine Data'!$E$6:$E$123,1,'Cleaned SnowMachine Data'!AX$6:AX$123,'Activity Days'!$P45)","v":0},{"$f":"SUMIFS('Cleaned SnowMachine Data'!BI$6:BI$123,'Cleaned SnowMachine Data'!$E$6:$E$123,1,'Cleaned SnowMachine Data'!AY$6:AY$123,'Activity Days'!$P45)","v":0},0]
[{"$f":"'Site Codes'!AA44","v":"Kashwitna River-Eagles Nest"},{"$f":"'Site Codes'!AB44","v":"Snow 41"},{"$f":"SUMIF('Cleaned SnowMachine Data'!AP$6:AP$123,'Activity Days'!$B46,'Cleaned SnowMachine Data'!AZ$6:AZ$123)","v":0},{"$f":"SUMIF('Cleaned SnowMachine Data'!AQ$6:AQ$123,'Activity Days'!$B46,'Cleaned SnowMachine Data'!BA$6:BA$123)","v":0},{"$f":"SUMIF('Cleaned SnowMachine Data'!AR$6:AR$123,'Activity Days'!$B46,'Cleaned SnowMachine Data'!BB$6:BB$123)","v":0},{"$f":"SUMIF('Cleaned SnowMachine Data'!AS$6:AS$123,'Activity Days'!$B46,'Cleaned SnowMachine Data'!BC$6:BC$123)","v":0},{"$f":"SUMIF('Cleaned SnowMachine Data'!AT$6:AT$123,'Activity Days'!$B46,'Cleaned SnowMachine Data'!BD$6:BD$123)","v":0},{"$f":"SUMIF('Cleaned SnowMachine Data'!AU$6:AU$123,'Activity Days'!$B46,'Cleaned SnowMachine Data'!BE$6:BE$123)","v":0},{"$f":"SUMIF('Cleaned SnowMachine Data'!AV$6:AV$123,'Activity Days'!$B46,'Cleaned SnowMachine Data'!BF$6:BF$123)","v":0},{"$f":"SUMIF('Cleaned SnowMachine Data'!AW$6:AW$123,'Activity Days'!$B46,'Cleaned SnowMachine Data'!BG$6:BG$123)","v":0},{"$f":"SUMIF('Cleaned SnowMachine Data'!AX$6:AX$123,'Activity Days'!$B46,'Cleaned SnowMachine Data'!BH$6:BH$123)","v":0},{"$f":"SUMIF('Cleaned SnowMachine Data'!AY$6:AY$123,'Activity Days'!$B46,'Cleaned SnowMachine Data'!BI$6:BI$123)","v":0},0,null,{"$f":"'Site Codes'!AA44","v":"Kashwitna River-Eagles Nest"},{"$f":"'Site Codes'!AB44","v":"Snow 41"},{"$f":"SUMIFS('Cleaned SnowMachine Data'!AZ$6:AZ$123,'Cleaned SnowMachine Data'!$E$6:$E$123,1,'Cleaned SnowMachine Data'!AP$6:AP$123,'Activity Days'!$P46)","v":0},{"$f":"SUMIFS('Cleaned SnowMachine Data'!BA$6:BA$123,'Cleaned SnowMachine Data'!$E$6:$E$123,1,'Cleaned SnowMachine Data'!AQ$6:AQ$123,'Activity Days'!$P46)","v":0},{"$f":"SUMIFS('Cleaned SnowMachine Data'!BB$6:BB$123,'Cleaned SnowMachine Data'!$E$6:$E$123,1,'Cleaned SnowMachine Data'!AR$6:AR$123,'Activity Days'!$P46)","v":0},{"$f":"SUMIFS('Cleaned SnowMachine Data'!BC$6:BC$123,'Cleaned SnowMachine Data'!$E$6:$E$123,1,'Cleaned SnowMachine Data'!AS$6:AS$123,'Activity Days'!$P46)","v":0},{"$f":"SUMIFS('Cleaned SnowMachine Data'!BD$6:BD$123,'Cleaned SnowMachine Data'!$E$6:$E$123,1,'Cleaned SnowMachine Data'!AT$6:AT$123,'Activity Days'!$P46)","v":0},{"$f":"SUMIFS('Cleaned SnowMachine Data'!BE$6:BE$123,'Cleaned SnowMachine Data'!$E$6:$E$123,1,'Cleaned SnowMachine Data'!AU$6:AU$123,'Activity Days'!$P46)","v":0},{"$f":"SUMIFS('Cleaned SnowMachine Data'!BF$6:BF$123,'Cleaned SnowMachine Data'!$E$6:$E$123,1,'Cleaned SnowMachine Data'!AV$6:AV$123,'Activity Days'!$P46)","v":0},{"$f":"SUMIFS('Cleaned SnowMachine Data'!BG$6:BG$123,'Cleaned SnowMachine Data'!$E$6:$E$123,1,'Cleaned SnowMachine Data'!AW$6:AW$123,'Activity Days'!$P46)","v":0},{"$f":"SUMIFS('Cleaned SnowMachine Data'!BH$6:BH$123,'Cleaned SnowMachine Data'!$E$6:$E$123,1,'Cleaned SnowMachine Data'!AX$6:AX$123,'Activity Days'!$P46)","v":0},{"$f":"SUMIFS('Cleaned SnowMachine Data'!BI$6:BI$123,'Cleaned SnowMachine Data'!$E$6:$E$123,1,'Cleaned SnowMachine Data'!AY$6:AY$123,'Activity Days'!$P46)","v":0},0]
[{"$f":"'Site Codes'!AA45","v":"Kenai-Unspecified"},{"$f":"'Site Codes'!AB45","v":"Snow 42"},{"$f":"SUMIF('Cleaned SnowMachine Data'!AP$6:AP$123,'Activity Days'!$B47,'Cleaned SnowMachine Data'!AZ$6:AZ$123)","v":0},{"$f":"SUMIF('Cleaned SnowMachine Data'!AQ$6:AQ$123,'Activity Days'!$B47,'Cleaned SnowMachine Data'!BA$6:BA$123)","v":0},{"$f":"SUMIF('Cleaned SnowMachine Data'!AR$6:AR$123,'Activity Days'!$B47,'Cleaned SnowMachine Data'!BB$6:BB$123)","v":0},{"$f":"SUMIF('Cleaned SnowMachine Data'!AS$6:AS$123,'Activity Days'!$B47,'Cleaned SnowMachine Data'!BC$6:BC$123)","v":0},{"$f":"SUMIF('Cleaned SnowMachine Data'!AT$6:AT$123,'Activity Days'!$B47,'Cleaned SnowMachine Data'!BD$6:BD$123)","v":0},{"$f":"SUMIF('Cleaned SnowMachine Data'!AU$6:AU$123,'Activity Days'!$B47,'Cleaned SnowMachine Data'!BE$6:BE$123)","v":0},{"$f":"SUMIF('Cleaned SnowMachine Data'!AV$6:AV$123,'Activity Days'!$B47,'Cleaned SnowMachine Data'!BF$6:BF$123)","v":0},{"$f":"SUMIF('Cleaned SnowMachine Data'!AW$6:AW$123,'Activity Days'!$B47,'Cleaned SnowMachine Data'!BG$6:BG$123)","v":0},{"$f":"SUMIF('Cleaned SnowMachine Data'!AX$6:AX$123,'Activity Days'!$B47,'Cleaned SnowMachine Data'!BH$6:BH$123)","v":0},{"$f":"SUMIF('Cleaned SnowMachine Data'!AY$6:AY$123,'Activity Days'!$B47,'Cleaned SnowMachine Data'!BI$6:BI$123)","v":0},0,null,{"$f":"'Site Codes'!AA45","v":"Kenai-Unspecified"},{"$f":"'Site Codes'!AB45","v":"Snow 42"},{"$f":"SUMIFS('Cleaned SnowMachine Data'!AZ$6:AZ$123,'Cleaned SnowMachine Data'!$E$6:$E$123,1,'Cleaned SnowMachine Data'!AP$6:AP$123,'Activity Days'!$P47)","v":0},{"$f":"SUMIFS('Cleaned SnowMachine Data'!BA$6:BA$123,'Cleaned SnowMachine Data'!$E$6:$E$123,1,'Cleaned SnowMachine Data'!AQ$6:AQ$123,'Activity Days'!$P47)","v":0},{"$f":"SUMIFS('Cleaned SnowMachine Data'!BB$6:BB$123,'Cleaned SnowMachine Data'!$E$6:$E$123,1,'Cleaned SnowMachine Data'!AR$6:AR$123,'Activity Days'!$P47)","v":0},{"$f":"SUMIFS('Cleaned SnowMachine Data'!BC$6:BC$123,'Cleaned SnowMachine Data'!$E$6:$E$123,1,'Cleaned SnowMachine Data'!AS$6:AS$123,'Activity Days'!$P47)","v":0},{"$f":"SUMIFS('Cleaned SnowMachine Data'!BD$6:BD$123,'Cleaned SnowMachine Data'!$E$6:$E$123,1,'Cleaned SnowMachine Data'!AT$6:AT$123,'Activity Days'!$P47)","v":0},{"$f":"SUMIFS('Cleaned SnowMachine Data'!BE$6:BE$123,'Cleaned SnowMachine Data'!$E$6:$E$123,1,'Cleaned SnowMachine Data'!AU$6:AU$123,'Activity Days'!$P47)","v":0},{"$f":"SUMIFS('Cleaned SnowMachine Data'!BF$6:BF$123,'Cleaned SnowMachine Data'!$E$6:$E$123,1,'Cleaned SnowMachine Data'!AV$6:AV$123,'Activity Days'!$P47)","v":0},{"$f":"SUMIFS('Cleaned SnowMachine Data'!BG$6:BG$123,'Cleaned SnowMachine Data'!$E$6:$E$123,1,'Cleaned SnowMachine Data'!AW$6:AW$123,'Activity Days'!$P47)","v":0},{"$f":"SUMIFS('Cleaned SnowMachine Data'!BH$6:BH$123,'Cleaned SnowMachine Data'!$E$6:$E$123,1,'Cleaned SnowMachine Data'!AX$6:AX$123,'Activity Days'!$P47)","v":0},{"$f":"SUMIFS('Cleaned SnowMachine Data'!BI$6:BI$123,'Cleaned SnowMachine Data'!$E$6:$E$123,1,'Cleaned SnowMachine Data'!AY$6:AY$123,'Activity Days'!$P47)","v":0},0]
[{"$f":"'Site Codes'!AA46","v":"King River"},{"$f":"'Site Codes'!AB46","v":"Snow 43"},{"$f":"SUMIF('Cleaned SnowMachine Data'!AP$6:AP$123,'Activity Days'!$B48,'Cleaned SnowMachine Data'!AZ$6:AZ$123)","v":0},{"$f":"SUMIF('Cleaned SnowMachine Data'!AQ$6:AQ$123,'Activity Days'!$B48,'Cleaned SnowMachine Data'!BA$6:BA$123)","v":0},{"$f":"SUMIF('Cleaned SnowMachine Data'!AR$6:AR$123,'Activity Days'!$B48,'Cleaned SnowMachine Data'!BB$6:BB$123)","v":0},{"$f":"SUMIF('Cleaned SnowMachine Data'!AS$6:AS$123,'Activity Days'!$B48,'Cleaned SnowMachine Data'!BC$6:BC$123)","v":0},{"$f":"SUMIF('Cleaned SnowMachine Data'!AT$6:AT$123,'Activity Days'!$B48,'Cleaned SnowMachine Data'!BD$6:BD$123)","v":0},{"$f":"SUMIF('Cleaned SnowMachine Data'!AU$6:AU$123,'Activity Days'!$B48,'Cleaned SnowMachine Data'!BE$6:BE$123)","v":0},{"$f":"SUMIF('Cleaned SnowMachine Data'!AV$6:AV$123,'Activity Days'!$B48,'Cleaned SnowMachine Data'!BF$6:BF$123)","v":0},{"$f":"SUMIF('Cleaned SnowMachine Data'!AW$6:AW$123,'Activity Days'!$B48,'Cleaned SnowMachine Data'!BG$6:BG$123)","v":0},{"$f":"SUMIF('Cleaned SnowMachine Data'!AX$6:AX$123,'Activity Days'!$B48,'Cleaned SnowMachine Data'!BH$6:BH$123)","v":0},{"$f":"SUMIF('Cleaned SnowMachine Data'!AY$6:AY$123,'Activity Days'!$B48,'Cleaned SnowMachine Data'!BI$6:BI$123)","v":0},0,null,{"$f":"'Site Codes'!AA46","v":"King River"},{"$f":"'Site Codes'!AB46","v":"Snow 43"},{"$f":"SUMIFS('Cleaned SnowMachine Data'!AZ$6:AZ$123,'Cleaned SnowMachine Data'!$E$6:$E$123,1,'Cleaned SnowMachine Data'!AP$6:AP$123,'Activity Days'!$P48)","v":0},{"$f":"SUMIFS('Cleaned SnowMachine Data'!BA$6:BA$123,'Cleaned SnowMachine Data'!$E$6:$E$123,1,'Cleaned SnowMachine Data'!AQ$6:AQ$123,'Activity Days'!$P48)","v":0},{"$f":"SUMIFS('Cleaned SnowMachine Data'!BB$6:BB$123,'Cleaned SnowMachine Data'!$E$6:$E$123,1,'Cleaned SnowMachine Data'!AR$6:AR$123,'Activity Days'!$P48)","v":0},{"$f":"SUMIFS('Cleaned SnowMachine Data'!BC$6:BC$123,'Cleaned SnowMachine Data'!$E$6:$E$123,1,'Cleaned SnowMachine Data'!AS$6:AS$123,'Activity Days'!$P48)","v":0},{"$f":"SUMIFS('Cleaned SnowMachine Data'!BD$6:BD$123,'Cleaned SnowMachine Data'!$E$6:$E$123,1,'Cleaned SnowMachine Data'!AT$6:AT$123,'Activity Days'!$P48)","v":0},{"$f":"SUMIFS('Cleaned SnowMachine Data'!BE$6:BE$123,'Cleaned SnowMachine Data'!$E$6:$E$123,1,'Cleaned SnowMachine Data'!AU$6:AU$123,'Activity Days'!$P48)","v":0},{"$f":"SUMIFS('Cleaned SnowMachine Data'!BF$6:BF$123,'Cleaned SnowMachine Data'!$E$6:$E$123,1,'Cleaned SnowMachine Data'!AV$6:AV$123,'Activity Days'!$P48)","v":0},{"$f":"SUMIFS('Cleaned SnowMachine Data'!BG$6:BG$123,'Cleaned SnowMachine Data'!$E$6:$E$123,1,'Cleaned SnowMachine Data'!AW$6:AW$123,'Activity Days'!$P48)","v":0},{"$f":"SUMIFS('Cleaned SnowMachine Data'!BH$6:BH$123,'Cleaned SnowMachine Data'!$E$6:$E$123,1,'Cleaned SnowMachine Data'!AX$6:AX$123,'Activity Days'!$P48)","v":0},{"$f":"SUMIFS('Cleaned SnowMachine Data'!BI$6:BI$123,'Cleaned SnowMachine Data'!$E$6:$E$123,1,'Cleaned SnowMachine Data'!AY$6:AY$123,'Activity Days'!$P48)","v":0},0]
[{"$f":"'Site Codes'!AA47","v":"Klutina Lake"},{"$f":"'Site Codes'!AB47","v":"Snow 44"},{"$f":"SUMIF('Cleaned SnowMachine Data'!AP$6:AP$123,'Activity Days'!$B49,'Cleaned SnowMachine Data'!AZ$6:AZ$123)","v":0},{"$f":"SUMIF('Cleaned SnowMachine Data'!AQ$6:AQ$123,'Activity Days'!$B49,'Cleaned SnowMachine Data'!BA$6:BA$123)","v":0},{"$f":"SUMIF('Cleaned SnowMachine Data'!AR$6:AR$123,'Activity Days'!$B49,'Cleaned SnowMachine Data'!BB$6:BB$123)","v":0},{"$f":"SUMIF('Cleaned SnowMachine Data'!AS$6:AS$123,'Activity Days'!$B49,'Cleaned SnowMachine Data'!BC$6:BC$123)","v":0},{"$f":"SUMIF('Cleaned SnowMachine Data'!AT$6:AT$123,'Activity Days'!$B49,'Cleaned SnowMachine Data'!BD$6:BD$123)","v":0},{"$f":"SUMIF('Cleaned SnowMachine Data'!AU$6:AU$123,'Activity Days'!$B49,'Cleaned SnowMachine Data'!BE$6:BE$123)","v":0},{"$f":"SUMIF('Cleaned SnowMachine Data'!AV$6:AV$123,'Activity Days'!$B49,'Cleaned SnowMachine Data'!BF$6:BF$123)","v":0},{"$f":"SUMIF('Cleaned SnowMachine Data'!AW$6:AW$123,'Activity Days'!$B49,'Cleaned SnowMachine Data'!BG$6:BG$123)","v":0},{"$f":"SUMIF('Cleaned SnowMachine Data'!AX$6:AX$123,'Activity Days'!$B49,'Cleaned SnowMachine Data'!BH$6:BH$123)","v":0},{"$f":"SUMIF('Cleaned SnowMachine Data'!AY$6:AY$123,'Activity Days'!$B49,'Cleaned SnowMachine Data'!BI$6:BI$123)","v":0},0,null,{"$f":"'Site Codes'!AA47","v":"Klutina Lake"},{"$f":"'Site Codes'!AB47","v":"Snow 44"},{"$f":"SUMIFS('Cleaned SnowMachine Data'!AZ$6:AZ$123,'Cleaned SnowMachine Data'!$E$6:$E$123,1,'Cleaned SnowMachine Data'!AP$6:AP$123,'Activity Days'!$P49)","v":0},{"$f":"SUMIFS('Cleaned SnowMachine Data'!BA$6:BA$123,'Cleaned SnowMachine Data'!$E$6:$E$123,1,'Cleaned SnowMachine Data'!AQ$6:AQ$123,'Activity Days'!$P49)","v":0},{"$f":"SUMIFS('Cleaned SnowMachine Data'!BB$6:BB$123,'Cleaned SnowMachine Data'!$E$6:$E$123,1,'Cleaned SnowMachine Data'!AR$6:AR$123,'Activity Days'!$P49)","v":0},{"$f":"SUMIFS('Cleaned SnowMachine Data'!BC$6:BC$123,'Cleaned SnowMachine Data'!$E$6:$E$123,1,'Cleaned SnowMachine Data'!AS$6:AS$123,'Activity Days'!$P49)","v":0},{"$f":"SUMIFS('Cleaned SnowMachine Data'!BD$6:BD$123,'Cleaned SnowMachine Data'!$E$6:$E$123,1,'Cleaned SnowMachine Data'!AT$6:AT$123,'Activity Days'!$P49)","v":0},{"$f":"SUMIFS('Cleaned SnowMachine Data'!BE$6:BE$123,'Cleaned SnowMachine Data'!$E$6:$E$123,1,'Cleaned SnowMachine Data'!AU$6:AU$123,'Activity Days'!$P49)","v":0},{"$f":"SUMIFS('Cleaned SnowMachine Data'!BF$6:BF$123,'Cleaned SnowMachine Data'!$E$6:$E$123,1,'Cleaned SnowMachine Data'!AV$6:AV$123,'Activity Days'!$P49)","v":0},{"$f":"SUMIFS('Cleaned SnowMachine Data'!BG$6:BG$123,'Cleaned SnowMachine Data'!$E$6:$E$123,1,'Cleaned SnowMachine Data'!AW$6:AW$123,'Activity Days'!$P49)","v":0},{"$f":"SUMIFS('Cleaned SnowMachine Data'!BH$6:BH$123,'Cleaned SnowMachine Data'!$E$6:$E$123,1,'Cleaned SnowMachine Data'!AX$6:AX$123,'Activity Days'!$P49)","v":0},{"$f":"SUMIFS('Cleaned SnowMachine Data'!BI$6:BI$123,'Cleaned SnowMachine Data'!$E$6:$E$123,1,'Cleaned SnowMachine Data'!AY$6:AY$123,'Activity Days'!$P49)","v":0},0]
[{"$f":"'Site Codes'!AA48","v":"Knik Goose Bay Road"},{"$f":"'Site Codes'!AB48","v":"Snow 45"},{"$f":"SUMIF('Cleaned SnowMachine Data'!AP$6:AP$123,'Activity Days'!$B50,'Cleaned SnowMachine Data'!AZ$6:AZ$123)","v":1},{"$f":"SUMIF('Cleaned SnowMachine Data'!AQ$6:AQ$123,'Activity Days'!$B50,'Cleaned SnowMachine Data'!BA$6:BA$123)","v":4},{"$f":"SUMIF('Cleaned SnowMachine Data'!AR$6:AR$123,'Activity Days'!$B50,'Cleaned SnowMachine Data'!BB$6:BB$123)","v":0},{"$f":"SUMIF('Cleaned SnowMachine Data'!AS$6:AS$123,'Activity Days'!$B50,'Cleaned SnowMachine Data'!BC$6:BC$123)","v":0},{"$f":"SUMIF('Cleaned SnowMachine Data'!AT$6:AT$123,'Activity Days'!$B50,'Cleaned SnowMachine Data'!BD$6:BD$123)","v":0},{"$f":"SUMIF('Cleaned SnowMachine Data'!AU$6:AU$123,'Activity Days'!$B50,'Cleaned SnowMachine Data'!BE$6:BE$123)","v":0},{"$f":"SUMIF('Cleaned SnowMachine Data'!AV$6:AV$123,'Activity Days'!$B50,'Cleaned SnowMachine Data'!BF$6:BF$123)","v":0},{"$f":"SUMIF('Cleaned SnowMachine Data'!AW$6:AW$123,'Activity Days'!$B50,'Cleaned SnowMachine Data'!BG$6:BG$123)","v":0},{"$f":"SUMIF('Cleaned SnowMachine Data'!AX$6:AX$123,'Activity Days'!$B50,'Cleaned SnowMachine Data'!BH$6:BH$123)","v":0},{"$f":"SUMIF('Cleaned SnowMachine Data'!AY$6:AY$123,'Activity Days'!$B50,'Cleaned SnowMachine Data'!BI$6:BI$123)","v":0},5,null,{"$f":"'Site Codes'!AA48","v":"Knik Goose Bay Road"},{"$f":"'Site Codes'!AB48","v":"Snow 45"},{"$f":"SUMIFS('Cleaned SnowMachine Data'!AZ$6:AZ$123,'Cleaned SnowMachine Data'!$E$6:$E$123,1,'Cleaned SnowMachine Data'!AP$6:AP$123,'Activity Days'!$P50)","v":0},{"$f":"SUMIFS('Cleaned SnowMachine Data'!BA$6:BA$123,'Cleaned SnowMachine Data'!$E$6:$E$123,1,'Cleaned SnowMachine Data'!AQ$6:AQ$123,'Activity Days'!$P50)","v":0},{"$f":"SUMIFS('Cleaned SnowMachine Data'!BB$6:BB$123,'Cleaned SnowMachine Data'!$E$6:$E$123,1,'Cleaned SnowMachine Data'!AR$6:AR$123,'Activity Days'!$P50)","v":0},{"$f":"SUMIFS('Cleaned SnowMachine Data'!BC$6:BC$123,'Cleaned SnowMachine Data'!$E$6:$E$123,1,'Cleaned SnowMachine Data'!AS$6:AS$123,'Activity Days'!$P50)","v":0},{"$f":"SUMIFS('Cleaned SnowMachine Data'!BD$6:BD$123,'Cleaned SnowMachine Data'!$E$6:$E$123,1,'Cleaned SnowMachine Data'!AT$6:AT$123,'Activity Days'!$P50)","v":0},{"$f":"SUMIFS('Cleaned SnowMachine Data'!BE$6:BE$123,'Cleaned SnowMachine Data'!$E$6:$E$123,1,'Cleaned SnowMachine Data'!AU$6:AU$123,'Activity Days'!$P50)","v":0},{"$f":"SUMIFS('Cleaned SnowMachine Data'!BF$6:BF$123,'Cleaned SnowMachine Data'!$E$6:$E$123,1,'Cleaned SnowMachine Data'!AV$6:AV$123,'Activity Days'!$P50)","v":0},{"$f":"SUMIFS('Cleaned SnowMachine Data'!BG$6:BG$123,'Cleaned SnowMachine Data'!$E$6:$E$123,1,'Cleaned SnowMachine Data'!AW$6:AW$123,'Activity Days'!$P50)","v":0},{"$f":"SUMIFS('Cleaned SnowMachine Data'!BH$6:BH$123,'Cleaned SnowMachine Data'!$E$6:$E$123,1,'Cleaned SnowMachine Data'!AX$6:AX$123,'Activity Days'!$P50)","v":0},{"$f":"SUMIFS('Cleaned SnowMachine Data'!BI$6:BI$123,'Cleaned SnowMachine Data'!$E$6:$E$123,1,'Cleaned SnowMachine Data'!AY$6:AY$123,'Activity Days'!$P50)","v":0},0]
[{"$f":"'Site Codes'!AA49","v":"Knik River"},{"$f":"'Site Codes'!AB49","v":"Snow 46"},{"$f":"SUMIF('Cleaned SnowMachine Data'!AP$6:AP$123,'Activity Days'!$B51,'Cleaned SnowMachine Data'!AZ$6:AZ$123)","v":3},{"$f":"SUMIF('Cleaned SnowMachine Data'!AQ$6:AQ$123,'Activity Days'!$B51,'Cleaned SnowMachine Data'!BA$6:BA$123)","v":0},{"$f":"SUMIF('Cleaned SnowMachine Data'!AR$6:AR$123,'Activity Days'!$B51,'Cleaned SnowMachine Data'!BB$6:BB$123)","v":0},{"$f":"SUMIF('Cleaned SnowMachine Data'!AS$6:AS$123,'Activity Days'!$B51,'Cleaned SnowMachine Data'!BC$6:BC$123)","v":0},{"$f":"SUMIF('Cleaned SnowMachine Data'!AT$6:AT$123,'Activity Days'!$B51,'Cleaned SnowMachine Data'!BD$6:BD$123)","v":0},{"$f":"SUMIF('Cleaned SnowMachine Data'!AU$6:AU$123,'Activity Days'!$B51,'Cleaned SnowMachine Data'!BE$6:BE$123)","v":0},{"$f":"SUMIF('Cleaned SnowMachine Data'!AV$6:AV$123,'Activity Days'!$B51,'Cleaned SnowMachine Data'!BF$6:BF$123)","v":0},{"$f":"SUMIF('Cleaned SnowMachine Data'!AW$6:AW$123,'Activity Days'!$B51,'Cleaned SnowMachine Data'!BG$6:BG$123)","v":0},{"$f":"SUMIF('Cleaned SnowMachine Data'!AX$6:AX$123,'Activity Days'!$B51,'Cleaned SnowMachine Data'!BH$6:BH$123)","v":0},{"$f":"SUMIF('Cleaned SnowMachine Data'!AY$6:AY$123,'Activity Days'!$B51,'Cleaned SnowMachine Data'!BI$6:BI$123)","v":0},3,null,{"$f":"'Site Codes'!AA49","v":"Knik River"},{"$f":"'Site Codes'!AB49","v":"Snow 46"},{"$f":"SUMIFS('Cleaned SnowMachine Data'!AZ$6:AZ$123,'Cleaned SnowMachine Data'!$E$6:$E$123,1,'Cleaned SnowMachine Data'!AP$6:AP$123,'Activity Days'!$P51)","v":0},{"$f":"SUMIFS('Cleaned SnowMachine Data'!BA$6:BA$123,'Cleaned SnowMachine Data'!$E$6:$E$123,1,'Cleaned SnowMachine Data'!AQ$6:AQ$123,'Activity Days'!$P51)","v":0},{"$f":"SUMIFS('Cleaned SnowMachine Data'!BB$6:BB$123,'Cleaned SnowMachine Data'!$E$6:$E$123,1,'Cleaned SnowMachine Data'!AR$6:AR$123,'Activity Days'!$P51)","v":0},{"$f":"SUMIFS('Cleaned SnowMachine Data'!BC$6:BC$123,'Cleaned SnowMachine Data'!$E$6:$E$123,1,'Cleaned SnowMachine Data'!AS$6:AS$123,'Activity Days'!$P51)","v":0},{"$f":"SUMIFS('Cleaned SnowMachine Data'!BD$6:BD$123,'Cleaned SnowMachine Data'!$E$6:$E$123,1,'Cleaned SnowMachine Data'!AT$6:AT$123,'Activity Days'!$P51)","v":0},{"$f":"SUMIFS('Cleaned SnowMachine Data'!BE$6:BE$123,'Cleaned SnowMachine Data'!$E$6:$E$123,1,'Cleaned SnowMachine Data'!AU$6:AU$123,'Activity Days'!$P51)","v":0},{"$f":"SUMIFS('Cleaned SnowMachine Data'!BF$6:BF$123,'Cleaned SnowMachine Data'!$E$6:$E$123,1,'Cleaned SnowMachine Data'!AV$6:AV$123,'Activity Days'!$P51)","v":0},{"$f":"SUMIFS('Cleaned SnowMachine Data'!BG$6:BG$123,'Cleaned SnowMachine Data'!$E$6:$E$123,1,'Cleaned SnowMachine Data'!AW$6:AW$123,'Activity Days'!$P51)","v":0},{"$f":"SUMIFS('Cleaned SnowMachine Data'!BH$6:BH$123,'Cleaned SnowMachine Data'!$E$6:$E$123,1,'Cleaned SnowMachine Data'!AX$6:AX$123,'Activity Days'!$P51)","v":0},{"$f":"SUMIFS('Cleaned SnowMachine Data'!BI$6:BI$123,'Cleaned SnowMachine Data'!$E$6:$E$123,1,'Cleaned SnowMachine Data'!AY$6:AY$123,'Activity Days'!$P51)","v":0},0]
[{"$f":"'Site Codes'!AA50","v":"Lake Louise"},{"$f":"'Site Codes'!AB50","v":"Snow 47"},{"$f":"SUMIF('Cleaned SnowMachine Data'!AP$6:AP$123,'Activity Days'!$B52,'Cleaned SnowMachine Data'!AZ$6:AZ$123)","v":98},{"$f":"SUMIF('Cleaned SnowMachine Data'!AQ$6:AQ$123,'Activity Days'!$B52,'Cleaned SnowMachine Data'!BA$6:BA$123)","v":2},{"$f":"SUMIF('Cleaned SnowMachine Data'!AR$6:AR$123,'Activity Days'!$B52,'Cleaned SnowMachine Data'!BB$6:BB$123)","v":0},{"$f":"SUMIF('Cleaned SnowMachine Data'!AS$6:AS$123,'Activity Days'!$B52,'Cleaned SnowMachine Data'!BC$6:BC$123)","v":0},{"$f":"SUMIF('Cleaned SnowMachine Data'!AT$6:AT$123,'Activity Days'!$B52,'Cleaned SnowMachine Data'!BD$6:BD$123)","v":0},{"$f":"SUMIF('Cleaned SnowMachine Data'!AU$6:AU$123,'Activity Days'!$B52,'Cleaned SnowMachine Data'!BE$6:BE$123)","v":0},{"$f":"SUMIF('Cleaned SnowMachine Data'!AV$6:AV$123,'Activity Days'!$B52,'Cleaned SnowMachine Data'!BF$6:BF$123)","v":0},{"$f":"SUMIF('Cleaned SnowMachine Data'!AW$6:AW$123,'Activity Days'!$B52,'Cleaned SnowMachine Data'!BG$6:BG$123)","v":0},{"$f":"SUMIF('Cleaned SnowMachine Data'!AX$6:AX$123,'Activity Days'!$B52,'Cleaned SnowMachine Data'!BH$6:BH$123)","v":0},{"$f":"SUMIF('Cleaned SnowMachine Data'!AY$6:AY$123,'Activity Days'!$B52,'Cleaned SnowMachine Data'!BI$6:BI$123)","v":0},100,null,{"$f":"'Site Codes'!AA50","v":"Lake Louise"},{"$f":"'Site Codes'!AB50","v":"Snow 47"},{"$f":"SUMIFS('Cleaned SnowMachine Data'!AZ$6:AZ$123,'Cleaned SnowMachine Data'!$E$6:$E$123,1,'Cleaned SnowMachine Data'!AP$6:AP$123,'Activity Days'!$P52)","v":65},{"$f":"SUMIFS('Cleaned SnowMachine Data'!BA$6:BA$123,'Cleaned SnowMachine Data'!$E$6:$E$123,1,'Cleaned SnowMachine Data'!AQ$6:AQ$123,'Activity Days'!$P52)","v":0},{"$f":"SUMIFS('Cleaned SnowMachine Data'!BB$6:BB$123,'Cleaned SnowMachine Data'!$E$6:$E$123,1,'Cleaned SnowMachine Data'!AR$6:AR$123,'Activity Days'!$P52)","v":0},{"$f":"SUMIFS('Cleaned SnowMachine Data'!BC$6:BC$123,'Cleaned SnowMachine Data'!$E$6:$E$123,1,'Cleaned SnowMachine Data'!AS$6:AS$123,'Activity Days'!$P52)","v":0},{"$f":"SUMIFS('Cleaned SnowMachine Data'!BD$6:BD$123,'Cleaned SnowMachine Data'!$E$6:$E$123,1,'Cleaned SnowMachine Data'!AT$6:AT$123,'Activity Days'!$P52)","v":0},{"$f":"SUMIFS('Cleaned SnowMachine Data'!BE$6:BE$123,'Cleaned SnowMachine Data'!$E$6:$E$123,1,'Cleaned SnowMachine Data'!AU$6:AU$123,'Activity Days'!$P52)","v":0},{"$f":"SUMIFS('Cleaned SnowMachine Data'!BF$6:BF$123,'Cleaned SnowMachine Data'!$E$6:$E$123,1,'Cleaned SnowMachine Data'!AV$6:AV$123,'Activity Days'!$P52)","v":0},{"$f":"SUMIFS('Cleaned SnowMachine Data'!BG$6:BG$123,'Cleaned SnowMachine Data'!$E$6:$E$123,1,'Cleaned SnowMachine Data'!AW$6:AW$123,'Activity Days'!$P52)","v":0},{"$f":"SUMIFS('Cleaned SnowMachine Data'!BH$6:BH$123,'Cleaned SnowMachine Data'!$E$6:$E$123,1,'Cleaned SnowMachine Data'!AX$6:AX$123,'Activity Days'!$P52)","v":0},{"$f":"SUMIFS('Cleaned SnowMachine Data'!BI$6:BI$123,'Cleaned SnowMachine Data'!$E$6:$E$123,1,'Cleaned SnowMachine Data'!AY$6:AY$123,'Activity Days'!$P52)","v":0},65]
[{"$f":"'Site Codes'!AA51","v":"Long Lake--Willow"},{"$f":"'Site Codes'!AB51","v":"Snow 48"},{"$f":"SUMIF('Cleaned SnowMachine Data'!AP$6:AP$123,'Activity Days'!$B53,'Cleaned SnowMachine Data'!AZ$6:AZ$123)","v":1},{"$f":"SUMIF('Cleaned SnowMachine Data'!AQ$6:AQ$123,'Activity Days'!$B53,'Cleaned SnowMachine Data'!BA$6:BA$123)","v":0},{"$f":"SUMIF('Cleaned SnowMachine Data'!AR$6:AR$123,'Activity Days'!$B53,'Cleaned SnowMachine Data'!BB$6:BB$123)","v":0},{"$f":"SUMIF('Cleaned SnowMachine Data'!AS$6:AS$123,'Activity Days'!$B53,'Cleaned SnowMachine Data'!BC$6:BC$123)","v":0},{"$f":"SUMIF('Cleaned SnowMachine Data'!AT$6:AT$123,'Activity Days'!$B53,'Cleaned SnowMachine Data'!BD$6:BD$123)","v":0},{"$f":"SUMIF('Cleaned SnowMachine Data'!AU$6:AU$123,'Activity Days'!$B53,'Cleaned SnowMachine Data'!BE$6:BE$123)","v":0},{"$f":"SUMIF('Cleaned SnowMachine Data'!AV$6:AV$123,'Activity Days'!$B53,'Cleaned SnowMachine Data'!BF$6:BF$123)","v":0},{"$f":"SUMIF('Cleaned SnowMachine Data'!AW$6:AW$123,'Activity Days'!$B53,'Cleaned SnowMachine Data'!BG$6:BG$123)","v":0},{"$f":"SUMIF('Cleaned SnowMachine Data'!AX$6:AX$123,'Activity Days'!$B53,'Cleaned SnowMachine Data'!BH$6:BH$123)","v":0},{"$f":"SUMIF('Cleaned SnowMachine Data'!AY$6:AY$123,'Activity Days'!$B53,'Cleaned SnowMachine Data'!BI$6:BI$123)","v":0},1,null,{"$f":"'Site Codes'!AA51","v":"Long Lake--Willow"},{"$f":"'Site Codes'!AB51","v":"Snow 48"},{"$f":"SUMIFS('Cleaned SnowMachine Data'!AZ$6:AZ$123,'Cleaned SnowMachine Data'!$E$6:$E$123,1,'Cleaned SnowMachine Data'!AP$6:AP$123,'Activity Days'!$P53)","v":0},{"$f":"SUMIFS('Cleaned SnowMachine Data'!BA$6:BA$123,'Cleaned SnowMachine Data'!$E$6:$E$123,1,'Cleaned SnowMachine Data'!AQ$6:AQ$123,'Activity Days'!$P53)","v":0},{"$f":"SUMIFS('Cleaned SnowMachine Data'!BB$6:BB$123,'Cleaned SnowMachine Data'!$E$6:$E$123,1,'Cleaned SnowMachine Data'!AR$6:AR$123,'Activity Days'!$P53)","v":0},{"$f":"SUMIFS('Cleaned SnowMachine Data'!BC$6:BC$123,'Cleaned SnowMachine Data'!$E$6:$E$123,1,'Cleaned SnowMachine Data'!AS$6:AS$123,'Activity Days'!$P53)","v":0},{"$f":"SUMIFS('Cleaned SnowMachine Data'!BD$6:BD$123,'Cleaned SnowMachine Data'!$E$6:$E$123,1,'Cleaned SnowMachine Data'!AT$6:AT$123,'Activity Days'!$P53)","v":0},{"$f":"SUMIFS('Cleaned SnowMachine Data'!BE$6:BE$123,'Cleaned SnowMachine Data'!$E$6:$E$123,1,'Cleaned SnowMachine Data'!AU$6:AU$123,'Activity Days'!$P53)","v":0},{"$f":"SUMIFS('Cleaned SnowMachine Data'!BF$6:BF$123,'Cleaned SnowMachine Data'!$E$6:$E$123,1,'Cleaned SnowMachine Data'!AV$6:AV$123,'Activity Days'!$P53)","v":0},{"$f":"SUMIFS('Cleaned SnowMachine Data'!BG$6:BG$123,'Cleaned SnowMachine Data'!$E$6:$E$123,1,'Cleaned SnowMachine Data'!AW$6:AW$123,'Activity Days'!$P53)","v":0},{"$f":"SUMIFS('Cleaned SnowMachine Data'!BH$6:BH$123,'Cleaned SnowMachine Data'!$E$6:$E$123,1,'Cleaned SnowMachine Data'!AX$6:AX$123,'Activity Days'!$P53)","v":0},{"$f":"SUMIFS('Cleaned SnowMachine Data'!BI$6:BI$123,'Cleaned SnowMachine Data'!$E$6:$E$123,1,'Cleaned SnowMachine Data'!AY$6:AY$123,'Activity Days'!$P53)","v":0},0]
[{"$f":"'Site Codes'!AA52","v":"Loss Lake--Cooper Landing"},{"$f":"'Site Codes'!AB52","v":"Snow 49"},{"$f":"SUMIF('Cleaned SnowMachine Data'!AP$6:AP$123,'Activity Days'!$B54,'Cleaned SnowMachine Data'!AZ$6:AZ$123)","v":0},{"$f":"SUMIF('Cleaned SnowMachine Data'!AQ$6:AQ$123,'Activity Days'!$B54,'Cleaned SnowMachine Data'!BA$6:BA$123)","v":0},{"$f":"SUMIF('Cleaned SnowMachine Data'!AR$6:AR$123,'Activity Days'!$B54,'Cleaned SnowMachine Data'!BB$6:BB$123)","v":0},{"$f":"SUMIF('Cleaned SnowMachine Data'!AS$6:AS$123,'Activity Days'!$B54,'Cleaned SnowMachine Data'!BC$6:BC$123)","v":0},{"$f":"SUMIF('Cleaned SnowMachine Data'!AT$6:AT$123,'Activity Days'!$B54,'Cleaned SnowMachine Data'!BD$6:BD$123)","v":0},{"$f":"SUMIF('Cleaned SnowMachine Data'!AU$6:AU$123,'Activity Days'!$B54,'Cleaned SnowMachine Data'!BE$6:BE$123)","v":0},{"$f":"SUMIF('Cleaned SnowMachine Data'!AV$6:AV$123,'Activity Days'!$B54,'Cleaned SnowMachine Data'!BF$6:BF$123)","v":0},{"$f":"SUMIF('Cleaned SnowMachine Data'!AW$6:AW$123,'Activity Days'!$B54,'Cleaned SnowMachine Data'!BG$6:BG$123)","v":0},{"$f":"SUMIF('Cleaned SnowMachine Data'!AX$6:AX$123,'Activity Days'!$B54,'Cleaned SnowMachine Data'!BH$6:BH$123)","v":0},{"$f":"SUMIF('Cleaned SnowMachine Data'!AY$6:AY$123,'Activity Days'!$B54,'Cleaned SnowMachine Data'!BI$6:BI$123)","v":0},0,null,{"$f":"'Site Codes'!AA52","v":"Loss Lake--Cooper Landing"},{"$f":"'Site Codes'!AB52","v":"Snow 49"},{"$f":"SUMIFS('Cleaned SnowMachine Data'!AZ$6:AZ$123,'Cleaned SnowMachine Data'!$E$6:$E$123,1,'Cleaned SnowMachine Data'!AP$6:AP$123,'Activity Days'!$P54)","v":0},{"$f":"SUMIFS('Cleaned SnowMachine Data'!BA$6:BA$123,'Cleaned SnowMachine Data'!$E$6:$E$123,1,'Cleaned SnowMachine Data'!AQ$6:AQ$123,'Activity Days'!$P54)","v":0},{"$f":"SUMIFS('Cleaned SnowMachine Data'!BB$6:BB$123,'Cleaned SnowMachine Data'!$E$6:$E$123,1,'Cleaned SnowMachine Data'!AR$6:AR$123,'Activity Days'!$P54)","v":0},{"$f":"SUMIFS('Cleaned SnowMachine Data'!BC$6:BC$123,'Cleaned SnowMachine Data'!$E$6:$E$123,1,'Cleaned SnowMachine Data'!AS$6:AS$123,'Activity Days'!$P54)","v":0},{"$f":"SUMIFS('Cleaned SnowMachine Data'!BD$6:BD$123,'Cleaned SnowMachine Data'!$E$6:$E$123,1,'Cleaned SnowMachine Data'!AT$6:AT$123,'Activity Days'!$P54)","v":0},{"$f":"SUMIFS('Cleaned SnowMachine Data'!BE$6:BE$123,'Cleaned SnowMachine Data'!$E$6:$E$123,1,'Cleaned SnowMachine Data'!AU$6:AU$123,'Activity Days'!$P54)","v":0},{"$f":"SUMIFS('Cleaned SnowMachine Data'!BF$6:BF$123,'Cleaned SnowMachine Data'!$E$6:$E$123,1,'Cleaned SnowMachine Data'!AV$6:AV$123,'Activity Days'!$P54)","v":0},{"$f":"SUMIFS('Cleaned SnowMachine Data'!BG$6:BG$123,'Cleaned SnowMachine Data'!$E$6:$E$123,1,'Cleaned SnowMachine Data'!AW$6:AW$123,'Activity Days'!$P54)","v":0},{"$f":"SUMIFS('Cleaned SnowMachine Data'!BH$6:BH$123,'Cleaned SnowMachine Data'!$E$6:$E$123,1,'Cleaned SnowMachine Data'!AX$6:AX$123,'Activity Days'!$P54)","v":0},{"$f":"SUMIFS('Cleaned SnowMachine Data'!BI$6:BI$123,'Cleaned SnowMachine Data'!$E$6:$E$123,1,'Cleaned SnowMachine Data'!AY$6:AY$123,'Activity Days'!$P54)","v":0},0]
[{"$f":"'Site Codes'!AA53","v":"Lost Lake Trail-Seward"},{"$f":"'Site Codes'!AB53","v":"Snow 50"},{"$f":"SUMIF('Cleaned SnowMachine Data'!AP$6:AP$123,'Activity Days'!$B55,'Cleaned SnowMachine Data'!AZ$6:AZ$123)","v":0},{"$f":"SUMIF('Cleaned SnowMachine Data'!AQ$6:AQ$123,'Activity Days'!$B55,'Cleaned SnowMachine Data'!BA$6:BA$123)","v":0},{"$f":"SUMIF('Cleaned SnowMachine Data'!AR$6:AR$123,'Activity Days'!$B55,'Cleaned SnowMachine Data'!BB$6:BB$123)","v":0},{"$f":"SUMIF('Cleaned SnowMachine Data'!AS$6:AS$123,'Activity Days'!$B55,'Cleaned SnowMachine Data'!BC$6:BC$123)","v":0},{"$f":"SUMIF('Cleaned SnowMachine Data'!AT$6:AT$123,'Activity Days'!$B55,'Cleaned SnowMachine Data'!BD$6:BD$123)","v":0},{"$f":"SUMIF('Cleaned SnowMachine Data'!AU$6:AU$123,'Activity Days'!$B55,'Cleaned SnowMachine Data'!BE$6:BE$123)","v":0},{"$f":"SUMIF('Cleaned SnowMachine Data'!AV$6:AV$123,'Activity Days'!$B55,'Cleaned SnowMachine Data'!BF$6:BF$123)","v":2},{"$f":"SUMIF('Cleaned SnowMachine Data'!AW$6:AW$123,'Activity Days'!$B55,'Cleaned SnowMachine Data'!BG$6:BG$123)","v":0},{"$f":"SUMIF('Cleaned SnowMachine Data'!AX$6:AX$123,'Activity Days'!$B55,'Cleaned SnowMachine Data'!BH$6:BH$123)","v":0},{"$f":"SUMIF('Cleaned SnowMachine Data'!AY$6:AY$123,'Activity Days'!$B55,'Cleaned SnowMachine Data'!BI$6:BI$123)","v":0},2,null,{"$f":"'Site Codes'!AA53","v":"Lost Lake Trail-Seward"},{"$f":"'Site Codes'!AB53","v":"Snow 50"},{"$f":"SUMIFS('Cleaned SnowMachine Data'!AZ$6:AZ$123,'Cleaned SnowMachine Data'!$E$6:$E$123,1,'Cleaned SnowMachine Data'!AP$6:AP$123,'Activity Days'!$P55)","v":0},{"$f":"SUMIFS('Cleaned SnowMachine Data'!BA$6:BA$123,'Cleaned SnowMachine Data'!$E$6:$E$123,1,'Cleaned SnowMachine Data'!AQ$6:AQ$123,'Activity Days'!$P55)","v":0},{"$f":"SUMIFS('Cleaned SnowMachine Data'!BB$6:BB$123,'Cleaned SnowMachine Data'!$E$6:$E$123,1,'Cleaned SnowMachine Data'!AR$6:AR$123,'Activity Days'!$P55)","v":0},{"$f":"SUMIFS('Cleaned SnowMachine Data'!BC$6:BC$123,'Cleaned SnowMachine Data'!$E$6:$E$123,1,'Cleaned SnowMachine Data'!AS$6:AS$123,'Activity Days'!$P55)","v":0},{"$f":"SUMIFS('Cleaned SnowMachine Data'!BD$6:BD$123,'Cleaned SnowMachine Data'!$E$6:$E$123,1,'Cleaned SnowMachine Data'!AT$6:AT$123,'Activity Days'!$P55)","v":0},{"$f":"SUMIFS('Cleaned SnowMachine Data'!BE$6:BE$123,'Cleaned SnowMachine Data'!$E$6:$E$123,1,'Cleaned SnowMachine Data'!AU$6:AU$123,'Activity Days'!$P55)","v":0},{"$f":"SUMIFS('Cleaned SnowMachine Data'!BF$6:BF$123,'Cleaned SnowMachine Data'!$E$6:$E$123,1,'Cleaned SnowMachine Data'!AV$6:AV$123,'Activity Days'!$P55)","v":0},{"$f":"SUMIFS('Cleaned SnowMachine Data'!BG$6:BG$123,'Cleaned SnowMachine Data'!$E$6:$E$123,1,'Cleaned SnowMachine Data'!AW$6:AW$123,'Activity Days'!$P55)","v":0},{"$f":"SUMIFS('Cleaned SnowMachine Data'!BH$6:BH$123,'Cleaned SnowMachine Data'!$E$6:$E$123,1,'Cleaned SnowMachine Data'!AX$6:AX$123,'Activity Days'!$P55)","v":0},{"$f":"SUMIFS('Cleaned SnowMachine Data'!BI$6:BI$123,'Cleaned SnowMachine Data'!$E$6:$E$123,1,'Cleaned SnowMachine Data'!AY$6:AY$123,'Activity Days'!$P55)","v":0},0]
[{"$f":"'Site Codes'!AA54","v":"Manley Hot Springs"},{"$f":"'Site Codes'!AB54","v":"Snow 51"},{"$f":"SUMIF('Cleaned SnowMachine Data'!AP$6:AP$123,'Activity Days'!$B56,'Cleaned SnowMachine Data'!AZ$6:AZ$123)","v":0},{"$f":"SUMIF('Cleaned SnowMachine Data'!AQ$6:AQ$123,'Activity Days'!$B56,'Cleaned SnowMachine Data'!BA$6:BA$123)","v":0},{"$f":"SUMIF('Cleaned SnowMachine Data'!AR$6:AR$123,'Activity Days'!$B56,'Cleaned SnowMachine Data'!BB$6:BB$123)","v":0},{"$f":"SUMIF('Cleaned SnowMachine Data'!AS$6:AS$123,'Activity Days'!$B56,'Cleaned SnowMachine Data'!BC$6:BC$123)","v":0},{"$f":"SUMIF('Cleaned SnowMachine Data'!AT$6:AT$123,'Activity Days'!$B56,'Cleaned SnowMachine Data'!BD$6:BD$123)","v":0},{"$f":"SUMIF('Cleaned SnowMachine Data'!AU$6:AU$123,'Activity Days'!$B56,'Cleaned SnowMachine Data'!BE$6:BE$123)","v":0},{"$f":"SUMIF('Cleaned SnowMachine Data'!AV$6:AV$123,'Activity Days'!$B56,'Cleaned SnowMachine Data'!BF$6:BF$123)","v":0},{"$f":"SUMIF('Cleaned SnowMachine Data'!AW$6:AW$123,'Activity Days'!$B56,'Cleaned SnowMachine Data'!BG$6:BG$123)","v":0},{"$f":"SUMIF('Cleaned SnowMachine Data'!AX$6:AX$123,'Activity Days'!$B56,'Cleaned SnowMachine Data'!BH$6:BH$123)","v":0},{"$f":"SUMIF('Cleaned SnowMachine Data'!AY$6:AY$123,'Activity Days'!$B56,'Cleaned SnowMachine Data'!BI$6:BI$123)","v":0},0,null,{"$f":"'Site Codes'!AA54","v":"Manley Hot Springs"},{"$f":"'Site Codes'!AB54","v":"Snow 51"},{"$f":"SUMIFS('Cleaned SnowMachine Data'!AZ$6:AZ$123,'Cleaned SnowMachine Data'!$E$6:$E$123,1,'Cleaned SnowMachine Data'!AP$6:AP$123,'Activity Days'!$P56)","v":0},{"$f":"SUMIFS('Cleaned SnowMachine Data'!BA$6:BA$123,'Cleaned SnowMachine Data'!$E$6:$E$123,1,'Cleaned SnowMachine Data'!AQ$6:AQ$123,'Activity Days'!$P56)","v":0},{"$f":"SUMIFS('Cleaned SnowMachine Data'!BB$6:BB$123,'Cleaned SnowMachine Data'!$E$6:$E$123,1,'Cleaned SnowMachine Data'!AR$6:AR$123,'Activity Days'!$P56)","v":0},{"$f":"SUMIFS('Cleaned SnowMachine Data'!BC$6:BC$123,'Cleaned SnowMachine Data'!$E$6:$E$123,1,'Cleaned SnowMachine Data'!AS$6:AS$123,'Activity Days'!$P56)","v":0},{"$f":"SUMIFS('Cleaned SnowMachine Data'!BD$6:BD$123,'Cleaned SnowMachine Data'!$E$6:$E$123,1,'Cleaned SnowMachine Data'!AT$6:AT$123,'Activity Days'!$P56)","v":0},{"$f":"SUMIFS('Cleaned SnowMachine Data'!BE$6:BE$123,'Cleaned SnowMachine Data'!$E$6:$E$123,1,'Cleaned SnowMachine Data'!AU$6:AU$123,'Activity Days'!$P56)","v":0},{"$f":"SUMIFS('Cleaned SnowMachine Data'!BF$6:BF$123,'Cleaned SnowMachine Data'!$E$6:$E$123,1,'Cleaned SnowMachine Data'!AV$6:AV$123,'Activity Days'!$P56)","v":0},{"$f":"SUMIFS('Cleaned SnowMachine Data'!BG$6:BG$123,'Cleaned SnowMachine Data'!$E$6:$E$123,1,'Cleaned SnowMachine Data'!AW$6:AW$123,'Activity Days'!$P56)","v":0},{"$f":"SUMIFS('Cleaned SnowMachine Data'!BH$6:BH$123,'Cleaned SnowMachine Data'!$E$6:$E$123,1,'Cleaned SnowMachine Data'!AX$6:AX$123,'Activity Days'!$P56)","v":0},{"$f":"SUMIFS('Cleaned SnowMachine Data'!BI$6:BI$123,'Cleaned SnowMachine Data'!$E$6:$E$123,1,'Cleaned SnowMachine Data'!AY$6:AY$123,'Activity Days'!$P56)","v":0},0]
[{"$f":"'Site Codes'!AA55","v":"Matanuska River"},{"$f":"'Site Codes'!AB55","v":"Snow 52"},{"$f":"SUMIF('Cleaned SnowMachine Data'!AP$6:AP$123,'Activity Days'!$B57,'Cleaned SnowMachine Data'!AZ$6:AZ$123)","v":0},{"$f":"SUMIF('Cleaned SnowMachine Data'!AQ$6:AQ$123,'Activity Days'!$B57,'Cleaned SnowMachine Data'!BA$6:BA$123)","v":0},{"$f":"SUMIF('Cleaned SnowMachine Data'!AR$6:AR$123,'Activity Days'!$B57,'Cleaned SnowMachine Data'!BB$6:BB$123)","v":0},{"$f":"SUMIF('Cleaned SnowMachine Data'!AS$6:AS$123,'Activity Days'!$B57,'Cleaned SnowMachine Data'!BC$6:BC$123)","v":0},{"$f":"SUMIF('Cleaned SnowMachine Data'!AT$6:AT$123,'Activity Days'!$B57,'Cleaned SnowMachine Data'!BD$6:BD$123)","v":0},{"$f":"SUMIF('Cleaned SnowMachine Data'!AU$6:AU$123,'Activity Days'!$B57,'Cleaned SnowMachine Data'!BE$6:BE$123)","v":0},{"$f":"SUMIF('Cleaned SnowMachine Data'!AV$6:AV$123,'Activity Days'!$B57,'Cleaned SnowMachine Data'!BF$6:BF$123)","v":0},{"$f":"SUMIF('Cleaned SnowMachine Data'!AW$6:AW$123,'Activity Days'!$B57,'Cleaned SnowMachine Data'!BG$6:BG$123)","v":0},{"$f":"SUMIF('Cleaned SnowMachine Data'!AX$6:AX$123,'Activity Days'!$B57,'Cleaned SnowMachine Data'!BH$6:BH$123)","v":0},{"$f":"SUMIF('Cleaned SnowMachine Data'!AY$6:AY$123,'Activity Days'!$B57,'Cleaned SnowMachine Data'!BI$6:BI$123)","v":0},0,null,{"$f":"'Site Codes'!AA55","v":"Matanuska River"},{"$f":"'Site Codes'!AB55","v":"Snow 52"},{"$f":"SUMIFS('Cleaned SnowMachine Data'!AZ$6:AZ$123,'Cleaned SnowMachine Data'!$E$6:$E$123,1,'Cleaned SnowMachine Data'!AP$6:AP$123,'Activity Days'!$P57)","v":0},{"$f":"SUMIFS('Cleaned SnowMachine Data'!BA$6:BA$123,'Cleaned SnowMachine Data'!$E$6:$E$123,1,'Cleaned SnowMachine Data'!AQ$6:AQ$123,'Activity Days'!$P57)","v":0},{"$f":"SUMIFS('Cleaned SnowMachine Data'!BB$6:BB$123,'Cleaned SnowMachine Data'!$E$6:$E$123,1,'Cleaned SnowMachine Data'!AR$6:AR$123,'Activity Days'!$P57)","v":0},{"$f":"SUMIFS('Cleaned SnowMachine Data'!BC$6:BC$123,'Cleaned SnowMachine Data'!$E$6:$E$123,1,'Cleaned SnowMachine Data'!AS$6:AS$123,'Activity Days'!$P57)","v":0},{"$f":"SUMIFS('Cleaned SnowMachine Data'!BD$6:BD$123,'Cleaned SnowMachine Data'!$E$6:$E$123,1,'Cleaned SnowMachine Data'!AT$6:AT$123,'Activity Days'!$P57)","v":0},{"$f":"SUMIFS('Cleaned SnowMachine Data'!BE$6:BE$123,'Cleaned SnowMachine Data'!$E$6:$E$123,1,'Cleaned SnowMachine Data'!AU$6:AU$123,'Activity Days'!$P57)","v":0},{"$f":"SUMIFS('Cleaned SnowMachine Data'!BF$6:BF$123,'Cleaned SnowMachine Data'!$E$6:$E$123,1,'Cleaned SnowMachine Data'!AV$6:AV$123,'Activity Days'!$P57)","v":0},{"$f":"SUMIFS('Cleaned SnowMachine Data'!BG$6:BG$123,'Cleaned SnowMachine Data'!$E$6:$E$123,1,'Cleaned SnowMachine Data'!AW$6:AW$123,'Activity Days'!$P57)","v":0},{"$f":"SUMIFS('Cleaned SnowMachine Data'!BH$6:BH$123,'Cleaned SnowMachine Data'!$E$6:$E$123,1,'Cleaned SnowMachine Data'!AX$6:AX$123,'Activity Days'!$P57)","v":0},{"$f":"SUMIFS('Cleaned SnowMachine Data'!BI$6:BI$123,'Cleaned SnowMachine Data'!$E$6:$E$123,1,'Cleaned SnowMachine Data'!AY$6:AY$123,'Activity Days'!$P57)","v":0},0]
[{"$f":"'Site Codes'!AA56","v":"McCarthy"},{"$f":"'Site Codes'!AB56","v":"Snow 53"},{"$f":"SUMIF('Cleaned SnowMachine Data'!AP$6:AP$123,'Activity Days'!$B58,'Cleaned SnowMachine Data'!AZ$6:AZ$123)","v":0},{"$f":"SUMIF('Cleaned SnowMachine Data'!AQ$6:AQ$123,'Activity Days'!$B58,'Cleaned SnowMachine Data'!BA$6:BA$123)","v":0},{"$f":"SUMIF('Cleaned SnowMachine Data'!AR$6:AR$123,'Activity Days'!$B58,'Cleaned SnowMachine Data'!BB$6:BB$123)","v":0},{"$f":"SUMIF('Cleaned SnowMachine Data'!AS$6:AS$123,'Activity Days'!$B58,'Cleaned SnowMachine Data'!BC$6:BC$123)","v":0},{"$f":"SUMIF('Cleaned SnowMachine Data'!AT$6:AT$123,'Activity Days'!$B58,'Cleaned SnowMachine Data'!BD$6:BD$123)","v":0},{"$f":"SUMIF('Cleaned SnowMachine Data'!AU$6:AU$123,'Activity Days'!$B58,'Cleaned SnowMachine Data'!BE$6:BE$123)","v":0},{"$f":"SUMIF('Cleaned SnowMachine Data'!AV$6:AV$123,'Activity Days'!$B58,'Cleaned SnowMachine Data'!BF$6:BF$123)","v":0},{"$f":"SUMIF('Cleaned SnowMachine Data'!AW$6:AW$123,'Activity Days'!$B58,'Cleaned SnowMachine Data'!BG$6:BG$123)","v":0},{"$f":"SUMIF('Cleaned SnowMachine Data'!AX$6:AX$123,'Activity Days'!$B58,'Cleaned SnowMachine Data'!BH$6:BH$123)","v":0},{"$f":"SUMIF('Cleaned SnowMachine Data'!AY$6:AY$123,'Activity Days'!$B58,'Cleaned SnowMachine Data'!BI$6:BI$123)","v":0},0,null,{"$f":"'Site Codes'!AA56","v":"McCarthy"},{"$f":"'Site Codes'!AB56","v":"Snow 53"},{"$f":"SUMIFS('Cleaned SnowMachine Data'!AZ$6:AZ$123,'Cleaned SnowMachine Data'!$E$6:$E$123,1,'Cleaned SnowMachine Data'!AP$6:AP$123,'Activity Days'!$P58)","v":0},{"$f":"SUMIFS('Cleaned SnowMachine Data'!BA$6:BA$123,'Cleaned SnowMachine Data'!$E$6:$E$123,1,'Cleaned SnowMachine Data'!AQ$6:AQ$123,'Activity Days'!$P58)","v":0},{"$f":"SUMIFS('Cleaned SnowMachine Data'!BB$6:BB$123,'Cleaned SnowMachine Data'!$E$6:$E$123,1,'Cleaned SnowMachine Data'!AR$6:AR$123,'Activity Days'!$P58)","v":0},{"$f":"SUMIFS('Cleaned SnowMachine Data'!BC$6:BC$123,'Cleaned SnowMachine Data'!$E$6:$E$123,1,'Cleaned SnowMachine Data'!AS$6:AS$123,'Activity Days'!$P58)","v":0},{"$f":"SUMIFS('Cleaned SnowMachine Data'!BD$6:BD$123,'Cleaned SnowMachine Data'!$E$6:$E$123,1,'Cleaned SnowMachine Data'!AT$6:AT$123,'Activity Days'!$P58)","v":0},{"$f":"SUMIFS('Cleaned SnowMachine Data'!BE$6:BE$123,'Cleaned SnowMachine Data'!$E$6:$E$123,1,'Cleaned SnowMachine Data'!AU$6:AU$123,'Activity Days'!$P58)","v":0},{"$f":"SUMIFS('Cleaned SnowMachine Data'!BF$6:BF$123,'Cleaned SnowMachine Data'!$E$6:$E$123,1,'Cleaned SnowMachine Data'!AV$6:AV$123,'Activity Days'!$P58)","v":0},{"$f":"SUMIFS('Cleaned SnowMachine Data'!BG$6:BG$123,'Cleaned SnowMachine Data'!$E$6:$E$123,1,'Cleaned SnowMachine Data'!AW$6:AW$123,'Activity Days'!$P58)","v":0},{"$f":"SUMIFS('Cleaned SnowMachine Data'!BH$6:BH$123,'Cleaned SnowMachine Data'!$E$6:$E$123,1,'Cleaned SnowMachine Data'!AX$6:AX$123,'Activity Days'!$P58)","v":0},{"$f":"SUMIFS('Cleaned SnowMachine Data'!BI$6:BI$123,'Cleaned SnowMachine Data'!$E$6:$E$123,1,'Cleaned SnowMachine Data'!AY$6:AY$123,'Activity Days'!$P58)","v":0},0]
[{"$f":"'Site Codes'!AA57","v":"Meadow Lakes-Wasilla"},{"$f":"'Site Codes'!AB57","v":"Snow 54"},{"$f":"SUMIF('Cleaned SnowMachine Data'!AP$6:AP$123,'Activity Days'!$B59,'Cleaned SnowMachine Data'!AZ$6:AZ$123)","v":0},{"$f":"SUMIF('Cleaned SnowMachine Data'!AQ$6:AQ$123,'Activity Days'!$B59,'Cleaned SnowMachine Data'!BA$6:BA$123)","v":0},{"$f":"SUMIF('Cleaned SnowMachine Data'!AR$6:AR$123,'Activity Days'!$B59,'Cleaned SnowMachine Data'!BB$6:BB$123)","v":0},{"$f":"SUMIF('Cleaned SnowMachine Data'!AS$6:AS$123,'Activity Days'!$B59,'Cleaned SnowMachine Data'!BC$6:BC$123)","v":0},{"$f":"SUMIF('Cleaned SnowMachine Data'!AT$6:AT$123,'Activity Days'!$B59,'Cleaned SnowMachine Data'!BD$6:BD$123)","v":0},{"$f":"SUMIF('Cleaned SnowMachine Data'!AU$6:AU$123,'Activity Days'!$B59,'Cleaned SnowMachine Data'!BE$6:BE$123)","v":0},{"$f":"SUMIF('Cleaned SnowMachine Data'!AV$6:AV$123,'Activity Days'!$B59,'Cleaned SnowMachine Data'!BF$6:BF$123)","v":0},{"$f":"SUMIF('Cleaned SnowMachine Data'!AW$6:AW$123,'Activity Days'!$B59,'Cleaned SnowMachine Data'!BG$6:BG$123)","v":0},{"$f":"SUMIF('Cleaned SnowMachine Data'!AX$6:AX$123,'Activity Days'!$B59,'Cleaned SnowMachine Data'!BH$6:BH$123)","v":0},{"$f":"SUMIF('Cleaned SnowMachine Data'!AY$6:AY$123,'Activity Days'!$B59,'Cleaned SnowMachine Data'!BI$6:BI$123)","v":0},0,null,{"$f":"'Site Codes'!AA57","v":"Meadow Lakes-Wasilla"},{"$f":"'Site Codes'!AB57","v":"Snow 54"},{"$f":"SUMIFS('Cleaned SnowMachine Data'!AZ$6:AZ$123,'Cleaned SnowMachine Data'!$E$6:$E$123,1,'Cleaned SnowMachine Data'!AP$6:AP$123,'Activity Days'!$P59)","v":0},{"$f":"SUMIFS('Cleaned SnowMachine Data'!BA$6:BA$123,'Cleaned SnowMachine Data'!$E$6:$E$123,1,'Cleaned SnowMachine Data'!AQ$6:AQ$123,'Activity Days'!$P59)","v":0},{"$f":"SUMIFS('Cleaned SnowMachine Data'!BB$6:BB$123,'Cleaned SnowMachine Data'!$E$6:$E$123,1,'Cleaned SnowMachine Data'!AR$6:AR$123,'Activity Days'!$P59)","v":0},{"$f":"SUMIFS('Cleaned SnowMachine Data'!BC$6:BC$123,'Cleaned SnowMachine Data'!$E$6:$E$123,1,'Cleaned SnowMachine Data'!AS$6:AS$123,'Activity Days'!$P59)","v":0},{"$f":"SUMIFS('Cleaned SnowMachine Data'!BD$6:BD$123,'Cleaned SnowMachine Data'!$E$6:$E$123,1,'Cleaned SnowMachine Data'!AT$6:AT$123,'Activity Days'!$P59)","v":0},{"$f":"SUMIFS('Cleaned SnowMachine Data'!BE$6:BE$123,'Cleaned SnowMachine Data'!$E$6:$E$123,1,'Cleaned SnowMachine Data'!AU$6:AU$123,'Activity Days'!$P59)","v":0},{"$f":"SUMIFS('Cleaned SnowMachine Data'!BF$6:BF$123,'Cleaned SnowMachine Data'!$E$6:$E$123,1,'Cleaned SnowMachine Data'!AV$6:AV$123,'Activity Days'!$P59)","v":0},{"$f":"SUMIFS('Cleaned SnowMachine Data'!BG$6:BG$123,'Cleaned SnowMachine Data'!$E$6:$E$123,1,'Cleaned SnowMachine Data'!AW$6:AW$123,'Activity Days'!$P59)","v":0},{"$f":"SUMIFS('Cleaned SnowMachine Data'!BH$6:BH$123,'Cleaned SnowMachine Data'!$E$6:$E$123,1,'Cleaned SnowMachine Data'!AX$6:AX$123,'Activity Days'!$P59)","v":0},{"$f":"SUMIFS('Cleaned SnowMachine Data'!BI$6:BI$123,'Cleaned SnowMachine Data'!$E$6:$E$123,1,'Cleaned SnowMachine Data'!AY$6:AY$123,'Activity Days'!$P59)","v":0},0]
[{"$f":"'Site Codes'!AA58","v":"Mt. Baldy-Shrock Road"},{"$f":"'Site Codes'!AB58","v":"Snow 55"},{"$f":"SUMIF('Cleaned SnowMachine Data'!AP$6:AP$123,'Activity Days'!$B60,'Cleaned SnowMachine Data'!AZ$6:AZ$123)","v":0},{"$f":"SUMIF('Cleaned SnowMachine Data'!AQ$6:AQ$123,'Activity Days'!$B60,'Cleaned SnowMachine Data'!BA$6:BA$123)","v":0},{"$f":"SUMIF('Cleaned SnowMachine Data'!AR$6:AR$123,'Activity Days'!$B60,'Cleaned SnowMachine Data'!BB$6:BB$123)","v":0},{"$f":"SUMIF('Cleaned SnowMachine Data'!AS$6:AS$123,'Activity Days'!$B60,'Cleaned SnowMachine Data'!BC$6:BC$123)","v":0},{"$f":"SUMIF('Cleaned SnowMachine Data'!AT$6:AT$123,'Activity Days'!$B60,'Cleaned SnowMachine Data'!BD$6:BD$123)","v":0},{"$f":"SUMIF('Cleaned SnowMachine Data'!AU$6:AU$123,'Activity Days'!$B60,'Cleaned SnowMachine Data'!BE$6:BE$123)","v":0},{"$f":"SUMIF('Cleaned SnowMachine Data'!AV$6:AV$123,'Activity Days'!$B60,'Cleaned SnowMachine Data'!BF$6:BF$123)","v":0},{"$f":"SUMIF('Cleaned SnowMachine Data'!AW$6:AW$123,'Activity Days'!$B60,'Cleaned SnowMachine Data'!BG$6:BG$123)","v":0},{"$f":"SUMIF('Cleaned SnowMachine Data'!AX$6:AX$123,'Activity Days'!$B60,'Cleaned SnowMachine Data'!BH$6:BH$123)","v":0},{"$f":"SUMIF('Cleaned SnowMachine Data'!AY$6:AY$123,'Activity Days'!$B60,'Cleaned SnowMachine Data'!BI$6:BI$123)","v":0},0,null,{"$f":"'Site Codes'!AA58","v":"Mt. Baldy-Shrock Road"},{"$f":"'Site Codes'!AB58","v":"Snow 55"},{"$f":"SUMIFS('Cleaned SnowMachine Data'!AZ$6:AZ$123,'Cleaned SnowMachine Data'!$E$6:$E$123,1,'Cleaned SnowMachine Data'!AP$6:AP$123,'Activity Days'!$P60)","v":0},{"$f":"SUMIFS('Cleaned SnowMachine Data'!BA$6:BA$123,'Cleaned SnowMachine Data'!$E$6:$E$123,1,'Cleaned SnowMachine Data'!AQ$6:AQ$123,'Activity Days'!$P60)","v":0},{"$f":"SUMIFS('Cleaned SnowMachine Data'!BB$6:BB$123,'Cleaned SnowMachine Data'!$E$6:$E$123,1,'Cleaned SnowMachine Data'!AR$6:AR$123,'Activity Days'!$P60)","v":0},{"$f":"SUMIFS('Cleaned SnowMachine Data'!BC$6:BC$123,'Cleaned SnowMachine Data'!$E$6:$E$123,1,'Cleaned SnowMachine Data'!AS$6:AS$123,'Activity Days'!$P60)","v":0},{"$f":"SUMIFS('Cleaned SnowMachine Data'!BD$6:BD$123,'Cleaned SnowMachine Data'!$E$6:$E$123,1,'Cleaned SnowMachine Data'!AT$6:AT$123,'Activity Days'!$P60)","v":0},{"$f":"SUMIFS('Cleaned SnowMachine Data'!BE$6:BE$123,'Cleaned SnowMachine Data'!$E$6:$E$123,1,'Cleaned SnowMachine Data'!AU$6:AU$123,'Activity Days'!$P60)","v":0},{"$f":"SUMIFS('Cleaned SnowMachine Data'!BF$6:BF$123,'Cleaned SnowMachine Data'!$E$6:$E$123,1,'Cleaned SnowMachine Data'!AV$6:AV$123,'Activity Days'!$P60)","v":0},{"$f":"SUMIFS('Cleaned SnowMachine Data'!BG$6:BG$123,'Cleaned SnowMachine Data'!$E$6:$E$123,1,'Cleaned SnowMachine Data'!AW$6:AW$123,'Activity Days'!$P60)","v":0},{"$f":"SUMIFS('Cleaned SnowMachine Data'!BH$6:BH$123,'Cleaned SnowMachine Data'!$E$6:$E$123,1,'Cleaned SnowMachine Data'!AX$6:AX$123,'Activity Days'!$P60)","v":0},{"$f":"SUMIFS('Cleaned SnowMachine Data'!BI$6:BI$123,'Cleaned SnowMachine Data'!$E$6:$E$123,1,'Cleaned SnowMachine Data'!AY$6:AY$123,'Activity Days'!$P60)","v":0},0]
[{"$f":"'Site Codes'!AA59","v":"Murphy Dome-Murphy Dome Road"},{"$f":"'Site Codes'!AB59","v":"Snow 56"},{"$f":"SUMIF('Cleaned SnowMachine Data'!AP$6:AP$123,'Activity Days'!$B61,'Cleaned SnowMachine Data'!AZ$6:AZ$123)","v":0},{"$f":"SUMIF('Cleaned SnowMachine Data'!AQ$6:AQ$123,'Activity Days'!$B61,'Cleaned SnowMachine Data'!BA$6:BA$123)","v":0},{"$f":"SUMIF('Cleaned SnowMachine Data'!AR$6:AR$123,'Activity Days'!$B61,'Cleaned SnowMachine Data'!BB$6:BB$123)","v":0},{"$f":"SUMIF('Cleaned SnowMachine Data'!AS$6:AS$123,'Activity Days'!$B61,'Cleaned SnowMachine Data'!BC$6:BC$123)","v":0},{"$f":"SUMIF('Cleaned SnowMachine Data'!AT$6:AT$123,'Activity Days'!$B61,'Cleaned SnowMachine Data'!BD$6:BD$123)","v":0},{"$f":"SUMIF('Cleaned SnowMachine Data'!AU$6:AU$123,'Activity Days'!$B61,'Cleaned SnowMachine Data'!BE$6:BE$123)","v":0},{"$f":"SUMIF('Cleaned SnowMachine Data'!AV$6:AV$123,'Activity Days'!$B61,'Cleaned SnowMachine Data'!BF$6:BF$123)","v":0},{"$f":"SUMIF('Cleaned SnowMachine Data'!AW$6:AW$123,'Activity Days'!$B61,'Cleaned SnowMachine Data'!BG$6:BG$123)","v":0},{"$f":"SUMIF('Cleaned SnowMachine Data'!AX$6:AX$123,'Activity Days'!$B61,'Cleaned SnowMachine Data'!BH$6:BH$123)","v":0},{"$f":"SUMIF('Cleaned SnowMachine Data'!AY$6:AY$123,'Activity Days'!$B61,'Cleaned SnowMachine Data'!BI$6:BI$123)","v":0},0,null,{"$f":"'Site Codes'!AA59","v":"Murphy Dome-Murphy Dome Road"},{"$f":"'Site Codes'!AB59","v":"Snow 56"},{"$f":"SUMIFS('Cleaned SnowMachine Data'!AZ$6:AZ$123,'Cleaned SnowMachine Data'!$E$6:$E$123,1,'Cleaned SnowMachine Data'!AP$6:AP$123,'Activity Days'!$P61)","v":0},{"$f":"SUMIFS('Cleaned SnowMachine Data'!BA$6:BA$123,'Cleaned SnowMachine Data'!$E$6:$E$123,1,'Cleaned SnowMachine Data'!AQ$6:AQ$123,'Activity Days'!$P61)","v":0},{"$f":"SUMIFS('Cleaned SnowMachine Data'!BB$6:BB$123,'Cleaned SnowMachine Data'!$E$6:$E$123,1,'Cleaned SnowMachine Data'!AR$6:AR$123,'Activity Days'!$P61)","v":0},{"$f":"SUMIFS('Cleaned SnowMachine Data'!BC$6:BC$123,'Cleaned SnowMachine Data'!$E$6:$E$123,1,'Cleaned SnowMachine Data'!AS$6:AS$123,'Activity Days'!$P61)","v":0},{"$f":"SUMIFS('Cleaned SnowMachine Data'!BD$6:BD$123,'Cleaned SnowMachine Data'!$E$6:$E$123,1,'Cleaned SnowMachine Data'!AT$6:AT$123,'Activity Days'!$P61)","v":0},{"$f":"SUMIFS('Cleaned SnowMachine Data'!BE$6:BE$123,'Cleaned SnowMachine Data'!$E$6:$E$123,1,'Cleaned SnowMachine Data'!AU$6:AU$123,'Activity Days'!$P61)","v":0},{"$f":"SUMIFS('Cleaned SnowMachine Data'!BF$6:BF$123,'Cleaned SnowMachine Data'!$E$6:$E$123,1,'Cleaned SnowMachine Data'!AV$6:AV$123,'Activity Days'!$P61)","v":0},{"$f":"SUMIFS('Cleaned SnowMachine Data'!BG$6:BG$123,'Cleaned SnowMachine Data'!$E$6:$E$123,1,'Cleaned SnowMachine Data'!AW$6:AW$123,'Activity Days'!$P61)","v":0},{"$f":"SUMIFS('Cleaned SnowMachine Data'!BH$6:BH$123,'Cleaned SnowMachine Data'!$E$6:$E$123,1,'Cleaned SnowMachine Data'!AX$6:AX$123,'Activity Days'!$P61)","v":0},{"$f":"SUMIFS('Cleaned SnowMachine Data'!BI$6:BI$123,'Cleaned SnowMachine Data'!$E$6:$E$123,1,'Cleaned SnowMachine Data'!AY$6:AY$123,'Activity Days'!$P61)","v":0},0]
[{"$f":"'Site Codes'!AA60","v":"Nabesna Area"},{"$f":"'Site Codes'!AB60","v":"Snow 57"},{"$f":"SUMIF('Cleaned SnowMachine Data'!AP$6:AP$123,'Activity Days'!$B62,'Cleaned SnowMachine Data'!AZ$6:AZ$123)","v":0},{"$f":"SUMIF('Cleaned SnowMachine Data'!AQ$6:AQ$123,'Activity Days'!$B62,'Cleaned SnowMachine Data'!BA$6:BA$123)","v":0},{"$f":"SUMIF('Cleaned SnowMachine Data'!AR$6:AR$123,'Activity Days'!$B62,'Cleaned SnowMachine Data'!BB$6:BB$123)","v":0},{"$f":"SUMIF('Cleaned SnowMachine Data'!AS$6:AS$123,'Activity Days'!$B62,'Cleaned SnowMachine Data'!BC$6:BC$123)","v":0},{"$f":"SUMIF('Cleaned SnowMachine Data'!AT$6:AT$123,'Activity Days'!$B62,'Cleaned SnowMachine Data'!BD$6:BD$123)","v":0},{"$f":"SUMIF('Cleaned SnowMachine Data'!AU$6:AU$123,'Activity Days'!$B62,'Cleaned SnowMachine Data'!BE$6:BE$123)","v":0},{"$f":"SUMIF('Cleaned SnowMachine Data'!AV$6:AV$123,'Activity Days'!$B62,'Cleaned SnowMachine Data'!BF$6:BF$123)","v":0},{"$f":"SUMIF('Cleaned SnowMachine Data'!AW$6:AW$123,'Activity Days'!$B62,'Cleaned SnowMachine Data'!BG$6:BG$123)","v":0},{"$f":"SUMIF('Cleaned SnowMachine Data'!AX$6:AX$123,'Activity Days'!$B62,'Cleaned SnowMachine Data'!BH$6:BH$123)","v":0},{"$f":"SUMIF('Cleaned SnowMachine Data'!AY$6:AY$123,'Activity Days'!$B62,'Cleaned SnowMachine Data'!BI$6:BI$123)","v":0},0,null,{"$f":"'Site Codes'!AA60","v":"Nabesna Area"},{"$f":"'Site Codes'!AB60","v":"Snow 57"},{"$f":"SUMIFS('Cleaned SnowMachine Data'!AZ$6:AZ$123,'Cleaned SnowMachine Data'!$E$6:$E$123,1,'Cleaned SnowMachine Data'!AP$6:AP$123,'Activity Days'!$P62)","v":0},{"$f":"SUMIFS('Cleaned SnowMachine Data'!BA$6:BA$123,'Cleaned SnowMachine Data'!$E$6:$E$123,1,'Cleaned SnowMachine Data'!AQ$6:AQ$123,'Activity Days'!$P62)","v":0},{"$f":"SUMIFS('Cleaned SnowMachine Data'!BB$6:BB$123,'Cleaned SnowMachine Data'!$E$6:$E$123,1,'Cleaned SnowMachine Data'!AR$6:AR$123,'Activity Days'!$P62)","v":0},{"$f":"SUMIFS('Cleaned SnowMachine Data'!BC$6:BC$123,'Cleaned SnowMachine Data'!$E$6:$E$123,1,'Cleaned SnowMachine Data'!AS$6:AS$123,'Activity Days'!$P62)","v":0},{"$f":"SUMIFS('Cleaned SnowMachine Data'!BD$6:BD$123,'Cleaned SnowMachine Data'!$E$6:$E$123,1,'Cleaned SnowMachine Data'!AT$6:AT$123,'Activity Days'!$P62)","v":0},{"$f":"SUMIFS('Cleaned SnowMachine Data'!BE$6:BE$123,'Cleaned SnowMachine Data'!$E$6:$E$123,1,'Cleaned SnowMachine Data'!AU$6:AU$123,'Activity Days'!$P62)","v":0},{"$f":"SUMIFS('Cleaned SnowMachine Data'!BF$6:BF$123,'Cleaned SnowMachine Data'!$E$6:$E$123,1,'Cleaned SnowMachine Data'!AV$6:AV$123,'Activity Days'!$P62)","v":0},{"$f":"SUMIFS('Cleaned SnowMachine Data'!BG$6:BG$123,'Cleaned SnowMachine Data'!$E$6:$E$123,1,'Cleaned SnowMachine Data'!AW$6:AW$123,'Activity Days'!$P62)","v":0},{"$f":"SUMIFS('Cleaned SnowMachine Data'!BH$6:BH$123,'Cleaned SnowMachine Data'!$E$6:$E$123,1,'Cleaned SnowMachine Data'!AX$6:AX$123,'Activity Days'!$P62)","v":0},{"$f":"SUMIFS('Cleaned SnowMachine Data'!BI$6:BI$123,'Cleaned SnowMachine Data'!$E$6:$E$123,1,'Cleaned SnowMachine Data'!AY$6:AY$123,'Activity Days'!$P62)","v":0},0]
[{"$f":"'Site Codes'!AA61","v":"Nancy Lakes"},{"$f":"'Site Codes'!AB61","v":"Snow 58"},{"$f":"SUMIF('Cleaned SnowMachine Data'!AP$6:AP$123,'Activity Days'!$B63,'Cleaned SnowMachine Data'!AZ$6:AZ$123)","v":0},{"$f":"SUMIF('Cleaned SnowMachine Data'!AQ$6:AQ$123,'Activity Days'!$B63,'Cleaned SnowMachine Data'!BA$6:BA$123)","v":0},{"$f":"SUMIF('Cleaned SnowMachine Data'!AR$6:AR$123,'Activity Days'!$B63,'Cleaned SnowMachine Data'!BB$6:BB$123)","v":1},{"$f":"SUMIF('Cleaned SnowMachine Data'!AS$6:AS$123,'Activity Days'!$B63,'Cleaned SnowMachine Data'!BC$6:BC$123)","v":0},{"$f":"SUMIF('Cleaned SnowMachine Data'!AT$6:AT$123,'Activity Days'!$B63,'Cleaned SnowMachine Data'!BD$6:BD$123)","v":0},{"$f":"SUMIF('Cleaned SnowMachine Data'!AU$6:AU$123,'Activity Days'!$B63,'Cleaned SnowMachine Data'!BE$6:BE$123)","v":0},{"$f":"SUMIF('Cleaned SnowMachine Data'!AV$6:AV$123,'Activity Days'!$B63,'Cleaned SnowMachine Data'!BF$6:BF$123)","v":0},{"$f":"SUMIF('Cleaned SnowMachine Data'!AW$6:AW$123,'Activity Days'!$B63,'Cleaned SnowMachine Data'!BG$6:BG$123)","v":0},{"$f":"SUMIF('Cleaned SnowMachine Data'!AX$6:AX$123,'Activity Days'!$B63,'Cleaned SnowMachine Data'!BH$6:BH$123)","v":0},{"$f":"SUMIF('Cleaned SnowMachine Data'!AY$6:AY$123,'Activity Days'!$B63,'Cleaned SnowMachine Data'!BI$6:BI$123)","v":0},1,null,{"$f":"'Site Codes'!AA61","v":"Nancy Lakes"},{"$f":"'Site Codes'!AB61","v":"Snow 58"},{"$f":"SUMIFS('Cleaned SnowMachine Data'!AZ$6:AZ$123,'Cleaned SnowMachine Data'!$E$6:$E$123,1,'Cleaned SnowMachine Data'!AP$6:AP$123,'Activity Days'!$P63)","v":0},{"$f":"SUMIFS('Cleaned SnowMachine Data'!BA$6:BA$123,'Cleaned SnowMachine Data'!$E$6:$E$123,1,'Cleaned SnowMachine Data'!AQ$6:AQ$123,'Activity Days'!$P63)","v":0},{"$f":"SUMIFS('Cleaned SnowMachine Data'!BB$6:BB$123,'Cleaned SnowMachine Data'!$E$6:$E$123,1,'Cleaned SnowMachine Data'!AR$6:AR$123,'Activity Days'!$P63)","v":0},{"$f":"SUMIFS('Cleaned SnowMachine Data'!BC$6:BC$123,'Cleaned SnowMachine Data'!$E$6:$E$123,1,'Cleaned SnowMachine Data'!AS$6:AS$123,'Activity Days'!$P63)","v":0},{"$f":"SUMIFS('Cleaned SnowMachine Data'!BD$6:BD$123,'Cleaned SnowMachine Data'!$E$6:$E$123,1,'Cleaned SnowMachine Data'!AT$6:AT$123,'Activity Days'!$P63)","v":0},{"$f":"SUMIFS('Cleaned SnowMachine Data'!BE$6:BE$123,'Cleaned SnowMachine Data'!$E$6:$E$123,1,'Cleaned SnowMachine Data'!AU$6:AU$123,'Activity Days'!$P63)","v":0},{"$f":"SUMIFS('Cleaned SnowMachine Data'!BF$6:BF$123,'Cleaned SnowMachine Data'!$E$6:$E$123,1,'Cleaned SnowMachine Data'!AV$6:AV$123,'Activity Days'!$P63)","v":0},{"$f":"SUMIFS('Cleaned SnowMachine Data'!BG$6:BG$123,'Cleaned SnowMachine Data'!$E$6:$E$123,1,'Cleaned SnowMachine Data'!AW$6:AW$123,'Activity Days'!$P63)","v":0},{"$f":"SUMIFS('Cleaned SnowMachine Data'!BH$6:BH$123,'Cleaned SnowMachine Data'!$E$6:$E$123,1,'Cleaned SnowMachine Data'!AX$6:AX$123,'Activity Days'!$P63)","v":0},{"$f":"SUMIFS('Cleaned SnowMachine Data'!BI$6:BI$123,'Cleaned SnowMachine Data'!$E$6:$E$123,1,'Cleaned SnowMachine Data'!AY$6:AY$123,'Activity Days'!$P63)","v":0},0]
[{"$f":"'Site Codes'!AA62","v":"Nenana"},{"$f":"'Site Codes'!AB62","v":"Snow 59"},{"$f":"SUMIF('Cleaned SnowMachine Data'!AP$6:AP$123,'Activity Days'!$B64,'Cleaned SnowMachine Data'!AZ$6:AZ$123)","v":3},{"$f":"SUMIF('Cleaned SnowMachine Data'!AQ$6:AQ$123,'Activity Days'!$B64,'Cleaned SnowMachine Data'!BA$6:BA$123)","v":0},{"$f":"SUMIF('Cleaned SnowMachine Data'!AR$6:AR$123,'Activity Days'!$B64,'Cleaned SnowMachine Data'!BB$6:BB$123)","v":0},{"$f":"SUMIF('Cleaned SnowMachine Data'!AS$6:AS$123,'Activity Days'!$B64,'Cleaned SnowMachine Data'!BC$6:BC$123)","v":0},{"$f":"SUMIF('Cleaned SnowMachine Data'!AT$6:AT$123,'Activity Days'!$B64,'Cleaned SnowMachine Data'!BD$6:BD$123)","v":0},{"$f":"SUMIF('Cleaned SnowMachine Data'!AU$6:AU$123,'Activity Days'!$B64,'Cleaned SnowMachine Data'!BE$6:BE$123)","v":0},{"$f":"SUMIF('Cleaned SnowMachine Data'!AV$6:AV$123,'Activity Days'!$B64,'Cleaned SnowMachine Data'!BF$6:BF$123)","v":0},{"$f":"SUMIF('Cleaned SnowMachine Data'!AW$6:AW$123,'Activity Days'!$B64,'Cleaned SnowMachine Data'!BG$6:BG$123)","v":0},{"$f":"SUMIF('Cleaned SnowMachine Data'!AX$6:AX$123,'Activity Days'!$B64,'Cleaned SnowMachine Data'!BH$6:BH$123)","v":0},{"$f":"SUMIF('Cleaned SnowMachine Data'!AY$6:AY$123,'Activity Days'!$B64,'Cleaned SnowMachine Data'!BI$6:BI$123)","v":0},3,null,{"$f":"'Site Codes'!AA62","v":"Nenana"},{"$f":"'Site Codes'!AB62","v":"Snow 59"},{"$f":"SUMIFS('Cleaned SnowMachine Data'!AZ$6:AZ$123,'Cleaned SnowMachine Data'!$E$6:$E$123,1,'Cleaned SnowMachine Data'!AP$6:AP$123,'Activity Days'!$P64)","v":0},{"$f":"SUMIFS('Cleaned SnowMachine Data'!BA$6:BA$123,'Cleaned SnowMachine Data'!$E$6:$E$123,1,'Cleaned SnowMachine Data'!AQ$6:AQ$123,'Activity Days'!$P64)","v":0},{"$f":"SUMIFS('Cleaned SnowMachine Data'!BB$6:BB$123,'Cleaned SnowMachine Data'!$E$6:$E$123,1,'Cleaned SnowMachine Data'!AR$6:AR$123,'Activity Days'!$P64)","v":0},{"$f":"SUMIFS('Cleaned SnowMachine Data'!BC$6:BC$123,'Cleaned SnowMachine Data'!$E$6:$E$123,1,'Cleaned SnowMachine Data'!AS$6:AS$123,'Activity Days'!$P64)","v":0},{"$f":"SUMIFS('Cleaned SnowMachine Data'!BD$6:BD$123,'Cleaned SnowMachine Data'!$E$6:$E$123,1,'Cleaned SnowMachine Data'!AT$6:AT$123,'Activity Days'!$P64)","v":0},{"$f":"SUMIFS('Cleaned SnowMachine Data'!BE$6:BE$123,'Cleaned SnowMachine Data'!$E$6:$E$123,1,'Cleaned SnowMachine Data'!AU$6:AU$123,'Activity Days'!$P64)","v":0},{"$f":"SUMIFS('Cleaned SnowMachine Data'!BF$6:BF$123,'Cleaned SnowMachine Data'!$E$6:$E$123,1,'Cleaned SnowMachine Data'!AV$6:AV$123,'Activity Days'!$P64)","v":0},{"$f":"SUMIFS('Cleaned SnowMachine Data'!BG$6:BG$123,'Cleaned SnowMachine Data'!$E$6:$E$123,1,'Cleaned SnowMachine Data'!AW$6:AW$123,'Activity Days'!$P64)","v":0},{"$f":"SUMIFS('Cleaned SnowMachine Data'!BH$6:BH$123,'Cleaned SnowMachine Data'!$E$6:$E$123,1,'Cleaned SnowMachine Data'!AX$6:AX$123,'Activity Days'!$P64)","v":0},{"$f":"SUMIFS('Cleaned SnowMachine Data'!BI$6:BI$123,'Cleaned SnowMachine Data'!$E$6:$E$123,1,'Cleaned SnowMachine Data'!AY$6:AY$123,'Activity Days'!$P64)","v":0},0]
[{"$f":"'Site Codes'!AA63","v":"Palmer"},{"$f":"'Site Codes'!AB63","v":"Snow 60"},{"$f":"SUMIF('Cleaned SnowMachine Data'!AP$6:AP$123,'Activity Days'!$B65,'Cleaned SnowMachine Data'!AZ$6:AZ$123)","v":20},{"$f":"SUMIF('Cleaned SnowMachine Data'!AQ$6:AQ$123,'Activity Days'!$B65,'Cleaned SnowMachine Data'!BA$6:BA$123)","v":28},{"$f":"SUMIF('Cleaned SnowMachine Data'!AR$6:AR$123,'Activity Days'!$B65,'Cleaned SnowMachine Data'!BB$6:BB$123)","v":0},{"$f":"SUMIF('Cleaned SnowMachine Data'!AS$6:AS$123,'Activity Days'!$B65,'Cleaned SnowMachine Data'!BC$6:BC$123)","v":0},{"$f":"SUMIF('Cleaned SnowMachine Data'!AT$6:AT$123,'Activity Days'!$B65,'Cleaned SnowMachine Data'!BD$6:BD$123)","v":0},{"$f":"SUMIF('Cleaned SnowMachine Data'!AU$6:AU$123,'Activity Days'!$B65,'Cleaned SnowMachine Data'!BE$6:BE$123)","v":0},{"$f":"SUMIF('Cleaned SnowMachine Data'!AV$6:AV$123,'Activity Days'!$B65,'Cleaned SnowMachine Data'!BF$6:BF$123)","v":0},{"$f":"SUMIF('Cleaned SnowMachine Data'!AW$6:AW$123,'Activity Days'!$B65,'Cleaned SnowMachine Data'!BG$6:BG$123)","v":0},{"$f":"SUMIF('Cleaned SnowMachine Data'!AX$6:AX$123,'Activity Days'!$B65,'Cleaned SnowMachine Data'!BH$6:BH$123)","v":0},{"$f":"SUMIF('Cleaned SnowMachine Data'!AY$6:AY$123,'Activity Days'!$B65,'Cleaned SnowMachine Data'!BI$6:BI$123)","v":0},48,null,{"$f":"'Site Codes'!AA63","v":"Palmer"},{"$f":"'Site Codes'!AB63","v":"Snow 60"},{"$f":"SUMIFS('Cleaned SnowMachine Data'!AZ$6:AZ$123,'Cleaned SnowMachine Data'!$E$6:$E$123,1,'Cleaned SnowMachine Data'!AP$6:AP$123,'Activity Days'!$P65)","v":0},{"$f":"SUMIFS('Cleaned SnowMachine Data'!BA$6:BA$123,'Cleaned SnowMachine Data'!$E$6:$E$123,1,'Cleaned SnowMachine Data'!AQ$6:AQ$123,'Activity Days'!$P65)","v":0},{"$f":"SUMIFS('Cleaned SnowMachine Data'!BB$6:BB$123,'Cleaned SnowMachine Data'!$E$6:$E$123,1,'Cleaned SnowMachine Data'!AR$6:AR$123,'Activity Days'!$P65)","v":0},{"$f":"SUMIFS('Cleaned SnowMachine Data'!BC$6:BC$123,'Cleaned SnowMachine Data'!$E$6:$E$123,1,'Cleaned SnowMachine Data'!AS$6:AS$123,'Activity Days'!$P65)","v":0},{"$f":"SUMIFS('Cleaned SnowMachine Data'!BD$6:BD$123,'Cleaned SnowMachine Data'!$E$6:$E$123,1,'Cleaned SnowMachine Data'!AT$6:AT$123,'Activity Days'!$P65)","v":0},{"$f":"SUMIFS('Cleaned SnowMachine Data'!BE$6:BE$123,'Cleaned SnowMachine Data'!$E$6:$E$123,1,'Cleaned SnowMachine Data'!AU$6:AU$123,'Activity Days'!$P65)","v":0},{"$f":"SUMIFS('Cleaned SnowMachine Data'!BF$6:BF$123,'Cleaned SnowMachine Data'!$E$6:$E$123,1,'Cleaned SnowMachine Data'!AV$6:AV$123,'Activity Days'!$P65)","v":0},{"$f":"SUMIFS('Cleaned SnowMachine Data'!BG$6:BG$123,'Cleaned SnowMachine Data'!$E$6:$E$123,1,'Cleaned SnowMachine Data'!AW$6:AW$123,'Activity Days'!$P65)","v":0},{"$f":"SUMIFS('Cleaned SnowMachine Data'!BH$6:BH$123,'Cleaned SnowMachine Data'!$E$6:$E$123,1,'Cleaned SnowMachine Data'!AX$6:AX$123,'Activity Days'!$P65)","v":0},{"$f":"SUMIFS('Cleaned SnowMachine Data'!BI$6:BI$123,'Cleaned SnowMachine Data'!$E$6:$E$123,1,'Cleaned SnowMachine Data'!AY$6:AY$123,'Activity Days'!$P65)","v":0},0]
[{"$f":"'Site Codes'!AA64","v":"Paxson Lake--Pipeline Access Road"},{"$f":"'Site Codes'!AB64","v":"Snow 61"},{"$f":"SUMIF('Cleaned SnowMachine Data'!AP$6:AP$123,'Activity Days'!$B66,'Cleaned SnowMachine Data'!AZ$6:AZ$123)","v":0},{"$f":"SUMIF('Cleaned SnowMachine Data'!AQ$6:AQ$123,'Activity Days'!$B66,'Cleaned SnowMachine Data'!BA$6:BA$123)","v":0},{"$f":"SUMIF('Cleaned SnowMachine Data'!AR$6:AR$123,'Activity Days'!$B66,'Cleaned SnowMachine Data'!BB$6:BB$123)","v":0},{"$f":"SUMIF('Cleaned SnowMachine Data'!AS$6:AS$123,'Activity Days'!$B66,'Cleaned SnowMachine Data'!BC$6:BC$123)","v":0},{"$f":"SUMIF('Cleaned SnowMachine Data'!AT$6:AT$123,'Activity Days'!$B66,'Cleaned SnowMachine Data'!BD$6:BD$123)","v":0},{"$f":"SUMIF('Cleaned SnowMachine Data'!AU$6:AU$123,'Activity Days'!$B66,'Cleaned SnowMachine Data'!BE$6:BE$123)","v":0},{"$f":"SUMIF('Cleaned SnowMachine Data'!AV$6:AV$123,'Activity Days'!$B66,'Cleaned SnowMachine Data'!BF$6:BF$123)","v":0},{"$f":"SUMIF('Cleaned SnowMachine Data'!AW$6:AW$123,'Activity Days'!$B66,'Cleaned SnowMachine Data'!BG$6:BG$123)","v":0},{"$f":"SUMIF('Cleaned SnowMachine Data'!AX$6:AX$123,'Activity Days'!$B66,'Cleaned SnowMachine Data'!BH$6:BH$123)","v":0},{"$f":"SUMIF('Cleaned SnowMachine Data'!AY$6:AY$123,'Activity Days'!$B66,'Cleaned SnowMachine Data'!BI$6:BI$123)","v":0},0,null,{"$f":"'Site Codes'!AA64","v":"Paxson Lake--Pipeline Access Road"},{"$f":"'Site Codes'!AB64","v":"Snow 61"},{"$f":"SUMIFS('Cleaned SnowMachine Data'!AZ$6:AZ$123,'Cleaned SnowMachine Data'!$E$6:$E$123,1,'Cleaned SnowMachine Data'!AP$6:AP$123,'Activity Days'!$P66)","v":0},{"$f":"SUMIFS('Cleaned SnowMachine Data'!BA$6:BA$123,'Cleaned SnowMachine Data'!$E$6:$E$123,1,'Cleaned SnowMachine Data'!AQ$6:AQ$123,'Activity Days'!$P66)","v":0},{"$f":"SUMIFS('Cleaned SnowMachine Data'!BB$6:BB$123,'Cleaned SnowMachine Data'!$E$6:$E$123,1,'Cleaned SnowMachine Data'!AR$6:AR$123,'Activity Days'!$P66)","v":0},{"$f":"SUMIFS('Cleaned SnowMachine Data'!BC$6:BC$123,'Cleaned SnowMachine Data'!$E$6:$E$123,1,'Cleaned SnowMachine Data'!AS$6:AS$123,'Activity Days'!$P66)","v":0},{"$f":"SUMIFS('Cleaned SnowMachine Data'!BD$6:BD$123,'Cleaned SnowMachine Data'!$E$6:$E$123,1,'Cleaned SnowMachine Data'!AT$6:AT$123,'Activity Days'!$P66)","v":0},{"$f":"SUMIFS('Cleaned SnowMachine Data'!BE$6:BE$123,'Cleaned SnowMachine Data'!$E$6:$E$123,1,'Cleaned SnowMachine Data'!AU$6:AU$123,'Activity Days'!$P66)","v":0},{"$f":"SUMIFS('Cleaned SnowMachine Data'!BF$6:BF$123,'Cleaned SnowMachine Data'!$E$6:$E$123,1,'Cleaned SnowMachine Data'!AV$6:AV$123,'Activity Days'!$P66)","v":0},{"$f":"SUMIFS('Cleaned SnowMachine Data'!BG$6:BG$123,'Cleaned SnowMachine Data'!$E$6:$E$123,1,'Cleaned SnowMachine Data'!AW$6:AW$123,'Activity Days'!$P66)","v":0},{"$f":"SUMIFS('Cleaned SnowMachine Data'!BH$6:BH$123,'Cleaned SnowMachine Data'!$E$6:$E$123,1,'Cleaned SnowMachine Data'!AX$6:AX$123,'Activity Days'!$P66)","v":0},{"$f":"SUMIFS('Cleaned SnowMachine Data'!BI$6:BI$123,'Cleaned SnowMachine Data'!$E$6:$E$123,1,'Cleaned SnowMachine Data'!AY$6:AY$123,'Activity Days'!$P66)","v":0},0]
[{"$f":"'Site Codes'!AA65","v":"Petersville-East Susitna Side"},{"$f":"'Site Codes'!AB65","v":"Snow 62"},{"$f":"SUMIF('Cleaned SnowMachine Data'!AP$6:AP$123,'Activity Days'!$B67,'Cleaned SnowMachine Data'!AZ$6:AZ$123)","v":0},{"$f":"SUMIF('Cleaned SnowMachine Data'!AQ$6:AQ$123,'Activity Days'!$B67,'Cleaned SnowMachine Data'!BA$6:BA$123)","v":0},{"$f":"SUMIF('Cleaned SnowMachine Data'!AR$6:AR$123,'Activity Days'!$B67,'Cleaned SnowMachine Data'!BB$6:BB$123)","v":0},{"$f":"SUMIF('Cleaned SnowMachine Data'!AS$6:AS$123,'Activity Days'!$B67,'Cleaned SnowMachine Data'!BC$6:BC$123)","v":0},{"$f":"SUMIF('Cleaned SnowMachine Data'!AT$6:AT$123,'Activity Days'!$B67,'Cleaned SnowMachine Data'!BD$6:BD$123)","v":0},{"$f":"SUMIF('Cleaned SnowMachine Data'!AU$6:AU$123,'Activity Days'!$B67,'Cleaned SnowMachine Data'!BE$6:BE$123)","v":0},{"$f":"SUMIF('Cleaned SnowMachine Data'!AV$6:AV$123,'Activity Days'!$B67,'Cleaned SnowMachine Data'!BF$6:BF$123)","v":0},{"$f":"SUMIF('Cleaned SnowMachine Data'!AW$6:AW$123,'Activity Days'!$B67,'Cleaned SnowMachine Data'!BG$6:BG$123)","v":0},{"$f":"SUMIF('Cleaned SnowMachine Data'!AX$6:AX$123,'Activity Days'!$B67,'Cleaned SnowMachine Data'!BH$6:BH$123)","v":0},{"$f":"SUMIF('Cleaned SnowMachine Data'!AY$6:AY$123,'Activity Days'!$B67,'Cleaned SnowMachine Data'!BI$6:BI$123)","v":0},0,null,{"$f":"'Site Codes'!AA65","v":"Petersville-East Susitna Side"},{"$f":"'Site Codes'!AB65","v":"Snow 62"},{"$f":"SUMIFS('Cleaned SnowMachine Data'!AZ$6:AZ$123,'Cleaned SnowMachine Data'!$E$6:$E$123,1,'Cleaned SnowMachine Data'!AP$6:AP$123,'Activity Days'!$P67)","v":0},{"$f":"SUMIFS('Cleaned SnowMachine Data'!BA$6:BA$123,'Cleaned SnowMachine Data'!$E$6:$E$123,1,'Cleaned SnowMachine Data'!AQ$6:AQ$123,'Activity Days'!$P67)","v":0},{"$f":"SUMIFS('Cleaned SnowMachine Data'!BB$6:BB$123,'Cleaned SnowMachine Data'!$E$6:$E$123,1,'Cleaned SnowMachine Data'!AR$6:AR$123,'Activity Days'!$P67)","v":0},{"$f":"SUMIFS('Cleaned SnowMachine Data'!BC$6:BC$123,'Cleaned SnowMachine Data'!$E$6:$E$123,1,'Cleaned SnowMachine Data'!AS$6:AS$123,'Activity Days'!$P67)","v":0},{"$f":"SUMIFS('Cleaned SnowMachine Data'!BD$6:BD$123,'Cleaned SnowMachine Data'!$E$6:$E$123,1,'Cleaned SnowMachine Data'!AT$6:AT$123,'Activity Days'!$P67)","v":0},{"$f":"SUMIFS('Cleaned SnowMachine Data'!BE$6:BE$123,'Cleaned SnowMachine Data'!$E$6:$E$123,1,'Cleaned SnowMachine Data'!AU$6:AU$123,'Activity Days'!$P67)","v":0},{"$f":"SUMIFS('Cleaned SnowMachine Data'!BF$6:BF$123,'Cleaned SnowMachine Data'!$E$6:$E$123,1,'Cleaned SnowMachine Data'!AV$6:AV$123,'Activity Days'!$P67)","v":0},{"$f":"SUMIFS('Cleaned SnowMachine Data'!BG$6:BG$123,'Cleaned SnowMachine Data'!$E$6:$E$123,1,'Cleaned SnowMachine Data'!AW$6:AW$123,'Activity Days'!$P67)","v":0},{"$f":"SUMIFS('Cleaned SnowMachine Data'!BH$6:BH$123,'Cleaned SnowMachine Data'!$E$6:$E$123,1,'Cleaned SnowMachine Data'!AX$6:AX$123,'Activity Days'!$P67)","v":0},{"$f":"SUMIFS('Cleaned SnowMachine Data'!BI$6:BI$123,'Cleaned SnowMachine Data'!$E$6:$E$123,1,'Cleaned SnowMachine Data'!AY$6:AY$123,'Activity Days'!$P67)","v":0},0]
[{"$f":"'Site Codes'!AA66","v":"Petersville-Talkeetna"},{"$f":"'Site Codes'!AB66","v":"Snow 63"},{"$f":"SUMIF('Cleaned SnowMachine Data'!AP$6:AP$123,'Activity Days'!$B68,'Cleaned SnowMachine Data'!AZ$6:AZ$123)","v":2},{"$f":"SUMIF('Cleaned SnowMachine Data'!AQ$6:AQ$123,'Activity Days'!$B68,'Cleaned SnowMachine Data'!BA$6:BA$123)","v":0},{"$f":"SUMIF('Cleaned SnowMachine Data'!AR$6:AR$123,'Activity Days'!$B68,'Cleaned SnowMachine Data'!BB$6:BB$123)","v":0},{"$f":"SUMIF('Cleaned SnowMachine Data'!AS$6:AS$123,'Activity Days'!$B68,'Cleaned SnowMachine Data'!BC$6:BC$123)","v":0},{"$f":"SUMIF('Cleaned SnowMachine Data'!AT$6:AT$123,'Activity Days'!$B68,'Cleaned SnowMachine Data'!BD$6:BD$123)","v":0},{"$f":"SUMIF('Cleaned SnowMachine Data'!AU$6:AU$123,'Activity Days'!$B68,'Cleaned SnowMachine Data'!BE$6:BE$123)","v":0},{"$f":"SUMIF('Cleaned SnowMachine Data'!AV$6:AV$123,'Activity Days'!$B68,'Cleaned SnowMachine Data'!BF$6:BF$123)","v":0},{"$f":"SUMIF('Cleaned SnowMachine Data'!AW$6:AW$123,'Activity Days'!$B68,'Cleaned SnowMachine Data'!BG$6:BG$123)","v":0},{"$f":"SUMIF('Cleaned SnowMachine Data'!AX$6:AX$123,'Activity Days'!$B68,'Cleaned SnowMachine Data'!BH$6:BH$123)","v":0},{"$f":"SUMIF('Cleaned SnowMachine Data'!AY$6:AY$123,'Activity Days'!$B68,'Cleaned SnowMachine Data'!BI$6:BI$123)","v":0},2,null,{"$f":"'Site Codes'!AA66","v":"Petersville-Talkeetna"},{"$f":"'Site Codes'!AB66","v":"Snow 63"},{"$f":"SUMIFS('Cleaned SnowMachine Data'!AZ$6:AZ$123,'Cleaned SnowMachine Data'!$E$6:$E$123,1,'Cleaned SnowMachine Data'!AP$6:AP$123,'Activity Days'!$P68)","v":0},{"$f":"SUMIFS('Cleaned SnowMachine Data'!BA$6:BA$123,'Cleaned SnowMachine Data'!$E$6:$E$123,1,'Cleaned SnowMachine Data'!AQ$6:AQ$123,'Activity Days'!$P68)","v":0},{"$f":"SUMIFS('Cleaned SnowMachine Data'!BB$6:BB$123,'Cleaned SnowMachine Data'!$E$6:$E$123,1,'Cleaned SnowMachine Data'!AR$6:AR$123,'Activity Days'!$P68)","v":0},{"$f":"SUMIFS('Cleaned SnowMachine Data'!BC$6:BC$123,'Cleaned SnowMachine Data'!$E$6:$E$123,1,'Cleaned SnowMachine Data'!AS$6:AS$123,'Activity Days'!$P68)","v":0},{"$f":"SUMIFS('Cleaned SnowMachine Data'!BD$6:BD$123,'Cleaned SnowMachine Data'!$E$6:$E$123,1,'Cleaned SnowMachine Data'!AT$6:AT$123,'Activity Days'!$P68)","v":0},{"$f":"SUMIFS('Cleaned SnowMachine Data'!BE$6:BE$123,'Cleaned SnowMachine Data'!$E$6:$E$123,1,'Cleaned SnowMachine Data'!AU$6:AU$123,'Activity Days'!$P68)","v":0},{"$f":"SUMIFS('Cleaned SnowMachine Data'!BF$6:BF$123,'Cleaned SnowMachine Data'!$E$6:$E$123,1,'Cleaned SnowMachine Data'!AV$6:AV$123,'Activity Days'!$P68)","v":0},{"$f":"SUMIFS('Cleaned SnowMachine Data'!BG$6:BG$123,'Cleaned SnowMachine Data'!$E$6:$E$123,1,'Cleaned SnowMachine Data'!AW$6:AW$123,'Activity Days'!$P68)","v":0},{"$f":"SUMIFS('Cleaned SnowMachine Data'!BH$6:BH$123,'Cleaned SnowMachine Data'!$E$6:$E$123,1,'Cleaned SnowMachine Data'!AX$6:AX$123,'Activity Days'!$P68)","v":0},{"$f":"SUMIFS('Cleaned SnowMachine Data'!BI$6:BI$123,'Cleaned SnowMachine Data'!$E$6:$E$123,1,'Cleaned SnowMachine Data'!AY$6:AY$123,'Activity Days'!$P68)","v":0},0]
[{"$f":"'Site Codes'!AA67","v":"Petersville-West Susitna Side"},{"$f":"'Site Codes'!AB67","v":"Snow 64"},{"$f":"SUMIF('Cleaned SnowMachine Data'!AP$6:AP$123,'Activity Days'!$B69,'Cleaned SnowMachine Data'!AZ$6:AZ$123)","v":199},{"$f":"SUMIF('Cleaned SnowMachine Data'!AQ$6:AQ$123,'Activity Days'!$B69,'Cleaned SnowMachine Data'!BA$6:BA$123)","v":4},{"$f":"SUMIF('Cleaned SnowMachine Data'!AR$6:AR$123,'Activity Days'!$B69,'Cleaned SnowMachine Data'!BB$6:BB$123)","v":0},{"$f":"SUMIF('Cleaned SnowMachine Data'!AS$6:AS$123,'Activity Days'!$B69,'Cleaned SnowMachine Data'!BC$6:BC$123)","v":0},{"$f":"SUMIF('Cleaned SnowMachine Data'!AT$6:AT$123,'Activity Days'!$B69,'Cleaned SnowMachine Data'!BD$6:BD$123)","v":0},{"$f":"SUMIF('Cleaned SnowMachine Data'!AU$6:AU$123,'Activity Days'!$B69,'Cleaned SnowMachine Data'!BE$6:BE$123)","v":0},{"$f":"SUMIF('Cleaned SnowMachine Data'!AV$6:AV$123,'Activity Days'!$B69,'Cleaned SnowMachine Data'!BF$6:BF$123)","v":0},{"$f":"SUMIF('Cleaned SnowMachine Data'!AW$6:AW$123,'Activity Days'!$B69,'Cleaned SnowMachine Data'!BG$6:BG$123)","v":0},{"$f":"SUMIF('Cleaned SnowMachine Data'!AX$6:AX$123,'Activity Days'!$B69,'Cleaned SnowMachine Data'!BH$6:BH$123)","v":0},{"$f":"SUMIF('Cleaned SnowMachine Data'!AY$6:AY$123,'Activity Days'!$B69,'Cleaned SnowMachine Data'!BI$6:BI$123)","v":0},203,null,{"$f":"'Site Codes'!AA67","v":"Petersville-West Susitna Side"},{"$f":"'Site Codes'!AB67","v":"Snow 64"},{"$f":"SUMIFS('Cleaned SnowMachine Data'!AZ$6:AZ$123,'Cleaned SnowMachine Data'!$E$6:$E$123,1,'Cleaned SnowMachine Data'!AP$6:AP$123,'Activity Days'!$P69)","v":59},{"$f":"SUMIFS('Cleaned SnowMachine Data'!BA$6:BA$123,'Cleaned SnowMachine Data'!$E$6:$E$123,1,'Cleaned SnowMachine Data'!AQ$6:AQ$123,'Activity Days'!$P69)","v":0},{"$f":"SUMIFS('Cleaned SnowMachine Data'!BB$6:BB$123,'Cleaned SnowMachine Data'!$E$6:$E$123,1,'Cleaned SnowMachine Data'!AR$6:AR$123,'Activity Days'!$P69)","v":0},{"$f":"SUMIFS('Cleaned SnowMachine Data'!BC$6:BC$123,'Cleaned SnowMachine Data'!$E$6:$E$123,1,'Cleaned SnowMachine Data'!AS$6:AS$123,'Activity Days'!$P69)","v":0},{"$f":"SUMIFS('Cleaned SnowMachine Data'!BD$6:BD$123,'Cleaned SnowMachine Data'!$E$6:$E$123,1,'Cleaned SnowMachine Data'!AT$6:AT$123,'Activity Days'!$P69)","v":0},{"$f":"SUMIFS('Cleaned SnowMachine Data'!BE$6:BE$123,'Cleaned SnowMachine Data'!$E$6:$E$123,1,'Cleaned SnowMachine Data'!AU$6:AU$123,'Activity Days'!$P69)","v":0},{"$f":"SUMIFS('Cleaned SnowMachine Data'!BF$6:BF$123,'Cleaned SnowMachine Data'!$E$6:$E$123,1,'Cleaned SnowMachine Data'!AV$6:AV$123,'Activity Days'!$P69)","v":0},{"$f":"SUMIFS('Cleaned SnowMachine Data'!BG$6:BG$123,'Cleaned SnowMachine Data'!$E$6:$E$123,1,'Cleaned SnowMachine Data'!AW$6:AW$123,'Activity Days'!$P69)","v":0},{"$f":"SUMIFS('Cleaned SnowMachine Data'!BH$6:BH$123,'Cleaned SnowMachine Data'!$E$6:$E$123,1,'Cleaned SnowMachine Data'!AX$6:AX$123,'Activity Days'!$P69)","v":0},{"$f":"SUMIFS('Cleaned SnowMachine Data'!BI$6:BI$123,'Cleaned SnowMachine Data'!$E$6:$E$123,1,'Cleaned SnowMachine Data'!AY$6:AY$123,'Activity Days'!$P69)","v":0},59]
[{"$f":"'Site Codes'!AA68","v":"Portage/Placer Rivers"},{"$f":"'Site Codes'!AB68","v":"Snow 65"},{"$f":"SUMIF('Cleaned SnowMachine Data'!AP$6:AP$123,'Activity Days'!$B70,'Cleaned SnowMachine Data'!AZ$6:AZ$123)","v":2},{"$f":"SUMIF('Cleaned SnowMachine Data'!AQ$6:AQ$123,'Activity Days'!$B70,'Cleaned SnowMachine Data'!BA$6:BA$123)","v":0},{"$f":"SUMIF('Cleaned SnowMachine Data'!AR$6:AR$123,'Activity Days'!$B70,'Cleaned SnowMachine Data'!BB$6:BB$123)","v":0},{"$f":"SUMIF('Cleaned SnowMachine Data'!AS$6:AS$123,'Activity Days'!$B70,'Cleaned SnowMachine Data'!BC$6:BC$123)","v":0},{"$f":"SUMIF('Cleaned SnowMachine Data'!AT$6:AT$123,'Activity Days'!$B70,'Cleaned SnowMachine Data'!BD$6:BD$123)","v":2},{"$f":"SUMIF('Cleaned SnowMachine Data'!AU$6:AU$123,'Activity Days'!$B70,'Cleaned SnowMachine Data'!BE$6:BE$123)","v":0},{"$f":"SUMIF('Cleaned SnowMachine Data'!AV$6:AV$123,'Activity Days'!$B70,'Cleaned SnowMachine Data'!BF$6:BF$123)","v":0},{"$f":"SUMIF('Cleaned SnowMachine Data'!AW$6:AW$123,'Activity Days'!$B70,'Cleaned SnowMachine Data'!BG$6:BG$123)","v":0},{"$f":"SUMIF('Cleaned SnowMachine Data'!AX$6:AX$123,'Activity Days'!$B70,'Cleaned SnowMachine Data'!BH$6:BH$123)","v":0},{"$f":"SUMIF('Cleaned SnowMachine Data'!AY$6:AY$123,'Activity Days'!$B70,'Cleaned SnowMachine Data'!BI$6:BI$123)","v":0},{"$f":"SUM(C70:L70)","v":4},null,{"$f":"'Site Codes'!AA68","v":"Portage/Placer Rivers"},{"$f":"'Site Codes'!AB68","v":"Snow 65"},{"$f":"SUMIFS('Cleaned SnowMachine Data'!AZ$6:AZ$123,'Cleaned SnowMachine Data'!$E$6:$E$123,1,'Cleaned SnowMachine Data'!AP$6:AP$123,'Activity Days'!$P70)","v":0},{"$f":"SUMIFS('Cleaned SnowMachine Data'!BA$6:BA$123,'Cleaned SnowMachine Data'!$E$6:$E$123,1,'Cleaned SnowMachine Data'!AQ$6:AQ$123,'Activity Days'!$P70)","v":0},{"$f":"SUMIFS('Cleaned SnowMachine Data'!BB$6:BB$123,'Cleaned SnowMachine Data'!$E$6:$E$123,1,'Cleaned SnowMachine Data'!AR$6:AR$123,'Activity Days'!$P70)","v":0},{"$f":"SUMIFS('Cleaned SnowMachine Data'!BC$6:BC$123,'Cleaned SnowMachine Data'!$E$6:$E$123,1,'Cleaned SnowMachine Data'!AS$6:AS$123,'Activity Days'!$P70)","v":0},{"$f":"SUMIFS('Cleaned SnowMachine Data'!BD$6:BD$123,'Cleaned SnowMachine Data'!$E$6:$E$123,1,'Cleaned SnowMachine Data'!AT$6:AT$123,'Activity Days'!$P70)","v":0},{"$f":"SUMIFS('Cleaned SnowMachine Data'!BE$6:BE$123,'Cleaned SnowMachine Data'!$E$6:$E$123,1,'Cleaned SnowMachine Data'!AU$6:AU$123,'Activity Days'!$P70)","v":0},{"$f":"SUMIFS('Cleaned SnowMachine Data'!BF$6:BF$123,'Cleaned SnowMachine Data'!$E$6:$E$123,1,'Cleaned SnowMachine Data'!AV$6:AV$123,'Activity Days'!$P70)","v":0},{"$f":"SUMIFS('Cleaned SnowMachine Data'!BG$6:BG$123,'Cleaned SnowMachine Data'!$E$6:$E$123,1,'Cleaned SnowMachine Data'!AW$6:AW$123,'Activity Days'!$P70)","v":0},{"$f":"SUMIFS('Cleaned SnowMachine Data'!BH$6:BH$123,'Cleaned SnowMachine Data'!$E$6:$E$123,1,'Cleaned SnowMachine Data'!AX$6:AX$123,'Activity Days'!$P70)","v":0},{"$f":"SUMIFS('Cleaned SnowMachine Data'!BI$6:BI$123,'Cleaned SnowMachine Data'!$E$6:$E$123,1,'Cleaned SnowMachine Data'!AY$6:AY$123,'Activity Days'!$P70)","v":0},0]
[{"$f":"'Site Codes'!AA69","v":"Powerline Pass- Glen Alps Anchorage"},{"$f":"'Site Codes'!AB69","v":"Snow 66"},{"$f":"SUMIF('Cleaned SnowMachine Data'!AP$6:AP$123,'Activity Days'!$B71,'Cleaned SnowMachine Data'!AZ$6:AZ$123)","v":0},{"$f":"SUMIF('Cleaned SnowMachine Data'!AQ$6:AQ$123,'Activity Days'!$B71,'Cleaned SnowMachine Data'!BA$6:BA$123)","v":0},{"$f":"SUMIF('Cleaned SnowMachine Data'!AR$6:AR$123,'Activity Days'!$B71,'Cleaned SnowMachine Data'!BB$6:BB$123)","v":0},{"$f":"SUMIF('Cleaned SnowMachine Data'!AS$6:AS$123,'Activity Days'!$B71,'Cleaned SnowMachine Data'!BC$6:BC$123)","v":0},{"$f":"SUMIF('Cleaned SnowMachine Data'!AT$6:AT$123,'Activity Days'!$B71,'Cleaned SnowMachine Data'!BD$6:BD$123)","v":0},{"$f":"SUMIF('Cleaned SnowMachine Data'!AU$6:AU$123,'Activity Days'!$B71,'Cleaned SnowMachine Data'!BE$6:BE$123)","v":0},{"$f":"SUMIF('Cleaned SnowMachine Data'!AV$6:AV$123,'Activity Days'!$B71,'Cleaned SnowMachine Data'!BF$6:BF$123)","v":0},{"$f":"SUMIF('Cleaned SnowMachine Data'!AW$6:AW$123,'Activity Days'!$B71,'Cleaned SnowMachine Data'!BG$6:BG$123)","v":0},{"$f":"SUMIF('Cleaned SnowMachine Data'!AX$6:AX$123,'Activity Days'!$B71,'Cleaned SnowMachine Data'!BH$6:BH$123)","v":0},{"$f":"SUMIF('Cleaned SnowMachine Data'!AY$6:AY$123,'Activity Days'!$B71,'Cleaned SnowMachine Data'!BI$6:BI$123)","v":0},0,null,{"$f":"'Site Codes'!AA69","v":"Powerline Pass- Glen Alps Anchorage"},{"$f":"'Site Codes'!AB69","v":"Snow 66"},{"$f":"SUMIFS('Cleaned SnowMachine Data'!AZ$6:AZ$123,'Cleaned SnowMachine Data'!$E$6:$E$123,1,'Cleaned SnowMachine Data'!AP$6:AP$123,'Activity Days'!$P71)","v":0},{"$f":"SUMIFS('Cleaned SnowMachine Data'!BA$6:BA$123,'Cleaned SnowMachine Data'!$E$6:$E$123,1,'Cleaned SnowMachine Data'!AQ$6:AQ$123,'Activity Days'!$P71)","v":0},{"$f":"SUMIFS('Cleaned SnowMachine Data'!BB$6:BB$123,'Cleaned SnowMachine Data'!$E$6:$E$123,1,'Cleaned SnowMachine Data'!AR$6:AR$123,'Activity Days'!$P71)","v":0},{"$f":"SUMIFS('Cleaned SnowMachine Data'!BC$6:BC$123,'Cleaned SnowMachine Data'!$E$6:$E$123,1,'Cleaned SnowMachine Data'!AS$6:AS$123,'Activity Days'!$P71)","v":0},{"$f":"SUMIFS('Cleaned SnowMachine Data'!BD$6:BD$123,'Cleaned SnowMachine Data'!$E$6:$E$123,1,'Cleaned SnowMachine Data'!AT$6:AT$123,'Activity Days'!$P71)","v":0},{"$f":"SUMIFS('Cleaned SnowMachine Data'!BE$6:BE$123,'Cleaned SnowMachine Data'!$E$6:$E$123,1,'Cleaned SnowMachine Data'!AU$6:AU$123,'Activity Days'!$P71)","v":0},{"$f":"SUMIFS('Cleaned SnowMachine Data'!BF$6:BF$123,'Cleaned SnowMachine Data'!$E$6:$E$123,1,'Cleaned SnowMachine Data'!AV$6:AV$123,'Activity Days'!$P71)","v":0},{"$f":"SUMIFS('Cleaned SnowMachine Data'!BG$6:BG$123,'Cleaned SnowMachine Data'!$E$6:$E$123,1,'Cleaned SnowMachine Data'!AW$6:AW$123,'Activity Days'!$P71)","v":0},{"$f":"SUMIFS('Cleaned SnowMachine Data'!BH$6:BH$123,'Cleaned SnowMachine Data'!$E$6:$E$123,1,'Cleaned SnowMachine Data'!AX$6:AX$123,'Activity Days'!$P71)","v":0},{"$f":"SUMIFS('Cleaned SnowMachine Data'!BI$6:BI$123,'Cleaned SnowMachine Data'!$E$6:$E$123,1,'Cleaned SnowMachine Data'!AY$6:AY$123,'Activity Days'!$P71)","v":0},{"$f":"SUM(Q71:Z71)","v":0}]
[{"$f":"'Site Codes'!AA70","v":"Quartz Lake Winter Trail- Valdez"},{"$f":"'Site Codes'!AB70","v":"Snow 67"},{"$f":"SUMIF('Cleaned SnowMachine Data'!AP$6:AP$123,'Activity Days'!$B72,'Cleaned SnowMachine Data'!AZ$6:AZ$123)","v":0},{"$f":"SUMIF('Cleaned SnowMachine Data'!AQ$6:AQ$123,'Activity Days'!$B72,'Cleaned SnowMachine Data'!BA$6:BA$123)","v":0},{"$f":"SUMIF('Cleaned SnowMachine Data'!AR$6:AR$123,'Activity Days'!$B72,'Cleaned SnowMachine Data'!BB$6:BB$123)","v":0},{"$f":"SUMIF('Cleaned SnowMachine Data'!AS$6:AS$123,'Activity Days'!$B72,'Cleaned SnowMachine Data'!BC$6:BC$123)","v":0},{"$f":"SUMIF('Cleaned SnowMachine Data'!AT$6:AT$123,'Activity Days'!$B72,'Cleaned SnowMachine Data'!BD$6:BD$123)","v":0},{"$f":"SUMIF('Cleaned SnowMachine Data'!AU$6:AU$123,'Activity Days'!$B72,'Cleaned SnowMachine Data'!BE$6:BE$123)","v":0},{"$f":"SUMIF('Cleaned SnowMachine Data'!AV$6:AV$123,'Activity Days'!$B72,'Cleaned SnowMachine Data'!BF$6:BF$123)","v":0},{"$f":"SUMIF('Cleaned SnowMachine Data'!AW$6:AW$123,'Activity Days'!$B72,'Cleaned SnowMachine Data'!BG$6:BG$123)","v":0},{"$f":"SUMIF('Cleaned SnowMachine Data'!AX$6:AX$123,'Activity Days'!$B72,'Cleaned SnowMachine Data'!BH$6:BH$123)","v":0},{"$f":"SUMIF('Cleaned SnowMachine Data'!AY$6:AY$123,'Activity Days'!$B72,'Cleaned SnowMachine Data'!BI$6:BI$123)","v":0},0,null,{"$f":"'Site Codes'!AA70","v":"Quartz Lake Winter Trail- Valdez"},{"$f":"'Site Codes'!AB70","v":"Snow 67"},{"$f":"SUMIFS('Cleaned SnowMachine Data'!AZ$6:AZ$123,'Cleaned SnowMachine Data'!$E$6:$E$123,1,'Cleaned SnowMachine Data'!AP$6:AP$123,'Activity Days'!$P72)","v":0},{"$f":"SUMIFS('Cleaned SnowMachine Data'!BA$6:BA$123,'Cleaned SnowMachine Data'!$E$6:$E$123,1,'Cleaned SnowMachine Data'!AQ$6:AQ$123,'Activity Days'!$P72)","v":0},{"$f":"SUMIFS('Cleaned SnowMachine Data'!BB$6:BB$123,'Cleaned SnowMachine Data'!$E$6:$E$123,1,'Cleaned SnowMachine Data'!AR$6:AR$123,'Activity Days'!$P72)","v":0},{"$f":"SUMIFS('Cleaned SnowMachine Data'!BC$6:BC$123,'Cleaned SnowMachine Data'!$E$6:$E$123,1,'Cleaned SnowMachine Data'!AS$6:AS$123,'Activity Days'!$P72)","v":0},{"$f":"SUMIFS('Cleaned SnowMachine Data'!BD$6:BD$123,'Cleaned SnowMachine Data'!$E$6:$E$123,1,'Cleaned SnowMachine Data'!AT$6:AT$123,'Activity Days'!$P72)","v":0},{"$f":"SUMIFS('Cleaned SnowMachine Data'!BE$6:BE$123,'Cleaned SnowMachine Data'!$E$6:$E$123,1,'Cleaned SnowMachine Data'!AU$6:AU$123,'Activity Days'!$P72)","v":0},{"$f":"SUMIFS('Cleaned SnowMachine Data'!BF$6:BF$123,'Cleaned SnowMachine Data'!$E$6:$E$123,1,'Cleaned SnowMachine Data'!AV$6:AV$123,'Activity Days'!$P72)","v":0},{"$f":"SUMIFS('Cleaned SnowMachine Data'!BG$6:BG$123,'Cleaned SnowMachine Data'!$E$6:$E$123,1,'Cleaned SnowMachine Data'!AW$6:AW$123,'Activity Days'!$P72)","v":0},{"$f":"SUMIFS('Cleaned SnowMachine Data'!BH$6:BH$123,'Cleaned SnowMachine Data'!$E$6:$E$123,1,'Cleaned SnowMachine Data'!AX$6:AX$123,'Activity Days'!$P72)","v":0},{"$f":"SUMIFS('Cleaned SnowMachine Data'!BI$6:BI$123,'Cleaned SnowMachine Data'!$E$6:$E$123,1,'Cleaned SnowMachine Data'!AY$6:AY$123,'Activity Days'!$P72)","v":0},0]
[{"$f":"'Site Codes'!AA71","v":"Resurrection Pass Trail-Cooper Landing"},{"$f":"'Site Codes'!AB71","v":"Snow 68"},{"$f":"SUMIF('Cleaned SnowMachine Data'!AP$6:AP$123,'Activity Days'!$B73,'Cleaned SnowMachine Data'!AZ$6:AZ$123)","v":0},{"$f":"SUMIF('Cleaned SnowMachine Data'!AQ$6:AQ$123,'Activity Days'!$B73,'Cleaned SnowMachine Data'!BA$6:BA$123)","v":0},{"$f":"SUMIF('Cleaned SnowMachine Data'!AR$6:AR$123,'Activity Days'!$B73,'Cleaned SnowMachine Data'!BB$6:BB$123)","v":0},{"$f":"SUMIF('Cleaned SnowMachine Data'!AS$6:AS$123,'Activity Days'!$B73,'Cleaned SnowMachine Data'!BC$6:BC$123)","v":0},{"$f":"SUMIF('Cleaned SnowMachine Data'!AT$6:AT$123,'Activity Days'!$B73,'Cleaned SnowMachine Data'!BD$6:BD$123)","v":0},{"$f":"SUMIF('Cleaned SnowMachine Data'!AU$6:AU$123,'Activity Days'!$B73,'Cleaned SnowMachine Data'!BE$6:BE$123)","v":0},{"$f":"SUMIF('Cleaned SnowMachine Data'!AV$6:AV$123,'Activity Days'!$B73,'Cleaned SnowMachine Data'!BF$6:BF$123)","v":0},{"$f":"SUMIF('Cleaned SnowMachine Data'!AW$6:AW$123,'Activity Days'!$B73,'Cleaned SnowMachine Data'!BG$6:BG$123)","v":0},{"$f":"SUMIF('Cleaned SnowMachine Data'!AX$6:AX$123,'Activity Days'!$B73,'Cleaned SnowMachine Data'!BH$6:BH$123)","v":0},{"$f":"SUMIF('Cleaned SnowMachine Data'!AY$6:AY$123,'Activity Days'!$B73,'Cleaned SnowMachine Data'!BI$6:BI$123)","v":0},0,null,{"$f":"'Site Codes'!AA71","v":"Resurrection Pass Trail-Cooper Landing"},{"$f":"'Site Codes'!AB71","v":"Snow 68"},{"$f":"SUMIFS('Cleaned SnowMachine Data'!AZ$6:AZ$123,'Cleaned SnowMachine Data'!$E$6:$E$123,1,'Cleaned SnowMachine Data'!AP$6:AP$123,'Activity Days'!$P73)","v":0},{"$f":"SUMIFS('Cleaned SnowMachine Data'!BA$6:BA$123,'Cleaned SnowMachine Data'!$E$6:$E$123,1,'Cleaned SnowMachine Data'!AQ$6:AQ$123,'Activity Days'!$P73)","v":0},{"$f":"SUMIFS('Cleaned SnowMachine Data'!BB$6:BB$123,'Cleaned SnowMachine Data'!$E$6:$E$123,1,'Cleaned SnowMachine Data'!AR$6:AR$123,'Activity Days'!$P73)","v":0},{"$f":"SUMIFS('Cleaned SnowMachine Data'!BC$6:BC$123,'Cleaned SnowMachine Data'!$E$6:$E$123,1,'Cleaned SnowMachine Data'!AS$6:AS$123,'Activity Days'!$P73)","v":0},{"$f":"SUMIFS('Cleaned SnowMachine Data'!BD$6:BD$123,'Cleaned SnowMachine Data'!$E$6:$E$123,1,'Cleaned SnowMachine Data'!AT$6:AT$123,'Activity Days'!$P73)","v":0},{"$f":"SUMIFS('Cleaned SnowMachine Data'!BE$6:BE$123,'Cleaned SnowMachine Data'!$E$6:$E$123,1,'Cleaned SnowMachine Data'!AU$6:AU$123,'Activity Days'!$P73)","v":0},{"$f":"SUMIFS('Cleaned SnowMachine Data'!BF$6:BF$123,'Cleaned SnowMachine Data'!$E$6:$E$123,1,'Cleaned SnowMachine Data'!AV$6:AV$123,'Activity Days'!$P73)","v":0},{"$f":"SUMIFS('Cleaned SnowMachine Data'!BG$6:BG$123,'Cleaned SnowMachine Data'!$E$6:$E$123,1,'Cleaned SnowMachine Data'!AW$6:AW$123,'Activity Days'!$P73)","v":0},{"$f":"SUMIFS('Cleaned SnowMachine Data'!BH$6:BH$123,'Cleaned SnowMachine Data'!$E$6:$E$123,1,'Cleaned SnowMachine Data'!AX$6:AX$123,'Activity Days'!$P73)","v":0},{"$f":"SUMIFS('Cleaned SnowMachine Data'!BI$6:BI$123,'Cleaned SnowMachine Data'!$E$6:$E$123,1,'Cleaned SnowMachine Data'!AY$6:AY$123,'Activity Days'!$P73)","v":0},0]
[{"$f":"'Site Codes'!AA72","v":"Rex Trail- Nenana"},{"$f":"'Site Codes'!AB72","v":"Snow 69"},{"$f":"SUMIF('Cleaned SnowMachine Data'!AP$6:AP$123,'Activity Days'!$B74,'Cleaned SnowMachine Data'!AZ$6:AZ$123)","v":0},{"$f":"SUMIF('Cleaned SnowMachine Data'!AQ$6:AQ$123,'Activity Days'!$B74,'Cleaned SnowMachine Data'!BA$6:BA$123)","v":0},{"$f":"SUMIF('Cleaned SnowMachine Data'!AR$6:AR$123,'Activity Days'!$B74,'Cleaned SnowMachine Data'!BB$6:BB$123)","v":0},{"$f":"SUMIF('Cleaned SnowMachine Data'!AS$6:AS$123,'Activity Days'!$B74,'Cleaned SnowMachine Data'!BC$6:BC$123)","v":0},{"$f":"SUMIF('Cleaned SnowMachine Data'!AT$6:AT$123,'Activity Days'!$B74,'Cleaned SnowMachine Data'!BD$6:BD$123)","v":0},{"$f":"SUMIF('Cleaned SnowMachine Data'!AU$6:AU$123,'Activity Days'!$B74,'Cleaned SnowMachine Data'!BE$6:BE$123)","v":0},{"$f":"SUMIF('Cleaned SnowMachine Data'!AV$6:AV$123,'Activity Days'!$B74,'Cleaned SnowMachine Data'!BF$6:BF$123)","v":0},{"$f":"SUMIF('Cleaned SnowMachine Data'!AW$6:AW$123,'Activity Days'!$B74,'Cleaned SnowMachine Data'!BG$6:BG$123)","v":0},{"$f":"SUMIF('Cleaned SnowMachine Data'!AX$6:AX$123,'Activity Days'!$B74,'Cleaned SnowMachine Data'!BH$6:BH$123)","v":0},{"$f":"SUMIF('Cleaned SnowMachine Data'!AY$6:AY$123,'Activity Days'!$B74,'Cleaned SnowMachine Data'!BI$6:BI$123)","v":0},0,null,{"$f":"'Site Codes'!AA72","v":"Rex Trail- Nenana"},{"$f":"'Site Codes'!AB72","v":"Snow 69"},{"$f":"SUMIFS('Cleaned SnowMachine Data'!AZ$6:AZ$123,'Cleaned SnowMachine Data'!$E$6:$E$123,1,'Cleaned SnowMachine Data'!AP$6:AP$123,'Activity Days'!$P74)","v":0},{"$f":"SUMIFS('Cleaned SnowMachine Data'!BA$6:BA$123,'Cleaned SnowMachine Data'!$E$6:$E$123,1,'Cleaned SnowMachine Data'!AQ$6:AQ$123,'Activity Days'!$P74)","v":0},{"$f":"SUMIFS('Cleaned SnowMachine Data'!BB$6:BB$123,'Cleaned SnowMachine Data'!$E$6:$E$123,1,'Cleaned SnowMachine Data'!AR$6:AR$123,'Activity Days'!$P74)","v":0},{"$f":"SUMIFS('Cleaned SnowMachine Data'!BC$6:BC$123,'Cleaned SnowMachine Data'!$E$6:$E$123,1,'Cleaned SnowMachine Data'!AS$6:AS$123,'Activity Days'!$P74)","v":0},{"$f":"SUMIFS('Cleaned SnowMachine Data'!BD$6:BD$123,'Cleaned SnowMachine Data'!$E$6:$E$123,1,'Cleaned SnowMachine Data'!AT$6:AT$123,'Activity Days'!$P74)","v":0},{"$f":"SUMIFS('Cleaned SnowMachine Data'!BE$6:BE$123,'Cleaned SnowMachine Data'!$E$6:$E$123,1,'Cleaned SnowMachine Data'!AU$6:AU$123,'Activity Days'!$P74)","v":0},{"$f":"SUMIFS('Cleaned SnowMachine Data'!BF$6:BF$123,'Cleaned SnowMachine Data'!$E$6:$E$123,1,'Cleaned SnowMachine Data'!AV$6:AV$123,'Activity Days'!$P74)","v":0},{"$f":"SUMIFS('Cleaned SnowMachine Data'!BG$6:BG$123,'Cleaned SnowMachine Data'!$E$6:$E$123,1,'Cleaned SnowMachine Data'!AW$6:AW$123,'Activity Days'!$P74)","v":0},{"$f":"SUMIFS('Cleaned SnowMachine Data'!BH$6:BH$123,'Cleaned SnowMachine Data'!$E$6:$E$123,1,'Cleaned SnowMachine Data'!AX$6:AX$123,'Activity Days'!$P74)","v":0},{"$f":"SUMIFS('Cleaned SnowMachine Data'!BI$6:BI$123,'Cleaned SnowMachine Data'!$E$6:$E$123,1,'Cleaned SnowMachine Data'!AY$6:AY$123,'Activity Days'!$P74)","v":0},0]
[{"$f":"'Site Codes'!AA73","v":"Salcha Winter Trail- Salcha"},{"$f":"'Site Codes'!AB73","v":"Snow 70"},{"$f":"SUMIF('Cleaned SnowMachine Data'!AP$6:AP$123,'Activity Days'!$B75,'Cleaned SnowMachine Data'!AZ$6:AZ$123)","v":0},{"$f":"SUMIF('Cleaned SnowMachine Data'!AQ$6:AQ$123,'Activity Days'!$B75,'Cleaned SnowMachine Data'!BA$6:BA$123)","v":0},{"$f":"SUMIF('Cleaned SnowMachine Data'!AR$6:AR$123,'Activity Days'!$B75,'Cleaned SnowMachine Data'!BB$6:BB$123)","v":0},{"$f":"SUMIF('Cleaned SnowMachine Data'!AS$6:AS$123,'Activity Days'!$B75,'Cleaned SnowMachine Data'!BC$6:BC$123)","v":0},{"$f":"SUMIF('Cleaned SnowMachine Data'!AT$6:AT$123,'Activity Days'!$B75,'Cleaned SnowMachine Data'!BD$6:BD$123)","v":0},{"$f":"SUMIF('Cleaned SnowMachine Data'!AU$6:AU$123,'Activity Days'!$B75,'Cleaned SnowMachine Data'!BE$6:BE$123)","v":0},{"$f":"SUMIF('Cleaned SnowMachine Data'!AV$6:AV$123,'Activity Days'!$B75,'Cleaned SnowMachine Data'!BF$6:BF$123)","v":0},{"$f":"SUMIF('Cleaned SnowMachine Data'!AW$6:AW$123,'Activity Days'!$B75,'Cleaned SnowMachine Data'!BG$6:BG$123)","v":0},{"$f":"SUMIF('Cleaned SnowMachine Data'!AX$6:AX$123,'Activity Days'!$B75,'Cleaned SnowMachine Data'!BH$6:BH$123)","v":0},{"$f":"SUMIF('Cleaned SnowMachine Data'!AY$6:AY$123,'Activity Days'!$B75,'Cleaned SnowMachine Data'!BI$6:BI$123)","v":0},0,null,{"$f":"'Site Codes'!AA73","v":"Salcha Winter Trail- Salcha"},{"$f":"'Site Codes'!AB73","v":"Snow 70"},{"$f":"SUMIFS('Cleaned SnowMachine Data'!AZ$6:AZ$123,'Cleaned SnowMachine Data'!$E$6:$E$123,1,'Cleaned SnowMachine Data'!AP$6:AP$123,'Activity Days'!$P75)","v":0},{"$f":"SUMIFS('Cleaned SnowMachine Data'!BA$6:BA$123,'Cleaned SnowMachine Data'!$E$6:$E$123,1,'Cleaned SnowMachine Data'!AQ$6:AQ$123,'Activity Days'!$P75)","v":0},{"$f":"SUMIFS('Cleaned SnowMachine Data'!BB$6:BB$123,'Cleaned SnowMachine Data'!$E$6:$E$123,1,'Cleaned SnowMachine Data'!AR$6:AR$123,'Activity Days'!$P75)","v":0},{"$f":"SUMIFS('Cleaned SnowMachine Data'!BC$6:BC$123,'Cleaned SnowMachine Data'!$E$6:$E$123,1,'Cleaned SnowMachine Data'!AS$6:AS$123,'Activity Days'!$P75)","v":0},{"$f":"SUMIFS('Cleaned SnowMachine Data'!BD$6:BD$123,'Cleaned SnowMachine Data'!$E$6:$E$123,1,'Cleaned SnowMachine Data'!AT$6:AT$123,'Activity Days'!$P75)","v":0},{"$f":"SUMIFS('Cleaned SnowMachine Data'!BE$6:BE$123,'Cleaned SnowMachine Data'!$E$6:$E$123,1,'Cleaned SnowMachine Data'!AU$6:AU$123,'Activity Days'!$P75)","v":0},{"$f":"SUMIFS('Cleaned SnowMachine Data'!BF$6:BF$123,'Cleaned SnowMachine Data'!$E$6:$E$123,1,'Cleaned SnowMachine Data'!AV$6:AV$123,'Activity Days'!$P75)","v":0},{"$f":"SUMIFS('Cleaned SnowMachine Data'!BG$6:BG$123,'Cleaned SnowMachine Data'!$E$6:$E$123,1,'Cleaned SnowMachine Data'!AW$6:AW$123,'Activity Days'!$P75)","v":0},{"$f":"SUMIFS('Cleaned SnowMachine Data'!BH$6:BH$123,'Cleaned SnowMachine Data'!$E$6:$E$123,1,'Cleaned SnowMachine Data'!AX$6:AX$123,'Activity Days'!$P75)","v":0},{"$f":"SUMIFS('Cleaned SnowMachine Data'!BI$6:BI$123,'Cleaned SnowMachine Data'!$E$6:$E$123,1,'Cleaned SnowMachine Data'!AY$6:AY$123,'Activity Days'!$P75)","v":0},0]
[{"$f":"'Site Codes'!AA74","v":"Sheep Creek-Sheep Creek Lodge"},{"$f":"'Site Codes'!AB74","v":"Snow 71"},{"$f":"SUMIF('Cleaned SnowMachine Data'!AP$6:AP$123,'Activity Days'!$B76,'Cleaned SnowMachine Data'!AZ$6:AZ$123)","v":0},{"$f":"SUMIF('Cleaned SnowMachine Data'!AQ$6:AQ$123,'Activity Days'!$B76,'Cleaned SnowMachine Data'!BA$6:BA$123)","v":0},{"$f":"SUMIF('Cleaned SnowMachine Data'!AR$6:AR$123,'Activity Days'!$B76,'Cleaned SnowMachine Data'!BB$6:BB$123)","v":0},{"$f":"SUMIF('Cleaned SnowMachine Data'!AS$6:AS$123,'Activity Days'!$B76,'Cleaned SnowMachine Data'!BC$6:BC$123)","v":0},{"$f":"SUMIF('Cleaned SnowMachine Data'!AT$6:AT$123,'Activity Days'!$B76,'Cleaned SnowMachine Data'!BD$6:BD$123)","v":0},{"$f":"SUMIF('Cleaned SnowMachine Data'!AU$6:AU$123,'Activity Days'!$B76,'Cleaned SnowMachine Data'!BE$6:BE$123)","v":0},{"$f":"SUMIF('Cleaned SnowMachine Data'!AV$6:AV$123,'Activity Days'!$B76,'Cleaned SnowMachine Data'!BF$6:BF$123)","v":0},{"$f":"SUMIF('Cleaned SnowMachine Data'!AW$6:AW$123,'Activity Days'!$B76,'Cleaned SnowMachine Data'!BG$6:BG$123)","v":0},{"$f":"SUMIF('Cleaned SnowMachine Data'!AX$6:AX$123,'Activity Days'!$B76,'Cleaned SnowMachine Data'!BH$6:BH$123)","v":0},{"$f":"SUMIF('Cleaned SnowMachine Data'!AY$6:AY$123,'Activity Days'!$B76,'Cleaned SnowMachine Data'!BI$6:BI$123)","v":0},0,null,{"$f":"'Site Codes'!AA74","v":"Sheep Creek-Sheep Creek Lodge"},{"$f":"'Site Codes'!AB74","v":"Snow 71"},{"$f":"SUMIFS('Cleaned SnowMachine Data'!AZ$6:AZ$123,'Cleaned SnowMachine Data'!$E$6:$E$123,1,'Cleaned SnowMachine Data'!AP$6:AP$123,'Activity Days'!$P76)","v":0},{"$f":"SUMIFS('Cleaned SnowMachine Data'!BA$6:BA$123,'Cleaned SnowMachine Data'!$E$6:$E$123,1,'Cleaned SnowMachine Data'!AQ$6:AQ$123,'Activity Days'!$P76)","v":0},{"$f":"SUMIFS('Cleaned SnowMachine Data'!BB$6:BB$123,'Cleaned SnowMachine Data'!$E$6:$E$123,1,'Cleaned SnowMachine Data'!AR$6:AR$123,'Activity Days'!$P76)","v":0},{"$f":"SUMIFS('Cleaned SnowMachine Data'!BC$6:BC$123,'Cleaned SnowMachine Data'!$E$6:$E$123,1,'Cleaned SnowMachine Data'!AS$6:AS$123,'Activity Days'!$P76)","v":0},{"$f":"SUMIFS('Cleaned SnowMachine Data'!BD$6:BD$123,'Cleaned SnowMachine Data'!$E$6:$E$123,1,'Cleaned SnowMachine Data'!AT$6:AT$123,'Activity Days'!$P76)","v":0},{"$f":"SUMIFS('Cleaned SnowMachine Data'!BE$6:BE$123,'Cleaned SnowMachine Data'!$E$6:$E$123,1,'Cleaned SnowMachine Data'!AU$6:AU$123,'Activity Days'!$P76)","v":0},{"$f":"SUMIFS('Cleaned SnowMachine Data'!BF$6:BF$123,'Cleaned SnowMachine Data'!$E$6:$E$123,1,'Cleaned SnowMachine Data'!AV$6:AV$123,'Activity Days'!$P76)","v":0},{"$f":"SUMIFS('Cleaned SnowMachine Data'!BG$6:BG$123,'Cleaned SnowMachine Data'!$E$6:$E$123,1,'Cleaned SnowMachine Data'!AW$6:AW$123,'Activity Days'!$P76)","v":0},{"$f":"SUMIFS('Cleaned SnowMachine Data'!BH$6:BH$123,'Cleaned SnowMachine Data'!$E$6:$E$123,1,'Cleaned SnowMachine Data'!AX$6:AX$123,'Activity Days'!$P76)","v":0},{"$f":"SUMIFS('Cleaned SnowMachine Data'!BI$6:BI$123,'Cleaned SnowMachine Data'!$E$6:$E$123,1,'Cleaned SnowMachine Data'!AY$6:AY$123,'Activity Days'!$P76)","v":0},0]
[{"$f":"'Site Codes'!AA75","v":"Shishmaref"},{"$f":"'Site Codes'!AB75","v":"Snow 72"},{"$f":"SUMIF('Cleaned SnowMachine Data'!AP$6:AP$123,'Activity Days'!$B77,'Cleaned SnowMachine Data'!AZ$6:AZ$123)","v":0},{"$f":"SUMIF('Cleaned SnowMachine Data'!AQ$6:AQ$123,'Activity Days'!$B77,'Cleaned SnowMachine Data'!BA$6:BA$123)","v":0},{"$f":"SUMIF('Cleaned SnowMachine Data'!AR$6:AR$123,'Activity Days'!$B77,'Cleaned SnowMachine Data'!BB$6:BB$123)","v":0},{"$f":"SUMIF('Cleaned SnowMachine Data'!AS$6:AS$123,'Activity Days'!$B77,'Cleaned SnowMachine Data'!BC$6:BC$123)","v":0},{"$f":"SUMIF('Cleaned SnowMachine Data'!AT$6:AT$123,'Activity Days'!$B77,'Cleaned SnowMachine Data'!BD$6:BD$123)","v":0},{"$f":"SUMIF('Cleaned SnowMachine Data'!AU$6:AU$123,'Activity Days'!$B77,'Cleaned SnowMachine Data'!BE$6:BE$123)","v":0},{"$f":"SUMIF('Cleaned SnowMachine Data'!AV$6:AV$123,'Activity Days'!$B77,'Cleaned SnowMachine Data'!BF$6:BF$123)","v":0},{"$f":"SUMIF('Cleaned SnowMachine Data'!AW$6:AW$123,'Activity Days'!$B77,'Cleaned SnowMachine Data'!BG$6:BG$123)","v":0},{"$f":"SUMIF('Cleaned SnowMachine Data'!AX$6:AX$123,'Activity Days'!$B77,'Cleaned SnowMachine Data'!BH$6:BH$123)","v":0},{"$f":"SUMIF('Cleaned SnowMachine Data'!AY$6:AY$123,'Activity Days'!$B77,'Cleaned SnowMachine Data'!BI$6:BI$123)","v":0},0,null,{"$f":"'Site Codes'!AA75","v":"Shishmaref"},{"$f":"'Site Codes'!AB75","v":"Snow 72"},{"$f":"SUMIFS('Cleaned SnowMachine Data'!AZ$6:AZ$123,'Cleaned SnowMachine Data'!$E$6:$E$123,1,'Cleaned SnowMachine Data'!AP$6:AP$123,'Activity Days'!$P77)","v":0},{"$f":"SUMIFS('Cleaned SnowMachine Data'!BA$6:BA$123,'Cleaned SnowMachine Data'!$E$6:$E$123,1,'Cleaned SnowMachine Data'!AQ$6:AQ$123,'Activity Days'!$P77)","v":0},{"$f":"SUMIFS('Cleaned SnowMachine Data'!BB$6:BB$123,'Cleaned SnowMachine Data'!$E$6:$E$123,1,'Cleaned SnowMachine Data'!AR$6:AR$123,'Activity Days'!$P77)","v":0},{"$f":"SUMIFS('Cleaned SnowMachine Data'!BC$6:BC$123,'Cleaned SnowMachine Data'!$E$6:$E$123,1,'Cleaned SnowMachine Data'!AS$6:AS$123,'Activity Days'!$P77)","v":0},{"$f":"SUMIFS('Cleaned SnowMachine Data'!BD$6:BD$123,'Cleaned SnowMachine Data'!$E$6:$E$123,1,'Cleaned SnowMachine Data'!AT$6:AT$123,'Activity Days'!$P77)","v":0},{"$f":"SUMIFS('Cleaned SnowMachine Data'!BE$6:BE$123,'Cleaned SnowMachine Data'!$E$6:$E$123,1,'Cleaned SnowMachine Data'!AU$6:AU$123,'Activity Days'!$P77)","v":0},{"$f":"SUMIFS('Cleaned SnowMachine Data'!BF$6:BF$123,'Cleaned SnowMachine Data'!$E$6:$E$123,1,'Cleaned SnowMachine Data'!AV$6:AV$123,'Activity Days'!$P77)","v":0},{"$f":"SUMIFS('Cleaned SnowMachine Data'!BG$6:BG$123,'Cleaned SnowMachine Data'!$E$6:$E$123,1,'Cleaned SnowMachine Data'!AW$6:AW$123,'Activity Days'!$P77)","v":0},{"$f":"SUMIFS('Cleaned SnowMachine Data'!BH$6:BH$123,'Cleaned SnowMachine Data'!$E$6:$E$123,1,'Cleaned SnowMachine Data'!AX$6:AX$123,'Activity Days'!$P77)","v":0},{"$f":"SUMIFS('Cleaned SnowMachine Data'!BI$6:BI$123,'Cleaned SnowMachine Data'!$E$6:$E$123,1,'Cleaned SnowMachine Data'!AY$6:AY$123,'Activity Days'!$P77)","v":0},0]
[{"$f":"'Site Codes'!AA76","v":"Skwentna"},{"$f":"'Site Codes'!AB76","v":"Snow 73"},{"$f":"SUMIF('Cleaned SnowMachine Data'!AP$6:AP$123,'Activity Days'!$B78,'Cleaned SnowMachine Data'!AZ$6:AZ$123)","v":0},{"$f":"SUMIF('Cleaned SnowMachine Data'!AQ$6:AQ$123,'Activity Days'!$B78,'Cleaned SnowMachine Data'!BA$6:BA$123)","v":0},{"$f":"SUMIF('Cleaned SnowMachine Data'!AR$6:AR$123,'Activity Days'!$B78,'Cleaned SnowMachine Data'!BB$6:BB$123)","v":0},{"$f":"SUMIF('Cleaned SnowMachine Data'!AS$6:AS$123,'Activity Days'!$B78,'Cleaned SnowMachine Data'!BC$6:BC$123)","v":0},{"$f":"SUMIF('Cleaned SnowMachine Data'!AT$6:AT$123,'Activity Days'!$B78,'Cleaned SnowMachine Data'!BD$6:BD$123)","v":0},{"$f":"SUMIF('Cleaned SnowMachine Data'!AU$6:AU$123,'Activity Days'!$B78,'Cleaned SnowMachine Data'!BE$6:BE$123)","v":0},{"$f":"SUMIF('Cleaned SnowMachine Data'!AV$6:AV$123,'Activity Days'!$B78,'Cleaned SnowMachine Data'!BF$6:BF$123)","v":0},{"$f":"SUMIF('Cleaned SnowMachine Data'!AW$6:AW$123,'Activity Days'!$B78,'Cleaned SnowMachine Data'!BG$6:BG$123)","v":0},{"$f":"SUMIF('Cleaned SnowMachine Data'!AX$6:AX$123,'Activity Days'!$B78,'Cleaned SnowMachine Data'!BH$6:BH$123)","v":0},{"$f":"SUMIF('Cleaned SnowMachine Data'!AY$6:AY$123,'Activity Days'!$B78,'Cleaned SnowMachine Data'!BI$6:BI$123)","v":0},0,null,{"$f":"'Site Codes'!AA76","v":"Skwentna"},{"$f":"'Site Codes'!AB76","v":"Snow 73"},{"$f":"SUMIFS('Cleaned SnowMachine Data'!AZ$6:AZ$123,'Cleaned SnowMachine Data'!$E$6:$E$123,1,'Cleaned SnowMachine Data'!AP$6:AP$123,'Activity Days'!$P78)","v":0},{"$f":"SUMIFS('Cleaned SnowMachine Data'!BA$6:BA$123,'Cleaned SnowMachine Data'!$E$6:$E$123,1,'Cleaned SnowMachine Data'!AQ$6:AQ$123,'Activity Days'!$P78)","v":0},{"$f":"SUMIFS('Cleaned SnowMachine Data'!BB$6:BB$123,'Cleaned SnowMachine Data'!$E$6:$E$123,1,'Cleaned SnowMachine Data'!AR$6:AR$123,'Activity Days'!$P78)","v":0},{"$f":"SUMIFS('Cleaned SnowMachine Data'!BC$6:BC$123,'Cleaned SnowMachine Data'!$E$6:$E$123,1,'Cleaned SnowMachine Data'!AS$6:AS$123,'Activity Days'!$P78)","v":0},{"$f":"SUMIFS('Cleaned SnowMachine Data'!BD$6:BD$123,'Cleaned SnowMachine Data'!$E$6:$E$123,1,'Cleaned SnowMachine Data'!AT$6:AT$123,'Activity Days'!$P78)","v":0},{"$f":"SUMIFS('Cleaned SnowMachine Data'!BE$6:BE$123,'Cleaned SnowMachine Data'!$E$6:$E$123,1,'Cleaned SnowMachine Data'!AU$6:AU$123,'Activity Days'!$P78)","v":0},{"$f":"SUMIFS('Cleaned SnowMachine Data'!BF$6:BF$123,'Cleaned SnowMachine Data'!$E$6:$E$123,1,'Cleaned SnowMachine Data'!AV$6:AV$123,'Activity Days'!$P78)","v":0},{"$f":"SUMIFS('Cleaned SnowMachine Data'!BG$6:BG$123,'Cleaned SnowMachine Data'!$E$6:$E$123,1,'Cleaned SnowMachine Data'!AW$6:AW$123,'Activity Days'!$P78)","v":0},{"$f":"SUMIFS('Cleaned SnowMachine Data'!BH$6:BH$123,'Cleaned SnowMachine Data'!$E$6:$E$123,1,'Cleaned SnowMachine Data'!AX$6:AX$123,'Activity Days'!$P78)","v":0},{"$f":"SUMIFS('Cleaned SnowMachine Data'!BI$6:BI$123,'Cleaned SnowMachine Data'!$E$6:$E$123,1,'Cleaned SnowMachine Data'!AY$6:AY$123,'Activity Days'!$P78)","v":0},0]
[{"$f":"'Site Codes'!AA77","v":"Skwentna River--Deshka Landing"},{"$f":"'Site Codes'!AB77","v":"Snow 74"},{"$f":"SUMIF('Cleaned SnowMachine Data'!AP$6:AP$123,'Activity Days'!$B79,'Cleaned SnowMachine Data'!AZ$6:AZ$123)","v":5},{"$f":"SUMIF('Cleaned SnowMachine Data'!AQ$6:AQ$123,'Activity Days'!$B79,'Cleaned SnowMachine Data'!BA$6:BA$123)","v":0},{"$f":"SUMIF('Cleaned SnowMachine Data'!AR$6:AR$123,'Activity Days'!$B79,'Cleaned SnowMachine Data'!BB$6:BB$123)","v":0},{"$f":"SUMIF('Cleaned SnowMachine Data'!AS$6:AS$123,'Activity Days'!$B79,'Cleaned SnowMachine Data'!BC$6:BC$123)","v":0},{"$f":"SUMIF('Cleaned SnowMachine Data'!AT$6:AT$123,'Activity Days'!$B79,'Cleaned SnowMachine Data'!BD$6:BD$123)","v":0},{"$f":"SUMIF('Cleaned SnowMachine Data'!AU$6:AU$123,'Activity Days'!$B79,'Cleaned SnowMachine Data'!BE$6:BE$123)","v":0},{"$f":"SUMIF('Cleaned SnowMachine Data'!AV$6:AV$123,'Activity Days'!$B79,'Cleaned SnowMachine Data'!BF$6:BF$123)","v":0},{"$f":"SUMIF('Cleaned SnowMachine Data'!AW$6:AW$123,'Activity Days'!$B79,'Cleaned SnowMachine Data'!BG$6:BG$123)","v":0},{"$f":"SUMIF('Cleaned SnowMachine Data'!AX$6:AX$123,'Activity Days'!$B79,'Cleaned SnowMachine Data'!BH$6:BH$123)","v":0},{"$f":"SUMIF('Cleaned SnowMachine Data'!AY$6:AY$123,'Activity Days'!$B79,'Cleaned SnowMachine Data'!BI$6:BI$123)","v":0},5,null,{"$f":"'Site Codes'!AA77","v":"Skwentna River--Deshka Landing"},{"$f":"'Site Codes'!AB77","v":"Snow 74"},{"$f":"SUMIFS('Cleaned SnowMachine Data'!AZ$6:AZ$123,'Cleaned SnowMachine Data'!$E$6:$E$123,1,'Cleaned SnowMachine Data'!AP$6:AP$123,'Activity Days'!$P79)","v":0},{"$f":"SUMIFS('Cleaned SnowMachine Data'!BA$6:BA$123,'Cleaned SnowMachine Data'!$E$6:$E$123,1,'Cleaned SnowMachine Data'!AQ$6:AQ$123,'Activity Days'!$P79)","v":0},{"$f":"SUMIFS('Cleaned SnowMachine Data'!BB$6:BB$123,'Cleaned SnowMachine Data'!$E$6:$E$123,1,'Cleaned SnowMachine Data'!AR$6:AR$123,'Activity Days'!$P79)","v":0},{"$f":"SUMIFS('Cleaned SnowMachine Data'!BC$6:BC$123,'Cleaned SnowMachine Data'!$E$6:$E$123,1,'Cleaned SnowMachine Data'!AS$6:AS$123,'Activity Days'!$P79)","v":0},{"$f":"SUMIFS('Cleaned SnowMachine Data'!BD$6:BD$123,'Cleaned SnowMachine Data'!$E$6:$E$123,1,'Cleaned SnowMachine Data'!AT$6:AT$123,'Activity Days'!$P79)","v":0},{"$f":"SUMIFS('Cleaned SnowMachine Data'!BE$6:BE$123,'Cleaned SnowMachine Data'!$E$6:$E$123,1,'Cleaned SnowMachine Data'!AU$6:AU$123,'Activity Days'!$P79)","v":0},{"$f":"SUMIFS('Cleaned SnowMachine Data'!BF$6:BF$123,'Cleaned SnowMachine Data'!$E$6:$E$123,1,'Cleaned SnowMachine Data'!AV$6:AV$123,'Activity Days'!$P79)","v":0},{"$f":"SUMIFS('Cleaned SnowMachine Data'!BG$6:BG$123,'Cleaned SnowMachine Data'!$E$6:$E$123,1,'Cleaned SnowMachine Data'!AW$6:AW$123,'Activity Days'!$P79)","v":0},{"$f":"SUMIFS('Cleaned SnowMachine Data'!BH$6:BH$123,'Cleaned SnowMachine Data'!$E$6:$E$123,1,'Cleaned SnowMachine Data'!AX$6:AX$123,'Activity Days'!$P79)","v":0},{"$f":"SUMIFS('Cleaned SnowMachine Data'!BI$6:BI$123,'Cleaned SnowMachine Data'!$E$6:$E$123,1,'Cleaned SnowMachine Data'!AY$6:AY$123,'Activity Days'!$P79)","v":0},0]
[{"$f":"'Site Codes'!AA78","v":"Susitna North-Denali"},{"$f":"'Site Codes'!AB78","v":"Snow 75"},{"$f":"SUMIF('Cleaned SnowMachine Data'!AP$6:AP$123,'Activity Days'!$B80,'Cleaned SnowMachine Data'!AZ$6:AZ$123)","v":0},{"$f":"SUMIF('Cleaned SnowMachine Data'!AQ$6:AQ$123,'Activity Days'!$B80,'Cleaned SnowMachine Data'!BA$6:BA$123)","v":0},{"$f":"SUMIF('Cleaned SnowMachine Data'!AR$6:AR$123,'Activity Days'!$B80,'Cleaned SnowMachine Data'!BB$6:BB$123)","v":0},{"$f":"SUMIF('Cleaned SnowMachine Data'!AS$6:AS$123,'Activity Days'!$B80,'Cleaned SnowMachine Data'!BC$6:BC$123)","v":0},{"$f":"SUMIF('Cleaned SnowMachine Data'!AT$6:AT$123,'Activity Days'!$B80,'Cleaned SnowMachine Data'!BD$6:BD$123)","v":0},{"$f":"SUMIF('Cleaned SnowMachine Data'!AU$6:AU$123,'Activity Days'!$B80,'Cleaned SnowMachine Data'!BE$6:BE$123)","v":0},{"$f":"SUMIF('Cleaned SnowMachine Data'!AV$6:AV$123,'Activity Days'!$B80,'Cleaned SnowMachine Data'!BF$6:BF$123)","v":0},{"$f":"SUMIF('Cleaned SnowMachine Data'!AW$6:AW$123,'Activity Days'!$B80,'Cleaned SnowMachine Data'!BG$6:BG$123)","v":0},{"$f":"SUMIF('Cleaned SnowMachine Data'!AX$6:AX$123,'Activity Days'!$B80,'Cleaned SnowMachine Data'!BH$6:BH$123)","v":0},{"$f":"SUMIF('Cleaned SnowMachine Data'!AY$6:AY$123,'Activity Days'!$B80,'Cleaned SnowMachine Data'!BI$6:BI$123)","v":0},0,null,{"$f":"'Site Codes'!AA78","v":"Susitna North-Denali"},{"$f":"'Site Codes'!AB78","v":"Snow 75"},{"$f":"SUMIFS('Cleaned SnowMachine Data'!AZ$6:AZ$123,'Cleaned SnowMachine Data'!$E$6:$E$123,1,'Cleaned SnowMachine Data'!AP$6:AP$123,'Activity Days'!$P80)","v":0},{"$f":"SUMIFS('Cleaned SnowMachine Data'!BA$6:BA$123,'Cleaned SnowMachine Data'!$E$6:$E$123,1,'Cleaned SnowMachine Data'!AQ$6:AQ$123,'Activity Days'!$P80)","v":0},{"$f":"SUMIFS('Cleaned SnowMachine Data'!BB$6:BB$123,'Cleaned SnowMachine Data'!$E$6:$E$123,1,'Cleaned SnowMachine Data'!AR$6:AR$123,'Activity Days'!$P80)","v":0},{"$f":"SUMIFS('Cleaned SnowMachine Data'!BC$6:BC$123,'Cleaned SnowMachine Data'!$E$6:$E$123,1,'Cleaned SnowMachine Data'!AS$6:AS$123,'Activity Days'!$P80)","v":0},{"$f":"SUMIFS('Cleaned SnowMachine Data'!BD$6:BD$123,'Cleaned SnowMachine Data'!$E$6:$E$123,1,'Cleaned SnowMachine Data'!AT$6:AT$123,'Activity Days'!$P80)","v":0},{"$f":"SUMIFS('Cleaned SnowMachine Data'!BE$6:BE$123,'Cleaned SnowMachine Data'!$E$6:$E$123,1,'Cleaned SnowMachine Data'!AU$6:AU$123,'Activity Days'!$P80)","v":0},{"$f":"SUMIFS('Cleaned SnowMachine Data'!BF$6:BF$123,'Cleaned SnowMachine Data'!$E$6:$E$123,1,'Cleaned SnowMachine Data'!AV$6:AV$123,'Activity Days'!$P80)","v":0},{"$f":"SUMIFS('Cleaned SnowMachine Data'!BG$6:BG$123,'Cleaned SnowMachine Data'!$E$6:$E$123,1,'Cleaned SnowMachine Data'!AW$6:AW$123,'Activity Days'!$P80)","v":0},{"$f":"SUMIFS('Cleaned SnowMachine Data'!BH$6:BH$123,'Cleaned SnowMachine Data'!$E$6:$E$123,1,'Cleaned SnowMachine Data'!AX$6:AX$123,'Activity Days'!$P80)","v":0},{"$f":"SUMIFS('Cleaned SnowMachine Data'!BI$6:BI$123,'Cleaned SnowMachine Data'!$E$6:$E$123,1,'Cleaned SnowMachine Data'!AY$6:AY$123,'Activity Days'!$P80)","v":0},0]
[{"$f":"'Site Codes'!AA79","v":"Susitna River (Lower)- West Side Residence"},{"$f":"'Site Codes'!AB79","v":"Snow 76"},{"$f":"SUMIF('Cleaned SnowMachine Data'!AP$6:AP$123,'Activity Days'!$B81,'Cleaned SnowMachine Data'!AZ$6:AZ$123)","v":0},{"$f":"SUMIF('Cleaned SnowMachine Data'!AQ$6:AQ$123,'Activity Days'!$B81,'Cleaned SnowMachine Data'!BA$6:BA$123)","v":0},{"$f":"SUMIF('Cleaned SnowMachine Data'!AR$6:AR$123,'Activity Days'!$B81,'Cleaned SnowMachine Data'!BB$6:BB$123)","v":0},{"$f":"SUMIF('Cleaned SnowMachine Data'!AS$6:AS$123,'Activity Days'!$B81,'Cleaned SnowMachine Data'!BC$6:BC$123)","v":0},{"$f":"SUMIF('Cleaned SnowMachine Data'!AT$6:AT$123,'Activity Days'!$B81,'Cleaned SnowMachine Data'!BD$6:BD$123)","v":0},{"$f":"SUMIF('Cleaned SnowMachine Data'!AU$6:AU$123,'Activity Days'!$B81,'Cleaned SnowMachine Data'!BE$6:BE$123)","v":0},{"$f":"SUMIF('Cleaned SnowMachine Data'!AV$6:AV$123,'Activity Days'!$B81,'Cleaned SnowMachine Data'!BF$6:BF$123)","v":0},{"$f":"SUMIF('Cleaned SnowMachine Data'!AW$6:AW$123,'Activity Days'!$B81,'Cleaned SnowMachine Data'!BG$6:BG$123)","v":0},{"$f":"SUMIF('Cleaned SnowMachine Data'!AX$6:AX$123,'Activity Days'!$B81,'Cleaned SnowMachine Data'!BH$6:BH$123)","v":0},{"$f":"SUMIF('Cleaned SnowMachine Data'!AY$6:AY$123,'Activity Days'!$B81,'Cleaned SnowMachine Data'!BI$6:BI$123)","v":0},0,null,{"$f":"'Site Codes'!AA79","v":"Susitna River (Lower)- West Side Residence"},{"$f":"'Site Codes'!AB79","v":"Snow 76"},{"$f":"SUMIFS('Cleaned SnowMachine Data'!AZ$6:AZ$123,'Cleaned SnowMachine Data'!$E$6:$E$123,1,'Cleaned SnowMachine Data'!AP$6:AP$123,'Activity Days'!$P81)","v":0},{"$f":"SUMIFS('Cleaned SnowMachine Data'!BA$6:BA$123,'Cleaned SnowMachine Data'!$E$6:$E$123,1,'Cleaned SnowMachine Data'!AQ$6:AQ$123,'Activity Days'!$P81)","v":0},{"$f":"SUMIFS('Cleaned SnowMachine Data'!BB$6:BB$123,'Cleaned SnowMachine Data'!$E$6:$E$123,1,'Cleaned SnowMachine Data'!AR$6:AR$123,'Activity Days'!$P81)","v":0},{"$f":"SUMIFS('Cleaned SnowMachine Data'!BC$6:BC$123,'Cleaned SnowMachine Data'!$E$6:$E$123,1,'Cleaned SnowMachine Data'!AS$6:AS$123,'Activity Days'!$P81)","v":0},{"$f":"SUMIFS('Cleaned SnowMachine Data'!BD$6:BD$123,'Cleaned SnowMachine Data'!$E$6:$E$123,1,'Cleaned SnowMachine Data'!AT$6:AT$123,'Activity Days'!$P81)","v":0},{"$f":"SUMIFS('Cleaned SnowMachine Data'!BE$6:BE$123,'Cleaned SnowMachine Data'!$E$6:$E$123,1,'Cleaned SnowMachine Data'!AU$6:AU$123,'Activity Days'!$P81)","v":0},{"$f":"SUMIFS('Cleaned SnowMachine Data'!BF$6:BF$123,'Cleaned SnowMachine Data'!$E$6:$E$123,1,'Cleaned SnowMachine Data'!AV$6:AV$123,'Activity Days'!$P81)","v":0},{"$f":"SUMIFS('Cleaned SnowMachine Data'!BG$6:BG$123,'Cleaned SnowMachine Data'!$E$6:$E$123,1,'Cleaned SnowMachine Data'!AW$6:AW$123,'Activity Days'!$P81)","v":0},{"$f":"SUMIFS('Cleaned SnowMachine Data'!BH$6:BH$123,'Cleaned SnowMachine Data'!$E$6:$E$123,1,'Cleaned SnowMachine Data'!AX$6:AX$123,'Activity Days'!$P81)","v":0},{"$f":"SUMIFS('Cleaned SnowMachine Data'!BI$6:BI$123,'Cleaned SnowMachine Data'!$E$6:$E$123,1,'Cleaned SnowMachine Data'!AY$6:AY$123,'Activity Days'!$P81)","v":0},0]
[{"$f":"'Site Codes'!AA80","v":"Susitna River-Deshka Landing"},{"$f":"'Site Codes'!AB80","v":"Snow 77"},{"$f":"SUMIF('Cleaned SnowMachine Data'!AP$6:AP$123,'Activity Days'!$B82,'Cleaned SnowMachine Data'!AZ$6:AZ$123)","v":0},{"$f":"SUMIF('Cleaned SnowMachine Data'!AQ$6:AQ$123,'Activity Days'!$B82,'Cleaned SnowMachine Data'!BA$6:BA$123)","v":0},{"$f":"SUMIF('Cleaned SnowMachine Data'!AR$6:AR$123,'Activity Days'!$B82,'Cleaned SnowMachine Data'!BB$6:BB$123)","v":0},{"$f":"SUMIF('Cleaned SnowMachine Data'!AS$6:AS$123,'Activity Days'!$B82,'Cleaned SnowMachine Data'!BC$6:BC$123)","v":0},{"$f":"SUMIF('Cleaned SnowMachine Data'!AT$6:AT$123,'Activity Days'!$B82,'Cleaned SnowMachine Data'!BD$6:BD$123)","v":0},{"$f":"SUMIF('Cleaned SnowMachine Data'!AU$6:AU$123,'Activity Days'!$B82,'Cleaned SnowMachine Data'!BE$6:BE$123)","v":0},{"$f":"SUMIF('Cleaned SnowMachine Data'!AV$6:AV$123,'Activity Days'!$B82,'Cleaned SnowMachine Data'!BF$6:BF$123)","v":0},{"$f":"SUMIF('Cleaned SnowMachine Data'!AW$6:AW$123,'Activity Days'!$B82,'Cleaned SnowMachine Data'!BG$6:BG$123)","v":0},{"$f":"SUMIF('Cleaned SnowMachine Data'!AX$6:AX$123,'Activity Days'!$B82,'Cleaned SnowMachine Data'!BH$6:BH$123)","v":0},{"$f":"SUMIF('Cleaned SnowMachine Data'!AY$6:AY$123,'Activity Days'!$B82,'Cleaned SnowMachine Data'!BI$6:BI$123)","v":0},0,null,{"$f":"'Site Codes'!AA80","v":"Susitna River-Deshka Landing"},{"$f":"'Site Codes'!AB80","v":"Snow 77"},{"$f":"SUMIFS('Cleaned SnowMachine Data'!AZ$6:AZ$123,'Cleaned SnowMachine Data'!$E$6:$E$123,1,'Cleaned SnowMachine Data'!AP$6:AP$123,'Activity Days'!$P82)","v":0},{"$f":"SUMIFS('Cleaned SnowMachine Data'!BA$6:BA$123,'Cleaned SnowMachine Data'!$E$6:$E$123,1,'Cleaned SnowMachine Data'!AQ$6:AQ$123,'Activity Days'!$P82)","v":0},{"$f":"SUMIFS('Cleaned SnowMachine Data'!BB$6:BB$123,'Cleaned SnowMachine Data'!$E$6:$E$123,1,'Cleaned SnowMachine Data'!AR$6:AR$123,'Activity Days'!$P82)","v":0},{"$f":"SUMIFS('Cleaned SnowMachine Data'!BC$6:BC$123,'Cleaned SnowMachine Data'!$E$6:$E$123,1,'Cleaned SnowMachine Data'!AS$6:AS$123,'Activity Days'!$P82)","v":0},{"$f":"SUMIFS('Cleaned SnowMachine Data'!BD$6:BD$123,'Cleaned SnowMachine Data'!$E$6:$E$123,1,'Cleaned SnowMachine Data'!AT$6:AT$123,'Activity Days'!$P82)","v":0},{"$f":"SUMIFS('Cleaned SnowMachine Data'!BE$6:BE$123,'Cleaned SnowMachine Data'!$E$6:$E$123,1,'Cleaned SnowMachine Data'!AU$6:AU$123,'Activity Days'!$P82)","v":0},{"$f":"SUMIFS('Cleaned SnowMachine Data'!BF$6:BF$123,'Cleaned SnowMachine Data'!$E$6:$E$123,1,'Cleaned SnowMachine Data'!AV$6:AV$123,'Activity Days'!$P82)","v":0},{"$f":"SUMIFS('Cleaned SnowMachine Data'!BG$6:BG$123,'Cleaned SnowMachine Data'!$E$6:$E$123,1,'Cleaned SnowMachine Data'!AW$6:AW$123,'Activity Days'!$P82)","v":0},{"$f":"SUMIFS('Cleaned SnowMachine Data'!BH$6:BH$123,'Cleaned SnowMachine Data'!$E$6:$E$123,1,'Cleaned SnowMachine Data'!AX$6:AX$123,'Activity Days'!$P82)","v":0},{"$f":"SUMIFS('Cleaned SnowMachine Data'!BI$6:BI$123,'Cleaned SnowMachine Data'!$E$6:$E$123,1,'Cleaned SnowMachine Data'!AY$6:AY$123,'Activity Days'!$P82)","v":0},0]
[{"$f":"'Site Codes'!AA81","v":"Susitna River-Susitna Landing"},{"$f":"'Site Codes'!AB81","v":"Snow 78"},{"$f":"SUMIF('Cleaned SnowMachine Data'!AP$6:AP$123,'Activity Days'!$B83,'Cleaned SnowMachine Data'!AZ$6:AZ$123)","v":0},{"$f":"SUMIF('Cleaned SnowMachine Data'!AQ$6:AQ$123,'Activity Days'!$B83,'Cleaned SnowMachine Data'!BA$6:BA$123)","v":0},{"$f":"SUMIF('Cleaned SnowMachine Data'!AR$6:AR$123,'Activity Days'!$B83,'Cleaned SnowMachine Data'!BB$6:BB$123)","v":0},{"$f":"SUMIF('Cleaned SnowMachine Data'!AS$6:AS$123,'Activity Days'!$B83,'Cleaned SnowMachine Data'!BC$6:BC$123)","v":0},{"$f":"SUMIF('Cleaned SnowMachine Data'!AT$6:AT$123,'Activity Days'!$B83,'Cleaned SnowMachine Data'!BD$6:BD$123)","v":0},{"$f":"SUMIF('Cleaned SnowMachine Data'!AU$6:AU$123,'Activity Days'!$B83,'Cleaned SnowMachine Data'!BE$6:BE$123)","v":0},{"$f":"SUMIF('Cleaned SnowMachine Data'!AV$6:AV$123,'Activity Days'!$B83,'Cleaned SnowMachine Data'!BF$6:BF$123)","v":0},{"$f":"SUMIF('Cleaned SnowMachine Data'!AW$6:AW$123,'Activity Days'!$B83,'Cleaned SnowMachine Data'!BG$6:BG$123)","v":0},{"$f":"SUMIF('Cleaned SnowMachine Data'!AX$6:AX$123,'Activity Days'!$B83,'Cleaned SnowMachine Data'!BH$6:BH$123)","v":0},{"$f":"SUMIF('Cleaned SnowMachine Data'!AY$6:AY$123,'Activity Days'!$B83,'Cleaned SnowMachine Data'!BI$6:BI$123)","v":0},0,null,{"$f":"'Site Codes'!AA81","v":"Susitna River-Susitna Landing"},{"$f":"'Site Codes'!AB81","v":"Snow 78"},{"$f":"SUMIFS('Cleaned SnowMachine Data'!AZ$6:AZ$123,'Cleaned SnowMachine Data'!$E$6:$E$123,1,'Cleaned SnowMachine Data'!AP$6:AP$123,'Activity Days'!$P83)","v":0},{"$f":"SUMIFS('Cleaned SnowMachine Data'!BA$6:BA$123,'Cleaned SnowMachine Data'!$E$6:$E$123,1,'Cleaned SnowMachine Data'!AQ$6:AQ$123,'Activity Days'!$P83)","v":0},{"$f":"SUMIFS('Cleaned SnowMachine Data'!BB$6:BB$123,'Cleaned SnowMachine Data'!$E$6:$E$123,1,'Cleaned SnowMachine Data'!AR$6:AR$123,'Activity Days'!$P83)","v":0},{"$f":"SUMIFS('Cleaned SnowMachine Data'!BC$6:BC$123,'Cleaned SnowMachine Data'!$E$6:$E$123,1,'Cleaned SnowMachine Data'!AS$6:AS$123,'Activity Days'!$P83)","v":0},{"$f":"SUMIFS('Cleaned SnowMachine Data'!BD$6:BD$123,'Cleaned SnowMachine Data'!$E$6:$E$123,1,'Cleaned SnowMachine Data'!AT$6:AT$123,'Activity Days'!$P83)","v":0},{"$f":"SUMIFS('Cleaned SnowMachine Data'!BE$6:BE$123,'Cleaned SnowMachine Data'!$E$6:$E$123,1,'Cleaned SnowMachine Data'!AU$6:AU$123,'Activity Days'!$P83)","v":0},{"$f":"SUMIFS('Cleaned SnowMachine Data'!BF$6:BF$123,'Cleaned SnowMachine Data'!$E$6:$E$123,1,'Cleaned SnowMachine Data'!AV$6:AV$123,'Activity Days'!$P83)","v":0},{"$f":"SUMIFS('Cleaned SnowMachine Data'!BG$6:BG$123,'Cleaned SnowMachine Data'!$E$6:$E$123,1,'Cleaned SnowMachine Data'!AW$6:AW$123,'Activity Days'!$P83)","v":0},{"$f":"SUMIFS('Cleaned SnowMachine Data'!BH$6:BH$123,'Cleaned SnowMachine Data'!$E$6:$E$123,1,'Cleaned SnowMachine Data'!AX$6:AX$123,'Activity Days'!$P83)","v":0},{"$f":"SUMIFS('Cleaned SnowMachine Data'!BI$6:BI$123,'Cleaned SnowMachine Data'!$E$6:$E$123,1,'Cleaned SnowMachine Data'!AY$6:AY$123,'Activity Days'!$P83)","v":0},0]
[{"$f":"'Site Codes'!AA82","v":"Susitna River-The Preserve"},{"$f":"'Site Codes'!AB82","v":"Snow 79"},{"$f":"SUMIF('Cleaned SnowMachine Data'!AP$6:AP$123,'Activity Days'!$B84,'Cleaned SnowMachine Data'!AZ$6:AZ$123)","v":0},{"$f":"SUMIF('Cleaned SnowMachine Data'!AQ$6:AQ$123,'Activity Days'!$B84,'Cleaned SnowMachine Data'!BA$6:BA$123)","v":0},{"$f":"SUMIF('Cleaned SnowMachine Data'!AR$6:AR$123,'Activity Days'!$B84,'Cleaned SnowMachine Data'!BB$6:BB$123)","v":0},{"$f":"SUMIF('Cleaned SnowMachine Data'!AS$6:AS$123,'Activity Days'!$B84,'Cleaned SnowMachine Data'!BC$6:BC$123)","v":0},{"$f":"SUMIF('Cleaned SnowMachine Data'!AT$6:AT$123,'Activity Days'!$B84,'Cleaned SnowMachine Data'!BD$6:BD$123)","v":0},{"$f":"SUMIF('Cleaned SnowMachine Data'!AU$6:AU$123,'Activity Days'!$B84,'Cleaned SnowMachine Data'!BE$6:BE$123)","v":0},{"$f":"SUMIF('Cleaned SnowMachine Data'!AV$6:AV$123,'Activity Days'!$B84,'Cleaned SnowMachine Data'!BF$6:BF$123)","v":0},{"$f":"SUMIF('Cleaned SnowMachine Data'!AW$6:AW$123,'Activity Days'!$B84,'Cleaned SnowMachine Data'!BG$6:BG$123)","v":0},{"$f":"SUMIF('Cleaned SnowMachine Data'!AX$6:AX$123,'Activity Days'!$B84,'Cleaned SnowMachine Data'!BH$6:BH$123)","v":0},{"$f":"SUMIF('Cleaned SnowMachine Data'!AY$6:AY$123,'Activity Days'!$B84,'Cleaned SnowMachine Data'!BI$6:BI$123)","v":0},0,null,{"$f":"'Site Codes'!AA82","v":"Susitna River-The Preserve"},{"$f":"'Site Codes'!AB82","v":"Snow 79"},{"$f":"SUMIFS('Cleaned SnowMachine Data'!AZ$6:AZ$123,'Cleaned SnowMachine Data'!$E$6:$E$123,1,'Cleaned SnowMachine Data'!AP$6:AP$123,'Activity Days'!$P84)","v":0},{"$f":"SUMIFS('Cleaned SnowMachine Data'!BA$6:BA$123,'Cleaned SnowMachine Data'!$E$6:$E$123,1,'Cleaned SnowMachine Data'!AQ$6:AQ$123,'Activity Days'!$P84)","v":0},{"$f":"SUMIFS('Cleaned SnowMachine Data'!BB$6:BB$123,'Cleaned SnowMachine Data'!$E$6:$E$123,1,'Cleaned SnowMachine Data'!AR$6:AR$123,'Activity Days'!$P84)","v":0},{"$f":"SUMIFS('Cleaned SnowMachine Data'!BC$6:BC$123,'Cleaned SnowMachine Data'!$E$6:$E$123,1,'Cleaned SnowMachine Data'!AS$6:AS$123,'Activity Days'!$P84)","v":0},{"$f":"SUMIFS('Cleaned SnowMachine Data'!BD$6:BD$123,'Cleaned SnowMachine Data'!$E$6:$E$123,1,'Cleaned SnowMachine Data'!AT$6:AT$123,'Activity Days'!$P84)","v":0},{"$f":"SUMIFS('Cleaned SnowMachine Data'!BE$6:BE$123,'Cleaned SnowMachine Data'!$E$6:$E$123,1,'Cleaned SnowMachine Data'!AU$6:AU$123,'Activity Days'!$P84)","v":0},{"$f":"SUMIFS('Cleaned SnowMachine Data'!BF$6:BF$123,'Cleaned SnowMachine Data'!$E$6:$E$123,1,'Cleaned SnowMachine Data'!AV$6:AV$123,'Activity Days'!$P84)","v":0},{"$f":"SUMIFS('Cleaned SnowMachine Data'!BG$6:BG$123,'Cleaned SnowMachine Data'!$E$6:$E$123,1,'Cleaned SnowMachine Data'!AW$6:AW$123,'Activity Days'!$P84)","v":0},{"$f":"SUMIFS('Cleaned SnowMachine Data'!BH$6:BH$123,'Cleaned SnowMachine Data'!$E$6:$E$123,1,'Cleaned SnowMachine Data'!AX$6:AX$123,'Activity Days'!$P84)","v":0},{"$f":"SUMIFS('Cleaned SnowMachine Data'!BI$6:BI$123,'Cleaned SnowMachine Data'!$E$6:$E$123,1,'Cleaned SnowMachine Data'!AY$6:AY$123,'Activity Days'!$P84)","v":0},0]
[{"$f":"'Site Codes'!AA83","v":"Sutton"},{"$f":"'Site Codes'!AB83","v":"Snow 80"},{"$f":"SUMIF('Cleaned SnowMachine Data'!AP$6:AP$123,'Activity Days'!$B85,'Cleaned SnowMachine Data'!AZ$6:AZ$123)","v":0},{"$f":"SUMIF('Cleaned SnowMachine Data'!AQ$6:AQ$123,'Activity Days'!$B85,'Cleaned SnowMachine Data'!BA$6:BA$123)","v":0},{"$f":"SUMIF('Cleaned SnowMachine Data'!AR$6:AR$123,'Activity Days'!$B85,'Cleaned SnowMachine Data'!BB$6:BB$123)","v":0},{"$f":"SUMIF('Cleaned SnowMachine Data'!AS$6:AS$123,'Activity Days'!$B85,'Cleaned SnowMachine Data'!BC$6:BC$123)","v":0},{"$f":"SUMIF('Cleaned SnowMachine Data'!AT$6:AT$123,'Activity Days'!$B85,'Cleaned SnowMachine Data'!BD$6:BD$123)","v":0},{"$f":"SUMIF('Cleaned SnowMachine Data'!AU$6:AU$123,'Activity Days'!$B85,'Cleaned SnowMachine Data'!BE$6:BE$123)","v":0},{"$f":"SUMIF('Cleaned SnowMachine Data'!AV$6:AV$123,'Activity Days'!$B85,'Cleaned SnowMachine Data'!BF$6:BF$123)","v":0},{"$f":"SUMIF('Cleaned SnowMachine Data'!AW$6:AW$123,'Activity Days'!$B85,'Cleaned SnowMachine Data'!BG$6:BG$123)","v":0},{"$f":"SUMIF('Cleaned SnowMachine Data'!AX$6:AX$123,'Activity Days'!$B85,'Cleaned SnowMachine Data'!BH$6:BH$123)","v":0},{"$f":"SUMIF('Cleaned SnowMachine Data'!AY$6:AY$123,'Activity Days'!$B85,'Cleaned SnowMachine Data'!BI$6:BI$123)","v":0},0,null,{"$f":"'Site Codes'!AA83","v":"Sutton"},{"$f":"'Site Codes'!AB83","v":"Snow 80"},{"$f":"SUMIFS('Cleaned SnowMachine Data'!AZ$6:AZ$123,'Cleaned SnowMachine Data'!$E$6:$E$123,1,'Cleaned SnowMachine Data'!AP$6:AP$123,'Activity Days'!$P85)","v":0},{"$f":"SUMIFS('Cleaned SnowMachine Data'!BA$6:BA$123,'Cleaned SnowMachine Data'!$E$6:$E$123,1,'Cleaned SnowMachine Data'!AQ$6:AQ$123,'Activity Days'!$P85)","v":0},{"$f":"SUMIFS('Cleaned SnowMachine Data'!BB$6:BB$123,'Cleaned SnowMachine Data'!$E$6:$E$123,1,'Cleaned SnowMachine Data'!AR$6:AR$123,'Activity Days'!$P85)","v":0},{"$f":"SUMIFS('Cleaned SnowMachine Data'!BC$6:BC$123,'Cleaned SnowMachine Data'!$E$6:$E$123,1,'Cleaned SnowMachine Data'!AS$6:AS$123,'Activity Days'!$P85)","v":0},{"$f":"SUMIFS('Cleaned SnowMachine Data'!BD$6:BD$123,'Cleaned SnowMachine Data'!$E$6:$E$123,1,'Cleaned SnowMachine Data'!AT$6:AT$123,'Activity Days'!$P85)","v":0},{"$f":"SUMIFS('Cleaned SnowMachine Data'!BE$6:BE$123,'Cleaned SnowMachine Data'!$E$6:$E$123,1,'Cleaned SnowMachine Data'!AU$6:AU$123,'Activity Days'!$P85)","v":0},{"$f":"SUMIFS('Cleaned SnowMachine Data'!BF$6:BF$123,'Cleaned SnowMachine Data'!$E$6:$E$123,1,'Cleaned SnowMachine Data'!AV$6:AV$123,'Activity Days'!$P85)","v":0},{"$f":"SUMIFS('Cleaned SnowMachine Data'!BG$6:BG$123,'Cleaned SnowMachine Data'!$E$6:$E$123,1,'Cleaned SnowMachine Data'!AW$6:AW$123,'Activity Days'!$P85)","v":0},{"$f":"SUMIFS('Cleaned SnowMachine Data'!BH$6:BH$123,'Cleaned SnowMachine Data'!$E$6:$E$123,1,'Cleaned SnowMachine Data'!AX$6:AX$123,'Activity Days'!$P85)","v":0},{"$f":"SUMIFS('Cleaned SnowMachine Data'!BI$6:BI$123,'Cleaned SnowMachine Data'!$E$6:$E$123,1,'Cleaned SnowMachine Data'!AY$6:AY$123,'Activity Days'!$P85)","v":0},0]
[{"$f":"'Site Codes'!AA84","v":"Talkeetna Area-Talkeetna"},{"$f":"'Site Codes'!AB84","v":"Snow 81"},{"$f":"SUMIF('Cleaned SnowMachine Data'!AP$6:AP$123,'Activity Days'!$B86,'Cleaned SnowMachine Data'!AZ$6:AZ$123)","v":62},{"$f":"SUMIF('Cleaned SnowMachine Data'!AQ$6:AQ$123,'Activity Days'!$B86,'Cleaned SnowMachine Data'!BA$6:BA$123)","v":20},{"$f":"SUMIF('Cleaned SnowMachine Data'!AR$6:AR$123,'Activity Days'!$B86,'Cleaned SnowMachine Data'!BB$6:BB$123)","v":0},{"$f":"SUMIF('Cleaned SnowMachine Data'!AS$6:AS$123,'Activity Days'!$B86,'Cleaned SnowMachine Data'!BC$6:BC$123)","v":0},{"$f":"SUMIF('Cleaned SnowMachine Data'!AT$6:AT$123,'Activity Days'!$B86,'Cleaned SnowMachine Data'!BD$6:BD$123)","v":0},{"$f":"SUMIF('Cleaned SnowMachine Data'!AU$6:AU$123,'Activity Days'!$B86,'Cleaned SnowMachine Data'!BE$6:BE$123)","v":0},{"$f":"SUMIF('Cleaned SnowMachine Data'!AV$6:AV$123,'Activity Days'!$B86,'Cleaned SnowMachine Data'!BF$6:BF$123)","v":0},{"$f":"SUMIF('Cleaned SnowMachine Data'!AW$6:AW$123,'Activity Days'!$B86,'Cleaned SnowMachine Data'!BG$6:BG$123)","v":0},{"$f":"SUMIF('Cleaned SnowMachine Data'!AX$6:AX$123,'Activity Days'!$B86,'Cleaned SnowMachine Data'!BH$6:BH$123)","v":0},{"$f":"SUMIF('Cleaned SnowMachine Data'!AY$6:AY$123,'Activity Days'!$B86,'Cleaned SnowMachine Data'!BI$6:BI$123)","v":0},82,null,{"$f":"'Site Codes'!AA84","v":"Talkeetna Area-Talkeetna"},{"$f":"'Site Codes'!AB84","v":"Snow 81"},{"$f":"SUMIFS('Cleaned SnowMachine Data'!AZ$6:AZ$123,'Cleaned SnowMachine Data'!$E$6:$E$123,1,'Cleaned SnowMachine Data'!AP$6:AP$123,'Activity Days'!$P86)","v":59},{"$f":"SUMIFS('Cleaned SnowMachine Data'!BA$6:BA$123,'Cleaned SnowMachine Data'!$E$6:$E$123,1,'Cleaned SnowMachine Data'!AQ$6:AQ$123,'Activity Days'!$P86)","v":16},{"$f":"SUMIFS('Cleaned SnowMachine Data'!BB$6:BB$123,'Cleaned SnowMachine Data'!$E$6:$E$123,1,'Cleaned SnowMachine Data'!AR$6:AR$123,'Activity Days'!$P86)","v":0},{"$f":"SUMIFS('Cleaned SnowMachine Data'!BC$6:BC$123,'Cleaned SnowMachine Data'!$E$6:$E$123,1,'Cleaned SnowMachine Data'!AS$6:AS$123,'Activity Days'!$P86)","v":0},{"$f":"SUMIFS('Cleaned SnowMachine Data'!BD$6:BD$123,'Cleaned SnowMachine Data'!$E$6:$E$123,1,'Cleaned SnowMachine Data'!AT$6:AT$123,'Activity Days'!$P86)","v":0},{"$f":"SUMIFS('Cleaned SnowMachine Data'!BE$6:BE$123,'Cleaned SnowMachine Data'!$E$6:$E$123,1,'Cleaned SnowMachine Data'!AU$6:AU$123,'Activity Days'!$P86)","v":0},{"$f":"SUMIFS('Cleaned SnowMachine Data'!BF$6:BF$123,'Cleaned SnowMachine Data'!$E$6:$E$123,1,'Cleaned SnowMachine Data'!AV$6:AV$123,'Activity Days'!$P86)","v":0},{"$f":"SUMIFS('Cleaned SnowMachine Data'!BG$6:BG$123,'Cleaned SnowMachine Data'!$E$6:$E$123,1,'Cleaned SnowMachine Data'!AW$6:AW$123,'Activity Days'!$P86)","v":0},{"$f":"SUMIFS('Cleaned SnowMachine Data'!BH$6:BH$123,'Cleaned SnowMachine Data'!$E$6:$E$123,1,'Cleaned SnowMachine Data'!AX$6:AX$123,'Activity Days'!$P86)","v":0},{"$f":"SUMIFS('Cleaned SnowMachine Data'!BI$6:BI$123,'Cleaned SnowMachine Data'!$E$6:$E$123,1,'Cleaned SnowMachine Data'!AY$6:AY$123,'Activity Days'!$P86)","v":0},75]
[{"$f":"'Site Codes'!AA85","v":"Tanana Flats-Chena Pump"},{"$f":"'Site Codes'!AB85","v":"Snow 82"},{"$f":"SUMIF('Cleaned SnowMachine Data'!AP$6:AP$123,'Activity Days'!$B87,'Cleaned SnowMachine Data'!AZ$6:AZ$123)","v":0},{"$f":"SUMIF('Cleaned SnowMachine Data'!AQ$6:AQ$123,'Activity Days'!$B87,'Cleaned SnowMachine Data'!BA$6:BA$123)","v":0},{"$f":"SUMIF('Cleaned SnowMachine Data'!AR$6:AR$123,'Activity Days'!$B87,'Cleaned SnowMachine Data'!BB$6:BB$123)","v":0},{"$f":"SUMIF('Cleaned SnowMachine Data'!AS$6:AS$123,'Activity Days'!$B87,'Cleaned SnowMachine Data'!BC$6:BC$123)","v":0},{"$f":"SUMIF('Cleaned SnowMachine Data'!AT$6:AT$123,'Activity Days'!$B87,'Cleaned SnowMachine Data'!BD$6:BD$123)","v":0},{"$f":"SUMIF('Cleaned SnowMachine Data'!AU$6:AU$123,'Activity Days'!$B87,'Cleaned SnowMachine Data'!BE$6:BE$123)","v":0},{"$f":"SUMIF('Cleaned SnowMachine Data'!AV$6:AV$123,'Activity Days'!$B87,'Cleaned SnowMachine Data'!BF$6:BF$123)","v":0},{"$f":"SUMIF('Cleaned SnowMachine Data'!AW$6:AW$123,'Activity Days'!$B87,'Cleaned SnowMachine Data'!BG$6:BG$123)","v":0},{"$f":"SUMIF('Cleaned SnowMachine Data'!AX$6:AX$123,'Activity Days'!$B87,'Cleaned SnowMachine Data'!BH$6:BH$123)","v":0},{"$f":"SUMIF('Cleaned SnowMachine Data'!AY$6:AY$123,'Activity Days'!$B87,'Cleaned SnowMachine Data'!BI$6:BI$123)","v":0},0,null,{"$f":"'Site Codes'!AA85","v":"Tanana Flats-Chena Pump"},{"$f":"'Site Codes'!AB85","v":"Snow 82"},{"$f":"SUMIFS('Cleaned SnowMachine Data'!AZ$6:AZ$123,'Cleaned SnowMachine Data'!$E$6:$E$123,1,'Cleaned SnowMachine Data'!AP$6:AP$123,'Activity Days'!$P87)","v":0},{"$f":"SUMIFS('Cleaned SnowMachine Data'!BA$6:BA$123,'Cleaned SnowMachine Data'!$E$6:$E$123,1,'Cleaned SnowMachine Data'!AQ$6:AQ$123,'Activity Days'!$P87)","v":0},{"$f":"SUMIFS('Cleaned SnowMachine Data'!BB$6:BB$123,'Cleaned SnowMachine Data'!$E$6:$E$123,1,'Cleaned SnowMachine Data'!AR$6:AR$123,'Activity Days'!$P87)","v":0},{"$f":"SUMIFS('Cleaned SnowMachine Data'!BC$6:BC$123,'Cleaned SnowMachine Data'!$E$6:$E$123,1,'Cleaned SnowMachine Data'!AS$6:AS$123,'Activity Days'!$P87)","v":0},{"$f":"SUMIFS('Cleaned SnowMachine Data'!BD$6:BD$123,'Cleaned SnowMachine Data'!$E$6:$E$123,1,'Cleaned SnowMachine Data'!AT$6:AT$123,'Activity Days'!$P87)","v":0},{"$f":"SUMIFS('Cleaned SnowMachine Data'!BE$6:BE$123,'Cleaned SnowMachine Data'!$E$6:$E$123,1,'Cleaned SnowMachine Data'!AU$6:AU$123,'Activity Days'!$P87)","v":0},{"$f":"SUMIFS('Cleaned SnowMachine Data'!BF$6:BF$123,'Cleaned SnowMachine Data'!$E$6:$E$123,1,'Cleaned SnowMachine Data'!AV$6:AV$123,'Activity Days'!$P87)","v":0},{"$f":"SUMIFS('Cleaned SnowMachine Data'!BG$6:BG$123,'Cleaned SnowMachine Data'!$E$6:$E$123,1,'Cleaned SnowMachine Data'!AW$6:AW$123,'Activity Days'!$P87)","v":0},{"$f":"SUMIFS('Cleaned SnowMachine Data'!BH$6:BH$123,'Cleaned SnowMachine Data'!$E$6:$E$123,1,'Cleaned SnowMachine Data'!AX$6:AX$123,'Activity Days'!$P87)","v":0},{"$f":"SUMIFS('Cleaned SnowMachine Data'!BI$6:BI$123,'Cleaned SnowMachine Data'!$E$6:$E$123,1,'Cleaned SnowMachine Data'!AY$6:AY$123,'Activity Days'!$P87)","v":0},0]
[{"$f":"'Site Codes'!AA86","v":"Taylor Mountain-Taylor Highway"},{"$f":"'Site Codes'!AB86","v":"Snow 83"},{"$f":"SUMIF('Cleaned SnowMachine Data'!AP$6:AP$123,'Activity Days'!$B88,'Cleaned SnowMachine Data'!AZ$6:AZ$123)","v":0},{"$f":"SUMIF('Cleaned SnowMachine Data'!AQ$6:AQ$123,'Activity Days'!$B88,'Cleaned SnowMachine Data'!BA$6:BA$123)","v":0},{"$f":"SUMIF('Cleaned SnowMachine Data'!AR$6:AR$123,'Activity Days'!$B88,'Cleaned SnowMachine Data'!BB$6:BB$123)","v":0},{"$f":"SUMIF('Cleaned SnowMachine Data'!AS$6:AS$123,'Activity Days'!$B88,'Cleaned SnowMachine Data'!BC$6:BC$123)","v":0},{"$f":"SUMIF('Cleaned SnowMachine Data'!AT$6:AT$123,'Activity Days'!$B88,'Cleaned SnowMachine Data'!BD$6:BD$123)","v":0},{"$f":"SUMIF('Cleaned SnowMachine Data'!AU$6:AU$123,'Activity Days'!$B88,'Cleaned SnowMachine Data'!BE$6:BE$123)","v":0},{"$f":"SUMIF('Cleaned SnowMachine Data'!AV$6:AV$123,'Activity Days'!$B88,'Cleaned SnowMachine Data'!BF$6:BF$123)","v":0},{"$f":"SUMIF('Cleaned SnowMachine Data'!AW$6:AW$123,'Activity Days'!$B88,'Cleaned SnowMachine Data'!BG$6:BG$123)","v":0},{"$f":"SUMIF('Cleaned SnowMachine Data'!AX$6:AX$123,'Activity Days'!$B88,'Cleaned SnowMachine Data'!BH$6:BH$123)","v":0},{"$f":"SUMIF('Cleaned SnowMachine Data'!AY$6:AY$123,'Activity Days'!$B88,'Cleaned SnowMachine Data'!BI$6:BI$123)","v":0},0,null,{"$f":"'Site Codes'!AA86","v":"Taylor Mountain-Taylor Highway"},{"$f":"'Site Codes'!AB86","v":"Snow 83"},{"$f":"SUMIFS('Cleaned SnowMachine Data'!AZ$6:AZ$123,'Cleaned SnowMachine Data'!$E$6:$E$123,1,'Cleaned SnowMachine Data'!AP$6:AP$123,'Activity Days'!$P88)","v":0},{"$f":"SUMIFS('Cleaned SnowMachine Data'!BA$6:BA$123,'Cleaned SnowMachine Data'!$E$6:$E$123,1,'Cleaned SnowMachine Data'!AQ$6:AQ$123,'Activity Days'!$P88)","v":0},{"$f":"SUMIFS('Cleaned SnowMachine Data'!BB$6:BB$123,'Cleaned SnowMachine Data'!$E$6:$E$123,1,'Cleaned SnowMachine Data'!AR$6:AR$123,'Activity Days'!$P88)","v":0},{"$f":"SUMIFS('Cleaned SnowMachine Data'!BC$6:BC$123,'Cleaned SnowMachine Data'!$E$6:$E$123,1,'Cleaned SnowMachine Data'!AS$6:AS$123,'Activity Days'!$P88)","v":0},{"$f":"SUMIFS('Cleaned SnowMachine Data'!BD$6:BD$123,'Cleaned SnowMachine Data'!$E$6:$E$123,1,'Cleaned SnowMachine Data'!AT$6:AT$123,'Activity Days'!$P88)","v":0},{"$f":"SUMIFS('Cleaned SnowMachine Data'!BE$6:BE$123,'Cleaned SnowMachine Data'!$E$6:$E$123,1,'Cleaned SnowMachine Data'!AU$6:AU$123,'Activity Days'!$P88)","v":0},{"$f":"SUMIFS('Cleaned SnowMachine Data'!BF$6:BF$123,'Cleaned SnowMachine Data'!$E$6:$E$123,1,'Cleaned SnowMachine Data'!AV$6:AV$123,'Activity Days'!$P88)","v":0},{"$f":"SUMIFS('Cleaned SnowMachine Data'!BG$6:BG$123,'Cleaned SnowMachine Data'!$E$6:$E$123,1,'Cleaned SnowMachine Data'!AW$6:AW$123,'Activity Days'!$P88)","v":0},{"$f":"SUMIFS('Cleaned SnowMachine Data'!BH$6:BH$123,'Cleaned SnowMachine Data'!$E$6:$E$123,1,'Cleaned SnowMachine Data'!AX$6:AX$123,'Activity Days'!$P88)","v":0},{"$f":"SUMIFS('Cleaned SnowMachine Data'!BI$6:BI$123,'Cleaned SnowMachine Data'!$E$6:$E$123,1,'Cleaned SnowMachine Data'!AY$6:AY$123,'Activity Days'!$P88)","v":0},0]
[{"$f":"'Site Codes'!AA87","v":"Tetlin Refuge"},{"$f":"'Site Codes'!AB87","v":"Snow 84"},{"$f":"SUMIF('Cleaned SnowMachine Data'!AP$6:AP$123,'Activity Days'!$B89,'Cleaned SnowMachine Data'!AZ$6:AZ$123)","v":0},{"$f":"SUMIF('Cleaned SnowMachine Data'!AQ$6:AQ$123,'Activity Days'!$B89,'Cleaned SnowMachine Data'!BA$6:BA$123)","v":0},{"$f":"SUMIF('Cleaned SnowMachine Data'!AR$6:AR$123,'Activity Days'!$B89,'Cleaned SnowMachine Data'!BB$6:BB$123)","v":0},{"$f":"SUMIF('Cleaned SnowMachine Data'!AS$6:AS$123,'Activity Days'!$B89,'Cleaned SnowMachine Data'!BC$6:BC$123)","v":0},{"$f":"SUMIF('Cleaned SnowMachine Data'!AT$6:AT$123,'Activity Days'!$B89,'Cleaned SnowMachine Data'!BD$6:BD$123)","v":0},{"$f":"SUMIF('Cleaned SnowMachine Data'!AU$6:AU$123,'Activity Days'!$B89,'Cleaned SnowMachine Data'!BE$6:BE$123)","v":0},{"$f":"SUMIF('Cleaned SnowMachine Data'!AV$6:AV$123,'Activity Days'!$B89,'Cleaned SnowMachine Data'!BF$6:BF$123)","v":0},{"$f":"SUMIF('Cleaned SnowMachine Data'!AW$6:AW$123,'Activity Days'!$B89,'Cleaned SnowMachine Data'!BG$6:BG$123)","v":0},{"$f":"SUMIF('Cleaned SnowMachine Data'!AX$6:AX$123,'Activity Days'!$B89,'Cleaned SnowMachine Data'!BH$6:BH$123)","v":0},{"$f":"SUMIF('Cleaned SnowMachine Data'!AY$6:AY$123,'Activity Days'!$B89,'Cleaned SnowMachine Data'!BI$6:BI$123)","v":0},0,null,{"$f":"'Site Codes'!AA87","v":"Tetlin Refuge"},{"$f":"'Site Codes'!AB87","v":"Snow 84"},{"$f":"SUMIFS('Cleaned SnowMachine Data'!AZ$6:AZ$123,'Cleaned SnowMachine Data'!$E$6:$E$123,1,'Cleaned SnowMachine Data'!AP$6:AP$123,'Activity Days'!$P89)","v":0},{"$f":"SUMIFS('Cleaned SnowMachine Data'!BA$6:BA$123,'Cleaned SnowMachine Data'!$E$6:$E$123,1,'Cleaned SnowMachine Data'!AQ$6:AQ$123,'Activity Days'!$P89)","v":0},{"$f":"SUMIFS('Cleaned SnowMachine Data'!BB$6:BB$123,'Cleaned SnowMachine Data'!$E$6:$E$123,1,'Cleaned SnowMachine Data'!AR$6:AR$123,'Activity Days'!$P89)","v":0},{"$f":"SUMIFS('Cleaned SnowMachine Data'!BC$6:BC$123,'Cleaned SnowMachine Data'!$E$6:$E$123,1,'Cleaned SnowMachine Data'!AS$6:AS$123,'Activity Days'!$P89)","v":0},{"$f":"SUMIFS('Cleaned SnowMachine Data'!BD$6:BD$123,'Cleaned SnowMachine Data'!$E$6:$E$123,1,'Cleaned SnowMachine Data'!AT$6:AT$123,'Activity Days'!$P89)","v":0},{"$f":"SUMIFS('Cleaned SnowMachine Data'!BE$6:BE$123,'Cleaned SnowMachine Data'!$E$6:$E$123,1,'Cleaned SnowMachine Data'!AU$6:AU$123,'Activity Days'!$P89)","v":0},{"$f":"SUMIFS('Cleaned SnowMachine Data'!BF$6:BF$123,'Cleaned SnowMachine Data'!$E$6:$E$123,1,'Cleaned SnowMachine Data'!AV$6:AV$123,'Activity Days'!$P89)","v":0},{"$f":"SUMIFS('Cleaned SnowMachine Data'!BG$6:BG$123,'Cleaned SnowMachine Data'!$E$6:$E$123,1,'Cleaned SnowMachine Data'!AW$6:AW$123,'Activity Days'!$P89)","v":0},{"$f":"SUMIFS('Cleaned SnowMachine Data'!BH$6:BH$123,'Cleaned SnowMachine Data'!$E$6:$E$123,1,'Cleaned SnowMachine Data'!AX$6:AX$123,'Activity Days'!$P89)","v":0},{"$f":"SUMIFS('Cleaned SnowMachine Data'!BI$6:BI$123,'Cleaned SnowMachine Data'!$E$6:$E$123,1,'Cleaned SnowMachine Data'!AY$6:AY$123,'Activity Days'!$P89)","v":0},0]
[{"$f":"'Site Codes'!AA88","v":"Thompson Pass"},{"$f":"'Site Codes'!AB88","v":"Snow 85"},{"$f":"SUMIF('Cleaned SnowMachine Data'!AP$6:AP$123,'Activity Days'!$B90,'Cleaned SnowMachine Data'!AZ$6:AZ$123)","v":0},{"$f":"SUMIF('Cleaned SnowMachine Data'!AQ$6:AQ$123,'Activity Days'!$B90,'Cleaned SnowMachine Data'!BA$6:BA$123)","v":6},{"$f":"SUMIF('Cleaned SnowMachine Data'!AR$6:AR$123,'Activity Days'!$B90,'Cleaned SnowMachine Data'!BB$6:BB$123)","v":0},{"$f":"SUMIF('Cleaned SnowMachine Data'!AS$6:AS$123,'Activity Days'!$B90,'Cleaned SnowMachine Data'!BC$6:BC$123)","v":0},{"$f":"SUMIF('Cleaned SnowMachine Data'!AT$6:AT$123,'Activity Days'!$B90,'Cleaned SnowMachine Data'!BD$6:BD$123)","v":0},{"$f":"SUMIF('Cleaned SnowMachine Data'!AU$6:AU$123,'Activity Days'!$B90,'Cleaned SnowMachine Data'!BE$6:BE$123)","v":0},{"$f":"SUMIF('Cleaned SnowMachine Data'!AV$6:AV$123,'Activity Days'!$B90,'Cleaned SnowMachine Data'!BF$6:BF$123)","v":0},{"$f":"SUMIF('Cleaned SnowMachine Data'!AW$6:AW$123,'Activity Days'!$B90,'Cleaned SnowMachine Data'!BG$6:BG$123)","v":0},{"$f":"SUMIF('Cleaned SnowMachine Data'!AX$6:AX$123,'Activity Days'!$B90,'Cleaned SnowMachine Data'!BH$6:BH$123)","v":0},{"$f":"SUMIF('Cleaned SnowMachine Data'!AY$6:AY$123,'Activity Days'!$B90,'Cleaned SnowMachine Data'!BI$6:BI$123)","v":0},6,null,{"$f":"'Site Codes'!AA88","v":"Thompson Pass"},{"$f":"'Site Codes'!AB88","v":"Snow 85"},{"$f":"SUMIFS('Cleaned SnowMachine Data'!AZ$6:AZ$123,'Cleaned SnowMachine Data'!$E$6:$E$123,1,'Cleaned SnowMachine Data'!AP$6:AP$123,'Activity Days'!$P90)","v":0},{"$f":"SUMIFS('Cleaned SnowMachine Data'!BA$6:BA$123,'Cleaned SnowMachine Data'!$E$6:$E$123,1,'Cleaned SnowMachine Data'!AQ$6:AQ$123,'Activity Days'!$P90)","v":0},{"$f":"SUMIFS('Cleaned SnowMachine Data'!BB$6:BB$123,'Cleaned SnowMachine Data'!$E$6:$E$123,1,'Cleaned SnowMachine Data'!AR$6:AR$123,'Activity Days'!$P90)","v":0},{"$f":"SUMIFS('Cleaned SnowMachine Data'!BC$6:BC$123,'Cleaned SnowMachine Data'!$E$6:$E$123,1,'Cleaned SnowMachine Data'!AS$6:AS$123,'Activity Days'!$P90)","v":0},{"$f":"SUMIFS('Cleaned SnowMachine Data'!BD$6:BD$123,'Cleaned SnowMachine Data'!$E$6:$E$123,1,'Cleaned SnowMachine Data'!AT$6:AT$123,'Activity Days'!$P90)","v":0},{"$f":"SUMIFS('Cleaned SnowMachine Data'!BE$6:BE$123,'Cleaned SnowMachine Data'!$E$6:$E$123,1,'Cleaned SnowMachine Data'!AU$6:AU$123,'Activity Days'!$P90)","v":0},{"$f":"SUMIFS('Cleaned SnowMachine Data'!BF$6:BF$123,'Cleaned SnowMachine Data'!$E$6:$E$123,1,'Cleaned SnowMachine Data'!AV$6:AV$123,'Activity Days'!$P90)","v":0},{"$f":"SUMIFS('Cleaned SnowMachine Data'!BG$6:BG$123,'Cleaned SnowMachine Data'!$E$6:$E$123,1,'Cleaned SnowMachine Data'!AW$6:AW$123,'Activity Days'!$P90)","v":0},{"$f":"SUMIFS('Cleaned SnowMachine Data'!BH$6:BH$123,'Cleaned SnowMachine Data'!$E$6:$E$123,1,'Cleaned SnowMachine Data'!AX$6:AX$123,'Activity Days'!$P90)","v":0},{"$f":"SUMIFS('Cleaned SnowMachine Data'!BI$6:BI$123,'Cleaned SnowMachine Data'!$E$6:$E$123,1,'Cleaned SnowMachine Data'!AY$6:AY$123,'Activity Days'!$P90)","v":0},0]
[{"$f":"'Site Codes'!AA89","v":"Tok Area"},{"$f":"'Site Codes'!AB89","v":"Snow 86"},{"$f":"SUMIF('Cleaned SnowMachine Data'!AP$6:AP$123,'Activity Days'!$B91,'Cleaned SnowMachine Data'!AZ$6:AZ$123)","v":15},{"$f":"SUMIF('Cleaned SnowMachine Data'!AQ$6:AQ$123,'Activity Days'!$B91,'Cleaned SnowMachine Data'!BA$6:BA$123)","v":2},{"$f":"SUMIF('Cleaned SnowMachine Data'!AR$6:AR$123,'Activity Days'!$B91,'Cleaned SnowMachine Data'!BB$6:BB$123)","v":0},{"$f":"SUMIF('Cleaned SnowMachine Data'!AS$6:AS$123,'Activity Days'!$B91,'Cleaned SnowMachine Data'!BC$6:BC$123)","v":0},{"$f":"SUMIF('Cleaned SnowMachine Data'!AT$6:AT$123,'Activity Days'!$B91,'Cleaned SnowMachine Data'!BD$6:BD$123)","v":0},{"$f":"SUMIF('Cleaned SnowMachine Data'!AU$6:AU$123,'Activity Days'!$B91,'Cleaned SnowMachine Data'!BE$6:BE$123)","v":0},{"$f":"SUMIF('Cleaned SnowMachine Data'!AV$6:AV$123,'Activity Days'!$B91,'Cleaned SnowMachine Data'!BF$6:BF$123)","v":0},{"$f":"SUMIF('Cleaned SnowMachine Data'!AW$6:AW$123,'Activity Days'!$B91,'Cleaned SnowMachine Data'!BG$6:BG$123)","v":0},{"$f":"SUMIF('Cleaned SnowMachine Data'!AX$6:AX$123,'Activity Days'!$B91,'Cleaned SnowMachine Data'!BH$6:BH$123)","v":0},{"$f":"SUMIF('Cleaned SnowMachine Data'!AY$6:AY$123,'Activity Days'!$B91,'Cleaned SnowMachine Data'!BI$6:BI$123)","v":0},17,null,{"$f":"'Site Codes'!AA89","v":"Tok Area"},{"$f":"'Site Codes'!AB89","v":"Snow 86"},{"$f":"SUMIFS('Cleaned SnowMachine Data'!AZ$6:AZ$123,'Cleaned SnowMachine Data'!$E$6:$E$123,1,'Cleaned SnowMachine Data'!AP$6:AP$123,'Activity Days'!$P91)","v":0},{"$f":"SUMIFS('Cleaned SnowMachine Data'!BA$6:BA$123,'Cleaned SnowMachine Data'!$E$6:$E$123,1,'Cleaned SnowMachine Data'!AQ$6:AQ$123,'Activity Days'!$P91)","v":0},{"$f":"SUMIFS('Cleaned SnowMachine Data'!BB$6:BB$123,'Cleaned SnowMachine Data'!$E$6:$E$123,1,'Cleaned SnowMachine Data'!AR$6:AR$123,'Activity Days'!$P91)","v":0},{"$f":"SUMIFS('Cleaned SnowMachine Data'!BC$6:BC$123,'Cleaned SnowMachine Data'!$E$6:$E$123,1,'Cleaned SnowMachine Data'!AS$6:AS$123,'Activity Days'!$P91)","v":0},{"$f":"SUMIFS('Cleaned SnowMachine Data'!BD$6:BD$123,'Cleaned SnowMachine Data'!$E$6:$E$123,1,'Cleaned SnowMachine Data'!AT$6:AT$123,'Activity Days'!$P91)","v":0},{"$f":"SUMIFS('Cleaned SnowMachine Data'!BE$6:BE$123,'Cleaned SnowMachine Data'!$E$6:$E$123,1,'Cleaned SnowMachine Data'!AU$6:AU$123,'Activity Days'!$P91)","v":0},{"$f":"SUMIFS('Cleaned SnowMachine Data'!BF$6:BF$123,'Cleaned SnowMachine Data'!$E$6:$E$123,1,'Cleaned SnowMachine Data'!AV$6:AV$123,'Activity Days'!$P91)","v":0},{"$f":"SUMIFS('Cleaned SnowMachine Data'!BG$6:BG$123,'Cleaned SnowMachine Data'!$E$6:$E$123,1,'Cleaned SnowMachine Data'!AW$6:AW$123,'Activity Days'!$P91)","v":0},{"$f":"SUMIFS('Cleaned SnowMachine Data'!BH$6:BH$123,'Cleaned SnowMachine Data'!$E$6:$E$123,1,'Cleaned SnowMachine Data'!AX$6:AX$123,'Activity Days'!$P91)","v":0},{"$f":"SUMIFS('Cleaned SnowMachine Data'!BI$6:BI$123,'Cleaned SnowMachine Data'!$E$6:$E$123,1,'Cleaned SnowMachine Data'!AY$6:AY$123,'Activity Days'!$P91)","v":0},0]
[{"$f":"'Site Codes'!AA90","v":"Tolovana Hotsprings-Elliot Hwy"},{"$f":"'Site Codes'!AB90","v":"Snow 87"},{"$f":"SUMIF('Cleaned SnowMachine Data'!AP$6:AP$123,'Activity Days'!$B92,'Cleaned SnowMachine Data'!AZ$6:AZ$123)","v":0},{"$f":"SUMIF('Cleaned SnowMachine Data'!AQ$6:AQ$123,'Activity Days'!$B92,'Cleaned SnowMachine Data'!BA$6:BA$123)","v":0},{"$f":"SUMIF('Cleaned SnowMachine Data'!AR$6:AR$123,'Activity Days'!$B92,'Cleaned SnowMachine Data'!BB$6:BB$123)","v":0},{"$f":"SUMIF('Cleaned SnowMachine Data'!AS$6:AS$123,'Activity Days'!$B92,'Cleaned SnowMachine Data'!BC$6:BC$123)","v":0},{"$f":"SUMIF('Cleaned SnowMachine Data'!AT$6:AT$123,'Activity Days'!$B92,'Cleaned SnowMachine Data'!BD$6:BD$123)","v":0},{"$f":"SUMIF('Cleaned SnowMachine Data'!AU$6:AU$123,'Activity Days'!$B92,'Cleaned SnowMachine Data'!BE$6:BE$123)","v":0},{"$f":"SUMIF('Cleaned SnowMachine Data'!AV$6:AV$123,'Activity Days'!$B92,'Cleaned SnowMachine Data'!BF$6:BF$123)","v":0},{"$f":"SUMIF('Cleaned SnowMachine Data'!AW$6:AW$123,'Activity Days'!$B92,'Cleaned SnowMachine Data'!BG$6:BG$123)","v":0},{"$f":"SUMIF('Cleaned SnowMachine Data'!AX$6:AX$123,'Activity Days'!$B92,'Cleaned SnowMachine Data'!BH$6:BH$123)","v":0},{"$f":"SUMIF('Cleaned SnowMachine Data'!AY$6:AY$123,'Activity Days'!$B92,'Cleaned SnowMachine Data'!BI$6:BI$123)","v":0},0,null,{"$f":"'Site Codes'!AA90","v":"Tolovana Hotsprings-Elliot Hwy"},{"$f":"'Site Codes'!AB90","v":"Snow 87"},{"$f":"SUMIFS('Cleaned SnowMachine Data'!AZ$6:AZ$123,'Cleaned SnowMachine Data'!$E$6:$E$123,1,'Cleaned SnowMachine Data'!AP$6:AP$123,'Activity Days'!$P92)","v":0},{"$f":"SUMIFS('Cleaned SnowMachine Data'!BA$6:BA$123,'Cleaned SnowMachine Data'!$E$6:$E$123,1,'Cleaned SnowMachine Data'!AQ$6:AQ$123,'Activity Days'!$P92)","v":0},{"$f":"SUMIFS('Cleaned SnowMachine Data'!BB$6:BB$123,'Cleaned SnowMachine Data'!$E$6:$E$123,1,'Cleaned SnowMachine Data'!AR$6:AR$123,'Activity Days'!$P92)","v":0},{"$f":"SUMIFS('Cleaned SnowMachine Data'!BC$6:BC$123,'Cleaned SnowMachine Data'!$E$6:$E$123,1,'Cleaned SnowMachine Data'!AS$6:AS$123,'Activity Days'!$P92)","v":0},{"$f":"SUMIFS('Cleaned SnowMachine Data'!BD$6:BD$123,'Cleaned SnowMachine Data'!$E$6:$E$123,1,'Cleaned SnowMachine Data'!AT$6:AT$123,'Activity Days'!$P92)","v":0},{"$f":"SUMIFS('Cleaned SnowMachine Data'!BE$6:BE$123,'Cleaned SnowMachine Data'!$E$6:$E$123,1,'Cleaned SnowMachine Data'!AU$6:AU$123,'Activity Days'!$P92)","v":0},{"$f":"SUMIFS('Cleaned SnowMachine Data'!BF$6:BF$123,'Cleaned SnowMachine Data'!$E$6:$E$123,1,'Cleaned SnowMachine Data'!AV$6:AV$123,'Activity Days'!$P92)","v":0},{"$f":"SUMIFS('Cleaned SnowMachine Data'!BG$6:BG$123,'Cleaned SnowMachine Data'!$E$6:$E$123,1,'Cleaned SnowMachine Data'!AW$6:AW$123,'Activity Days'!$P92)","v":0},{"$f":"SUMIFS('Cleaned SnowMachine Data'!BH$6:BH$123,'Cleaned SnowMachine Data'!$E$6:$E$123,1,'Cleaned SnowMachine Data'!AX$6:AX$123,'Activity Days'!$P92)","v":0},{"$f":"SUMIFS('Cleaned SnowMachine Data'!BI$6:BI$123,'Cleaned SnowMachine Data'!$E$6:$E$123,1,'Cleaned SnowMachine Data'!AY$6:AY$123,'Activity Days'!$P92)","v":0},0]
[{"$f":"'Site Codes'!AA91","v":"Trading Bay-West Cook Inlet"},{"$f":"'Site Codes'!AB91","v":"Snow 88"},{"$f":"SUMIF('Cleaned SnowMachine Data'!AP$6:AP$123,'Activity Days'!$B93,'Cleaned SnowMachine Data'!AZ$6:AZ$123)","v":0},{"$f":"SUMIF('Cleaned SnowMachine Data'!AQ$6:AQ$123,'Activity Days'!$B93,'Cleaned SnowMachine Data'!BA$6:BA$123)","v":0},{"$f":"SUMIF('Cleaned SnowMachine Data'!AR$6:AR$123,'Activity Days'!$B93,'Cleaned SnowMachine Data'!BB$6:BB$123)","v":0},{"$f":"SUMIF('Cleaned SnowMachine Data'!AS$6:AS$123,'Activity Days'!$B93,'Cleaned SnowMachine Data'!BC$6:BC$123)","v":0},{"$f":"SUMIF('Cleaned SnowMachine Data'!AT$6:AT$123,'Activity Days'!$B93,'Cleaned SnowMachine Data'!BD$6:BD$123)","v":0},{"$f":"SUMIF('Cleaned SnowMachine Data'!AU$6:AU$123,'Activity Days'!$B93,'Cleaned SnowMachine Data'!BE$6:BE$123)","v":0},{"$f":"SUMIF('Cleaned SnowMachine Data'!AV$6:AV$123,'Activity Days'!$B93,'Cleaned SnowMachine Data'!BF$6:BF$123)","v":0},{"$f":"SUMIF('Cleaned SnowMachine Data'!AW$6:AW$123,'Activity Days'!$B93,'Cleaned SnowMachine Data'!BG$6:BG$123)","v":0},{"$f":"SUMIF('Cleaned SnowMachine Data'!AX$6:AX$123,'Activity Days'!$B93,'Cleaned SnowMachine Data'!BH$6:BH$123)","v":0},{"$f":"SUMIF('Cleaned SnowMachine Data'!AY$6:AY$123,'Activity Days'!$B93,'Cleaned SnowMachine Data'!BI$6:BI$123)","v":0},0,null,{"$f":"'Site Codes'!AA91","v":"Trading Bay-West Cook Inlet"},{"$f":"'Site Codes'!AB91","v":"Snow 88"},{"$f":"SUMIFS('Cleaned SnowMachine Data'!AZ$6:AZ$123,'Cleaned SnowMachine Data'!$E$6:$E$123,1,'Cleaned SnowMachine Data'!AP$6:AP$123,'Activity Days'!$P93)","v":0},{"$f":"SUMIFS('Cleaned SnowMachine Data'!BA$6:BA$123,'Cleaned SnowMachine Data'!$E$6:$E$123,1,'Cleaned SnowMachine Data'!AQ$6:AQ$123,'Activity Days'!$P93)","v":0},{"$f":"SUMIFS('Cleaned SnowMachine Data'!BB$6:BB$123,'Cleaned SnowMachine Data'!$E$6:$E$123,1,'Cleaned SnowMachine Data'!AR$6:AR$123,'Activity Days'!$P93)","v":0},{"$f":"SUMIFS('Cleaned SnowMachine Data'!BC$6:BC$123,'Cleaned SnowMachine Data'!$E$6:$E$123,1,'Cleaned SnowMachine Data'!AS$6:AS$123,'Activity Days'!$P93)","v":0},{"$f":"SUMIFS('Cleaned SnowMachine Data'!BD$6:BD$123,'Cleaned SnowMachine Data'!$E$6:$E$123,1,'Cleaned SnowMachine Data'!AT$6:AT$123,'Activity Days'!$P93)","v":0},{"$f":"SUMIFS('Cleaned SnowMachine Data'!BE$6:BE$123,'Cleaned SnowMachine Data'!$E$6:$E$123,1,'Cleaned SnowMachine Data'!AU$6:AU$123,'Activity Days'!$P93)","v":0},{"$f":"SUMIFS('Cleaned SnowMachine Data'!BF$6:BF$123,'Cleaned SnowMachine Data'!$E$6:$E$123,1,'Cleaned SnowMachine Data'!AV$6:AV$123,'Activity Days'!$P93)","v":0},{"$f":"SUMIFS('Cleaned SnowMachine Data'!BG$6:BG$123,'Cleaned SnowMachine Data'!$E$6:$E$123,1,'Cleaned SnowMachine Data'!AW$6:AW$123,'Activity Days'!$P93)","v":0},{"$f":"SUMIFS('Cleaned SnowMachine Data'!BH$6:BH$123,'Cleaned SnowMachine Data'!$E$6:$E$123,1,'Cleaned SnowMachine Data'!AX$6:AX$123,'Activity Days'!$P93)","v":0},{"$f":"SUMIFS('Cleaned SnowMachine Data'!BI$6:BI$123,'Cleaned SnowMachine Data'!$E$6:$E$123,1,'Cleaned SnowMachine Data'!AY$6:AY$123,'Activity Days'!$P93)","v":0},0]
[{"$f":"'Site Codes'!AA92","v":"Trapper Creek"},{"$f":"'Site Codes'!AB92","v":"Snow 89"},{"$f":"SUMIF('Cleaned SnowMachine Data'!AP$6:AP$123,'Activity Days'!$B94,'Cleaned SnowMachine Data'!AZ$6:AZ$123)","v":70},{"$f":"SUMIF('Cleaned SnowMachine Data'!AQ$6:AQ$123,'Activity Days'!$B94,'Cleaned SnowMachine Data'!BA$6:BA$123)","v":0},{"$f":"SUMIF('Cleaned SnowMachine Data'!AR$6:AR$123,'Activity Days'!$B94,'Cleaned SnowMachine Data'!BB$6:BB$123)","v":0},{"$f":"SUMIF('Cleaned SnowMachine Data'!AS$6:AS$123,'Activity Days'!$B94,'Cleaned SnowMachine Data'!BC$6:BC$123)","v":0},{"$f":"SUMIF('Cleaned SnowMachine Data'!AT$6:AT$123,'Activity Days'!$B94,'Cleaned SnowMachine Data'!BD$6:BD$123)","v":0},{"$f":"SUMIF('Cleaned SnowMachine Data'!AU$6:AU$123,'Activity Days'!$B94,'Cleaned SnowMachine Data'!BE$6:BE$123)","v":0},{"$f":"SUMIF('Cleaned SnowMachine Data'!AV$6:AV$123,'Activity Days'!$B94,'Cleaned SnowMachine Data'!BF$6:BF$123)","v":0},{"$f":"SUMIF('Cleaned SnowMachine Data'!AW$6:AW$123,'Activity Days'!$B94,'Cleaned SnowMachine Data'!BG$6:BG$123)","v":0},{"$f":"SUMIF('Cleaned SnowMachine Data'!AX$6:AX$123,'Activity Days'!$B94,'Cleaned SnowMachine Data'!BH$6:BH$123)","v":0},{"$f":"SUMIF('Cleaned SnowMachine Data'!AY$6:AY$123,'Activity Days'!$B94,'Cleaned SnowMachine Data'!BI$6:BI$123)","v":0},70,null,{"$f":"'Site Codes'!AA92","v":"Trapper Creek"},{"$f":"'Site Codes'!AB92","v":"Snow 89"},{"$f":"SUMIFS('Cleaned SnowMachine Data'!AZ$6:AZ$123,'Cleaned SnowMachine Data'!$E$6:$E$123,1,'Cleaned SnowMachine Data'!AP$6:AP$123,'Activity Days'!$P94)","v":20},{"$f":"SUMIFS('Cleaned SnowMachine Data'!BA$6:BA$123,'Cleaned SnowMachine Data'!$E$6:$E$123,1,'Cleaned SnowMachine Data'!AQ$6:AQ$123,'Activity Days'!$P94)","v":0},{"$f":"SUMIFS('Cleaned SnowMachine Data'!BB$6:BB$123,'Cleaned SnowMachine Data'!$E$6:$E$123,1,'Cleaned SnowMachine Data'!AR$6:AR$123,'Activity Days'!$P94)","v":0},{"$f":"SUMIFS('Cleaned SnowMachine Data'!BC$6:BC$123,'Cleaned SnowMachine Data'!$E$6:$E$123,1,'Cleaned SnowMachine Data'!AS$6:AS$123,'Activity Days'!$P94)","v":0},{"$f":"SUMIFS('Cleaned SnowMachine Data'!BD$6:BD$123,'Cleaned SnowMachine Data'!$E$6:$E$123,1,'Cleaned SnowMachine Data'!AT$6:AT$123,'Activity Days'!$P94)","v":0},{"$f":"SUMIFS('Cleaned SnowMachine Data'!BE$6:BE$123,'Cleaned SnowMachine Data'!$E$6:$E$123,1,'Cleaned SnowMachine Data'!AU$6:AU$123,'Activity Days'!$P94)","v":0},{"$f":"SUMIFS('Cleaned SnowMachine Data'!BF$6:BF$123,'Cleaned SnowMachine Data'!$E$6:$E$123,1,'Cleaned SnowMachine Data'!AV$6:AV$123,'Activity Days'!$P94)","v":0},{"$f":"SUMIFS('Cleaned SnowMachine Data'!BG$6:BG$123,'Cleaned SnowMachine Data'!$E$6:$E$123,1,'Cleaned SnowMachine Data'!AW$6:AW$123,'Activity Days'!$P94)","v":0},{"$f":"SUMIFS('Cleaned SnowMachine Data'!BH$6:BH$123,'Cleaned SnowMachine Data'!$E$6:$E$123,1,'Cleaned SnowMachine Data'!AX$6:AX$123,'Activity Days'!$P94)","v":0},{"$f":"SUMIFS('Cleaned SnowMachine Data'!BI$6:BI$123,'Cleaned SnowMachine Data'!$E$6:$E$123,1,'Cleaned SnowMachine Data'!AY$6:AY$123,'Activity Days'!$P94)","v":0},20]
[{"$f":"'Site Codes'!AA93","v":"Turnagain Pass"},{"$f":"'Site Codes'!AB93","v":"Snow 90"},{"$f":"SUMIF('Cleaned SnowMachine Data'!AP$6:AP$123,'Activity Days'!$B95,'Cleaned SnowMachine Data'!AZ$6:AZ$123)","v":10},{"$f":"SUMIF('Cleaned SnowMachine Data'!AQ$6:AQ$123,'Activity Days'!$B95,'Cleaned SnowMachine Data'!BA$6:BA$123)","v":3},{"$f":"SUMIF('Cleaned SnowMachine Data'!AR$6:AR$123,'Activity Days'!$B95,'Cleaned SnowMachine Data'!BB$6:BB$123)","v":7},{"$f":"SUMIF('Cleaned SnowMachine Data'!AS$6:AS$123,'Activity Days'!$B95,'Cleaned SnowMachine Data'!BC$6:BC$123)","v":0},{"$f":"SUMIF('Cleaned SnowMachine Data'!AT$6:AT$123,'Activity Days'!$B95,'Cleaned SnowMachine Data'!BD$6:BD$123)","v":0},{"$f":"SUMIF('Cleaned SnowMachine Data'!AU$6:AU$123,'Activity Days'!$B95,'Cleaned SnowMachine Data'!BE$6:BE$123)","v":0},{"$f":"SUMIF('Cleaned SnowMachine Data'!AV$6:AV$123,'Activity Days'!$B95,'Cleaned SnowMachine Data'!BF$6:BF$123)","v":0},{"$f":"SUMIF('Cleaned SnowMachine Data'!AW$6:AW$123,'Activity Days'!$B95,'Cleaned SnowMachine Data'!BG$6:BG$123)","v":0},{"$f":"SUMIF('Cleaned SnowMachine Data'!AX$6:AX$123,'Activity Days'!$B95,'Cleaned SnowMachine Data'!BH$6:BH$123)","v":0},{"$f":"SUMIF('Cleaned SnowMachine Data'!AY$6:AY$123,'Activity Days'!$B95,'Cleaned SnowMachine Data'!BI$6:BI$123)","v":0},20,null,{"$f":"'Site Codes'!AA93","v":"Turnagain Pass"},{"$f":"'Site Codes'!AB93","v":"Snow 90"},{"$f":"SUMIFS('Cleaned SnowMachine Data'!AZ$6:AZ$123,'Cleaned SnowMachine Data'!$E$6:$E$123,1,'Cleaned SnowMachine Data'!AP$6:AP$123,'Activity Days'!$P95)","v":0},{"$f":"SUMIFS('Cleaned SnowMachine Data'!BA$6:BA$123,'Cleaned SnowMachine Data'!$E$6:$E$123,1,'Cleaned SnowMachine Data'!AQ$6:AQ$123,'Activity Days'!$P95)","v":3},{"$f":"SUMIFS('Cleaned SnowMachine Data'!BB$6:BB$123,'Cleaned SnowMachine Data'!$E$6:$E$123,1,'Cleaned SnowMachine Data'!AR$6:AR$123,'Activity Days'!$P95)","v":0},{"$f":"SUMIFS('Cleaned SnowMachine Data'!BC$6:BC$123,'Cleaned SnowMachine Data'!$E$6:$E$123,1,'Cleaned SnowMachine Data'!AS$6:AS$123,'Activity Days'!$P95)","v":0},{"$f":"SUMIFS('Cleaned SnowMachine Data'!BD$6:BD$123,'Cleaned SnowMachine Data'!$E$6:$E$123,1,'Cleaned SnowMachine Data'!AT$6:AT$123,'Activity Days'!$P95)","v":0},{"$f":"SUMIFS('Cleaned SnowMachine Data'!BE$6:BE$123,'Cleaned SnowMachine Data'!$E$6:$E$123,1,'Cleaned SnowMachine Data'!AU$6:AU$123,'Activity Days'!$P95)","v":0},{"$f":"SUMIFS('Cleaned SnowMachine Data'!BF$6:BF$123,'Cleaned SnowMachine Data'!$E$6:$E$123,1,'Cleaned SnowMachine Data'!AV$6:AV$123,'Activity Days'!$P95)","v":0},{"$f":"SUMIFS('Cleaned SnowMachine Data'!BG$6:BG$123,'Cleaned SnowMachine Data'!$E$6:$E$123,1,'Cleaned SnowMachine Data'!AW$6:AW$123,'Activity Days'!$P95)","v":0},{"$f":"SUMIFS('Cleaned SnowMachine Data'!BH$6:BH$123,'Cleaned SnowMachine Data'!$E$6:$E$123,1,'Cleaned SnowMachine Data'!AX$6:AX$123,'Activity Days'!$P95)","v":0},{"$f":"SUMIFS('Cleaned SnowMachine Data'!BI$6:BI$123,'Cleaned SnowMachine Data'!$E$6:$E$123,1,'Cleaned SnowMachine Data'!AY$6:AY$123,'Activity Days'!$P95)","v":0},3]
[{"$f":"'Site Codes'!AA94","v":"Uncodeable"},{"$f":"'Site Codes'!AB94","v":"Snow 91"},{"$f":"SUMIF('Cleaned SnowMachine Data'!AP$6:AP$123,'Activity Days'!$B96,'Cleaned SnowMachine Data'!AZ$6:AZ$123)","v":0},{"$f":"SUMIF('Cleaned SnowMachine Data'!AQ$6:AQ$123,'Activity Days'!$B96,'Cleaned SnowMachine Data'!BA$6:BA$123)","v":0},{"$f":"SUMIF('Cleaned SnowMachine Data'!AR$6:AR$123,'Activity Days'!$B96,'Cleaned SnowMachine Data'!BB$6:BB$123)","v":3},{"$f":"SUMIF('Cleaned SnowMachine Data'!AS$6:AS$123,'Activity Days'!$B96,'Cleaned SnowMachine Data'!BC$6:BC$123)","v":0},{"$f":"SUMIF('Cleaned SnowMachine Data'!AT$6:AT$123,'Activity Days'!$B96,'Cleaned SnowMachine Data'!BD$6:BD$123)","v":0},{"$f":"SUMIF('Cleaned SnowMachine Data'!AU$6:AU$123,'Activity Days'!$B96,'Cleaned SnowMachine Data'!BE$6:BE$123)","v":0},{"$f":"SUMIF('Cleaned SnowMachine Data'!AV$6:AV$123,'Activity Days'!$B96,'Cleaned SnowMachine Data'!BF$6:BF$123)","v":0},{"$f":"SUMIF('Cleaned SnowMachine Data'!AW$6:AW$123,'Activity Days'!$B96,'Cleaned SnowMachine Data'!BG$6:BG$123)","v":2},{"$f":"SUMIF('Cleaned SnowMachine Data'!AX$6:AX$123,'Activity Days'!$B96,'Cleaned SnowMachine Data'!BH$6:BH$123)","v":0},{"$f":"SUMIF('Cleaned SnowMachine Data'!AY$6:AY$123,'Activity Days'!$B96,'Cleaned SnowMachine Data'!BI$6:BI$123)","v":0},5,null,{"$f":"'Site Codes'!AA94","v":"Uncodeable"},{"$f":"'Site Codes'!AB94","v":"Snow 91"},{"$f":"SUMIFS('Cleaned SnowMachine Data'!AZ$6:AZ$123,'Cleaned SnowMachine Data'!$E$6:$E$123,1,'Cleaned SnowMachine Data'!AP$6:AP$123,'Activity Days'!$P96)","v":0},{"$f":"SUMIFS('Cleaned SnowMachine Data'!BA$6:BA$123,'Cleaned SnowMachine Data'!$E$6:$E$123,1,'Cleaned SnowMachine Data'!AQ$6:AQ$123,'Activity Days'!$P96)","v":0},{"$f":"SUMIFS('Cleaned SnowMachine Data'!BB$6:BB$123,'Cleaned SnowMachine Data'!$E$6:$E$123,1,'Cleaned SnowMachine Data'!AR$6:AR$123,'Activity Days'!$P96)","v":3},{"$f":"SUMIFS('Cleaned SnowMachine Data'!BC$6:BC$123,'Cleaned SnowMachine Data'!$E$6:$E$123,1,'Cleaned SnowMachine Data'!AS$6:AS$123,'Activity Days'!$P96)","v":0},{"$f":"SUMIFS('Cleaned SnowMachine Data'!BD$6:BD$123,'Cleaned SnowMachine Data'!$E$6:$E$123,1,'Cleaned SnowMachine Data'!AT$6:AT$123,'Activity Days'!$P96)","v":0},{"$f":"SUMIFS('Cleaned SnowMachine Data'!BE$6:BE$123,'Cleaned SnowMachine Data'!$E$6:$E$123,1,'Cleaned SnowMachine Data'!AU$6:AU$123,'Activity Days'!$P96)","v":0},{"$f":"SUMIFS('Cleaned SnowMachine Data'!BF$6:BF$123,'Cleaned SnowMachine Data'!$E$6:$E$123,1,'Cleaned SnowMachine Data'!AV$6:AV$123,'Activity Days'!$P96)","v":0},{"$f":"SUMIFS('Cleaned SnowMachine Data'!BG$6:BG$123,'Cleaned SnowMachine Data'!$E$6:$E$123,1,'Cleaned SnowMachine Data'!AW$6:AW$123,'Activity Days'!$P96)","v":0},{"$f":"SUMIFS('Cleaned SnowMachine Data'!BH$6:BH$123,'Cleaned SnowMachine Data'!$E$6:$E$123,1,'Cleaned SnowMachine Data'!AX$6:AX$123,'Activity Days'!$P96)","v":0},{"$f":"SUMIFS('Cleaned SnowMachine Data'!BI$6:BI$123,'Cleaned SnowMachine Data'!$E$6:$E$123,1,'Cleaned SnowMachine Data'!AY$6:AY$123,'Activity Days'!$P96)","v":0},3]
[{"$f":"'Site Codes'!AA95","v":"Wales"},{"$f":"'Site Codes'!AB95","v":"Snow 92"},{"$f":"SUMIF('Cleaned SnowMachine Data'!AP$6:AP$123,'Activity Days'!$B97,'Cleaned SnowMachine Data'!AZ$6:AZ$123)","v":0},{"$f":"SUMIF('Cleaned SnowMachine Data'!AQ$6:AQ$123,'Activity Days'!$B97,'Cleaned SnowMachine Data'!BA$6:BA$123)","v":0},{"$f":"SUMIF('Cleaned SnowMachine Data'!AR$6:AR$123,'Activity Days'!$B97,'Cleaned SnowMachine Data'!BB$6:BB$123)","v":0},{"$f":"SUMIF('Cleaned SnowMachine Data'!AS$6:AS$123,'Activity Days'!$B97,'Cleaned SnowMachine Data'!BC$6:BC$123)","v":0},{"$f":"SUMIF('Cleaned SnowMachine Data'!AT$6:AT$123,'Activity Days'!$B97,'Cleaned SnowMachine Data'!BD$6:BD$123)","v":0},{"$f":"SUMIF('Cleaned SnowMachine Data'!AU$6:AU$123,'Activity Days'!$B97,'Cleaned SnowMachine Data'!BE$6:BE$123)","v":0},{"$f":"SUMIF('Cleaned SnowMachine Data'!AV$6:AV$123,'Activity Days'!$B97,'Cleaned SnowMachine Data'!BF$6:BF$123)","v":0},{"$f":"SUMIF('Cleaned SnowMachine Data'!AW$6:AW$123,'Activity Days'!$B97,'Cleaned SnowMachine Data'!BG$6:BG$123)","v":0},{"$f":"SUMIF('Cleaned SnowMachine Data'!AX$6:AX$123,'Activity Days'!$B97,'Cleaned SnowMachine Data'!BH$6:BH$123)","v":0},{"$f":"SUMIF('Cleaned SnowMachine Data'!AY$6:AY$123,'Activity Days'!$B97,'Cleaned SnowMachine Data'!BI$6:BI$123)","v":0},0,null,{"$f":"'Site Codes'!AA95","v":"Wales"},{"$f":"'Site Codes'!AB95","v":"Snow 92"},{"$f":"SUMIFS('Cleaned SnowMachine Data'!AZ$6:AZ$123,'Cleaned SnowMachine Data'!$E$6:$E$123,1,'Cleaned SnowMachine Data'!AP$6:AP$123,'Activity Days'!$P97)","v":0},{"$f":"SUMIFS('Cleaned SnowMachine Data'!BA$6:BA$123,'Cleaned SnowMachine Data'!$E$6:$E$123,1,'Cleaned SnowMachine Data'!AQ$6:AQ$123,'Activity Days'!$P97)","v":0},{"$f":"SUMIFS('Cleaned SnowMachine Data'!BB$6:BB$123,'Cleaned SnowMachine Data'!$E$6:$E$123,1,'Cleaned SnowMachine Data'!AR$6:AR$123,'Activity Days'!$P97)","v":0},{"$f":"SUMIFS('Cleaned SnowMachine Data'!BC$6:BC$123,'Cleaned SnowMachine Data'!$E$6:$E$123,1,'Cleaned SnowMachine Data'!AS$6:AS$123,'Activity Days'!$P97)","v":0},{"$f":"SUMIFS('Cleaned SnowMachine Data'!BD$6:BD$123,'Cleaned SnowMachine Data'!$E$6:$E$123,1,'Cleaned SnowMachine Data'!AT$6:AT$123,'Activity Days'!$P97)","v":0},{"$f":"SUMIFS('Cleaned SnowMachine Data'!BE$6:BE$123,'Cleaned SnowMachine Data'!$E$6:$E$123,1,'Cleaned SnowMachine Data'!AU$6:AU$123,'Activity Days'!$P97)","v":0},{"$f":"SUMIFS('Cleaned SnowMachine Data'!BF$6:BF$123,'Cleaned SnowMachine Data'!$E$6:$E$123,1,'Cleaned SnowMachine Data'!AV$6:AV$123,'Activity Days'!$P97)","v":0},{"$f":"SUMIFS('Cleaned SnowMachine Data'!BG$6:BG$123,'Cleaned SnowMachine Data'!$E$6:$E$123,1,'Cleaned SnowMachine Data'!AW$6:AW$123,'Activity Days'!$P97)","v":0},{"$f":"SUMIFS('Cleaned SnowMachine Data'!BH$6:BH$123,'Cleaned SnowMachine Data'!$E$6:$E$123,1,'Cleaned SnowMachine Data'!AX$6:AX$123,'Activity Days'!$P97)","v":0},{"$f":"SUMIFS('Cleaned SnowMachine Data'!BI$6:BI$123,'Cleaned SnowMachine Data'!$E$6:$E$123,1,'Cleaned SnowMachine Data'!AY$6:AY$123,'Activity Days'!$P97)","v":0},0]
[{"$f":"'Site Codes'!AA96","v":"Wasilla"},{"$f":"'Site Codes'!AB96","v":"Snow 93"},{"$f":"SUMIF('Cleaned SnowMachine Data'!AP$6:AP$123,'Activity Days'!$B98,'Cleaned SnowMachine Data'!AZ$6:AZ$123)","v":0},{"$f":"SUMIF('Cleaned SnowMachine Data'!AQ$6:AQ$123,'Activity Days'!$B98,'Cleaned SnowMachine Data'!BA$6:BA$123)","v":1},{"$f":"SUMIF('Cleaned SnowMachine Data'!AR$6:AR$123,'Activity Days'!$B98,'Cleaned SnowMachine Data'!BB$6:BB$123)","v":0},{"$f":"SUMIF('Cleaned SnowMachine Data'!AS$6:AS$123,'Activity Days'!$B98,'Cleaned SnowMachine Data'!BC$6:BC$123)","v":0},{"$f":"SUMIF('Cleaned SnowMachine Data'!AT$6:AT$123,'Activity Days'!$B98,'Cleaned SnowMachine Data'!BD$6:BD$123)","v":0},{"$f":"SUMIF('Cleaned SnowMachine Data'!AU$6:AU$123,'Activity Days'!$B98,'Cleaned SnowMachine Data'!BE$6:BE$123)","v":0},{"$f":"SUMIF('Cleaned SnowMachine Data'!AV$6:AV$123,'Activity Days'!$B98,'Cleaned SnowMachine Data'!BF$6:BF$123)","v":0},{"$f":"SUMIF('Cleaned SnowMachine Data'!AW$6:AW$123,'Activity Days'!$B98,'Cleaned SnowMachine Data'!BG$6:BG$123)","v":0},{"$f":"SUMIF('Cleaned SnowMachine Data'!AX$6:AX$123,'Activity Days'!$B98,'Cleaned SnowMachine Data'!BH$6:BH$123)","v":0},{"$f":"SUMIF('Cleaned SnowMachine Data'!AY$6:AY$123,'Activity Days'!$B98,'Cleaned SnowMachine Data'!BI$6:BI$123)","v":0},1,null,{"$f":"'Site Codes'!AA96","v":"Wasilla"},{"$f":"'Site Codes'!AB96","v":"Snow 93"},{"$f":"SUMIFS('Cleaned SnowMachine Data'!AZ$6:AZ$123,'Cleaned SnowMachine Data'!$E$6:$E$123,1,'Cleaned SnowMachine Data'!AP$6:AP$123,'Activity Days'!$P98)","v":0},{"$f":"SUMIFS('Cleaned SnowMachine Data'!BA$6:BA$123,'Cleaned SnowMachine Data'!$E$6:$E$123,1,'Cleaned SnowMachine Data'!AQ$6:AQ$123,'Activity Days'!$P98)","v":0},{"$f":"SUMIFS('Cleaned SnowMachine Data'!BB$6:BB$123,'Cleaned SnowMachine Data'!$E$6:$E$123,1,'Cleaned SnowMachine Data'!AR$6:AR$123,'Activity Days'!$P98)","v":0},{"$f":"SUMIFS('Cleaned SnowMachine Data'!BC$6:BC$123,'Cleaned SnowMachine Data'!$E$6:$E$123,1,'Cleaned SnowMachine Data'!AS$6:AS$123,'Activity Days'!$P98)","v":0},{"$f":"SUMIFS('Cleaned SnowMachine Data'!BD$6:BD$123,'Cleaned SnowMachine Data'!$E$6:$E$123,1,'Cleaned SnowMachine Data'!AT$6:AT$123,'Activity Days'!$P98)","v":0},{"$f":"SUMIFS('Cleaned SnowMachine Data'!BE$6:BE$123,'Cleaned SnowMachine Data'!$E$6:$E$123,1,'Cleaned SnowMachine Data'!AU$6:AU$123,'Activity Days'!$P98)","v":0},{"$f":"SUMIFS('Cleaned SnowMachine Data'!BF$6:BF$123,'Cleaned SnowMachine Data'!$E$6:$E$123,1,'Cleaned SnowMachine Data'!AV$6:AV$123,'Activity Days'!$P98)","v":0},{"$f":"SUMIFS('Cleaned SnowMachine Data'!BG$6:BG$123,'Cleaned SnowMachine Data'!$E$6:$E$123,1,'Cleaned SnowMachine Data'!AW$6:AW$123,'Activity Days'!$P98)","v":0},{"$f":"SUMIFS('Cleaned SnowMachine Data'!BH$6:BH$123,'Cleaned SnowMachine Data'!$E$6:$E$123,1,'Cleaned SnowMachine Data'!AX$6:AX$123,'Activity Days'!$P98)","v":0},{"$f":"SUMIFS('Cleaned SnowMachine Data'!BI$6:BI$123,'Cleaned SnowMachine Data'!$E$6:$E$123,1,'Cleaned SnowMachine Data'!AY$6:AY$123,'Activity Days'!$P98)","v":0},0]
[{"$f":"'Site Codes'!AA97","v":"White Mountain-McKay Creek Area"},{"$f":"'Site Codes'!AB97","v":"Snow 94"},{"$f":"SUMIF('Cleaned SnowMachine Data'!AP$6:AP$123,'Activity Days'!$B99,'Cleaned SnowMachine Data'!AZ$6:AZ$123)","v":0},{"$f":"SUMIF('Cleaned SnowMachine Data'!AQ$6:AQ$123,'Activity Days'!$B99,'Cleaned SnowMachine Data'!BA$6:BA$123)","v":0},{"$f":"SUMIF('Cleaned SnowMachine Data'!AR$6:AR$123,'Activity Days'!$B99,'Cleaned SnowMachine Data'!BB$6:BB$123)","v":0},{"$f":"SUMIF('Cleaned SnowMachine Data'!AS$6:AS$123,'Activity Days'!$B99,'Cleaned SnowMachine Data'!BC$6:BC$123)","v":0},{"$f":"SUMIF('Cleaned SnowMachine Data'!AT$6:AT$123,'Activity Days'!$B99,'Cleaned SnowMachine Data'!BD$6:BD$123)","v":0},{"$f":"SUMIF('Cleaned SnowMachine Data'!AU$6:AU$123,'Activity Days'!$B99,'Cleaned SnowMachine Data'!BE$6:BE$123)","v":0},{"$f":"SUMIF('Cleaned SnowMachine Data'!AV$6:AV$123,'Activity Days'!$B99,'Cleaned SnowMachine Data'!BF$6:BF$123)","v":0},{"$f":"SUMIF('Cleaned SnowMachine Data'!AW$6:AW$123,'Activity Days'!$B99,'Cleaned SnowMachine Data'!BG$6:BG$123)","v":0},{"$f":"SUMIF('Cleaned SnowMachine Data'!AX$6:AX$123,'Activity Days'!$B99,'Cleaned SnowMachine Data'!BH$6:BH$123)","v":0},{"$f":"SUMIF('Cleaned SnowMachine Data'!AY$6:AY$123,'Activity Days'!$B99,'Cleaned SnowMachine Data'!BI$6:BI$123)","v":0},0,null,{"$f":"'Site Codes'!AA97","v":"White Mountain-McKay Creek Area"},{"$f":"'Site Codes'!AB97","v":"Snow 94"},{"$f":"SUMIFS('Cleaned SnowMachine Data'!AZ$6:AZ$123,'Cleaned SnowMachine Data'!$E$6:$E$123,1,'Cleaned SnowMachine Data'!AP$6:AP$123,'Activity Days'!$P99)","v":0},{"$f":"SUMIFS('Cleaned SnowMachine Data'!BA$6:BA$123,'Cleaned SnowMachine Data'!$E$6:$E$123,1,'Cleaned SnowMachine Data'!AQ$6:AQ$123,'Activity Days'!$P99)","v":0},{"$f":"SUMIFS('Cleaned SnowMachine Data'!BB$6:BB$123,'Cleaned SnowMachine Data'!$E$6:$E$123,1,'Cleaned SnowMachine Data'!AR$6:AR$123,'Activity Days'!$P99)","v":0},{"$f":"SUMIFS('Cleaned SnowMachine Data'!BC$6:BC$123,'Cleaned SnowMachine Data'!$E$6:$E$123,1,'Cleaned SnowMachine Data'!AS$6:AS$123,'Activity Days'!$P99)","v":0},{"$f":"SUMIFS('Cleaned SnowMachine Data'!BD$6:BD$123,'Cleaned SnowMachine Data'!$E$6:$E$123,1,'Cleaned SnowMachine Data'!AT$6:AT$123,'Activity Days'!$P99)","v":0},{"$f":"SUMIFS('Cleaned SnowMachine Data'!BE$6:BE$123,'Cleaned SnowMachine Data'!$E$6:$E$123,1,'Cleaned SnowMachine Data'!AU$6:AU$123,'Activity Days'!$P99)","v":0},{"$f":"SUMIFS('Cleaned SnowMachine Data'!BF$6:BF$123,'Cleaned SnowMachine Data'!$E$6:$E$123,1,'Cleaned SnowMachine Data'!AV$6:AV$123,'Activity Days'!$P99)","v":0},{"$f":"SUMIFS('Cleaned SnowMachine Data'!BG$6:BG$123,'Cleaned SnowMachine Data'!$E$6:$E$123,1,'Cleaned SnowMachine Data'!AW$6:AW$123,'Activity Days'!$P99)","v":0},{"$f":"SUMIFS('Cleaned SnowMachine Data'!BH$6:BH$123,'Cleaned SnowMachine Data'!$E$6:$E$123,1,'Cleaned SnowMachine Data'!AX$6:AX$123,'Activity Days'!$P99)","v":0},{"$f":"SUMIFS('Cleaned SnowMachine Data'!BI$6:BI$123,'Cleaned SnowMachine Data'!$E$6:$E$123,1,'Cleaned SnowMachine Data'!AY$6:AY$123,'Activity Days'!$P99)","v":0},0]
[{"$f":"'Site Codes'!AA98","v":"White Mountains-Wickersham"},{"$f":"'Site Codes'!AB98","v":"Snow 95"},{"$f":"SUMIF('Cleaned SnowMachine Data'!AP$6:AP$123,'Activity Days'!$B100,'Cleaned SnowMachine Data'!AZ$6:AZ$123)","v":0},{"$f":"SUMIF('Cleaned SnowMachine Data'!AQ$6:AQ$123,'Activity Days'!$B100,'Cleaned SnowMachine Data'!BA$6:BA$123)","v":0},{"$f":"SUMIF('Cleaned SnowMachine Data'!AR$6:AR$123,'Activity Days'!$B100,'Cleaned SnowMachine Data'!BB$6:BB$123)","v":0},{"$f":"SUMIF('Cleaned SnowMachine Data'!AS$6:AS$123,'Activity Days'!$B100,'Cleaned SnowMachine Data'!BC$6:BC$123)","v":0},{"$f":"SUMIF('Cleaned SnowMachine Data'!AT$6:AT$123,'Activity Days'!$B100,'Cleaned SnowMachine Data'!BD$6:BD$123)","v":0},{"$f":"SUMIF('Cleaned SnowMachine Data'!AU$6:AU$123,'Activity Days'!$B100,'Cleaned SnowMachine Data'!BE$6:BE$123)","v":0},{"$f":"SUMIF('Cleaned SnowMachine Data'!AV$6:AV$123,'Activity Days'!$B100,'Cleaned SnowMachine Data'!BF$6:BF$123)","v":0},{"$f":"SUMIF('Cleaned SnowMachine Data'!AW$6:AW$123,'Activity Days'!$B100,'Cleaned SnowMachine Data'!BG$6:BG$123)","v":0},{"$f":"SUMIF('Cleaned SnowMachine Data'!AX$6:AX$123,'Activity Days'!$B100,'Cleaned SnowMachine Data'!BH$6:BH$123)","v":0},{"$f":"SUMIF('Cleaned SnowMachine Data'!AY$6:AY$123,'Activity Days'!$B100,'Cleaned SnowMachine Data'!BI$6:BI$123)","v":0},0,null,{"$f":"'Site Codes'!AA98","v":"White Mountains-Wickersham"},{"$f":"'Site Codes'!AB98","v":"Snow 95"},{"$f":"SUMIFS('Cleaned SnowMachine Data'!AZ$6:AZ$123,'Cleaned SnowMachine Data'!$E$6:$E$123,1,'Cleaned SnowMachine Data'!AP$6:AP$123,'Activity Days'!$P100)","v":0},{"$f":"SUMIFS('Cleaned SnowMachine Data'!BA$6:BA$123,'Cleaned SnowMachine Data'!$E$6:$E$123,1,'Cleaned SnowMachine Data'!AQ$6:AQ$123,'Activity Days'!$P100)","v":0},{"$f":"SUMIFS('Cleaned SnowMachine Data'!BB$6:BB$123,'Cleaned SnowMachine Data'!$E$6:$E$123,1,'Cleaned SnowMachine Data'!AR$6:AR$123,'Activity Days'!$P100)","v":0},{"$f":"SUMIFS('Cleaned SnowMachine Data'!BC$6:BC$123,'Cleaned SnowMachine Data'!$E$6:$E$123,1,'Cleaned SnowMachine Data'!AS$6:AS$123,'Activity Days'!$P100)","v":0},{"$f":"SUMIFS('Cleaned SnowMachine Data'!BD$6:BD$123,'Cleaned SnowMachine Data'!$E$6:$E$123,1,'Cleaned SnowMachine Data'!AT$6:AT$123,'Activity Days'!$P100)","v":0},{"$f":"SUMIFS('Cleaned SnowMachine Data'!BE$6:BE$123,'Cleaned SnowMachine Data'!$E$6:$E$123,1,'Cleaned SnowMachine Data'!AU$6:AU$123,'Activity Days'!$P100)","v":0},{"$f":"SUMIFS('Cleaned SnowMachine Data'!BF$6:BF$123,'Cleaned SnowMachine Data'!$E$6:$E$123,1,'Cleaned SnowMachine Data'!AV$6:AV$123,'Activity Days'!$P100)","v":0},{"$f":"SUMIFS('Cleaned SnowMachine Data'!BG$6:BG$123,'Cleaned SnowMachine Data'!$E$6:$E$123,1,'Cleaned SnowMachine Data'!AW$6:AW$123,'Activity Days'!$P100)","v":0},{"$f":"SUMIFS('Cleaned SnowMachine Data'!BH$6:BH$123,'Cleaned SnowMachine Data'!$E$6:$E$123,1,'Cleaned SnowMachine Data'!AX$6:AX$123,'Activity Days'!$P100)","v":0},{"$f":"SUMIFS('Cleaned SnowMachine Data'!BI$6:BI$123,'Cleaned SnowMachine Data'!$E$6:$E$123,1,'Cleaned SnowMachine Data'!AY$6:AY$123,'Activity Days'!$P100)","v":0},0]
[{"$f":"'Site Codes'!AA99","v":"Whittier"},{"$f":"'Site Codes'!AB99","v":"Snow 96"},{"$f":"SUMIF('Cleaned SnowMachine Data'!AP$6:AP$123,'Activity Days'!$B101,'Cleaned SnowMachine Data'!AZ$6:AZ$123)","v":4},{"$f":"SUMIF('Cleaned SnowMachine Data'!AQ$6:AQ$123,'Activity Days'!$B101,'Cleaned SnowMachine Data'!BA$6:BA$123)","v":0},{"$f":"SUMIF('Cleaned SnowMachine Data'!AR$6:AR$123,'Activity Days'!$B101,'Cleaned SnowMachine Data'!BB$6:BB$123)","v":0},{"$f":"SUMIF('Cleaned SnowMachine Data'!AS$6:AS$123,'Activity Days'!$B101,'Cleaned SnowMachine Data'!BC$6:BC$123)","v":0},{"$f":"SUMIF('Cleaned SnowMachine Data'!AT$6:AT$123,'Activity Days'!$B101,'Cleaned SnowMachine Data'!BD$6:BD$123)","v":0},{"$f":"SUMIF('Cleaned SnowMachine Data'!AU$6:AU$123,'Activity Days'!$B101,'Cleaned SnowMachine Data'!BE$6:BE$123)","v":1},{"$f":"SUMIF('Cleaned SnowMachine Data'!AV$6:AV$123,'Activity Days'!$B101,'Cleaned SnowMachine Data'!BF$6:BF$123)","v":0},{"$f":"SUMIF('Cleaned SnowMachine Data'!AW$6:AW$123,'Activity Days'!$B101,'Cleaned SnowMachine Data'!BG$6:BG$123)","v":0},{"$f":"SUMIF('Cleaned SnowMachine Data'!AX$6:AX$123,'Activity Days'!$B101,'Cleaned SnowMachine Data'!BH$6:BH$123)","v":0},{"$f":"SUMIF('Cleaned SnowMachine Data'!AY$6:AY$123,'Activity Days'!$B101,'Cleaned SnowMachine Data'!BI$6:BI$123)","v":0},5,null,{"$f":"'Site Codes'!AA99","v":"Whittier"},{"$f":"'Site Codes'!AB99","v":"Snow 96"},{"$f":"SUMIFS('Cleaned SnowMachine Data'!AZ$6:AZ$123,'Cleaned SnowMachine Data'!$E$6:$E$123,1,'Cleaned SnowMachine Data'!AP$6:AP$123,'Activity Days'!$P101)","v":0},{"$f":"SUMIFS('Cleaned SnowMachine Data'!BA$6:BA$123,'Cleaned SnowMachine Data'!$E$6:$E$123,1,'Cleaned SnowMachine Data'!AQ$6:AQ$123,'Activity Days'!$P101)","v":0},{"$f":"SUMIFS('Cleaned SnowMachine Data'!BB$6:BB$123,'Cleaned SnowMachine Data'!$E$6:$E$123,1,'Cleaned SnowMachine Data'!AR$6:AR$123,'Activity Days'!$P101)","v":0},{"$f":"SUMIFS('Cleaned SnowMachine Data'!BC$6:BC$123,'Cleaned SnowMachine Data'!$E$6:$E$123,1,'Cleaned SnowMachine Data'!AS$6:AS$123,'Activity Days'!$P101)","v":0},{"$f":"SUMIFS('Cleaned SnowMachine Data'!BD$6:BD$123,'Cleaned SnowMachine Data'!$E$6:$E$123,1,'Cleaned SnowMachine Data'!AT$6:AT$123,'Activity Days'!$P101)","v":0},{"$f":"SUMIFS('Cleaned SnowMachine Data'!BE$6:BE$123,'Cleaned SnowMachine Data'!$E$6:$E$123,1,'Cleaned SnowMachine Data'!AU$6:AU$123,'Activity Days'!$P101)","v":0},{"$f":"SUMIFS('Cleaned SnowMachine Data'!BF$6:BF$123,'Cleaned SnowMachine Data'!$E$6:$E$123,1,'Cleaned SnowMachine Data'!AV$6:AV$123,'Activity Days'!$P101)","v":0},{"$f":"SUMIFS('Cleaned SnowMachine Data'!BG$6:BG$123,'Cleaned SnowMachine Data'!$E$6:$E$123,1,'Cleaned SnowMachine Data'!AW$6:AW$123,'Activity Days'!$P101)","v":0},{"$f":"SUMIFS('Cleaned SnowMachine Data'!BH$6:BH$123,'Cleaned SnowMachine Data'!$E$6:$E$123,1,'Cleaned SnowMachine Data'!AX$6:AX$123,'Activity Days'!$P101)","v":0},{"$f":"SUMIFS('Cleaned SnowMachine Data'!BI$6:BI$123,'Cleaned SnowMachine Data'!$E$6:$E$123,1,'Cleaned SnowMachine Data'!AY$6:AY$123,'Activity Days'!$P101)","v":0},0]
[{"$f":"'Site Codes'!AA100","v":"Willow Area Trails-Willow"},{"$f":"'Site Codes'!AB100","v":"Snow 97"},{"$f":"SUMIF('Cleaned SnowMachine Data'!AP$6:AP$123,'Activity Days'!$B102,'Cleaned SnowMachine Data'!AZ$6:AZ$123)","v":37},{"$f":"SUMIF('Cleaned SnowMachine Data'!AQ$6:AQ$123,'Activity Days'!$B102,'Cleaned SnowMachine Data'!BA$6:BA$123)","v":11},{"$f":"SUMIF('Cleaned SnowMachine Data'!AR$6:AR$123,'Activity Days'!$B102,'Cleaned SnowMachine Data'!BB$6:BB$123)","v":0},{"$f":"SUMIF('Cleaned SnowMachine Data'!AS$6:AS$123,'Activity Days'!$B102,'Cleaned SnowMachine Data'!BC$6:BC$123)","v":0},{"$f":"SUMIF('Cleaned SnowMachine Data'!AT$6:AT$123,'Activity Days'!$B102,'Cleaned SnowMachine Data'!BD$6:BD$123)","v":0},{"$f":"SUMIF('Cleaned SnowMachine Data'!AU$6:AU$123,'Activity Days'!$B102,'Cleaned SnowMachine Data'!BE$6:BE$123)","v":0},{"$f":"SUMIF('Cleaned SnowMachine Data'!AV$6:AV$123,'Activity Days'!$B102,'Cleaned SnowMachine Data'!BF$6:BF$123)","v":0},{"$f":"SUMIF('Cleaned SnowMachine Data'!AW$6:AW$123,'Activity Days'!$B102,'Cleaned SnowMachine Data'!BG$6:BG$123)","v":0},{"$f":"SUMIF('Cleaned SnowMachine Data'!AX$6:AX$123,'Activity Days'!$B102,'Cleaned SnowMachine Data'!BH$6:BH$123)","v":0},{"$f":"SUMIF('Cleaned SnowMachine Data'!AY$6:AY$123,'Activity Days'!$B102,'Cleaned SnowMachine Data'!BI$6:BI$123)","v":0},{"$f":"SUM(C102:L102)","v":48},null,{"$f":"'Site Codes'!AA100","v":"Willow Area Trails-Willow"},{"$f":"'Site Codes'!AB100","v":"Snow 97"},{"$f":"SUMIFS('Cleaned SnowMachine Data'!AZ$6:AZ$123,'Cleaned SnowMachine Data'!$E$6:$E$123,1,'Cleaned SnowMachine Data'!AP$6:AP$123,'Activity Days'!$P102)","v":0},{"$f":"SUMIFS('Cleaned SnowMachine Data'!BA$6:BA$123,'Cleaned SnowMachine Data'!$E$6:$E$123,1,'Cleaned SnowMachine Data'!AQ$6:AQ$123,'Activity Days'!$P102)","v":0},{"$f":"SUMIFS('Cleaned SnowMachine Data'!BB$6:BB$123,'Cleaned SnowMachine Data'!$E$6:$E$123,1,'Cleaned SnowMachine Data'!AR$6:AR$123,'Activity Days'!$P102)","v":0},{"$f":"SUMIFS('Cleaned SnowMachine Data'!BC$6:BC$123,'Cleaned SnowMachine Data'!$E$6:$E$123,1,'Cleaned SnowMachine Data'!AS$6:AS$123,'Activity Days'!$P102)","v":0},{"$f":"SUMIFS('Cleaned SnowMachine Data'!BD$6:BD$123,'Cleaned SnowMachine Data'!$E$6:$E$123,1,'Cleaned SnowMachine Data'!AT$6:AT$123,'Activity Days'!$P102)","v":0},{"$f":"SUMIFS('Cleaned SnowMachine Data'!BE$6:BE$123,'Cleaned SnowMachine Data'!$E$6:$E$123,1,'Cleaned SnowMachine Data'!AU$6:AU$123,'Activity Days'!$P102)","v":0},{"$f":"SUMIFS('Cleaned SnowMachine Data'!BF$6:BF$123,'Cleaned SnowMachine Data'!$E$6:$E$123,1,'Cleaned SnowMachine Data'!AV$6:AV$123,'Activity Days'!$P102)","v":0},{"$f":"SUMIFS('Cleaned SnowMachine Data'!BG$6:BG$123,'Cleaned SnowMachine Data'!$E$6:$E$123,1,'Cleaned SnowMachine Data'!AW$6:AW$123,'Activity Days'!$P102)","v":0},{"$f":"SUMIFS('Cleaned SnowMachine Data'!BH$6:BH$123,'Cleaned SnowMachine Data'!$E$6:$E$123,1,'Cleaned SnowMachine Data'!AX$6:AX$123,'Activity Days'!$P102)","v":0},{"$f":"SUMIFS('Cleaned SnowMachine Data'!BI$6:BI$123,'Cleaned SnowMachine Data'!$E$6:$E$123,1,'Cleaned SnowMachine Data'!AY$6:AY$123,'Activity Days'!$P102)","v":0},0]
[{"$f":"'Site Codes'!AA101","v":"Willow Lakes"},{"$f":"'Site Codes'!AB101","v":"Snow 98"},{"$f":"SUMIF('Cleaned SnowMachine Data'!AP$6:AP$123,'Activity Days'!$B103,'Cleaned SnowMachine Data'!AZ$6:AZ$123)","v":0},{"$f":"SUMIF('Cleaned SnowMachine Data'!AQ$6:AQ$123,'Activity Days'!$B103,'Cleaned SnowMachine Data'!BA$6:BA$123)","v":0},{"$f":"SUMIF('Cleaned SnowMachine Data'!AR$6:AR$123,'Activity Days'!$B103,'Cleaned SnowMachine Data'!BB$6:BB$123)","v":0},{"$f":"SUMIF('Cleaned SnowMachine Data'!AS$6:AS$123,'Activity Days'!$B103,'Cleaned SnowMachine Data'!BC$6:BC$123)","v":0},{"$f":"SUMIF('Cleaned SnowMachine Data'!AT$6:AT$123,'Activity Days'!$B103,'Cleaned SnowMachine Data'!BD$6:BD$123)","v":0},{"$f":"SUMIF('Cleaned SnowMachine Data'!AU$6:AU$123,'Activity Days'!$B103,'Cleaned SnowMachine Data'!BE$6:BE$123)","v":0},{"$f":"SUMIF('Cleaned SnowMachine Data'!AV$6:AV$123,'Activity Days'!$B103,'Cleaned SnowMachine Data'!BF$6:BF$123)","v":0},{"$f":"SUMIF('Cleaned SnowMachine Data'!AW$6:AW$123,'Activity Days'!$B103,'Cleaned SnowMachine Data'!BG$6:BG$123)","v":0},{"$f":"SUMIF('Cleaned SnowMachine Data'!AX$6:AX$123,'Activity Days'!$B103,'Cleaned SnowMachine Data'!BH$6:BH$123)","v":0},{"$f":"SUMIF('Cleaned SnowMachine Data'!AY$6:AY$123,'Activity Days'!$B103,'Cleaned SnowMachine Data'!BI$6:BI$123)","v":0},0,null,{"$f":"'Site Codes'!AA101","v":"Willow Lakes"},{"$f":"'Site Codes'!AB101","v":"Snow 98"},{"$f":"SUMIFS('Cleaned SnowMachine Data'!AZ$6:AZ$123,'Cleaned SnowMachine Data'!$E$6:$E$123,1,'Cleaned SnowMachine Data'!AP$6:AP$123,'Activity Days'!$P103)","v":0},{"$f":"SUMIFS('Cleaned SnowMachine Data'!BA$6:BA$123,'Cleaned SnowMachine Data'!$E$6:$E$123,1,'Cleaned SnowMachine Data'!AQ$6:AQ$123,'Activity Days'!$P103)","v":0},{"$f":"SUMIFS('Cleaned SnowMachine Data'!BB$6:BB$123,'Cleaned SnowMachine Data'!$E$6:$E$123,1,'Cleaned SnowMachine Data'!AR$6:AR$123,'Activity Days'!$P103)","v":0},{"$f":"SUMIFS('Cleaned SnowMachine Data'!BC$6:BC$123,'Cleaned SnowMachine Data'!$E$6:$E$123,1,'Cleaned SnowMachine Data'!AS$6:AS$123,'Activity Days'!$P103)","v":0},{"$f":"SUMIFS('Cleaned SnowMachine Data'!BD$6:BD$123,'Cleaned SnowMachine Data'!$E$6:$E$123,1,'Cleaned SnowMachine Data'!AT$6:AT$123,'Activity Days'!$P103)","v":0},{"$f":"SUMIFS('Cleaned SnowMachine Data'!BE$6:BE$123,'Cleaned SnowMachine Data'!$E$6:$E$123,1,'Cleaned SnowMachine Data'!AU$6:AU$123,'Activity Days'!$P103)","v":0},{"$f":"SUMIFS('Cleaned SnowMachine Data'!BF$6:BF$123,'Cleaned SnowMachine Data'!$E$6:$E$123,1,'Cleaned SnowMachine Data'!AV$6:AV$123,'Activity Days'!$P103)","v":0},{"$f":"SUMIFS('Cleaned SnowMachine Data'!BG$6:BG$123,'Cleaned SnowMachine Data'!$E$6:$E$123,1,'Cleaned SnowMachine Data'!AW$6:AW$123,'Activity Days'!$P103)","v":0},{"$f":"SUMIFS('Cleaned SnowMachine Data'!BH$6:BH$123,'Cleaned SnowMachine Data'!$E$6:$E$123,1,'Cleaned SnowMachine Data'!AX$6:AX$123,'Activity Days'!$P103)","v":0},{"$f":"SUMIFS('Cleaned SnowMachine Data'!BI$6:BI$123,'Cleaned SnowMachine Data'!$E$6:$E$123,1,'Cleaned SnowMachine Data'!AY$6:AY$123,'Activity Days'!$P103)","v":0},0]
[{"$f":"'Site Codes'!AA102","v":"Winter Trail-Quartz Lake Access"},{"$f":"'Site Codes'!AB102","v":"Snow 99"},{"$f":"SUMIF('Cleaned SnowMachine Data'!AP$6:AP$123,'Activity Days'!$B104,'Cleaned SnowMachine Data'!AZ$6:AZ$123)","v":0},{"$f":"SUMIF('Cleaned SnowMachine Data'!AQ$6:AQ$123,'Activity Days'!$B104,'Cleaned SnowMachine Data'!BA$6:BA$123)","v":0},{"$f":"SUMIF('Cleaned SnowMachine Data'!AR$6:AR$123,'Activity Days'!$B104,'Cleaned SnowMachine Data'!BB$6:BB$123)","v":0},{"$f":"SUMIF('Cleaned SnowMachine Data'!AS$6:AS$123,'Activity Days'!$B104,'Cleaned SnowMachine Data'!BC$6:BC$123)","v":0},{"$f":"SUMIF('Cleaned SnowMachine Data'!AT$6:AT$123,'Activity Days'!$B104,'Cleaned SnowMachine Data'!BD$6:BD$123)","v":0},{"$f":"SUMIF('Cleaned SnowMachine Data'!AU$6:AU$123,'Activity Days'!$B104,'Cleaned SnowMachine Data'!BE$6:BE$123)","v":0},{"$f":"SUMIF('Cleaned SnowMachine Data'!AV$6:AV$123,'Activity Days'!$B104,'Cleaned SnowMachine Data'!BF$6:BF$123)","v":0},{"$f":"SUMIF('Cleaned SnowMachine Data'!AW$6:AW$123,'Activity Days'!$B104,'Cleaned SnowMachine Data'!BG$6:BG$123)","v":0},{"$f":"SUMIF('Cleaned SnowMachine Data'!AX$6:AX$123,'Activity Days'!$B104,'Cleaned SnowMachine Data'!BH$6:BH$123)","v":0},{"$f":"SUMIF('Cleaned SnowMachine Data'!AY$6:AY$123,'Activity Days'!$B104,'Cleaned SnowMachine Data'!BI$6:BI$123)","v":0},0,null,{"$f":"'Site Codes'!AA102","v":"Winter Trail-Quartz Lake Access"},{"$f":"'Site Codes'!AB102","v":"Snow 99"},{"$f":"SUMIFS('Cleaned SnowMachine Data'!AZ$6:AZ$123,'Cleaned SnowMachine Data'!$E$6:$E$123,1,'Cleaned SnowMachine Data'!AP$6:AP$123,'Activity Days'!$P104)","v":0},{"$f":"SUMIFS('Cleaned SnowMachine Data'!BA$6:BA$123,'Cleaned SnowMachine Data'!$E$6:$E$123,1,'Cleaned SnowMachine Data'!AQ$6:AQ$123,'Activity Days'!$P104)","v":0},{"$f":"SUMIFS('Cleaned SnowMachine Data'!BB$6:BB$123,'Cleaned SnowMachine Data'!$E$6:$E$123,1,'Cleaned SnowMachine Data'!AR$6:AR$123,'Activity Days'!$P104)","v":0},{"$f":"SUMIFS('Cleaned SnowMachine Data'!BC$6:BC$123,'Cleaned SnowMachine Data'!$E$6:$E$123,1,'Cleaned SnowMachine Data'!AS$6:AS$123,'Activity Days'!$P104)","v":0},{"$f":"SUMIFS('Cleaned SnowMachine Data'!BD$6:BD$123,'Cleaned SnowMachine Data'!$E$6:$E$123,1,'Cleaned SnowMachine Data'!AT$6:AT$123,'Activity Days'!$P104)","v":0},{"$f":"SUMIFS('Cleaned SnowMachine Data'!BE$6:BE$123,'Cleaned SnowMachine Data'!$E$6:$E$123,1,'Cleaned SnowMachine Data'!AU$6:AU$123,'Activity Days'!$P104)","v":0},{"$f":"SUMIFS('Cleaned SnowMachine Data'!BF$6:BF$123,'Cleaned SnowMachine Data'!$E$6:$E$123,1,'Cleaned SnowMachine Data'!AV$6:AV$123,'Activity Days'!$P104)","v":0},{"$f":"SUMIFS('Cleaned SnowMachine Data'!BG$6:BG$123,'Cleaned SnowMachine Data'!$E$6:$E$123,1,'Cleaned SnowMachine Data'!AW$6:AW$123,'Activity Days'!$P104)","v":0},{"$f":"SUMIFS('Cleaned SnowMachine Data'!BH$6:BH$123,'Cleaned SnowMachine Data'!$E$6:$E$123,1,'Cleaned SnowMachine Data'!AX$6:AX$123,'Activity Days'!$P104)","v":0},{"$f":"SUMIFS('Cleaned SnowMachine Data'!BI$6:BI$123,'Cleaned SnowMachine Data'!$E$6:$E$123,1,'Cleaned SnowMachine Data'!AY$6:AY$123,'Activity Days'!$P104)","v":0},0]
[{"$f":"'Site Codes'!AA103","v":"Yentna to Skwentna-Yentna"},{"$f":"'Site Codes'!AB103","v":"Snow 100"},{"$f":"SUMIF('Cleaned SnowMachine Data'!AP$6:AP$123,'Activity Days'!$B105,'Cleaned SnowMachine Data'!AZ$6:AZ$123)","v":4},{"$f":"SUMIF('Cleaned SnowMachine Data'!AQ$6:AQ$123,'Activity Days'!$B105,'Cleaned SnowMachine Data'!BA$6:BA$123)","v":0},{"$f":"SUMIF('Cleaned SnowMachine Data'!AR$6:AR$123,'Activity Days'!$B105,'Cleaned SnowMachine Data'!BB$6:BB$123)","v":5},{"$f":"SUMIF('Cleaned SnowMachine Data'!AS$6:AS$123,'Activity Days'!$B105,'Cleaned SnowMachine Data'!BC$6:BC$123)","v":0},{"$f":"SUMIF('Cleaned SnowMachine Data'!AT$6:AT$123,'Activity Days'!$B105,'Cleaned SnowMachine Data'!BD$6:BD$123)","v":0},{"$f":"SUMIF('Cleaned SnowMachine Data'!AU$6:AU$123,'Activity Days'!$B105,'Cleaned SnowMachine Data'!BE$6:BE$123)","v":0},{"$f":"SUMIF('Cleaned SnowMachine Data'!AV$6:AV$123,'Activity Days'!$B105,'Cleaned SnowMachine Data'!BF$6:BF$123)","v":0},{"$f":"SUMIF('Cleaned SnowMachine Data'!AW$6:AW$123,'Activity Days'!$B105,'Cleaned SnowMachine Data'!BG$6:BG$123)","v":0},{"$f":"SUMIF('Cleaned SnowMachine Data'!AX$6:AX$123,'Activity Days'!$B105,'Cleaned SnowMachine Data'!BH$6:BH$123)","v":0},{"$f":"SUMIF('Cleaned SnowMachine Data'!AY$6:AY$123,'Activity Days'!$B105,'Cleaned SnowMachine Data'!BI$6:BI$123)","v":0},9,null,{"$f":"'Site Codes'!AA103","v":"Yentna to Skwentna-Yentna"},{"$f":"'Site Codes'!AB103","v":"Snow 100"},{"$f":"SUMIFS('Cleaned SnowMachine Data'!AZ$6:AZ$123,'Cleaned SnowMachine Data'!$E$6:$E$123,1,'Cleaned SnowMachine Data'!AP$6:AP$123,'Activity Days'!$P105)","v":0},{"$f":"SUMIFS('Cleaned SnowMachine Data'!BA$6:BA$123,'Cleaned SnowMachine Data'!$E$6:$E$123,1,'Cleaned SnowMachine Data'!AQ$6:AQ$123,'Activity Days'!$P105)","v":0},{"$f":"SUMIFS('Cleaned SnowMachine Data'!BB$6:BB$123,'Cleaned SnowMachine Data'!$E$6:$E$123,1,'Cleaned SnowMachine Data'!AR$6:AR$123,'Activity Days'!$P105)","v":0},{"$f":"SUMIFS('Cleaned SnowMachine Data'!BC$6:BC$123,'Cleaned SnowMachine Data'!$E$6:$E$123,1,'Cleaned SnowMachine Data'!AS$6:AS$123,'Activity Days'!$P105)","v":0},{"$f":"SUMIFS('Cleaned SnowMachine Data'!BD$6:BD$123,'Cleaned SnowMachine Data'!$E$6:$E$123,1,'Cleaned SnowMachine Data'!AT$6:AT$123,'Activity Days'!$P105)","v":0},{"$f":"SUMIFS('Cleaned SnowMachine Data'!BE$6:BE$123,'Cleaned SnowMachine Data'!$E$6:$E$123,1,'Cleaned SnowMachine Data'!AU$6:AU$123,'Activity Days'!$P105)","v":0},{"$f":"SUMIFS('Cleaned SnowMachine Data'!BF$6:BF$123,'Cleaned SnowMachine Data'!$E$6:$E$123,1,'Cleaned SnowMachine Data'!AV$6:AV$123,'Activity Days'!$P105)","v":0},{"$f":"SUMIFS('Cleaned SnowMachine Data'!BG$6:BG$123,'Cleaned SnowMachine Data'!$E$6:$E$123,1,'Cleaned SnowMachine Data'!AW$6:AW$123,'Activity Days'!$P105)","v":0},{"$f":"SUMIFS('Cleaned SnowMachine Data'!BH$6:BH$123,'Cleaned SnowMachine Data'!$E$6:$E$123,1,'Cleaned SnowMachine Data'!AX$6:AX$123,'Activity Days'!$P105)","v":0},{"$f":"SUMIFS('Cleaned SnowMachine Data'!BI$6:BI$123,'Cleaned SnowMachine Data'!$E$6:$E$123,1,'Cleaned SnowMachine Data'!AY$6:AY$123,'Activity Days'!$P105)","v":0},0]
[{"$f":"'Site Codes'!AA106","v":"Anchorage"},{"$f":"'Site Codes'!AB106","v":"Snow 101"},{"$f":"SUMIF('Cleaned SnowMachine Data'!AP$6:AP$123,'Activity Days'!$B106,'Cleaned SnowMachine Data'!AZ$6:AZ$123)","v":11},{"$f":"SUMIF('Cleaned SnowMachine Data'!AQ$6:AQ$123,'Activity Days'!$B106,'Cleaned SnowMachine Data'!BA$6:BA$123)","v":0},{"$f":"SUMIF('Cleaned SnowMachine Data'!AR$6:AR$123,'Activity Days'!$B106,'Cleaned SnowMachine Data'!BB$6:BB$123)","v":0},{"$f":"SUMIF('Cleaned SnowMachine Data'!AS$6:AS$123,'Activity Days'!$B106,'Cleaned SnowMachine Data'!BC$6:BC$123)","v":0},{"$f":"SUMIF('Cleaned SnowMachine Data'!AT$6:AT$123,'Activity Days'!$B106,'Cleaned SnowMachine Data'!BD$6:BD$123)","v":0},{"$f":"SUMIF('Cleaned SnowMachine Data'!AU$6:AU$123,'Activity Days'!$B106,'Cleaned SnowMachine Data'!BE$6:BE$123)","v":0},{"$f":"SUMIF('Cleaned SnowMachine Data'!AV$6:AV$123,'Activity Days'!$B106,'Cleaned SnowMachine Data'!BF$6:BF$123)","v":0},{"$f":"SUMIF('Cleaned SnowMachine Data'!AW$6:AW$123,'Activity Days'!$B106,'Cleaned SnowMachine Data'!BG$6:BG$123)","v":0},{"$f":"SUMIF('Cleaned SnowMachine Data'!AX$6:AX$123,'Activity Days'!$B106,'Cleaned SnowMachine Data'!BH$6:BH$123)","v":0},{"$f":"SUMIF('Cleaned SnowMachine Data'!AY$6:AY$123,'Activity Days'!$B106,'Cleaned SnowMachine Data'!BI$6:BI$123)","v":0},11,null,{"$f":"'Site Codes'!AA106","v":"Anchorage"},{"$f":"'Site Codes'!AB106","v":"Snow 101"},{"$f":"SUMIFS('Cleaned SnowMachine Data'!AZ$6:AZ$123,'Cleaned SnowMachine Data'!$E$6:$E$123,1,'Cleaned SnowMachine Data'!AP$6:AP$123,'Activity Days'!$P106)","v":0},{"$f":"SUMIFS('Cleaned SnowMachine Data'!BA$6:BA$123,'Cleaned SnowMachine Data'!$E$6:$E$123,1,'Cleaned SnowMachine Data'!AQ$6:AQ$123,'Activity Days'!$P106)","v":0},{"$f":"SUMIFS('Cleaned SnowMachine Data'!BB$6:BB$123,'Cleaned SnowMachine Data'!$E$6:$E$123,1,'Cleaned SnowMachine Data'!AR$6:AR$123,'Activity Days'!$P106)","v":0},{"$f":"SUMIFS('Cleaned SnowMachine Data'!BC$6:BC$123,'Cleaned SnowMachine Data'!$E$6:$E$123,1,'Cleaned SnowMachine Data'!AS$6:AS$123,'Activity Days'!$P106)","v":0},{"$f":"SUMIFS('Cleaned SnowMachine Data'!BD$6:BD$123,'Cleaned SnowMachine Data'!$E$6:$E$123,1,'Cleaned SnowMachine Data'!AT$6:AT$123,'Activity Days'!$P106)","v":0},{"$f":"SUMIFS('Cleaned SnowMachine Data'!BE$6:BE$123,'Cleaned SnowMachine Data'!$E$6:$E$123,1,'Cleaned SnowMachine Data'!AU$6:AU$123,'Activity Days'!$P106)","v":0},{"$f":"SUMIFS('Cleaned SnowMachine Data'!BF$6:BF$123,'Cleaned SnowMachine Data'!$E$6:$E$123,1,'Cleaned SnowMachine Data'!AV$6:AV$123,'Activity Days'!$P106)","v":0},{"$f":"SUMIFS('Cleaned SnowMachine Data'!BG$6:BG$123,'Cleaned SnowMachine Data'!$E$6:$E$123,1,'Cleaned SnowMachine Data'!AW$6:AW$123,'Activity Days'!$P106)","v":0},{"$f":"SUMIFS('Cleaned SnowMachine Data'!BH$6:BH$123,'Cleaned SnowMachine Data'!$E$6:$E$123,1,'Cleaned SnowMachine Data'!AX$6:AX$123,'Activity Days'!$P106)","v":0},{"$f":"SUMIFS('Cleaned SnowMachine Data'!BI$6:BI$123,'Cleaned SnowMachine Data'!$E$6:$E$123,1,'Cleaned SnowMachine Data'!AY$6:AY$123,'Activity Days'!$P106)","v":0},0]
[{"$f":"'Site Codes'!AA107","v":"Delta Junction"},{"$f":"'Site Codes'!AB107","v":"Snow 102"},{"$f":"SUMIF('Cleaned SnowMachine Data'!AP$6:AP$123,'Activity Days'!$B107,'Cleaned SnowMachine Data'!AZ$6:AZ$123)","v":0},{"$f":"SUMIF('Cleaned SnowMachine Data'!AQ$6:AQ$123,'Activity Days'!$B107,'Cleaned SnowMachine Data'!BA$6:BA$123)","v":1},{"$f":"SUMIF('Cleaned SnowMachine Data'!AR$6:AR$123,'Activity Days'!$B107,'Cleaned SnowMachine Data'!BB$6:BB$123)","v":0},{"$f":"SUMIF('Cleaned SnowMachine Data'!AS$6:AS$123,'Activity Days'!$B107,'Cleaned SnowMachine Data'!BC$6:BC$123)","v":0},{"$f":"SUMIF('Cleaned SnowMachine Data'!AT$6:AT$123,'Activity Days'!$B107,'Cleaned SnowMachine Data'!BD$6:BD$123)","v":0},{"$f":"SUMIF('Cleaned SnowMachine Data'!AU$6:AU$123,'Activity Days'!$B107,'Cleaned SnowMachine Data'!BE$6:BE$123)","v":0},{"$f":"SUMIF('Cleaned SnowMachine Data'!AV$6:AV$123,'Activity Days'!$B107,'Cleaned SnowMachine Data'!BF$6:BF$123)","v":0},{"$f":"SUMIF('Cleaned SnowMachine Data'!AW$6:AW$123,'Activity Days'!$B107,'Cleaned SnowMachine Data'!BG$6:BG$123)","v":0},{"$f":"SUMIF('Cleaned SnowMachine Data'!AX$6:AX$123,'Activity Days'!$B107,'Cleaned SnowMachine Data'!BH$6:BH$123)","v":0},{"$f":"SUMIF('Cleaned SnowMachine Data'!AY$6:AY$123,'Activity Days'!$B107,'Cleaned SnowMachine Data'!BI$6:BI$123)","v":0},1,null,{"$f":"'Site Codes'!AA107","v":"Delta Junction"},{"$f":"'Site Codes'!AB107","v":"Snow 102"},{"$f":"SUMIFS('Cleaned SnowMachine Data'!AZ$6:AZ$123,'Cleaned SnowMachine Data'!$E$6:$E$123,1,'Cleaned SnowMachine Data'!AP$6:AP$123,'Activity Days'!$P107)","v":0},{"$f":"SUMIFS('Cleaned SnowMachine Data'!BA$6:BA$123,'Cleaned SnowMachine Data'!$E$6:$E$123,1,'Cleaned SnowMachine Data'!AQ$6:AQ$123,'Activity Days'!$P107)","v":0},{"$f":"SUMIFS('Cleaned SnowMachine Data'!BB$6:BB$123,'Cleaned SnowMachine Data'!$E$6:$E$123,1,'Cleaned SnowMachine Data'!AR$6:AR$123,'Activity Days'!$P107)","v":0},{"$f":"SUMIFS('Cleaned SnowMachine Data'!BC$6:BC$123,'Cleaned SnowMachine Data'!$E$6:$E$123,1,'Cleaned SnowMachine Data'!AS$6:AS$123,'Activity Days'!$P107)","v":0},{"$f":"SUMIFS('Cleaned SnowMachine Data'!BD$6:BD$123,'Cleaned SnowMachine Data'!$E$6:$E$123,1,'Cleaned SnowMachine Data'!AT$6:AT$123,'Activity Days'!$P107)","v":0},{"$f":"SUMIFS('Cleaned SnowMachine Data'!BE$6:BE$123,'Cleaned SnowMachine Data'!$E$6:$E$123,1,'Cleaned SnowMachine Data'!AU$6:AU$123,'Activity Days'!$P107)","v":0},{"$f":"SUMIFS('Cleaned SnowMachine Data'!BF$6:BF$123,'Cleaned SnowMachine Data'!$E$6:$E$123,1,'Cleaned SnowMachine Data'!AV$6:AV$123,'Activity Days'!$P107)","v":0},{"$f":"SUMIFS('Cleaned SnowMachine Data'!BG$6:BG$123,'Cleaned SnowMachine Data'!$E$6:$E$123,1,'Cleaned SnowMachine Data'!AW$6:AW$123,'Activity Days'!$P107)","v":0},{"$f":"SUMIFS('Cleaned SnowMachine Data'!BH$6:BH$123,'Cleaned SnowMachine Data'!$E$6:$E$123,1,'Cleaned SnowMachine Data'!AX$6:AX$123,'Activity Days'!$P107)","v":0},{"$f":"SUMIFS('Cleaned SnowMachine Data'!BI$6:BI$123,'Cleaned SnowMachine Data'!$E$6:$E$123,1,'Cleaned SnowMachine Data'!AY$6:AY$123,'Activity Days'!$P107)","v":0},0]
[{"$f":"'Site Codes'!AA108","v":"Parks Highway--Byers Lake"},{"$f":"'Site Codes'!AB108","v":"Snow 103"},{"$f":"SUMIF('Cleaned SnowMachine Data'!AP$6:AP$123,'Activity Days'!$B108,'Cleaned SnowMachine Data'!AZ$6:AZ$123)","v":0},{"$f":"SUMIF('Cleaned SnowMachine Data'!AQ$6:AQ$123,'Activity Days'!$B108,'Cleaned SnowMachine Data'!BA$6:BA$123)","v":30},{"$f":"SUMIF('Cleaned SnowMachine Data'!AR$6:AR$123,'Activity Days'!$B108,'Cleaned SnowMachine Data'!BB$6:BB$123)","v":0},{"$f":"SUMIF('Cleaned SnowMachine Data'!AS$6:AS$123,'Activity Days'!$B108,'Cleaned SnowMachine Data'!BC$6:BC$123)","v":0},{"$f":"SUMIF('Cleaned SnowMachine Data'!AT$6:AT$123,'Activity Days'!$B108,'Cleaned SnowMachine Data'!BD$6:BD$123)","v":0},{"$f":"SUMIF('Cleaned SnowMachine Data'!AU$6:AU$123,'Activity Days'!$B108,'Cleaned SnowMachine Data'!BE$6:BE$123)","v":0},{"$f":"SUMIF('Cleaned SnowMachine Data'!AV$6:AV$123,'Activity Days'!$B108,'Cleaned SnowMachine Data'!BF$6:BF$123)","v":0},{"$f":"SUMIF('Cleaned SnowMachine Data'!AW$6:AW$123,'Activity Days'!$B108,'Cleaned SnowMachine Data'!BG$6:BG$123)","v":0},{"$f":"SUMIF('Cleaned SnowMachine Data'!AX$6:AX$123,'Activity Days'!$B108,'Cleaned SnowMachine Data'!BH$6:BH$123)","v":0},{"$f":"SUMIF('Cleaned SnowMachine Data'!AY$6:AY$123,'Activity Days'!$B108,'Cleaned SnowMachine Data'!BI$6:BI$123)","v":0},30,null,{"$f":"'Site Codes'!AA108","v":"Parks Highway--Byers Lake"},{"$f":"'Site Codes'!AB108","v":"Snow 103"},{"$f":"SUMIFS('Cleaned SnowMachine Data'!AZ$6:AZ$123,'Cleaned SnowMachine Data'!$E$6:$E$123,1,'Cleaned SnowMachine Data'!AP$6:AP$123,'Activity Days'!$P108)","v":0},{"$f":"SUMIFS('Cleaned SnowMachine Data'!BA$6:BA$123,'Cleaned SnowMachine Data'!$E$6:$E$123,1,'Cleaned SnowMachine Data'!AQ$6:AQ$123,'Activity Days'!$P108)","v":30},{"$f":"SUMIFS('Cleaned SnowMachine Data'!BB$6:BB$123,'Cleaned SnowMachine Data'!$E$6:$E$123,1,'Cleaned SnowMachine Data'!AR$6:AR$123,'Activity Days'!$P108)","v":0},{"$f":"SUMIFS('Cleaned SnowMachine Data'!BC$6:BC$123,'Cleaned SnowMachine Data'!$E$6:$E$123,1,'Cleaned SnowMachine Data'!AS$6:AS$123,'Activity Days'!$P108)","v":0},{"$f":"SUMIFS('Cleaned SnowMachine Data'!BD$6:BD$123,'Cleaned SnowMachine Data'!$E$6:$E$123,1,'Cleaned SnowMachine Data'!AT$6:AT$123,'Activity Days'!$P108)","v":0},{"$f":"SUMIFS('Cleaned SnowMachine Data'!BE$6:BE$123,'Cleaned SnowMachine Data'!$E$6:$E$123,1,'Cleaned SnowMachine Data'!AU$6:AU$123,'Activity Days'!$P108)","v":0},{"$f":"SUMIFS('Cleaned SnowMachine Data'!BF$6:BF$123,'Cleaned SnowMachine Data'!$E$6:$E$123,1,'Cleaned SnowMachine Data'!AV$6:AV$123,'Activity Days'!$P108)","v":0},{"$f":"SUMIFS('Cleaned SnowMachine Data'!BG$6:BG$123,'Cleaned SnowMachine Data'!$E$6:$E$123,1,'Cleaned SnowMachine Data'!AW$6:AW$123,'Activity Days'!$P108)","v":0},{"$f":"SUMIFS('Cleaned SnowMachine Data'!BH$6:BH$123,'Cleaned SnowMachine Data'!$E$6:$E$123,1,'Cleaned SnowMachine Data'!AX$6:AX$123,'Activity Days'!$P108)","v":0},{"$f":"SUMIFS('Cleaned SnowMachine Data'!BI$6:BI$123,'Cleaned SnowMachine Data'!$E$6:$E$123,1,'Cleaned SnowMachine Data'!AY$6:AY$123,'Activity Days'!$P108)","v":0},30]
[{"$f":"'Site Codes'!AA109","v":"Point Mackenzie"},{"$f":"'Site Codes'!AB109","v":"Snow 104"},{"$f":"SUMIF('Cleaned SnowMachine Data'!AP$6:AP$123,'Activity Days'!$B109,'Cleaned SnowMachine Data'!AZ$6:AZ$123)","v":6},{"$f":"SUMIF('Cleaned SnowMachine Data'!AQ$6:AQ$123,'Activity Days'!$B109,'Cleaned SnowMachine Data'!BA$6:BA$123)","v":0},{"$f":"SUMIF('Cleaned SnowMachine Data'!AR$6:AR$123,'Activity Days'!$B109,'Cleaned SnowMachine Data'!BB$6:BB$123)","v":0},{"$f":"SUMIF('Cleaned SnowMachine Data'!AS$6:AS$123,'Activity Days'!$B109,'Cleaned SnowMachine Data'!BC$6:BC$123)","v":0},{"$f":"SUMIF('Cleaned SnowMachine Data'!AT$6:AT$123,'Activity Days'!$B109,'Cleaned SnowMachine Data'!BD$6:BD$123)","v":0},{"$f":"SUMIF('Cleaned SnowMachine Data'!AU$6:AU$123,'Activity Days'!$B109,'Cleaned SnowMachine Data'!BE$6:BE$123)","v":0},{"$f":"SUMIF('Cleaned SnowMachine Data'!AV$6:AV$123,'Activity Days'!$B109,'Cleaned SnowMachine Data'!BF$6:BF$123)","v":0},{"$f":"SUMIF('Cleaned SnowMachine Data'!AW$6:AW$123,'Activity Days'!$B109,'Cleaned SnowMachine Data'!BG$6:BG$123)","v":0},{"$f":"SUMIF('Cleaned SnowMachine Data'!AX$6:AX$123,'Activity Days'!$B109,'Cleaned SnowMachine Data'!BH$6:BH$123)","v":0},{"$f":"SUMIF('Cleaned SnowMachine Data'!AY$6:AY$123,'Activity Days'!$B109,'Cleaned SnowMachine Data'!BI$6:BI$123)","v":0},6,null,{"$f":"'Site Codes'!AA109","v":"Point Mackenzie"},{"$f":"'Site Codes'!AB109","v":"Snow 104"},{"$f":"SUMIFS('Cleaned SnowMachine Data'!AZ$6:AZ$123,'Cleaned SnowMachine Data'!$E$6:$E$123,1,'Cleaned SnowMachine Data'!AP$6:AP$123,'Activity Days'!$P109)","v":0},{"$f":"SUMIFS('Cleaned SnowMachine Data'!BA$6:BA$123,'Cleaned SnowMachine Data'!$E$6:$E$123,1,'Cleaned SnowMachine Data'!AQ$6:AQ$123,'Activity Days'!$P109)","v":0},{"$f":"SUMIFS('Cleaned SnowMachine Data'!BB$6:BB$123,'Cleaned SnowMachine Data'!$E$6:$E$123,1,'Cleaned SnowMachine Data'!AR$6:AR$123,'Activity Days'!$P109)","v":0},{"$f":"SUMIFS('Cleaned SnowMachine Data'!BC$6:BC$123,'Cleaned SnowMachine Data'!$E$6:$E$123,1,'Cleaned SnowMachine Data'!AS$6:AS$123,'Activity Days'!$P109)","v":0},{"$f":"SUMIFS('Cleaned SnowMachine Data'!BD$6:BD$123,'Cleaned SnowMachine Data'!$E$6:$E$123,1,'Cleaned SnowMachine Data'!AT$6:AT$123,'Activity Days'!$P109)","v":0},{"$f":"SUMIFS('Cleaned SnowMachine Data'!BE$6:BE$123,'Cleaned SnowMachine Data'!$E$6:$E$123,1,'Cleaned SnowMachine Data'!AU$6:AU$123,'Activity Days'!$P109)","v":0},{"$f":"SUMIFS('Cleaned SnowMachine Data'!BF$6:BF$123,'Cleaned SnowMachine Data'!$E$6:$E$123,1,'Cleaned SnowMachine Data'!AV$6:AV$123,'Activity Days'!$P109)","v":0},{"$f":"SUMIFS('Cleaned SnowMachine Data'!BG$6:BG$123,'Cleaned SnowMachine Data'!$E$6:$E$123,1,'Cleaned SnowMachine Data'!AW$6:AW$123,'Activity Days'!$P109)","v":0},{"$f":"SUMIFS('Cleaned SnowMachine Data'!BH$6:BH$123,'Cleaned SnowMachine Data'!$E$6:$E$123,1,'Cleaned SnowMachine Data'!AX$6:AX$123,'Activity Days'!$P109)","v":0},{"$f":"SUMIFS('Cleaned SnowMachine Data'!BI$6:BI$123,'Cleaned SnowMachine Data'!$E$6:$E$123,1,'Cleaned SnowMachine Data'!AY$6:AY$123,'Activity Days'!$P109)","v":0},0]
[{"$f":"'Site Codes'!AA110","v":"Kodiak"},{"$f":"'Site Codes'!AB110","v":"Snow 105"},{"$f":"SUMIF('Cleaned SnowMachine Data'!AP$6:AP$123,'Activity Days'!$B110,'Cleaned SnowMachine Data'!AZ$6:AZ$123)","v":0},{"$f":"SUMIF('Cleaned SnowMachine Data'!AQ$6:AQ$123,'Activity Days'!$B110,'Cleaned SnowMachine Data'!BA$6:BA$123)","v":0},{"$f":"SUMIF('Cleaned SnowMachine Data'!AR$6:AR$123,'Activity Days'!$B110,'Cleaned SnowMachine Data'!BB$6:BB$123)","v":1},{"$f":"SUMIF('Cleaned SnowMachine Data'!AS$6:AS$123,'Activity Days'!$B110,'Cleaned SnowMachine Data'!BC$6:BC$123)","v":0},{"$f":"SUMIF('Cleaned SnowMachine Data'!AT$6:AT$123,'Activity Days'!$B110,'Cleaned SnowMachine Data'!BD$6:BD$123)","v":0},{"$f":"SUMIF('Cleaned SnowMachine Data'!AU$6:AU$123,'Activity Days'!$B110,'Cleaned SnowMachine Data'!BE$6:BE$123)","v":0},{"$f":"SUMIF('Cleaned SnowMachine Data'!AV$6:AV$123,'Activity Days'!$B110,'Cleaned SnowMachine Data'!BF$6:BF$123)","v":0},{"$f":"SUMIF('Cleaned SnowMachine Data'!AW$6:AW$123,'Activity Days'!$B110,'Cleaned SnowMachine Data'!BG$6:BG$123)","v":0},{"$f":"SUMIF('Cleaned SnowMachine Data'!AX$6:AX$123,'Activity Days'!$B110,'Cleaned SnowMachine Data'!BH$6:BH$123)","v":0},{"$f":"SUMIF('Cleaned SnowMachine Data'!AY$6:AY$123,'Activity Days'!$B110,'Cleaned SnowMachine Data'!BI$6:BI$123)","v":0},1,null,{"$f":"'Site Codes'!AA110","v":"Kodiak"},{"$f":"'Site Codes'!AB110","v":"Snow 105"},{"$f":"SUMIFS('Cleaned SnowMachine Data'!AZ$6:AZ$123,'Cleaned SnowMachine Data'!$E$6:$E$123,1,'Cleaned SnowMachine Data'!AP$6:AP$123,'Activity Days'!$P110)","v":0},{"$f":"SUMIFS('Cleaned SnowMachine Data'!BA$6:BA$123,'Cleaned SnowMachine Data'!$E$6:$E$123,1,'Cleaned SnowMachine Data'!AQ$6:AQ$123,'Activity Days'!$P110)","v":0},{"$f":"SUMIFS('Cleaned SnowMachine Data'!BB$6:BB$123,'Cleaned SnowMachine Data'!$E$6:$E$123,1,'Cleaned SnowMachine Data'!AR$6:AR$123,'Activity Days'!$P110)","v":0},{"$f":"SUMIFS('Cleaned SnowMachine Data'!BC$6:BC$123,'Cleaned SnowMachine Data'!$E$6:$E$123,1,'Cleaned SnowMachine Data'!AS$6:AS$123,'Activity Days'!$P110)","v":0},{"$f":"SUMIFS('Cleaned SnowMachine Data'!BD$6:BD$123,'Cleaned SnowMachine Data'!$E$6:$E$123,1,'Cleaned SnowMachine Data'!AT$6:AT$123,'Activity Days'!$P110)","v":0},{"$f":"SUMIFS('Cleaned SnowMachine Data'!BE$6:BE$123,'Cleaned SnowMachine Data'!$E$6:$E$123,1,'Cleaned SnowMachine Data'!AU$6:AU$123,'Activity Days'!$P110)","v":0},{"$f":"SUMIFS('Cleaned SnowMachine Data'!BF$6:BF$123,'Cleaned SnowMachine Data'!$E$6:$E$123,1,'Cleaned SnowMachine Data'!AV$6:AV$123,'Activity Days'!$P110)","v":0},{"$f":"SUMIFS('Cleaned SnowMachine Data'!BG$6:BG$123,'Cleaned SnowMachine Data'!$E$6:$E$123,1,'Cleaned SnowMachine Data'!AW$6:AW$123,'Activity Days'!$P110)","v":0},{"$f":"SUMIFS('Cleaned SnowMachine Data'!BH$6:BH$123,'Cleaned SnowMachine Data'!$E$6:$E$123,1,'Cleaned SnowMachine Data'!AX$6:AX$123,'Activity Days'!$P110)","v":0},{"$f":"SUMIFS('Cleaned SnowMachine Data'!BI$6:BI$123,'Cleaned SnowMachine Data'!$E$6:$E$123,1,'Cleaned SnowMachine Data'!AY$6:AY$123,'Activity Days'!$P110)","v":0},0]
[{"$f":"'Site Codes'!AA111","v":"Norton Sound--Shaktoolik"},{"$f":"'Site Codes'!AB111","v":"Snow 106"},{"$f":"SUMIF('Cleaned SnowMachine Data'!AP$6:AP$123,'Activity Days'!$B111,'Cleaned SnowMachine Data'!AZ$6:AZ$123)","v":42},{"$f":"SUMIF('Cleaned SnowMachine Data'!AQ$6:AQ$123,'Activity Days'!$B111,'Cleaned SnowMachine Data'!BA$6:BA$123)","v":0},{"$f":"SUMIF('Cleaned SnowMachine Data'!AR$6:AR$123,'Activity Days'!$B111,'Cleaned SnowMachine Data'!BB$6:BB$123)","v":0},{"$f":"SUMIF('Cleaned SnowMachine Data'!AS$6:AS$123,'Activity Days'!$B111,'Cleaned SnowMachine Data'!BC$6:BC$123)","v":0},{"$f":"SUMIF('Cleaned SnowMachine Data'!AT$6:AT$123,'Activity Days'!$B111,'Cleaned SnowMachine Data'!BD$6:BD$123)","v":0},{"$f":"SUMIF('Cleaned SnowMachine Data'!AU$6:AU$123,'Activity Days'!$B111,'Cleaned SnowMachine Data'!BE$6:BE$123)","v":0},{"$f":"SUMIF('Cleaned SnowMachine Data'!AV$6:AV$123,'Activity Days'!$B111,'Cleaned SnowMachine Data'!BF$6:BF$123)","v":0},{"$f":"SUMIF('Cleaned SnowMachine Data'!AW$6:AW$123,'Activity Days'!$B111,'Cleaned SnowMachine Data'!BG$6:BG$123)","v":0},{"$f":"SUMIF('Cleaned SnowMachine Data'!AX$6:AX$123,'Activity Days'!$B111,'Cleaned SnowMachine Data'!BH$6:BH$123)","v":0},{"$f":"SUMIF('Cleaned SnowMachine Data'!AY$6:AY$123,'Activity Days'!$B111,'Cleaned SnowMachine Data'!BI$6:BI$123)","v":0},42,null,{"$f":"'Site Codes'!AA111","v":"Norton Sound--Shaktoolik"},{"$f":"'Site Codes'!AB111","v":"Snow 106"},{"$f":"SUMIFS('Cleaned SnowMachine Data'!AZ$6:AZ$123,'Cleaned SnowMachine Data'!$E$6:$E$123,1,'Cleaned SnowMachine Data'!AP$6:AP$123,'Activity Days'!$P111)","v":0},{"$f":"SUMIFS('Cleaned SnowMachine Data'!BA$6:BA$123,'Cleaned SnowMachine Data'!$E$6:$E$123,1,'Cleaned SnowMachine Data'!AQ$6:AQ$123,'Activity Days'!$P111)","v":0},{"$f":"SUMIFS('Cleaned SnowMachine Data'!BB$6:BB$123,'Cleaned SnowMachine Data'!$E$6:$E$123,1,'Cleaned SnowMachine Data'!AR$6:AR$123,'Activity Days'!$P111)","v":0},{"$f":"SUMIFS('Cleaned SnowMachine Data'!BC$6:BC$123,'Cleaned SnowMachine Data'!$E$6:$E$123,1,'Cleaned SnowMachine Data'!AS$6:AS$123,'Activity Days'!$P111)","v":0},{"$f":"SUMIFS('Cleaned SnowMachine Data'!BD$6:BD$123,'Cleaned SnowMachine Data'!$E$6:$E$123,1,'Cleaned SnowMachine Data'!AT$6:AT$123,'Activity Days'!$P111)","v":0},{"$f":"SUMIFS('Cleaned SnowMachine Data'!BE$6:BE$123,'Cleaned SnowMachine Data'!$E$6:$E$123,1,'Cleaned SnowMachine Data'!AU$6:AU$123,'Activity Days'!$P111)","v":0},{"$f":"SUMIFS('Cleaned SnowMachine Data'!BF$6:BF$123,'Cleaned SnowMachine Data'!$E$6:$E$123,1,'Cleaned SnowMachine Data'!AV$6:AV$123,'Activity Days'!$P111)","v":0},{"$f":"SUMIFS('Cleaned SnowMachine Data'!BG$6:BG$123,'Cleaned SnowMachine Data'!$E$6:$E$123,1,'Cleaned SnowMachine Data'!AW$6:AW$123,'Activity Days'!$P111)","v":0},{"$f":"SUMIFS('Cleaned SnowMachine Data'!BH$6:BH$123,'Cleaned SnowMachine Data'!$E$6:$E$123,1,'Cleaned SnowMachine Data'!AX$6:AX$123,'Activity Days'!$P111)","v":0},{"$f":"SUMIFS('Cleaned SnowMachine Data'!BI$6:BI$123,'Cleaned SnowMachine Data'!$E$6:$E$123,1,'Cleaned SnowMachine Data'!AY$6:AY$123,'Activity Days'!$P111)","v":0},0]
[{"$f":"'Site Codes'!AA112","v":"Tonsina"},{"$f":"'Site Codes'!AB112","v":"Snow 107"},{"$f":"SUMIF('Cleaned SnowMachine Data'!AP$6:AP$123,'Activity Days'!$B112,'Cleaned SnowMachine Data'!AZ$6:AZ$123)","v":16},{"$f":"SUMIF('Cleaned SnowMachine Data'!AQ$6:AQ$123,'Activity Days'!$B112,'Cleaned SnowMachine Data'!BA$6:BA$123)","v":0},{"$f":"SUMIF('Cleaned SnowMachine Data'!AR$6:AR$123,'Activity Days'!$B112,'Cleaned SnowMachine Data'!BB$6:BB$123)","v":0},{"$f":"SUMIF('Cleaned SnowMachine Data'!AS$6:AS$123,'Activity Days'!$B112,'Cleaned SnowMachine Data'!BC$6:BC$123)","v":0},{"$f":"SUMIF('Cleaned SnowMachine Data'!AT$6:AT$123,'Activity Days'!$B112,'Cleaned SnowMachine Data'!BD$6:BD$123)","v":0},{"$f":"SUMIF('Cleaned SnowMachine Data'!AU$6:AU$123,'Activity Days'!$B112,'Cleaned SnowMachine Data'!BE$6:BE$123)","v":0},{"$f":"SUMIF('Cleaned SnowMachine Data'!AV$6:AV$123,'Activity Days'!$B112,'Cleaned SnowMachine Data'!BF$6:BF$123)","v":0},{"$f":"SUMIF('Cleaned SnowMachine Data'!AW$6:AW$123,'Activity Days'!$B112,'Cleaned SnowMachine Data'!BG$6:BG$123)","v":0},{"$f":"SUMIF('Cleaned SnowMachine Data'!AX$6:AX$123,'Activity Days'!$B112,'Cleaned SnowMachine Data'!BH$6:BH$123)","v":0},{"$f":"SUMIF('Cleaned SnowMachine Data'!AY$6:AY$123,'Activity Days'!$B112,'Cleaned SnowMachine Data'!BI$6:BI$123)","v":0},16,null,{"$f":"'Site Codes'!AA112","v":"Tonsina"},{"$f":"'Site Codes'!AB112","v":"Snow 107"},{"$f":"SUMIFS('Cleaned SnowMachine Data'!AZ$6:AZ$123,'Cleaned SnowMachine Data'!$E$6:$E$123,1,'Cleaned SnowMachine Data'!AP$6:AP$123,'Activity Days'!$P112)","v":0},{"$f":"SUMIFS('Cleaned SnowMachine Data'!BA$6:BA$123,'Cleaned SnowMachine Data'!$E$6:$E$123,1,'Cleaned SnowMachine Data'!AQ$6:AQ$123,'Activity Days'!$P112)","v":0},{"$f":"SUMIFS('Cleaned SnowMachine Data'!BB$6:BB$123,'Cleaned SnowMachine Data'!$E$6:$E$123,1,'Cleaned SnowMachine Data'!AR$6:AR$123,'Activity Days'!$P112)","v":0},{"$f":"SUMIFS('Cleaned SnowMachine Data'!BC$6:BC$123,'Cleaned SnowMachine Data'!$E$6:$E$123,1,'Cleaned SnowMachine Data'!AS$6:AS$123,'Activity Days'!$P112)","v":0},{"$f":"SUMIFS('Cleaned SnowMachine Data'!BD$6:BD$123,'Cleaned SnowMachine Data'!$E$6:$E$123,1,'Cleaned SnowMachine Data'!AT$6:AT$123,'Activity Days'!$P112)","v":0},{"$f":"SUMIFS('Cleaned SnowMachine Data'!BE$6:BE$123,'Cleaned SnowMachine Data'!$E$6:$E$123,1,'Cleaned SnowMachine Data'!AU$6:AU$123,'Activity Days'!$P112)","v":0},{"$f":"SUMIFS('Cleaned SnowMachine Data'!BF$6:BF$123,'Cleaned SnowMachine Data'!$E$6:$E$123,1,'Cleaned SnowMachine Data'!AV$6:AV$123,'Activity Days'!$P112)","v":0},{"$f":"SUMIFS('Cleaned SnowMachine Data'!BG$6:BG$123,'Cleaned SnowMachine Data'!$E$6:$E$123,1,'Cleaned SnowMachine Data'!AW$6:AW$123,'Activity Days'!$P112)","v":0},{"$f":"SUMIFS('Cleaned SnowMachine Data'!BH$6:BH$123,'Cleaned SnowMachine Data'!$E$6:$E$123,1,'Cleaned SnowMachine Data'!AX$6:AX$123,'Activity Days'!$P112)","v":0},{"$f":"SUMIFS('Cleaned SnowMachine Data'!BI$6:BI$123,'Cleaned SnowMachine Data'!$E$6:$E$123,1,'Cleaned SnowMachine Data'!AY$6:AY$123,'Activity Days'!$P112)","v":0},0]
[{"$f":"'Site Codes'!AA113","v":"Fairbanks-Wickersham Trailhead"},{"$f":"'Site Codes'!AB113","v":"Snow 108"},{"$f":"SUMIF('Cleaned SnowMachine Data'!AP$6:AP$123,'Activity Days'!$B113,'Cleaned SnowMachine Data'!AZ$6:AZ$123)","v":1},{"$f":"SUMIF('Cleaned SnowMachine Data'!AQ$6:AQ$123,'Activity Days'!$B113,'Cleaned SnowMachine Data'!BA$6:BA$123)","v":2},{"$f":"SUMIF('Cleaned SnowMachine Data'!AR$6:AR$123,'Activity Days'!$B113,'Cleaned SnowMachine Data'!BB$6:BB$123)","v":0},{"$f":"SUMIF('Cleaned SnowMachine Data'!AS$6:AS$123,'Activity Days'!$B113,'Cleaned SnowMachine Data'!BC$6:BC$123)","v":0},{"$f":"SUMIF('Cleaned SnowMachine Data'!AT$6:AT$123,'Activity Days'!$B113,'Cleaned SnowMachine Data'!BD$6:BD$123)","v":0},{"$f":"SUMIF('Cleaned SnowMachine Data'!AU$6:AU$123,'Activity Days'!$B113,'Cleaned SnowMachine Data'!BE$6:BE$123)","v":0},{"$f":"SUMIF('Cleaned SnowMachine Data'!AV$6:AV$123,'Activity Days'!$B113,'Cleaned SnowMachine Data'!BF$6:BF$123)","v":0},{"$f":"SUMIF('Cleaned SnowMachine Data'!AW$6:AW$123,'Activity Days'!$B113,'Cleaned SnowMachine Data'!BG$6:BG$123)","v":0},{"$f":"SUMIF('Cleaned SnowMachine Data'!AX$6:AX$123,'Activity Days'!$B113,'Cleaned SnowMachine Data'!BH$6:BH$123)","v":0},{"$f":"SUMIF('Cleaned SnowMachine Data'!AY$6:AY$123,'Activity Days'!$B113,'Cleaned SnowMachine Data'!BI$6:BI$123)","v":0},3,null,{"$f":"'Site Codes'!AA113","v":"Fairbanks-Wickersham Trailhead"},{"$f":"'Site Codes'!AB113","v":"Snow 108"},{"$f":"SUMIFS('Cleaned SnowMachine Data'!AZ$6:AZ$123,'Cleaned SnowMachine Data'!$E$6:$E$123,1,'Cleaned SnowMachine Data'!AP$6:AP$123,'Activity Days'!$P113)","v":0},{"$f":"SUMIFS('Cleaned SnowMachine Data'!BA$6:BA$123,'Cleaned SnowMachine Data'!$E$6:$E$123,1,'Cleaned SnowMachine Data'!AQ$6:AQ$123,'Activity Days'!$P113)","v":0},{"$f":"SUMIFS('Cleaned SnowMachine Data'!BB$6:BB$123,'Cleaned SnowMachine Data'!$E$6:$E$123,1,'Cleaned SnowMachine Data'!AR$6:AR$123,'Activity Days'!$P113)","v":0},{"$f":"SUMIFS('Cleaned SnowMachine Data'!BC$6:BC$123,'Cleaned SnowMachine Data'!$E$6:$E$123,1,'Cleaned SnowMachine Data'!AS$6:AS$123,'Activity Days'!$P113)","v":0},{"$f":"SUMIFS('Cleaned SnowMachine Data'!BD$6:BD$123,'Cleaned SnowMachine Data'!$E$6:$E$123,1,'Cleaned SnowMachine Data'!AT$6:AT$123,'Activity Days'!$P113)","v":0},{"$f":"SUMIFS('Cleaned SnowMachine Data'!BE$6:BE$123,'Cleaned SnowMachine Data'!$E$6:$E$123,1,'Cleaned SnowMachine Data'!AU$6:AU$123,'Activity Days'!$P113)","v":0},{"$f":"SUMIFS('Cleaned SnowMachine Data'!BF$6:BF$123,'Cleaned SnowMachine Data'!$E$6:$E$123,1,'Cleaned SnowMachine Data'!AV$6:AV$123,'Activity Days'!$P113)","v":0},{"$f":"SUMIFS('Cleaned SnowMachine Data'!BG$6:BG$123,'Cleaned SnowMachine Data'!$E$6:$E$123,1,'Cleaned SnowMachine Data'!AW$6:AW$123,'Activity Days'!$P113)","v":0},{"$f":"SUMIFS('Cleaned SnowMachine Data'!BH$6:BH$123,'Cleaned SnowMachine Data'!$E$6:$E$123,1,'Cleaned SnowMachine Data'!AX$6:AX$123,'Activity Days'!$P113)","v":0},{"$f":"SUMIFS('Cleaned SnowMachine Data'!BI$6:BI$123,'Cleaned SnowMachine Data'!$E$6:$E$123,1,'Cleaned SnowMachine Data'!AY$6:AY$123,'Activity Days'!$P113)","v":0},0]
[{"$f":"'Site Codes'!AA114","v":"Fairbanks-Fox"},{"$f":"'Site Codes'!AB114","v":"Snow 109"},{"$f":"SUMIF('Cleaned SnowMachine Data'!AP$6:AP$123,'Activity Days'!$B114,'Cleaned SnowMachine Data'!AZ$6:AZ$123)","v":5},{"$f":"SUMIF('Cleaned SnowMachine Data'!AQ$6:AQ$123,'Activity Days'!$B114,'Cleaned SnowMachine Data'!BA$6:BA$123)","v":0},{"$f":"SUMIF('Cleaned SnowMachine Data'!AR$6:AR$123,'Activity Days'!$B114,'Cleaned SnowMachine Data'!BB$6:BB$123)","v":0},{"$f":"SUMIF('Cleaned SnowMachine Data'!AS$6:AS$123,'Activity Days'!$B114,'Cleaned SnowMachine Data'!BC$6:BC$123)","v":0},{"$f":"SUMIF('Cleaned SnowMachine Data'!AT$6:AT$123,'Activity Days'!$B114,'Cleaned SnowMachine Data'!BD$6:BD$123)","v":0},{"$f":"SUMIF('Cleaned SnowMachine Data'!AU$6:AU$123,'Activity Days'!$B114,'Cleaned SnowMachine Data'!BE$6:BE$123)","v":0},{"$f":"SUMIF('Cleaned SnowMachine Data'!AV$6:AV$123,'Activity Days'!$B114,'Cleaned SnowMachine Data'!BF$6:BF$123)","v":0},{"$f":"SUMIF('Cleaned SnowMachine Data'!AW$6:AW$123,'Activity Days'!$B114,'Cleaned SnowMachine Data'!BG$6:BG$123)","v":0},{"$f":"SUMIF('Cleaned SnowMachine Data'!AX$6:AX$123,'Activity Days'!$B114,'Cleaned SnowMachine Data'!BH$6:BH$123)","v":0},{"$f":"SUMIF('Cleaned SnowMachine Data'!AY$6:AY$123,'Activity Days'!$B114,'Cleaned SnowMachine Data'!BI$6:BI$123)","v":0},5,null,{"$f":"'Site Codes'!AA114","v":"Fairbanks-Fox"},{"$f":"'Site Codes'!AB114","v":"Snow 109"},{"$f":"SUMIFS('Cleaned SnowMachine Data'!AZ$6:AZ$123,'Cleaned SnowMachine Data'!$E$6:$E$123,1,'Cleaned SnowMachine Data'!AP$6:AP$123,'Activity Days'!$P114)","v":0},{"$f":"SUMIFS('Cleaned SnowMachine Data'!BA$6:BA$123,'Cleaned SnowMachine Data'!$E$6:$E$123,1,'Cleaned SnowMachine Data'!AQ$6:AQ$123,'Activity Days'!$P114)","v":0},{"$f":"SUMIFS('Cleaned SnowMachine Data'!BB$6:BB$123,'Cleaned SnowMachine Data'!$E$6:$E$123,1,'Cleaned SnowMachine Data'!AR$6:AR$123,'Activity Days'!$P114)","v":0},{"$f":"SUMIFS('Cleaned SnowMachine Data'!BC$6:BC$123,'Cleaned SnowMachine Data'!$E$6:$E$123,1,'Cleaned SnowMachine Data'!AS$6:AS$123,'Activity Days'!$P114)","v":0},{"$f":"SUMIFS('Cleaned SnowMachine Data'!BD$6:BD$123,'Cleaned SnowMachine Data'!$E$6:$E$123,1,'Cleaned SnowMachine Data'!AT$6:AT$123,'Activity Days'!$P114)","v":0},{"$f":"SUMIFS('Cleaned SnowMachine Data'!BE$6:BE$123,'Cleaned SnowMachine Data'!$E$6:$E$123,1,'Cleaned SnowMachine Data'!AU$6:AU$123,'Activity Days'!$P114)","v":0},{"$f":"SUMIFS('Cleaned SnowMachine Data'!BF$6:BF$123,'Cleaned SnowMachine Data'!$E$6:$E$123,1,'Cleaned SnowMachine Data'!AV$6:AV$123,'Activity Days'!$P114)","v":0},{"$f":"SUMIFS('Cleaned SnowMachine Data'!BG$6:BG$123,'Cleaned SnowMachine Data'!$E$6:$E$123,1,'Cleaned SnowMachine Data'!AW$6:AW$123,'Activity Days'!$P114)","v":0},{"$f":"SUMIFS('Cleaned SnowMachine Data'!BH$6:BH$123,'Cleaned SnowMachine Data'!$E$6:$E$123,1,'Cleaned SnowMachine Data'!AX$6:AX$123,'Activity Days'!$P114)","v":0},{"$f":"SUMIFS('Cleaned SnowMachine Data'!BI$6:BI$123,'Cleaned SnowMachine Data'!$E$6:$E$123,1,'Cleaned SnowMachine Data'!AY$6:AY$123,'Activity Days'!$P114)","v":0},0]
[{"$f":"'Site Codes'!AA115","v":"Fairbanks-Fort Greely"},{"$f":"'Site Codes'!AB115","v":"Snow 110"},{"$f":"SUMIF('Cleaned SnowMachine Data'!AP$6:AP$123,'Activity Days'!$B115,'Cleaned SnowMachine Data'!AZ$6:AZ$123)","v":2},{"$f":"SUMIF('Cleaned SnowMachine Data'!AQ$6:AQ$123,'Activity Days'!$B115,'Cleaned SnowMachine Data'!BA$6:BA$123)","v":0},{"$f":"SUMIF('Cleaned SnowMachine Data'!AR$6:AR$123,'Activity Days'!$B115,'Cleaned SnowMachine Data'!BB$6:BB$123)","v":0},{"$f":"SUMIF('Cleaned SnowMachine Data'!AS$6:AS$123,'Activity Days'!$B115,'Cleaned SnowMachine Data'!BC$6:BC$123)","v":0},{"$f":"SUMIF('Cleaned SnowMachine Data'!AT$6:AT$123,'Activity Days'!$B115,'Cleaned SnowMachine Data'!BD$6:BD$123)","v":0},{"$f":"SUMIF('Cleaned SnowMachine Data'!AU$6:AU$123,'Activity Days'!$B115,'Cleaned SnowMachine Data'!BE$6:BE$123)","v":0},{"$f":"SUMIF('Cleaned SnowMachine Data'!AV$6:AV$123,'Activity Days'!$B115,'Cleaned SnowMachine Data'!BF$6:BF$123)","v":0},{"$f":"SUMIF('Cleaned SnowMachine Data'!AW$6:AW$123,'Activity Days'!$B115,'Cleaned SnowMachine Data'!BG$6:BG$123)","v":0},{"$f":"SUMIF('Cleaned SnowMachine Data'!AX$6:AX$123,'Activity Days'!$B115,'Cleaned SnowMachine Data'!BH$6:BH$123)","v":0},{"$f":"SUMIF('Cleaned SnowMachine Data'!AY$6:AY$123,'Activity Days'!$B115,'Cleaned SnowMachine Data'!BI$6:BI$123)","v":0},2,null,{"$f":"'Site Codes'!AA115","v":"Fairbanks-Fort Greely"},{"$f":"'Site Codes'!AB115","v":"Snow 110"},{"$f":"SUMIFS('Cleaned SnowMachine Data'!AZ$6:AZ$123,'Cleaned SnowMachine Data'!$E$6:$E$123,1,'Cleaned SnowMachine Data'!AP$6:AP$123,'Activity Days'!$P115)","v":0},{"$f":"SUMIFS('Cleaned SnowMachine Data'!BA$6:BA$123,'Cleaned SnowMachine Data'!$E$6:$E$123,1,'Cleaned SnowMachine Data'!AQ$6:AQ$123,'Activity Days'!$P115)","v":0},{"$f":"SUMIFS('Cleaned SnowMachine Data'!BB$6:BB$123,'Cleaned SnowMachine Data'!$E$6:$E$123,1,'Cleaned SnowMachine Data'!AR$6:AR$123,'Activity Days'!$P115)","v":0},{"$f":"SUMIFS('Cleaned SnowMachine Data'!BC$6:BC$123,'Cleaned SnowMachine Data'!$E$6:$E$123,1,'Cleaned SnowMachine Data'!AS$6:AS$123,'Activity Days'!$P115)","v":0},{"$f":"SUMIFS('Cleaned SnowMachine Data'!BD$6:BD$123,'Cleaned SnowMachine Data'!$E$6:$E$123,1,'Cleaned SnowMachine Data'!AT$6:AT$123,'Activity Days'!$P115)","v":0},{"$f":"SUMIFS('Cleaned SnowMachine Data'!BE$6:BE$123,'Cleaned SnowMachine Data'!$E$6:$E$123,1,'Cleaned SnowMachine Data'!AU$6:AU$123,'Activity Days'!$P115)","v":0},{"$f":"SUMIFS('Cleaned SnowMachine Data'!BF$6:BF$123,'Cleaned SnowMachine Data'!$E$6:$E$123,1,'Cleaned SnowMachine Data'!AV$6:AV$123,'Activity Days'!$P115)","v":0},{"$f":"SUMIFS('Cleaned SnowMachine Data'!BG$6:BG$123,'Cleaned SnowMachine Data'!$E$6:$E$123,1,'Cleaned SnowMachine Data'!AW$6:AW$123,'Activity Days'!$P115)","v":0},{"$f":"SUMIFS('Cleaned SnowMachine Data'!BH$6:BH$123,'Cleaned SnowMachine Data'!$E$6:$E$123,1,'Cleaned SnowMachine Data'!AX$6:AX$123,'Activity Days'!$P115)","v":0},{"$f":"SUMIFS('Cleaned SnowMachine Data'!BI$6:BI$123,'Cleaned SnowMachine Data'!$E$6:$E$123,1,'Cleaned SnowMachine Data'!AY$6:AY$123,'Activity Days'!$P115)","v":0},0]
[{"$f":"'Site Codes'!AA116","v":"Chistochina"},{"$f":"'Site Codes'!AB116","v":"Snow 111"},{"$f":"SUMIF('Cleaned SnowMachine Data'!AP$6:AP$123,'Activity Days'!$B116,'Cleaned SnowMachine Data'!AZ$6:AZ$123)","v":30},{"$f":"SUMIF('Cleaned SnowMachine Data'!AQ$6:AQ$123,'Activity Days'!$B116,'Cleaned SnowMachine Data'!BA$6:BA$123)","v":0},{"$f":"SUMIF('Cleaned SnowMachine Data'!AR$6:AR$123,'Activity Days'!$B116,'Cleaned SnowMachine Data'!BB$6:BB$123)","v":0},{"$f":"SUMIF('Cleaned SnowMachine Data'!AS$6:AS$123,'Activity Days'!$B116,'Cleaned SnowMachine Data'!BC$6:BC$123)","v":0},{"$f":"SUMIF('Cleaned SnowMachine Data'!AT$6:AT$123,'Activity Days'!$B116,'Cleaned SnowMachine Data'!BD$6:BD$123)","v":0},{"$f":"SUMIF('Cleaned SnowMachine Data'!AU$6:AU$123,'Activity Days'!$B116,'Cleaned SnowMachine Data'!BE$6:BE$123)","v":0},{"$f":"SUMIF('Cleaned SnowMachine Data'!AV$6:AV$123,'Activity Days'!$B116,'Cleaned SnowMachine Data'!BF$6:BF$123)","v":0},{"$f":"SUMIF('Cleaned SnowMachine Data'!AW$6:AW$123,'Activity Days'!$B116,'Cleaned SnowMachine Data'!BG$6:BG$123)","v":0},{"$f":"SUMIF('Cleaned SnowMachine Data'!AX$6:AX$123,'Activity Days'!$B116,'Cleaned SnowMachine Data'!BH$6:BH$123)","v":0},{"$f":"SUMIF('Cleaned SnowMachine Data'!AY$6:AY$123,'Activity Days'!$B116,'Cleaned SnowMachine Data'!BI$6:BI$123)","v":0},30,null,{"$f":"'Site Codes'!AA116","v":"Chistochina"},{"$f":"'Site Codes'!AB116","v":"Snow 111"},{"$f":"SUMIFS('Cleaned SnowMachine Data'!AZ$6:AZ$123,'Cleaned SnowMachine Data'!$E$6:$E$123,1,'Cleaned SnowMachine Data'!AP$6:AP$123,'Activity Days'!$P116)","v":0},{"$f":"SUMIFS('Cleaned SnowMachine Data'!BA$6:BA$123,'Cleaned SnowMachine Data'!$E$6:$E$123,1,'Cleaned SnowMachine Data'!AQ$6:AQ$123,'Activity Days'!$P116)","v":0},{"$f":"SUMIFS('Cleaned SnowMachine Data'!BB$6:BB$123,'Cleaned SnowMachine Data'!$E$6:$E$123,1,'Cleaned SnowMachine Data'!AR$6:AR$123,'Activity Days'!$P116)","v":0},{"$f":"SUMIFS('Cleaned SnowMachine Data'!BC$6:BC$123,'Cleaned SnowMachine Data'!$E$6:$E$123,1,'Cleaned SnowMachine Data'!AS$6:AS$123,'Activity Days'!$P116)","v":0},{"$f":"SUMIFS('Cleaned SnowMachine Data'!BD$6:BD$123,'Cleaned SnowMachine Data'!$E$6:$E$123,1,'Cleaned SnowMachine Data'!AT$6:AT$123,'Activity Days'!$P116)","v":0},{"$f":"SUMIFS('Cleaned SnowMachine Data'!BE$6:BE$123,'Cleaned SnowMachine Data'!$E$6:$E$123,1,'Cleaned SnowMachine Data'!AU$6:AU$123,'Activity Days'!$P116)","v":0},{"$f":"SUMIFS('Cleaned SnowMachine Data'!BF$6:BF$123,'Cleaned SnowMachine Data'!$E$6:$E$123,1,'Cleaned SnowMachine Data'!AV$6:AV$123,'Activity Days'!$P116)","v":0},{"$f":"SUMIFS('Cleaned SnowMachine Data'!BG$6:BG$123,'Cleaned SnowMachine Data'!$E$6:$E$123,1,'Cleaned SnowMachine Data'!AW$6:AW$123,'Activity Days'!$P116)","v":0},{"$f":"SUMIFS('Cleaned SnowMachine Data'!BH$6:BH$123,'Cleaned SnowMachine Data'!$E$6:$E$123,1,'Cleaned SnowMachine Data'!AX$6:AX$123,'Activity Days'!$P116)","v":0},{"$f":"SUMIFS('Cleaned SnowMachine Data'!BI$6:BI$123,'Cleaned SnowMachine Data'!$E$6:$E$123,1,'Cleaned SnowMachine Data'!AY$6:AY$123,'Activity Days'!$P116)","v":0},0]
[{"$f":"'Site Codes'!AA117","v":"Chitina"},{"$f":"'Site Codes'!AB117","v":"Snow 112"},{"$f":"SUMIF('Cleaned SnowMachine Data'!AP$6:AP$123,'Activity Days'!$B117,'Cleaned SnowMachine Data'!AZ$6:AZ$123)","v":92},{"$f":"SUMIF('Cleaned SnowMachine Data'!AQ$6:AQ$123,'Activity Days'!$B117,'Cleaned SnowMachine Data'!BA$6:BA$123)","v":90},{"$f":"SUMIF('Cleaned SnowMachine Data'!AR$6:AR$123,'Activity Days'!$B117,'Cleaned SnowMachine Data'!BB$6:BB$123)","v":90},{"$f":"SUMIF('Cleaned SnowMachine Data'!AS$6:AS$123,'Activity Days'!$B117,'Cleaned SnowMachine Data'!BC$6:BC$123)","v":0},{"$f":"SUMIF('Cleaned SnowMachine Data'!AT$6:AT$123,'Activity Days'!$B117,'Cleaned SnowMachine Data'!BD$6:BD$123)","v":0},{"$f":"SUMIF('Cleaned SnowMachine Data'!AU$6:AU$123,'Activity Days'!$B117,'Cleaned SnowMachine Data'!BE$6:BE$123)","v":0},{"$f":"SUMIF('Cleaned SnowMachine Data'!AV$6:AV$123,'Activity Days'!$B117,'Cleaned SnowMachine Data'!BF$6:BF$123)","v":0},{"$f":"SUMIF('Cleaned SnowMachine Data'!AW$6:AW$123,'Activity Days'!$B117,'Cleaned SnowMachine Data'!BG$6:BG$123)","v":0},{"$f":"SUMIF('Cleaned SnowMachine Data'!AX$6:AX$123,'Activity Days'!$B117,'Cleaned SnowMachine Data'!BH$6:BH$123)","v":0},{"$f":"SUMIF('Cleaned SnowMachine Data'!AY$6:AY$123,'Activity Days'!$B117,'Cleaned SnowMachine Data'!BI$6:BI$123)","v":0},272,null,{"$f":"'Site Codes'!AA117","v":"Chitina"},{"$f":"'Site Codes'!AB117","v":"Snow 112"},{"$f":"SUMIFS('Cleaned SnowMachine Data'!AZ$6:AZ$123,'Cleaned SnowMachine Data'!$E$6:$E$123,1,'Cleaned SnowMachine Data'!AP$6:AP$123,'Activity Days'!$P117)","v":0},{"$f":"SUMIFS('Cleaned SnowMachine Data'!BA$6:BA$123,'Cleaned SnowMachine Data'!$E$6:$E$123,1,'Cleaned SnowMachine Data'!AQ$6:AQ$123,'Activity Days'!$P117)","v":0},{"$f":"SUMIFS('Cleaned SnowMachine Data'!BB$6:BB$123,'Cleaned SnowMachine Data'!$E$6:$E$123,1,'Cleaned SnowMachine Data'!AR$6:AR$123,'Activity Days'!$P117)","v":0},{"$f":"SUMIFS('Cleaned SnowMachine Data'!BC$6:BC$123,'Cleaned SnowMachine Data'!$E$6:$E$123,1,'Cleaned SnowMachine Data'!AS$6:AS$123,'Activity Days'!$P117)","v":0},{"$f":"SUMIFS('Cleaned SnowMachine Data'!BD$6:BD$123,'Cleaned SnowMachine Data'!$E$6:$E$123,1,'Cleaned SnowMachine Data'!AT$6:AT$123,'Activity Days'!$P117)","v":0},{"$f":"SUMIFS('Cleaned SnowMachine Data'!BE$6:BE$123,'Cleaned SnowMachine Data'!$E$6:$E$123,1,'Cleaned SnowMachine Data'!AU$6:AU$123,'Activity Days'!$P117)","v":0},{"$f":"SUMIFS('Cleaned SnowMachine Data'!BF$6:BF$123,'Cleaned SnowMachine Data'!$E$6:$E$123,1,'Cleaned SnowMachine Data'!AV$6:AV$123,'Activity Days'!$P117)","v":0},{"$f":"SUMIFS('Cleaned SnowMachine Data'!BG$6:BG$123,'Cleaned SnowMachine Data'!$E$6:$E$123,1,'Cleaned SnowMachine Data'!AW$6:AW$123,'Activity Days'!$P117)","v":0},{"$f":"SUMIFS('Cleaned SnowMachine Data'!BH$6:BH$123,'Cleaned SnowMachine Data'!$E$6:$E$123,1,'Cleaned SnowMachine Data'!AX$6:AX$123,'Activity Days'!$P117)","v":0},{"$f":"SUMIFS('Cleaned SnowMachine Data'!BI$6:BI$123,'Cleaned SnowMachine Data'!$E$6:$E$123,1,'Cleaned SnowMachine Data'!AY$6:AY$123,'Activity Days'!$P117)","v":0},0]
[{"$f":"'Site Codes'!AA118","v":"Fort Yukon"},{"$f":"'Site Codes'!AB118","v":"Snow 113"},{"$f":"SUMIF('Cleaned SnowMachine Data'!AP$6:AP$123,'Activity Days'!$B118,'Cleaned SnowMachine Data'!AZ$6:AZ$123)","v":200},{"$f":"SUMIF('Cleaned SnowMachine Data'!AQ$6:AQ$123,'Activity Days'!$B118,'Cleaned SnowMachine Data'!BA$6:BA$123)","v":0},{"$f":"SUMIF('Cleaned SnowMachine Data'!AR$6:AR$123,'Activity Days'!$B118,'Cleaned SnowMachine Data'!BB$6:BB$123)","v":0},{"$f":"SUMIF('Cleaned SnowMachine Data'!AS$6:AS$123,'Activity Days'!$B118,'Cleaned SnowMachine Data'!BC$6:BC$123)","v":0},{"$f":"SUMIF('Cleaned SnowMachine Data'!AT$6:AT$123,'Activity Days'!$B118,'Cleaned SnowMachine Data'!BD$6:BD$123)","v":0},{"$f":"SUMIF('Cleaned SnowMachine Data'!AU$6:AU$123,'Activity Days'!$B118,'Cleaned SnowMachine Data'!BE$6:BE$123)","v":0},{"$f":"SUMIF('Cleaned SnowMachine Data'!AV$6:AV$123,'Activity Days'!$B118,'Cleaned SnowMachine Data'!BF$6:BF$123)","v":0},{"$f":"SUMIF('Cleaned SnowMachine Data'!AW$6:AW$123,'Activity Days'!$B118,'Cleaned SnowMachine Data'!BG$6:BG$123)","v":0},{"$f":"SUMIF('Cleaned SnowMachine Data'!AX$6:AX$123,'Activity Days'!$B118,'Cleaned SnowMachine Data'!BH$6:BH$123)","v":0},{"$f":"SUMIF('Cleaned SnowMachine Data'!AY$6:AY$123,'Activity Days'!$B118,'Cleaned SnowMachine Data'!BI$6:BI$123)","v":0},200,null,{"$f":"'Site Codes'!AA118","v":"Fort Yukon"},{"$f":"'Site Codes'!AB118","v":"Snow 113"},{"$f":"SUMIFS('Cleaned SnowMachine Data'!AZ$6:AZ$123,'Cleaned SnowMachine Data'!$E$6:$E$123,1,'Cleaned SnowMachine Data'!AP$6:AP$123,'Activity Days'!$P118)","v":0},{"$f":"SUMIFS('Cleaned SnowMachine Data'!BA$6:BA$123,'Cleaned SnowMachine Data'!$E$6:$E$123,1,'Cleaned SnowMachine Data'!AQ$6:AQ$123,'Activity Days'!$P118)","v":0},{"$f":"SUMIFS('Cleaned SnowMachine Data'!BB$6:BB$123,'Cleaned SnowMachine Data'!$E$6:$E$123,1,'Cleaned SnowMachine Data'!AR$6:AR$123,'Activity Days'!$P118)","v":0},{"$f":"SUMIFS('Cleaned SnowMachine Data'!BC$6:BC$123,'Cleaned SnowMachine Data'!$E$6:$E$123,1,'Cleaned SnowMachine Data'!AS$6:AS$123,'Activity Days'!$P118)","v":0},{"$f":"SUMIFS('Cleaned SnowMachine Data'!BD$6:BD$123,'Cleaned SnowMachine Data'!$E$6:$E$123,1,'Cleaned SnowMachine Data'!AT$6:AT$123,'Activity Days'!$P118)","v":0},{"$f":"SUMIFS('Cleaned SnowMachine Data'!BE$6:BE$123,'Cleaned SnowMachine Data'!$E$6:$E$123,1,'Cleaned SnowMachine Data'!AU$6:AU$123,'Activity Days'!$P118)","v":0},{"$f":"SUMIFS('Cleaned SnowMachine Data'!BF$6:BF$123,'Cleaned SnowMachine Data'!$E$6:$E$123,1,'Cleaned SnowMachine Data'!AV$6:AV$123,'Activity Days'!$P118)","v":0},{"$f":"SUMIFS('Cleaned SnowMachine Data'!BG$6:BG$123,'Cleaned SnowMachine Data'!$E$6:$E$123,1,'Cleaned SnowMachine Data'!AW$6:AW$123,'Activity Days'!$P118)","v":0},{"$f":"SUMIFS('Cleaned SnowMachine Data'!BH$6:BH$123,'Cleaned SnowMachine Data'!$E$6:$E$123,1,'Cleaned SnowMachine Data'!AX$6:AX$123,'Activity Days'!$P118)","v":0},{"$f":"SUMIFS('Cleaned SnowMachine Data'!BI$6:BI$123,'Cleaned SnowMachine Data'!$E$6:$E$123,1,'Cleaned SnowMachine Data'!AY$6:AY$123,'Activity Days'!$P118)","v":0},0]
[{"$f":"'Site Codes'!AA119","v":"Petersville-Unspecified"},{"$f":"'Site Codes'!AB119","v":"Snow 114"},{"$f":"SUMIF('Cleaned SnowMachine Data'!AP$6:AP$123,'Activity Days'!$B119,'Cleaned SnowMachine Data'!AZ$6:AZ$123)","v":44},{"$f":"SUMIF('Cleaned SnowMachine Data'!AQ$6:AQ$123,'Activity Days'!$B119,'Cleaned SnowMachine Data'!BA$6:BA$123)","v":0},{"$f":"SUMIF('Cleaned SnowMachine Data'!AR$6:AR$123,'Activity Days'!$B119,'Cleaned SnowMachine Data'!BB$6:BB$123)","v":0},{"$f":"SUMIF('Cleaned SnowMachine Data'!AS$6:AS$123,'Activity Days'!$B119,'Cleaned SnowMachine Data'!BC$6:BC$123)","v":0},{"$f":"SUMIF('Cleaned SnowMachine Data'!AT$6:AT$123,'Activity Days'!$B119,'Cleaned SnowMachine Data'!BD$6:BD$123)","v":0},{"$f":"SUMIF('Cleaned SnowMachine Data'!AU$6:AU$123,'Activity Days'!$B119,'Cleaned SnowMachine Data'!BE$6:BE$123)","v":0},{"$f":"SUMIF('Cleaned SnowMachine Data'!AV$6:AV$123,'Activity Days'!$B119,'Cleaned SnowMachine Data'!BF$6:BF$123)","v":0},{"$f":"SUMIF('Cleaned SnowMachine Data'!AW$6:AW$123,'Activity Days'!$B119,'Cleaned SnowMachine Data'!BG$6:BG$123)","v":0},{"$f":"SUMIF('Cleaned SnowMachine Data'!AX$6:AX$123,'Activity Days'!$B119,'Cleaned SnowMachine Data'!BH$6:BH$123)","v":0},{"$f":"SUMIF('Cleaned SnowMachine Data'!AY$6:AY$123,'Activity Days'!$B119,'Cleaned SnowMachine Data'!BI$6:BI$123)","v":0},44,null,{"$f":"'Site Codes'!AA119","v":"Petersville-Unspecified"},{"$f":"'Site Codes'!AB119","v":"Snow 114"},{"$f":"SUMIFS('Cleaned SnowMachine Data'!AZ$6:AZ$123,'Cleaned SnowMachine Data'!$E$6:$E$123,1,'Cleaned SnowMachine Data'!AP$6:AP$123,'Activity Days'!$P119)","v":40},{"$f":"SUMIFS('Cleaned SnowMachine Data'!BA$6:BA$123,'Cleaned SnowMachine Data'!$E$6:$E$123,1,'Cleaned SnowMachine Data'!AQ$6:AQ$123,'Activity Days'!$P119)","v":0},{"$f":"SUMIFS('Cleaned SnowMachine Data'!BB$6:BB$123,'Cleaned SnowMachine Data'!$E$6:$E$123,1,'Cleaned SnowMachine Data'!AR$6:AR$123,'Activity Days'!$P119)","v":0},{"$f":"SUMIFS('Cleaned SnowMachine Data'!BC$6:BC$123,'Cleaned SnowMachine Data'!$E$6:$E$123,1,'Cleaned SnowMachine Data'!AS$6:AS$123,'Activity Days'!$P119)","v":0},{"$f":"SUMIFS('Cleaned SnowMachine Data'!BD$6:BD$123,'Cleaned SnowMachine Data'!$E$6:$E$123,1,'Cleaned SnowMachine Data'!AT$6:AT$123,'Activity Days'!$P119)","v":0},{"$f":"SUMIFS('Cleaned SnowMachine Data'!BE$6:BE$123,'Cleaned SnowMachine Data'!$E$6:$E$123,1,'Cleaned SnowMachine Data'!AU$6:AU$123,'Activity Days'!$P119)","v":0},{"$f":"SUMIFS('Cleaned SnowMachine Data'!BF$6:BF$123,'Cleaned SnowMachine Data'!$E$6:$E$123,1,'Cleaned SnowMachine Data'!AV$6:AV$123,'Activity Days'!$P119)","v":0},{"$f":"SUMIFS('Cleaned SnowMachine Data'!BG$6:BG$123,'Cleaned SnowMachine Data'!$E$6:$E$123,1,'Cleaned SnowMachine Data'!AW$6:AW$123,'Activity Days'!$P119)","v":0},{"$f":"SUMIFS('Cleaned SnowMachine Data'!BH$6:BH$123,'Cleaned SnowMachine Data'!$E$6:$E$123,1,'Cleaned SnowMachine Data'!AX$6:AX$123,'Activity Days'!$P119)","v":0},{"$f":"SUMIFS('Cleaned SnowMachine Data'!BI$6:BI$123,'Cleaned SnowMachine Data'!$E$6:$E$123,1,'Cleaned SnowMachine Data'!AY$6:AY$123,'Activity Days'!$P119)","v":0},40]
[{"$f":"'Site Codes'!AA120","v":"Seward"},{"$f":"'Site Codes'!AB120","v":"Snow 115"},{"$f":"SUMIF('Cleaned SnowMachine Data'!AP$6:AP$123,'Activity Days'!$B120,'Cleaned SnowMachine Data'!AZ$6:AZ$123)","v":2},{"$f":"SUMIF('Cleaned SnowMachine Data'!AQ$6:AQ$123,'Activity Days'!$B120,'Cleaned SnowMachine Data'!BA$6:BA$123)","v":1},{"$f":"SUMIF('Cleaned SnowMachine Data'!AR$6:AR$123,'Activity Days'!$B120,'Cleaned SnowMachine Data'!BB$6:BB$123)","v":0},{"$f":"SUMIF('Cleaned SnowMachine Data'!AS$6:AS$123,'Activity Days'!$B120,'Cleaned SnowMachine Data'!BC$6:BC$123)","v":0},{"$f":"SUMIF('Cleaned SnowMachine Data'!AT$6:AT$123,'Activity Days'!$B120,'Cleaned SnowMachine Data'!BD$6:BD$123)","v":0},{"$f":"SUMIF('Cleaned SnowMachine Data'!AU$6:AU$123,'Activity Days'!$B120,'Cleaned SnowMachine Data'!BE$6:BE$123)","v":0},{"$f":"SUMIF('Cleaned SnowMachine Data'!AV$6:AV$123,'Activity Days'!$B120,'Cleaned SnowMachine Data'!BF$6:BF$123)","v":0},{"$f":"SUMIF('Cleaned SnowMachine Data'!AW$6:AW$123,'Activity Days'!$B120,'Cleaned SnowMachine Data'!BG$6:BG$123)","v":0},{"$f":"SUMIF('Cleaned SnowMachine Data'!AX$6:AX$123,'Activity Days'!$B120,'Cleaned SnowMachine Data'!BH$6:BH$123)","v":0},{"$f":"SUMIF('Cleaned SnowMachine Data'!AY$6:AY$123,'Activity Days'!$B120,'Cleaned SnowMachine Data'!BI$6:BI$123)","v":0},3,null,{"$f":"'Site Codes'!AA120","v":"Seward"},{"$f":"'Site Codes'!AB120","v":"Snow 115"},{"$f":"SUMIFS('Cleaned SnowMachine Data'!AZ$6:AZ$123,'Cleaned SnowMachine Data'!$E$6:$E$123,1,'Cleaned SnowMachine Data'!AP$6:AP$123,'Activity Days'!$P120)","v":0},{"$f":"SUMIFS('Cleaned SnowMachine Data'!BA$6:BA$123,'Cleaned SnowMachine Data'!$E$6:$E$123,1,'Cleaned SnowMachine Data'!AQ$6:AQ$123,'Activity Days'!$P120)","v":0},{"$f":"SUMIFS('Cleaned SnowMachine Data'!BB$6:BB$123,'Cleaned SnowMachine Data'!$E$6:$E$123,1,'Cleaned SnowMachine Data'!AR$6:AR$123,'Activity Days'!$P120)","v":0},{"$f":"SUMIFS('Cleaned SnowMachine Data'!BC$6:BC$123,'Cleaned SnowMachine Data'!$E$6:$E$123,1,'Cleaned SnowMachine Data'!AS$6:AS$123,'Activity Days'!$P120)","v":0},{"$f":"SUMIFS('Cleaned SnowMachine Data'!BD$6:BD$123,'Cleaned SnowMachine Data'!$E$6:$E$123,1,'Cleaned SnowMachine Data'!AT$6:AT$123,'Activity Days'!$P120)","v":0},{"$f":"SUMIFS('Cleaned SnowMachine Data'!BE$6:BE$123,'Cleaned SnowMachine Data'!$E$6:$E$123,1,'Cleaned SnowMachine Data'!AU$6:AU$123,'Activity Days'!$P120)","v":0},{"$f":"SUMIFS('Cleaned SnowMachine Data'!BF$6:BF$123,'Cleaned SnowMachine Data'!$E$6:$E$123,1,'Cleaned SnowMachine Data'!AV$6:AV$123,'Activity Days'!$P120)","v":0},{"$f":"SUMIFS('Cleaned SnowMachine Data'!BG$6:BG$123,'Cleaned SnowMachine Data'!$E$6:$E$123,1,'Cleaned SnowMachine Data'!AW$6:AW$123,'Activity Days'!$P120)","v":0},{"$f":"SUMIFS('Cleaned SnowMachine Data'!BH$6:BH$123,'Cleaned SnowMachine Data'!$E$6:$E$123,1,'Cleaned SnowMachine Data'!AX$6:AX$123,'Activity Days'!$P120)","v":0},{"$f":"SUMIFS('Cleaned SnowMachine Data'!BI$6:BI$123,'Cleaned SnowMachine Data'!$E$6:$E$123,1,'Cleaned SnowMachine Data'!AY$6:AY$123,'Activity Days'!$P120)","v":0},0]
[{"$f":"'Site Codes'!AA121","v":"Kenai-National Wildlife Refuge"},{"$f":"'Site Codes'!AB121","v":"Snow 116"},{"$f":"SUMIF('Cleaned SnowMachine Data'!AP$6:AP$123,'Activity Days'!$B121,'Cleaned SnowMachine Data'!AZ$6:AZ$123)","v":1},{"$f":"SUMIF('Cleaned SnowMachine Data'!AQ$6:AQ$123,'Activity Days'!$B121,'Cleaned SnowMachine Data'!BA$6:BA$123)","v":0},{"$f":"SUMIF('Cleaned SnowMachine Data'!AR$6:AR$123,'Activity Days'!$B121,'Cleaned SnowMachine Data'!BB$6:BB$123)","v":0},{"$f":"SUMIF('Cleaned SnowMachine Data'!AS$6:AS$123,'Activity Days'!$B121,'Cleaned SnowMachine Data'!BC$6:BC$123)","v":0},{"$f":"SUMIF('Cleaned SnowMachine Data'!AT$6:AT$123,'Activity Days'!$B121,'Cleaned SnowMachine Data'!BD$6:BD$123)","v":0},{"$f":"SUMIF('Cleaned SnowMachine Data'!AU$6:AU$123,'Activity Days'!$B121,'Cleaned SnowMachine Data'!BE$6:BE$123)","v":0},{"$f":"SUMIF('Cleaned SnowMachine Data'!AV$6:AV$123,'Activity Days'!$B121,'Cleaned SnowMachine Data'!BF$6:BF$123)","v":0},{"$f":"SUMIF('Cleaned SnowMachine Data'!AW$6:AW$123,'Activity Days'!$B121,'Cleaned SnowMachine Data'!BG$6:BG$123)","v":0},{"$f":"SUMIF('Cleaned SnowMachine Data'!AX$6:AX$123,'Activity Days'!$B121,'Cleaned SnowMachine Data'!BH$6:BH$123)","v":0},{"$f":"SUMIF('Cleaned SnowMachine Data'!AY$6:AY$123,'Activity Days'!$B121,'Cleaned SnowMachine Data'!BI$6:BI$123)","v":0},1,null,{"$f":"'Site Codes'!AA121","v":"Kenai-National Wildlife Refuge"},{"$f":"'Site Codes'!AB121","v":"Snow 116"},{"$f":"SUMIFS('Cleaned SnowMachine Data'!AZ$6:AZ$123,'Cleaned SnowMachine Data'!$E$6:$E$123,1,'Cleaned SnowMachine Data'!AP$6:AP$123,'Activity Days'!$P121)","v":0},{"$f":"SUMIFS('Cleaned SnowMachine Data'!BA$6:BA$123,'Cleaned SnowMachine Data'!$E$6:$E$123,1,'Cleaned SnowMachine Data'!AQ$6:AQ$123,'Activity Days'!$P121)","v":0},{"$f":"SUMIFS('Cleaned SnowMachine Data'!BB$6:BB$123,'Cleaned SnowMachine Data'!$E$6:$E$123,1,'Cleaned SnowMachine Data'!AR$6:AR$123,'Activity Days'!$P121)","v":0},{"$f":"SUMIFS('Cleaned SnowMachine Data'!BC$6:BC$123,'Cleaned SnowMachine Data'!$E$6:$E$123,1,'Cleaned SnowMachine Data'!AS$6:AS$123,'Activity Days'!$P121)","v":0},{"$f":"SUMIFS('Cleaned SnowMachine Data'!BD$6:BD$123,'Cleaned SnowMachine Data'!$E$6:$E$123,1,'Cleaned SnowMachine Data'!AT$6:AT$123,'Activity Days'!$P121)","v":0},{"$f":"SUMIFS('Cleaned SnowMachine Data'!BE$6:BE$123,'Cleaned SnowMachine Data'!$E$6:$E$123,1,'Cleaned SnowMachine Data'!AU$6:AU$123,'Activity Days'!$P121)","v":0},{"$f":"SUMIFS('Cleaned SnowMachine Data'!BF$6:BF$123,'Cleaned SnowMachine Data'!$E$6:$E$123,1,'Cleaned SnowMachine Data'!AV$6:AV$123,'Activity Days'!$P121)","v":0},{"$f":"SUMIFS('Cleaned SnowMachine Data'!BG$6:BG$123,'Cleaned SnowMachine Data'!$E$6:$E$123,1,'Cleaned SnowMachine Data'!AW$6:AW$123,'Activity Days'!$P121)","v":0},{"$f":"SUMIFS('Cleaned SnowMachine Data'!BH$6:BH$123,'Cleaned SnowMachine Data'!$E$6:$E$123,1,'Cleaned SnowMachine Data'!AX$6:AX$123,'Activity Days'!$P121)","v":0},{"$f":"SUMIFS('Cleaned SnowMachine Data'!BI$6:BI$123,'Cleaned SnowMachine Data'!$E$6:$E$123,1,'Cleaned SnowMachine Data'!AY$6:AY$123,'Activity Days'!$P121)","v":0},0]
[{"$f":"'Site Codes'!AA122","v":"Valdez"},{"$f":"'Site Codes'!AB122","v":"Snow 117"},{"$f":"SUMIF('Cleaned SnowMachine Data'!AP$6:AP$123,'Activity Days'!$B122,'Cleaned SnowMachine Data'!AZ$6:AZ$123)","v":30},{"$f":"SUMIF('Cleaned SnowMachine Data'!AQ$6:AQ$123,'Activity Days'!$B122,'Cleaned SnowMachine Data'!BA$6:BA$123)","v":0},{"$f":"SUMIF('Cleaned SnowMachine Data'!AR$6:AR$123,'Activity Days'!$B122,'Cleaned SnowMachine Data'!BB$6:BB$123)","v":0},{"$f":"SUMIF('Cleaned SnowMachine Data'!AS$6:AS$123,'Activity Days'!$B122,'Cleaned SnowMachine Data'!BC$6:BC$123)","v":0},{"$f":"SUMIF('Cleaned SnowMachine Data'!AT$6:AT$123,'Activity Days'!$B122,'Cleaned SnowMachine Data'!BD$6:BD$123)","v":0},{"$f":"SUMIF('Cleaned SnowMachine Data'!AU$6:AU$123,'Activity Days'!$B122,'Cleaned SnowMachine Data'!BE$6:BE$123)","v":0},{"$f":"SUMIF('Cleaned SnowMachine Data'!AV$6:AV$123,'Activity Days'!$B122,'Cleaned SnowMachine Data'!BF$6:BF$123)","v":0},{"$f":"SUMIF('Cleaned SnowMachine Data'!AW$6:AW$123,'Activity Days'!$B122,'Cleaned SnowMachine Data'!BG$6:BG$123)","v":0},{"$f":"SUMIF('Cleaned SnowMachine Data'!AX$6:AX$123,'Activity Days'!$B122,'Cleaned SnowMachine Data'!BH$6:BH$123)","v":0},{"$f":"SUMIF('Cleaned SnowMachine Data'!AY$6:AY$123,'Activity Days'!$B122,'Cleaned SnowMachine Data'!BI$6:BI$123)","v":0},30,null,{"$f":"'Site Codes'!AA122","v":"Valdez"},{"$f":"'Site Codes'!AB122","v":"Snow 117"},{"$f":"SUMIFS('Cleaned SnowMachine Data'!AZ$6:AZ$123,'Cleaned SnowMachine Data'!$E$6:$E$123,1,'Cleaned SnowMachine Data'!AP$6:AP$123,'Activity Days'!$P122)","v":0},{"$f":"SUMIFS('Cleaned SnowMachine Data'!BA$6:BA$123,'Cleaned SnowMachine Data'!$E$6:$E$123,1,'Cleaned SnowMachine Data'!AQ$6:AQ$123,'Activity Days'!$P122)","v":0},{"$f":"SUMIFS('Cleaned SnowMachine Data'!BB$6:BB$123,'Cleaned SnowMachine Data'!$E$6:$E$123,1,'Cleaned SnowMachine Data'!AR$6:AR$123,'Activity Days'!$P122)","v":0},{"$f":"SUMIFS('Cleaned SnowMachine Data'!BC$6:BC$123,'Cleaned SnowMachine Data'!$E$6:$E$123,1,'Cleaned SnowMachine Data'!AS$6:AS$123,'Activity Days'!$P122)","v":0},{"$f":"SUMIFS('Cleaned SnowMachine Data'!BD$6:BD$123,'Cleaned SnowMachine Data'!$E$6:$E$123,1,'Cleaned SnowMachine Data'!AT$6:AT$123,'Activity Days'!$P122)","v":0},{"$f":"SUMIFS('Cleaned SnowMachine Data'!BE$6:BE$123,'Cleaned SnowMachine Data'!$E$6:$E$123,1,'Cleaned SnowMachine Data'!AU$6:AU$123,'Activity Days'!$P122)","v":0},{"$f":"SUMIFS('Cleaned SnowMachine Data'!BF$6:BF$123,'Cleaned SnowMachine Data'!$E$6:$E$123,1,'Cleaned SnowMachine Data'!AV$6:AV$123,'Activity Days'!$P122)","v":0},{"$f":"SUMIFS('Cleaned SnowMachine Data'!BG$6:BG$123,'Cleaned SnowMachine Data'!$E$6:$E$123,1,'Cleaned SnowMachine Data'!AW$6:AW$123,'Activity Days'!$P122)","v":0},{"$f":"SUMIFS('Cleaned SnowMachine Data'!BH$6:BH$123,'Cleaned SnowMachine Data'!$E$6:$E$123,1,'Cleaned SnowMachine Data'!AX$6:AX$123,'Activity Days'!$P122)","v":0},{"$f":"SUMIFS('Cleaned SnowMachine Data'!BI$6:BI$123,'Cleaned SnowMachine Data'!$E$6:$E$123,1,'Cleaned SnowMachine Data'!AY$6:AY$123,'Activity Days'!$P122)","v":0},0]
["Totals",null,{"$f":"SUM(C6:C122)","v":1213},{"$f":"SUM(D6:D122)","v":258},120,7,2,1,2,2,2,0,1607,null,"Totals",null,{"$f":"SUM(Q6:Q122)","v":286},{"$f":"SUM(R6:R122)","v":49},3,0,0,0,0,0,0,0,338]

{"sheet":"Lives in SA (Zip)","index":7,"n_rows":3989,"n_cols":5,"rows_kept":3989,"cut":false,"hidden":false,"merged":[]}
[]
[]
["Survey","Unique Respondent ID","Zip Code","Live in Study Area","Lives in SA (Zip Verified)"]
["05_14","_20466_1",99645,2,0]
["05_14","_23541_1",99708,2,0]
["05_14","_24776_1",99712,2,0]
["05_14","_27691_1",99710,2,0]
["05_14","_33751_1",99508,2,0]
["05_14","_39621_1",99654,2,0]
["05_14","_45196_1",99645,2,0]
["05_14","_45871_1",99705,2,0]
["05_14","_46391_1",99712,2,0]
["05_14","_51565_1",99701,2,0]
["05_14","_60015_1",99645,2,0]
["05_14","_77405_1",99712,2,0]
["05_14","_80635_1",99566,2,0]
["05_14","_86555_1",99737,2,0]
["05_14","_88665_1",99676,1,1]
["05_14","_88905_1",99707,2,0]
["05_14","_91746_1",0,1,0]
["08_13","1_29861_2",99502,2,0]
["08_13","1_36681_1",99517,2,0]
["05_14","1_54705_1",99503,2,0]
["05_14","1_55765_2",99507,2,0]
["08_13","10_13176_1",99504,2,0]
["08_13","10_26201_2",{"$error":"#N/A"},2,{"$error":"#N/A"}]
["05_14","10_55535_2",99504,2,0]
["05_14","10_63655_1",99709,null,0]
["08_13","100_18191_1",99518,2,0]
["08_13","100_23551_2",99708,2,0]
["05_14","100_54495_1",99503,2,0]
["05_14","100_67755_2",99623,2,0]
["08_13","1000_28656_1",94535,2,0]
["05_14","1000_85420_1",99731,2,0]
["08_13","1001_10606_1",99501,2,0]
["05_14","1001_67015_1",99705,2,0]
["08_13","1002_18846_1",99577,2,0]
["05_14","1002_78690_1",99503,2,0]
["08_13","1003_16421_1",99515,2,0]
["05_14","1003_65115_1",99504,2,0]
["08_13","1004_29416_1",99501,2,0]
["05_14","1004_61385_1",99515,2,0]
["08_13","1005_11046_1",99502,2,0]
["05_14","1005_19856_1",99645,2,0]
["08_13","1006_26371_1",99588,2,0]
["05_14","1006_37771_1",99577,2,0]
["08_13","1007_12296_1",99504,2,0]
["05_14","1007_82485_1",99683,2,0]
["08_13","1008_43106_1",99712,2,0]
["05_14","1008_57085_1",99577,2,0]
["08_13","1009_10321_1",99501,2,0]
["05_14","1009_67310_1",99645,null,0]
["08_13","101_22861_2",99705,2,0]
["08_13","101_24886_1",99503,2,0]
["05_14","101_50360_1",99507,2,0]
["05_14","101_69660_2",99503,2,0]
["08_13","1010_20776_1",99654,2,0]
["05_14","1010_74525_1",99507,2,0]
["08_13","1011_38151_1",99577,2,0]
["05_14","1011_58050_1",99705,2,0]
["08_13","1012_43731_1",99506,2,0]
["05_14","1012_51490_1",99507,2,0]
["08_13","1013_12606_1",99504,2,0]
["05_14","1013_72350_1",99504,2,0]
["08_13","1014_34446_1",99508,2,0]
["05_14","1014_57045_1",99645,2,0]
["08_13","1015_40121_1",99654,2,0]
["05_14","1015_62535_1",99517,2,0]
["08_13","1016_45261_1",99652,2,0]
["05_14","1016_89655_1",99577,2,0]
["08_13","1017_36181_1",99516,2,0]
["05_14","1017_53720_1",99515,2,0]
["08_13","1018_37506_1",99577,2,0]
["05_14","1018_50515_1",99712,2,0]
["08_13","1019_33206_1",99507,2,0]
["05_14","1019_63515_1",99517,2,0]
["08_13","102_25691_2",99518,2,0]
["08_13","102_33706_1",99508,2,0]
["05_14","102_51570_2",99515,2,0]
["05_14","102_75665_1",99501,2,0]
["08_13","1020_12196_1",99504,2,0]
["05_14","1020_59600_1",99517,2,0]
["08_13","1021_30311_1",99502,2,0]
["05_14","1021_59315_1",99645,2,0]
["08_13","1022_37696_1",99577,2,0]
["05_14","1022_71155_1",99508,2,0]
["08_13","1023_16951_1",99516,2,0]
["05_14","1023_58625_1",99577,2,0]
["08_13","1024_38276_1",99623,2,0]
["05_14","1024_82725_1",99514,2,0]
["08_13","1025_32671_1",99507,2,0]
["05_14","1025_54020_1",99501,2,0]
["08_13","1026_10706_1",99501,2,0]
["05_14","1026_67020_1",99507,2,0]
["08_13","1027_43421_1",99504,2,0]
["05_14","1027_55500_1",99504,2,0]
["08_13","1028_16366_1",99515,2,0]
["05_14","1028_70300_1",99623,2,0]
["08_13","1029_24471_1",99712,2,0]
["05_14","1029_87770_1",99711,2,0]
["08_13","103_35461_2",99515,2,0]
["08_13","103_45666_1",99688,1,1]
["05_14","103_73545_1",99701,2,0]
["05_14","103_78540_2",99577,2,0]
["08_13","1030_25371_1",99511,2,0]
["05_14","1030_76765_1",99502,2,0]
["08_13","1031_44506_1",99524,2,0]
["05_14","1031_86550_1",99780,2,0]
["08_13","1032_26256_1",99587,2,0]
["05_14","1032_64330_1",99712,2,0]
["08_13","1033_44171_1",99515,2,0]
["05_14","1033_82420_1",99683,2,0]
["08_13","1034_38201_1",99577,2,0]
["05_14","1034_55545_1",99577,2,0]
["08_13","1035_24666_1",99712,2,0]
["05_14","1035_68265_1",99507,2,0]
["08_13","1036_18116_1",99518,2,0]
["05_14","1036_83295_1",99517,2,0]
["08_13","1037_16751_1",99516,2,0]
["05_14","1037_53450_1",99516,2,0]
["08_13","1038_10336_1",99501,2,0]
["05_14","1038_55100_1",99505,2,0]
["08_13","1039_15546_1",99508,2,0]
["05_14","1039_75080_1",99502,2,0]
["08_13","104_34511_1",99508,2,0]
["08_13","104_36636_2",99517,2,0]
["05_14","104_55945_2",99516,2,0]
["05_14","104_73880_1",99654,2,0]
["05_14","1040_32511_1",99507,2,0]
["08_13","1040_36781_1",99517,2,0]
["08_13","1041_29271_1",99501,2,0]
["05_14","1041_91135_1",99687,2,0]
["08_13","1042_23306_1",99705,2,0]
["05_14","1042_71785_1",99504,2,0]
["08_13","1043_14581_1",99507,2,0]
["05_14","1043_81150_1",99676,1,1]
["08_13","1044_15506_1",99508,2,0]
["05_14","1044_73865_1",99507,2,0]
["08_13","1045_36371_1",99517,2,0]
["05_14","1045_56040_1",99516,2,0]
["08_13","1046_39436_1",99654,2,0]
["05_14","1046_85140_1",99573,2,0]
["05_14","1047_22931_1",99705,2,0]
["08_13","1047_28386_1",28425,2,0]
["08_13","1048_12176_1",99504,2,0]
["05_14","1048_88130_1",99588,2,0]
["05_14","1049_21441_1",99654,2,0]
["08_13","1049_42616_1",99709,2,0]
["08_13","105_20371_2",99645,2,0]
["08_13","105_27731_1",99712,2,0]
["05_14","105_55745_1",99508,2,0]
["05_14","105_80830_2",99573,2,0]
["08_13","1050_19216_1",99577,2,0]
["05_14","1050_64660_1",99705,2,0]
["08_13","1051_22831_1",99705,2,0]
["05_14","1051_57660_1",99515,2,0]
["08_13","1052_45816_1",99702,2,0]
["05_14","1052_64230_1",99515,2,0]
["08_13","1053_12311_1",99504,2,0]
["05_14","1053_59360_1",99501,2,0]
["08_13","1054_42141_1",99707,2,0]
["05_14","1054_76185_1",99712,2,0]
["08_13","1055_26421_1",99588,2,0]
["05_14","1055_69685_1",99709,2,0]
["08_13","1056_40636_1",99687,2,0]
["05_14","1056_62210_1",99508,2,0]
["05_14","1057_10771_1",99502,2,0]
["08_13","1057_26201_1",99577,2,0]
["08_13","1058_23116_1",99705,2,0]
["05_14","1058_33331_1",99507,2,0]
["08_13","1059_46851_1",99716,2,0]
["05_14","1059_53665_1",99516,2,0]
["08_13","106_19376_1",99577,2,0]
["08_13","106_30181_2",99502,2,0]
["05_14","106_71490_1",99623,2,0]
["05_14","106_90255_2",99708,2,0]
["08_13","1060_30016_1",99502,2,0]
["05_14","1060_70875_1",99508,2,0]
["08_13","1061_17511_1",99517,2,0]
["05_14","1061_54395_1",99516,2,0]
["08_13","1062_42681_1",99709,2,0]
["05_14","1062_81550_1",99710,2,0]
["08_13","1063_31636_1",99504,2,0]
["05_14","1063_80225_1",99586,2,0]
["08_13","1064_14111_1",99507,2,0]
["05_14","1064_69785_1",99712,2,0]
["08_13","1065_38226_1",99577,2,0]
["05_14","1065_63770_1",99623,2,0]
["08_13","1066_29431_1",99501,2,0]
["05_14","1066_54275_1",99501,2,0]
["08_13","1067_19226_1",99577,2,0]
["05_14","1067_88355_1",99567,2,0]
["08_13","1068_14991_1",99508,2,0]
["05_14","1068_89990_1",99708,2,0]
["08_13","1069_15706_1",99508,2,0]
["05_14","1069_88610_1",99567,2,0]
["08_13","107_30651_1",99503,2,0]
["08_13","107_34896_2",99515,2,0]
["05_14","107_53860_2",99707,2,0]
["05_14","107_67905_1",99709,2,0]
["08_13","1070_37701_1",99577,2,0]
["05_14","1070_83855_1",99729,1,1]
["08_13","1071_39511_1",99654,2,0]
["05_14","1071_66910_1",99508,2,0]
["08_13","1072_39056_1",99645,2,0]
["05_14","1072_55835_1",99709,2,0]
["08_13","1073_19366_1",99577,2,0]
["05_14","1073_63845_1",99508,2,0]
["08_13","1074_31631_1",99504,2,0]
["05_14","1074_50245_1",99577,2,0]
["08_13","1075_44626_1",99567,2,0]
["05_14","1075_61165_1",99516,2,0]
["08_13","1076_23041_1",99705,2,0]
["05_14","1076_81135_1",99676,1,1]
["05_14","1077_10631_1",99501,2,0]
["08_13","1077_16081_1",99515,2,0]
["08_13","1078_34136_1",99508,2,0]
["05_14","1078_92065_1",99676,1,1]
["08_13","1079_20216_1",99645,2,0]
["05_14","1079_69160_1",99709,2,0]
["08_13","108_13936_2",99507,2,0]
["08_13","108_15616_1",99508,2,0]
["05_14","108_60180_1",99517,2,0]
["05_14","108_83310_2",99519,1,0]
["08_13","1080_12221_1",99504,2,0]
["05_14","1080_72145_1",99504,2,0]
["08_13","1081_30921_1",99503,2,0]
["05_14","1081_54725_1",99504,2,0]
["08_13","1082_28841_1",99501,null,0]
["05_14","1082_44756_1",99587,2,0]
["08_13","1083_26711_1",99654,2,0]
["05_14","1083_91170_1",99687,2,0]
["08_13","1084_14731_1",99507,2,0]
["05_14","1084_51155_1",99709,2,0]
["08_13","1085_18501_1",99567,2,0]
["05_14","1085_69640_1",99645,2,0]
["08_13","1086_11471_1",99503,2,0]
["05_14","1086_57010_1",99577,2,0]
["08_13","1087_21776_1",99687,2,0]
["05_14","1087_75970_1",99502,2,0]
["08_13","1088_11196_1",99502,2,0]
["05_14","1088_90415_1",99708,2,0]
["08_13","1089_28706_1",99501,2,0]
["05_14","1089_58540_1",99577,2,0]
["08_13","109_21761_2",99687,2,0]
["08_13","109_23051_1",99705,2,0]
["05_14","109_61025_2",99515,2,0]
["05_14","109_66595_1",99515,2,0]
["08_13","1090_26871_1",99676,1,1]
["05_14","1090_66885_1",99502,2,0]
["08_13","1091_30636_1",99503,2,0]
["05_14","1091_86415_1",99517,2,0]
["08_13","1092_18826_1",99577,2,0]
["05_14","1092_55635_1",99504,2,0]
["08_13","1093_45251_1",99645,2,0]
["05_14","1093_67200_1",99507,2,0]
["08_13","1094_45201_1",99645,2,0]
["05_14","1094_60290_1",99501,2,0]
["08_13","1095_29296_1",99501,2,0]
["05_14","1095_77495_1",99645,2,0]
["08_13","1096_42711_1",99709,2,0]
["05_14","1096_57150_1",99577,2,0]
["08_13","1097_35931_1",99516,2,0]
["05_14","1097_78200_1",99515,1,0]
["08_13","1098_17061_1",99516,2,0]
["05_14","1098_80745_1",99737,2,0]
["08_13","1099_10071_1",99501,2,0]
["05_14","1099_83500_1",99520,2,0]
["08_13","11_11096_1",99502,2,0]
["08_13","11_37856_2",99577,2,0]
["05_14","11_57340_1",99705,2,0]
["05_14","11_84695_2",99604,2,0]
["08_13","110_14746_1",99507,2,0]
["08_13","110_37326_2",99567,2,0]
["05_14","110_74105_2",99507,2,0]
["05_14","110_84415_1",99524,2,0]
["08_13","1100_41821_1",99705,2,0]
["05_14","1100_81170_1",99510,2,0]
["08_13","1101_10561_1",99501,2,0]
["05_14","1101_82015_1",99674,1,1]
["08_13","1102_25621_1",99517,2,0]
["05_14","1102_68225_1",99504,2,0]
["08_13","1103_25951_1",99523,2,0]
["05_14","1103_79715_1",99507,2,0]
["08_13","1104_19406_1",99577,2,0]
["05_14","1104_53385_1",99516,2,0]
["08_13","1105_39431_1",99654,1,0]
["05_14","1105_88045_1",99588,2,0]
["08_13","1106_17086_1",99516,2,0]
["05_14","1106_72305_1",99623,2,0]
["08_13","1107_33911_1",99508,2,0]
["05_14","1107_87625_1",99705,2,0]
["08_13","1108_46321_1",99712,2,0]
["05_14","1108_82500_1",99683,1,1]
["08_13","1109_28961_1",99501,2,0]
["05_14","1109_50740_1",99508,2,0]
["08_13","111_13981_2",99507,2,0]
["08_13","111_27376_1",99705,2,0]
["05_14","111_90360_2",99708,2,0]
["05_14","111_91020_1",99687,2,0]
["08_13","1110_20656_1",99645,2,0]
["05_14","1110_59025_1",99515,2,0]
["08_13","1111_38921_1",99645,2,0]
["05_14","1111_71515_1",99508,2,0]
["08_13","1112_14686_1",99507,2,0]
["05_14","1112_67795_1",99517,2,0]
["08_13","1113_45966_1",99705,2,0]
["05_14","1113_88565_1",99567,2,0]
["08_13","1114_34676_1",99508,2,0]
["05_14","1114_77170_1",99645,2,0]
["08_13","1115_16536_1",99515,2,0]
["05_14","1115_77610_1",99502,2,0]
["08_13","1116_41836_1",99705,2,0]
["05_14","1116_70025_1",99503,2,0]
["08_13","1117_39726_1",99654,2,0]
["05_14","1117_87545_1",99705,2,0]
["08_13","1118_17051_1",99516,2,0]
["05_14","1118_90185_1",99708,2,0]
["08_13","1119_39626_1",99654,2,0]
["05_14","1119_39816_1",99654,2,0]
["08_13","112_23156_1",99705,2,0]
["08_13","112_30451_2",99503,2,0]
["05_14","112_57925_2",99709,2,0]
["05_14","112_79690_1",99507,2,0]
["05_14","1120_19246_1",99577,2,0]
["08_13","1120_26316_1",99587,2,0]
["08_13","1121_29386_1",99501,2,0]
["05_14","1121_59720_1",99501,2,0]
["08_13","1122_11286_1",99502,2,0]
["05_14","1122_69780_1",99709,2,0]
["08_13","1123_11301_1",99502,2,0]
["05_14","1123_78275_1",99712,2,0]
["08_13","1124_35441_1",99515,2,0]
["05_14","1124_75620_1",99507,2,0]
["08_13","1125_16581_1",99515,1,0]
["05_14","1125_63265_1",99516,2,0]
["08_13","1126_33756_1",99508,2,0]
["05_14","1126_66740_1",99503,2,0]
["08_13","1127_28701_1",99654,2,0]
["05_14","1127_89605_1",99588,2,0]
["08_13","1128_20701_1",99645,2,0]
["05_14","1128_50565_1",99623,null,0]
["08_13","1129_30426_1",99503,2,0]
["05_14","1129_85225_1",99731,2,0]
["08_13","113_22206_2",99701,2,0]
["08_13","113_31836_1",99504,2,0]
["05_14","113_55540_2",99516,2,0]
["05_14","113_66140_1",99507,2,0]
["08_13","1130_31121_1",99504,2,0]
["05_14","1130_86225_1",99573,2,0]
["08_13","1131_21221_1",99654,2,0]
["05_14","1131_57205_1",99577,2,0]
["08_13","1132_10446_1",99501,null,0]
["05_14","1132_57060_1",99577,2,0]
["08_13","1133_10351_1",99501,2,0]
["05_14","1133_88100_1",99676,1,1]
["08_13","1134_10206_1",99501,2,0]
["05_14","1134_56260_1",99501,2,0]
["08_13","1135_43831_1",99507,2,0]
["05_14","1135_51805_1",99516,2,0]
["08_13","1136_30561_1",99503,2,0]
["05_14","1136_84110_1",99737,2,0]
["08_13","1137_26721_1",99654,2,0]
["05_14","1137_92085_1",99688,2,0]
["08_13","1138_10176_1",99501,2,0]
["05_14","1138_61700_1",99517,2,0]
["08_13","1139_16451_1",99515,2,0]
["05_14","1139_64765_1",99517,2,0]
["08_13","114_34721_2",99508,2,0]
["08_13","114_39811_1",99654,2,0]
["05_14","114_64635_2",99507,2,0]
["05_14","114_79965_1",99586,2,0]
["08_13","1140_40131_1",99654,2,0]
["05_14","1140_84310_1",99621,2,0]
["08_13","1141_10036_1",99501,2,0]
["05_14","1141_70710_1",99502,2,0]
["08_13","1142_23366_1",99707,2,0]
["05_14","1142_76795_1",99502,2,0]
["08_13","1143_12841_1",99504,2,0]
["05_14","1143_88160_1",99676,1,1]
["08_13","1144_17816_1",99517,2,0]
["05_14","1144_56635_1",99709,2,0]
["08_13","1145_33671_1",99508,2,0]
["05_14","1145_69170_1",99709,2,0]
["08_13","1146_27146_1",99603,2,0]
["05_14","1146_53900_1",99503,2,0]
["08_13","1147_26196_1",99577,2,0]
["05_14","1147_62825_1",99654,2,0]
["08_13","1148_39351_1",99654,1,0]
["05_14","1148_58285_1",99577,2,0]
["08_13","1149_38511_1",99645,2,0]
["05_14","1149_54855_1",99503,2,0]
["08_13","115_25891_1",99523,2,0]
["08_13","115_44916_2",99523,2,0]
["05_14","115_90525_1",99708,2,0]
["05_14","115_92115_2",99737,2,0]
["08_13","1150_22996_1",99705,2,0]
["05_14","1150_81790_1",99511,2,0]
["08_13","1151_14451_1",99507,2,0]
["05_14","1151_54780_1",99703,2,0]
["08_13","1152_19951_1",99645,1,1]
["05_14","1152_89385_1",99588,2,0]
["08_13","1153_24616_1",99712,2,0]
["05_14","1153_62745_1",99654,2,0]
["08_13","1154_38401_1",99623,2,0]
["05_14","1154_72220_1",99504,2,0]
["08_13","1155_40226_1",99687,2,0]
["05_14","1155_52510_1",99515,2,0]
["08_13","1156_39646_1",99654,2,0]
["05_14","1156_61830_1",99517,2,0]
["08_13","1157_42261_1",99708,2,0]
["05_14","1157_59365_1",99674,2,0]
["08_13","1158_42081_1",99707,2,0]
["05_14","1158_59665_1",99507,2,0]
["08_13","1159_40396_1",99687,2,0]
["05_14","1159_89720_1",99577,2,0]
["08_13","116_13586_1",99507,2,0]
["08_13","116_25536_2",99515,2,0]
["05_14","116_51025_2",99515,2,0]
["05_14","116_79425_1",99507,null,0]
["08_13","1160_12691_1",99504,2,0]
["05_14","1160_87050_1",99652,2,0]
["08_13","1161_15801_1",99508,2,0]
["05_14","1161_90385_1",99708,2,0]
["08_13","1162_42341_1",99708,2,0]
["05_14","1162_90370_1",99708,2,0]
["08_13","1163_38136_1",99577,2,0]
["05_14","1163_75900_1",99507,2,0]
["08_13","1164_43056_1",99709,2,0]
["05_14","1164_57675_1",99515,2,0]
["08_13","1165_38996_1",99645,2,0]
["05_14","1165_90640_1",99708,2,0]
["08_13","1166_25936_1",99523,2,0]
["05_14","1166_64395_1",99705,2,0]
["08_13","1167_20891_1",99654,2,0]
["05_14","1167_60005_1",99623,2,0]
["08_13","1168_39701_1",99654,1,0]
["05_14","1168_50920_1",99507,2,0]
["08_13","1169_26081_1",99567,2,0]
["05_14","1169_78830_1",99507,2,0]
["08_13","117_23176_1",99705,null,0]
["08_13","117_31391_2",99504,2,0]
["05_14","117_82115_2",99573,2,0]
["05_14","117_92050_1",99694,2,0]
["05_14","1170_30976_1",99504,2,0]
["08_13","1170_45166_1",99645,2,0]
["08_13","1171_11086_1",99502,2,0]
["05_14","1171_67780_1",99503,2,0]
["08_13","1172_13026_1",99504,2,0]
["05_14","1172_82840_1",99586,2,0]
["08_13","1173_27561_1",99708,2,0]
["05_14","1173_70645_1",99501,null,0]
["08_13","1174_13676_1",99507,2,0]
["05_14","1174_72545_1",99709,2,0]
["08_13","1175_19811_1",99645,2,0]
["05_14","1175_89885_1",99588,2,0]
["08_13","1176_11721_1",99503,2,0]
["05_14","1176_88290_1",99567,2,0]
["05_14","1177_11991_1",99504,2,0]
["08_13","1177_14641_1",99507,2,0]
["08_13","1178_30121_1",99502,2,0]
["05_14","1178_83925_1",99522,2,0]
["08_13","1179_38971_1",99645,2,0]
["05_14","1179_82395_1",99683,1,1]
["08_13","118_13386_2",99506,2,0]
["08_13","118_20101_1",99645,2,0]
["05_14","118_54135_2",99515,2,0]
["05_14","118_81190_1",99510,2,0]
["05_14","1180_21961_1",99701,2,0]
["08_13","1180_38356_1",99623,2,0]
["08_13","1181_23796_1",99709,2,0]
["05_14","1181_60280_1",99501,2,0]
["08_13","1182_17846_1",99517,2,0]
["05_14","1182_73895_1",99712,2,0]
["08_13","1183_39231_1",99654,2,0]
["05_14","1183_87175_1",99652,2,0]
["08_13","1184_21031_1",99654,2,0]
["05_14","1184_52545_1",99501,2,0]
["08_13","1185_14836_1",99508,2,0]
["05_14","1185_73085_1",99654,2,0]
["08_13","1186_24736_1",99712,2,0]
["05_14","1186_70835_1",99508,2,0]
["08_13","1187_12721_1",99504,1,0]
["05_14","1187_83020_1",99573,2,0]
["08_13","1188_23741_1",99709,2,0]
["05_14","1188_83735_1",99521,2,0]
["08_13","1189_14201_1",99507,2,0]
["05_14","1189_69555_1",99645,2,0]
["08_13","119_20806_1",99654,2,0]
["08_13","119_43636_2",99506,2,0]
["05_14","119_55935_1",99712,2,0]
["05_14","119_90040_2",99708,2,0]
["08_13","1190_38881_1",99645,2,0]
["05_14","1190_80180_1",99588,2,0]
["08_13","1191_42241_1",99708,2,0]
["05_14","1191_85295_1",99731,2,0]
["08_13","1192_13836_1",99507,2,0]
["05_14","1192_70975_1",99516,2,0]
["08_13","1193_31251_1",99504,2,0]
["05_14","1193_52030_1",99661,2,0]
["08_13","1194_28976_1",99501,2,0]
["05_14","1194_66655_1",99705,2,0]
["08_13","1195_44711_1",99577,2,0]
["05_14","1195_50720_1",99577,2,0]
["08_13","1196_32821_1",99507,2,0]
["05_14","1196_87725_1",99711,2,0]
["08_13","1197_10566_1",99501,2,0]
["05_14","1197_52660_1",99645,2,0]
["08_13","1198_44551_1",99567,2,0]
["05_14","1198_63365_1",99502,2,0]
["08_13","1199_33116_1",99507,2,0]
["05_14","1199_64710_1",99508,2,0]
["08_13","12_11466_2",99503,2,0]
["08_13","12_18721_1",99577,2,0]
["05_14","12_55880_1",99577,2,0]
["05_14","12_64255_2",99504,2,0]
["08_13","120_30576_1",99503,2,0]
["08_13","120_32836_2",99507,2,0]
["05_14","120_63180_1",99654,2,0]
["05_14","120_71305_2",99709,2,0]
["08_13","1200_16636_1",99515,2,0]
["05_14","1200_69005_1",99504,2,0]
["08_13","1201_28661_1",95687,2,0]
["05_14","1201_78140_1",99507,2,0]
["08_13","1202_21366_1",99654,2,0]
["05_14","1202_75975_1",99518,2,0]
["08_13","1203_31441_1",99504,2,0]
["05_14","1203_53845_1",99516,2,0]
["08_13","1204_20046_1",99645,2,0]
["05_14","1204_69880_1",99516,2,0]
["08_13","1205_28531_1",78641,null,0]
["05_14","1205_33601_1",99508,2,0]
["08_13","1206_35741_1",99516,2,0]
["05_14","1206_77350_1",99502,2,0]
["08_13","1207_47101_1",34239,2,0]
["05_14","1207_73020_1",99645,2,0]
["08_13","1208_15146_1",99508,2,0]
["05_14","1208_50335_1",99507,2,0]
["08_13","1209_21681_1",99687,2,0]
["05_14","1209_60045_1",99712,2,0]
["08_13","121_30796_1",99503,2,0]
["08_13","121_46141_2",99710,2,0]
["05_14","121_63415_2",99709,2,0]
["05_14","121_65030_1",99709,2,0]
["08_13","1210_17406_1",99517,2,0]
["05_14","1210_64355_1",99654,2,0]
["08_13","1211_17731_1",99517,2,0]
["05_14","1211_76145_1",99507,2,0]
["08_13","1212_17601_1",99517,2,0]
["05_14","1212_28926_1",99501,2,0]
["08_13","1213_41576_1",99705,2,0]
["05_14","1213_86760_1",99587,2,0]
["08_13","1214_29086_1",99501,2,0]
["05_14","1214_78835_1",99507,2,0]
["08_13","1215_19641_1",99623,2,0]
["05_14","1215_83915_1",99522,2,0]
["08_13","1216_32776_1",99507,2,0]
["05_14","1216_91090_1",99687,1,0]
["08_13","1217_31571_1",99504,2,0]
["05_14","1217_53245_1",99709,2,0]
["08_13","1218_39856_1",99654,2,0]
["05_14","1218_71445_1",99654,2,0]
["08_13","1219_26571_1",99652,2,0]
["05_14","1219_70210_1",99507,2,0]
["08_13","122_10066_2",99501,2,0]
["08_13","122_16281_1",99515,2,0]
["05_14","122_74770_2",99518,2,0]
["05_14","122_78805_1",99503,2,0]
["08_13","1220_43061_1",99709,2,0]
["05_14","1220_89235_1",99707,2,0]
["08_13","1221_20731_1",99654,2,0]
["05_14","1221_80910_1",99586,2,0]
["08_13","1222_46401_1",99712,null,0]
["05_14","1222_64625_1",99503,2,0]
["08_13","1223_14666_1",99507,2,0]
["05_14","1223_73045_1",99518,2,0]
["08_13","1224_38456_1",99645,2,0]
["05_14","1224_53430_1",99508,2,0]
["08_13","1225_14071_1",99507,1,0]
["05_14","1225_35746_1",99516,2,0]
["08_13","1226_43921_1",99509,2,0]
["05_14","1226_73415_1",99504,2,0]
["08_13","1227_36966_1",99518,2,0]
["05_14","1227_65670_1",99503,2,0]
["08_13","1228_35116_1",99515,2,0]
["05_14","1228_54515_1",99516,2,0]
["08_13","1229_24426_1",99709,2,0]
["05_14","1229_57415_1",99654,2,0]
["08_13","123_21741_2",99687,2,0]
["08_13","123_24081_1",99709,2,0]
["05_14","123_85620_2",99731,2,0]
["05_14","123_90410_1",99708,2,0]
["08_13","1230_44191_1",99515,2,0]
["05_14","1230_91140_1",99687,2,0]
["08_13","1231_11131_1",99502,2,0]
["05_14","1231_88495_1",99567,2,0]
["08_13","1232_20706_1",99645,2,0]
["05_14","1232_59420_1",99645,2,0]
["08_13","1233_44741_1",99587,2,0]
["05_14","1233_69535_1",99701,2,0]
["08_13","1234_21191_1",99654,2,0]
["05_14","1234_44216_1",99515,2,0]
["08_13","1235_42551_1",99709,2,0]
["05_14","1235_73660_1",99516,2,0]
["08_13","1236_45516_1",99676,1,1]
["05_14","1236_82355_1",99683,1,1]
["08_13","1237_27231_1",99694,2,0]
["05_14","1237_77730_1",99502,2,0]
["08_13","1238_26141_1",99567,2,0]
["05_14","1238_36696_1",99517,2,0]
["08_13","1239_21091_1",99654,2,0]
["05_14","1239_58735_1",99577,2,0]
["05_14","124_73400_1",99518,2,0]
["05_14","124_88890_2",99588,1,1]
["08_13","1240_30116_1",99502,2,0]
["05_14","1240_90010_1",99708,2,0]
["08_13","1241_10256_1",{"$error":"#N/A"},2,{"$error":"#N/A"}]
["05_14","1241_58025_1",99577,2,0]
["08_13","1242_13416_1",99506,2,0]
["05_14","1242_61365_1",99705,2,0]
["08_13","1243_43346_1",99503,2,0]
["05_14","1243_51615_1",99515,2,0]
["08_13","1244_41056_1",99701,2,0]
["05_14","1244_70095_1",99502,2,0]
["08_13","1245_12271_1",99504,2,0]
["05_14","1245_81275_1",99510,2,0]
["08_13","1246_13876_1",99507,2,0]
["05_14","1246_81810_1",99511,2,0]
["08_13","1247_14571_1",99507,2,0]
["05_14","1247_74415_1",99504,2,0]
["08_13","1248_42246_1",99708,2,0]
["05_14","1248_90210_1",99708,2,0]
["08_13","1249_20551_1",99645,2,0]
["05_14","1249_80695_1",99573,2,0]
["08_13","125_18871_2",99577,2,0]
["08_13","125_22911_1",99705,2,0]
["05_14","125_69750_1",99515,2,0]
["05_14","125_86115_2",99573,2,0]
["08_13","1250_11971_1",99503,2,0]
["05_14","1250_59885_1",99654,2,0]
["08_13","1251_29881_1",99502,2,0]
["05_14","1251_57485_1",99507,2,0]
["08_13","1252_15656_1",99508,2,0]
["05_14","1252_55355_1",99712,2,0]
["08_13","1253_27181_1",99629,2,0]
["05_14","1253_82605_1",99514,2,0]
["08_13","1254_36066_1",99516,2,0]
["05_14","1254_45956_1",99705,2,0]
["08_13","1255_23601_1",99708,2,0]
["05_14","1255_59160_1",99645,2,0]
["08_13","1256_16376_1",99515,2,0]
["05_14","1256_87800_1",99711,2,0]
["08_13","1257_31516_1",99504,2,0]
["05_14","1257_38756_1",99645,2,0]
["08_13","1258_40841_1",99701,2,0]
["05_14","1258_81960_1",99688,2,0]
["08_13","1259_21501_1",99687,2,0]
["05_14","1259_60555_1",99567,2,0]
["08_13","126_32331_1",99507,2,0]
["08_13","126_37391_2",99577,2,0]
["05_14","126_67740_2",99517,2,0]
["05_14","126_70725_1",99507,2,0]
["08_13","1260_13456_1",99507,2,0]
["05_14","1260_63110_1",99623,2,0]
["05_14","1261_22521_1",99701,2,0]
["08_13","1261_34186_1",99508,2,0]
["08_13","1262_47206_1",76209,2,0]
["05_14","1262_89840_1",99588,2,0]
["05_14","1263_16786_1",99516,2,0]
["08_13","1263_16971_1",99516,2,0]
["08_13","1264_19241_1",99577,2,0]
["05_14","1264_86880_1",99588,2,0]
["08_13","1265_45541_1",99676,1,1]
["05_14","1265_61820_1",99502,null,0]
["08_13","1266_30786_1",99503,2,0]
["05_14","1266_82175_1",99683,1,1]
["08_13","1267_45376_1",99654,2,0]
["05_14","1267_88725_1",99573,2,0]
["08_13","1268_34466_1",99508,2,0]
["05_14","1268_80540_1",99573,2,0]
["08_13","1269_43341_1",99503,2,0]
["05_14","1269_85515_1",99731,2,0]
["08_13","127_17336_2",99516,2,0]
["08_13","127_23746_1",99709,2,0]
["05_14","127_58305_2",99577,2,0]
["05_14","127_88175_1",99588,2,0]
["08_13","1270_18386_1",99567,2,0]
["05_14","1270_73190_1",99504,2,0]
["08_13","1271_14221_1",99507,2,0]
["05_14","1271_64150_1",99517,2,0]
["08_13","1272_17856_1",99517,2,0]
["05_14","1272_38146_1",99577,2,0]
["08_13","1273_10936_1",99502,2,0]
["05_14","1273_52285_1",99705,2,0]
["08_13","1274_20536_1",99645,2,0]
["05_14","1274_55395_1",99508,2,0]
["05_14","1275_29981_1",99502,2,0]
["08_13","1275_39686_1",99654,2,0]
["08_13","1276_28261_1",99775,2,0]
["05_14","1276_84475_1",99524,2,0]
["05_14","1277_20901_1",99654,2,0]
["08_13","1277_45786_1",99683,1,1]
["08_13","1278_45606_1",99688,2,0]
["05_14","1278_79265_1",99705,2,0]
["08_13","1279_46381_1",99712,2,0]
["05_14","1279_85655_1",99731,2,0]
["08_13","128_12086_1",99504,2,0]
["08_13","128_37656_2",99577,2,0]
["05_14","128_50830_2",99507,2,0]
["05_14","128_82675_1",99573,2,0]
["08_13","1280_45946_1",99705,2,0]
["05_14","1280_61975_1",99508,2,0]
["08_13","1281_14206_1",99507,2,0]
["05_14","1281_75270_1",99518,2,0]
["08_13","1282_10401_1",99501,2,0]
["05_14","1282_65405_1",99577,2,0]
["08_13","1283_24591_1",99712,2,0]
["05_14","1283_70665_1",99645,2,0]
["08_13","1284_44726_1",99577,2,0]
["05_14","1284_70150_1",99502,2,0]
["08_13","1285_16681_1",99516,2,0]
["05_14","1285_70065_1",99516,2,0]
["08_13","1286_19221_1",99577,2,0]
["05_14","1286_85155_1",99731,2,0]
["08_13","1287_46096_1",99709,2,0]
["05_14","1287_53940_1",99515,2,0]
["08_13","1288_44696_1",99577,2,0]
["05_14","1288_66625_1",99516,2,0]
["08_13","1289_26496_1",99522,2,0]
["05_14","1289_27931_1",99737,2,0]
["08_13","129_16621_2",99515,2,0]
["08_13","129_33596_1",99508,2,0]
["05_14","129_58690_2",99577,2,0]
["05_14","129_88255_1",99567,2,0]
["08_13","1290_26271_1",99587,2,0]
["05_14","1290_51050_1",99705,2,0]
["08_13","1291_40451_1",99687,2,0]
["05_14","1291_54370_1",99515,2,0]
["08_13","1292_20661_1",99645,2,0]
["05_14","1292_53045_1",99577,2,0]
["08_13","1293_29506_1",99502,2,0]
["05_14","1293_67090_1",99517,2,0]
["08_13","1294_17226_1",99516,2,0]
["05_14","1294_66275_1",99654,2,0]
["08_13","1295_42056_1",99707,2,0]
["05_14","1295_87780_1",99645,2,0]
["08_13","1296_27791_1",99714,2,0]
["05_14","1296_79775_1",99511,2,0]
["08_13","1297_18111_1",99518,2,0]
["05_14","1297_84540_1",99524,2,0]
["08_13","1298_28621_1",85752,2,0]
["05_14","1298_55295_1",99503,2,0]
["08_13","1299_11241_1",99502,2,0]
["05_14","1299_91745_1",99729,1,1]
["08_13","13_19236_2",99577,2,0]
["08_13","13_36656_1",99517,2,0]
["05_14","13_50670_1",99701,2,0]
["05_14","13_72035_2",99515,2,0]
["08_13","130_20811_2",99654,2,0]
["08_13","130_37231_1",99567,2,0]
["05_14","130_58150_2",99515,2,0]
["05_14","130_70270_1",99516,2,0]
["08_13","1300_42186_1",99708,2,0]
["05_14","1300_62385_1",99515,2,0]
["08_13","1301_18411_1",99567,2,0]
["05_14","1301_63230_1",99577,2,0]
["08_13","1302_34861_1",99515,2,0]
["05_14","1302_59625_1",99567,2,0]
["08_13","1303_29961_1",99502,2,0]
["05_14","1303_83110_1",99587,2,0]
["08_13","1304_46076_1",99708,2,0]
["05_14","1304_80240_1",99586,2,0]
["08_13","1305_18436_1",99567,2,0]
["05_14","1305_88925_1",99707,2,0]
["08_13","1306_43826_1",99507,2,0]
["05_14","1306_51675_1",99709,2,0]
["08_13","1307_15376_1",99508,2,0]
["05_14","1307_90305_1",99708,2,0]
["08_13","1308_29831_1",99502,2,0]
["05_14","1308_65880_1",99654,2,0]
["08_13","1309_29996_1",99502,2,0]
["05_14","1309_61570_1",99577,2,0]
["08_13","131_20291_1",99645,2,0]
["08_13","131_36836_2",99518,2,0]
["05_14","131_78650_1",99502,2,0]
["05_14","131_90560_2",99587,2,0]
["08_13","1310_19536_1",99623,1,0]
["05_14","1310_82265_1",99683,1,1]
["08_13","1311_13786_1",99507,2,0]
["05_14","1311_56450_1",99701,2,0]
["08_13","1312_31586_1",99504,2,0]
["05_14","1312_61185_1",99577,2,0]
["08_13","1313_36136_1",99516,2,0]
["05_14","1313_64045_1",99709,2,0]
["08_13","1314_13951_1",99507,2,0]
["05_14","1314_57425_1",99577,2,0]
["08_13","1315_16056_1",99515,2,0]
["05_14","1315_68430_1",99502,2,0]
["08_13","1316_30981_1",99504,2,0]
["05_14","1316_83320_1",99519,2,0]
["08_13","1317_18951_1",99577,2,0]
["05_14","1317_67515_1",99504,2,0]
["08_13","1318_10536_1",99501,2,0]
["05_14","1318_73775_1",99645,2,0]
["08_13","1319_16571_1",99515,2,0]
["05_14","1319_58560_1",99654,2,0]
["08_13","132_20646_1",99645,2,0]
["08_13","132_21021_2",99654,2,0]
["05_14","132_51840_1",99501,2,0]
["05_14","132_75220_2",99503,2,0]
["08_13","1320_14116_1",99507,2,0]
["05_14","1320_74665_1",99506,2,0]
["08_13","1321_16916_1",99516,2,0]
["05_14","1321_86895_1",99588,2,0]
["08_13","1322_20181_1",99645,2,0]
["05_14","1322_71130_1",99516,2,0]
["08_13","1323_13121_1",99504,2,0]
["05_14","1323_73410_1",99502,2,0]
["08_13","1324_39886_1",99654,2,0]
["05_14","1324_83070_1",99573,2,0]
["08_13","1325_26886_1",99676,1,1]
["05_14","1325_51480_1",99516,2,0]
["08_13","1326_18576_1",99577,2,0]
["05_14","1326_61985_1",99517,2,0]
["08_13","1327_29321_1",99501,2,0]
["05_14","1327_86920_1",99588,2,0]
["08_13","1328_18266_1",99518,2,0]
["05_14","1328_78290_1",99502,2,0]
["08_13","1329_20681_1",99645,2,0]
["05_14","1329_54790_1",99504,2,0]
["08_13","133_12726_2",99504,2,0]
["08_13","133_35721_1",99516,2,0]
["05_14","133_63940_2",99515,2,0]
["05_14","133_87580_1",99705,2,0]
["08_13","1330_17486_1",99517,2,0]
["05_14","1330_83370_1",99688,2,0]
["08_13","1331_13506_1",99507,2,0]
["05_14","1331_78855_1",99518,2,0]
["08_13","1332_21571_1",99687,2,0]
["05_14","1332_29521_1",99502,2,0]
["08_13","1333_24116_1",{"$error":"#N/A"},2,{"$error":"#N/A"}]
["05_14","1333_79400_1",99701,2,0]
["08_13","1334_45466_1",99674,2,0]
["05_14","1334_87235_1",99737,2,0]
["08_13","1335_14046_1",99507,2,0]
["05_14","1335_82415_1",99683,2,0]
["08_13","1336_20671_1",99645,2,0]
["05_14","1336_50190_1",99503,2,0]
["05_14","1337_14891_1",99508,2,0]
["08_13","1337_44556_1",99567,2,0]
["08_13","1338_22311_1",99701,2,0]
["05_14","1338_87270_1",99505,2,0]
["08_13","1339_37151_1",99567,2,0]
["05_14","1339_81410_1",99676,1,1]
["08_13","134_27086_1",99688,2,0]
["08_13","134_36226_2",99516,2,0]
["05_14","134_67300_2",99654,2,0]
["05_14","134_73680_1",99502,2,0]
["08_13","1340_41296_1",99703,1,0]
["05_14","1340_80725_1",99573,2,0]
["08_13","1341_16621_1",{"$error":"#N/A"},2,{"$error":"#N/A"}]
["05_14","1341_66985_1",99503,2,0]
["08_13","1342_28026_1",99780,2,0]
["05_14","1342_87090_1",99652,2,0]
["08_13","1343_11516_1",99503,2,0]
["05_14","1343_74445_1",99502,2,0]
["08_13","1344_10646_1",99501,2,0]
["05_14","1344_89635_1",99577,2,0]
["08_13","1345_46846_1",99716,2,0]
["05_14","1345_73825_1",99502,2,0]
["08_13","1346_10581_1",99501,2,0]
["05_14","1346_72415_1",99501,2,0]
["08_13","1347_32596_1",99507,2,0]
["05_14","1347_87315_1",99588,2,0]
["08_13","1348_39991_1",99654,2,0]
["05_14","1348_81260_1",99510,2,0]
["08_13","1349_13436_1",99507,2,0]
["05_14","1349_82845_1",99780,2,0]
["08_13","135_13001_2",99504,2,0]
["08_13","135_19686_1",99623,2,0]
["05_14","135_62585_2",99517,2,0]
["05_14","135_88595_1",99567,2,0]
["08_13","1350_17421_1",99517,2,0]
["05_14","1350_60400_1",99515,2,0]
["08_13","1351_40241_1",99687,2,0]
["05_14","1351_74140_1",99502,2,0]
["08_13","1352_13756_1",99507,2,0]
["05_14","1352_61815_1",99504,2,0]
["05_14","1353_26126_1",99567,2,0]
["08_13","1353_38006_1",99577,2,0]
["05_14","1354_11686_1",99503,2,0]
["08_13","1354_44811_1",99587,2,0]
["08_13","1355_31326_1",99504,2,0]
["05_14","1355_78010_1",99507,2,0]
["08_13","1356_39161_1",99645,2,0]
["05_14","1356_57490_1",99502,2,0]
["08_13","1357_26751_1",99654,2,0]
["05_14","1357_60465_1",99515,2,0]
["08_13","1358_18346_1",99567,2,0]
["05_14","1358_74330_1",99518,2,0]
["08_13","1359_46661_1",99743,2,0]
["05_14","1359_78675_1",99502,2,0]
["08_13","136_24221_2",99709,2,0]
["08_13","136_35831_1",99516,2,0]
["05_14","136_56250_2",99709,2,0]
["05_14","136_68970_1",99507,2,0]
["08_13","1360_15036_1",99508,2,0]
["05_14","1360_39986_1",99654,2,0]
["08_13","1361_26036_1",99524,null,0]
["05_14","1361_65180_1",99701,2,0]
["08_13","1362_18481_1",99567,2,0]
["05_14","1362_79955_1",99515,2,0]
["08_13","1363_22851_1",99705,null,0]
["05_14","1363_79085_1",99701,2,0]
["08_13","1364_46766_1",99775,2,0]
["05_14","1364_83685_1",99521,2,0]
["08_13","1365_47306_1",98001,2,0]
["05_14","1365_65240_1",99508,2,0]
["08_13","1366_44801_1",99587,2,0]
["05_14","1366_70605_1",99703,2,0]
["08_13","1367_42296_1",99708,2,0]
["05_14","1367_59115_1",99577,2,0]
["08_13","1368_41156_1",99701,2,0]
["05_14","1368_77545_1",99502,2,0]
["08_13","1369_23271_1",99705,1,0]
["05_14","1369_43801_1",99507,2,0]
["08_13","137_25731_1",99520,2,0]
["08_13","137_41001_2",99701,2,0]
["05_14","137_65220_2",99517,2,0]
["05_14","137_87945_1",99706,2,0]
["08_13","1370_42941_1",99709,2,0]
["05_14","1370_70285_1",99516,2,0]
["05_14","1371_10901_1",99502,2,0]
["08_13","1371_16276_1",99515,2,0]
["08_13","1372_17771_1",99517,2,0]
["05_14","1372_51350_1",99515,2,0]
["08_13","1373_35481_1",99515,2,0]
["05_14","1373_61870_1",99507,2,0]
["08_13","1374_21956_1",99701,2,0]
["05_14","1374_91025_1",99687,2,0]
["08_13","1375_28121_1",99729,1,1]
["05_14","1375_35916_1",99516,2,0]
["08_13","1376_12951_1",99504,2,0]
["05_14","1376_78130_1",99502,2,0]
["08_13","1377_21711_1",99687,2,0]
["05_14","1377_71285_1",99508,2,0]
["08_13","1378_22866_1",99705,2,0]
["05_14","1378_83255_1",99501,2,0]
["08_13","1379_27051_1",99687,2,0]
["05_14","1379_69250_1",99507,2,0]
["08_13","138_20596_1",99645,2,0]
["08_13","138_43621_2",99506,2,0]
["05_14","138_82295_1",99645,2,0]
["05_14","138_84455_2",99524,2,0]
["08_13","1380_27246_1",99702,2,0]
["05_14","1380_37666_1",99577,1,0]
["08_13","1381_26766_1",99654,2,0]
["05_14","1381_74265_1",99504,2,0]
["08_13","1382_46421_1",99714,2,0]
["05_14","1382_63725_1",99709,2,0]
["08_13","1383_44121_1",99514,2,0]
["05_14","1383_58020_1",99577,2,0]
["08_13","1384_39026_1",99645,2,0]
["05_14","1384_67975_1",99709,2,0]
["08_13","1385_19586_1",99623,2,0]
["05_14","1385_70935_1",99654,2,0]
["08_13","1386_12201_1",99504,2,0]
["05_14","1386_75360_1",99712,2,0]
["08_13","1387_45471_1",99674,2,0]
["05_14","1387_73630_1",99504,2,0]
["08_13","1388_36431_1",99517,2,0]
["05_14","1388_72685_1",99507,2,0]
["08_13","1389_19851_1",99645,2,0]
["05_14","1389_84855_1",99676,1,1]
["08_13","139_39881_1",99654,2,0]
["08_13","139_42176_2",99708,2,0]
["05_14","139_69870_1",99507,2,0]
["05_14","139_76340_2",99709,2,0]
["08_13","1390_28176_1",99743,1,0]
["05_14","1390_71250_1",99508,2,0]
["08_13","1391_40846_1",99701,2,0]
["05_14","1391_64640_1",99504,2,0]
["05_14","1392_13516_1",99507,2,0]
["08_13","1392_22476_1",99701,2,0]
["08_13","1393_44681_1",{"$error":"#N/A"},2,{"$error":"#N/A"}]
["05_14","1393_66765_1",99503,2,0]
["08_13","1394_20941_1",99654,2,0]
["05_14","1394_73260_1",99516,2,0]
["08_13","1395_28241_1",99775,2,0]
["05_14","1395_61210_1",99712,2,0]
["08_13","1396_20856_1",99654,2,0]
["05_14","1396_64505_1",99504,2,0]
["08_13","1397_46511_1",99737,2,0]
["05_14","1397_83910_1",99522,2,0]
["08_13","1398_35771_1",99516,2,0]
["05_14","1398_55555_1",99516,2,0]
["08_13","1399_21506_1",99687,2,0]
["05_14","1399_62710_1",99504,2,0]
["08_13","14_13041_2",99504,2,0]
["08_13","14_19116_1",99577,2,0]
["05_14","14_55630_1",99501,2,0]
["05_14","14_89285_2",99775,2,0]
["08_13","140_22661_2",99703,2,0]
["08_13","140_45236_1",99645,2,0]
["05_14","140_50595_2",99507,2,0]
["05_14","140_69345_1",99508,2,0]
["08_13","1400_13116_1",99504,2,0]
["05_14","1400_82375_1",99683,1,1]
["05_14","1401_55125_1",99503,2,0]
["08_13","1402_45636_1",99688,null,0]
["05_14","1402_72780_1",99504,2,0]
["05_14","1403_63525_1",99623,2,0]
["05_14","1404_61750_1",99654,2,0]
["05_14","1405_90610_1",99708,2,0]
["05_14","1406_56675_1",99516,2,0]
["05_14","1407_56940_1",99501,2,0]
["05_14","1408_83010_1",99729,1,1]
["05_14","1409_57500_1",99507,2,0]
["08_13","141_10471_1",99501,2,0]
["08_13","141_18716_2",99577,2,0]
["05_14","141_74145_1",99518,2,0]
["05_14","141_74580_2",99506,2,0]
["05_14","1410_82465_1",99683,1,1]
["05_14","1411_91685_1",99687,2,0]
["05_14","1412_74595_1",99507,2,0]
["05_14","1413_69630_1",99518,2,0]
["05_14","1414_81085_1",99676,1,1]
["05_14","1415_88480_1",99567,2,0]
["05_14","1416_51630_1",99515,2,0]
["05_14","1417_77710_1",99709,2,0]
["05_14","1418_87640_1",99705,2,0]
["05_14","1419_92045_1",99694,2,0]
["08_13","142_12336_1",99504,2,0]
["08_13","142_23681_2",99708,2,0]
["05_14","142_53115_2",99515,2,0]
["05_14","142_90830_1",99687,2,0]
["05_14","1420_87870_1",99706,2,0]
["05_14","1421_64285_1",99515,2,0]
["05_14","1422_51000_1",99503,2,0]
["05_14","1423_74300_1",99623,2,0]
["05_14","1424_81905_1",99676,1,1]
["05_14","1425_55705_1",99501,2,0]
["05_14","1426_66050_1",99517,2,0]
["05_14","1427_32581_1",99507,2,0]
["05_14","1428_83400_1",99645,2,0]
["05_14","1429_58035_1",99506,2,0]
["08_13","143_21106_1",99654,2,0]
["08_13","143_24111_2",99709,2,0]
["05_14","143_61080_2",99501,2,0]
["05_14","143_85885_1",99586,2,0]
["05_14","1430_62690_1",99709,2,0]
["05_14","1431_85060_1",99686,2,0]
["05_14","1432_86500_1",99645,2,0]
["05_14","1433_58895_1",99654,2,0]
["05_14","1434_69045_1",99709,2,0]
["05_14","1435_75435_1",99705,2,0]
["05_14","1436_85275_1",99731,2,0]
["05_14","1437_86590_1",99588,2,0]
["05_14","1438_52455_1",99645,2,0]
["05_14","1439_55110_1",99503,2,0]
["08_13","144_25661_2",99517,2,0]
["08_13","144_36116_1",99516,null,0]
["05_14","144_51495_2",99515,2,0]
["05_14","144_70315_1",99508,2,0]
["05_14","1440_29381_1",99501,2,0]
["05_14","1441_27411_1",99706,2,0]
["05_14","1442_66065_1",99517,2,0]
["05_14","1443_72840_1",99507,2,0]
["05_14","1444_54975_1",99502,2,0]
["05_14","1445_69575_1",99503,2,0]
["05_14","1446_55360_1",99701,2,0]
["05_14","1447_57065_1",99645,2,0]
["05_14","1448_61470_1",99516,2,0]
["05_14","1449_53945_1",99577,2,0]
["08_13","145_11316_2",99502,2,0]
["08_13","145_21076_1",99654,2,0]
["05_14","145_63685_2",99515,2,0]
["05_14","145_75530_1",99623,2,0]
["05_14","1450_57125_1",99577,2,0]
["05_14","1451_79605_1",99577,2,0]
["05_14","1452_90170_1",99708,2,0]
["05_14","1453_83655_1",99521,2,0]
["05_14","1454_58985_1",99516,null,0]
["05_14","1455_87750_1",99615,2,0]
["05_14","1456_89070_1",99654,2,0]
["05_14","1457_88080_1",99587,2,0]
["05_14","1458_90105_1",99588,2,0]
["05_14","1459_80485_1",99573,2,0]
["08_13","146_16661_1",99516,2,0]
["08_13","146_17426_2",99517,2,0]
["05_14","146_54150_2",99712,2,0]
["05_14","146_81050_1",99688,2,0]
["05_14","1460_50875_1",99501,2,0]
["05_14","1461_91065_1",99687,2,0]
["05_14","1462_76655_1",99515,1,0]
["05_14","1463_66135_1",99517,2,0]
["05_14","1464_33976_1",99508,2,0]
["05_14","1465_61320_1",99623,2,0]
["05_14","1466_58350_1",99577,2,0]
["05_14","1467_78135_1",99507,2,0]
["05_14","1468_52800_1",99501,2,0]
["05_14","1469_77615_1",99502,2,0]
["08_13","147_14266_2",99507,2,0]
["08_13","147_45576_1",99688,2,0]
["05_14","147_59590_1",99517,2,0]
["05_14","147_80385_2",99573,2,0]
["05_14","1470_27506_1",99708,2,0]
["05_14","1471_70490_1",99654,2,0]
["05_14","1472_57295_1",99515,2,0]
["05_14","1473_61845_1",99705,2,0]
["05_14","1474_64345_1",99508,2,0]
["05_14","1475_69965_1",99503,2,0]
["05_14","1476_84955_1",99629,2,0]
["05_14","1477_85705_1",99731,2,0]
["05_14","1478_62470_1",99507,2,0]
["05_14","1479_80250_1",99743,1,0]
["08_13","148_26301_1",99587,2,0]
["08_13","148_43031_2",99709,2,0]
["05_14","148_81445_1",99587,2,0]
["05_14","148_86045_2",99780,2,0]
["05_14","1480_71540_1",99654,2,0]
["05_14","1481_17756_1",99517,2,0]
["05_14","1482_76805_1",99502,2,0]
["05_14","1483_79640_1",99507,2,0]
["05_14","1484_65135_1",99504,2,0]
["05_14","1485_71125_1",99501,2,0]
["05_14","1486_85290_1",99731,2,0]
["05_14","1487_85075_1",99676,1,1]
["05_14","1488_60060_1",99540,2,0]
["05_14","1489_53955_1",99516,2,0]
["08_13","149_34931_1",99515,2,0]
["08_13","149_35386_2",99515,2,0]
["05_14","149_59150_2",99654,2,0]
["05_14","149_80490_1",99573,2,0]
["05_14","1490_71025_1",99516,2,0]
["05_14","1491_79615_1",99507,2,0]
["05_14","1492_55495_1",99501,2,0]
["05_14","1493_78085_1",99504,2,0]
["05_14","1494_91530_1",99687,2,0]
["05_14","1495_60160_1",99517,2,0]
["05_14","1496_56850_1",99507,2,0]
["05_14","1497_67055_1",99517,2,0]
["05_14","1498_89130_1",99707,2,0]
["05_14","1499_55720_1",99501,2,0]
["08_13","15_19596_1",99623,2,0]
["08_13","15_26186_2",99577,2,0]
["05_14","15_65435_1",99508,2,0]
["05_14","15_81115_2",99676,1,1]
["08_13","150_26241_1",99587,2,0]
["08_13","150_29096_2",99501,2,0]
["05_14","150_58680_2",99577,2,0]
["05_14","150_82710_1",99504,2,0]
["05_14","1500_87480_1",99705,2,0]
["05_14","1501_83830_1",99521,2,0]
["05_14","1502_21226_1",99654,2,0]
["05_14","1503_53510_1",99501,2,0]
["05_14","1504_80700_1",99573,2,0]
["05_14","1505_56180_1",99516,2,0]
["05_14","1506_29931_1",99502,2,0]
["05_14","1507_53275_1",99645,1,1]
["05_14","1508_81035_1",99688,1,1]
["05_14","1509_51225_1",99701,2,0]
["08_13","151_25796_2",99520,2,0]
["08_13","151_42506_1",99709,2,0]
["05_14","151_58875_2",99577,2,0]
["05_14","151_59685_1",99508,2,0]
["05_14","1510_67245_1",99709,2,0]
["05_14","1511_72430_1",99515,2,0]
["05_14","1512_82320_1",99683,2,0]
["05_14","1513_70185_1",99507,2,0]
["05_14","1514_66880_1",99517,2,0]
["05_14","1515_62865_1",99502,2,0]
["05_14","1516_88320_1",99567,2,0]
["05_14","1517_84570_1",99524,2,0]
["05_14","1518_50885_1",99503,2,0]
["05_14","1519_86720_1",99676,1,1]
["08_13","152_16511_2",99515,2,0]
["08_13","152_30211_1",99502,2,0]
["05_14","152_61325_2",99517,2,0]
["05_14","152_61895_1",99517,2,0]
["05_14","1520_87110_1",99652,2,0]
["05_14","1521_75065_1",99516,2,0]
["05_14","1522_75110_1",99518,2,0]
["05_14","1523_91970_1",99688,null,0]
["05_14","1524_75115_1",99516,2,0]
["05_14","1525_78665_1",99507,2,0]
["05_14","1526_91775_1",99509,2,0]
["05_14","1527_52930_1",99501,2,0]
["05_14","1528_20951_1",99654,1,0]
["05_14","1529_71520_1",99645,2,0]
["08_13","153_24376_1",99709,2,0]
["08_13","153_36876_2",99518,2,0]
["05_14","153_51860_1",99709,2,0]
["05_14","153_66645_2",99709,2,0]
["05_14","1530_68850_1",99654,2,0]
["05_14","1531_52815_1",99701,2,0]
["05_14","1532_50105_1",99709,2,0]
["05_14","1533_86405_1",99573,2,0]
["05_14","1534_87975_1",99706,2,0]
["05_14","1535_91155_1",99687,2,0]
["05_14","1536_63340_1",99517,2,0]
["05_14","1537_82155_1",99683,2,0]
["05_14","1538_73580_1",99504,2,0]
["05_14","1539_89045_1",99676,1,1]
["08_13","154_24771_2",99712,2,0]
["08_13","154_37271_1",99567,2,0]
["05_14","154_57600_2",99515,2,0]
["05_14","154_69545_1",99701,1,0]
["05_14","1540_91205_1",99687,2,0]
["05_14","1541_54340_1",99654,2,0]
["05_14","1542_60215_1",99517,2,0]
["05_14","1543_50475_1",99577,2,0]
["05_14","1544_54375_1",99515,2,0]
["05_14","1545_86365_1",99573,2,0]
["05_14","1546_81455_1",99676,1,1]
["05_14","1547_70690_1",99654,2,0]
["05_14","1548_74895_1",99504,2,0]
["05_14","1549_84655_1",99676,1,1]
["08_13","155_14756_2",99508,2,0]
["08_13","155_31001_1",99504,2,0]
["05_14","155_69720_2",99507,2,0]
["05_14","155_84880_1",99588,2,0]
["05_14","1550_90490_1",99708,2,0]
["05_14","1551_34306_1",99508,2,0]
["05_14","1552_55215_1",99709,2,0]
["05_14","1553_68125_1",99504,2,0]
["05_14","1554_63740_1",99504,2,0]
["05_14","1555_51940_1",99645,2,0]
["05_14","1556_58215_1",99577,2,0]
["05_14","1557_55225_1",99654,2,0]
["05_14","1558_81065_1",99676,1,1]
["05_14","1559_89490_1",99776,2,0]
["08_13","156_23536_1",99708,2,0]
["08_13","156_46611_2",99743,2,0]
["05_14","156_53195_1",99654,2,0]
["05_14","156_78535_2",99502,2,0]
["05_14","1560_52500_1",99515,2,0]
["05_14","1561_55235_1",99709,2,0]
["05_14","1562_56210_1",99516,2,0]
["05_14","1563_80845_1",99737,2,0]
["05_14","1564_19131_1",99577,2,0]
["05_14","1565_87615_1",99676,1,1]
["05_14","1566_26391_1",99588,2,0]
["05_14","1567_87990_1",99588,2,0]
["05_14","1568_57315_1",99577,2,0]
["05_14","1569_65290_1",99516,2,0]
["08_13","157_10846_1",99502,2,0]
["08_13","157_23086_2",99705,2,0]
["05_14","157_53270_1",99501,2,0]
["05_14","157_59190_2",99567,2,0]
["05_14","1570_88875_1",99707,2,0]
["05_14","1571_81600_1",99586,2,0]
["05_14","1572_65215_1",99502,2,0]
["05_14","1573_92015_1",99587,2,0]
["05_14","1574_76125_1",99502,2,0]
["05_14","1575_56445_1",99707,2,0]
["05_14","1576_66355_1",99645,2,0]
["05_14","1577_59330_1",99507,2,0]
["05_14","1578_62495_1",99674,2,0]
["05_14","1579_62705_1",99502,2,0]
["08_13","158_19461_1",99623,2,0]
["08_13","158_41591_2",99705,2,0]
["05_14","158_65020_2",99712,2,0]
["05_14","158_78095_1",99504,2,0]
["05_14","1580_68700_1",99508,2,0]
["05_14","1581_53890_1",99516,2,0]
["05_14","1582_51395_1",99515,2,0]
["05_14","1583_77810_1",99645,1,1]
["05_14","1584_88225_1",99588,2,0]
["05_14","1585_88645_1",99688,2,0]
["05_14","1586_64220_1",99654,2,0]
["05_14","1587_59530_1",99508,2,0]
["05_14","1588_86155_1",99645,2,0]
["05_14","1589_40086_1",99654,2,0]
["08_13","159_12941_1",99504,null,0]
["08_13","159_42456_2",99709,2,0]
["05_14","159_60885_2",99701,2,0]
["05_14","159_73570_1",99709,2,0]
["05_14","1590_65040_1",99701,2,0]
["05_14","1591_53920_1",99701,2,0]
["05_14","1592_88600_1",99567,2,0]
["05_14","1593_65580_1",99515,2,0]
["05_14","1594_75950_1",99504,2,0]
["05_14","1595_74930_1",99518,2,0]
["05_14","1596_70310_1",99508,2,0]
["05_14","1597_29476_1",99502,2,0]
["05_14","1598_85610_1",99731,2,0]
["05_14","1599_57780_1",99577,2,0]
["08_13","16_12546_2",99504,2,0]
["08_13","16_14241_1",99507,2,0]
["05_14","16_54185_1",99508,2,0]
["05_14","16_78725_2",99504,2,0]
["08_13","160_20241_1",99645,2,0]
["08_13","160_24241_2",99709,2,0]
["05_14","160_73970_2",99518,2,0]
["05_14","160_90790_1",99687,2,0]
["05_14","1600_58415_1",99654,2,0]
["05_14","1601_76980_1",99504,2,0]
["05_14","1602_80495_1",99573,2,0]
["05_14","1603_39306_1",99654,2,0]
["05_14","1604_62580_1",99701,2,0]
["05_14","1605_45431_1",99654,2,0]
["05_14","1606_63315_1",99507,2,0]
["05_14","1607_60235_1",99709,2,0]
["05_14","1608_50460_1",99577,2,0]
["05_14","1609_20131_1",99645,2,0]
["08_13","161_16066_2",99515,2,0]
["08_13","161_21686_1",99687,2,0]
["05_14","161_73040_2",99515,2,0]
["05_14","161_77900_1",99518,2,0]
["05_14","1610_83175_1",99645,2,0]
["05_14","1611_70290_1",99709,2,0]
["05_14","1612_85735_1",99731,2,0]
["05_14","1613_88465_1",99567,2,0]
["05_14","1614_62720_1",99504,2,0]
["05_14","1615_56135_1",99508,2,0]
["05_14","1616_64315_1",99508,2,0]
["05_14","1617_81655_1",99511,2,0]
["05_14","1618_56805_1",99507,2,0]
["05_14","1619_74400_1",99503,2,0]
["08_13","162_10131_2",99501,2,0]
["08_13","162_31331_1",99504,2,0]
["05_14","162_52855_1",99508,2,0]
["05_14","162_76440_2",99507,2,0]
["05_14","1620_32371_1",99507,2,0]
["05_14","1621_24261_1",99709,2,0]
["05_14","1622_64290_1",99709,2,0]
["05_14","1623_60910_1",99507,2,0]
["05_14","1624_54400_1",99516,2,0]
["05_14","1625_50265_1",99503,2,0]
["05_14","1626_50870_1",99623,2,0]
["05_14","1627_59285_1",99515,2,0]
["05_14","1628_71135_1",99515,2,0]
["05_14","1629_68470_1",99507,2,0]
["08_13","163_21601_2",99687,2,0]
["08_13","163_32181_1",99504,2,0]
["05_14","163_76915_2",99515,2,0]
["05_14","163_90730_1",99687,1,0]
["05_14","1630_41746_1",99705,2,0]
["05_14","1631_66955_1",99516,null,0]
["05_14","1632_71325_1",99507,2,0]
["05_14","1633_53005_1",99577,2,0]
["05_14","1634_64130_1",99502,2,0]
["05_14","1635_77805_1",99654,2,0]
["05_14","1636_60230_1",99515,2,0]
["05_14","1637_63785_1",99705,2,0]
["05_14","1638_24611_1",99712,2,0]
["05_14","1639_83895_1",99729,1,1]
["08_13","164_42121_1",99707,2,0]
["08_13","164_42146_2",99707,2,0]
["05_14","164_69460_2",99654,2,0]
["05_14","164_78930_1",99645,2,0]
["05_14","1640_80365_1",99573,2,0]
["05_14","1641_60520_1",99577,2,0]
["05_14","1642_81215_1",99510,2,0]
["05_14","1643_63720_1",99654,2,0]
["05_14","1644_61775_1",99645,2,0]
["05_14","1645_33851_1",99508,2,0]
["05_14","1646_79570_1",99515,2,0]
["05_14","1647_64750_1",99645,2,0]
["05_14","1648_87910_1",99676,1,1]
["05_14","1649_90020_1",99737,2,0]
["08_13","165_23761_1",99709,2,0]
["08_13","165_32366_2",99507,2,0]
["05_14","165_60415_2",99705,2,0]
["05_14","165_66210_1",99508,2,0]
["05_14","1650_79035_1",99577,2,0]
["05_14","1651_69305_1",99709,2,0]
["05_14","1652_72355_1",99506,2,0]
["05_14","1653_75300_1",99518,2,0]
["05_14","1654_54155_1",99518,2,0]
["05_14","1655_71730_1",99654,2,0]
["05_14","1656_89850_1",99676,2,0]
["05_14","1657_15156_1",99508,2,0]
["05_14","1658_87285_1",99588,2,0]
["05_14","1659_88795_1",99707,2,0]
["08_13","166_28416_2",32508,2,0]
["08_13","166_31361_1",99504,2,0]
["05_14","166_52780_1",99516,2,0]
["05_14","166_59825_2",99567,2,0]
["05_14","1660_12226_1",99504,1,0]
["05_14","1661_72180_1",99502,2,0]
["05_14","1662_87225_1",99652,2,0]
["05_14","1663_43576_1",99505,2,0]
["05_14","1664_10011_1",99501,2,0]
["05_14","1665_78350_1",99504,2,0]
["05_14","1666_68835_1",99508,2,0]
["05_14","1667_61360_1",99705,2,0]
["05_14","1668_62735_1",99502,2,0]
["05_14","1669_50315_1",99503,2,0]
["08_13","167_33146_1",99507,2,0]
["08_13","167_34686_2",99508,2,0]
["05_14","167_52965_2",99577,2,0]
["05_14","167_90265_1",99708,2,0]
["05_14","1670_81710_1",99511,2,0]
["05_14","1671_87180_1",99652,2,0]
["05_14","1672_54435_1",99516,2,0]
["05_14","1673_25361_1",99511,2,0]
["05_14","1674_58585_1",99577,2,0]
["05_14","1675_23091_1",99705,2,0]
["05_14","1676_69060_1",99623,2,0]
["05_14","1677_30621_1",99503,2,0]
["05_14","1678_67085_1",99645,2,0]
["05_14","1679_61285_1",99507,2,0]
["08_13","168_17356_1",99516,2,0]
["08_13","168_44256_2",99516,2,0]
["05_14","168_53310_2",99516,2,0]
["05_14","168_64645_1",99502,2,0]
["05_14","1680_73030_1",99504,2,0]
["05_14","1681_63730_1",99645,2,0]
["05_14","1682_79880_1",99577,null,0]
["05_14","1683_61510_1",99508,2,0]
["05_14","1684_57880_1",99516,2,0]
["05_14","1685_55690_1",99645,2,0]
["05_14","1686_57095_1",99577,2,0]
["05_14","1687_69815_1",99508,2,0]
["05_14","1688_36661_1",99517,2,0]
["05_14","1689_75535_1",99623,2,0]
["08_13","169_13536_2",99507,2,0]
["08_13","169_27996_1",99737,2,0]
["05_14","169_54415_1",99645,2,0]
["05_14","169_61600_2",99507,2,0]
["05_14","1690_59500_1",99567,2,0]
["05_14","1691_68445_1",99504,2,0]
["05_14","1692_91955_1",99688,2,0]
["05_14","1693_54690_1",99501,2,0]
["05_14","1694_82030_1",99676,1,1]
["05_14","1695_88980_1",99707,2,0]
["05_14","1696_78380_1",99577,2,0]
["05_14","1697_90885_1",99687,2,0]
["05_14","1698_80805_1",99573,2,0]
["05_14","1699_80405_1",99573,2,0]
["08_13","17_27736_1",99712,2,0]
["08_13","17_30606_2",99503,2,0]
["05_14","17_55710_2",99701,2,0]
["05_14","17_67760_1",99507,2,0]
["08_13","170_35851_2",99516,2,0]
["08_13","170_38486_1",99645,2,0]
["05_14","170_64375_2",99654,2,0]
["05_14","170_78660_1",99507,2,0]
["05_14","1700_72450_1",99701,2,0]
["05_14","1701_81285_1",99510,2,0]
["05_14","1702_63350_1",99517,2,0]
["05_14","1703_88325_1",99567,2,0]
["05_14","1704_71440_1",99709,2,0]
["05_14","1705_88195_1",99588,2,0]
["05_14","1706_16566_1",99515,2,0]
["05_14","1707_80760_1",99737,2,0]
["05_14","1708_50835_1",99577,null,0]
["05_14","1709_85585_1",99573,2,0]
["08_13","171_26846_1",99674,2,0]
["08_13","171_30171_2",99502,2,0]
["05_14","171_80400_2",99573,2,0]
["05_14","171_91190_1",99687,2,0]
["05_14","1710_86010_1",99645,2,0]
["05_14","1711_76590_1",99654,2,0]
["05_14","1712_83775_1",99521,2,0]
["05_14","1713_51205_1",99701,2,0]
["05_14","1714_52740_1",99623,2,0]
["05_14","1715_75525_1",99623,2,0]
["05_14","1716_89620_1",99588,2,0]
["05_14","1717_89705_1",99577,2,0]
["05_14","1718_58465_1",99517,2,0]
["05_14","1719_81460_1",99710,2,0]
["08_13","172_16026_2",99515,2,0]
["08_13","172_44846_1",99510,2,0]
["05_14","172_70245_2",99503,2,0]
["05_14","172_78450_1",99504,2,0]
["05_14","1720_59905_1",99503,2,0]
["05_14","1721_87715_1",99676,1,1]
["05_14","1722_59170_1",99705,2,0]
["05_14","1723_68620_1",99508,2,0]
["05_14","1724_89160_1",99707,2,0]
["05_14","1725_84335_1",99523,2,0]
["05_14","1726_55340_1",99672,2,0]
["05_14","1727_88580_1",99567,2,0]
["05_14","1728_84315_1",99780,2,0]
["05_14","1729_62600_1",99502,2,0]
["08_13","173_14946_1",99508,2,0]
["08_13","173_20076_2",99645,2,0]
["05_14","173_53365_1",99518,2,0]
["05_14","173_90555_2",99708,2,0]
["05_14","1730_65400_1",99517,2,0]
["05_14","1731_70845_1",99714,2,0]
["05_14","1732_23731_1",99709,2,0]
["05_14","1733_60030_1",99705,2,0]
["05_14","1734_54565_1",99516,2,0]
["05_14","1735_60430_1",99517,2,0]
["05_14","1736_76610_1",99518,2,0]
["05_14","1737_58160_1",99577,2,0]
["05_14","1738_78080_1",99504,null,0]
["05_14","1739_73590_1",99504,2,0]
["08_13","174_35786_1",99516,2,0]
["08_13","174_39731_2",99654,2,0]
["05_14","174_65715_2",99517,2,0]
["05_14","174_85860_1",99676,1,1]
["05_14","1740_84230_1",99523,2,0]
["05_14","1741_88030_1",99706,2,0]
["05_14","1742_82315_1",99683,2,0]
["05_14","1743_82495_1",99645,2,0]
["05_14","1744_69830_1",99502,2,0]
["05_14","1745_65900_1",99712,2,0]
["05_14","1746_34376_1",99508,2,0]
["05_14","1747_84595_1",99524,2,0]
["05_14","1748_84000_1",99522,2,0]
["05_14","1749_85800_1",99573,2,0]
["08_13","175_24301_1",99709,2,0]
["08_13","175_33026_2",99507,2,0]
["05_14","175_57370_2",99502,2,0]
["05_14","175_83170_1",99645,2,0]
["05_14","1750_69890_1",99517,2,0]
["05_14","1751_88210_1",99573,2,0]
["05_14","1752_69675_1",99508,2,0]
["05_14","1753_51610_1",99515,2,0]
["05_14","1754_57875_1",99577,2,0]
["05_14","1755_58450_1",99577,2,0]
["05_14","1756_85135_1",99729,1,1]
["05_14","1757_50040_1",99507,2,0]
["05_14","1758_58255_1",99577,2,0]
["05_14","1759_70365_1",99508,2,0]
["08_13","176_31421_1",99504,2,0]
["08_13","176_36416_2",99517,2,0]
["05_14","176_66190_1",99508,2,0]
["05_14","176_72910_2",99518,2,0]
["05_14","1760_68000_1",99623,2,0]
["05_14","1761_70510_1",99518,2,0]
["05_14","1762_90110_1",99708,2,0]
["05_14","1763_73655_1",99504,2,0]
["05_14","1764_58935_1",99507,2,0]
["05_14","1765_53735_1",99508,2,0]
["05_14","1766_88460_1",99567,2,0]
["05_14","1767_69295_1",99518,2,0]
["05_14","1768_87740_1",99711,2,0]
["05_14","1769_80565_1",99573,2,0]
["08_13","177_25546_1",99515,2,0]
["08_13","177_37066_2",99518,2,0]
["05_14","177_61220_1",99645,2,0]
["05_14","177_67890_2",99506,2,0]
["05_14","1770_88330_1",99567,2,0]
["05_14","1771_61635_1",99516,2,0]
["05_14","1772_55300_1",99516,2,0]
["05_14","1773_77075_1",99502,2,0]
["05_14","1774_80815_1",99573,2,0]
["05_14","1775_87165_1",99507,2,0]
["05_14","1776_65445_1",99517,2,0]
["05_14","1777_91465_1",99687,2,0]
["05_14","1778_66155_1",99508,2,0]
["05_14","1779_61030_1",99629,2,0]
["08_13","178_21071_2",99654,2,0]
["08_13","178_43501_1",99504,2,0]
["05_14","178_60090_2",99507,2,0]
["05_14","178_69770_1",99502,2,0]
["05_14","1780_90890_1",99687,1,0]
["05_14","1781_63780_1",99654,2,0]
["05_14","1782_88125_1",99588,2,0]
["05_14","1783_82270_1",99729,1,1]
["05_14","1784_51765_1",99577,2,0]
["05_14","1785_77835_1",99504,2,0]
["05_14","1786_63595_1",99503,2,0]
["05_14","1787_64460_1",99645,null,0]
["05_14","1788_91750_1",99509,2,0]
["05_14","1789_50635_1",99577,2,0]
["08_13","179_21296_1",99654,2,0]
["08_13","179_23251_2",99705,2,0]
["05_14","179_55350_1",99701,2,0]
["05_14","179_63080_2",99502,2,0]
["05_14","1790_53225_1",99505,2,0]
["05_14","1791_65080_1",99503,2,0]
["05_14","1792_58115_1",99701,2,0]
["05_14","1793_51635_1",99501,2,0]
["05_14","1794_11226_1",99502,2,0]
["05_14","1795_61345_1",99503,2,0]
["05_14","1796_74130_1",99504,2,0]
["05_14","1797_81785_1",99511,2,0]
["05_14","1798_86640_1",99740,2,0]
["05_14","1799_83150_1",99729,1,1]
["08_13","18_13286_1",99506,2,0]
["08_13","18_21551_2",99687,2,0]
["05_14","18_52615_1",99515,2,0]
["05_14","18_76270_2",99712,2,0]
["08_13","180_17116_2",99516,2,0]
["08_13","180_27321_1",99705,2,0]
["05_14","180_50825_1",99701,2,0]
["05_14","180_66370_2",99705,2,0]
["05_14","1800_69930_1",99507,2,0]
["05_14","1801_87250_1",99729,1,1]
["05_14","1802_80005_1",99588,1,1]
["05_14","1803_78915_1",99507,2,0]
["05_14","1804_76210_1",99507,2,0]
["05_14","1805_87425_1",99588,2,0]
["05_14","1806_74430_1",99502,2,0]
["05_14","1807_60055_1",99701,2,0]
["05_14","1808_67430_1",99517,2,0]
["05_14","1809_68285_1",99502,2,0]
["08_13","181_36211_2",99516,2,0]
["08_13","181_46366_1",99712,2,0]
["05_14","181_59290_1",99515,2,0]
["05_14","181_89950_2",99708,2,0]
["05_14","1810_68745_1",99504,2,0]
["05_14","1811_50890_1",99515,2,0]
["05_14","1812_78595_1",99654,2,0]
["05_14","1813_67305_1",99645,2,0]
["05_14","1814_81175_1",99710,2,0]
["05_14","1815_62255_1",99508,2,0]
["05_14","1816_45231_1",99645,2,0]
["05_14","1817_59275_1",99515,2,0]
["05_14","1818_30736_1",99503,2,0]
["05_14","1819_82910_1",99645,1,1]
["08_13","182_22226_1",99701,2,0]
["08_13","182_26016_2",99524,2,0]
["05_14","182_58445_2",99577,2,0]
["05_14","182_86195_1",99645,2,0]
["05_14","1820_87765_1",99711,2,0]
["05_14","1821_81025_1",99688,2,0]
["05_14","1822_62230_1",99503,2,0]
["05_14","1823_68870_1",99654,2,0]
["05_14","1824_31576_1",99504,2,0]
["05_14","1825_69375_1",99709,2,0]
["05_14","1826_86565_1",99729,1,1]
["05_14","1827_80995_1",99688,2,0]
["05_14","1828_63600_1",99517,2,0]
["05_14","1829_62190_1",99516,2,0]
["08_13","183_41511_1",99705,2,0]
["08_13","183_46486_2",99737,2,0]
["05_14","183_53765_2",99516,2,0]
["05_14","183_76780_1",99502,2,0]
["05_14","1830_70735_1",99508,2,0]
["05_14","1831_72990_1",99501,2,0]
["05_14","1832_61770_1",99504,2,0]
["05_14","1833_73885_1",99516,2,0]
["05_14","1834_80795_1",99573,2,0]
["05_14","1835_75705_1",99507,2,0]
["05_14","1836_83805_1",99521,1,0]
["05_14","1837_54660_1",99501,2,0]
["05_14","1838_61420_1",99516,2,0]
["05_14","1839_71175_1",99507,2,0]
["08_13","184_13751_1",99507,2,0]
["08_13","184_31806_2",99504,2,0]
["05_14","184_53100_2",99516,2,0]
["05_14","184_79250_1",99516,2,0]
["05_14","1840_87865_1",99706,2,0]
["05_14","1841_83870_1",99729,1,1]
["05_14","1842_80330_1",99573,2,0]
["05_14","1843_81850_1",99676,1,1]
["05_14","1844_62510_1",99709,2,0]
["05_14","1845_26296_1",99587,2,0]
["05_14","1846_64245_1",99507,2,0]
["05_14","1847_56520_1",99507,2,0]
["05_14","1848_89480_1",99776,2,0]
["05_14","1849_82975_1",99729,1,1]
["08_13","185_21986_2",99701,2,0]
["08_13","185_42861_1",99709,2,0]
["05_14","185_61800_2",99712,2,0]
["05_14","185_71595_1",99516,2,0]
["05_14","1850_89910_1",99708,1,0]
["05_14","1851_50450_1",99515,2,0]
["05_14","1852_80640_1",99573,2,0]
["05_14","1853_72520_1",99645,2,0]
["05_14","1854_59250_1",99701,2,0]
["05_14","1855_75295_1",99516,2,0]
["05_14","1856_68625_1",99503,2,0]
["05_14","1857_80720_1",99573,2,0]
["05_14","1858_63330_1",99645,2,0]
["05_14","1859_85815_1",99676,1,1]
["08_13","186_14721_1",99507,2,0]
["08_13","186_46636_2",99743,2,0]
["05_14","186_66815_2",99502,2,0]
["05_14","186_73405_1",99504,2,0]
["05_14","1860_40031_1",99654,2,0]
["05_14","1861_85035_1",99780,2,0]
["05_14","1862_69390_1",99705,2,0]
["05_14","1863_77515_1",99502,2,0]
["05_14","1864_56710_1",99577,2,0]
["05_14","1865_24996_1",99505,2,0]
["08_13","187_27751_1",99712,2,0]
["08_13","187_46066_2",99708,2,0]
["05_14","187_68080_1",99517,2,0]
["05_14","187_80575_2",99573,2,0]
["08_13","188_21621_1",99687,2,0]
["08_13","188_32841_2",99507,2,0]
["05_14","188_76415_2",99705,2,0]
["05_14","188_82240_1",99683,1,1]
["08_13","189_10341_1",99501,2,0]
["08_13","189_41041_2",99701,2,0]
["05_14","189_53690_1",99516,2,0]
["05_14","189_88870_2",99701,2,0]
["08_13","19_17781_2",99517,2,0]
["08_13","19_24726_1",99712,2,0]
["05_14","19_77300_2",99516,2,0]
["05_14","19_89430_1",99776,2,0]
["08_13","190_15736_2",99508,2,0]
["08_13","190_21361_1",99654,2,0]
["05_14","190_64120_2",99517,2,0]
["05_14","190_87060_1",99652,null,0]
["08_13","191_24636_1",99712,2,0]
["08_13","191_43006_2",99709,2,0]
["05_14","191_80030_2",99588,1,1]
["05_14","191_81185_1",99510,2,0]
["08_13","192_26516_1",99540,2,0]
["08_13","192_31016_2",99504,2,0]
["05_14","192_75935_2",99654,2,0]
["05_14","192_76350_1",99504,2,0]
["08_13","193_27446_2",99707,2,0]
["08_13","193_43046_1",99709,2,0]
["05_14","193_77445_1",99502,2,0]
["05_14","193_90635_2",99708,2,0]
["05_14","194_23651_2",99708,2,0]
["08_13","194_29896_1",99502,2,0]
["08_13","194_41861_2",99705,2,0]
["05_14","194_51785_1",99577,2,0]
["08_13","195_12856_1",99504,2,0]
["08_13","195_34611_2",99508,2,0]
["05_14","195_82010_1",99688,2,0]
["05_14","195_90875_2",99687,2,0]
["08_13","196_29246_2",99501,2,0]
["08_13","196_35951_1",99516,2,0]
["05_14","196_59900_2",99712,2,0]
["05_14","196_72770_1",99705,2,0]
["08_13","197_19766_1",99623,1,0]
["08_13","197_29941_2",99502,2,0]
["05_14","197_59580_1",99501,2,0]
["05_14","197_81765_2",99511,2,0]
["08_13","198_27971_1",99737,2,0]
["08_13","198_37641_2",99577,2,0]
["05_14","198_76475_2",99502,2,0]
["05_14","198_81750_1",99511,2,0]
["08_13","199_14446_2",99507,2,0]
["08_13","199_14466_1",99507,2,0]
["05_14","199_20121_2",{"$error":"#N/A"},2,{"$error":"#N/A"}]
["05_14","199_68645_1",99508,2,0]
["08_13","2_24121_1",99709,2,0]
["08_13","2_44616_2",99567,2,0]
["05_14","2_53915_2",99577,2,0]
["05_14","2_86520_1",99573,2,0]
["08_13","20_18891_2",99577,2,0]
["08_13","20_43806_1",99507,2,0]
["05_14","20_72680_2",99502,2,0]
["05_14","20_82120_1",99573,2,0]
["08_13","200_10416_1",99501,2,0]
["08_13","200_38351_2",99623,2,0]
["05_14","200_61690_2",99705,2,0]
["05_14","200_82970_1",99687,2,0]
["08_13","201_19071_2",99577,2,0]
["08_13","201_26471_1",99519,2,0]
["05_14","201_29021_2",99501,2,0]
["05_14","201_59950_1",99712,2,0]
["08_13","202_17786_2",99517,2,0]
["08_13","202_27801_1",99714,2,0]
["05_14","202_53120_2",99515,2,0]
["05_14","202_57385_1",99709,2,0]
["05_14","203_18241_2",99518,2,0]
["08_13","203_22066_1",99701,2,0]
["08_13","203_28226_2",99768,2,0]
["05_14","203_74650_1",99518,2,0]
["08_13","204_14651_2",99507,2,0]
["08_13","204_41736_1",99705,2,0]
["05_14","204_65295_2",99516,2,0]
["05_14","204_88525_1",99567,2,0]
["08_13","205_14646_2",99507,2,0]
["08_13","205_17481_1",99517,2,0]
["05_14","205_81560_1",99710,2,0]
["05_14","205_84105_2",99729,1,1]
["08_13","206_12251_1",99504,2,0]
["08_13","206_39411_2",99654,2,0]
["05_14","206_73205_1",99504,2,0]
["05_14","206_74995_2",99507,1,0]
["08_13","207_24356_2",99709,2,0]
["08_13","207_27961_1",99737,2,0]
["05_14","207_70190_1",99654,2,0]
["05_14","207_90815_2",99687,2,0]
["08_13","208_10626_1",99501,2,0]
["08_13","208_36341_2",99517,2,0]
["05_14","208_65540_1",99507,2,0]
["05_14","208_70775_2",99505,2,0]
["08_13","209_12096_1",99504,2,0]
["08_13","209_30041_2",99502,2,0]
["05_14","209_70070_1",99516,2,0]
["08_13","21_10821_2",{"$error":"#N/A"},2,{"$error":"#N/A"}]
["08_13","21_24706_1",99712,2,0]
["05_14","21_56820_1",99701,2,0]
["05_14","21_72340_2",99645,2,0]
["08_13","210_10436_1",99501,2,0]
["05_14","210_11191_2",99502,2,0]
["08_13","210_13846_2",99507,2,0]
["05_14","210_78900_1",99502,2,0]
["08_13","211_16586_1",99515,2,0]
["08_13","211_24456_2",99709,2,0]
["05_14","211_52900_2",99516,2,0]
["05_14","211_75375_1",99507,2,0]
["08_13","212_11756_1",99503,2,0]
["08_13","212_13426_2",99507,2,0]
["05_14","212_76935_2",99518,2,0]
["05_14","212_79610_1",99645,2,0]
["08_13","213_23866_1",99709,2,0]
["08_13","213_33381_2",99507,2,0]
["05_14","213_71495_2",99508,2,0]
["05_14","213_83810_1",99521,2,0]
["08_13","214_26051_2",99524,2,0]
["08_13","214_43126_1",99712,2,0]
["05_14","214_52580_1",99577,2,0]
["05_14","214_91030_2",99676,1,1]
["08_13","215_29076_1",99501,2,0]
["08_13","215_35646_2",99516,2,0]
["05_14","215_80125_1",99586,2,0]
["05_14","215_85710_2",99731,2,0]
["08_13","216_16626_1",99515,2,0]
["08_13","216_40931_2",99701,2,0]
["05_14","216_58045_1",99577,2,0]
["05_14","216_62445_2",99705,2,0]
["08_13","217_12636_2",99504,2,0]
["08_13","217_28921_1",99501,2,0]
["05_14","217_52695_2",99712,2,0]
["05_14","217_85045_1",99645,2,0]
["08_13","218_29216_2",99501,2,0]
["08_13","218_39111_1",99645,2,0]
["05_14","218_63000_2",99507,2,0]
["05_14","218_80230_1",99586,2,0]
["08_13","219_24191_1",99709,2,0]
["08_13","219_37246_2",99567,2,0]
["05_14","219_82305_2",99683,1,1]
["05_14","219_90710_1",99687,2,0]
["08_13","22_10236_2",99501,2,0]
["08_13","22_40471_1",99687,2,0]
["05_14","22_61935_2",99515,2,0]
["05_14","22_78580_1",99701,2,0]
["08_13","220_17271_1",99516,2,0]
["08_13","220_22131_2",99701,2,0]
["05_14","220_85190_1",99701,2,0]
["05_14","220_86060_2",99505,2,0]
["08_13","221_12511_1",99504,2,0]
["08_13","221_36616_2",{"$error":"#N/A"},2,{"$error":"#N/A"}]
["05_14","221_70555_1",99508,2,0]
["05_14","221_89260_2",99707,2,0]
["08_13","222_24586_1",99712,2,0]
["08_13","222_46696_2",99775,2,0]
["05_14","222_53190_2",99516,2,0]
["05_14","222_69860_1",99623,null,0]
["08_13","223_22801_1",99705,2,0]
["08_13","223_33266_2",99507,2,0]
["05_14","223_63250_1",99508,2,0]
["05_14","223_76505_2",99687,2,0]
["08_13","224_17131_2",99516,2,0]
["08_13","224_37866_1",99577,2,0]
["05_14","224_52350_1",99645,2,0]
["05_14","224_90275_2",99708,2,0]
["08_13","225_12656_1",99504,2,0]
["05_14","225_12966_2",99504,2,0]
["08_13","225_34326_2",99508,2,0]
["05_14","225_81395_1",99566,2,0]
["08_13","226_18616_1",99577,2,0]
["08_13","226_24001_2",99709,2,0]
["05_14","226_51580_2",99645,2,0]
["05_14","226_64970_1",99669,2,0]
["08_13","227_28456_2",9459,2,0]
["08_13","227_40136_1",99654,2,0]
["05_14","227_65855_1",99516,2,0]
["05_14","227_87290_2",99755,2,0]
["08_13","228_21266_1",99654,2,0]
["08_13","228_34301_2",99508,2,0]
["05_14","228_46531_2",99737,2,0]
["05_14","228_80210_1",99586,2,0]
["08_13","229_32981_2",99507,2,0]
["08_13","229_38431_1",99623,2,0]
["05_14","229_75625_1",99840,2,0]
["05_14","229_84555_2",99524,2,0]
["08_13","23_32381_2",99507,2,0]
["08_13","23_34746_1",99515,2,0]
["05_14","23_69180_1",99645,2,0]
["05_14","23_77505_2",99502,2,0]
["08_13","230_22016_1",99701,2,0]
["05_14","230_34541_2",99508,2,0]
["08_13","230_35581_2",99516,2,0]
["05_14","230_81290_1",99737,2,0]
["08_13","231_32721_2",99507,2,0]
["08_13","231_33376_1",99507,2,0]
["05_14","231_54000_2",99540,2,0]
["05_14","231_59080_1",99504,2,0]
["08_13","232_27311_1",99702,2,0]
["08_13","232_46471_2",99737,2,0]
["05_14","232_85750_2",99731,2,0]
["05_14","232_91160_1",99687,2,0]
["08_13","233_28481_2",75455,2,0]
["08_13","233_29071_1",99501,2,0]
["05_14","233_66670_1",99705,2,0]
["05_14","233_84355_2",99586,2,0]
["08_13","234_11186_2",99502,2,0]
["05_14","234_26256_2",{"$error":"#N/A"},2,{"$error":"#N/A"}]
["08_13","234_35446_1",99515,2,0]
["05_14","234_65110_1",99502,2,0]
["08_13","235_25291_1",99511,2,0]
["08_13","235_44041_2",99514,2,0]
["05_14","235_67065_1",99504,2,0]
["05_14","235_77960_2",99518,2,0]
["08_13","236_23471_1",99707,2,0]
["08_13","236_39316_2",99654,2,0]
["05_14","236_57625_1",99507,2,0]
["05_14","236_84600_2",99524,2,0]
["08_13","237_31431_1",99504,2,0]
["08_13","237_35806_2",99516,2,0]
["05_14","237_79890_2",99515,2,0]
["05_14","237_91695_1",99573,2,0]
["08_13","238_16776_1",99516,2,0]
["08_13","238_31201_2",99504,2,0]
["05_14","238_63095_2",99502,2,0]
["05_14","238_87410_1",99705,2,0]
["08_13","239_17586_1",99517,2,0]
["08_13","239_43336_2",99503,2,0]
["05_14","239_66120_1",99508,2,0]
["05_14","239_76545_2",99507,2,0]
["08_13","24_17146_2",99516,2,0]
["08_13","24_44451_1",99522,2,0]
["05_14","24_65150_2",99517,2,0]
["05_14","24_67845_1",99517,2,0]
["08_13","240_21911_1",99701,2,0]
["08_13","240_32261_2",99507,2,0]
["05_14","240_76105_1",99502,2,0]
["05_14","240_91440_2",99687,2,0]
["08_13","241_23871_1",99709,2,0]
["08_13","241_34296_2",99508,2,0]
["05_14","241_67315_2",99654,2,0]
["05_14","241_79980_1",99586,2,0]
["08_13","242_17936_1",99517,2,0]
["08_13","242_19171_2",99577,2,0]
["05_14","242_55960_2",99701,2,0]
["05_14","242_84495_1",99674,2,0]
["08_13","243_38251_1",99623,2,0]
["08_13","243_44971_2",99556,2,0]
["05_14","243_57400_1",99504,2,0]
["05_14","243_90155_2",99588,2,0]
["08_13","244_39496_1",99654,2,0]
["08_13","244_40126_2",99654,2,0]
["05_14","244_84220_2",99507,2,0]
["05_14","244_85790_1",99645,2,0]
["08_13","245_14146_1",99507,2,0]
["08_13","245_34941_2",99515,2,0]
["05_14","245_66315_2",99508,2,0]
["05_14","245_71150_1",99516,2,0]
["08_13","246_25161_1",99508,2,0]
["08_13","246_44761_2",99587,2,0]
["05_14","246_64965_1",99623,2,0]
["05_14","246_80325_2",99586,2,0]
["08_13","247_12156_1",99504,2,0]
["08_13","247_20771_2",99654,2,0]
["05_14","247_51440_2",99709,2,0]
["05_14","247_84365_1",99645,2,0]
["08_13","248_16946_2",99516,2,0]
["08_13","248_30501_1",99503,2,0]
["05_14","248_84870_2",99586,2,0]
["05_14","248_88450_1",99567,2,0]
["08_13","249_30671_2",99503,2,0]
["08_13","249_33486_1",99507,2,0]
["05_14","249_70790_2",99518,2,0]
["05_14","249_88705_1",99588,2,0]
["08_13","25_15331_1",99508,2,0]
["08_13","25_31471_2",99504,2,0]
["05_14","25_58970_1",99515,2,0]
["05_14","25_77035_2",99507,2,0]
["08_13","250_10776_1",99502,2,0]
["08_13","250_26221_2",99577,2,0]
["05_14","250_59610_2",99508,2,0]
["05_14","250_77685_1",99504,2,0]
["08_13","251_10061_2",99501,2,0]
["08_13","251_28671_1",97034,2,0]
["05_14","251_59055_1",99504,2,0]
["05_14","251_74115_2",99623,2,0]
["08_13","252_20636_2",99645,2,0]
["08_13","252_43941_1",99509,2,0]
["05_14","252_84620_1",99502,2,0]
["05_14","252_90690_2",99708,2,0]
["08_13","253_13071_1",99504,2,0]
["08_13","253_19286_2",99577,2,0]
["05_14","253_61330_1",99508,2,0]
["05_14","253_90775_2",99687,2,0]
["08_13","254_23686_1",99708,2,0]
["08_13","254_38321_2",99623,2,0]
["05_14","254_50855_2",99577,2,0]
["05_14","254_51170_1",99701,2,0]
["08_13","255_17181_2",99516,2,0]
["08_13","255_17256_1",99516,2,0]
["05_14","255_54005_1",99701,2,0]
["05_14","255_62090_2",99705,2,0]
["08_13","256_27711_2",99710,2,0]
["08_13","256_31446_1",99504,2,0]
["05_14","256_51725_2",99705,2,0]
["05_14","256_67970_1",99507,2,0]
["08_13","257_14076_1",99507,2,0]
["08_13","257_34316_2",99508,2,0]
["05_14","257_53645_1",99516,2,0]
["05_14","257_58010_2",99709,2,0]
["08_13","258_15881_2",99508,2,0]
["08_13","258_43706_1",99506,2,0]
["05_14","258_52935_2",99501,2,0]
["05_14","258_62390_1",99502,2,0]
["08_13","259_18591_2",99577,2,0]
["08_13","259_34436_1",99508,2,0]
["05_14","259_80730_1",99573,2,0]
["05_14","259_91795_2",99509,2,0]
["08_13","26_14026_2",99507,2,0]
["08_13","26_30591_1",99503,2,0]
["05_14","26_65955_1",99645,2,0]
["05_14","26_70750_2",99501,2,0]
["08_13","260_22906_2",99705,2,0]
["08_13","260_38416_1",99623,2,0]
["05_14","260_80040_2",99588,1,1]
["05_14","260_87150_1",99652,2,0]
["08_13","261_29126_2",99501,2,0]
["08_13","261_30176_1",99502,2,0]
["05_14","261_75160_1",99504,2,0]
["05_14","261_87680_2",99588,2,0]
["08_13","262_12111_2",99504,2,0]
["08_13","262_28041_1",99780,2,0]
["05_14","262_72440_1",99516,2,0]
["05_14","262_85990_2",99725,2,0]
["08_13","263_10961_2",99502,2,0]
["08_13","263_46496_1",99737,2,0]
["05_14","263_58850_2",99507,2,0]
["05_14","263_83510_1",99520,2,0]
["08_13","264_13496_1",99507,2,0]
["08_13","264_16676_2",99516,2,0]
["05_14","264_23201_2",99705,2,0]
["05_14","264_50145_1",99577,2,0]
["08_13","265_45061_2",99623,2,0]
["08_13","265_46056_1",99708,2,0]
["05_14","265_66230_1",99502,2,0]
["05_14","265_82080_2",99587,2,0]
["08_13","266_28221_1",99762,2,0]
["08_13","266_33816_2",99508,2,0]
["05_14","266_54830_1",99645,2,0]
["05_14","266_87330_2",99729,1,1]
["08_13","267_20136_2",99645,2,0]
["08_13","267_32456_1",99507,2,0]
["05_14","267_82920_2",99676,1,1]
["05_14","267_87895_1",99706,2,0]
["08_13","268_11176_1",99502,2,0]
["08_13","268_26581_2",99652,2,0]
["05_14","268_27726_2",99712,2,0]
["05_14","268_58565_1",99577,2,0]
["08_13","269_24391_1",99709,2,0]
["05_14","269_24436_2",99709,2,0]
["08_13","269_28906_2",99501,2,0]
["05_14","269_77150_1",99712,2,0]
["08_13","27_13281_2",99506,2,0]
["08_13","27_33481_1",99507,2,0]
["05_14","27_61990_2",99705,2,0]
["05_14","27_69025_1",99518,2,0]
["08_13","270_21276_1",99654,2,0]
["08_13","270_29801_2",99502,2,0]
["05_14","270_72615_1",99504,2,0]
["05_14","270_79680_2",99577,2,0]
["08_13","271_26951_1",99687,2,0]
["08_13","271_38221_2",99577,2,0]
["05_14","271_54280_2",99709,2,0]
["05_14","271_71510_1",99508,null,0]
["05_14","272_10256_2",99501,2,0]
["08_13","272_10816_1",99502,2,0]
["08_13","272_37316_2",99567,2,0]
["05_14","272_60955_1",99508,2,0]
["08_13","273_19876_1",99645,2,0]
["05_14","273_42156_2",99707,2,0]
["08_13","273_42901_2",99709,2,0]
["05_14","273_78815_1",99709,2,0]
["05_14","274_20566_2",99645,2,0]
["08_13","274_42351_2",99708,2,0]
["08_13","274_42461_1",99709,2,0]
["05_14","274_60815_1",99654,2,0]
["08_13","275_15046_2",99508,2,0]
["08_13","275_23811_1",99709,2,0]
["05_14","275_50620_1",99507,2,0]
["05_14","275_84450_2",99573,2,0]
["08_13","276_12601_2",99504,2,0]
["05_14","276_14546_2",99507,2,0]
["08_13","276_28956_1",99501,2,0]
["05_14","276_89805_1",99577,2,0]
["08_13","277_33341_1",99507,2,0]
["08_13","277_41446_2",99705,2,0]
["05_14","277_66485_2",99504,2,0]
["05_14","277_88240_1",99567,null,0]
["08_13","278_10421_2",99501,2,0]
["05_14","278_18431_2",99567,2,0]
["08_13","278_34771_1",99515,2,0]
["05_14","278_55725_1",99501,2,0]
["08_13","279_18946_1",99577,2,0]
["08_13","279_25161_2",{"$error":"#N/A"},2,{"$error":"#N/A"}]
["05_14","279_73435_1",99502,2,0]
["05_14","279_91220_2",99687,2,0]
["08_13","28_18176_1",99518,2,0]
["08_13","28_38196_2",99577,2,0]
["05_14","28_71255_2",99501,2,0]
["05_14","28_86310_1",99588,2,0]
["08_13","280_21606_2",99687,2,0]
["08_13","280_22286_1",99701,2,0]
["05_14","280_57170_2",99709,2,0]
["05_14","280_68785_1",99504,2,0]
["08_13","281_17371_1",99516,2,0]
["08_13","281_27521_2",99708,2,0]
["05_14","281_38201_2",{"$error":"#N/A"},2,{"$error":"#N/A"}]
["05_14","281_80175_1",99588,1,1]
["08_13","282_17296_2",99516,2,0]
["08_13","282_24876_1",99502,2,0]
["05_14","282_43096_2",99712,2,0]
["05_14","282_87210_1",99652,2,0]
["08_13","283_14786_1",99508,2,0]
["08_13","283_38141_2",99577,2,0]
["05_14","283_68515_1",99515,2,0]
["05_14","283_73940_2",99504,2,0]
["08_13","284_38806_2",{"$error":"#N/A"},2,{"$error":"#N/A"}]
["08_13","284_42931_1",99709,2,0]
["05_14","284_59960_2",99501,2,0]
["05_14","284_81665_1",99511,2,0]
["08_13","285_29611_2",99502,2,0]
["08_13","285_37766_1",99577,2,0]
["05_14","285_51415_1",99515,2,0]
["05_14","285_89820_2",99577,2,0]
["08_13","286_16016_1",99515,2,0]
["05_14","286_30261_2",99502,2,0]
["08_13","286_32761_2",99507,2,0]
["05_14","286_64385_1",99504,2,0]
["08_13","287_11146_1",99502,2,0]
["08_13","287_44681_2",99567,null,0]
["05_14","287_78870_2",99504,2,0]
["05_14","287_83755_1",99521,2,0]
["08_13","288_41776_2",99705,2,0]
["08_13","288_46121_1",99709,2,0]
["05_14","288_64360_1",99504,2,0]
["05_14","288_86240_2",99573,2,0]
["08_13","289_14216_2",99507,2,0]
["08_13","289_30821_1",99503,2,0]
["05_14","289_61110_2",99517,2,0]
["05_14","289_63390_1",99517,2,0]
["08_13","29_10976_2",99502,2,0]
["08_13","29_21526_1",99687,2,0]
["05_14","29_64840_2",99508,2,0]
["05_14","29_88550_1",99567,2,0]
["08_13","290_10091_1",99501,2,0]
["05_14","290_83035_2",99731,2,0]
["05_14","290_88315_1",99567,2,0]
["08_13","291_29656_1",99502,2,0]
["05_14","291_33216_2",99507,2,0]
["08_13","291_44126_2",99514,2,0]
["05_14","291_77240_1",99504,2,0]
["08_13","292_27916_1",99737,2,0]
["08_13","292_30406_2",99503,2,0]
["05_14","292_83100_2",99676,1,1]
["05_14","292_87940_1",99706,2,0]
["08_13","293_10956_1",99502,2,0]
["08_13","293_24306_2",99709,null,0]
["05_14","293_33616_2",99508,2,0]
["05_14","293_67885_1",99623,2,0]
["08_13","294_39776_1",99654,2,0]
["05_14","294_62875_2",99517,2,0]
["05_14","294_69850_1",99515,2,0]
["08_13","295_23171_2",99705,null,0]
["08_13","295_24626_1",99712,2,0]
["05_14","295_54200_1",99515,2,0]
["05_14","295_72575_2",99701,2,0]
["08_13","296_14386_2",99507,null,0]
["08_13","296_30071_1",99502,2,0]
["05_14","296_32656_2",99507,2,0]
["05_14","296_70530_1",99508,2,0]
["08_13","297_17221_2",99516,2,0]
["08_13","297_17506_1",99517,2,0]
["05_14","297_72610_1",99507,2,0]
["05_14","297_76280_2",99507,2,0]
["08_13","298_14636_2",99507,null,0]
["08_13","298_46061_1",99708,2,0]
["05_14","298_53885_1",99645,2,0]
["05_14","298_65890_2",99517,2,0]
["08_13","299_10736_2",{"$error":"#N/A"},null,{"$error":"#N/A"}]
["08_13","299_13236_1",99504,2,0]
["05_14","299_52290_1",99515,2,0]
["05_14","299_64250_2",99517,2,0]
["08_13","3_18756_1",99577,2,0]
["08_13","3_25116_2",99507,2,0]
["05_14","3_61440_1",99516,2,0]
["05_14","3_74945_2",99507,2,0]
["08_13","30_17701_2",99517,2,0]
["08_13","30_18941_1",99577,2,0]
["05_14","30_62815_2",99567,2,0]
["05_14","30_72040_1",99654,2,0]
["08_13","300_16876_1",99516,2,0]
["08_13","300_42776_2",99709,2,0]
["05_14","300_77655_1",99639,2,0]
["05_14","300_80015_2",99588,1,1]
["08_13","301_18371_1",99567,2,0]
["08_13","301_24981_2",99504,null,0]
["05_14","301_50750_2",99515,2,0]
["05_14","301_77335_1",99709,2,0]
["08_13","302_12361_2",99504,null,0]
["08_13","302_46426_1",99714,2,0]
["05_14","302_59940_1",99508,2,0]
["05_14","302_78230_2",99515,2,0]
["08_13","303_11321_1",99502,2,0]
["08_13","303_19046_2",99577,null,0]
["05_14","303_79660_2",99507,2,0]
["05_14","303_88735_1",99707,2,0]
["08_13","304_31821_1",99504,2,0]
["05_14","304_51410_2",99716,2,0]
["05_14","304_62770_1",99654,2,0]
["08_13","305_21026_1",99654,2,0]
["08_13","305_39061_2",99645,null,0]
["05_14","305_56665_1",99577,2,0]
["05_14","305_79110_2",99623,2,0]
["08_13","306_14566_1",99507,2,0]
["05_14","306_57015_2",99709,2,0]
["05_14","306_59970_1",99540,2,0]
["08_13","307_21706_1",99687,2,0]
["08_13","307_31841_2",99504,2,0]
["05_14","307_58980_1",99654,2,0]
["05_14","307_88570_2",99567,2,0]
["08_13","308_24521_2",99712,null,0]
["08_13","308_44016_1",99511,2,0]
["05_14","308_88005_2",99706,2,0]
["05_14","308_88200_1",99645,2,0]
["08_13","309_25091_1",99507,2,0]
["05_14","309_29921_2",99502,2,0]
["05_14","309_73585_1",99504,2,0]
["08_13","31_21936_1",99701,2,0]
["08_13","31_28196_2",99743,2,0]
["05_14","31_52135_2",99645,2,0]
["05_14","31_68030_1",99709,2,0]
["08_13","310_10886_1",99502,2,0]
["08_13","310_24116_2",99709,null,0]
["05_14","310_72465_1",99503,2,0]
["05_14","310_83740_2",99521,2,0]
["08_13","311_11386_2",99502,null,0]
["08_13","311_21311_1",99654,2,0]
["05_14","311_37481_1",99577,2,0]
["05_14","311_63440_2",99504,2,0]
["08_13","312_18041_1",99518,2,0]
["08_13","312_21041_2",99654,2,0]
["05_14","312_74515_1",99507,2,0]
["05_14","312_85485_2",99731,2,0]
["08_13","313_14691_1",99507,2,0]
["08_13","313_42046_2",99707,2,0]
["05_14","313_57140_2",99577,2,0]
["05_14","313_62365_1",99507,2,0]
["08_13","314_32921_1",99507,2,0]
["08_13","314_39901_2",99654,null,0]
["05_14","314_60670_1",99504,2,0]
["05_14","314_68585_2",99623,2,0]
["08_13","315_19196_1",99577,2,0]
["05_14","315_79975_2",99586,2,0]
["05_14","315_86125_1",99645,2,0]
["08_13","316_12331_1",99504,2,0]
["05_14","316_16556_1",99515,2,0]
["05_14","316_80275_2",99686,2,0]
["08_13","317_26006_1",99524,2,0]
["05_14","317_69990_1",99654,2,0]
["05_14","317_84775_2",99586,2,0]
["08_13","318_22241_1",99701,2,0]
["05_14","318_56415_2",99501,2,0]
["05_14","318_66950_1",99701,2,0]
["08_13","319_38751_1",99645,2,0]
["05_14","319_51425_2",99507,2,0]
["05_14","319_52430_1",99501,2,0]
["08_13","32_33201_2",99507,2,0]
["08_13","32_43041_1",99709,2,0]
["05_14","32_52260_1",99577,2,0]
["05_14","32_58610_2",99567,2,0]
["08_13","320_19836_1",99645,2,0]
["05_14","320_32886_1",99507,2,0]
["05_14","320_62165_2",99504,2,0]
["08_13","321_38446_1",99645,2,0]
["05_14","321_74295_1",99502,2,0]
["05_14","321_75320_2",99515,2,0]
["08_13","322_42481_1",99709,2,0]
["05_14","322_76330_2",99507,1,0]
["05_14","322_81180_1",99587,2,0]
["08_13","323_20041_1",99645,2,0]
["05_14","323_63035_1",99517,2,0]
["05_14","323_88430_2",99567,2,0]
["08_13","324_36886_1",99518,2,0]
["05_14","324_68020_2",99507,2,0]
["05_14","324_69385_1",99518,2,0]
["08_13","325_18526_1",99577,2,0]
["05_14","325_52065_2",99516,2,0]
["05_14","325_56560_1",99654,2,0]
["08_13","326_19531_1",99623,2,0]
["05_14","326_35221_2",{"$error":"#N/A"},2,{"$error":"#N/A"}]
["05_14","326_81975_1",99511,2,0]
["08_13","327_42446_1",99709,2,0]
["05_14","327_57405_2",99518,2,0]
["05_14","327_66415_1",99654,2,0]
["05_14","328_16336_2",99515,2,0]
["08_13","328_29461_1",99502,2,0]
["05_14","328_90605_1",99708,2,0]
["08_13","329_14716_1",99507,2,0]
["05_14","329_60155_1",99517,2,0]
["05_14","329_88025_2",99706,2,0]
["08_13","33_10161_2",99501,2,0]
["08_13","33_20936_1",99654,2,0]
["05_14","33_59165_2",99516,2,0]
["05_14","33_71140_1",99515,2,0]
["08_13","330_12531_1",99504,2,0]
["05_14","330_59850_1",99654,2,0]
["05_14","330_77925_2",99705,2,0]
["08_13","331_47121_1",44264,2,0]
["05_14","331_69115_1",99654,2,0]
["05_14","331_84755_2",99573,2,0]
["08_13","332_41456_1",99705,2,0]
["05_14","332_63435_2",99674,2,0]
["05_14","332_84675_1",99586,2,0]
["08_13","333_17126_1",99516,2,0]
["05_14","333_57850_2",99577,2,0]
["05_14","333_61850_1",99508,2,0]
["05_14","334_12631_2",99504,2,0]
["08_13","334_29146_1",99501,2,0]
["05_14","334_92075_1",99676,1,1]
["08_13","335_18341_1",99567,2,0]
["05_14","335_61575_2",99517,1,0]
["05_14","335_82140_1",99683,1,1]
["08_13","336_33416_1",99507,2,0]
["05_14","336_51800_2",99515,2,0]
["05_14","336_84405_1",99524,null,0]
["08_13","337_12576_1",99504,2,0]
["05_14","337_50865_1",99515,2,0]
["05_14","337_72850_2",99712,2,0]
["05_14","338_10171_2",99501,2,0]
["08_13","338_15006_1",99508,2,0]
["05_14","338_54295_1",99516,2,0]
["08_13","339_13856_1",99507,2,0]
["05_14","339_41961_1",99705,2,0]
["05_14","339_62150_2",99705,2,0]
["08_13","34_20301_2",99645,2,0]
["08_13","34_45476_1",99674,2,0]
["05_14","34_61765_2",99701,2,0]
["05_14","34_79290_1",99701,2,0]
["08_13","340_32406_1",99507,2,0]
["05_14","340_65325_1",99508,2,0]
["05_14","340_68245_2",99506,2,0]
["05_14","341_16761_2",99516,2,0]
["08_13","341_33666_1",99508,2,0]
["05_14","341_64295_1",99515,2,0]
["08_13","342_33656_1",99508,2,0]
["05_14","342_57195_2",99645,2,0]
["05_14","342_91780_1",99676,1,1]
["08_13","343_13921_1",99507,2,0]
["05_14","343_59860_2",99669,2,0]
["05_14","343_70120_1",99516,2,0]
["05_14","344_20306_2",99645,2,0]
["08_13","344_38676_1",99645,2,0]
["05_14","344_86315_1",99725,2,0]
["08_13","345_19146_1",99577,2,0]
["05_14","345_61545_2",99504,2,0]
["05_14","345_88475_1",99567,2,0]
["08_13","346_10981_1",99502,2,0]
["05_14","346_50950_1",99515,2,0]
["05_14","346_67505_2",99517,2,0]
["05_14","347_34476_1",99508,2,0]
["08_13","347_44891_1",99520,2,0]
["05_14","347_85175_2",99731,2,0]
["08_13","348_22961_1",99705,2,0]
["05_14","348_27891_2",99737,2,0]
["05_14","348_80560_1",99573,2,0]
["05_14","349_19921_2",99645,2,0]
["08_13","349_23466_1",99707,2,0]
["05_14","349_71780_1",99504,2,0]
["08_13","35_30781_1",99503,2,0]
["08_13","35_33371_2",99507,2,0]
["05_14","35_58345_2",99577,2,0]
["05_14","35_75225_1",99518,2,0]
["08_13","350_37256_1",99567,2,0]
["05_14","350_68390_1",99508,2,0]
["05_14","350_78625_2",99623,2,0]
["08_13","351_37496_1",99577,2,0]
["05_14","351_46526_2",99737,2,0]
["05_14","351_90200_1",99708,2,0]
["08_13","352_15691_1",99508,2,0]
["05_14","352_58410_2",99515,1,0]
["05_14","352_86280_1",99645,2,0]
["08_13","353_35311_1",99515,2,0]
["05_14","353_62260_1",99516,2,0]
["05_14","353_85455_2",99731,2,0]
["08_13","354_10891_1",99502,2,0]
["05_14","354_44726_2",{"$error":"#N/A"},2,{"$error":"#N/A"}]
["05_14","354_55370_1",99654,1,0]
["08_13","355_19646_1",99623,2,0]
["05_14","355_50195_1",99504,2,0]
["05_14","355_60245_2",99517,2,0]
["08_13","356_28631_1",89408,2,0]
["05_14","356_58280_1",99577,2,0]
["05_14","356_88275_2",99567,2,0]
["08_13","357_25686_1",99518,2,0]
["05_14","357_63990_2",99712,2,0]
["05_14","357_69955_1",99507,2,0]
["08_13","358_35886_1",99516,2,0]
["05_14","358_65875_1",99517,2,0]
["05_14","358_74735_2",99507,2,0]
["08_13","359_19106_1",99577,2,0]
["05_14","359_73145_2",99504,2,0]
["05_14","359_82960_1",99645,2,0]
["08_13","36_22696_2",99703,2,0]
["08_13","36_45936_1",99705,2,0]
["05_14","36_76890_2",99654,2,0]
["05_14","36_91545_1",99687,2,0]
["08_13","360_40186_1",99687,2,0]
["05_14","360_70995_1",99645,2,0]
["05_14","360_87690_2",99723,2,0]
["05_14","361_32141_1",99504,2,0]
["08_13","361_46576_1",99737,2,0]
["05_14","361_90625_2",99708,2,0]
["05_14","362_29046_1",99501,2,0]
["05_14","362_32846_2",99507,2,0]
["08_13","362_42136_1",99707,2,0]
["08_13","363_27721_1",99712,2,0]
["05_14","363_33916_2",{"$error":"#N/A"},2,{"$error":"#N/A"}]
["05_14","363_72805_1",99501,2,0]
["05_14","364_13236_2",{"$error":"#N/A"},2,{"$error":"#N/A"}]
["08_13","364_14326_1",99507,2,0]
["05_14","364_91730_1",99676,1,1]
["08_13","365_16531_1",99515,2,0]
["05_14","365_82580_1",99645,2,0]
["05_14","365_85160_2",99731,2,0]
["08_13","366_36326_1",99517,2,0]
["05_14","366_52015_1",99654,1,0]
["05_14","366_89360_2",99775,2,0]
["08_13","367_19361_1",99577,2,0]
["05_14","367_53465_2",99708,2,0]
["05_14","367_83950_1",99522,2,0]
["08_13","368_36321_1",99517,2,0]
["05_14","368_59925_2",99515,2,0]
["05_14","368_90445_1",99709,2,0]
["08_13","369_31671_1",99504,2,0]
["05_14","369_76375_2",99654,2,0]
["05_14","369_85975_1",99586,null,0]
["08_13","37_24276_2",99709,2,0]
["08_13","37_40566_1",99687,2,0]
["05_14","37_58695_2",99504,2,0]
["05_14","37_61260_1",99515,2,0]
["08_13","370_11996_1",99504,2,0]
["05_14","370_55170_1",99654,1,0]
["05_14","370_68400_2",99517,2,0]
["08_13","371_35996_1",99516,2,0]
["05_14","371_59585_1",99517,2,0]
["05_14","371_78785_2",99518,2,0]
["08_13","372_16641_1",99515,2,0]
["05_14","372_62335_2",99502,2,0]
["05_14","372_65730_1",99654,2,0]
["08_13","373_18121_1",99518,2,0]
["05_14","373_55315_1",99577,2,0]
["05_14","373_79990_2",99586,2,0]
["08_13","374_16506_1",99515,2,0]
["05_14","374_50130_1",99577,2,0]
["05_14","374_66395_2",99504,2,0]
["08_13","375_23336_1",99705,2,0]
["05_14","375_54420_1",99515,2,0]
["05_14","375_54860_2",99503,2,0]
["08_13","376_21116_1",99654,2,0]
["05_14","376_66030_1",99645,2,0]
["05_14","376_86670_2",99588,2,0]
["08_13","377_26351_1",99587,2,0]
["05_14","377_73075_1",99701,2,0]
["05_14","377_85325_2",99731,2,0]
["08_13","378_43086_1",99709,2,0]
["05_14","378_53570_1",99516,2,0]
["05_14","378_86095_2",99676,1,1]
["08_13","379_36946_1",99518,2,0]
["05_14","379_85630_2",99731,2,0]
["05_14","379_90800_1",99687,2,0]
["08_13","38_11216_2",99502,2,0]
["08_13","38_16411_1",99515,2,0]
["05_14","38_66290_1",99508,2,0]
["05_14","38_77770_2",99502,2,0]
["08_13","380_11296_1",99502,2,0]
["05_14","380_71850_1",99712,2,0]
["05_14","380_82425_2",99573,2,0]
["08_13","381_17686_1",99517,2,0]
["05_14","381_28126_1",99729,1,1]
["05_14","381_85260_2",99731,2,0]
["08_13","382_17201_1",99516,2,0]
["05_14","382_45586_2",99688,2,0]
["05_14","382_53480_1",99645,2,0]
["08_13","383_13761_1",99507,2,0]
["05_14","383_51970_1",99515,2,0]
["05_14","383_67120_2",99507,2,0]
["08_13","384_34516_1",99508,2,0]
["05_14","384_39016_2",99645,2,0]
["05_14","384_65050_1",99712,2,0]
["08_13","385_44501_1",99524,2,0]
["05_14","385_52130_1",99645,null,0]
["05_14","385_82965_2",99586,2,0]
["08_13","386_16051_1",99515,2,0]
["05_14","386_41926_2",{"$error":"#N/A"},2,{"$error":"#N/A"}]
["05_14","386_74365_1",99502,2,0]
["08_13","387_15591_1",99508,2,0]
["05_14","387_87450_1",99705,2,0]
["05_14","387_88395_2",99567,2,0]
["08_13","388_11136_1",99502,2,0]
["05_14","388_41991_2",99705,2,0]
["05_14","388_55410_1",99516,2,0]
["08_13","389_45356_1",99654,2,0]
["05_14","389_60240_2",99577,2,0]
["05_14","389_89100_1",99588,2,0]
["08_13","39_14166_2",99507,2,0]
["08_13","39_35961_1",99516,2,0]
["05_14","39_55665_2",99709,2,0]
["05_14","39_61795_1",99654,2,0]
["08_13","390_41951_1",99705,2,0]
["05_14","390_70040_1",99503,2,0]
["05_14","390_89050_2",99707,2,0]
["08_13","391_14896_1",99508,2,0]
["05_14","391_69495_1",99502,2,0]
["05_14","391_82440_2",99683,1,1]
["08_13","392_11741_1",99503,2,0]
["05_14","392_72695_1",99504,2,0]
["08_13","393_19916_1",99645,2,0]
["05_14","393_67495_1",99502,2,0]
["08_13","394_45971_1",99705,2,0]
["05_14","394_89300_1",99775,1,0]
["08_13","395_33056_1",99507,2,0]
["05_14","395_85345_1",99731,2,0]
["08_13","396_28736_1",99501,2,0]
["05_14","396_91965_1",99503,2,0]
["08_13","397_17331_1",99516,2,0]
["05_14","397_78295_1",99516,2,0]
["08_13","398_20516_1",99645,2,0]
["05_14","398_64115_1",99502,2,0]
["08_13","399_27651_1",99709,2,0]
["05_14","399_74980_1",99623,2,0]
["08_13","4_10276_1",99501,2,0]
["08_13","4_36546_2",{"$error":"#N/A"},2,{"$error":"#N/A"}]
["05_14","4_56070_2",99502,2,0]
["05_14","4_62155_1",99705,2,0]
["08_13","40_35036_1",99515,2,0]
["08_13","40_37121_2",99518,2,0]
["05_14","40_69740_1",99508,2,0]
["05_14","40_89745_2",99577,2,0]
["08_13","400_44301_1",99518,2,0]
["05_14","400_51685_1",99645,2,0]
["05_14","400_91405_2",99687,null,0]
["08_13","401_17841_1",99517,2,0]
["05_14","401_80090_1",99588,2,0]
["08_13","402_27366_1",99705,2,0]
["05_14","402_29901_2",99502,null,0]
["05_14","402_74110_1",99502,2,0]
["08_13","403_12431_1",99504,2,0]
["05_14","403_91720_1",99737,2,0]
["08_13","404_18326_1",99518,2,0]
["05_14","404_52600_2",99515,null,0]
["05_14","404_85065_1",99586,2,0]
["08_13","405_27851_1",99725,2,0]
["05_14","405_81295_1",99509,2,0]
["08_13","406_16401_1",99515,2,0]
["05_14","406_63345_1",99712,2,0]
["08_13","407_15186_1",99508,2,0]
["05_14","407_78590_1",99654,2,0]
["08_13","408_24511_1",99712,2,0]
["05_14","408_57350_1",99577,2,0]
["05_14","408_62785_2",99577,null,0]
["08_13","409_40886_1",99701,2,0]
["05_14","409_69825_2",99577,null,0]
["05_14","409_84765_1",99586,2,0]
["08_13","41_20716_2",99654,2,0]
["08_13","41_22191_1",99701,2,0]
["05_14","41_57110_1",99645,2,0]
["05_14","41_85550_2",99654,2,0]
["05_14","410_27766_2",99712,2,0]
["08_13","410_28101_1",99716,2,0]
["05_14","410_86475_1",99676,1,1]
["08_13","411_25131_1",99507,2,0]
["05_14","411_69995_1",99502,2,0]
["08_13","412_41626_1",99705,2,0]
["05_14","412_63240_1",99507,2,0]
["08_13","413_22811_1",99705,2,0]
["05_14","413_63690_1",99508,2,0]
["08_13","414_28626_1",89085,2,0]
["05_14","414_60835_1",99517,2,0]
["08_13","415_36446_1",99517,2,0]
["05_14","415_54450_1",99623,2,0]
["08_13","416_12631_1",{"$error":"#N/A"},2,{"$error":"#N/A"}]
["05_14","416_71365_1",99501,2,0]
["08_13","417_35416_1",99515,2,0]
["05_14","417_54160_1",99577,2,0]
["08_13","418_19281_1",99577,2,0]
["05_14","418_86455_1",99676,1,1]
["08_13","419_23191_1",99705,2,0]
["05_14","419_57390_1",99687,2,0]
["08_13","42_26756_2",99654,2,0]
["08_13","42_28136_1",99731,2,0]
["05_14","42_50975_1",99515,2,0]
["05_14","42_67330_2",99502,2,0]
["08_13","420_25211_1",99508,2,0]
["05_14","420_78685_1",99705,2,0]
["05_14","421_19556_1",99623,2,0]
["08_13","421_29221_1",99501,2,0]
["08_13","422_43026_1",99709,2,0]
["05_14","422_81740_1",99511,2,0]
["05_14","423_17881_1",99517,2,0]
["08_13","423_22966_1",99705,2,0]
["08_13","424_17026_1",99516,2,0]
["05_14","424_69865_1",99654,2,0]
["08_13","425_17821_1",99517,2,0]
["05_14","425_72955_1",99504,2,0]
["08_13","426_46886_1",99725,2,0]
["05_14","426_53455_1",99516,2,0]
["08_13","427_33836_1",99508,2,0]
["05_14","427_76975_1",99504,2,0]
["08_13","428_12916_1",99504,2,0]
["05_14","428_70035_1",99623,2,0]
["08_13","429_10996_1",99502,2,0]
["05_14","429_65490_1",99705,1,0]
["08_13","43_20576_1",99645,2,0]
["08_13","43_35196_2",99515,2,0]
["05_14","43_51010_1",99709,2,0]
["05_14","43_62400_2",99508,2,0]
["08_13","430_11376_1",99502,2,0]
["05_14","430_83965_1",99522,2,0]
["08_13","431_16826_1",99516,2,0]
["05_14","431_74205_1",99518,2,0]
["08_13","432_46951_1",99740,2,0]
["05_14","432_79450_1",99507,2,0]
["08_13","433_39251_1",99654,2,0]
["05_14","433_83520_1",99588,2,0]
["08_13","434_18631_1",99577,2,0]
["05_14","434_56000_1",99623,null,0]
["08_13","435_39281_1",99654,2,0]
["05_14","435_74750_1",99507,2,0]
["08_13","436_12446_1",99504,2,0]
["05_14","436_55460_1",99504,2,0]
["08_13","437_21166_1",99654,2,0]
["05_14","437_77870_1",99504,2,0]
["08_13","438_32696_1",99507,2,0]
["05_14","438_81830_1",99511,2,0]
["08_13","439_11236_1",99502,2,0]
["05_14","439_86185_1",99573,2,0]
["08_13","44_19801_2",99623,2,0]
["08_13","44_31126_1",99504,2,0]
["05_14","44_50685_1",99623,2,0]
["05_14","44_51830_2",99701,2,0]
["08_13","440_32851_1",99507,2,0]
["05_14","440_51330_1",99701,2,0]
["08_13","441_12001_1",99504,2,0]
["05_14","441_51695_1",99835,2,0]
["08_13","442_36596_1",99517,2,0]
["05_14","442_70105_1",99654,2,0]
["08_13","443_37981_1",99577,2,0]
["05_14","443_91275_1",99687,2,0]
["08_13","444_12341_1",99504,2,0]
["05_14","444_53210_1",99515,2,0]
["08_13","445_17441_1",99517,2,0]
["05_14","445_18331_1",99567,2,0]
["08_13","446_29871_1",99502,2,0]
["05_14","446_71725_1",99507,2,0]
["08_13","447_13156_1",99504,2,0]
["05_14","447_90470_1",99708,2,0]
["08_13","448_20331_1",99645,2,0]
["05_14","448_90090_1",99709,2,0]
["08_13","449_46996_1",99755,2,0]
["05_14","449_82875_1",99729,2,0]
["08_13","45_16936_2",99516,1,0]
["08_13","45_21271_1",99654,2,0]
["05_14","45_59545_2",99577,2,0]
["05_14","45_78325_1",99516,2,0]
["08_13","450_13476_1",99507,2,0]
["05_14","450_62960_1",99517,2,0]
["08_13","451_34911_1",99515,2,0]
["05_14","451_82380_1",99683,2,0]
["08_13","452_16501_1",99515,2,0]
["05_14","452_52435_1",99501,2,0]
["08_13","453_41881_1",99705,2,0]
["05_14","453_90540_1",99708,2,0]
["08_13","454_37461_1",99577,2,0]
["05_14","454_60945_1",99508,2,0]
["08_13","455_46776_1",99780,2,0]
["05_14","455_86245_1",99573,2,0]
["08_13","456_17006_1",99516,2,0]
["05_14","456_77135_1",99504,2,0]
["08_13","457_40786_1",99701,2,0]
["05_14","457_71625_1",99507,2,0]
["08_13","458_20146_1",99645,2,0]
["05_14","458_59785_1",99507,2,0]
["08_13","459_36061_1",99516,2,0]
["05_14","459_63270_1",99516,2,0]
["08_13","46_24556_2",99712,2,0]
["08_13","46_35001_1",99515,2,0]
["05_14","46_53520_1",99516,2,0]
["05_14","46_59100_2",99567,2,0]
["08_13","460_22326_1",99701,2,0]
["05_14","460_90955_1",99687,2,0]
["08_13","461_45146_1",99645,2,0]
["05_14","461_63370_1",99654,2,0]
["08_13","462_10971_1",99502,2,0]
["05_14","462_61175_1",99654,2,0]
["08_13","463_46921_1",99731,2,0]
["05_14","463_80460_1",99573,2,0]
["08_13","464_19881_1",99645,2,0]
["05_14","464_84895_1",99573,2,0]
["08_13","465_17986_1",99518,2,0]
["05_14","465_62530_1",99709,2,0]
["08_13","466_18671_1",99577,2,0]
["05_14","466_88920_1",99707,2,0]
["08_13","467_17961_1",99517,2,0]
["05_14","467_67650_1",99712,2,0]
["08_13","468_28031_1",99780,2,0]
["05_14","468_67605_1",99517,2,0]
["08_13","469_22141_1",99701,2,0]
["05_14","469_58310_1",99709,2,0]
["08_13","47_18151_2",99518,2,0]
["08_13","47_23456_1",99707,2,0]
["05_14","47_58820_2",99504,2,0]
["05_14","47_90355_1",99708,2,0]
["08_13","470_10441_1",99501,2,0]
["05_14","470_67600_1",99515,2,0]
["08_13","471_30001_1",99502,2,0]
["05_14","471_85440_1",99731,2,0]
["08_13","472_28156_1",99740,2,0]
["05_14","472_68325_1",99501,2,0]
["08_13","473_42391_1",99709,2,0]
["05_14","473_88110_1",99676,1,1]
["08_13","474_42381_1",99709,2,0]
["05_14","474_66225_1",99508,2,0]
["08_13","475_14671_1",99507,2,0]
["05_14","475_84795_1",99645,2,0]
["08_13","476_40206_1",99687,2,0]
["05_14","476_66810_1",99502,2,0]
["08_13","477_16346_1",99515,2,0]
["05_14","477_92105_1",99780,2,0]
["08_13","478_39331_1",99654,2,0]
["05_14","478_74795_1",99507,2,0]
["08_13","479_18236_1",99518,2,0]
["05_14","479_84710_1",99586,2,0]
["08_13","48_17931_2",99517,2,0]
["08_13","48_43426_1",99504,2,0]
["05_14","48_75810_1",99507,2,0]
["05_14","48_83640_2",99676,1,1]
["08_13","480_28771_1",99501,2,0]
["05_14","480_82050_1",99729,1,1]
["08_13","481_44871_1",99519,2,0]
["05_14","481_65820_1",99517,2,0]
["08_13","482_42726_1",99709,2,0]
["05_14","482_51125_1",99705,2,0]
["08_13","483_46191_1",99710,2,0]
["05_14","483_68380_1",99709,2,0]
["08_13","484_15111_1",99508,1,0]
["05_14","484_79555_1",99712,2,0]
["08_13","485_34406_1",99508,2,0]
["05_14","485_89400_1",99776,null,0]
["08_13","486_21036_1",99654,2,0]
["05_14","486_59750_1",99567,2,0]
["08_13","487_15631_1",99508,2,0]
["05_14","487_50310_1",99645,2,0]
["08_13","488_30551_1",99503,2,0]
["05_14","488_54105_1",99518,2,0]
["08_13","489_27306_1",99702,2,0]
["05_14","489_81980_1",99729,1,1]
["08_13","49_11366_2",99502,2,0]
["08_13","49_17381_1",99516,2,0]
["05_14","49_68140_1",99701,2,0]
["05_14","49_89065_2",99707,2,0]
["08_13","490_12406_1",99504,2,0]
["05_14","490_86210_1",99780,2,0]
["08_13","491_15611_1",99508,2,0]
["05_14","491_57770_1",99577,2,0]
["08_13","492_30186_1",99502,2,0]
["05_14","492_33291_1",99507,2,0]
["08_13","493_32436_1",99507,2,0]
["05_14","493_71750_1",99684,2,0]
["08_13","494_27906_1",99737,2,0]
["05_14","494_66455_1",99504,2,0]
["08_13","495_36616_1",99517,2,0]
["05_14","495_88220_1",99676,1,1]
["08_13","496_18146_1",99518,2,0]
["05_14","496_61005_1",99654,2,0]
["08_13","497_37451_1",99577,2,0]
["05_14","497_59630_1",99517,2,0]
["08_13","498_19356_1",99577,2,0]
["05_14","498_52050_1",99709,2,0]
["08_13","499_24266_1",99709,2,0]
["05_14","499_58360_1",99577,2,0]
["08_13","5_18566_2",99577,2,0]
["08_13","5_37086_1",99518,2,0]
["05_14","5_54800_2",99623,2,0]
["05_14","5_77110_1",99502,1,0]
["08_13","50_15866_1",99508,2,0]
["08_13","50_23016_2",99705,2,0]
["05_14","50_56015_1",99504,2,0]
["05_14","50_86275_2",99676,1,1]
["08_13","500_21241_1",99654,2,0]
["05_14","500_63840_1",99517,2,0]
["08_13","501_36851_1",99518,2,0]
["05_14","501_51890_1",99515,2,0]
["08_13","502_39101_1",99645,2,0]
["05_14","502_80545_1",99573,2,0]
["08_13","503_18681_1",99577,2,0]
["05_14","503_63025_1",99508,2,0]
["08_13","504_41671_1",99705,2,0]
["05_14","504_59435_1",99577,2,0]
["08_13","505_17171_1",99516,2,0]
["05_14","505_65275_1",99705,2,0]
["08_13","506_37371_1",99577,2,0]
["05_14","506_91200_1",99687,2,0]
["08_13","507_18011_1",99518,2,0]
["05_14","507_85030_1",99645,2,0]
["08_13","508_13061_1",99504,2,0]
["05_14","508_52340_1",99507,2,0]
["08_13","509_28316_1",98844,2,0]
["05_14","509_90130_1",99708,2,0]
["08_13","51_24826_1",99712,2,0]
["08_13","51_33046_2",99507,2,0]
["05_14","51_76055_2",99709,2,0]
["05_14","51_78465_1",99504,2,0]
["08_13","510_24756_1",99712,2,0]
["05_14","510_66380_1",99709,2,0]
["08_13","511_25111_1",99507,2,0]
["05_14","511_62330_1",99508,2,0]
["08_13","512_26731_1",99654,2,0]
["05_14","512_89545_1",99776,2,0]
["08_13","513_46791_1",99780,2,0]
["05_14","513_77345_1",99504,2,0]
["08_13","514_33091_1",99507,2,0]
["05_14","514_64100_1",99504,2,0]
["08_13","515_20531_1",99645,2,0]
["05_14","515_82300_1",99683,1,1]
["08_13","516_44481_1",99524,2,0]
["05_14","516_86715_1",99702,2,0]
["08_13","517_15091_1",99508,2,0]
["05_14","517_62030_1",99504,2,0]
["08_13","518_44621_1",99567,1,0]
["05_14","518_82340_1",99683,1,1]
["08_13","519_42271_1",99708,2,0]
["05_14","519_53425_1",99516,2,0]
["08_13","52_11071_1",99502,2,0]
["08_13","52_39741_2",99654,2,0]
["05_14","52_59635_1",99502,2,0]
["05_14","52_80425_2",99573,2,0]
["08_13","520_37026_1",99518,2,0]
["05_14","520_90585_1",99645,2,0]
["08_13","521_44166_1",99515,2,0]
["05_14","521_88020_1",99588,2,0]
["08_13","522_12616_1",99504,null,0]
["05_14","522_77255_1",99504,2,0]
["08_13","523_16891_1",99516,2,0]
["05_14","523_57970_1",99577,2,0]
["08_13","524_23356_1",99707,2,0]
["05_14","524_80825_1",99573,2,0]
["08_13","525_32226_1",99504,2,0]
["05_14","525_67485_1",99504,2,0]
["08_13","526_22301_1",99701,2,0]
["05_14","526_80310_1",99586,2,0]
["08_13","527_42521_1",99709,2,0]
["05_14","527_51020_1",99515,2,0]
["08_13","528_14441_1",99507,2,0]
["05_14","528_68965_1",99508,2,0]
["08_13","529_31656_1",99504,2,0]
["05_14","529_66990_1",99705,2,0]
["08_13","53_13271_2",99504,2,0]
["08_13","53_14481_1",99507,2,0]
["05_14","53_69520_2",99507,2,0]
["05_14","53_90510_1",99708,2,0]
["08_13","530_11501_1",99503,2,0]
["05_14","530_58460_1",99577,2,0]
["08_13","531_27511_1",99708,2,0]
["05_14","531_50850_1",99515,2,0]
["08_13","532_13546_1",99507,2,0]
["05_14","532_62350_1",99654,2,0]
["08_13","533_31461_1",99504,2,0]
["05_14","533_83000_1",99729,1,1]
["08_13","534_46361_1",99712,2,0]
["05_14","534_77725_1",99502,2,0]
["08_13","535_43441_1",99504,2,0]
["05_14","535_62650_1",99507,2,0]
["08_13","536_11326_1",99502,2,0]
["05_14","536_62560_1",99502,2,0]
["08_13","537_26561_1",99652,2,0]
["05_14","537_69405_1",99669,2,0]
["08_13","538_14371_1",99507,2,0]
["05_14","538_83800_1",99521,2,0]
["08_13","539_17716_1",99517,2,0]
["05_14","539_86705_1",99588,2,0]
["08_13","54_19441_2",99577,2,0]
["08_13","54_37001_1",99518,2,0]
["05_14","54_55760_1",99508,2,0]
["05_14","54_66905_2",99701,2,0]
["08_13","540_11556_1",99503,2,0]
["05_14","540_53400_1",99515,2,0]
["08_13","541_27726_1",{"$error":"#N/A"},2,{"$error":"#N/A"}]
["05_14","541_84015_1",99522,2,0]
["05_14","542_15116_1",99508,2,0]
["08_13","542_39366_1",99654,2,0]
["05_14","543_14681_1",99507,2,0]
["08_13","543_38651_1",99645,2,0]
["08_13","544_31416_1",99504,2,0]
["05_14","544_89325_1",99688,2,0]
["08_13","545_18696_1",99577,2,0]
["05_14","545_79805_1",99507,2,0]
["08_13","546_29701_1",99502,null,0]
["05_14","546_88215_1",99588,2,0]
["08_13","547_18061_1",99518,2,0]
["05_14","547_83145_1",99645,2,0]
["08_13","548_43316_1",99503,2,0]
["05_14","548_83405_1",99645,2,0]
["08_13","549_23716_1",99709,2,0]
["05_14","549_53710_1",99515,2,0]
["08_13","55_13931_2",99507,2,0]
["08_13","55_46341_1",99712,2,0]
["05_14","55_63120_2",99515,2,0]
["05_14","55_70685_1",99516,2,0]
["08_13","550_34111_1",99508,2,0]
["05_14","550_62490_1",99507,2,0]
["08_13","551_24026_1",99709,2,0]
["05_14","551_57705_1",99507,2,0]
["08_13","552_27011_1",99687,2,0]
["05_14","552_83195_1",99573,2,0]
["08_13","553_40286_1",99687,2,0]
["05_14","553_53615_1",99515,2,0]
["08_13","554_45411_1",99654,2,0]
["05_14","554_71015_1",99654,2,0]
["08_13","555_24506_1",99712,2,0]
["05_14","555_57735_1",99515,2,0]
["08_13","556_40256_1",99687,2,0]
["05_14","556_50755_1",99577,2,0]
["08_13","557_15791_1",99508,2,0]
["05_14","557_69540_1",99709,2,0]
["08_13","558_32566_1",99507,2,0]
["05_14","558_62835_1",99567,2,0]
["05_14","559_12716_1",99504,2,0]
["08_13","559_30766_1",99503,2,0]
["08_13","56_14591_2",99507,2,0]
["08_13","56_46591_1",99737,2,0]
["05_14","56_65825_2",99515,2,0]
["05_14","56_69245_1",99515,2,0]
["08_13","560_45031_1",99588,2,0]
["05_14","560_67670_1",99703,2,0]
["08_13","561_15361_1",99508,2,0]
["05_14","561_60665_1",99701,2,0]
["08_13","562_20421_1",99645,2,0]
["05_14","562_89085_1",99707,2,0]
["08_13","563_15291_1",99508,1,0]
["05_14","563_16526_1",99515,2,0]
["08_13","564_44576_1",99567,2,0]
["05_14","564_66025_1",99645,2,0]
["08_13","565_26851_1",99674,2,0]
["05_14","565_77430_1",99501,2,0]
["08_13","566_27391_1",99706,2,0]
["05_14","566_61695_1",99705,2,0]
["08_13","567_45591_1",99688,1,1]
["05_14","567_53260_1",99501,2,0]
["08_13","568_44001_1",99511,2,0]
["05_14","568_60350_1",99504,2,0]
["08_13","569_26001_1",99524,2,0]
["05_14","569_53170_1",99515,2,0]
["08_13","57_13406_2",99506,2,0]
["08_13","57_23556_1",99708,2,0]
["05_14","57_71760_2",99516,2,0]
["05_14","57_78910_1",99504,1,0]
["08_13","570_12646_1",99504,2,0]
["05_14","570_86930_1",99676,1,1]
["08_13","571_16966_1",99516,2,0]
["05_14","571_79710_1",99515,2,0]
["08_13","572_12236_1",99504,2,0]
["05_14","572_64040_1",99709,2,0]
["08_13","573_25396_1",99514,2,0]
["05_14","573_90905_1",99687,2,0]
["08_13","574_17591_1",99517,2,0]
["05_14","574_77875_1",99504,2,0]
["08_13","575_18586_1",99577,2,0]
["05_14","575_77265_1",99701,2,0]
["08_13","576_21556_1",99687,2,0]
["05_14","576_85115_1",99780,2,0]
["08_13","577_23501_1",99707,2,0]
["05_14","577_88250_1",99567,2,0]
["08_13","578_10761_1",99502,2,0]
["05_14","578_53340_1",99515,2,0]
["08_13","579_25151_1",99507,2,0]
["05_14","579_50510_1",99712,2,0]
["08_13","58_15241_1",99508,2,0]
["08_13","58_15836_2",99508,2,0]
["05_14","58_56475_1",99516,2,0]
["05_14","58_60540_2",99508,2,0]
["08_13","580_15606_1",99508,2,0]
["05_14","580_69465_1",99503,2,0]
["08_13","581_20021_1",99645,2,0]
["05_14","581_57455_1",99701,2,0]
["08_13","582_17236_1",99516,2,0]
["05_14","582_82250_1",99683,1,1]
["08_13","583_36676_1",99517,2,0]
["05_14","583_76230_1",99507,2,0]
["08_13","584_41011_1",99701,2,0]
["05_14","584_72150_1",99645,2,0]
["08_13","585_37796_1",99577,2,0]
["05_14","585_87685_1",99588,2,0]
["08_13","586_15696_1",99508,2,0]
["05_14","586_52205_1",99577,2,0]
["08_13","587_45566_1",99688,2,0]
["05_14","587_61170_1",99507,2,0]
["08_13","588_44416_1",99522,2,0]
["05_14","588_78355_1",99507,2,0]
["08_13","589_18006_1",99518,2,0]
["05_14","589_88360_1",99567,2,0]
["08_13","59_13361_2",99506,2,0]
["08_13","59_46961_1",99740,2,0]
["05_14","59_57840_1",99516,2,0]
["05_14","59_77640_2",99504,2,0]
["08_13","590_19781_1",99623,2,0]
["05_14","590_52460_1",99654,2,0]
["08_13","591_23451_1",99707,2,0]
["05_14","591_75400_1",99502,2,0]
["08_13","592_17276_1",99516,2,0]
["05_14","592_79635_1",99507,2,0]
["08_13","593_22201_1",99701,2,0]
["05_14","593_52680_1",99504,2,0]
["08_13","594_22991_1",99705,2,0]
["05_14","594_79505_1",99515,2,0]
["08_13","595_30141_1",99502,2,0]
["05_14","595_92145_1",99645,2,0]
["08_13","596_33986_1",99508,2,0]
["05_14","596_79245_1",99518,2,0]
["08_13","597_14841_1",99508,2,0]
["05_14","597_64910_1",99517,2,0]
["08_13","598_40626_1",99687,2,0]
["05_14","598_83490_1",99520,2,0]
["08_13","599_36546_1",99517,2,0]
["05_14","599_64555_1",99504,2,0]
["08_13","6_34666_2",99508,2,0]
["08_13","6_37471_1",99577,2,0]
["05_14","6_51080_2",99516,2,0]
["05_14","6_90715_1",99687,2,0]
["08_13","60_18901_1",99577,2,0]
["08_13","60_25266_2",99509,2,0]
["05_14","60_82390_1",99517,2,0]
["05_14","60_86800_2",99645,2,0]
["08_13","600_45536_1",99676,1,1]
["05_14","600_57965_1",99645,2,0]
["08_13","601_19031_1",99577,2,0]
["05_14","601_74320_1",99518,2,0]
["08_13","602_37946_1",99577,2,0]
["05_14","602_43486_1",99504,2,0]
["08_13","603_42091_1",99707,2,0]
["05_14","603_74885_1",99709,2,0]
["08_13","604_14456_1",99507,2,0]
["05_14","604_87930_1",99706,2,0]
["08_13","605_12121_1",99504,2,0]
["05_14","605_78025_1",99502,2,0]
["08_13","606_14306_1",99507,2,0]
["05_14","606_54470_1",99515,2,0]
["08_13","607_17996_1",99518,2,0]
["05_14","607_61115_1",99507,2,0]
["08_13","608_42431_1",99709,2,0]
["05_14","608_69835_1",99709,2,0]
["08_13","609_33041_1",99507,2,0]
["05_14","609_51270_1",99515,2,0]
["08_13","61_22236_1",99701,2,0]
["08_13","61_38626_2",99645,1,1]
["05_14","61_70055_2",99654,2,0]
["05_14","61_75930_1",99504,2,0]
["08_13","610_29401_1",99501,2,0]
["05_14","610_82475_1",99683,2,0]
["08_13","611_29631_1",99502,2,0]
["05_14","611_63850_1",99705,2,0]
["08_13","612_19001_1",99577,2,0]
["05_14","612_59415_1",99577,2,0]
["08_13","613_17351_1",99516,2,0]
["05_14","613_88230_1",99729,1,1]
["08_13","614_27811_1",99714,2,0]
["05_14","614_58710_1",99516,1,0]
["08_13","615_42971_1",99709,2,0]
["05_14","615_85780_1",99676,1,1]
["08_13","616_27241_1",99694,2,0]
["05_14","616_91815_1",99587,2,0]
["08_13","617_12761_1",99504,2,0]
["05_14","617_17911_1",99517,2,0]
["08_13","618_28831_1",99501,2,0]
["05_14","618_91450_1",99687,1,0]
["08_13","619_12351_1",99504,2,0]
["05_14","619_57930_1",99577,2,0]
["08_13","62_24606_2",99712,2,0]
["08_13","62_25216_1",99508,2,0]
["05_14","62_87085_2",99652,2,0]
["05_14","62_90045_1",99708,2,0]
["08_13","620_44516_1",99524,2,0]
["05_14","620_66200_1",99705,2,0]
["08_13","621_28351_1",23185,2,0]
["05_14","621_91520_1",99687,2,0]
["08_13","622_21906_1",99701,2,0]
["05_14","622_52160_1",99515,2,0]
["08_13","623_11056_1",99502,2,0]
["05_14","623_89175_1",99588,2,0]
["08_13","624_13591_1",99507,1,0]
["05_14","624_88515_1",99567,2,0]
["08_13","625_21251_1",99654,2,0]
["05_14","625_64905_1",99508,2,0]
["08_13","626_12046_1",99504,2,0]
["05_14","626_91485_1",99654,null,0]
["08_13","627_11421_1",99502,2,0]
["05_14","627_65610_1",99645,2,0]
["05_14","628_10591_1",99501,2,0]
["08_13","628_34751_1",99515,2,0]
["08_13","629_29711_1",99502,2,0]
["05_14","629_72925_1",99503,2,0]
["08_13","63_36126_2",99516,2,0]
["08_13","63_41016_1",99701,2,0]
["05_14","63_63775_2",99577,2,0]
["05_14","63_69120_1",99508,2,0]
["08_13","630_15346_1",99508,2,0]
["05_14","630_60285_1",99501,2,0]
["08_13","631_16836_1",99516,2,0]
["05_14","631_84720_1",99573,2,0]
["08_13","632_38011_1",99577,2,0]
["05_14","632_54175_1",99709,2,0]
["08_13","633_22536_1",99701,2,0]
["05_14","633_78865_1",99502,2,0]
["08_13","634_10821_1",99502,2,0]
["05_14","634_73955_1",99645,2,0]
["08_13","635_44901_1",99520,2,0]
["05_14","635_87850_1",99706,2,0]
["08_13","636_17476_1",99517,2,0]
["05_14","636_61910_1",99709,2,0]
["08_13","637_38821_1",99645,2,0]
["05_14","637_58380_1",99654,2,0]
["08_13","638_39186_1",99645,2,0]
["05_14","638_60335_1",99504,2,0]
["08_13","639_40336_1",99687,2,0]
["05_14","639_40486_1",99687,2,0]
["08_13","64_28321_2",99801,2,0]
["08_13","64_35576_1",99516,2,0]
["05_14","64_58240_2",99502,2,0]
["05_14","64_80360_1",99573,2,0]
["08_13","640_27956_1",99737,2,0]
["05_14","640_84610_1",99524,2,0]
["08_13","641_24481_1",99712,2,0]
["05_14","641_60575_1",99504,2,0]
["08_13","642_19056_1",99577,2,0]
["05_14","642_66235_1",99654,2,0]
["08_13","643_21041_1",{"$error":"#N/A"},2,{"$error":"#N/A"}]
["05_14","643_56035_1",99501,2,0]
["08_13","644_15171_1",99508,2,0]
["05_14","644_52235_1",99701,2,0]
["08_13","645_21161_1",99654,2,0]
["05_14","645_85470_1",99731,2,0]
["08_13","646_12666_1",99504,2,0]
["05_14","646_58630_1",99577,2,0]
["08_13","647_18931_1",99577,2,0]
["05_14","647_45531_1",99676,1,1]
["08_13","648_27041_1",99687,2,0]
["05_14","648_62930_1",99654,2,0]
["08_13","649_18316_1",99518,2,0]
["05_14","649_62945_1",99516,2,0]
["08_13","65_24516_2",99712,2,0]
["08_13","65_42966_1",99709,2,0]
["05_14","65_73240_2",99504,2,0]
["05_14","65_82555_1",99737,2,0]
["08_13","650_25801_1",99521,2,0]
["05_14","650_74490_1",99654,2,0]
["08_13","651_17541_1",99517,2,0]
["05_14","651_90675_1",99708,2,0]
["08_13","652_17396_1",99517,2,0]
["05_14","652_56585_1",99577,2,0]
["08_13","653_44461_1",99522,2,0]
["05_14","653_87875_1",99676,1,1]
["08_13","654_11526_1",99503,2,0]
["05_14","654_81970_1",99737,2,0]
["08_13","655_38806_1",99645,2,0]
["05_14","655_74675_1",99577,2,0]
["08_13","656_30131_1",99502,2,0]
["05_14","656_84200_1",99507,2,0]
["08_13","657_12106_1",99504,2,0]
["05_14","657_75130_1",99518,2,0]
["08_13","658_25671_1",99518,2,0]
["05_14","658_51510_1",99516,2,0]
["08_13","659_29786_1",99502,2,0]
["05_14","659_75960_1",99504,2,0]
["08_13","66_23151_1",99705,2,0]
["08_13","66_38531_2",99645,2,0]
["05_14","66_51535_1",99577,2,0]
["05_14","66_51680_2",99577,2,0]
["08_13","660_11021_1",99502,2,0]
["05_14","660_86665_1",99729,1,1]
["08_13","661_13136_1",99504,2,0]
["05_14","661_90460_1",99708,2,0]
["08_13","662_24291_1",99709,2,0]
["05_14","662_87040_1",99652,2,0]
["08_13","663_13601_1",99507,2,0]
["05_14","663_15646_1",99508,2,0]
["08_13","664_24501_1",99712,2,0]
["05_14","664_58575_1",99508,2,0]
["08_13","665_13466_1",99507,2,0]
["05_14","665_79700_1",99507,2,0]
["08_13","666_20676_1",99645,2,0]
["05_14","666_86820_1",99676,1,1]
["08_13","667_42576_1",99709,2,0]
["05_14","667_55730_1",99712,2,0]
["08_13","668_18451_1",99567,2,0]
["05_14","668_52060_1",99516,2,0]
["08_13","669_23566_1",99708,2,0]
["05_14","669_73855_1",99712,2,0]
["08_13","67_15621_2",99508,2,0]
["08_13","67_20841_1",99654,1,0]
["05_14","67_64075_1",99654,2,0]
["05_14","67_64780_2",99712,2,0]
["08_13","670_13106_1",99504,2,0]
["05_14","670_89000_1",99707,2,0]
["08_13","671_28016_1",99780,2,0]
["05_14","671_62225_1",99686,2,0]
["08_13","672_14181_1",99507,2,0]
["05_14","672_80740_1",99573,2,0]
["05_14","673_32091_1",99504,2,0]
["08_13","673_39966_1",99654,2,0]
["08_13","674_37691_1",99577,2,0]
["05_14","674_86830_1",99645,2,0]
["08_13","675_14171_1",99507,2,0]
["05_14","675_70240_1",99502,2,0]
["05_14","676_33151_1",99507,2,0]
["08_13","676_40356_1",99687,2,0]
["08_13","677_24841_1",99502,2,0]
["05_14","677_90050_1",99708,2,0]
["08_13","678_45876_1",99705,2,0]
["05_14","678_77565_1",99507,2,0]
["08_13","679_20121_1",99645,2,0]
["05_14","679_64260_1",99654,2,0]
["08_13","68_24596_1",99712,2,0]
["08_13","68_38856_2",99645,2,0]
["05_14","68_87335_2",99674,2,0]
["05_14","68_87915_1",99706,2,0]
["08_13","680_38096_1",99577,2,0]
["05_14","680_90685_1",99708,2,0]
["08_13","681_46686_1",99743,2,0]
["05_14","681_62360_1",99508,2,0]
["05_14","682_23021_1",99705,2,0]
["08_13","682_25156_1",99507,2,0]
["08_13","683_15441_1",99508,2,0]
["05_14","683_68395_1",99504,2,0]
["08_13","684_20461_1",99645,2,0]
["05_14","684_52320_1",99645,2,0]
["08_13","685_35256_1",99515,2,0]
["05_14","685_64985_1",99503,2,0]
["08_13","686_45136_1",99645,2,0]
["05_14","686_72645_1",99510,2,0]
["08_13","687_38591_1",99645,2,0]
["05_14","687_81000_1",99688,1,1]
["08_13","688_14286_1",99507,2,0]
["05_14","688_69040_1",99504,2,0]
["08_13","689_25271_1",99509,2,0]
["05_14","689_60610_1",99517,2,0]
["08_13","69_19721_2",99623,2,0]
["08_13","69_43191_1",99712,2,0]
["05_14","69_77105_2",99504,2,0]
["05_14","69_88340_1",99567,2,0]
["08_13","690_46396_1",99712,2,0]
["05_14","690_74610_1",99507,2,0]
["08_13","691_15386_1",99508,2,0]
["05_14","691_59455_1",99501,2,0]
["08_13","692_34016_1",99508,2,0]
["05_14","692_87925_1",99706,2,0]
["08_13","693_24541_1",99712,2,0]
["05_14","693_42096_1",99707,2,0]
["08_13","694_12016_1",99504,2,0]
["05_14","694_80045_1",99588,1,1]
["08_13","695_39671_1",99654,2,0]
["05_14","695_81195_1",99587,2,0]
["08_13","696_35221_1",99515,2,0]
["05_14","696_53975_1",99705,2,0]
["08_13","697_12026_1",99504,2,0]
["05_14","697_51190_1",99501,2,0]
["08_13","698_37356_1",99577,2,0]
["05_14","698_85490_1",99731,null,0]
["08_13","699_35171_1",99515,2,0]
["05_14","699_72235_1",99504,2,0]
["08_13","7_17491_2",99517,2,0]
["08_13","7_31906_1",99504,2,0]
["05_14","7_76855_1",99502,2,0]
["05_14","7_85940_2",99645,2,0]
["08_13","70_20206_1",99645,2,0]
["08_13","70_24196_2",99709,2,0]
["05_14","70_53075_2",99501,2,0]
["05_14","70_72905_1",99709,2,0]
["08_13","700_11276_1",99502,2,0]
["05_14","700_61390_1",99515,2,0]
["08_13","701_12426_1",99504,2,0]
["05_14","701_60845_1",99645,2,0]
["08_13","702_31526_1",99504,2,0]
["05_14","702_65965_1",99654,2,0]
["08_13","703_31236_1",99504,2,0]
["05_14","703_90115_1",99708,2,0]
["08_13","704_46151_1",99710,2,0]
["05_14","704_86885_1",99676,1,1]
["08_13","705_33471_1",99507,2,0]
["05_14","705_57215_1",99577,2,0]
["08_13","706_30056_1",99502,2,0]
["05_14","706_72875_1",99504,2,0]
["08_13","707_15081_1",99508,2,0]
["05_14","707_56025_1",99709,2,0]
["08_13","708_40871_1",99701,2,0]
["05_14","708_85130_1",99676,2,0]
["08_13","709_36406_1",99517,2,0]
["05_14","709_67870_1",99645,2,0]
["08_13","71_17646_2",99517,2,0]
["08_13","71_39256_1",99654,2,0]
["05_14","71_60295_1",99513,2,0]
["05_14","71_64950_2",99501,2,0]
["08_13","710_17301_1",99516,2,0]
["05_14","710_88165_1",99587,2,0]
["08_13","711_20051_1",99645,2,0]
["05_14","711_56270_1",99709,2,0]
["08_13","712_44721_1",99577,2,0]
["05_14","712_82790_1",99729,2,0]
["08_13","713_12876_1",99504,2,0]
["05_14","713_91070_1",99687,2,0]
["08_13","714_16431_1",99515,2,0]
["05_14","714_73440_1",99502,2,0]
["08_13","715_44941_1",99523,2,0]
["05_14","715_88530_1",99676,1,1]
["08_13","716_10376_1",99501,2,0]
["05_14","716_55900_1",99508,2,0]
["08_13","717_15496_1",99508,2,0]
["05_14","717_29636_1",99502,2,0]
["08_13","718_18171_1",99518,2,0]
["05_14","718_90215_1",99708,2,0]
["08_13","719_38026_1",99577,2,0]
["05_14","719_58340_1",99709,2,0]
["08_13","72_19956_1",99645,2,0]
["08_13","72_26746_2",99654,2,0]
["05_14","72_73960_2",99504,2,0]
["05_14","72_79205_1",99709,2,0]
["08_13","720_25846_1",99521,2,0]
["05_14","720_78075_1",99502,2,0]
["08_13","721_27176_1",99629,2,0]
["05_14","721_90705_1",99729,1,1]
["08_13","722_17321_1",99516,2,0]
["05_14","722_58470_1",99577,2,0]
["08_13","723_27431_1",99706,2,0]
["05_14","723_56020_1",99654,2,0]
["08_13","724_14751_1",99507,2,0]
["05_14","724_54465_1",99516,2,0]
["08_13","725_44636_1",99567,2,0]
["05_14","725_46036_1",99708,2,0]
["08_13","726_28496_1",75964,2,0]
["05_14","726_65790_1",99504,2,0]
["08_13","727_21011_1",99654,2,0]
["05_14","727_68520_1",99623,1,0]
["08_13","728_10851_1",99502,2,0]
["05_14","728_53060_1",99515,2,0]
["08_13","729_47046_1",22903,2,0]
["05_14","729_53575_1",99515,2,0]
["08_13","73_20176_1",99645,2,0]
["08_13","73_41391_2",99703,2,0]
["05_14","73_67730_2",99654,2,0]
["05_14","73_80245_1",99586,2,0]
["08_13","730_11476_1",99503,2,0]
["05_14","730_75205_1",99507,2,0]
["08_13","731_18886_1",99577,2,0]
["05_14","731_73925_1",99507,2,0]
["08_13","732_42526_1",99709,2,0]
["05_14","732_83615_1",99729,1,1]
["08_13","733_23106_1",99705,2,0]
["05_14","733_51660_1",99577,2,0]
["08_13","734_23391_1",99707,2,0]
["05_14","734_90085_1",99518,2,0]
["08_13","735_17431_1",99517,2,0]
["05_14","735_82215_1",99683,2,0]
["08_13","736_17776_1",99517,2,0]
["05_14","736_86205_1",99573,2,0]
["08_13","737_11041_1",99502,2,0]
["05_14","737_57130_1",99507,2,0]
["08_13","738_19411_1",99577,2,0]
["05_14","738_69565_1",99503,2,0]
["08_13","739_35876_1",99516,2,0]
["05_14","739_57575_1",99577,2,0]
["08_13","74_10486_1",99501,2,0]
["08_13","74_15236_2",99508,2,0]
["05_14","74_84300_1",99523,2,0]
["05_14","74_86015_2",99573,2,0]
["08_13","740_43661_1",99506,2,0]
["05_14","740_53610_1",99516,2,0]
["08_13","741_10021_1",99501,2,0]
["05_14","741_51515_1",99705,2,0]
["08_13","742_34271_1",99508,2,0]
["05_14","742_62975_1",99709,2,0]
["08_13","743_29706_1",99502,2,0]
["05_14","743_69195_1",99701,2,0]
["08_13","744_14856_1",99508,2,0]
["05_14","744_69505_1",99516,2,0]
["08_13","745_34491_1",99508,2,0]
["05_14","745_65555_1",99709,2,0]
["08_13","746_38621_1",99645,2,0]
["05_14","746_85015_1",99743,2,0]
["08_13","747_14176_1",99507,2,0]
["05_14","747_69940_1",99507,2,0]
["08_13","748_12261_1",99504,2,0]
["05_14","748_40631_1",99687,2,0]
["08_13","749_29816_1",99502,2,0]
["05_14","749_91840_1",99509,2,0]
["08_13","75_15521_1",99508,2,0]
["08_13","75_24741_2",99712,2,0]
["05_14","75_79355_1",99701,2,0]
["05_14","75_89870_2",99573,2,0]
["05_14","750_31786_1",99504,2,0]
["08_13","750_34601_1",99508,2,0]
["08_13","751_16311_1",99515,2,0]
["05_14","751_59240_1",99577,2,0]
["08_13","752_10246_1",99501,2,0]
["05_14","752_56335_1",99645,2,0]
["08_13","753_41666_1",99705,2,0]
["05_14","753_91805_1",99674,2,0]
["08_13","754_16541_1",99515,2,0]
["05_14","754_67410_1",99516,2,0]
["08_13","755_26176_1",99567,2,0]
["05_14","755_79850_1",99515,2,0]
["08_13","756_30771_1",99503,2,0]
["05_14","756_54655_1",99654,2,0]
["08_13","757_13716_1",99507,1,0]
["05_14","757_61455_1",99501,2,0]
["08_13","758_37751_1",99577,2,0]
["05_14","758_61060_1",99504,2,0]
["08_13","759_22856_1",99705,2,0]
["05_14","759_62800_1",99709,2,0]
["08_13","76_21616_2",99687,2,0]
["08_13","76_27746_1",99712,2,0]
["05_14","76_81015_1",99688,1,1]
["05_14","76_91290_2",99687,2,0]
["08_13","760_35011_1",99515,2,0]
["05_14","760_80105_1",99504,2,0]
["08_13","761_20916_1",99654,2,0]
["05_14","761_25286_1",99511,2,0]
["08_13","762_26056_1",99524,2,0]
["05_14","762_59035_1",99516,2,0]
["05_14","763_25051_1",99505,2,0]
["08_13","763_36896_1",99518,null,0]
["08_13","764_43561_1",99505,2,0]
["05_14","764_52820_1",99501,2,0]
["08_13","765_13811_1",99507,2,0]
["05_14","765_51295_1",99516,2,0]
["08_13","766_18226_1",99518,2,0]
["05_14","766_62990_1",99517,2,0]
["08_13","767_16991_1",99516,2,0]
["05_14","767_82200_1",99683,2,0]
["08_13","768_32781_1",99507,2,0]
["05_14","768_51130_1",99709,2,0]
["08_13","769_12561_1",99504,2,0]
["05_14","769_73910_1",99507,2,0]
["08_13","77_13956_2",99507,2,0]
["08_13","77_32106_1",99504,2,0]
["05_14","77_55890_2",99501,2,0]
["05_14","77_64920_1",99508,2,0]
["08_13","770_22296_1",99701,2,0]
["05_14","770_57950_1",99577,2,0]
["08_13","771_16206_1",99515,2,0]
["05_14","771_77355_1",99518,2,0]
["08_13","772_19036_1",99577,2,0]
["05_14","772_84640_1",99725,2,0]
["08_13","773_12411_1",99504,2,0]
["05_14","773_68940_1",99508,null,0]
["08_13","774_19496_1",99623,2,0]
["05_14","774_62605_1",99504,2,0]
["05_14","775_22546_1",99701,2,0]
["08_13","775_34546_1",99508,2,0]
["08_13","776_33761_1",99508,2,0]
["05_14","776_84120_1",99737,2,0]
["08_13","777_15536_1",99508,2,0]
["05_14","777_66675_1",99515,2,0]
["08_13","778_15926_1",99515,2,0]
["05_14","778_62630_1",99507,2,0]
["08_13","779_35866_1",99516,2,0]
["05_14","779_76160_1",99504,2,0]
["08_13","78_14701_1",99507,null,0]
["08_13","78_38861_2",99645,2,0]
["05_14","78_74825_2",99516,2,0]
["05_14","78_79435_1",99507,2,0]
["08_13","780_16061_1",99515,2,0]
["05_14","780_50615_1",99712,2,0]
["08_13","781_16956_1",99516,2,0]
["05_14","781_61140_1",99515,2,0]
["08_13","782_13946_1",99507,2,0]
["05_14","782_66745_1",99503,2,0]
["08_13","783_12626_1",99504,2,0]
["05_14","783_52525_1",99516,2,0]
["08_13","784_18996_1",99577,2,0]
["05_14","784_53680_1",99516,2,0]
["08_13","785_26921_1",99687,2,0]
["05_14","785_79270_1",99654,2,0]
["08_13","786_13691_1",99507,2,0]
["05_14","786_76195_1",99502,2,0]
["08_13","787_16341_1",99515,2,0]
["05_14","787_77575_1",99508,2,0]
["08_13","788_35971_1",99516,2,0]
["05_14","788_77275_1",99504,2,0]
["08_13","789_34026_1",99508,2,0]
["05_14","789_43256_1",99712,2,0]
["08_13","79_25606_2",99517,2,0]
["08_13","79_31506_1",99504,2,0]
["05_14","79_56945_2",99515,2,0]
["05_14","79_73265_1",99504,2,0]
["08_13","790_46866_1",99725,2,0]
["05_14","790_73170_1",99516,2,0]
["08_13","791_28716_1",99501,2,0]
["05_14","791_46671_1",99743,2,0]
["08_13","792_27571_1",99708,2,0]
["05_14","792_87155_1",99652,2,0]
["08_13","793_29916_1",99502,2,0]
["05_14","793_51220_1",99654,2,0]
["08_13","794_19111_1",99577,2,0]
["05_14","794_51505_1",99518,2,0]
["08_13","795_32996_1",99507,2,0]
["05_14","795_87835_1",99573,2,0]
["08_13","796_35731_1",99516,2,0]
["05_14","796_89790_1",99577,2,0]
["08_13","797_13366_1",99506,2,0]
["05_14","797_62655_1",99507,2,0]
["08_13","798_28821_1",99501,2,0]
["05_14","798_88065_1",99780,2,0]
["08_13","799_29196_1",99501,2,0]
["05_14","799_53530_1",99516,2,0]
["08_13","8_12356_2",99504,2,0]
["08_13","8_27656_1",99709,2,0]
["05_14","8_60790_2",99654,2,0]
["05_14","8_80820_1",99573,2,0]
["08_13","80_12891_1",99504,2,0]
["08_13","80_20086_2",99645,1,1]
["05_14","80_58615_2",99507,2,0]
["05_14","80_81720_1",99511,2,0]
["08_13","800_29361_1",99501,2,0]
["05_14","800_65945_1",99705,2,0]
["08_13","801_11931_1",99503,2,0]
["05_14","801_89390_1",99729,1,1]
["08_13","802_25756_1",99520,2,0]
["05_14","802_54630_1",99645,2,0]
["08_13","803_15491_1",99508,2,0]
["05_14","803_80715_1",99737,2,0]
["08_13","804_20011_1",99645,2,0]
["05_14","804_57495_1",99577,2,0]
["08_13","805_11636_1",99503,2,0]
["05_14","805_89695_1",99577,2,0]
["08_13","806_34146_1",99508,2,0]
["05_14","806_37626_1",99577,2,0]
["08_13","807_18751_1",99577,2,0]
["05_14","807_64080_1",99645,2,0]
["08_13","808_15771_1",99508,2,0]
["05_14","808_77530_1",99504,2,0]
["05_14","809_32896_1",99507,2,0]
["08_13","809_47286_1",91423,2,0]
["08_13","81_13911_2",99507,2,0]
["08_13","81_39416_1",99654,2,0]
["05_14","81_67445_1",99517,2,0]
["05_14","81_72425_2",99515,2,0]
["08_13","810_34281_1",99508,2,0]
["05_14","810_65300_1",99503,2,0]
["08_13","811_10931_1",99502,2,0]
["05_14","811_59375_1",99712,2,0]
["08_13","812_19401_1",99577,2,0]
["05_14","812_51710_1",99712,2,0]
["08_13","813_41101_1",99701,2,0]
["05_14","813_68570_1",99503,2,0]
["08_13","814_21216_1",99654,2,0]
["05_14","814_51910_1",99515,2,0]
["08_13","815_42841_1",99709,2,0]
["05_14","815_65285_1",99508,2,0]
["08_13","816_23196_1",99705,2,0]
["05_14","816_58175_1",99709,2,0]
["08_13","817_38461_1",99645,2,0]
["05_14","817_80670_1",99573,2,0]
["08_13","818_26681_1",99654,2,0]
["05_14","818_70980_1",99508,2,0]
["08_13","819_14601_1",99507,2,0]
["05_14","819_31876_1",99504,2,0]
["08_13","82_10986_2",99502,2,0]
["08_13","82_15661_1",99508,2,0]
["05_14","82_61930_1",99503,2,0]
["05_14","82_72210_2",99709,2,0]
["08_13","820_23836_1",99709,2,0]
["05_14","820_51445_1",99501,2,0]
["08_13","821_32646_1",99507,2,0]
["05_14","821_59260_1",99567,2,0]
["08_13","822_17706_1",99517,2,0]
["05_14","822_71355_1",99714,2,0]
["08_13","823_11116_1",99502,2,0]
["05_14","823_54890_1",99501,2,0]
["05_14","824_19081_1",99577,2,0]
["08_13","824_34396_1",99508,2,0]
["08_13","825_33856_1",99508,1,0]
["05_14","825_67695_1",99540,2,0]
["08_13","826_23006_1",99705,2,0]
["05_14","826_58795_1",99503,2,0]
["08_13","827_17521_1",99517,2,0]
["05_14","827_76445_1",99502,2,0]
["08_13","828_21461_1",99654,2,0]
["05_14","828_76665_1",99504,2,0]
["08_13","829_32856_1",99507,2,0]
["05_14","829_84265_1",99523,2,0]
["08_13","83_27576_2",99708,2,0]
["08_13","83_34501_1",99508,2,0]
["05_14","83_55685_1",99515,2,0]
["05_14","83_90075_2",99588,2,0]
["08_13","830_39206_1",99654,2,0]
["05_14","830_73230_1",99504,2,0]
["08_13","831_25311_1",99511,2,0]
["05_14","831_88235_1",99761,2,0]
["08_13","832_29696_1",99502,2,0]
["05_14","832_73740_1",99654,2,0]
["08_13","833_10481_1",99501,2,0]
["05_14","833_54715_1",99507,2,0]
["05_14","834_16321_1",99515,2,0]
["08_13","834_20471_1",99645,2,0]
["08_13","835_10056_1",99501,2,0]
["05_14","835_16691_1",99516,2,0]
["08_13","836_41161_1",99701,2,0]
["05_14","836_89660_1",99577,2,0]
["08_13","837_17806_1",99517,2,0]
["05_14","837_54765_1",99504,2,0]
["08_13","838_43841_1",99507,2,0]
["05_14","838_56410_1",99577,2,0]
["08_13","839_29991_1",99502,2,0]
["05_14","839_59615_1",99516,2,0]
["08_13","84_10556_1",99501,2,0]
["08_13","84_24791_2",99712,2,0]
["05_14","84_70460_1",99623,2,0]
["05_14","84_78505_2",99577,2,0]
["08_13","840_34636_1",99508,2,0]
["05_14","840_77295_1",99507,1,0]
["08_13","841_22101_1",99701,2,0]
["05_14","841_71830_1",99654,2,0]
["08_13","842_22196_1",99701,2,0]
["05_14","842_82190_1",99729,1,1]
["08_13","843_40716_1",99687,2,0]
["05_14","843_78670_1",99502,2,0]
["08_13","844_20591_1",99645,2,0]
["05_14","844_32006_1",99504,2,0]
["08_13","845_34421_1",99508,2,0]
["05_14","845_82860_1",99737,2,0]
["08_13","846_23736_1",99709,2,0]
["05_14","846_84505_1",99645,2,0]
["08_13","847_10951_1",99502,2,0]
["05_14","847_86795_1",99645,2,0]
["08_13","848_26616_1",99652,2,0]
["05_14","848_85365_1",99731,2,0]
["08_13","849_26696_1",99654,2,0]
["05_14","849_85965_1",99558,2,0]
["08_13","85_19976_1",99645,2,0]
["08_13","85_42316_2",99708,2,0]
["05_14","85_51250_1",99501,2,0]
["05_14","85_74660_2",99504,2,0]
["08_13","850_46586_1",99737,2,0]
["05_14","850_90820_1",99654,1,0]
["08_13","851_24441_1",99709,2,0]
["05_14","851_68005_1",99645,2,0]
["08_13","852_11731_1",99503,2,0]
["05_14","852_58655_1",99577,2,0]
["08_13","853_38001_1",99577,2,0]
["05_14","853_73935_1",99504,2,0]
["08_13","854_33916_1",99508,2,0]
["05_14","854_51355_1",99504,2,0]
["08_13","855_21321_1",99654,2,0]
["05_14","855_74855_1",99507,2,0]
["08_13","856_36436_1",99517,2,0]
["05_14","856_88350_1",99567,2,0]
["08_13","857_21806_1",99687,2,0]
["05_14","857_72985_1",99702,2,0]
["08_13","858_14986_1",99508,2,0]
["05_14","858_66510_1",99515,2,0]
["08_13","859_36156_1",99516,2,0]
["05_14","859_82210_1",99683,1,1]
["08_13","86_32051_2",99504,2,0]
["08_13","86_39896_1",99654,2,0]
["05_14","86_54670_1",99503,2,0]
["05_14","86_66205_2",99517,2,0]
["08_13","860_18166_1",99518,2,0]
["05_14","860_78195_1",99502,2,0]
["08_13","861_11856_1",99503,2,0]
["05_14","861_67230_1",99516,2,0]
["08_13","862_32271_1",99507,2,0]
["05_14","862_77790_1",99709,2,0]
["08_13","863_37241_1",99567,2,0]
["05_14","863_57955_1",99577,2,0]
["08_13","864_18551_1",99577,2,0]
["05_14","864_51420_1",99501,2,0]
["08_13","865_18311_1",99518,2,0]
["05_14","865_77410_1",99518,2,0]
["08_13","866_45171_1",99645,2,0]
["05_14","866_65335_1",99501,2,0]
["08_13","867_17046_1",99516,2,0]
["05_14","867_58675_1",99577,2,0]
["08_13","868_38256_1",99623,2,0]
["05_14","868_62855_1",99507,2,0]
["08_13","869_35511_1",99516,2,0]
["05_14","869_86260_1",99573,2,0]
["08_13","87_12896_1",99504,2,0]
["08_13","87_35656_2",99516,2,0]
["05_14","87_57670_2",99504,2,0]
["05_14","87_80900_1",99737,2,0]
["08_13","870_46546_1",99737,2,0]
["05_14","870_69310_1",99508,2,0]
["08_13","871_30846_1",99503,null,0]
["05_14","871_90190_1",99708,2,0]
["08_13","872_28696_1",99567,2,0]
["05_14","872_34586_1",99508,2,0]
["08_13","873_34796_1",99515,2,0]
["05_14","873_68435_1",99645,2,0]
["08_13","874_29746_1",99502,2,0]
["05_14","874_73490_1",99507,2,0]
["08_13","875_10736_1",99502,2,0]
["05_14","875_81540_1",99566,2,0]
["08_13","876_38271_1",99623,2,0]
["05_14","876_79530_1",99577,2,0]
["08_13","877_27921_1",99737,2,0]
["05_14","877_55085_1",99645,2,0]
["05_14","878_10611_1",99501,2,0]
["08_13","878_13316_1",99506,2,0]
["08_13","879_31911_1",99504,2,0]
["05_14","879_79500_1",99507,2,0]
["08_13","88_27786_2",99714,2,0]
["08_13","88_44276_1",99516,2,0]
["05_14","88_53030_2",99505,2,0]
["05_14","88_68305_1",99504,2,0]
["08_13","880_21921_1",99701,2,0]
["05_14","880_83575_1",99520,2,0]
["08_13","881_16766_1",99516,2,0]
["05_14","881_54360_1",99501,2,0]
["08_13","882_36411_1",99517,2,0]
["05_14","882_56100_1",99504,2,0]
["08_13","883_36951_1",99518,2,0]
["05_14","883_74700_1",99504,2,0]
["08_13","884_16201_1",99515,2,0]
["05_14","884_73465_1",99502,2,0]
["08_13","885_45066_1",99623,2,0]
["05_14","885_72825_1",99507,2,0]
["08_13","886_46356_1",99712,null,0]
["05_14","886_81130_1",99676,1,1]
["08_13","887_39031_1",99645,2,0]
["05_14","887_50675_1",99709,2,0]
["08_13","888_23291_1",99705,2,0]
["05_14","888_75000_1",99507,2,0]
["08_13","889_32656_1",{"$error":"#N/A"},2,{"$error":"#N/A"}]
["05_14","889_69200_1",99654,2,0]
["08_13","89_28581_2",83647,2,0]
["08_13","89_31691_1",99504,2,0]
["05_14","89_60735_1",99645,2,0]
["05_14","89_69820_2",99502,2,0]
["08_13","890_28211_1",99755,2,0]
["05_14","890_78365_1",99701,2,0]
["08_13","891_13471_1",99507,2,0]
["05_14","891_92120_1",99566,2,0]
["08_13","892_11311_1",99502,2,0]
["05_14","892_56470_1",99508,2,0]
["08_13","893_45366_1",99654,2,0]
["05_14","893_54365_1",99709,2,0]
["08_13","894_38936_1",99645,2,0]
["05_14","894_67155_1",99507,2,0]
["08_13","895_19061_1",99577,2,0]
["05_14","895_21931_1",99701,2,0]
["08_13","896_27871_1",99725,2,0]
["05_14","896_64235_1",99507,2,0]
["08_13","897_22581_1",99701,2,0]
["05_14","897_56425_1",99577,2,0]
["08_13","898_30201_1",99502,2,0]
["05_14","898_74530_1",99654,2,0]
["08_13","899_12976_1",99504,2,0]
["05_14","899_27836_1",99725,2,0]
["08_13","9_16701_2",99516,2,0]
["08_13","9_36626_1",99517,2,0]
["05_14","9_74950_2",99507,2,0]
["05_14","9_83995_1",99522,2,0]
["08_13","90_22331_1",99701,2,0]
["08_13","90_47301_2",96792,2,0]
["05_14","90_52020_2",99515,2,0]
["05_14","90_91245_1",99687,2,0]
["08_13","900_10306_1",99501,2,0]
["05_14","900_89890_1",99566,2,0]
["08_13","901_32466_1",99507,2,0]
["05_14","901_73175_1",99516,2,0]
["08_13","902_44561_1",99567,2,0]
["05_14","902_46166_1",99710,2,0]
["08_13","903_19741_1",99623,null,0]
["05_14","903_80585_1",99573,2,0]
["08_13","904_22136_1",99701,2,0]
["05_14","904_36366_1",99517,2,0]
["08_13","905_40176_1",99687,2,0]
["05_14","905_52755_1",99701,2,0]
["08_13","906_22516_1",99701,2,0]
["05_14","906_88010_1",99706,null,0]
["08_13","907_17886_1",99517,2,0]
["05_14","907_29671_1",99502,1,0]
["08_13","908_16821_1",99516,2,0]
["05_14","908_89810_1",99577,2,0]
["08_13","909_29751_1",99502,2,0]
["05_14","909_53515_1",99516,2,0]
["08_13","91_21046_2",99654,2,0]
["08_13","91_45371_1",99654,2,0]
["05_14","91_52640_2",99701,2,0]
["05_14","91_91710_1",99688,2,0]
["08_13","910_42501_1",99709,2,0]
["05_14","910_66215_1",99635,2,0]
["08_13","911_46116_1",99709,2,0]
["05_14","911_56755_1",99508,2,0]
["08_13","912_23916_1",99709,2,0]
["05_14","912_75315_1",99654,2,0]
["05_14","913_23226_1",99705,2,0]
["08_13","913_33616_1",{"$error":"#N/A"},2,{"$error":"#N/A"}]
["08_13","914_24431_1",99709,2,0]
["05_14","914_80645_1",99573,2,0]
["08_13","915_15596_1",99508,2,0]
["05_14","915_80295_1",99586,2,0]
["08_13","916_19936_1",99645,2,0]
["05_14","916_51900_1",99516,2,0]
["08_13","917_13776_1",99507,2,0]
["05_14","917_51450_1",99518,2,0]
["08_13","918_39406_1",99654,2,0]
["05_14","918_63500_1",99654,2,0]
["08_13","919_21541_1",99687,2,0]
["05_14","919_61225_1",99709,2,0]
["08_13","92_32971_2",99507,2,0]
["08_13","92_39246_1",99654,2,0]
["05_14","92_65255_1",99504,2,0]
["05_14","92_77310_2",99502,2,0]
["08_13","920_16921_1",99516,2,0]
["05_14","920_22456_1",99701,2,0]
["08_13","921_41451_1",99705,2,0]
["05_14","921_59015_1",99567,2,0]
["05_14","922_27941_1",99737,2,0]
["08_13","922_42156_1",{"$error":"#N/A"},2,{"$error":"#N/A"}]
["08_13","923_11266_1",99502,2,0]
["05_14","923_53700_1",99712,2,0]
["05_14","924_37806_1",99577,2,0]
["08_13","924_41286_1",99701,2,0]
["08_13","925_20431_1",99645,2,0]
["05_14","925_80065_1",99588,2,0]
["08_13","926_10721_1",99502,2,0]
["05_14","926_82290_1",99683,1,1]
["08_13","927_20896_1",99654,2,0]
["05_14","927_66650_1",99709,2,0]
["08_13","928_31521_1",99504,2,0]
["05_14","928_60205_1",99501,2,0]
["08_13","929_41926_1",99705,2,0]
["05_14","929_65390_1",99508,2,0]
["08_13","93_13161_1",99504,2,0]
["08_13","93_28216_2",99755,2,0]
["05_14","93_68795_2",99645,2,0]
["05_14","93_80035_1",99588,1,1]
["08_13","930_21751_1",99687,2,0]
["05_14","930_85905_1",99645,2,0]
["08_13","931_24656_1",99712,2,0]
["05_14","931_62280_1",99502,2,0]
["08_13","932_10576_1",99501,2,0]
["05_14","932_59805_1",99502,2,0]
["08_13","933_35411_1",99515,2,0]
["05_14","933_70425_1",99508,2,0]
["08_13","934_40911_1",99701,2,0]
["05_14","934_60760_1",99515,2,0]
["08_13","935_22171_1",99701,2,0]
["05_14","935_60070_1",99503,2,0]
["08_13","936_35426_1",99515,2,0]
["05_14","936_44436_1",99522,2,0]
["08_13","937_21486_1",99687,2,0]
["05_14","937_37266_1",99567,2,0]
["08_13","938_32201_1",99504,2,0]
["05_14","938_86585_1",99588,2,0]
["08_13","939_25436_1",99514,2,0]
["05_14","939_52945_1",99654,2,0]
["08_13","94_16926_1",99516,2,0]
["08_13","94_25521_2",99515,2,0]
["05_14","94_59050_1",99504,2,0]
["05_14","94_88840_2",99707,2,0]
["08_13","940_21001_1",99654,2,0]
["05_14","940_75140_1",99645,2,0]
["08_13","941_37381_1",99577,2,0]
["05_14","941_82100_1",99737,2,0]
["08_13","942_15436_1",99508,2,0]
["05_14","942_81745_1",99676,1,1]
["08_13","943_42076_1",99707,2,0]
["05_14","943_66835_1",99709,2,0]
["08_13","944_44981_1",99559,2,0]
["05_14","944_68715_1",99508,2,0]
["08_13","945_31976_1",99504,2,0]
["05_14","945_70195_1",99507,2,0]
["08_13","946_44161_1",99515,2,0]
["05_14","946_53550_1",99516,2,0]
["08_13","947_34221_1",99508,2,0]
["05_14","947_59535_1",99705,2,0]
["08_13","948_43936_1",99509,2,0]
["05_14","948_66820_1",99508,2,0]
["08_13","949_41946_1",99705,2,0]
["05_14","949_75060_1",99504,2,0]
["08_13","95_15826_1",99508,2,0]
["08_13","95_45486_2",99674,2,0]
["05_14","95_51740_1",99515,2,0]
["05_14","95_53380_2",99516,2,0]
["08_13","950_21766_1",99687,2,0]
["05_14","950_80055_1",99588,2,0]
["08_13","951_18206_1",99518,2,0]
["05_14","951_70020_1",99709,2,0]
["08_13","952_16516_1",99515,2,0]
["05_14","952_85095_1",99573,null,0]
["05_14","953_18286_1",99518,2,0]
["08_13","953_26076_1",99524,2,0]
["08_13","954_41216_1",99701,2,0]
["05_14","954_71940_1",99502,2,0]
["08_13","955_14616_1",99507,2,0]
["05_14","955_73850_1",99702,2,0]
["08_13","956_34416_1",99508,2,0]
["05_14","956_57665_1",99507,2,0]
["08_13","957_16806_1",99516,2,0]
["05_14","957_86025_1",99573,2,0]
["08_13","958_16191_1",99515,2,0]
["05_14","958_60585_1",99501,2,0]
["08_13","959_13996_1",99507,2,0]
["05_14","959_80555_1",99611,2,0]
["08_13","96_22971_1",99705,2,0]
["08_13","96_24896_2",99503,2,0]
["05_14","96_67960_1",99654,2,0]
["05_14","96_70745_2",99501,2,0]
["08_13","960_17796_1",99517,2,0]
["05_14","960_22806_1",99705,2,0]
["08_13","961_35431_1",99515,2,0]
["05_14","961_52215_1",99577,2,0]
["08_13","962_30706_1",99503,2,0]
["05_14","962_37216_1",99567,2,0]
["08_13","963_27396_1",99706,2,0]
["05_14","963_84400_1",99524,2,0]
["08_13","964_19506_1",99623,2,0]
["05_14","964_87575_1",99705,2,0]
["08_13","965_21211_1",99654,2,0]
["05_14","965_83935_1",99522,2,0]
["08_13","966_16006_1",99515,2,0]
["05_14","966_27896_1",99737,2,0]
["08_13","967_18741_1",99577,2,0]
["05_14","967_68540_1",99501,2,0]
["08_13","968_29226_1",99501,2,0]
["05_14","968_58670_1",99577,2,0]
["08_13","969_17021_1",99516,2,0]
["05_14","969_50355_1",99515,2,0]
["08_13","97_45731_2",99629,2,0]
["08_13","97_45811_1",99702,2,0]
["05_14","97_84020_1",99522,2,0]
["05_14","97_91950_2",99509,2,0]
["08_13","970_37331_1",99567,2,0]
["05_14","970_70450_1",99507,2,0]
["08_13","971_20686_1",99645,2,0]
["05_14","971_76515_1",99516,2,0]
["08_13","972_23436_1",99707,2,0]
["05_14","972_56395_1",99577,2,0]
["08_13","973_40581_1",99687,2,0]
["05_14","973_77540_1",99623,2,0]
["08_13","974_26526_1",99540,2,0]
["05_14","974_54805_1",99701,2,0]
["08_13","975_34101_1",99508,2,0]
["05_14","975_63930_1",99654,2,0]
["08_13","976_42066_1",99707,2,0]
["05_14","976_71770_1",99577,2,0]
["08_13","977_28941_1",99501,2,0]
["05_14","977_80735_1",99573,2,0]
["08_13","978_31736_1",99504,2,0]
["05_14","978_55290_1",99503,2,0]
["08_13","979_18861_1",99577,2,0]
["05_14","979_90400_1",99708,2,0]
["08_13","98_16756_1",99516,2,0]
["08_13","98_19271_2",99577,2,0]
["05_14","98_85945_1",99573,2,0]
["05_14","98_90245_2",99708,2,0]
["08_13","980_18636_1",99577,null,0]
["05_14","980_91080_1",99687,2,0]
["08_13","981_28271_1",99775,2,0]
["05_14","981_60130_1",99567,2,0]
["08_13","982_10876_1",99502,2,0]
["05_14","982_66015_1",99502,2,0]
["08_13","983_46226_1",99711,2,0]
["05_14","983_80445_1",99573,2,0]
["08_13","984_14911_1",99508,2,0]
["05_14","984_86300_1",99573,2,0]
["08_13","985_46656_1",99743,2,0]
["05_14","985_74965_1",99603,2,0]
["08_13","986_37811_1",99577,2,0]
["05_14","986_90440_1",99708,2,0]
["08_13","987_11696_1",99503,2,0]
["05_14","987_64030_1",99508,2,0]
["08_13","988_35856_1",99516,2,0]
["05_14","988_54580_1",99645,2,0]
["08_13","989_22936_1",99705,2,0]
["05_14","989_51375_1",99504,2,0]
["08_13","99_28111_2",99716,2,0]
["08_13","99_29811_1",99502,2,0]
["05_14","99_58100_1",99503,2,0]
["05_14","99_62915_2",99517,2,0]
["08_13","990_36451_1",99517,2,0]
["05_14","990_80905_1",99737,2,0]
["08_13","991_41051_1",99701,2,0]
["05_14","991_57190_1",99516,2,0]
["08_13","992_20846_1",99654,2,0]
["05_14","992_85595_1",99731,2,0]
["08_13","993_36556_1",99517,2,0]
["05_14","993_71525_1",99709,2,0]
["08_13","994_44321_1",99518,2,0]
["05_14","994_59955_1",99501,2,0]
["08_13","995_46691_1",99775,2,0]
["05_14","995_73455_1",99507,2,0]
["08_13","996_16986_1",99516,2,0]
["05_14","996_88040_1",99706,2,0]
["08_13","997_31116_1",99504,2,0]
["05_14","997_76455_1",99654,2,0]
["08_13","998_34591_1",99508,2,0]
["05_14","998_70850_1",99516,2,0]
["08_13","999_20691_1",99645,2,0]
["05_14","999_63170_1",99508,2,0]

{"sheet":"PolicySites","index":8,"n_rows":122,"n_cols":6,"rows_kept":122,"cut":false,"hidden":false,"merged":[]}
[]
[]
[]
["Activity","Location_Code","site_name","TripsPerSite","Number_Recreators","PolicySite"]
[null,0,null,null,null,0]
["Snowmachine","Snow 1","7 Mile Lake Trails-Skilak",11,2,0]
["Snowmachine","Snow 10","Canwell Glacier-Miller Creek",3,1,0]
["Snowmachine","Snow 100","Yentna to Skwentna-Yentna",12,3,0]
["Snowmachine","Snow 101","Anchorage",11,1,0]
["Snowmachine","Snow 102","Delta Junction",1,1,0]
["Snowmachine","Snow 103","Parks Highway--Byers Lake",30,1,0]
["Snowmachine","Snow 104","Point Mackenzie",6,1,0]
["Snowmachine","Snow 105","Kodiak",1,1,0]
["Snowmachine","Snow 106","Norton Sound--Shaktoolik",42,1,0]
["Snowmachine","Snow 107","Tonsina",16,2,0]
["Snowmachine","Snow 108","Fairbanks-Wickersham Trailhead",3,2,0]
["Snowmachine","Snow 109","Fairbanks-Fox",5,1,0]
["Snowmachine","Snow 11","Chatanika-Elliot Highway",33,4,0]
["Snowmachine","Snow 110","Fairbanks-Fort Greely",2,2,0]
["Snowmachine","Snow 111","Chistochina",30,1,0]
["Snowmachine","Snow 112","Chitina",272,2,0]
["Snowmachine","Snow 113","Fort Yukon",200,1,0]
["Snowmachine","Snow 114","Petersville-Unspecified",44,2,0]
["Snowmachine","Snow 115","Seward",3,2,0]
["Snowmachine","Snow 116","Kenai-National Wildlife Refuge",1,1,0]
["Snowmachine","Snow 117","Valdez",30,1,0]
["Snowmachine","Snow 12","Chena Flood Control-North Pole",64,4,0]
["Snowmachine","Snow 13","Chena Hot Springs",51,8,0]
["Snowmachine","Snow 14","Chena Lakes-North Pole",23,5,0]
["Snowmachine","Snow 15","Chena River State Recreation Area-North Pole",121,7,0]
["Snowmachine","Snow 16","Chickaloon",7,3,0]
["Snowmachine","Snow 17","Copper River Valley-Glennallen",46,10,0]
[null,"Snow 18",null,null,null,0]
["Snowmachine","Snow 19","Denali Highway-Central",14,4,0]
[null,"Snow 2",null,null,null,0]
["Snowmachine","Snow 20","Denali Highway-Paxson",45,9,0]
["Snowmachine","Snow 21","Denali National Park-Cantwell",2,1,0]
["Snowmachine","Snow 22","Drill Lake-Chickaloon",35,1,0]
["Snowmachine","Snow 23","Dry Creek SRA- Gulkana",1,1,0]
["Snowmachine","Snow 24","Eagle River Valley",6,1,0]
["Snowmachine","Snow 25","Eureka",91,20,0]
["Snowmachine","Snow 26","Eyak Mountain-Cordova",4,1,0]
["Snowmachine","Snow 27","Fairbanks",116,21,0]
[null,"Snow 28",null,null,null,0]
["Snowmachine","Snow 29","Funny River Road-Kenai",3,1,0]
["Snowmachine","Snow 3","Bethel",30,1,0]
["Snowmachine","Snow 30","Gakona",6,3,0]
["Snowmachine","Snow 31","Girdwood",6,2,0]
["Snowmachine","Snow 32","Gunsight Mountain",3,2,0]
[null,"Snow 33",null,null,null,0]
["Snowmachine","Snow 34","Hatcher Pass-Palmer Side",98,23,0]
[null,"Snow 35",null,null,null,0]
["Snowmachine","Snow 36","Hatcher Pass-Willow Side",21,4,0]
["Snowmachine","Snow 37","Healy Lake--Cummings Rd",4,1,0]
["Snowmachine","Snow 38","Hoodoo Mountains-Paxson",135,23,0]
["Snowmachine","Snow 39","Houston",1,1,0]
["Snowmachine","Snow 4","Bettles",30,1,0]
["Snowmachine","Snow 40","Johnson Pass-Kenai Peninsula",1,1,0]
["Snowmachine","Snow 41","Kashwitna River-Eagles Nest",10,1,0]
["Snowmachine","Snow 42","Kenai-Unspecified",3,1,0]
["Snowmachine","Snow 43","King River",18,2,0]
["Snowmachine","Snow 44","Klutina Lake",4,1,0]
["Snowmachine","Snow 45","Knik Goose Bay Road",11,4,0]
["Snowmachine","Snow 46","Knik River",6,2,0]
["Snowmachine","Snow 47","Lake Louise",160,17,0]
["Snowmachine","Snow 48","Long Lake--Willow",3,2,0]
["Snowmachine","Snow 49","Loss Lake--Cooper Landing",1,1,0]
["Snowmachine","Snow 5","Big Lake",84,25,0]
["Snowmachine","Snow 50","Lost Lake Trail-Seward",6,3,0]
["Snowmachine","Snow 51","Manley Hot Springs",23,1,0]
["Snowmachine","Snow 52","Matanuska River",3,1,0]
["Snowmachine","Snow 53","McCarthy",2,1,0]
["Snowmachine","Snow 54","Meadow Lakes-Wasilla",3,1,0]
["Snowmachine","Snow 55","Mt. Baldy-Shrock Road",10,1,0]
[null,"Snow 56",null,null,null,0]
["Snowmachine","Snow 57","Nabesna Area",3,1,0]
["Snowmachine","Snow 58","Nancy Lakes",64,11,0]
[null,"Snow 59",null,null,null,0]
["Snowmachine","Snow 6","Birch Creek-Steese Highway",6,2,0]
["Snowmachine","Snow 60","Palmer",60,4,0]
["Snowmachine","Snow 61","Paxson Lake--Pipeline Access Road",4,1,0]
["Snowmachine","Snow 62","Petersville-East Susitna Side",4,1,0]
["Snowmachine","Snow 63","Petersville-Talkeetna",11,3,0]
["Snowmachine","Snow 64","Petersville-West Susitna Side",343,34,0]
["Snowmachine","Snow 65","Portage/Placer Rivers",25,5,0]
["Snowmachine","Snow 66","Powerline Pass- Glen Alps Anchorage",5,2,0]
["Snowmachine","Snow 67","Quartz Lake Winter Trail- Valdez",4,1,0]
["Snowmachine","Snow 68","Resurrection Pass Trail-Cooper Landing",3,1,0]
["Snowmachine","Snow 69","Rex Trail- Nenana",48,3,0]
["Snowmachine","Snow 7","Birch Lake-Delta Junction",1,1,0]
["Snowmachine","Snow 70","Salcha Winter Trail- Salcha",42,7,0]
["Snowmachine","Snow 71","Sheep Creek-Sheep Creek Lodge",10,1,0]
["Snowmachine","Snow 72","Shishmaref",2,1,0]
["Snowmachine","Snow 73","Skwentna",1,1,0]
["Snowmachine","Snow 74","Skwentna River--Deshka Landing",66,2,0]
["Snowmachine","Snow 75","Susitna North-Denali",3,1,0]
["Snowmachine","Snow 76","Susitna River (Lower)- West Side Residence",2,1,0]
["Snowmachine","Snow 77","Susitna River-Deshka Landing",40,8,1]
["Snowmachine","Snow 78","Susitna River-Susitna Landing",4,1,0]
["Snowmachine","Snow 79","Susitna River-The Preserve",8,1,0]
["Snowmachine","Snow 8","Cache Creek/Ester-Cache Creek",3,1,0]
["Snowmachine","Snow 80","Sutton",7,4,0]
["Snowmachine","Snow 81","Talkeetna Area-Talkeetna",168,18,0]
["Snowmachine","Snow 82","Tanana Flats-Chena Pump",12,4,0]
["Snowmachine","Snow 83","Taylor Mountain-Taylor Highway",7,2,0]
["Snowmachine","Snow 84","Tetlin Refuge",6,1,0]
["Snowmachine","Snow 85","Thompson Pass",16,5,0]
["Snowmachine","Snow 86","Tok Area",55,7,0]
[null,"Snow 87",null,null,null,0]
["Snowmachine","Snow 88","Trading Bay-West Cook Inlet",14,1,0]
["Snowmachine","Snow 89","Trapper Creek",98,10,0]
["Snowmachine","Snow 9","Cantwell",126,17,0]
["Snowmachine","Snow 90","Turnagain Pass",103,27,0]
["Snowmachine","Snow 91","Uncodeable",66,7,0]
["Snowmachine","Snow 92","Wales",2,1,0]
["Snowmachine","Snow 93","Wasilla",26,7,0]
[null,"Snow 94",null,null,null,0]
["Snowmachine","Snow 95","White Mountains-Wickersham",57,11,0]
["Snowmachine","Snow 96","Whittier",16,4,0]
["Snowmachine","Snow 97","Willow Area Trails-Willow",140,24,0]
["Snowmachine","Snow 98","Willow Lakes",7,2,0]
["Snowmachine","Snow 99","Winter Trail-Quartz Lake Access",3,1,0]